{"text_format":"1","workbook":"xlsx","n_sheets":6,"sheets":["Kold","Brand","Snitkræfter","Stivheder","A0","Firsidig"],"not_rendered":{"charts":9,"images":1,"macros":1,"external_links":1,"defined_names":14,"comments":2,"pivot_tables":0},"unopened":[],"bounds":{"document_bytes":16777216,"sheet_cells":100000,"rows_first":2000,"rows_last":500,"rows_between":2000,"halvings":0,"cell_chars":16384,"cell_head_chars":4096},"cells_cut":0,"cells_raw":0,"read":"whole","date_system":"1900"}

{"sheet":"Kold","index":0,"n_rows":69,"n_cols":213,"rows_kept":69,"cut":false,"hidden":false,"merged":[[19,8,19,9],[1,10,1,11],[1,12,1,14],[2,2,2,6],[2,8,2,9],[2,10,4,14],[3,2,3,6],[3,8,3,9],[4,2,4,6],[4,8,4,9],[1,2,1,9]]}
[]
[null,"Bruger",{"$f":"HD9","v":"Bruger skal registreres"},null,null,null,null,null,null,null,"Bjælke-/søjlemodul version 1.0",null," Betonelement-Foreningen juni 2012",null,null,null,null,null,null,null,null,null,null,null,null,null,null,null,null,null,null,null,null,null,null,null,null,null,null,null,null,"Basisgeometri"]
[null,"Sagsnavn:","Betonelementhuset",null,null,null,null,"Sag nr.:","23 - 4545",null,{"$f":"IF(HE9=1,\"For ny bruger: Klik på knappen 'angiv nyt brugernavn' for ibrugtagning.\",IF(AU52=0,AV52,Snitkræfter!C41))","v":"For ny bruger: Klik på knappen 'angiv nyt brugernavn' for ibrugtagning."},null,null,null,null,null,null,null,null,null,null,null,null,null,null,null,null,null,null,null,null,null,null,null,null,null,null,null,null,null,null,"Graf mm",null,0,0,1,1,0,{"$f":"C22/L7","v":0.61111111111111116},{"$f":"AW3","v":0.61111111111111116},{"$f":"D22/L7","v":0.22222222222222221},{"$f":"AY3","v":0.22222222222222221},{"$f":"E22/L7","v":1.1111111111111112},{"$f":"BA3","v":1.1111111111111112},1,1.05,1,1,{"$f":"E25/L7","v":0.5},{"$f":"BG3+0.05","v":0.55000000000000004},{"$f":"BG3","v":0.5},{"$f":"BG3","v":0.5},0,{"$f":"IF($AT$46=3,$AQ$29,0)/$AQ$25","v":0},{"$f":"BL3","v":0},{"$f":"IF($AT$46=2,$AQ$29,$AQ$25)/$AQ$25","v":0.5},{"$f":"BN3","v":0.5},{"$f":"BL3","v":0},{"$f":"O21/$L$7","v":0.61111111111111116},{"$f":"BQ3","v":0.61111111111111116},1,{"$f":"IF(MAX(AW3:BB3)<=1,1,MAX(AW3:BB3))","v":1.1111111111111112}]
[null,"Bygningsdel:","Søjle i modul D-E/12, stueetage + 1. sal",null,null,null,null,"Dato:","2012-06-10",null,null,null,null,null,null,null,null,null,null,null,null,null,null,null,null,null,null,null,null,null,null,null,null,null,null,null,null,null,null,null,null,null,"Bjælke",-0.01,0,0,-0.01,-0.01]
[null,"Emne:","Normale lastkombinationer",null,null,null,null,"Init:","JFJ",null,null,null,null,null,null,null,null,null,null,null,null,null,null,null,null,null,null,null,null,null,null,null,null,null,null,null,null,null,null,null,null,null,"R0",-0.1,0]
[null,null,null,null,null,null,null,null,null,null,"Spændvidde",null,"Tværsnit","h",540,null,null,null,null,null,null,null,null,null,null,null,null,null,null,null,null,null,null,null,null,null,null,null,null,null,null,null,"R10",null,null,-0.1,0]
[null,null,null,null,null,null,null,null,null,null,"L",9,null,"b",420,null,{"$f":"HE9","v":1},null,null,null,null,null,null,null,null,null,null,null,null,null,null,null,null,null,null,null,null,null,null,null,null,{"$f":"IF(AND(G22=0,H22=0),10,0)","v":0},"p1",{"$f":"AP7+0.1","v":0.1},{"$f":"IF(G22=0,0.1,0.1*$G$22/MAX(ABS($G$22),ABS($H$22))+0.1)+AP7","v":0.2},{"$f":"IF(G22=0,IF(H22=0,0.1,0.2),0.1*$H$22/MAX(ABS($G$22),ABS($H$22))+0.1)+AP7","v":0.2},{"$f":"AP7+0.1","v":0.1},{"$f":"AP7+0.1","v":0.1}]
[null,null,null,null,null,null,null,null,null,null,"Længdearmering",null,"d (mm)","c (mm)","antal",null,null,null,null,null,null,null,null,null,null,null,null,null,null,null,null,null,null,null,null,null,null,null,null,null,null,{"$f":"IF(AND(I22=0,J22=0),10,0)","v":0},"p2",null,null,null,null,null,null,null,null,null,null,null,null,null,null,null,null,null,null,null,null,{"$f":"$AP$8+0.3","v":0.3},{"$f":"IF($I$22=0,0.3,0.1*$I$22/MAX(ABS($I$22),ABS($J$22))+0.3)+$AP$8","v":0.4},{"$f":"IF($I$22=0,IF($J$22=0,0.3,0.4),0.1*$J$22/MAX(ABS($I$22),ABS($J$22))+0.3)+$AP$8","v":0.3},{"$f":"$AP$8+0.3","v":0.3},{"$f":"$AP$8+0.3","v":0.3}]
[null,null,null,null,null,null,null,null,null,null,"Overside",null,16,60,3,null,null,null,null,null,null,null,null,null,null,null,null,null,null,null,null,null,null,null,null,null,null,null,null,null,null,{"$f":"IF(C21=0,10,0)","v":0},"P1",null,null,null,null,null,{"$f":"AP9+0.5","v":0.5},{"$f":"AP9+0.6","v":0.6},null,null,null,null,null,null,null,null,null,null,null,null,null,null,null,null,null,null,null,null,null,null,null,null,null,null,null,null,null,null,null,null,null,null,null,null,null,null,null,null,null,null,null,null,null,null,null,null,null,null,null,null,null,null,null,null,null,null,null,null,null,null,null,null,null,null,null,null,null,null,null,null,null,null,null,null,null,null,null,null,null,null,null,null,null,null,null,null,null,null,null,null,null,null,null,null,null,null,null,null,null,null,null,null,null,null,null,null,null,null,null,null,null,null,null,null,null,null,null,null,null,null,null,null,null,null,null,null,null,null,null,null,null,null,null,null,null,null,null,null,null,null,null,null,null,null,null,null,null,null,null,null,null,null,null,null,null,null,{"$f":"IF(HE9=1,0,1000000)","v":0},1,null,"Bruger skal registreres",1]
[null,null,null,null,null,null,null,null,null,null,"Underside",null,16,60,3,null,null,null,null,null,null,null,null,null,null,null,null,null,null,null,null,null,null,null,null,null,null,null,null,null,null,{"$f":"IF(D21=0,10,0)","v":0},"P2",null,null,null,null,null,null,null,{"$f":"AP10+0.5","v":0.5},{"$f":"AP10+0.6","v":0.6}]
[null,null,null,null,null,null,null,null,null,null,"Sideafstand til armering, c'  (mm) :",null,null,60,null,null,null,null,null,null,null,null,null,null,null,null,null,null,null,null,null,null,null,null,null,null,null,null,null,null,null,{"$f":"IF(E21=0,10,0)","v":0},"P3",null,null,null,null,null,null,null,null,null,{"$f":"AP11+0.5","v":0.5},{"$f":"AP11+0.6","v":0.6}]
[null,null,null,null,null,null,null,null,null,null,"Beton",null,"Længdearmering",null,null,null,null,null,null,null,null,null,null,null,null,null,null,null,null,null,null,null,null,null,null,null,null,null,null,null,null,{"$f":"IF(D24=0,10,0)","v":0},"N10",null,null,null,null,null,null,null,null,null,null,null,{"$f":"AP12+0.05","v":0.05},{"$f":"AP12+0.05","v":0.05}]
[null,null,null,null,null,null,null,null,null,null,"fck",25,null,"fyk",550,null,null,null,null,null,null,null,null,null,null,null,null,null,null,null,null,null,null,null,null,null,null,null,null,null,null,{"$f":"IF(D24=0,10,0)","v":0},"eN10",null,null,null,null,null,null,null,null,null,null,null,null,null,{"$f":"AP13+0","v":0},{"$f":"AP13+0.07","v":7.0000000000000007E-2}]
[null,null,null,null,null,null,null,null,null,null,"fcd",{"$f":"L13/L16","v":17.857142857142858},null,"fyd",{"$f":"O13/L17","v":458.33333333333337},null,null,null,null,null,null,null,null,null,null,null,null,null,null,null,null,null,null,null,null,null,null,null,null,null,null,{"$f":"IF(E24=0,10,0)","v":0},"NA",null,null,null,null,null,null,null,null,null,null,null,null,null,null,null,{"$f":"AP14+0.05","v":0.05},{"$f":"AP14+0.05","v":0.05}]
[null,null,null,null,null,null,null,null,null,null,"Partialkoefficienter",null,"Krybetal","RH",0.68,null,null,null,null,null,null,null,null,null,null,null,null,null,null,null,null,null,null,null,null,null,null,null,null,null,null,0,"eNA",null,null,null,null,null,null,null,null,null,null,null,null,null,null,null,null,null,0,{"$f":"AP15+0.07","v":7.0000000000000007E-2}]
[null,null,null,null,null,null,null,null,null,null,"gc",1.4,null,"to",28,null,null,null,null,null,null,null,null,null,null,null,null,null,null,null,null,null,null,null,null,null,null,null,null,null,null,null,"Reaktioner",null,null,null,null,null,null,null,null,null,null,null,null,null,null,null,null,null,null,null,null,null,null,null,null,null,-0.17,-7.0000000000000007E-2]
[null,null,null,null,null,null,null,null,null,null,"gs",1.2,null,"fo",{"$f":"AQ45","v":2.1679046446300974},null,null,null,null,null,null,null,null,null,null,null,null,null,null,null,null,null,null,null,null,null,null,null,null,null,null,null,"simpel",null,null,null,null,null,null,null,null,null,null,null,null,null,null,null,null,null,null,null,null,null,null,null,null,null,null,null,0,0]
[null,null,null,null,null,null,null,null,null,null,null,null,null,"M0Eqp/M0Ed",0.8,null,null,null,null,null,null,null,null,null,null,null,null,null,null,null,null,null,null,null,null,null,null,null,null,null,null,null,"indspændt"]
[null,null,null,null,null,null,null,null,null,null,null,null,null,"fef",{"$f":"O18*O17","v":1.7343237157040781}]
[null,"Punktlaste","P1","P2","P3","Fordelte laste (kN/m)",null,null,{"$f":"INDEX(AT47:AT49,AT46)","v":"p_2  i  0 < s < s_A"},null,"Snitanalyse ved :",null,"Største","Mindste","Valgt s (m)"]
[null,"P (kN)",20,1,10,null,"p1-0","p1-L","p2-venstre","p2-højre",null,null,"moment","moment",5.5,null,null,null,null,null,null,null,null,null,null,null,null,null,null,null,null,null,null,null,null,null,null,null,null,null,null,"L","h","b","fck","fcd","Ecd","Ac","ac","Esc","fyd_c","At","at","Est","fyd_t","Modenhed","1+f","uterm","g","Aos","aos","Aus","aus","   emax",null,{"$f":"0.0028","v":2.8E-3}]
[null,"s (m)",5.5,2,10,null,3,3,3,0,"NEd","(kN)",{"$f":"IF(Snitkræfter!$B$44=0,\"-\",AV36)","v":1200.0999999999999},{"$f":"IF(Snitkræfter!$B$44=0,\"-\",AW36)","v":1200.0999999999997},{"$f":"IF(Snitkræfter!$B$44=0,\"-\",AX36)","v":500.09999999999997},null,null,null,null,null,null,null,null,null,null,null,null,null,null,null,null,null,null,null,null,null,null,null,null,null,null,"(m)","(m)","(m)","(Mpa)","(Mpa)","(Mpa)","(m2)","(m)","(Mpa)","(Mpa)","(m2)","(m)","(Mpa)","(Mpa)","(døgn)",null,"(m)",null,"(m2)","(m)","(m2)","(m)","e1",null,{"$f":"0.7*(AS23+8)^0.31/1000","v":2.0693662482105194E-3}]
[null,"Normalkræfter","N0","NL","NA","Reaktioner",null,null,"R0","RL","Mtot ","(kNm)",{"$f":"IF(Snitkræfter!$B$44=0,\"-\",AV37)","v":88.783581517216291},{"$f":"IF(Snitkræfter!$B$44=0,\"-\",AW37)","v":-105.50896856855542},{"$f":"IF(Snitkræfter!$B$44=0,\"-\",AX37)","v":38.542801610892674},null,null,null,null,null,null,null,null,null,null,null,null,null,null,null,null,null,null,null,null,null,null,null,null,null,null,{"$f":"L7","v":9},{"$f":"O6/1000","v":0.54},{"$f":"O7/1000","v":0.42},{"$f":"L13","v":25},{"$f":"L14","v":17.857142857142858},{"$f":"1000*22*((AS23+8)/10)^0.3/BG23","v":22482.71872144239},null,null,200000,{"$f":"O14","v":458.33333333333337},null,null,200000,{"$f":"O14","v":458.33333333333337},{"$f":"O16","v":28},{"$f":"1+O19","v":2.7343237157040781},0,{"$f":"L16","v":1.4},{"$f":"O9*(M9/1000)^2*PI()/4","v":6.0318578948924026E-4},{"$f":"N9/1000","v":0.06},{"$f":"O10*(M10/1000)^2*PI()/4","v":6.0318578948924026E-4},{"$f":"N10/1000","v":0.06},"k",null,{"$f":"1.05*AU23*BN22/AT23","v":2.7356687822616226}]
[null,"N (kN)",{"$f":"D24+E24","v":1200},500,700,null,"Type",null,{"$f":"IF(Snitkræfter!D36=0,\"simpel\",\"indspændt\")","v":"indspændt"},"simpel","e0 / (1+f) ","(o/oo)",{"$f":"IF(Snitkræfter!$B$44=0,\"-\",AV38)","v":0.40819917775526926},{"$f":"IF(Snitkræfter!$B$44=0,\"-\",AW38)","v":0.44418455676796115},{"$f":"IF(Snitkræfter!$B$44=0,\"-\",AX38)","v":0.15788568661380903}]
[null,"sA (m)",0,{"$f":"L7","v":9},4.5,null,"R","(kN)",{"$f":"(Snitkræfter!$G$95+Snitkræfter!$G$62)*1000","v":52.998391272726607},{"$f":"(Snitkræfter!$U$95+Snitkræfter!$U$62)*1000","v":11.751608727273396},"sc0","(Mpa)",{"$f":"IF(Snitkræfter!$B$44=0,\"-\",AV39)","v":7.8083436783034355},{"$f":"IF(Snitkræfter!$B$44=0,\"-\",AW39)","v":8.3452608743470407},{"$f":"IF(Snitkræfter!$B$44=0,\"-\",AX39)","v":3.4306743608709631},null,null,null,null,null,null,null,null,null,null,null,null,null,null,null,null,null,null,null,null,null,null,null,null,null,null,"L",{"$f":"L7","v":9},"m",null,"p_0",null,"p_10",null,null,null,{"$f":"Snitkræfter!G47","v":0},{"$f":"Snitkræfter!H47","v":1},{"$f":"Snitkræfter!I47","v":2},{"$f":"Snitkræfter!J47","v":2.2222222222222223},{"$f":"Snitkræfter!K47","v":3},{"$f":"Snitkræfter!L47","v":4},{"$f":"Snitkræfter!M47","v":5},{"$f":"Snitkræfter!N47","v":5.0000111111111103},{"$f":"Snitkræfter!O47","v":6.1111111111111107},{"$f":"Snitkræfter!P47","v":7},{"$f":"Snitkræfter!Q47","v":8},{"$f":"Snitkræfter!R47","v":9},{"$f":"Snitkræfter!S47","v":10},{"$f":"Snitkræfter!T47","v":10},{"$f":"Snitkræfter!U47","v":10}]
[null,"exc. (mm)",20,115,115,null,null,null,null,null,"sst","(Mpa)",{"$f":"IF(Snitkræfter!$B$44=0,\"-\",AV40)","v":-46.274098558105983},{"$f":"IF(Snitkræfter!$B$44=0,\"-\",AW40)","v":-32.96771671404646},{"$f":"IF(Snitkræfter!$B$44=0,\"-\",AX40)","v":-17.800513741979739},null,null,null,null,null,null,null,null,null,null,null,null,null,null,null,null,null,null,null,null,null,null,null,null,null,null,"N10",{"$f":"D24/1000","v":0.5},"MN",null,{"$f":"G22/1000","v":3.0000000000000001E-3},"MN/m",{"$f":"H22/1000","v":3.0000000000000001E-3},"MN/m",null,"u_skønnet",{"$f":"Snitkræfter!$B$44*1000*Snitkræfter!G48","v":0},{"$f":"Snitkræfter!$B$44*1000*Snitkræfter!H48","v":0.69997370538360859},{"$f":"Snitkræfter!$B$44*1000*Snitkræfter!I48","v":2.4215624914553366},{"$f":"Snitkræfter!$B$44*1000*Snitkræfter!J48","v":2.880508307647152},{"$f":"Snitkræfter!$B$44*1000*Snitkræfter!K48","v":4.4614642937725071},{"$f":"Snitkræfter!$B$44*1000*Snitkræfter!L48","v":6.0919745186588967},{"$f":"Snitkræfter!$B$44*1000*Snitkræfter!M48","v":6.7500774135223338},{"$f":"Snitkræfter!$B$44*1000*Snitkræfter!N48","v":6.7500777825666969},{"$f":"Snitkræfter!$B$44*1000*Snitkræfter!O48","v":6.5665366277440089},{"$f":"Snitkræfter!$B$44*1000*Snitkræfter!P48","v":5.9956140410670766},{"$f":"Snitkræfter!$B$44*1000*Snitkræfter!Q48","v":4.7240128008182216},{"$f":"Snitkræfter!$B$44*1000*Snitkræfter!R48","v":2.7314896548739616},{"$f":"Snitkræfter!$B$44*1000*Snitkræfter!S48","v":-4.3801767768414379E-16},{"$f":"Snitkræfter!$B$44*1000*Snitkræfter!T48","v":-4.3801767768414379E-16},{"$f":"Snitkræfter!$B$44*1000*Snitkræfter!U48","v":-4.3801767768414379E-16}]
[null,"Geometri",null,null,null,null,null,null,null,null,"ssc","(Mpa)",{"$f":"IF(Snitkræfter!$B$44=0,\"-\",AV41)","v":201.1102835015123},{"$f":"IF(Snitkræfter!$B$44=0,\"-\",AW41)","v":216.6662289402804},{"$f":"IF(Snitkræfter!$B$44=0,\"-\",AX41)","v":77.774415241460446},null,null,null,null,null,null,null,null,null,null,null,null,null,null,null,null,null,null,null,null,null,null,null,null,null,null,"Na",{"$f":"E24/1000","v":0.7},"MN",null,{"$f":"I22/1000","v":3.0000000000000001E-3},"MN/m",{"$f":"J22/1000","v":0},"MN/m",null,"u_kontrol",{"$f":"Snitkræfter!$B$44*1000*Snitkræfter!G49","v":0},{"$f":"Snitkræfter!$B$44*1000*Snitkræfter!H49","v":0.6912757078111742},{"$f":"Snitkræfter!$B$44*1000*Snitkræfter!I49","v":2.3857646104662713},{"$f":"Snitkræfter!$B$44*1000*Snitkræfter!J49","v":2.836290976230174},{"$f":"Snitkræfter!$B$44*1000*Snitkræfter!K49","v":4.3893646463060811},{"$f":"Snitkræfter!$B$44*1000*Snitkræfter!L49","v":5.9962134835949108},{"$f":"Snitkræfter!$B$44*1000*Snitkræfter!M49","v":6.649221041601451},{"$f":"Snitkræfter!$B$44*1000*Snitkræfter!N49","v":6.6492214598677988},{"$f":"Snitkræfter!$B$44*1000*Snitkræfter!O49","v":6.4743488885090725},{"$f":"Snitkræfter!$B$44*1000*Snitkræfter!P49","v":5.9157258290607935},{"$f":"Snitkræfter!$B$44*1000*Snitkræfter!Q49","v":4.6637758739607769},{"$f":"Snitkræfter!$B$44*1000*Snitkræfter!R49","v":2.6976671885464607},{"$f":"Snitkræfter!$B$44*1000*Snitkræfter!S49","v":0},{"$f":"Snitkræfter!$B$44*1000*Snitkræfter!T49","v":0},{"$f":"Snitkræfter!$B$44*1000*Snitkræfter!U49","v":0}]
[null,null,null,null,null,null,null,null,null,null,"x","(mm)",{"$f":"IF(Snitkræfter!$B$44=0,\"-\",AV42)","v":605.5205390232793},{"$f":"IF(Snitkræfter!$B$44=0,\"-\",AW42)","v":555.3759018083224},{"$f":"IF(Snitkræfter!$B$44=0,\"-\",AX42)","v":604.65781922985661},null,null,null,null,null,null,null,null,null,null,null,null,null,null,null,null,null,null,null,null,null,null,null,null,null,null,null,null,null,null,"P",null,"x",null,null,null,1]
[null,null,null,null,null,null,null,null,null,null,"Stivhed, EI","(kNm2)",{"$f":"IF(OR(Snitkræfter!$B$44=0,ABS(M23)<0.0001*ABS(M30)),\"-\",ROUND(ABS(M23)/(0.001*M24*(1+$O$19)/(0.001*M28)),-2))","v":48200},{"$f":"IF(OR(Snitkræfter!$B$44=0,ABS(N23)<0.001*ABS(N30)),\"-\",ROUND(ABS(N23)/(0.001*N24*(1+$O$19)/(0.001*N28)),-2))","v":48200},{"$f":"IF(OR(Snitkræfter!$B$44=0,ABS(O23)<0.001*MAX(ABS(M30),ABS(N30))),\"-\",ROUND(ABS(O23)/(0.001*O24*(1+$O$19)/(0.001*O28)),-2))","v":54000},null,null,null,null,null,null,null,null,null,null,null,null,null,null,null,null,null,null,null,null,null,null,null,null,null,null,"a",{"$f":"E25","v":4.5},"m",null,{"$f":"C21/1000","v":0.02},"MN",{"$f":"C22","v":5.5},"m",null,null,{"$f":"AZ25","v":0},1,2,2.2222222222222223,3,4,5,5.0000111111111103,6.1111111111111107,7,8,9,10,10,10]
[null,null,null,null,null,null,null,null,null,null,"Momentkapaciteter, Mtot  (kNm)",null,{"$f":"Stivheder!Q528*1000","v":233.50403939384447},{"$f":"-Stivheder!Q496*1000","v":-233.50403939384447},"s > sA",null,null,null,null,null,null,null,null,null,null,null,null,null,null,null,null,null,null,null,null,null,null,null,null,null,null,"e_N10",{"$f":"D26/1000","v":0.115},"m",null,{"$f":"D21/1000","v":1E-3},"MN",{"$f":"D22","v":2},"m",null,"M_o",{"$f":"1000*Snitkræfter!G55","v":-107.63569873471363},{"$f":"1000*Snitkræfter!H55","v":-60.329955177823095},{"$f":"1000*Snitkræfter!I55","v":-16.336165519241867},{"$f":"1000*Snitkræfter!J55","v":-7.0430288417572671},{"$f":"1000*Snitkræfter!K55","v":23.357545306892582},{"$f":"1000*Snitkræfter!L55","v":59.070747631086185},{"$f":"1000*Snitkræfter!M55","v":86.766661274285468},{"$f":"1000*Snitkræfter!N55","v":6.2669918500133655},{"$f":"1000*Snitkræfter!O55","v":37.725943124089433},{"$f":"1000*Snitkræfter!P55","v":44.537101077624392},{"$f":"1000*Snitkræfter!Q55","v":49.616436978581596},{"$f":"1000*Snitkræfter!R55","v":51.955679558217078},{"$f":"1000*Snitkræfter!S55","v":51.553470366011119},{"$f":"1000*Snitkræfter!T55","v":51.553470366011119},{"$f":"1000*Snitkræfter!U55","v":51.553470366011119}]
[null,null,null,null,null,null,null,null,null,null,null,null,{"$f":"Stivheder!Q465*1000","v":338.63142208764532},{"$f":"-Stivheder!Q433*1000","v":-338.63142208764532},"s < sA",null,null,null,null,null,null,null,null,null,null,null,null,null,null,null,null,null,null,null,null,null,null,null,null,null,null,"e_Na",{"$f":"E26/1000","v":0.115},"m",null,{"$f":"E21/1000","v":0.01},"MN",{"$f":"E22","v":10},"m",null,"M_tot",{"$f":"1000*Snitkræfter!G61","v":-105.50896856855542},{"$f":"1000*Snitkræfter!H61","v":-59.146108684186117},{"$f":"1000*Snitkræfter!I61","v":-15.931310702991063},{"$f":"1000*Snitkræfter!J61","v":-6.7985998484699994},{"$f":"1000*Snitkræfter!K61","v":23.035462897698533},{"$f":"1000*Snitkræfter!L61","v":57.950966605471173},{"$f":"1000*Snitkræfter!M61","v":88.783581517216291},{"$f":"1000*Snitkræfter!N61","v":8.2839002114933145},{"$f":"1000*Snitkræfter!O61","v":38.542801610892674},{"$f":"1000*Snitkræfter!P61","v":44.378132706806618},{"$f":"1000*Snitkræfter!Q61","v":48.33322352459119},{"$f":"1000*Snitkræfter!R61","v":49.497853389528039},{"$f":"1000*Snitkræfter!S61","v":47.863000000000056},{"$f":"1000*Snitkræfter!T61","v":47.863000000000056},{"$f":"1000*Snitkræfter!U61","v":47.863000000000056}]
[null,null,null,null,null,null,null,null,null,null,"Minimumsexcentriciteter:   Der indlægges som minimum   +/-",null,null,null,{"$f":"1000*Snitkræfter!$F$5","v":16.2},null,null,null,null,null,null,null,null,null,null,null,null,null,null,null,null,null,null,null,null,null,null,null,null,null,null,"e0",{"$f":"C26/1000","v":0.02},"m",null,null,null,null,null,null,null,1]
[null,null,null,null,null,null,null,null,null,null,"Revnevidder - kun i anvendelsesgrænsetilstand, ved gc = gs = 1,0 :",null,null,null,null,null,null,null,null,null,null,null,null,null,null,null,null,null,null,null,null,null,null,null,null,null,null,null,null,null,null,"x",{"$f":"O21","v":5.5},"m"]
[null,null,null,null,null,null,null,null,null,null,"Revnevidder, w             (mm)",null,{"$f":"IF(AND($L$16=1,$L$17=1,M26<$O$13),BA65,\"-\")","v":"-"},{"$f":"IF(AND($L$16=1,$L$17=1,N26<$O$13),BB65,\"-\")","v":"-"},{"$f":"IF(AND($L$16=1,$L$17=1,O26<$O$13),BC65,\"-\")","v":"-"}]
[null,"Vejledning:","PC-statik: Tværsnitsanalyse for søjler og bjælker efter EC2  ",null,null,null,null,null,null,null,"NB:  Resultaterne skal altid kontrolleres af ansvarlig statiker",null,null,null,null,null,null,null,null,null,null,null,null,null,null,null,null,null,null,null,null,null,null,null,null,null,null,null,null,null,null,"Beregning af krybetal",null,null,null,null,null,{"$f":"Snitkræfter!D64","v":6},{"$f":"Snitkræfter!D67","v":0},null,null,"Revnevidder","Max M","Min M","Valgt"]
[null,null,null,null,null,null,null,null,null,null,null,null,null,null,null,null,null,null,null,null,null,null,null,null,null,null,null,null,null,null,null,null,null,null,null,null,null,null,null,null,null,"to",{"$f":"O16","v":28},null,null,"NEd","(kN)",{"$f":"INDEX(Resultat,77+$AV$35*100,14)*1000","v":1200.0999999999999},{"$f":"INDEX(Resultat,77+$AW$35*100,14)*1000","v":1200.0999999999997},{"$f":"A0!O1578*1000","v":500.09999999999997},null,"h",{"$f":"O6/1000","v":0.54},{"$f":"BA36","v":0.54},{"$f":"BA36","v":0.54}]
[null,null,null,null,null,null,null,null,null,null,null,null,null,null,null,null,null,null,null,null,null,null,null,null,null,null,null,null,null,null,null,null,null,null,null,null,null,null,null,null,null,"RH",{"$f":"O15*100","v":68},null,null,"Mtot","(kNm)",{"$f":"INDEX(Snitkræfter!$G$292:$U$292,1,1+AV35)*1000","v":88.783581517216291},{"$f":"INDEX(Snitkræfter!$G$292:$U$292,1,1+AW35)*1000","v":-105.50896856855542},{"$f":"A0!Q1508*1000","v":38.542801610892674},null,"b",{"$f":"O7/1000","v":0.42},{"$f":"BA37","v":0.42},{"$f":"BA37","v":0.42}]
[null,null,null,null,null,null,null,null,null,null,null,null,null,null,null,null,null,null,null,null,null,null,null,null,null,null,null,null,null,null,null,null,null,null,null,null,null,null,null,null,null,"h",{"$f":"O6","v":540},null,null,"e0 / (1+f) ","(o/oo)",{"$f":"INDEX(Resultat,97+$AV$35*100,2)*1000","v":0.40819917775526926},{"$f":"INDEX(Resultat,97+$AW$35*100,2)*1000","v":0.44418455676796115},{"$f":"A0!C1578*1000","v":0.15788568661380903},null,"d",{"$f":"IF(M23>=0,$M$10,$M$9)/1000","v":1.6E-2},{"$f":"IF(N23>=0,$M$10,$M$9)/1000","v":1.6E-2},{"$f":"IF(O23>=0,$M$10,$M$9)/1000","v":1.6E-2}]
[null,null,null,null,null,null,null,null,null,null,null,null,null,null,null,null,null,null,null,null,null,null,null,null,null,null,null,null,null,null,null,null,null,null,null,null,null,null,null,null,null,"b",{"$f":"O7","v":420},null,null,"sc0","(Mpa)",{"$f":"($BN$23*AV44-AV44^2)*$AT$23/(1+($BN$23-2)*AV44)","v":7.8083436783034355},{"$f":"($BN$23*AW44-AW44^2)*$AT$23/(1+($BN$23-2)*AW44)","v":8.3452608743470407},{"$f":"($BN$23*AX44-AX44^2)*$AT$23/(1+($BN$23-2)*AX44)","v":3.4306743608709631},null,"n",{"$f":"IF(M23>=0,$O$10,$O$9)","v":3},{"$f":"IF(N23>=0,$O$10,$O$9)","v":3},{"$f":"IF(O23>=0,$O$10,$O$9)","v":3}]
[null,null,null,null,null,null,null,null,null,null,null,null,null,null,null,null,null,null,null,null,null,null,null,null,null,null,null,null,null,null,null,null,null,null,null,null,null,null,null,null,null,"ho",{"$f":"2*AQ38*AQ39/(2*(AQ38+AQ39))","v":236.25},null,null,"sst","(Mpa)",{"$f":"INDEX(Resultat,97+$AV$35*100,11)","v":-46.274098558105983},{"$f":"INDEX(Resultat,97+$AW$35*100,11)","v":-32.96771671404646},{"$f":"A0!L1578","v":-17.800513741979739},null,"fck",{"$f":"L13","v":25},{"$f":"BA40","v":25},{"$f":"BA40","v":25}]
[null,null,null,null,null,null,null,null,null,null,null,null,null,null,null,null,null,null,null,null,null,null,null,null,null,null,null,null,null,null,null,null,null,null,null,null,null,null,null,null,null,"fck",{"$f":"L13","v":25},null,null,"ssc","(Mpa)",{"$f":"INDEX(Resultat,97+$AV$35*100,9)","v":201.1102835015123},{"$f":"INDEX(Resultat,97+$AW$35*100,9)","v":216.6662289402804},{"$f":"A0!J1578","v":77.774415241460446},null,"fctm",{"$f":"0.3*BA40^(2/3)","v":2.5649639200150443},{"$f":"0.3*BB40^(2/3)","v":2.5649639200150443},{"$f":"0.3*BC40^(2/3)","v":2.5649639200150443}]
[null,null,null,null,null,null,null,null,null,null,null,null,null,null,null,null,null,null,null,null,null,null,null,null,null,null,null,null,null,null,null,null,null,null,null,null,null,null,null,null,null,"fcm",{"$f":"AQ41+8","v":33},null,null,"x","(mm)",{"$f":"INDEX(Resultat,97+$AV$35*100,1)*1000","v":605.5205390232793},{"$f":"INDEX(Resultat,97+$AW$35*100,1)*1000","v":555.3759018083224},{"$f":"A0!B1578*1000","v":604.65781922985661},null,"Ec",{"$f":"22000*((BA40+8)/10)^0.3","v":31475.806210019346},{"$f":"22000*((BB40+8)/10)^0.3","v":31475.806210019346},{"$f":"22000*((BC40+8)/10)^0.3","v":31475.806210019346}]
[null,null,null,null,null,null,null,null,null,null,null,null,null,null,null,null,null,null,null,null,null,null,null,null,null,null,null,null,null,null,null,null,null,null,null,null,null,null,null,null,null,"a1",{"$f":"IF(AQ42<35,1,(35/AQ42)^0.7)","v":1},null,null,"EI0Ed","(MNm2)",{"$f":"INDEX(Resultat,98+$AV$35*100,26)","v":44.808536600688136},{"$f":"INDEX(Resultat,98+$AW$35*100,26)","v":-48.943759243266747},{"$f":"A0!AA1579","v":54.018164289115468},null,"Es",200000,200000,200000]
[null,null,null,null,null,null,null,null,null,null,null,null,null,null,null,null,null,null,null,null,null,null,null,null,null,null,null,null,null,null,null,null,null,null,null,null,null,null,null,null,null,"a2",{"$f":"IF(AQ42<35,1,(35/AQ42)^0.2)","v":1},null,null,"e0 /fe1 ",null,{"$f":"0.001*AV38/$BN$22","v":0.19725806299791482},{"$f":"0.001*AW38/$BN$22","v":0.2146476280610399},{"$f":"0.001*AX38/$BN$22","v":7.6296637557677557E-2},null,"At",{"$f":"BA39*BA38^2*PI()/4","v":6.0318578948924026E-4},{"$f":"BB39*BB38^2*PI()/4","v":6.0318578948924026E-4},{"$f":"BC39*BC38^2*PI()/4","v":6.0318578948924026E-4}]
[null,null,null,null,null,null,null,null,null,null,null,null,null,null,null,null,null,null,null,null,null,null,null,null,null,null,null,null,null,null,null,null,null,null,null,null,null,null,null,null,null,"f",{"$f":"(1/(0.1+AQ36^0.2))*(16.8/AQ42^0.5)*(1+10*AQ43*(1-AQ37/100)/AQ40^(1/3))*AQ44","v":2.1679046446300974},null,null,null,null,null,null,null,null,"at",{"$f":"IF(M23>=0,$N$10,$N$9)/1000","v":0.06},{"$f":"IF(N23>=0,$N$10,$N$9)/1000","v":0.06},{"$f":"IF(O23>=0,$N$10,$N$9)/1000","v":0.06},null,"Reg.kontrol"]
[null,null,null,null,null,null,null,null,null,null,null,null,null,null,null,null,null,null,null,null,null,null,null,null,null,null,null,null,null,null,null,null,null,null,null,null,null,null,null,null,null,null,null,null,null,{"$f":"Snitkræfter!X80","v":2},null,null,null,null,null,"hc",{"$f":"IF(BA47=0,0,M28/1000)","v":0},{"$f":"IF(BB47=0,0,N28/1000)","v":0},{"$f":"IF(BC47=0,0,O28/1000)","v":0},null,{"$f":"HE9","v":1}]
[null,null,null,null,null,null,null,null,null,null,null,null,null,null,null,null,null,null,null,null,null,null,null,null,null,null,null,null,null,null,null,null,null,null,null,null,null,null,null,null,null,null,null,null,null,"p_2  i  0 < s < L",null,null,null,null,null,"sat2",{"$f":"MAX(M26,0)","v":0},{"$f":"MAX(N26,0)","v":0},{"$f":"MAX(O26,0)","v":0}]
[null,null,null,null,null,null,null,null,null,null,null,null,null,null,null,null,null,null,null,null,null,null,null,null,null,null,null,null,null,null,null,null,null,null,null,null,null,null,null,null,null,"Tilstand",null,1,null,"p_2  i  0 < s < s_A",null,null,null,null,null,"(1+ f)",{"$f":"1+$O$19","v":2.7343237157040781},{"$f":"1+$O$19","v":2.7343237157040781},{"$f":"1+$O$19","v":2.7343237157040781}]
[null,null,null,null,null,null,null,null,null,null,null,null,null,null,null,null,null,null,null,null,null,null,null,null,null,null,null,null,null,null,null,null,null,null,null,null,null,null,null,null,null,null,null,null,null,"p_2  i  A < s < L",null,null,null,null,null,"aeff",{"$f":"BA48*BA43/BA42","v":17.374129815513296},{"$f":"BB48*BB43/BB42","v":17.374129815513296},{"$f":"BC48*BC43/BC42","v":17.374129815513296}]
[null,null,null,null,null,null,null,null,null,null,null,null,null,null,null,null,null,null,null,null,null,null,null,null,null,null,null,null,null,null,null,null,null,null,null,null,null,null,null,null,null,null,null,null,null,null,null,null,null,null,null,"kt",0.4,0.4,0.4]
[null,null,null,null,null,null,null,null,null,null,null,null,null,null,null,null,null,null,null,null,null,null,null,null,null,null,null,null,null,null,null,null,null,null,null,null,null,null,null,null,null,null,null,null,null,null,null,null,null,null,null,"x1",0,0,0]
[null,null,null,null,null,null,null,null,null,null,null,null,null,null,null,null,null,null,null,null,null,null,null,null,null,null,null,null,null,null,null,null,null,null,null,null,null,null,null,null,null,"Fejltabel",null,null,null,null,{"$f":"MIN(AU53:AU84)","v":1},{"$f":"AV53&AV54&AV55&AV56&AV57&AV58&AV59&AV60&AV61&AV62&AV63&AV64&AV65&AV66&AV67&AV68&AV69","v":""},null,null,null,"As",{"$f":"BA44","v":6.0318578948924026E-4},{"$f":"BB44","v":6.0318578948924026E-4},{"$f":"BC44","v":6.0318578948924026E-4}]
[null,null,null,null,null,null,null,null,null,null,null,null,null,null,null,null,null,null,null,null,null,null,null,null,null,null,null,null,null,null,null,null,null,null,null,null,null,null,null,null,null,"Kun tværlaste og excentriciteter må have negative værdier ! ",null,null,null,null,{"$f":"IF(MIN(O6,O7,M9,N9,O9,M10,N10,O10,N11,L16,L17,O15,O16,O18,D24+0.0000001,E24+0.0000001)>0,1,0)","v":1},{"$f":"IF(AU53=0,AP53,\"\")","v":""},null,null,null,"d",{"$f":"BA36-BA45","v":0.48000000000000004},{"$f":"BB36-BB45","v":0.48000000000000004},{"$f":"BC36-BC45","v":0.48000000000000004}]
[null,null,null,null,null,null,null,null,null,null,null,null,null,null,null,null,null,null,null,null,null,null,null,null,null,null,null,null,null,null,null,null,null,null,null,null,null,null,null,null,null,"Punkt A skal ligge i intervalet [0;L] ! ",null,null,null,null,{"$f":"IF(AND(E25>=0,E25<=L7),1,0)","v":1},{"$f":"IF(AU54=0,AP54,\"\")","v":""},null,null,null,"hc,eff",{"$f":"MIN(2.5*(BA36-BA53),(BA36-BA46)/3,BA36/2)","v":0.15},{"$f":"MIN(2.5*(BB36-BB53),(BB36-BB46)/3,BB36/2)","v":0.15},{"$f":"MIN(2.5*(BC36-BC53),(BC36-BC46)/3,BC36/2)","v":0.15}]
[null,null,null,null,null,null,null,null,null,null,null,null,null,null,null,null,null,null,null,null,null,null,null,null,null,null,null,null,null,null,null,null,null,null,null,null,null,null,null,null,null,"Analyse-snit skal indlægges i intervalet [L/50;L] ! ",null,null,null,null,{"$f":"IF(AND(O21>L7/50,O21<=L7),1,0)","v":1},"",null,null,null,"Ac,eff",{"$f":"BA54*BA37","v":6.3E-2},{"$f":"BB54*BB37","v":6.3E-2},{"$f":"BC54*BC37","v":6.3E-2}]
[null,null,null,null,null,null,null,null,null,null,null,null,null,null,null,null,null,null,null,null,null,null,null,null,null,null,null,null,null,null,null,null,null,null,null,null,null,null,null,null,null,"Armeringens kantafstand (c) skal være mindre end h/3 ! ",null,null,null,null,{"$f":"IF(AND(N9<=O6/3,N10<=O6/3),1,0)","v":1},"",null,null,null,"rp,eff",{"$f":"BA52/BA55","v":9.5743776109403211E-3},{"$f":"BB52/BB55","v":9.5743776109403211E-3},{"$f":"BC52/BC55","v":9.5743776109403211E-3}]
[null,null,null,null,null,null,null,null,null,null,null,null,null,null,null,null,null,null,null,null,null,null,null,null,null,null,null,null,null,null,null,null,null,null,null,null,null,null,null,null,null,"Armeringens sideafstand (c') skal være mindre end b/3 ! ",null,null,null,null,{"$f":"IF(N11<=O7/3,1,0)","v":1},"",null,null,null,"esm-ecm",{"$f":"MAX(BA47-BA50*BA41*(1+BA49*BA56)/BA56,0.6*BA47)/BA43","v":0},{"$f":"MAX(BB47-BB50*BB41*(1+BB49*BB56)/BB56,0.6*BB47)/BB43","v":0},{"$f":"MAX(BC47-BC50*BC41*(1+BC49*BC56)/BC56,0.6*BC47)/BC43","v":0}]
[null,null,null,null,null,null,null,null,null,null,null,null,null,null,null,null,null,null,null,null,null,null,null,null,null,null,null,null,null,null,null,null,null,null,null,null,null,null,null,null,null,"Program indstillet til brand ! ",null,null,null,null,{"$f":"IF(AR48=1,1,0)","v":1},"",null,null,null,"seq",{"$f":"BA38","v":1.6E-2},{"$f":"BB38","v":1.6E-2},{"$f":"BC38","v":1.6E-2}]
[null,null,null,null,null,null,null,null,null,null,null,null,null,null,null,null,null,null,null,null,null,null,null,null,null,null,null,null,null,null,null,null,null,null,null,null,null,null,null,null,null,"Relativ fugtighed må højst være 100% !",null,null,null,null,{"$f":"IF(O15<=1,1,0)","v":1},"",null,null,null,"c",{"$f":"BA36-BA53-0.5*BA58","v":5.1999999999999998E-2},{"$f":"BB36-BB53-0.5*BB58","v":5.1999999999999998E-2},{"$f":"BC36-BC53-0.5*BC58","v":5.1999999999999998E-2}]
[null,null,null,null,null,null,null,null,null,null,null,null,null,null,null,null,null,null,null,null,null,null,null,null,null,null,null,null,null,null,null,null,null,null,null,null,null,null,null,null,null,"M_0Eqd / M_0Ed må højst være 1,0 !",null,null,null,null,{"$f":"IF(O18<=1,1,0)","v":1},"",null,null,null,"k1",0.8,0.8,0.8]
[null,null,null,null,null,null,null,null,null,null,null,null,null,null,null,null,null,null,null,null,null,null,null,null,null,null,null,null,null,null,null,null,null,null,null,null,null,null,null,null,null,"Betonstyrken (f_ck) skal ligge i intervalet [16 MPa ; 50 MPa] ! ",null,null,null,null,{"$f":"IF(AND(L13>=16,L13<=50),1,0)","v":1},"",null,null,null,"k2",0.5,0.5,0.5]
[null,null,null,null,null,null,null,null,null,null,null,null,null,null,null,null,null,null,null,null,null,null,null,null,null,null,null,null,null,null,null,null,null,null,null,null,null,null,null,null,null,"Armeringsstyrken (f_yk) skal ligge i intervalet [400 MPa , 600 MPa] ! ",null,null,null,null,{"$f":"IF(AND(O13>=400,O13<=600),1,0)","v":1},"",null,null,null,"k3",{"$f":"3.4*(25/(BA45*1000))^(2/3)","v":1.8967266918994805},{"$f":"3.4*(25/(BB45*1000))^(2/3)","v":1.8967266918994805},{"$f":"3.4*(25/(BC45*1000))^(2/3)","v":1.8967266918994805}]
[null,null,null,null,null,null,null,null,null,null,null,null,null,null,null,null,null,null,null,null,null,null,null,null,null,null,null,null,null,null,null,null,null,null,null,null,null,null,null,null,null,"Partialkoefficienter skal mindst være 1,0 ! ",null,null,null,null,{"$f":"IF(AND(L16>=1,L17>=1),1,0)","v":1},"",null,null,null,"k4",0.42499999999999999,0.42499999999999999,0.42499999999999999]
[null,null,null,null,null,null,null,null,null,null,null,null,null,null,null,null,null,null,null,null,null,null,null,null,null,null,null,null,null,null,null,null,null,null,null,null,null,null,null,null,null,"L skal være større end 2h ! ",null,null,null,null,{"$f":"IF(L7>=2*O6/1000,1,0)","v":1},"",null,null,null,"s,rmaks",{"$f":"MIN(1.3*(BA36-BA46),BA62*BA59+BA60*BA61*BA63*BA58/BA56)","v":0.38272136139780621},{"$f":"MIN(1.3*(BB36-BB46),BB62*BB59+BB60*BB61*BB63*BB58/BB56)","v":0.38272136139780621},{"$f":"MIN(1.3*(BC36-BC46),BC62*BC59+BC60*BC61*BC63*BC58/BC56)","v":0.38272136139780621}]
[null,null,null,null,null,null,null,null,null,null,null,null,null,null,null,null,null,null,null,null,null,null,null,null,null,null,null,null,null,null,null,null,null,null,null,null,null,null,null,null,null,"b og h skal mindst være 80 mm",null,null,null,null,{"$f":"IF(MIN(O6,O7)>80,1,0)","v":1},"",null,null,null,"wk",{"$f":"1000*BA64*BA57","v":0},{"$f":"1000*BB64*BB57","v":0},{"$f":"1000*BC64*BC57","v":0}]
[null,null,null,null,null,null,null,null,null,null,null,null,null,null,null,null,null,null,null,null,null,null,null,null,null,null,null,null,null,null,null,null,null,null,null,null,null,null,null,null,null,null,null,null,null,null,1,""]
[null,null,null,null,null,null,null,null,null,null,null,null,null,null,null,null,null,null,null,null,null,null,null,null,null,null,null,null,null,null,null,null,null,null,null,null,null,null,null,null,null,null,null,null,null,null,1,""]
[null,null,null,null,null,null,null,null,null,null,null,null,null,null,null,null,null,null,null,null,null,null,null,null,null,null,null,null,null,null,null,null,null,null,null,null,null,null,null,null,null,null,null,null,null,null,1,""]
[null,null,null,null,null,null,null,null,null,null,null,null,null,null,null,null,null,null,null,null,null,null,null,null,null,null,null,null,null,null,null,null,null,null,null,null,null,null,null,null,null,"Alle parametre af typen s skal være mindst 0 ! ",null,null,null,null,{"$f":"IF(MIN(C22,D22,E22,E25,O21)>=0,1,0)","v":1},""]

{"sheet":"Brand","index":1,"n_rows":69,"n_cols":72,"rows_kept":69,"cut":false,"hidden":false,"merged":[[18,12,18,14],[19,8,19,9],[1,10,1,11],[1,12,1,14],[2,2,2,6],[2,8,2,9],[2,10,4,14],[3,2,3,6],[3,8,3,9],[4,2,4,6],[4,8,4,9]]}
[]
[null,null,null,null,null,null,null,null,null,null,"Bjælke-/søjlemodul version 1.0",null," Betonelement-Foreningen juni 2012",null,null,null,null,null,null,null,null,null,null,null,null,null,null,null,null,null,null,null,null,null,null,null,null,null,null,null,null,"Basisgeometri"]
[null,"Sagsnavn:",{"$f":"Kold!C3","v":"Betonelementhuset"},{"$f":"Kold!D3","v":0},{"$f":"Kold!E3","v":0},{"$f":"Kold!F3","v":0},{"$f":"Kold!G3","v":0},"Sag nr.:",{"$f":"Kold!I3","v":"23 - 4545"},{"$f":"Kold!J3","v":0},{"$f":"IF(AU52=0,AV52,Snitkræfter!C41)","v":"Program indstillet til kold tilstand ! "},null,null,null,null,null,null,null,null,null,null,null,null,null,null,null,null,null,null,null,null,null,null,null,null,null,null,null,null,null,null,"Graf mm",null,0,0,1,1,0,{"$f":"C22/L7","v":0.61111111111111116},{"$f":"AW3","v":0.61111111111111116},{"$f":"D22/L7","v":0.22222222222222221},{"$f":"AY3","v":0.22222222222222221},{"$f":"E22/L7","v":1.1111111111111112},{"$f":"BA3","v":1.1111111111111112},1,1.05,1,1,{"$f":"E25/L7","v":0.5},{"$f":"BG3+0.05","v":0.55000000000000004},{"$f":"BG3","v":0.5},{"$f":"BG3","v":0.5},0,{"$f":"IF($AT$46=3,$AQ$29,0)/$AQ$25","v":0},{"$f":"BL3","v":0},{"$f":"IF($AT$46=2,$AQ$29,$AQ$25)/$AQ$25","v":0.5},{"$f":"BN3","v":0.5},{"$f":"BL3","v":0},{"$f":"O21/$L$7","v":0},{"$f":"BQ3","v":0},1,{"$f":"IF(MAX(AW3:BB3)<=1,1,MAX(AW3:BB3))","v":1.1111111111111112}]
[null,"Bygningsdel:",{"$f":"Kold!C4","v":"Søjle i modul D-E/12, stueetage + 1. sal"},{"$f":"Kold!D4","v":0},{"$f":"Kold!E4","v":0},{"$f":"Kold!F4","v":0},{"$f":"Kold!G4","v":0},"Dato:",{"$f":"Kold!I4","v":"2012-06-10"},{"$f":"Kold!J4","v":"00:00:00"},null,null,null,null,null,null,null,null,null,null,null,null,null,null,null,null,null,null,null,null,null,null,null,null,null,null,null,null,null,null,null,null,"Bjælke",-0.01,0,0,-0.01,-0.01]
[null,"Emne:","Brandlastkombinationer",null,null,null,null,"Init:",{"$f":"Kold!I5","v":"JFJ"},{"$f":"Kold!J5","v":0},null,null,null,null,null,null,null,null,null,null,null,null,null,null,null,null,null,null,null,null,null,null,null,null,null,null,null,null,null,null,null,null,"R0",-0.1,0]
[null,null,null,null,null,null,null,null,null,null,"Spændvidde",null,"Tværsnit","h",{"$f":"Kold!O6","v":540},null,null,null,null,null,null,null,null,null,null,null,null,null,null,null,null,null,null,null,null,null,null,null,null,null,null,null,"R10",null,null,-0.1,0]
[null,null,null,null,null,null,null,null,null,null,"L",{"$f":"Kold!L7","v":9},null,"b",{"$f":"Kold!O7","v":420},null,null,null,null,null,null,null,null,null,null,null,null,null,null,null,null,null,null,null,null,null,null,null,null,null,null,{"$f":"IF(AND(G22=0,H22=0),10,0)","v":0},"p1",{"$f":"AP7+0.1","v":0.1},{"$f":"IF(G22=0,0.1,0.1*$G$22/MAX(ABS($G$22),ABS($H$22))+0.1)+AP7","v":0.2},{"$f":"IF(G22=0,IF(H22=0,0.1,0.2),0.1*$H$22/MAX(ABS($G$22),ABS($H$22))+0.1)+AP7","v":0.2},{"$f":"AP7+0.1","v":0.1},{"$f":"AP7+0.1","v":0.1}]
[null,null,null,null,null,null,null,null,null,null,"Længdearmering",null,"d (mm)","c (mm)","antal",null,null,null,null,null,null,null,null,null,null,null,null,null,null,null,null,null,null,null,null,null,null,null,null,null,null,{"$f":"IF(AND(I22=0,J22=0),10,0)","v":0},"p2",null,null,null,null,null,null,null,null,null,null,null,null,null,null,null,null,null,null,null,null,{"$f":"$AP$8+0.3","v":0.3},{"$f":"IF($I$22=0,0.3,0.1*$I$22/MAX(ABS($I$22),ABS($J$22))+0.3)+$AP$8","v":0.4},{"$f":"IF($I$22=0,IF($J$22=0,0.3,0.4),0.1*$J$22/MAX(ABS($I$22),ABS($J$22))+0.3)+$AP$8","v":0.3},{"$f":"$AP$8+0.3","v":0.3},{"$f":"$AP$8+0.3","v":0.3}]
[null,null,null,null,null,null,null,null,null,null,"Overside",null,{"$f":"Kold!M9","v":16},{"$f":"Kold!N9","v":60},{"$f":"Kold!O9","v":3},null,null,null,null,null,null,null,null,null,null,null,null,null,null,null,null,null,null,null,null,null,null,null,null,null,null,{"$f":"IF(C21=0,10,0)","v":0},"P1",null,null,null,null,null,{"$f":"AP9+0.5","v":0.5},{"$f":"AP9+0.6","v":0.6}]
[null,null,null,null,null,null,null,null,null,null,"Underside",null,{"$f":"Kold!M10","v":16},{"$f":"Kold!N10","v":60},{"$f":"Kold!O10","v":3},null,null,null,null,null,null,null,null,null,null,null,null,null,null,null,null,null,null,null,null,null,null,null,null,null,null,{"$f":"IF(D21=0,10,0)","v":0},"P2",null,null,null,null,null,null,null,{"$f":"AP10+0.5","v":0.5},{"$f":"AP10+0.6","v":0.6}]
[null,null,null,null,null,null,null,null,null,null,"Sideafstand til armering, c'  (mm) :",null,null,{"$f":"Kold!N11","v":60},null,null,null,null,null,null,null,null,null,null,null,null,null,null,null,null,null,null,null,null,null,null,null,null,null,null,null,{"$f":"IF(E21=0,10,0)","v":0},"P3",null,null,null,null,null,null,null,null,null,{"$f":"AP11+0.5","v":0.5},{"$f":"AP11+0.6","v":0.6}]
[null,null,null,null,null,null,null,null,null,null,"Beton",null,"Armering","fyk",{"$f":"Kold!O13","v":550},null,null,null,null,null,null,null,null,null,null,null,null,null,null,null,null,null,null,null,null,null,null,null,null,null,null,{"$f":"IF(D24=0,10,0)","v":0},"N10",null,null,null,null,null,null,null,null,null,null,null,{"$f":"AP12+0.05","v":0.05},{"$f":"AP12+0.05","v":0.05}]
[null,null,null,null,null,null,null,null,null,null,"fck",{"$f":"Kold!L13","v":25},null,"fc,yd",{"$f":"O31*O12/L17","v":449.20604032537585},null,null,null,null,null,null,null,null,null,null,null,null,null,null,null,null,null,null,null,null,null,null,null,null,null,null,{"$f":"IF(D24=0,10,0)","v":0},"eN10",null,null,null,null,null,null,null,null,null,null,null,null,null,{"$f":"AP13+0","v":0},{"$f":"AP13+0.07","v":7.0000000000000007E-2}]
[null,null,null,null,null,null,null,null,null,null,"fcd",{"$f":"O30*L13/L16","v":25},null,"ft,yd",{"$f":"O33*O12/L17","v":449.2060403253758},null,null,null,null,null,null,null,null,null,null,null,null,null,null,null,null,null,null,null,null,null,null,null,null,null,null,{"$f":"IF(E24=0,10,0)","v":0},"NA",null,null,null,null,null,null,null,null,null,null,null,null,null,null,null,{"$f":"AP14+0.05","v":0.05},{"$f":"AP14+0.05","v":0.05}]
[null,null,null,null,null,null,null,null,null,null,"Partialkoefficienter",null,"Eksponerede overflader",null,null,null,null,null,null,null,null,null,null,null,null,null,null,null,null,null,null,null,null,null,null,null,null,null,null,null,null,0,"eNA",null,null,null,null,null,null,null,null,null,null,null,null,null,null,null,null,null,0,{"$f":"AP15+0.07","v":7.0000000000000007E-2}]
[null,null,null,null,null,null,null,null,null,null,"gc",1,null,"Overside:",{"$f":"IF(BK49=1,BK50,BK51)","v":"Ja"},null,null,null,null,null,null,null,null,null,null,null,null,null,null,null,null,null,null,null,null,null,null,null,null,null,null,null,"Reaktioner",null,null,null,null,null,null,null,null,null,null,null,null,null,null,null,null,null,null,null,null,null,null,null,null,null,-0.17,-7.0000000000000007E-2]
[null,null,null,null,null,null,null,null,null,null,"gs",1,null,"Underside:",{"$f":"IF(BK52=1,BK53,BK54)","v":"Ja"},null,null,null,null,null,null,null,null,null,null,null,null,null,null,null,null,null,null,null,null,null,null,null,null,null,null,null,"simpel",null,null,null,null,null,null,null,null,null,null,null,null,null,null,null,null,null,null,null,null,null,null,null,null,null,null,null,0,0]
[null,null,null,null,null,null,null,null,null,null,null,null,null,"Sider:",{"$f":"IF(BK55=1,BK56,IF(BK55=2,BK57,BK58))","v":"To sider"},null,null,null,null,null,null,null,null,null,null,null,null,null,null,null,null,null,null,null,null,null,null,null,null,null,null,null,"indspændt"]
[null,null,null,null,null,null,null,null,null,null,null,null,{"$f":"IF(BK63=1,BJ64,IF(BK63=2,BJ65,BJ66))","v":"Ingen termisk udvidelse på overside"}]
[null,"Punktlaste","P1","P2","P3","Fordelte laste (kN/m)",null,null,{"$f":"Kold!I20","v":"p_2  i  0 < s < s_A"},{"$f":"Kold!J20","v":0},"Snitanalyse ved :",null,"Største","Mindste","Valgt s (m)"]
[null,"P (kN)",15,1,10,null,"p1-0","p1-L","p2-venstre","p2-højre",null,null,"moment","moment",0,null,null,null,null,null,null,null,null,null,null,null,null,null,null,null,null,null,null,null,null,null,null,null,null,null,null,"L","h","b","fck","fcd","Ecd","Ac","ac","Esc","fyd_c","At","at","Est","fyd_t","Modenhed","1+f","uterm","g","Aos","aos","Aus","aus","   emax",null,{"$f":"IF($C$2=1,0.0035,Firsidig!$G$21)","v":0.02}]
[null,"s (m)",5.5,2,10,null,2,2,3,0,"NEd","(kN)",{"$f":"IF(Snitkræfter!$B$44=0,\"-\",AV36)","v":1200.0999999999999},{"$f":"IF(Snitkræfter!$B$44=0,\"-\",AW36)","v":1200.0999999999997},{"$f":"IF(Snitkræfter!$B$44=0,\"-\",AX36)","v":500.09999999999997},null,null,null,null,null,null,null,null,null,null,null,null,null,null,null,null,null,null,null,null,null,null,null,null,null,null,"(m)","(m)","(m)","(Mpa)","(Mpa)","(Mpa)","(m2)","(m)","(Mpa)","(Mpa)","(m2)","(m)","(Mpa)","(Mpa)","(døgn)",null,"(m)",null,"(m2)","(m)","(m2)","(m)","e1",null,{"$f":"IF($C$2=1,0.7*(AO23+8)^0.31/1000,Firsidig!$F$21)","v":2.5000000000000001E-3}]
[null,"Normalkræfter","N0","NL","NA","Reaktioner",null,null,"R0","RL","Mtot ","(kNm)",{"$f":"IF(Snitkræfter!$B$44=0,\"-\",AV37)","v":88.783581517216291},{"$f":"IF(Snitkræfter!$B$44=0,\"-\",AW37)","v":-105.50896856855542},{"$f":"IF(Snitkræfter!$B$44=0,\"-\",AX37)","v":38.542801610892674},null,null,null,null,null,null,null,null,null,null,null,null,null,null,null,null,null,null,null,null,null,null,null,null,null,null,{"$f":"L7","v":9},{"$f":"BG38/1000","v":0.45087893293907394},{"$f":"BG39/1000","v":0.33087893293907394},{"$f":"L13","v":25},{"$f":"L14/L16","v":25},{"$f":"1000*22*((AS23+8)/10)^0.3/BG23","v":31475.806210019346},null,null,{"$f":"O32*200000","v":192801.90878679056},{"$f":"O13/L17","v":449.20604032537585},null,null,{"$f":"O34*200000","v":192801.90878679056},{"$f":"O14/L17","v":449.2060403253758},{"$f":"BG49","v":28},{"$f":"1+BG52","v":1},{"$f":"0.125*BF43*Snitkræfter!$D$38^2","v":5.892139455848415E-2},{"$f":"L16","v":1},{"$f":"O9*(M9/1000)^2*PI()/4","v":6.0318578948924026E-4},{"$f":"(N9-L33*Firsidig!D2)/1000","v":1.5439466469536967E-2},{"$f":"O10*(M10/1000)^2*PI()/4","v":6.0318578948924026E-4},{"$f":"(N10-L33*Firsidig!D11)/1000","v":1.5439466469536967E-2},"k",null,{"$f":"1.05*AQ23*BN22/AP23","v":1.3150635544056322E-4}]
[null,"N (kN)",{"$f":"D24+E24","v":850},350,500,null,"Type",null,{"$f":"IF(Snitkræfter!D36=0,\"simpel\",\"indspændt\")","v":"indspændt"},"simpel","e0 / (1+f) ","(o/oo)",{"$f":"IF(Snitkræfter!$B$44=0,\"-\",AV38)","v":0.40819917775526926},{"$f":"IF(Snitkræfter!$B$44=0,\"-\",AW38)","v":0.44418455676796115},{"$f":"IF(Snitkræfter!$B$44=0,\"-\",AX38)","v":0.15788568661380903}]
[null,"sA (m)",0,{"$f":"L7","v":9},4.5,null,"R","(kN)",{"$f":"(Snitkræfter!$G$95+Snitkræfter!$G$62)*1000","v":52.998391272726607},{"$f":"(Snitkræfter!$U$95+Snitkræfter!$U$62)*1000","v":11.751608727273396},"sc0","(Mpa)",{"$f":"IF(Snitkræfter!$B$44=0,\"-\",AV39)","v":6.1096896914497831},{"$f":"IF(Snitkræfter!$B$44=0,\"-\",AW39)","v":6.644135521338117},{"$f":"IF(Snitkræfter!$B$44=0,\"-\",AX39)","v":2.3679870649111963},null,null,null,null,null,null,null,null,null,null,null,null,null,null,null,null,null,null,null,null,null,null,null,null,null,null,"L",{"$f":"L7","v":9},"m",null,"p_0",null,"p_10",null,null,null,{"$f":"Snitkræfter!G47","v":0},{"$f":"Snitkræfter!H47","v":1},{"$f":"Snitkræfter!I47","v":2},{"$f":"Snitkræfter!J47","v":2.2222222222222223},{"$f":"Snitkræfter!K47","v":3},{"$f":"Snitkræfter!L47","v":4},{"$f":"Snitkræfter!M47","v":5},{"$f":"Snitkræfter!N47","v":5.0000111111111103},{"$f":"Snitkræfter!O47","v":6.1111111111111107},{"$f":"Snitkræfter!P47","v":7},{"$f":"Snitkræfter!Q47","v":8},{"$f":"Snitkræfter!R47","v":9},{"$f":"Snitkræfter!S47","v":10},{"$f":"Snitkræfter!T47","v":10},{"$f":"Snitkræfter!U47","v":10}]
[null,"exc. (mm)",20,115,115,null,null,null,null,null,"sst","(Mpa)",{"$f":"IF(Snitkræfter!$B$44=0,\"-\",AV40)","v":-46.274098558105983},{"$f":"IF(Snitkræfter!$B$44=0,\"-\",AW40)","v":-32.96771671404646},{"$f":"IF(Snitkræfter!$B$44=0,\"-\",AX40)","v":-17.800513741979739},null,null,null,null,null,null,null,null,null,null,null,null,null,null,null,null,null,null,null,null,null,null,null,null,null,null,"N10",{"$f":"D24/1000","v":0.35},"MN",null,{"$f":"G22/1000","v":2E-3},"MN/m",{"$f":"H22/1000","v":2E-3},"MN/m",null,"u_skønnet",{"$f":"Snitkræfter!$B$44*1000*Snitkræfter!G48","v":0},{"$f":"Snitkræfter!$B$44*1000*Snitkræfter!H48","v":0.69997370538360859},{"$f":"Snitkræfter!$B$44*1000*Snitkræfter!I48","v":2.4215624914553366},{"$f":"Snitkræfter!$B$44*1000*Snitkræfter!J48","v":2.880508307647152},{"$f":"Snitkræfter!$B$44*1000*Snitkræfter!K48","v":4.4614642937725071},{"$f":"Snitkræfter!$B$44*1000*Snitkræfter!L48","v":6.0919745186588967},{"$f":"Snitkræfter!$B$44*1000*Snitkræfter!M48","v":6.7500774135223338},{"$f":"Snitkræfter!$B$44*1000*Snitkræfter!N48","v":6.7500777825666969},{"$f":"Snitkræfter!$B$44*1000*Snitkræfter!O48","v":6.5665366277440089},{"$f":"Snitkræfter!$B$44*1000*Snitkræfter!P48","v":5.9956140410670766},{"$f":"Snitkræfter!$B$44*1000*Snitkræfter!Q48","v":4.7240128008182216},{"$f":"Snitkræfter!$B$44*1000*Snitkræfter!R48","v":2.7314896548739616},{"$f":"Snitkræfter!$B$44*1000*Snitkræfter!S48","v":-4.3801767768414379E-16},{"$f":"Snitkræfter!$B$44*1000*Snitkræfter!T48","v":-4.3801767768414379E-16},{"$f":"Snitkræfter!$B$44*1000*Snitkræfter!U48","v":-4.3801767768414379E-16}]
[null,"Geometri",null,null,null,null,null,null,null,null,"ssc","(Mpa)",{"$f":"IF(Snitkræfter!$B$44=0,\"-\",AV41)","v":201.1102835015123},{"$f":"IF(Snitkræfter!$B$44=0,\"-\",AW41)","v":216.6662289402804},{"$f":"IF(Snitkræfter!$B$44=0,\"-\",AX41)","v":77.774415241460446},null,null,null,null,null,null,null,null,null,null,null,null,null,null,null,null,null,null,null,null,null,null,null,null,null,null,"Na",{"$f":"E24/1000","v":0.5},"MN",null,{"$f":"I22/1000","v":3.0000000000000001E-3},"MN/m",{"$f":"J22/1000","v":0},"MN/m",null,"u_kontrol",{"$f":"Snitkræfter!$B$44*1000*Snitkræfter!G49","v":0},{"$f":"Snitkræfter!$B$44*1000*Snitkræfter!H49","v":0.6912757078111742},{"$f":"Snitkræfter!$B$44*1000*Snitkræfter!I49","v":2.3857646104662713},{"$f":"Snitkræfter!$B$44*1000*Snitkræfter!J49","v":2.836290976230174},{"$f":"Snitkræfter!$B$44*1000*Snitkræfter!K49","v":4.3893646463060811},{"$f":"Snitkræfter!$B$44*1000*Snitkræfter!L49","v":5.9962134835949108},{"$f":"Snitkræfter!$B$44*1000*Snitkræfter!M49","v":6.649221041601451},{"$f":"Snitkræfter!$B$44*1000*Snitkræfter!N49","v":6.6492214598677988},{"$f":"Snitkræfter!$B$44*1000*Snitkræfter!O49","v":6.4743488885090725},{"$f":"Snitkræfter!$B$44*1000*Snitkræfter!P49","v":5.9157258290607935},{"$f":"Snitkræfter!$B$44*1000*Snitkræfter!Q49","v":4.6637758739607769},{"$f":"Snitkræfter!$B$44*1000*Snitkræfter!R49","v":2.6976671885464607},{"$f":"Snitkræfter!$B$44*1000*Snitkræfter!S49","v":0},{"$f":"Snitkræfter!$B$44*1000*Snitkræfter!T49","v":0},{"$f":"Snitkræfter!$B$44*1000*Snitkræfter!U49","v":0}]
[null,null,null,null,null,null,null,null,null,null,"x","(mm)",{"$f":"IF(Snitkræfter!$B$44=0,\"-\",AV42)","v":605.5205390232793},{"$f":"IF(Snitkræfter!$B$44=0,\"-\",AW42)","v":555.3759018083224},{"$f":"IF(Snitkræfter!$B$44=0,\"-\",AX42)","v":604.65781922985661},null,null,null,null,null,null,null,null,null,null,null,null,null,null,null,null,null,null,null,null,null,null,null,null,null,null,null,null,null,null,"P",null,"x",null,null,null,1]
[null,null,null,null,null,null,null,null,null,null,"Brandtid:",120,"Reduktionsparametre",null,null,null,null,null,null,null,null,null,null,null,null,null,null,null,null,null,null,null,null,null,null,null,null,null,null,null,null,"a",{"$f":"E25","v":4.5},"m",null,{"$f":"C21/1000","v":1.4999999999999999E-2},"MN",{"$f":"C22","v":5.5},"m",null,null,{"$f":"AZ25","v":0},1,2,2.2222222222222223,3,4,5,5.0000111111111103,6.1111111111111107,7,8,9,10,10,10]
[null,null,null,null,null,null,null,null,null,null,{"$f":"INDEX(BE36:BE37,BE35,1)","v":"Tilslag: Søsand / granit"},null,"Beton:","kc,M",{"$f":"Firsidig!E21","v":1},null,null,null,null,null,null,null,null,null,null,null,null,null,null,null,null,null,null,null,null,null,null,null,null,null,null,"e_N10",{"$f":"D26/1000","v":0.115},"m",null,{"$f":"D21/1000","v":1E-3},"MN",{"$f":"D22","v":2},"m",null,"M_o",{"$f":"1000*Snitkræfter!G55","v":-107.63569873471363},{"$f":"1000*Snitkræfter!H55","v":-60.329955177823095},{"$f":"1000*Snitkræfter!I55","v":-16.336165519241867},{"$f":"1000*Snitkræfter!J55","v":-7.0430288417572671},{"$f":"1000*Snitkræfter!K55","v":23.357545306892582},{"$f":"1000*Snitkræfter!L55","v":59.070747631086185},{"$f":"1000*Snitkræfter!M55","v":86.766661274285468},{"$f":"1000*Snitkræfter!N55","v":6.2669918500133655},{"$f":"1000*Snitkræfter!O55","v":37.725943124089433},{"$f":"1000*Snitkræfter!P55","v":44.537101077624392},{"$f":"1000*Snitkræfter!Q55","v":49.616436978581596},{"$f":"1000*Snitkræfter!R55","v":51.955679558217078},{"$f":"1000*Snitkræfter!S55","v":51.553470366011119},{"$f":"1000*Snitkræfter!T55","v":51.553470366011119},{"$f":"1000*Snitkræfter!U55","v":51.553470366011119}]
[null,null,null,null,null,null,null,null,null,null,{"$f":"INDEX(BE39:BE41,BE38,1)","v":"Stål: Bratkølet"},null,"Armering:","fsy,q / fyk",{"$f":"Firsidig!E35","v":0.81673825513704701},null,null,null,null,null,null,null,null,null,null,null,null,null,null,null,null,null,null,null,null,null,null,null,null,null,null,"e_Na",{"$f":"E26/1000","v":0.115},"m",null,{"$f":"E21/1000","v":0.01},"MN",{"$f":"E22","v":10},"m",null,"M_tot",{"$f":"1000*Snitkræfter!G61","v":-105.50896856855542},{"$f":"1000*Snitkræfter!H61","v":-59.146108684186117},{"$f":"1000*Snitkræfter!I61","v":-15.931310702991063},{"$f":"1000*Snitkræfter!J61","v":-6.7985998484699994},{"$f":"1000*Snitkræfter!K61","v":23.035462897698533},{"$f":"1000*Snitkræfter!L61","v":57.950966605471173},{"$f":"1000*Snitkræfter!M61","v":88.783581517216291},{"$f":"1000*Snitkræfter!N61","v":8.2839002114933145},{"$f":"1000*Snitkræfter!O61","v":38.542801610892674},{"$f":"1000*Snitkræfter!P61","v":44.378132706806618},{"$f":"1000*Snitkræfter!Q61","v":48.33322352459119},{"$f":"1000*Snitkræfter!R61","v":49.497853389528039},{"$f":"1000*Snitkræfter!S61","v":47.863000000000056},{"$f":"1000*Snitkræfter!T61","v":47.863000000000056},{"$f":"1000*Snitkræfter!U61","v":47.863000000000056}]
[null,null,null,null,null,null,null,null,null,null,null,null,null,"Es,q / Es",{"$f":"Firsidig!E34","v":0.96400954393395277},null,null,null,null,null,null,null,null,null,null,null,null,null,null,null,null,null,null,null,null,null,null,null,null,null,null,"e0",{"$f":"C26/1000","v":0.02},"m",null,null,null,null,null,null,null,1]
[null,null,null,null,null,null,null,null,null,null,"Randzone,  a",{"$f":"IF(C24>0,Firsidig!E24*1000,Firsidig!E23*1000)","v":44.560533530463033},"Trækarm:","fsy,q / fyk",{"$f":"Firsidig!E41","v":0.8167382551370469},null,null,null,null,null,null,null,null,null,null,null,null,null,null,null,null,null,null,null,null,null,null,null,null,null,null,"x",{"$f":"O21","v":0},"m"]
[null,null,null,null,null,null,null,null,null,null,null,null,null,"Es,q / Es",{"$f":"Firsidig!E40","v":0.96400954393395277}]
[null,"Vejledning:","PC-statik: Tværsnitsanalyse for søjler og bjælker efter EC2  ",null,null,null,null,null,null,"Udgivet på www.bef.dk  juni 2012  ","NB:  Resultaterne skal altid kontrolleres af ansvarlig statiker",null,null,null,null,null,null,null,null,null,null,null,null,null,null,null,null,null,null,null,null,null,null,null,null,null,null,null,null,null,null,"Beregning af krybetal",null,null,null,null,null,{"$f":"Snitkræfter!D64","v":6},{"$f":"Snitkræfter!D67","v":0},null,null,"Revnevidder","Max M","Min M","Valgt",null,2]
[null,null,null,null,null,null,null,null,null,null,null,null,null,null,null,null,null,null,null,null,null,null,null,null,null,null,null,null,null,null,null,null,null,null,null,null,null,null,null,null,null,"to",{"$f":"BG49","v":28},null,null,"NEd","(kN)",{"$f":"INDEX(Resultat,77+$AV$35*100,14)*1000","v":1200.0999999999999},{"$f":"INDEX(Resultat,77+$AW$35*100,14)*1000","v":1200.0999999999997},{"$f":"A0!O1578*1000","v":500.09999999999997},null,"h",{"$f":"O6/1000","v":0.54},{"$f":"BA36","v":0.54},{"$f":"BA36","v":0.54},null,"Tilslag: Kvartsholdigt",null,null,null,null,{"$f":"Kold!C21","v":20},{"$f":"Kold!D21","v":1},{"$f":"Kold!E21","v":10}]
[null,null,null,null,null,null,null,null,null,null,null,null,null,null,null,null,null,null,null,null,null,null,null,null,null,null,null,null,null,null,null,null,null,null,null,null,null,null,null,null,null,"RH",{"$f":"BG48*100","v":68},null,null,"Mtot","(kNm)",{"$f":"INDEX(Snitkræfter!$G$292:$U$292,1,1+AV35)*1000","v":88.783581517216291},{"$f":"INDEX(Snitkræfter!$G$292:$U$292,1,1+AW35)*1000","v":-105.50896856855542},{"$f":"A0!Q1508*1000","v":38.542801610892674},null,"b",{"$f":"O7/1000","v":0.42},{"$f":"BA37","v":0.42},{"$f":"BA37","v":0.42},null,"Tilslag: Søsand / granit",null,null,null,null,{"$f":"Kold!C22","v":5.5},{"$f":"Kold!D22","v":2},{"$f":"Kold!E22","v":10},null,{"$f":"Kold!G22","v":3},{"$f":"Kold!H22","v":3},{"$f":"Kold!I22","v":3},{"$f":"Kold!J22","v":0}]
[null,null,null,null,null,null,null,null,null,null,null,null,null,null,null,null,null,null,null,null,null,null,null,null,null,null,null,null,null,null,null,null,null,null,null,null,null,null,null,null,null,"h",{"$f":"O6","v":540},null,null,"e0 / (1+f) ","(o/oo)",{"$f":"INDEX(Resultat,97+$AV$35*100,2)*1000","v":0.40819917775526926},{"$f":"INDEX(Resultat,97+$AW$35*100,2)*1000","v":0.44418455676796115},{"$f":"A0!C1578*1000","v":0.15788568661380903},null,"d",{"$f":"IF(M23>=0,$M$10,$M$9)/1000","v":1.6E-2},{"$f":"IF(N23>=0,$M$10,$M$9)/1000","v":1.6E-2},{"$f":"IF(O23>=0,$M$10,$M$9)/1000","v":1.6E-2},null,2,"h",{"$f":"O6-(Firsidig!D2+Firsidig!D11)*L33","v":450.87893293907393}]
[null,null,null,null,null,null,null,null,null,null,null,null,null,null,null,null,null,null,null,null,null,null,null,null,null,null,null,null,null,null,null,null,null,null,null,null,null,null,null,null,null,"b",{"$f":"O7","v":420},null,null,"sc0","(Mpa)",{"$f":"(3*AV38/1000*$AT$23)/($BN$22*(2+((AV38/1000)/$BN$22)^3))","v":6.1096896914497831},{"$f":"(3*AW38/1000*$AT$23)/($BN$22*(2+((AW38/1000)/$BN$22)^3))","v":6.644135521338117},{"$f":"(3*AX38/1000*$AT$23)/($BN$22*(2+((AX38/1000)/$BN$22)^3))","v":2.3679870649111963},null,"n",{"$f":"IF(M23>=0,$O$10,$O$9)","v":3},{"$f":"IF(N23>=0,$O$10,$O$9)","v":3},{"$f":"IF(O23>=0,$O$10,$O$9)","v":3},null,"Stål: Varmvalset","b",{"$f":"O7-(Firsidig!B6+Firsidig!F6)*L33","v":330.87893293907393},null,null,null,{"$f":"Kold!D24","v":500},{"$f":"Kold!E24","v":700}]
[null,null,null,null,null,null,null,null,null,null,null,null,null,null,null,null,null,null,null,null,null,null,null,null,null,null,null,null,null,null,null,null,null,null,null,null,null,null,null,null,null,"ho",{"$f":"2*AQ38*AQ39/(2*(AQ38+AQ39))","v":236.25},null,null,"sst","(Mpa)",{"$f":"INDEX(Resultat,97+$AV$35*100,11)","v":-46.274098558105983},{"$f":"INDEX(Resultat,97+$AW$35*100,11)","v":-32.96771671404646},{"$f":"A0!L1578","v":-17.800513741979739},null,"fck",{"$f":"L13","v":25},{"$f":"BA40","v":25},{"$f":"BA40","v":25},null,"Stål: Bratkølet","ac",{"$f":"N9-L33","v":15.439466469536967},null,null,null,null,{"$f":"Kold!E25","v":4.5}]
[null,null,null,null,null,null,null,null,null,null,null,null,null,null,null,null,null,null,null,null,null,null,null,null,null,null,null,null,null,null,null,null,null,null,null,null,null,null,null,null,null,"fck",{"$f":"L13","v":25},null,null,"ssc","(Mpa)",{"$f":"INDEX(Resultat,97+$AV$35*100,9)","v":201.1102835015123},{"$f":"INDEX(Resultat,97+$AW$35*100,9)","v":216.6662289402804},{"$f":"A0!J1578","v":77.774415241460446},null,"fctm",{"$f":"0.3*BA40^(2/3)","v":2.5649639200150443},{"$f":"0.3*BB40^(2/3)","v":2.5649639200150443},{"$f":"0.3*BC40^(2/3)","v":2.5649639200150443},null,"Stål: Kolddeformeret","at",{"$f":"N10-L33","v":15.439466469536967},null,null,{"$f":"Kold!C26","v":20},{"$f":"Kold!D26","v":115},{"$f":"Kold!E26","v":115}]
[null,null,null,null,null,null,null,null,null,null,null,null,null,null,null,null,null,null,null,null,null,null,null,null,null,null,null,null,null,null,null,null,null,null,null,null,null,null,null,null,null,"fcm",{"$f":"AQ41+8","v":33},null,null,"x","(mm)",{"$f":"INDEX(Resultat,97+$AV$35*100,1)*1000","v":605.5205390232793},{"$f":"INDEX(Resultat,97+$AW$35*100,1)*1000","v":555.3759018083224},{"$f":"A0!B1578*1000","v":604.65781922985661},null,"Ec",{"$f":"22000*((BA40+8)/10)^0.3","v":31475.806210019346},{"$f":"22000*((BB40+8)/10)^0.3","v":31475.806210019346},{"$f":"22000*((BC40+8)/10)^0.3","v":31475.806210019346},null,{"$f":"IF(BE38=1,\"Q\",IF(BE38=2,\"AC\",\"C\"))","v":"AC"}]
[null,null,null,null,null,null,null,null,null,null,null,null,null,null,null,null,null,null,null,null,null,null,null,null,null,null,null,null,null,null,null,null,null,null,null,null,null,null,null,null,null,"a1",{"$f":"IF(AQ42<35,1,(35/AQ42)^0.7)","v":1},null,null,"EI0Ed","(MNm2)",{"$f":"INDEX(Resultat,98+$AV$35*100,26)","v":44.808536600688136},{"$f":"INDEX(Resultat,98+$AW$35*100,26)","v":-48.943759243266747},{"$f":"A0!AA1579","v":54.018164289115468},null,"Es",200000,200000,200000,null,"k revnet",{"$f":"1.1*MAX(Firsidig!X34,Firsidig!X30)/(100000*(BG38/1000-BG41/1000))","v":8.3134242763293325E-3},"m_-1"]
[null,null,null,null,null,null,null,null,null,null,null,null,null,null,null,null,null,null,null,null,null,null,null,null,null,null,null,null,null,null,null,null,null,null,null,null,null,null,null,null,null,"a2",{"$f":"IF(AQ42<35,1,(35/AQ42)^0.2)","v":1},null,null,"e0 /fe1 ",null,{"$f":"0.001*AV38/$BN$22","v":0.1632796711021077},{"$f":"0.001*AW38/$BN$22","v":0.17767382270718446},{"$f":"0.001*AX38/$BN$22","v":6.3154274645523603E-2},null,"At",{"$f":"BA39*BA38^2*PI()/4","v":6.0318578948924026E-4},{"$f":"BB39*BB38^2*PI()/4","v":6.0318578948924026E-4},{"$f":"BC39*BC38^2*PI()/4","v":6.0318578948924026E-4},null,"k urevnet",{"$f":"1.1*MAX(Firsidig!V13,Firsidig!N6)/(100000*(BG38/1000))","v":8.4679794939097729E-3},"m_-1"]
[null,null,null,null,null,null,null,null,null,null,null,null,null,null,null,null,null,null,null,null,null,null,null,null,null,null,null,null,null,null,null,null,null,null,null,null,null,null,null,null,null,"f",{"$f":"(1/(0.1+AQ36^0.2))*(16.8/AQ42^0.5)*(1+10*AQ43*(1-AQ37/100)/AQ40^(1/3))*AQ44","v":2.1679046446300974},null,null,null,null,null,null,null,null,"at",{"$f":"IF(M23>=0,$N$10,$N$9)/1000","v":0.06},{"$f":"IF(N23>=0,$N$10,$N$9)/1000","v":0.06},{"$f":"IF(O23>=0,$N$10,$N$9)/1000","v":0.06}]
[null,null,null,null,null,null,null,null,null,null,null,null,null,null,null,null,null,null,null,null,null,null,null,null,null,null,null,null,null,null,null,null,null,null,null,null,null,null,null,null,null,null,null,null,null,{"$f":"Snitkræfter!X80","v":2},null,null,null,null,null,"hc",{"$f":"IF(BA47=0,0,M28/1000)","v":0},{"$f":"IF(BB47=0,0,N28/1000)","v":0},{"$f":"IF(BC47=0,0,O28/1000)","v":0}]
[null,null,null,null,null,null,null,null,null,null,null,null,null,null,null,null,null,null,null,null,null,null,null,null,null,null,null,null,null,null,null,null,null,null,null,null,null,null,null,null,null,null,null,null,null,"p_2  i  0 < s < L",null,null,null,null,null,"sat2",{"$f":"MAX(M26,0)","v":0},{"$f":"MAX(N26,0)","v":0},{"$f":"MAX(O26,0)","v":0}]
[null,null,null,null,null,null,null,null,null,null,null,null,null,null,null,null,null,null,null,null,null,null,null,null,null,null,null,null,null,null,null,null,null,null,null,null,null,null,null,null,null,"Tilstand",null,{"$f":"Kold!AR48","v":1},null,"p_2  i  0 < s < a",null,null,null,null,null,"(1+ f)",{"$f":"1+$BG$52","v":1},{"$f":"1+$BG$52","v":1},{"$f":"1+$BG$52","v":1},null,"Krybetal","RH",{"$f":"Kold!O15","v":0.68},null,"Brandpåvirkning"]
[null,null,null,null,null,null,null,null,null,null,null,null,null,null,null,null,null,null,null,null,null,null,null,null,null,null,null,null,null,null,null,null,null,null,null,null,null,null,null,null,null,null,null,null,null,"p_2  i  a < s < L",null,null,null,null,null,"aeff",{"$f":"BA48*BA43/BA42","v":6.3540866488222374},{"$f":"BB48*BB43/BB42","v":6.3540866488222374},{"$f":"BC48*BC43/BC42","v":6.3540866488222374},null,null,"to",{"$f":"Kold!O16","v":28},null,null,"Overside",1]
[null,null,null,null,null,null,null,null,null,null,null,null,null,null,null,null,null,null,null,null,null,null,null,null,null,null,null,null,null,null,null,null,null,null,null,null,null,null,null,null,null,null,null,null,null,null,null,null,null,null,null,"kt",0.4,0.4,0.4,null,null,"fo",{"$f":"AQ45","v":2.1679046446300974},null,null,null,"Ja"]
[null,null,null,null,null,null,null,null,null,null,null,null,null,null,null,null,null,null,null,null,null,null,null,null,null,null,null,null,null,null,null,null,null,null,null,null,null,null,null,null,null,null,null,null,null,null,null,null,null,null,null,"x1",0,0,0,null,null,"M0Eqp/M0Ed",0,null,null,null,"Nej"]
[null,null,null,null,null,null,null,null,null,null,null,null,null,null,null,null,null,null,null,null,null,null,null,null,null,null,null,null,null,null,null,null,null,null,null,null,null,null,null,null,null,"Fejltabel",null,null,null,null,{"$f":"MIN(AU53:AU84)","v":0},{"$f":"AV53&AV54&AV55&AV56&AV57&AV58&AV59&AV60&AV61&AV62&AV63&AV64&AV65&AV66&AV67&AV68&AV69","v":"Program indstillet til kold tilstand ! "},null,null,null,"As",{"$f":"BA44","v":6.0318578948924026E-4},{"$f":"BB44","v":6.0318578948924026E-4},{"$f":"BC44","v":6.0318578948924026E-4},null,null,"fef",{"$f":"BG51*BG50","v":0},null,null,"Underside",1]
[null,null,null,null,null,null,null,null,null,null,null,null,null,null,null,null,null,null,null,null,null,null,null,null,null,null,null,null,null,null,null,null,null,null,null,null,null,null,null,null,null,"Kun tværlaste og excentriciteter må have negative værdier ! ",null,null,null,null,{"$f":"IF(MIN(O6,O7,M9,N9,O9,M10,N10,O10,N11,L16,L17,O15,O16,O18,D24+0.0000001,E24+0.0000001)>0,1,0)","v":1},{"$f":"IF(AU53=0,AP53,\"\")","v":""},null,null,null,"d",{"$f":"BA36-BA45","v":0.48000000000000004},{"$f":"BB36-BB45","v":0.48000000000000004},{"$f":"BC36-BC45","v":0.48000000000000004},null,null,null,null,null,null,null,"Ja"]
[null,null,null,null,null,null,null,null,null,null,null,null,null,null,null,null,null,null,null,null,null,null,null,null,null,null,null,null,null,null,null,null,null,null,null,null,null,null,null,null,null,"Punkt A skal ligge i intervalet [0;L] ! ",null,null,null,null,{"$f":"IF(AND(E25>=0,E25<=L7),1,0)","v":1},{"$f":"IF(AU54=0,AP54,\"\")","v":""},null,null,null,"hc,eff",{"$f":"MIN(2.5*(BA36-BA53),(BA36-BA46)/3,BA36/2)","v":0.15},{"$f":"MIN(2.5*(BB36-BB53),(BB36-BB46)/3,BB36/2)","v":0.15},{"$f":"MIN(2.5*(BC36-BC53),(BC36-BC46)/3,BC36/2)","v":0.15},null,null,null,null,null,null,null,"Nej"]
[null,null,null,null,null,null,null,null,null,null,null,null,null,null,null,null,null,null,null,null,null,null,null,null,null,null,null,null,null,null,null,null,null,null,null,null,null,null,null,null,null,"Analyse-snit skal indlægges i intervalet [0;L] ! ",null,null,null,null,{"$f":"IF(AND(O21>=0,O21<=L7),1,0)","v":1},"",null,null,null,"Ac,eff",{"$f":"BA54*BA37","v":6.3E-2},{"$f":"BB54*BB37","v":6.3E-2},{"$f":"BC54*BC37","v":6.3E-2},null,null,null,null,null,null,"Sider",3]
[null,null,null,null,null,null,null,null,null,null,null,null,null,null,null,null,null,null,null,null,null,null,null,null,null,null,null,null,null,null,null,null,null,null,null,null,null,null,null,null,null,"Armeringens kantafstand (c) skal være mindre end h/3 ! ",null,null,null,null,{"$f":"IF(AND(N9<=O6/3,N10<=O6/3),1,0)","v":1},"",null,null,null,"rp,eff",{"$f":"BA52/BA55","v":9.5743776109403211E-3},{"$f":"BB52/BB55","v":9.5743776109403211E-3},{"$f":"BC52/BC55","v":9.5743776109403211E-3},null,null,null,null,null,null,null,"Ingen"]
[null,null,null,null,null,null,null,null,null,null,null,null,null,null,null,null,null,null,null,null,null,null,null,null,null,null,null,null,null,null,null,null,null,null,null,null,null,null,null,null,null,"Armeringens sideafstand (c') skal være mindre end b/3 ! ",null,null,null,null,{"$f":"IF(N11<=O7/3,1,0)","v":1},"",null,null,null,"esm-ecm",{"$f":"MAX(BA47-BA50*BA41*(1+BA49*BA56)/BA56,0.6*BA47)/BA43","v":0},{"$f":"MAX(BB47-BB50*BB41*(1+BB49*BB56)/BB56,0.6*BB47)/BB43","v":0},{"$f":"MAX(BC47-BC50*BC41*(1+BC49*BC56)/BC56,0.6*BC47)/BC43","v":0},null,null,null,null,null,null,null,"Èn side"]
[null,null,null,null,null,null,null,null,null,null,null,null,null,null,null,null,null,null,null,null,null,null,null,null,null,null,null,null,null,null,null,null,null,null,null,null,null,null,null,null,null,"Program indstillet til kold tilstand ! ",null,null,null,null,{"$f":"IF(AR48=-1,1,0)","v":0},"Program indstillet til kold tilstand ! ",null,null,null,"seq",{"$f":"BA38","v":1.6E-2},{"$f":"BB38","v":1.6E-2},{"$f":"BC38","v":1.6E-2},null,null,null,null,null,null,null,"To sider"]
[null,null,null,null,null,null,null,null,null,null,null,null,null,null,null,null,null,null,null,null,null,null,null,null,null,null,null,null,null,null,null,null,null,null,null,null,null,null,null,null,null,"Brandtid skal mindst være 15 min ! ",null,null,null,null,{"$f":"IF(L29>=15,1,0)","v":1},{"$f":"IF(AU59=0,AP59,\"\")","v":""},null,null,null,"c",{"$f":"BA36-BA53-0.5*BA58","v":5.1999999999999998E-2},{"$f":"BB36-BB53-0.5*BB58","v":5.1999999999999998E-2},{"$f":"BC36-BC53-0.5*BC58","v":5.1999999999999998E-2},null,null,null,null,null,"Input til firsidig"]
[null,null,null,null,null,null,null,null,null,null,null,null,null,null,null,null,null,null,null,null,null,null,null,null,null,null,null,null,null,null,null,null,null,null,null,null,null,null,null,null,null,null,null,null,null,null,1,"",null,null,null,"k1",0.8,0.8,0.8,null,null,null,null,null,null,{"$f":"IF(BK49=1,1,0)","v":1}]
[null,null,null,null,null,null,null,null,null,null,null,null,null,null,null,null,null,null,null,null,null,null,null,null,null,null,null,null,null,null,null,null,null,null,null,null,null,null,null,null,null,"Betonstyrken (f_ck) skal ligge i intervalet [16 MPa ; 50 MPa] ! ",null,null,null,null,{"$f":"IF(AND(L13>=16,L13<=50),1,0)","v":1},{"$f":"IF(AU61=0,AP61,\"\")","v":""},null,null,null,"k2",0.5,0.5,0.5,null,null,null,null,null,{"$f":"IF(BK55=1,0,1)","v":1},null,{"$f":"IF(BK55=3,1,0)","v":1}]
[null,null,null,null,null,null,null,null,null,null,null,null,null,null,null,null,null,null,null,null,null,null,null,null,null,null,null,null,null,null,null,null,null,null,null,null,null,null,null,null,null,"Armeringsstyrken (f_yk) skal ligge i intervalet [400 MPa , 600 MPa] ! ",null,null,null,null,{"$f":"IF(AND(O12>=400,O12<=600),1,0)","v":1},{"$f":"IF(AU62=0,AP62,\"\")","v":""},null,null,null,"k3",3.4,3.4,3.4,null,null,null,null,null,null,{"$f":"IF(BK52=1,1,0)","v":1}]
[null,null,null,null,null,null,null,null,null,null,null,null,null,null,null,null,null,null,null,null,null,null,null,null,null,null,null,null,null,null,null,null,null,null,null,null,null,null,null,null,null,"Partialkoefficienter skal mindst være 1,0 ! ",null,null,null,null,{"$f":"IF(AND(L16>=1,L17>=1),1,0)","v":1},{"$f":"IF(AU63=0,AP63,\"\")","v":""},null,null,null,"k4",0.42499999999999999,0.42499999999999999,0.42499999999999999,null,null,null,null,null,"Krumning",null,2]
[null,null,null,null,null,null,null,null,null,null,null,null,null,null,null,null,null,null,null,null,null,null,null,null,null,null,null,null,null,null,null,null,null,null,null,null,null,null,null,null,null,"L skal være større end 2h ! ",null,null,null,null,{"$f":"IF(L7>=2*O6/1000,1,0)","v":1},{"$f":"IF(AU64=0,AP64,\"\")","v":""},null,null,null,"s,rmaks",{"$f":"MIN(1.3*(BA36-BA46),BA62*BA59+BA60*BA61*BA63*BA58/BA56)","v":0.4608915734190332},{"$f":"MIN(1.3*(BB36-BB46),BB62*BB59+BB60*BB61*BB63*BB58/BB56)","v":0.4608915734190332},{"$f":"MIN(1.3*(BC36-BC46),BC62*BC59+BC60*BC61*BC63*BC58/BC56)","v":0.4608915734190332},null,null,null,null,null,null,{"$f":"IF(OR(BK49=1,BK52=1),\"Fuld termisk krumning\",\"Ingen termisk krumning\")","v":"Fuld termisk krumning"}," "]
[null,null,null,null,null,null,null,null,null,null,null,null,null,null,null,null,null,null,null,null,null,null,null,null,null,null,null,null,null,null,null,null,null,null,null,null,null,null,null,null,null,"b og h skal mindst være 80 mm",null,null,null,null,{"$f":"IF(MIN(O6,O7)>80,1,0)","v":1},{"$f":"IF(AU65=0,AP65,\"\")","v":""},null,null,null,"wk",{"$f":"1000*BA64*BA57","v":0},{"$f":"1000*BB64*BB57","v":0},{"$f":"1000*BC64*BC57","v":0},null,null,null,null,null,null,{"$f":"IF(BK49=1,\"Ingen termisk udvidelse på overside\",IF(BK52=2,\"Ingen termisk krumning\",\"Kun termisk udvidelse på underside\"))","v":"Ingen termisk udvidelse på overside"}," "]
[null,null,null,null,null,null,null,null,null,null,null,null,null,null,null,null,null,null,null,null,null,null,null,null,null,null,null,null,null,null,null,null,null,null,null,null,null,null,null,null,null,null,null,null,null,null,1,"",null,null,null,null,null,null,null,null,null,null,null,null,null,{"$f":"IF(BK52=1,\"Ingen termisk udvidelse på underside\",IF(BK49=2,\"Ingen termisk krumning\",\"Kun termisk udvidelse på overside\"))","v":"Ingen termisk udvidelse på underside"}," "]
[null,null,null,null,null,null,null,null,null,null,null,null,null,null,null,null,null,null,null,null,null,null,null,null,null,null,null,null,null,null,null,null,null,null,null,null,null,null,null,null,null,null,null,null,null,null,1,""]
[null,null,null,null,null,null,null,null,null,null,null,null,null,null,null,null,null,null,null,null,null,null,null,null,null,null,null,null,null,null,null,null,null,null,null,null,null,null,null,null,null,null,null,null,null,null,1,""]
[null,null,null,null,null,null,null,null,null,null,null,null,null,null,null,null,null,null,null,null,null,null,null,null,null,null,null,null,null,null,null,null,null,null,null,null,null,null,null,null,null,"Alle parametre af typen s skal være mindst 0 ! ",null,null,null,null,{"$f":"IF(MIN(C22,D22,E22,E25,O21)>=0,1,0)","v":1},""]

{"sheet":"Snitkræfter","index":2,"n_rows":302,"n_cols":41,"rows_kept":302,"cut":false,"hidden":false,"merged":[]}
[]
[null,"Spændvidde","L",{"$f":"IF($C$21=1,Kold!AQ25,Brand!AQ25)","v":9},"m",null,null,null,null,null,null,null,null,null,null,null,null,null,"x_Na",{"$f":"MIN(MAX(D6,$T$16/100),$T$16)","v":4.5},{"$f":"T2","v":4.5},{"$f":"IF(U2=U$18,$T$16,U2)","v":4.5},4.5,4.5,4.5,4.5,4.5,9,9,9,9,9,9,9,9]
[null,"Normalkraft i punkt 10","N10",{"$f":"MAX(IF($C$21=1,Kold!AQ26,Brand!AQ26),0.00001)","v":0.5},"MN",null,null,null,null,null,null,null,null,null,null,null,null,null,"x_P1",{"$f":"MIN(MAX(E87,$T$16/100),$T$16)","v":5.5},{"$f":"T3","v":5.5},{"$f":"IF(U3=U$18,$T$16,U3)","v":5.5},5.5,5.5,5.5,5.5,5.5,5.5,5.5,9,9,9,9,9,9]
[null,"Normalkraft i punkt a","Na",{"$f":"IF($C$21=1,IF(Kold!AQ29=0,0,Kold!AQ27),IF(Brand!AQ29=0,0,Brand!AQ27))","v":0.7},"MN","Min exc.",null,null,null,null,null,null,null,null,null,null,null,null,"x_P2",{"$f":"MIN(MAX(E88,$T$16/100),$T$16)","v":2},2,{"$f":"IF(U4=U$18,$T$16,U4)","v":2},2,2,9,9,9,9,9,9,9,9,9,9,9]
[null,"Normalkraft i punkt 0","N0",{"$f":"D4+D3","v":1.2},"MN",{"$f":"0.03*Stivheder!C6","v":1.6199999999999999E-2},null,null,null,null,null,null,null,null,null,null,null,null,"x_P3",{"$f":"MIN(MAX(E89,$T$16/100),$T$16)","v":9},9,{"$f":"IF(U5=U$18,$T$16,U5)","v":9},9,9,9,9,9,9,9,9,9,9,9,9,9]
[null,"Afstand fra punkt 0 til Na","a",{"$f":"IF($C$21=1,Kold!AQ29,Brand!AQ29)","v":4.5},"m","Forsætning",null,null,null,null,null,null,null,null,null,null,null,null,0,{"$f":"0","v":0},0,{"$f":"IF(U6=U$18,$T$16,U6)","v":9},9,9,9,9,9,9,9,9,9,9,9,9,9]
[null,"Excentriciteter","e_N10",{"$f":"IF($C$21=1,IF(Kold!AQ30>=0,1,-1)*MAX(ABS(Kold!AQ30),$F$5),IF(Brand!AQ30+F9>=0,1,-1)*MAX(ABS(Brand!AQ30+F9),$F$5))","v":0.115},"m","og krybetillæg",null,null,null,null,null,null,null,null,null,null,null,null,1,{"$f":"IF(AND(T6<=$T$2,$T$2<$T$16*S7/10),$T$2+0.00001,$T$16*S7/10)","v":0.9},0.9,{"$f":"IF(U7=U$18,$T$16,U7)","v":0.9},9,9,9,9,9,9,9,9,9,9,9,9,9]
[null,null,"e_Na",{"$f":"IF($C$21=1,IF(Kold!AQ31>=0,1,-1)*MAX(ABS(Kold!AQ31),$F$5),IF(Brand!AQ31+F9>=0,1,-1)*MAX(ABS(Brand!AQ31+F9),$F$5))","v":0.115},"m","De - brand",null,null,null,null,null,null,null,null,null,null,null,null,2,{"$f":"IF(AND(T7<=$T$2,$T$2<$T$16*S8/10),$T$2+0.00001,$T$16*S8/10)","v":1.8},1.8,{"$f":"IF(U8=U$18,$T$16,U8)","v":1.8},1.8,9,9,9,9,9,9,9,9,9,9,9,9]
[null,null,"e0",{"$f":"IF($C$21=1,IF(Kold!AQ32>=0,1,-1)*MAX(ABS(Kold!AQ32),$F$5),IF(Brand!AQ32+F9>=0,1,-1)*MAX(ABS(Brand!AQ32+F9),$F$5))","v":0.02},"m",{"$f":"IF(C21=1,0,0.5*(Firsidig!E25-Firsidig!E27))+Stivheder!F538","v":4.746128981043797E-3},null,null,null,null,null,null,null,null,null,null,null,null,3,2.7,2.7,{"$f":"IF(U9=U$18,$T$16,U9)","v":2.7},2.7,2.7,2.7,9,9,9,9,9,9,9,9,9,9]
[null,"Ekstra tværsnitsanalyse i snit","x",{"$f":"IF($C$21=1,Kold!AQ33,Brand!AQ33)","v":5.5},"m",null,null,null,null,null,null,null,null,null,null,null,null,null,4,3.6,3.6,{"$f":"IF(U10=U$18,$T$16,U10)","v":3.6},3.6,3.6,3.6,3.6,9,9,9,9,9,9,9,9,9]
[null,null,null,null,null,null,null,null,null,null,null,null,null,null,null,null,null,null,5,4.5,4.5,{"$f":"IF(U11=U$18,$T$16,U11)","v":4.5},4.5,4.5,4.5,4.5,4.5,9,9,9,9,9,9,9,9]
[null,"Indspænding i 1. endepunkt",null,null,null,null,null,null,null,null,null,null,null,null,null,null,null,null,6,{"$f":"IF(AND(T11<=$T$2,$T$2<$T$16*S12/10),$T$2+0.00001,$T$16*S12/10)","v":4.5000099999999996},4.5000099999999996,{"$f":"IF(U12=U$18,$T$16,U12)","v":4.5000099999999996},4.5000099999999996,4.5000099999999996,4.5000099999999996,4.5000099999999996,4.5000099999999996,4.5000099999999996,9,9,9,9,9,9,9]
[null,null,null,null,null,null,null,null,null,null,null,null,null,null,null,null,null,null,7,6.3,6.3,{"$f":"IF(U13=U$18,$T$16,U13)","v":6.3},6.3,6.3,6.3,6.3,6.3,6.3,6.3,6.3,9,9,9,9,9]
[null,"Belastninger","p_0",null,"p_10",null,null,null,null,null,null,null,null,null,null,null,null,null,8,7.2,7.2,{"$f":"IF(U14=U$18,$T$16,U14)","v":7.2},7.2,7.2,7.2,7.2,7.2,7.2,7.2,7.2,7.2,9,9,9,9]
[null,"Jævnt fordelt last",{"$f":"IF($C$21=1,Kold!AT26,Brand!AT26)","v":3.0000000000000001E-3},"MN/m",{"$f":"IF($C$21=1,Kold!AV26,Brand!AV26)","v":3.0000000000000001E-3},"MN/m",null,null,null,null,null,null,null,null,null,null,null,null,9,8.1,8.1,{"$f":"IF(U15=U$18,$T$16,U15)","v":8.1},8.1,8.1,8.1,8.1,8.1,8.1,8.1,8.1,8.1,8.1,9,9,9]
[null,"Trekantlast",{"$f":"IF($C$21=1,Kold!AT27,Brand!AT27)","v":3.0000000000000001E-3},"MN/m",{"$f":"IF($C$21=1,Kold!AV27,Brand!AV27)","v":0},"MN/m",null,null,null,null,null,null,null,null,null,null,null,null,"L =",{"$f":"D2","v":9},{"$f":"T16","v":9},{"$f":"IF(U16=U$18,$T$16,U16)","v":9},9,9,9,9,9,9,9,9,9,9,9,9,9]
[null,"Punktlaste","P",null,"x",null,null,null,null,null,null,null,null,null,null,null,null,null,"punkt",null,0,1,2,3,4,5,6,7,8,9,10,11,12,13,14]
[null,null,{"$f":"IF($C$21=1,Kold!AT29,Brand!AT29)","v":0.02},"MN",{"$f":"IF($C$21=1,Kold!AV29,Brand!AV29)","v":5.5},"m",null,null,null,null,null,null,null,null,null,null,null,null,"x = ",null,{"$f":"MIN(U2:U16)","v":0},0.9,1.8,2,2.7,3.6,4.5,4.5000099999999996,5.5,6.3,7.2,8.1,9,9,9]
[null,null,{"$f":"IF($C$21=1,Kold!AT30,Brand!AT30)","v":1E-3},"MN",{"$f":"IF($C$21=1,Kold!AV30,Brand!AV30)","v":2},"m"]
[null,null,{"$f":"IF($C$21=1,Kold!AT31,Brand!AT31)","v":0.01},"MN",{"$f":"IF($C$21=1,Kold!AV31,Brand!AV31)","v":10},"m"]
[null,"Tilstand   (kold =1 / brand = -1)",{"$f":"Kold!AR48","v":1},"Dk,brand_rev",{"$f":"IF(C21=1,0,Brand!BF43)","v":0},"m-1"]
[null,null,null,"Dk,brand_urev",{"$f":"IF(C21=1,0,Brand!BF44)","v":0},"m-1"]
[null,"Maksimalt udgangsmoment","M_max","M_min","| M_rev+ |","| M_rev- |"]
[null,"N = N_10:",{"$f":"MAX(G54:U54)","v":5.1955679558217081E-2},{"$f":"MIN(G54:U54)","v":0},{"$f":"Stivheder!AA109","v":4.089655111692083E-2},{"$f":"Stivheder!AA309","v":4.089655111692083E-2}]
[null,"N = N_0:",{"$f":"MAX(G55:U55)","v":8.6766661274285464E-2},{"$f":"MIN(G55:U55)","v":-0.10763569873471363},{"$f":"Stivheder!AA9","v":9.8151722680609982E-2},{"$f":"Stivheder!AA209","v":9.8151722680609982E-2}]
[null,"Reaktioner","R_0",{"$f":"G95","v":5.3234694624521961E-2},"MN"]
[null,null,"R_10",{"$f":"U95","v":1.1515305375478039E-2},"MN",null,null,null,null,null,null,null,null,null,null,null,null,null,{"$f":"(MAX(G48:U48)-MIN(G48:U48))","v":6.7500777825666974E-3},{"$f":"MAX(G48:U48)-MIN(G48:U48)","v":6.7500777825666974E-3}]
[null,"Moment-krumningsrelationer","M_0","EI+","EI-",null,null,null,null,null,null,null,null,null,null,null,null,null,{"$f":"(MAX(G49:U49)-MIN(G49:U49))","v":6.6492214598677987E-3},{"$f":"MAX(G49:U49)-MIN(G49:U49)","v":6.6492214598677987E-3}]
[null,null,"(MNm)","(MNm2)","(MNm2)",null,null,null,null,null,null,null,null,null,null,null,null,null,{"$f":"S27/S28","v":1.0151681401059702},{"$f":"T28-T27","v":-1.0085632269889871E-4}]
[null,"N = N_10:",{"$f":"-D3*Stivheder!$O$2","v":0},{"$f":"MIN(Stivheder!$AA$179,Stivheder!$Y$102)","v":52.658324508357552},{"$f":"MIN(Stivheder!$AA$379,Stivheder!$Y$302)","v":53.411302588760996}]
[null,"N = N_0:",{"$f":"-D5*Stivheder!O2","v":0},{"$f":"MIN(Stivheder!$AA$79,Stivheder!$Y$2)","v":45.096559808647307},{"$f":"MIN(Stivheder!$AA$279,Stivheder!$Y$202)","v":44.340862772404321}]
[null,"N = N_10, 90% M:",null,{"$f":"MIN(Stivheder!$AA$199,Stivheder!$Y$102)","v":52.658324508357552},{"$f":"MIN(Stivheder!$AA$399,Stivheder!$Y$302)","v":53.411302588760996}]
[null,"N = N_0, 90% M:",null,{"$f":"MIN(Stivheder!$AA$99,Stivheder!$Y$2)","v":45.096559808647307},{"$f":"MIN(Stivheder!$AA$299,Stivheder!$Y$202)","v":44.340862772404321}]
[null,"Flydeled i indspænding:",{"$f":"IF(SIGN(Y249)=-1,IF(AND($D$36=1,ABS(D25)>ABS(D34)),1,0),IF(AND($D$36=1,ABS(C25)>ABS(D34)),1,0))","v":0},{"$f":"IF(SIGN(Y249)=-1,-Stivheder!$N$433,Stivheder!$N$465)*IF(C21=1,1,0.8)","v":-0.3386314220876453}]
[null,"Interne kontrolparametre"]
[null,"Indspændt i punkt 0",null,{"$f":"E36-1","v":1},2]
[null,"Indspændt i punkt 10",null,0]
[null,"Eff. søjlelængde",{"$f":"IF(AND(D36=0,D37=0),1,IF(AND(D36=1,D37=1),0.5,0.7))","v":0.7},{"$f":"D2*C38^0.5","v":7.5299402388066801},"m"]
[null,null,null,null,null,"NEJ"]
[null,null,null,null,null,"JA"]
[null,"Kontrol",{"$f":"IF($C$44=1,\"# # # #  INSTABIL KONSTRUKTION  # # # #\",$D$41)","v":"Stabilitet OK"},{"$f":"IF(MAX(ABS(MAX(G110:U110)),ABS(MIN(G110:U110)),ABS(MAX(G110:U110)-MIN(G110:U110)))<0.003*Stivheder!Q433,\"MOMENT UNDER BAGATELGRÆNSE\",IF(OR($D$299=0,ABS(H49)-ABS(H48)>0.0001*$D$2,$F$196=1,$F$198=1,AND((MAX(G48:U48)-MIN(G48:U48))<0.98*(MAX(G49:U49)-MIN(G49:U49)),ABS(((MAX(G48:U48)-MIN(G48:U48)))-((MAX(G49:U49)-MIN(G49:U49))))>IF(C21=1,0.0001,0.0003)*$D$2)),\"# # # #  INSTABIL KONSTRUKTION  # # # #\",\"Stabilitet OK\"))","v":"Stabilitet OK"},null,1]
[null,"Udbøjningafvigelse","Du/u",{"$f":"1-(MAX(G284:U284)/MAX(G297:U297)-MIN(G284:U284)/MAX(G297:U297))","v":-1.5168140105970007E-2},null,{"$f":"0.0001*D2","v":9.0000000000000008E-4}]
[null,"Instabilitetsparameter",null,{"$f":"MAX(1,D44+2*D42)","v":1},null,null,{"$f":"($D$2-G45)*G44","v":4.05},{"$f":"($D$2-H45)*H44","v":7.29},3.9600000000000004,3.1500000000000004,5.04,4.8599999999999994,2.0250224999999991,2.2499950000000002,3.1499825000000001,2.2950000000000004,1.6199999999999997,0.81000000000000028,0,0,0,{"$f":"SUM(G43:U43)","v":40.5}]
[null,{"$f":"IF(MAX(ABS(MAX(G110:U110)),ABS(MIN(G110:U110)),ABS(MAX(G110:U110)-MIN(G110:U110)))<0.003*Stivheder!Q433,1,IF(OR($D$299=0,ABS(H49)-ABS(H48)>0.0001*$D$2,$F$196=1,$F$198=1,AND((MAX(G48:U48)-MIN(G48:U48))<0.98*(MAX(G49:U49)-MIN(G49:U49)),ABS(((MAX(G48:U48)-MIN(G48:U48)))-((MAX(G49:U49)-MIN(G49:U49))))>IF(C21=1,0.0001,0.0003)*$D$2)),0,1))*IF(C21=1,Kold!AU52,Brand!AU52)","v":1},{"$f":"IF(ISERROR(B44),1,0)","v":0},1,null,0,{"$f":"0.5*(H45-G45)","v":0.45},{"$f":"0.5*(I45-G45)","v":0.9},{"$f":"0.5*(J45-H45)","v":0.55000000000000004},0.45000000000000007,0.8,0.89999999999999991,0.45000499999999977,0.5,0.8999950000000001,0.85000000000000009,0.89999999999999991,0.89999999999999991,0.45000000000000018,0,{"$f":"0.5*(U45-T45)","v":0}]
[null,"Modelkontrol","x",null,"m",null,{"$f":"U18","v":0},{"$f":"V18","v":0.9},1.8,2,2.7,3.6,4.5,4.5000099999999996,5.5,6.3,7.2,8.1,9,9,9]
[null,null,"Punkt",null,null,null,0,1,2,3,4,5,6,7,8,9,10,11,12,13,14]
[null,null,null,null,null,null,{"$f":"10*G45/$D$2","v":0},{"$f":"10*H45/$D$2","v":1},2,2.2222222222222223,3,4,5,5.0000111111111103,6.1111111111111107,7,{"$f":"10*Q45/$D$2","v":8},{"$f":"10*R45/$D$2","v":9},{"$f":"10*S45/$D$2","v":10},{"$f":"10*T45/$D$2","v":10},{"$f":"10*U45/$D$2","v":10}]
[null,"Skønnet udbøjning","u_skønnet",null,null,"u_skønnet",{"$f":"G284","v":0},{"$f":"H284","v":6.9997370538360862E-4},2.4215624914553364E-3,2.8805083076471521E-3,4.4614642937725072E-3,6.0919745186588971E-3,6.7500774135223337E-3,6.7500777825666965E-3,6.5665366277440091E-3,5.9956140410670766E-3,4.7240128008182213E-3,2.7314896548739616E-3,-4.380176776841438E-19,-4.380176776841438E-19,-4.380176776841438E-19]
[null,"Udbøjninger efter omlejring","u_beregnet",null,"m","u_kontrol",{"$f":"G297","v":0},{"$f":"H297","v":6.9127570781117424E-4},2.3857646104662711E-3,2.8362909762301739E-3,4.3893646463060813E-3,5.9962134835949109E-3,6.6492210416014509E-3,6.6492214598677987E-3,6.4743488885090723E-3,5.9157258290607933E-3,4.6637758739607772E-3,2.6976671885464605E-3,0,0,0]
[null,"Snitnormalkræfter","N10",null,"MN",null,{"$f":"$D$3","v":0.5},{"$f":"$D$3","v":0.5},0.5,0.5,0.5,0.5,0.5,0.5,0.5,0.5,0.5,0.5,0.5,0.5,0.5]
[null,null,"Na",null,"MN",null,{"$f":"IF(G$45>$D$6,0,$D$4)","v":0.7},{"$f":"IF(H$45>$D$6,0,$D$4)","v":0.7},0.7,0.7,0.7,0.7,0.7,0,0,0,0,0,0,0,{"$f":"IF(U$45>$D$6,0,$D$4)","v":0}]
[null,null,"Ntot",null,"MN",null,{"$f":"G51+G50","v":1.2},{"$f":"H51+H50","v":1.2},1.2,1.2,1.2,1.2,1.2,0.5,0.5,0.5,{"$f":"Q51+Q50","v":0.5},{"$f":"R51+R50","v":0.5},{"$f":"S51+S50","v":0.5},{"$f":"T51+T50","v":0.5},{"$f":"U51+U50","v":0.5}]
[null,null,"x_Na",null,"m",{"$f":"MAX(G53:U53)","v":4.5},{"$f":"IF(G45=$D$6,G45,0)","v":0},{"$f":"IF(H45=$D$6,H45,0)","v":0},0,0,0,0,4.5,0,0,0,{"$f":"IF(Q45=$D$6,Q45,0)","v":0},{"$f":"IF(R45=$D$6,R45,0)","v":0},{"$f":"IF(S45=$D$6,S45,0)","v":0},{"$f":"IF(T45=$D$6,T45,0)","v":0},{"$f":"IF(U45=$D$6,U45,0)","v":0}]
[null,null,null,null,null,null,{"$f":"IF($D$6>=G$45,0,G55)","v":0},{"$f":"IF($D$6>=H$45,0,H55)","v":0},{"$f":"IF($D$6>=I$45,0,I55)","v":0},{"$f":"IF($D$6>=J$45,0,J55)","v":0},0,0,0,{"$f":"IF($D$6>=N$45,0,N55)","v":6.2669918500133657E-3},3.7725943124089431E-2,4.4537101077624396E-2,4.9616436978581598E-2,5.1955679558217081E-2,5.1553470366011121E-2,5.1553470366011121E-2,{"$f":"IF($D$6>=U$45,0,U55)","v":5.1553470366011121E-2}]
[null,"Første ordens snitmomenter",{"$f":"SUMPRODUCT(G44:U44,G56:U56)/D2","v":48.680117064725266},"Mo","MNm","Mo (MNm)",{"$f":"$F$41*Y249","v":-0.10763569873471363},-6.0329955177823094E-2,-1.6336165519241868E-2,-7.043028841757267E-3,2.3357545306892581E-2,5.9070747631086183E-2,8.6766661274285464E-2,6.2669918500133657E-3,3.7725943124089431E-2,4.4537101077624396E-2,4.9616436978581598E-2,5.1955679558217081E-2,5.1553470366011121E-2,5.1553470366011121E-2,5.1553470366011121E-2]
[null,"1. skønnede stivheder,indspændingseffekt",{"$f":"SUMPRODUCT(G43:U43,G56:U56)/V43","v":46.642734799417127},"MNm2",null,null,{"$f":"IF(AND(G55>=0,G52=$D$5),IF(ABS(G55)>0.9*ABS($C$25),$D$31,$D$33),IF(AND(G55>=0,G52=$D$3),IF(ABS(G55)>0.9*ABS($C$24),$D$30,$D$32),IF(AND(G55<0,G52=$D$5),IF(ABS(G55)>0.9*ABS($D$25-$C$31),$E$31,$E$33),IF(ABS(G55)>0.9*ABS($D$24),$E$30,$E$32))))*$F$41","v":44.340862772404321},44.340862772404321,44.340862772404321,44.340862772404321,45.096559808647307,45.096559808647307,45.096559808647307,52.658324508357552,52.658324508357552,52.658324508357552,52.658324508357552,52.658324508357552,52.658324508357552,52.658324508357552,52.658324508357552]
[null,"Snitmomenter 2. skønnede stivheder","Mtot",null,"MNm","Mtot (MNm)",{"$f":"$F$41*G193","v":-0.10463922945654142},{"$f":"$F$41*H193","v":-5.8334210781949954E-2},-1.5107572310704913E-2,-5.9687307619198434E-3,2.387912785896517E-2,5.8774933558037104E-2,8.9510337065903417E-2,9.0106543629920582E-3,3.912579451972454E-2,4.4839185731465385E-2,4.8648488082826444E-2,4.9659011864963548E-2,4.7862999962356344E-2,4.7862999962356344E-2,4.7862999962356344E-2]
[null,null,"|Mtot|",null,{"$f":"IF(E187=0,MIN(G199:U199),MIN(H199:U199))","v":-0.10463922945654142},{"$f":"IF(E187=0,MAX(G199:U199),MAX(H199:U199))","v":8.9510337039598903E-2},{"$f":"ABS(G193)","v":0.10463922945654142},{"$f":"ABS(H193)","v":5.8334210781949954E-2},1.5107572310704913E-2,5.9687307619198434E-3,2.387912785896517E-2,5.8774933558037104E-2,8.9510337065903417E-2,9.0106543629920582E-3,3.912579451972454E-2,4.4839185731465385E-2,{"$f":"ABS(Q193)","v":4.8648488082826444E-2},{"$f":"ABS(R193)","v":4.9659011864963548E-2},{"$f":"ABS(S193)","v":4.7862999962356344E-2},{"$f":"ABS(T193)","v":4.7862999962356344E-2},{"$f":"ABS(U193)","v":4.7862999962356344E-2}]
[null,"Nulpunktsmoment",{"$f":"IF(AND(E58=0,F58=0),A0!AA79,(F58-E58)/(F60-E60))","v":48.128126742499987},"MNm2",null,null,{"$f":"IF(G52=$D$5,$C$31,$C$30)","v":0},{"$f":"IF(H52=$D$5,$C$31,$C$30)","v":0},0,0,0,0,0,0,0,0,0,0,0,0,0]
[null,"Stivhed til 2. skønnede udbøjning",{"$f":"C56*C59/C55","v":46.113846625685625},"MNm2",{"$f":"IF(E187=0,MIN(G60:U60),MIN(H60:U60))","v":-2.1745207217015302E-3},{"$f":"IF(E187=0,MAX(G60:U60),MAX(G60:U60))","v":1.8594938896482767E-3},{"$f":"A0!$P$79","v":-2.1745207217015302E-3},{"$f":"A0!$P$179","v":-1.2187419692149895E-3},{"$f":"A0!$P$279","v":-3.2451147158288893E-4},{"$f":"A0!$P$379","v":-1.3639353956667618E-4},{"$f":"A0!$P$479","v":5.0474179094479584E-4},{"$f":"A0!$P$579","v":1.2275571634204775E-3},{"$f":"A0!$P$679","v":1.8594938896482767E-3},{"$f":"A0!$P$779","v":1.7535872768629785E-4},{"$f":"A0!$P$879","v":7.2497367221431043E-4},{"$f":"A0!$P$979","v":8.3005055815585154E-4},{"$f":"A0!$P$1079","v":9.0077780290199496E-4},{"$f":"A0!$P$1179","v":9.2007812981085766E-4},{"$f":"A0!$P$1279","v":8.8592590519493786E-4},{"$f":"A0!$P$1379","v":8.8616064189019712E-4},{"$f":"A0!$P$1479","v":8.8592590519493786E-4}]
[null,"Endelige snitmomenter",null,null,null,"Mtot (MNm)",{"$f":"G292","v":-0.10550896856855542},{"$f":"H292","v":-5.914610868418612E-2},-1.5931310702991062E-2,-6.7985998484699998E-3,2.3035462897698533E-2,5.7950966605471173E-2,8.8783581517216284E-2,8.2839002114933145E-3,3.8542801610892671E-2,4.4378132706806621E-2,4.8333223524591191E-2,4.9497853389528036E-2,4.7863000000000058E-2,4.7863000000000058E-2,4.7863000000000058E-2]
[null,"Reaktionstillæg fra 2. ordens effekter",null,null,null,"DR (MN)",{"$f":"(G55-G61)/$D$2","v":-2.3630335179535618E-4},null,null,null,null,null,null,null,null,null,null,null,null,null,{"$f":"-G62","v":2.3630335179535618E-4}]
[null,null,null,null,null,null,{"$f":"(G57-G59)/G60","v":48.120594304874118},{"$f":"(H57-H59)/H60","v":47.86428321617899},46.554817421442166,43.761095876553746,47.309591334347935,47.879589895647747,48.136935304925522,51.384122603303602,53.968572955513494,54.019824805715402,54.007201249961774,53.972603256173528,54.02596276019792,54.01165172520377,54.02596276019792]
[null,"Tværsnitsanalyse ved max","Punkt",{"$f":"MAX(G64:U64)","v":6},null,null,{"$f":"IF(G292=$E$65,G46,0)","v":0},0,0,0,0,0,6,0,0,0,0,0,0,0,0]
[null,null,"Mtot",{"$f":"ABS(MAX(G286:U286))","v":8.887305144021812E-2},{"$f":"MAX(G292:U292)","v":8.8783581517216284E-2},{"$f":"IF(ABS(INDEX(Resultat,97+D64*100,16))<0.99*ABS(D65),INDEX(Resultat,97+D64*100,16)*SIGN(E65),\"\")","v":""}]
[null,null,"EIberegn",{"$f":"INDIRECT(\"A0!$T$\"&ROUND(D64*10/$D$2,0)*100+6)","v":54.029604947698118},"MNm2"]
[null,"Tværsnitsanalyse ved min","x",{"$f":"MIN(G67:U67)","v":0},null,null,{"$f":"IF(G292=$E$68,G46,$U$46)","v":0},14,14,14,14,14,14,14,14,14,14,14,14,14,14]
[null,null,"Mtot",{"$f":"ABS(MIN(G286:U286))","v":0.10533002872255173},{"$f":"MIN(G292:U292)","v":-0.10550896856855542},{"$f":"IF(ABS(INDEX(Resultat,97+D67*100,16))<0.997*ABS(D68),INDEX(Resultat,97+D67*100,16)*SIGN(E68),\"\")","v":""}]
[null,null,"EIberegn",{"$f":"INDIRECT(\"A0!$T$\"&ROUND(D67*10/$D$2,0)*100+6)","v":48.118577971489657},"MNm2"]
[null,"Tværsnitsanalyse i snit:","x =",{"$f":"MIN(D10,0.9999999999*D2)","v":5.5},"m",{"$f":"MAX(G70:U70)","v":5.5},{"$f":"IF(AND($D$70>=G80,$D$70<H80),G80,0)","v":0},{"$f":"IF(AND($D$70>=H80,$D$70<I80),H80,0)","v":0},0,0,0,0,0,0,5.5,0,0,0,0,0,0]
[null,null,"Nulpunkts-M",{"$f":"SUMPRODUCT(G59:U59,G71:U71)","v":0},null,{"$f":"SUMPRODUCT(G71:U71,$G$292:$U$292)","v":3.8542801610892671E-2},{"$f":"IF(AND($D$70>=G80,$D$70<H80),1,0)","v":0},{"$f":"IF(AND($D$70>=H80,$D$70<I80),1,0)","v":0},0,0,0,0,0,0,1,0,0,0,0,0,0]
[null,null,"Mtot",{"$f":"IF(F70=F73,F71,(F74*($D$70-$F$70)+F71*($F$73-$D$70))/($F$73-$F$70))","v":3.8542801610892671E-2},"MNm",{"$f":"SUMPRODUCT(G71:U71,$G$297:$U$297)","v":6.4743488885090723E-3}]
[null,null,"u(X)",{"$f":"IF(F71=F74,F72,(F75*($D$70-$F$70)+F72*($F$73-$D$70))/($F$73-$F$70))","v":6.4743488885090723E-3},"m",{"$f":"MAX(G73:U73)","v":6.3},{"$f":"IF(AND($D$70>=F80,$D$70<G80),G80,0)","v":0},{"$f":"IF(AND($D$70>=G80,$D$70<H80),H80,0)","v":0},0,0,0,0,0,{"$f":"IF(AND($D$70>=M80,$D$70<N80),N80,0)","v":0},0,6.3,0,0,0,0,0]
[null,null,"EIsnit",{"$f":"A0!T1506","v":54.018164289115468},"MNm2",{"$f":"SUMPRODUCT(G74:U74,$G$292:$U$292)","v":4.4378132706806621E-2},{"$f":"IF(AND($D$70>=F80,$D$70<G80),1,0)","v":0},{"$f":"IF(AND($D$70>=G80,$D$70<H80),1,0)","v":0},0,0,0,0,0,0,0,1,0,0,0,0,0]
[null,null,null,null,null,{"$f":"SUMPRODUCT(G74:U74,$G$297:$U$297)","v":5.9157258290607933E-3}]
[]
[]
[null,"Numerisk beregning af udbøjninger",null,null,null,null,null,null,null,null,null,null,null,null,null,null,null,null,null,null,null,null,"L",{"$f":"D2","v":9}]
[null,null,"Punkt",null,null,null,0,1,2,3,4,5,6,7,8,9,10,11,12,13,14,null,"a",{"$f":"D6","v":4.5}]
[null,null,null,null,"x","(m)",{"$f":"G45","v":0},{"$f":"H45","v":0.9},1.8,2,2.7,3.6,4.5,4.5000099999999996,5.5,6.3,{"$f":"Q45","v":7.2},{"$f":"R45","v":8.1},{"$f":"S45","v":9},{"$f":"T45","v":9},{"$f":"U45","v":9},null,"p_2-type",2,{"$f":"IF(X80=1,\"0<s<L\",IF(X80=2,\"0<s<a\",\"a<s<L\"))","v":"0<s<a"}]
[null,null,null,null,"e_N10","(m)",{"$f":"C93","v":0.02},{"$f":"($D$2-H$80)*$G$81/$D$2+H$80*$U$81/$D$2","v":2.9500000000000005E-2},3.9000000000000007E-2,4.1111111111111112E-2,4.8500000000000001E-2,5.800000000000001E-2,6.7500000000000004E-2,6.7500105555555551E-2,7.8055555555555559E-2,8.6500000000000007E-2,9.6000000000000016E-2,0.1055,0.11500000000000002,0.11500000000000002,{"$f":"E93","v":0.115},null,"p_0",{"$f":"C84+IF(X80=3,0,C85)","v":6.0000000000000001E-3}]
[null,null,"Punkt Na",{"$f":"HLOOKUP(F53,G45:U46,2)","v":6},"e_Na","(m)",{"$f":"D8","v":0.115},null,null,null,null,null,null,null,null,null,null,null,null,null,null,null,"p_a1",{"$f":"C84+(E84-C84)*X79/X78+IF(X80=1,C85+(E85-C85)*X79/X78,IF(X80=2,E85,0))","v":3.0000000000000001E-3}]
[null,"Reaktioner og forskydningskræfter","p_0",null,"p_10",null,null,null,null,null,null,null,null,null,null,null,null,null,null,null,null,null,"p_a2",{"$f":"IF(X80=3,X82+C85,IF(X80=2,X82-E85,X82))","v":3.0000000000000001E-3}]
[null,"Jævnt fordelt last 1",{"$f":"C15","v":3.0000000000000001E-3},"(MN/m)",{"$f":"E15","v":3.0000000000000001E-3},"(MN/m)",{"$f":"Y111","v":2.3245582827539787E-2},{"$f":"Z111","v":1.8115582827539788E-2},1.3525582827539788E-2,1.2578916160873119E-2,9.4755828275397865E-3,5.9655828275397855E-3,2.9955828275397864E-3,2.9955528275397874E-3,-4.4171724602132603E-6,-2.4044171724602126E-3,-5.1044171724602136E-3,-7.8044171724602112E-3,-1.0504417172460211E-2,-1.0504417172460211E-2,-1.0504417172460211E-2,null,"p_L",{"$f":"E84+IF(X80=2,0,E85)","v":3.0000000000000001E-3}]
[null,"Jævnt fordelt last 2",{"$f":"C16","v":3.0000000000000001E-3},"(MN/m)",{"$f":"E16","v":0},"(MN/m)",null,null,null,null,null,null,null,null,null,null,null,null,null,null,null,null,"EI",100]
[null,null,"P",null,"x",null,null,null,null,null,null,null,null,null,null,null,null,null,null,null,null,null,"indsp",{"$f":"D36","v":1},"R2_0",{"$f":"(X81*X79^2/2+(X82-X81)*X79^2/3)/X78+((X79+0.5*(X78-X79))*(X78-X79)*X83+0.5*(X79+2*(X78-X79)/3)*(X78-X79)*(X84-X83))/X78","v":1.4624999999999999E-2}]
[null,"Punktlaste",{"$f":"C18","v":0.02},"(MN)",{"$f":"E18","v":5.5},"(m)",{"$f":"IF($D$36=0,C87*($D$2-E87)/$D$2,IF(E87<$D$2,C87*($D$2-E87)*(3-(($D$2-E87)/$D$2)^2)/(2*$D$2),-1.5*C87*(E87-$D$2)/$D$2))","v":1.1078532235939645E-2},{"$f":"IF(H$80<$E87,$G87,$U87)","v":1.1078532235939645E-2},1.1078532235939645E-2,1.1078532235939645E-2,1.1078532235939645E-2,1.1078532235939645E-2,1.1078532235939645E-2,1.1078532235939645E-2,-8.9214677640603555E-3,-8.9214677640603555E-3,{"$f":"IF(Q$80<$E87,$G87,$U87)","v":-8.9214677640603555E-3},-8.9214677640603555E-3,-8.9214677640603555E-3,-8.9214677640603555E-3,{"$f":"IF($D$36=0,-C87*$E87/$D$2,G87-C87)","v":-8.9214677640603555E-3},null,"x",null,{"$f":"$G$80","v":0},{"$f":"$H$80","v":0.9},{"$f":"$I$80","v":1.8},{"$f":"$J$80","v":2},{"$f":"$K$80","v":2.7},{"$f":"$L$80","v":3.6},{"$f":"$M$80","v":4.5},{"$f":"$N$80","v":4.5000099999999996},{"$f":"$O$80","v":5.5},{"$f":"$P$80","v":6.3},{"$f":"$Q$80","v":7.2},{"$f":"$R$80","v":8.1},{"$f":"$S$80","v":9},{"$f":"$T$80","v":9},{"$f":"$U$80","v":9}]
[null,null,{"$f":"C19","v":1E-3},"(MN)",{"$f":"E19","v":2},"(m)",{"$f":"IF($D$36=0,C88*($D$2-E88)/$D$2,IF(E88<$D$2,C88*($D$2-E88)*(3-(($D$2-E88)/$D$2)^2)/(2*$D$2),-1.5*C88*(E88-$D$2)/$D$2))","v":9.314128943758574E-4},9.314128943758574E-4,9.314128943758574E-4,-6.8587105624142624E-5,-6.8587105624142624E-5,-6.8587105624142624E-5,-6.8587105624142624E-5,-6.8587105624142624E-5,-6.8587105624142624E-5,-6.8587105624142624E-5,-6.8587105624142624E-5,-6.8587105624142624E-5,-6.8587105624142624E-5,-6.8587105624142624E-5,{"$f":"IF($D$36=0,-C88*$E88/$D$2,G88-C88)","v":-6.8587105624142624E-5},null,"p_1",null,{"$f":"X81","v":6.0000000000000001E-3},{"$f":"IF(AND(Z87>=$X$79,Y87>=$X$79),0,$Y88+($X$82-$X$81)*Z87/$X$79)","v":5.4000000000000003E-3},4.8000000000000004E-3,4.6666666666666671E-3,4.1999999999999997E-3,3.5999999999999999E-3,3.0000000000000001E-3,0,0,0,0,0,0,0,0]
[null,null,{"$f":"C20","v":0.01},"(MN)",{"$f":"E20","v":10},"(m)",{"$f":"IF($D$36=0,C89*($D$2-E89)/$D$2,IF(E89<$D$2,C89*($D$2-E89)*(3-(($D$2-E89)/$D$2)^2)/(2*$D$2),-1.5*C89*(E89-$D$2)/$D$2))","v":-1.6666666666666666E-3},-1.6666666666666666E-3,-1.6666666666666666E-3,-1.6666666666666666E-3,-1.6666666666666666E-3,-1.6666666666666666E-3,-1.6666666666666666E-3,-1.6666666666666666E-3,-1.6666666666666666E-3,-1.6666666666666666E-3,-1.6666666666666666E-3,-1.6666666666666666E-3,-1.6666666666666666E-3,-1.6666666666666666E-3,{"$f":"IF($D$36=0,-C89*$E89/$D$2,G89-C89)","v":-1.1666666666666667E-2},null,"p_2",null,{"$f":"IF(AND(Y87<=$X$79,Z87<=$X$79),0,Z89-($X$84-$X$83)*(Z87-Y87)/($X$78-$X$79))","v":0},0,0,0,0,0,3.0000000000000001E-3,3.0000000000000001E-3,3.0000000000000001E-3,3.0000000000000001E-3,3.0000000000000001E-3,3.0000000000000001E-3,3.0000000000000001E-3,3.0000000000000001E-3,{"$f":"X84","v":3.0000000000000001E-3}]
[null,"Moment, Na","M",null,"x",null,null,null,null,null,null,null,null,null,null,null,null,null,null,null,null,null,"Q_0",null,{"$f":"0.5*(X82+X81)*X79+0.5*(X83+X84)*(X78-X79)-Z86","v":1.9125000000000003E-2},{"$f":"IF(Z87>$X$79,Y90-0.5*(Y89+Z89)*(Z87-Y87),Y90-0.5*(Y88+Z88)*(Z87-Y87))","v":1.3995000000000004E-2},9.4050000000000036E-3,8.4583333333333368E-3,5.3550000000000021E-3,1.8450000000000025E-3,-1.1249999999999971E-3,-1.1250299999999961E-3,-4.1249999999999967E-3,-6.5249999999999961E-3,-9.2249999999999971E-3,-1.1924999999999995E-2,-1.4624999999999996E-2,-1.4624999999999996E-2,-1.4624999999999996E-2]
[null,null,{"$f":"$D$4*$D$8","v":8.0500000000000002E-2},"(MN)",{"$f":"D6","v":4.5},"(m)",{"$f":"IF($D$36=0,(C91-D4*D9)/$D$2,3*C91*(0.5*E91^2+E91*($D$2-E91))/$D$2^3)","v":1.00625E-2},{"$f":"G91","v":1.00625E-2},{"$f":"H91","v":1.00625E-2},1.00625E-2,1.00625E-2,1.00625E-2,1.00625E-2,1.00625E-2,1.00625E-2,1.00625E-2,{"$f":"P91","v":1.00625E-2},{"$f":"Q91","v":1.00625E-2},{"$f":"R91","v":1.00625E-2},{"$f":"S91","v":1.00625E-2},{"$f":"P91","v":1.00625E-2},null,"M_0",null,0,{"$f":"Y91-$Y91*(Z$87-Y$87)/$X$78+Y$90*(Z$87-Y$87)-IF(Z$87>$X$79,Y$89*(Z$87-Y$87)^2/2+(Z$89-Y$89)*(Z$87-Y$87)^2/6,0)-IF(Z$87<=$X$79,Y$88*(Z$87-Y$87)^2/2+(Z$88-Y$88)*(Z$87-Y$87)^2/3,0)","v":1.4944500000000001E-2},2.5515000000000006E-2,2.7301777777777786E-2,3.215550000000001E-2,3.5436000000000016E-2,3.580050000000002E-2,3.5800488749850021E-2,3.3175500000000024E-2,2.8915500000000028E-2,2.1828000000000028E-2,1.2310500000000037E-2,3.6300000000003669E-4,3.6300000000003669E-4,3.6300000000003669E-4]
[null,"Excentriciteter, N10","e_0",null,"e_10",null,null,null,null,null,null,null,null,null,null,null,null,null,null,null,null,null,"k",null,{"$f":"Y91/$X$85","v":0},1.49445E-4,2.5515000000000005E-4,2.7301777777777786E-4,3.2155500000000012E-4,3.5436000000000018E-4,3.5800500000000022E-4,3.5800488749850018E-4,3.3175500000000025E-4,2.891550000000003E-4,2.1828000000000028E-4,1.2310500000000036E-4,3.6300000000003667E-6,3.6300000000003667E-6,3.6300000000003667E-6]
[null,null,{"$f":"D9","v":0.02},"m",{"$f":"D7","v":0.115},"m",{"$f":"IF($D$36=0,(E93-C93)*$D$3/$D$2,0.5*3*E93*$D$3/$D$2)","v":9.5833333333333343E-3},{"$f":"G93","v":9.5833333333333343E-3},{"$f":"H93","v":9.5833333333333343E-3},9.5833333333333343E-3,9.5833333333333343E-3,9.5833333333333343E-3,9.5833333333333343E-3,9.5833333333333343E-3,9.5833333333333343E-3,9.5833333333333343E-3,{"$f":"P93","v":9.5833333333333343E-3},{"$f":"Q93","v":9.5833333333333343E-3},{"$f":"R93","v":9.5833333333333343E-3},{"$f":"S93","v":9.5833333333333343E-3},{"$f":"P93","v":9.5833333333333343E-3},null,"a",null,0,{"$f":"Y93+0.5*(Z92+Y92)*(Z$87-Y$87)","v":6.7250249999999999E-5},2.49318E-4,3.021347777777778E-4,5.1023525000000014E-4,8.1439700000000023E-4,1.1349612500000004E-3,1.1349648300494378E-3,1.4798413249992506E-3,1.7282053249992506E-3,1.9565510749992511E-3,2.1101743249992513E-3,2.1672050749992518E-3,2.1672050749992518E-3,2.1672050749992518E-3]
[null,"Forskydning i alt",null,null,null,null,{"$f":"SUM(G84:G93)","v":5.3234694624521961E-2},{"$f":"SUM(H84:H93)","v":4.8104694624521958E-2},4.3514694624521955E-2,4.1568027957855289E-2,3.8464694624521956E-2,3.4954694624521949E-2,3.1984694624521956E-2,3.1984664624521958E-2,8.9846946245219564E-3,6.584694624521957E-3,{"$f":"SUM(Q84:Q93)","v":3.884694624521956E-3},{"$f":"SUM(R84:R93)","v":1.1846946245219585E-3},{"$f":"SUM(S84:S93)","v":-1.5153053754780425E-3},{"$f":"SUM(T84:T93)","v":-1.5153053754780425E-3},{"$f":"SUM(U84:U93)","v":-1.1515305375478039E-2},null,"u",null,0,3.0262612500000001E-5,1.7271832500000001E-4,2.2786360277777778E-4,5.1219311250000007E-4,1.1082776250000001E-3,1.9854888375000004E-3,1.9855001871304004E-3,3.2928901906239699E-3,4.5761088506233701E-3,6.234249230622697E-3,8.0642756606220216E-3,9.9890963906213489E-3,9.9890963906213489E-3,9.9890963906213489E-3]
[null,"Udgangsreaktioner, R0",null,null,null,null,{"$f":"G94","v":5.3234694624521961E-2},null,null,null,null,null,null,null,null,null,null,null,null,null,{"$f":"-U94","v":1.1515305375478039E-2},null,"a",null,{"$f":"-AM94/$X$78","v":-1.1098995989579277E-3},{"$f":"Y95+0.5*(Z92+Y92)*(Z$87-Y$87)","v":-1.0426493489579278E-3},-8.6058159895792776E-4,-8.0776482118015002E-4,-5.9966434895792763E-4,-2.9550259895792753E-4,2.5061651042072625E-5,2.506523109150998E-5,3.6994172604132281E-4,6.1830572604132297E-4,8.4665147604132325E-4,1.0002747260413234E-3,1.0573054760413237E-3,1.0573054760413237E-3,1.0573054760413237E-3]
[null,null,null,null,null,null,null,null,null,null,null,null,null,null,null,null,null,null,null,null,null,null,"u",null,0,{"$f":"Y96+0.5*(Z95+Y95)*(Z$87-Y$87)","v":-9.6864702656213498E-4},-1.8251009531242701E-3,-1.9919355951380779E-3,-2.4845358046864051E-3,-2.8873609312485399E-3,-3.0090593578106744E-3,-3.0090591071762636E-3,-2.8115576036446327E-3,-2.4162586228115746E-3,-1.7570278818743834E-3,-9.2591109093719285E-4,-1.1926223897340549E-18,-1.1926223897340549E-18,-1.1926223897340549E-18]
[null,"Snitmomenter","p0",null,"p10",null,null,null,null,null,null,null,null,null,null,null,null,null,null,null,null,null,"M_1",null,{"$f":"-MAX(Y91:AM91)*X86","v":-3.580050000000002E-2},{"$f":"Y97-$Y97*(Z$87-Y$87)/$X$78+Y$90*(Z$87-Y$87)-IF(Z$87>$X$79,Y$89*(Z$87-Y$87)^2/2+(Z$89-Y$89)*(Z$87-Y$87)^2/6,0)-IF(Z$87<=$X$79,Y$88*(Z$87-Y$87)^2/2+(Z$88-Y$88)*(Z$87-Y$87)^2/3,0)","v":-1.7275950000000016E-2},-3.1254000000000104E-3,-5.4305555555556539E-4,7.0951499999999954E-3,1.3955699999999998E-2,1.7900250000000003E-2,1.7900278528183333E-2,1.9253083333333341E-2,1.817535000000001E-2,1.4667900000000015E-2,8.7304500000000215E-3,3.6300000000002454E-4,3.6300000000002454E-4,3.6300000000002454E-4]
[null,"Jævnt fordelt last",{"$f":"C84","v":3.0000000000000001E-3},"(MN/m)",{"$f":"E84","v":3.0000000000000001E-3},"(MN/m)",{"$f":"Y109","v":-3.7085245447858052E-2},{"$f":"Z109","v":-1.8432220903072245E-2},-4.1531963582864366E-3,-1.5423020150007018E-3,6.1958281864993728E-3,1.3184852731285179E-2,1.7257877276070987E-2,1.7257907231749258E-2,1.8753460103610772E-2,1.7789926365642601E-2,1.4410950910428409E-2,8.6019754552142183E-3,3.6300000000002454E-4,3.6300000000002454E-4,3.6300000000002454E-4,null,"k",null,{"$f":"Y97/$X$85","v":-3.5800500000000022E-4},-1.7275950000000015E-4,-3.1254000000000104E-5,-5.4305555555556536E-6,7.0951499999999959E-5,1.3955699999999998E-4,1.7900250000000003E-4,1.7900278528183331E-4,1.9253083333333341E-4,1.8175350000000011E-4,1.4667900000000015E-4,8.7304500000000214E-5,3.6300000000002456E-6,3.6300000000002456E-6,3.6300000000002456E-6]
[null,"Trekantlast",{"$f":"C85","v":3.0000000000000001E-3},"(MN/m)",{"$f":"E85","v":0},"(MN/m)",null,null,null,null,null,null,null,null,null,null,null,null,null,null,null,null,"a",null,0,{"$f":"Y99+0.5*(Z98+Y98)*(Z$87-Y$87)","v":-2.3884402500000016E-4},-3.3065010000000029E-4,-3.3431855555555588E-4,-3.1138622500000038E-4,-2.1665740000000042E-4,-7.330562500000042E-5,-7.3303834973574073E-5,1.124611166659163E-4,2.621748499992497E-4,4.0996947499924983E-4,5.1526204999924991E-4,5.5618257499925015E-4,5.5618257499925015E-4,5.5618257499925015E-4]
[null,null,"P",null,"x",null,null,null,null,null,null,null,null,null,null,null,null,null,null,null,null,null,"u",null,0,-1.0747981125000007E-4,-3.6375216750000026E-4,-4.3024903305555586E-4,-6.5624570625000061E-4,-8.9386533750000102E-4,-1.0243486987500014E-3,-1.0243494317973014E-3,-1.0047709867375388E-3,-8.5491660007147238E-4,-5.5245165382214749E-4,-1.3609746757282286E-4,3.4605261367650231E-4,3.4605261367650231E-4,3.4605261367650231E-4]
[null,"Punktlast",{"$f":"C87","v":0.02},"(MN)",{"$f":"E18","v":5.5},"(m)",{"$f":"IF($D$36=0,0,IF(E101<$D$2,-0.5*C101*($D$2-E101)*(1-(($D$2-E101)/$D$2)^2),0.5*C101*(E101-$D$2)))","v":-2.9706790123456794E-2},{"$f":"IF(H$80<$E101,G101+G87*(H$80-G$80),G101+G87*(H$80-G$80)-IF(AND($E101>G$80,$E101<H$80),$C101*(H$80-$E101),0))","v":-1.9736111111111114E-2},{"$f":"IF(I$80<$E101,H101+H87*(I$80-H$80),H101+H87*(I$80-H$80)-IF(AND($E101>H$80,$E101<I$80),$C101*(I$80-$E101),0))","v":-9.7654320987654326E-3},{"$f":"IF(J$80<$E101,I101+I87*(J$80-I$80),I101+I87*(J$80-I$80)-IF(AND($E101>I$80,$E101<J$80),$C101*(J$80-$E101),0))","v":-7.5497256515775039E-3},{"$f":"IF(K$80<$E101,J101+J87*(K$80-J$80),J101+J87*(K$80-J$80)-IF(AND($E101>J$80,$E101<K$80),$C101*(K$80-$E101),0))","v":2.0524691358024972E-4},{"$f":"IF(L$80<$E101,K101+K87*(L$80-K$80),K101+K87*(L$80-K$80)-IF(AND($E101>K$80,$E101<L$80),$C101*(L$80-$E101),0))","v":1.0175925925925929E-2},2.0146604938271608E-2,2.0146715723593965E-2,3.1225137174211257E-2,2.4087962962962974E-2,1.6058641975308652E-2,8.0293209876543363E-3,1.3877787807814457E-17,1.3877787807814457E-17,{"$f":"IF(U$80<$E101,P101+P87*(U$80-P$80),P101+P87*(U$80-P$80)-IF(AND($E101>P$80,$E101<U$80),$C101*(U$80-$E101),0))","v":1.3877787807814457E-17},null,"a",null,{"$f":"-AM100/$X$78","v":-3.8450290408500259E-5},{"$f":"Y101+0.5*(Z98+Y98)*(Z$87-Y$87)","v":-2.772943154085004E-4},-3.6910039040850053E-4,-3.7276884596405612E-4,-3.4983651540850062E-4,-2.5510769040850063E-4,-1.1175591540850063E-4,-1.1175412538207429E-4,7.4010826257416088E-5,2.2372455959074946E-4,3.7151918459074965E-4,4.7681175959074973E-4,5.1773228459074997E-4,5.1773228459074997E-4,5.1773228459074997E-4]
[null,null,{"$f":"C88","v":1E-3},"(MN)",{"$f":"E88","v":2},"(m)",{"$f":"IF($D$36=0,0,IF(E102<$D$2,-0.5*C102*($D$2-E102)*(1-(($D$2-E102)/$D$2)^2),0.5*C102*(E102-$D$2)))","v":-1.382716049382716E-3},{"$f":"IF(H$80<$E102,G102+G88*(H$80-G$80),G102+G88*(H$80-G$80)-IF(AND($E102>G$80,$E102<H$80),$C102*(H$80-$E102),0))","v":-5.4444444444444429E-4},2.9382716049382741E-4,4.8010973936899885E-4,4.3209876543209901E-4,3.7037037037037062E-4,3.0864197530864224E-4,3.08641289437586E-4,2.4005486968449959E-4,1.851851851851855E-4,1.2345679012345712E-4,6.172839506172879E-5,4.0657581468206416E-19,4.0657581468206416E-19,{"$f":"IF(U$80<$E102,P102+P88*(U$80-P$80),P102+P88*(U$80-P$80)-IF(AND($E102>P$80,$E102<U$80),$C102*(U$80-$E102),0))","v":4.0657581468206416E-19},null,"u",null,0,{"$f":"Y102+0.5*(Z101+Y101)*(Z$87-Y$87)","v":-1.420850726176503E-4},-4.3296269023530078E-4,-5.0714961387255644E-4,-7.6006149035295141E-4,-1.0322863829706019E-3,-1.1973750055882526E-3,-1.1973761231384565E-3,-1.2162475839842899E-3,-1.0971534296450238E-3,-8.2929374476334913E-4,-4.4754481988167462E-4,0,0,0]
[null,null,{"$f":"C89","v":0.01},"(MN)",{"$f":"E89","v":10},"(m)",{"$f":"IF($D$36=0,0,IF(E103<$D$2,-0.5*C103*($D$2-E103)*(1-(($D$2-E103)/$D$2)^2),0.5*C103*(E103-$D$2)))","v":5.0000000000000001E-3},{"$f":"IF(H$80<$E103,G103+G89*(H$80-G$80),G103+G89*(H$80-G$80)-IF(AND($E103>G$80,$E103<H$80),$C103*(H$80-$E103),0))","v":3.5000000000000001E-3},2E-3,1.6666666666666668E-3,4.9999999999999979E-4,{"$f":"IF(L$80<$E103,K103+K89*(L$80-K$80),K103+K89*(L$80-K$80)-IF(AND($E103>K$80,$E103<L$80),$C103*(L$80-$E103),0))","v":-1E-3},-2.4999999999999996E-3,-2.5000166666666658E-3,-4.1666666666666657E-3,-5.4999999999999988E-3,-6.9999999999999993E-3,-8.4999999999999989E-3,-9.9999999999999985E-3,-9.9999999999999985E-3,{"$f":"IF(U$80<$E103,P103+P89*(U$80-P$80),P103+P89*(U$80-P$80)-IF(AND($E103>P$80,$E103<U$80),$C103*(U$80-$E103),0))","v":-9.9999999999999985E-3},null,"M_2",null,{"$f":"IF($X$86=0,0,IF(Y101=Y95,Y97,Y97-(Y97-Y91)*Y101/(Y101-Y95)))","v":-3.7085245447858052E-2},{"$f":"Y103-$Y103*(Z$87-Y$87)/$X$78+Y$90*(Z$87-Y$87)-IF(Z$87>$X$79,Y$89*(Z$87-Y$87)^2/2+(Z$89-Y$89)*(Z$87-Y$87)^2/6,0)-IF(Z$87<=$X$79,Y$88*(Z$87-Y$87)^2/2+(Z$88-Y$88)*(Z$87-Y$87)^2/3,0)","v":-1.8432220903072245E-2},-4.1531963582864366E-3,-1.5423020150007018E-3,6.1958281864993728E-3,1.3184852731285179E-2,1.7257877276070987E-2,1.7257907231749258E-2,1.8753460103610772E-2,1.7789926365642601E-2,1.4410950910428409E-2,8.6019754552142183E-3,3.6300000000002454E-4,3.6300000000002454E-4,3.6300000000002454E-4]
[null,"Moment, Na","M",null,"a",null,null,null,null,null,null,null,null,null,null,null,null,null,null,null,null,null,"k",null,{"$f":"Y103/$X$85","v":-3.7085245447858049E-4},-1.8432220903072245E-4,-4.1531963582864364E-5,-1.5423020150007017E-5,6.1958281864993726E-5,1.3184852731285178E-4,1.7257877276070986E-4,1.7257907231749259E-4,1.8753460103610774E-4,1.7789926365642601E-4,1.4410950910428408E-4,8.6019754552142181E-5,3.6300000000002456E-6,3.6300000000002456E-6,3.6300000000002456E-6]
[null,null,{"$f":"C91","v":8.0500000000000002E-2},"(MNm)",{"$f":"E91","v":4.5},"(m)",{"$f":"IF(D36=0,-$U$91*($D$2-G$80)+IF($E105>=G$80,$C105,0),C105*($D$2^2-3*(0.5*E105^2+E105*($D$2-E105)))/$D$2^2)","v":-1.00625E-2},{"$f":"G105+$G$91*(H$80-G$80)-IF($T$2+0.00001=H$80,$C105,0)","v":-1.0062500000000002E-3},{"$f":"H105+$G$91*(I$80-H$80)-IF($T$2+0.00001=I$80,$C105,0)","v":8.0499999999999999E-3},1.0062499999999999E-2,1.710625E-2,2.6162499999999998E-2,3.521875E-2,-4.5281149375000003E-2,-3.521875E-2,-2.7168750000000002E-2,-1.8112499999999997E-2,-9.0562500000000018E-3,1.7347234759768071E-18,1.7347234759768071E-18,1.7347234759768071E-18,null,"a",null,0,{"$f":"Y105+0.5*(Z104+Y104)*(Z$87-Y$87)","v":-2.4982859857918633E-4},-3.5146297625530043E-4,-3.5715847462858757E-4,-3.4087113302834222E-4,-2.5365806889831178E-4,-1.1666578386520908E-4,-1.1666405807598375E-4,6.339097803244972E-5,2.095645239094632E-4,3.5446847165178277E-4,4.5802664029717454E-4,4.9836902984563868E-4,4.9836902984563868E-4,4.9836902984563868E-4]
[null,null,null,null,null,null,null,null,null,null,null,null,null,null,null,null,null,null,null,null,null,null,"u",null,0,-1.1242286936063386E-4,-3.8300407803615295E-4,-4.5386622312454172E-4,-6.9817658580446722E-4,-9.6571472667146151E-4,-1.1323604604150459E-3,-1.1323616270642557E-3,-1.1589979007206226E-3,-1.0498156999438574E-3,-7.9600085194129664E-4,-4.3037805156426602E-4,0,0,0]
[null,"Moment pga. termisk krumning",null,null,null,null,null,null,null,null,null,null,null,null,null,null,null,null,null,null,null,null,"a",null,{"$f":"-AM106/$X$78","v":0},{"$f":"Y107+0.5*(Z104+Y104)*(Z$87-Y$87)","v":-2.4982859857918633E-4},-3.5146297625530043E-4,-3.5715847462858757E-4,-3.4087113302834222E-4,-2.5365806889831178E-4,-1.1666578386520908E-4,-1.1666405807598375E-4,6.339097803244972E-5,2.095645239094632E-4,3.5446847165178277E-4,4.5802664029717454E-4,4.9836902984563868E-4,4.9836902984563868E-4,4.9836902984563868E-4]
[null,"Momenter fra tværlast, i alt",null,null,null,null,{"$f":"IF(ABS(SUM(G98:G106))<0.000001*Stivheder!$C$6^2*Stivheder!$D$6*Stivheder!$F$6,0,SUM(G98:G106))","v":-7.3237251620697552E-2},{"$f":"IF(ABS(SUM(H98:H106))<0.000001*Stivheder!$C$6^2*Stivheder!$D$6*Stivheder!$F$6,0,SUM(H98:H106))","v":-3.6219026458627804E-2},{"$f":"IF(ABS(SUM(I98:I106))<0.000001*Stivheder!$C$6^2*Stivheder!$D$6*Stivheder!$F$6,0,SUM(I98:I106))","v":-3.574801296558041E-3},{"$f":"IF(ABS(SUM(J98:J106))<0.000001*Stivheder!$C$6^2*Stivheder!$D$6*Stivheder!$F$6,0,SUM(J98:J106))","v":3.1172487394574601E-3},{"$f":"IF(ABS(SUM(K98:K106))<0.000001*Stivheder!$C$6^2*Stivheder!$D$6*Stivheder!$F$6,0,SUM(K98:K106))","v":2.443942386551172E-2},{"$f":"IF(ABS(SUM(L98:L106))<0.000001*Stivheder!$C$6^2*Stivheder!$D$6*Stivheder!$F$6,0,SUM(L98:L106))","v":4.8893649027581476E-2},{"$f":"IF(ABS(SUM(M98:M106))<0.000001*Stivheder!$C$6^2*Stivheder!$D$6*Stivheder!$F$6,0,SUM(M98:M106))","v":7.0431874189651245E-2},{"$f":"IF(ABS(SUM(N98:N106))<0.000001*Stivheder!$C$6^2*Stivheder!$D$6*Stivheder!$F$6,0,SUM(N98:N106))","v":-1.0067901796885867E-2},{"$f":"IF(ABS(SUM(O98:O106))<0.000001*Stivheder!$C$6^2*Stivheder!$D$6*Stivheder!$F$6,0,SUM(O98:O106))","v":1.0833235480839865E-2},{"$f":"IF(ABS(SUM(P98:P106))<0.000001*Stivheder!$C$6^2*Stivheder!$D$6*Stivheder!$F$6,0,SUM(P98:P106))","v":9.394324513790759E-3},{"$f":"IF(ABS(SUM(Q98:Q106))<0.000001*Stivheder!$C$6^2*Stivheder!$D$6*Stivheder!$F$6,0,SUM(Q98:Q106))","v":5.4805496758605216E-3},{"$f":"IF(ABS(SUM(R98:R106))<0.000001*Stivheder!$C$6^2*Stivheder!$D$6*Stivheder!$F$6,0,SUM(R98:R106))","v":-8.6322516206971574E-4},{"$f":"IF(ABS(SUM(S98:S106))<0.000001*Stivheder!$C$6^2*Stivheder!$D$6*Stivheder!$F$6,0,SUM(S98:S106))","v":-9.6369999999999581E-3},{"$f":"IF(ABS(SUM(T98:T106))<0.000001*Stivheder!$C$6^2*Stivheder!$D$6*Stivheder!$F$6,0,SUM(T98:T106))","v":-9.6369999999999581E-3},{"$f":"IF(ABS(SUM(U98:U106))<0.000001*Stivheder!$C$6^2*Stivheder!$D$6*Stivheder!$F$6,0,SUM(U98:U106))","v":-9.6369999999999581E-3},null,"u",null,0,{"$f":"Y108+0.5*(Z107+Y107)*(Z$87-Y$87)","v":-1.1242286936063386E-4},-3.8300407803615295E-4,-4.5386622312454172E-4,-6.9817658580446722E-4,-9.6571472667146151E-4,-1.1323604604150459E-3,-1.1323616270642557E-3,-1.1589979007206226E-3,-1.0498156999438574E-3,-7.9600085194129664E-4,-4.3037805156426602E-4,0,0,0]
[null,"Momenter fra excentriciteter",{"$f":"$D$3*$D$7","v":5.7500000000000002E-2},null,{"$f":"$D$2","v":9},null,{"$f":"IF($D$36=0,$D$3*G$81,C109*($D$2^2-3*(0.5*E109^2+E109*($D$2-E109)))/$D$2^2)","v":-2.8750000000000005E-2},{"$f":"G109+$G$93*(H$80-G$80)","v":-2.0125000000000004E-2},{"$f":"H109+$G$93*(I$80-H$80)","v":-1.1500000000000003E-2},{"$f":"I109+$G$93*(J$80-I$80)","v":-9.5833333333333361E-3},-2.875E-3,5.7500000000000008E-3,1.4375000000000002E-2,{"$f":"M109+$G$93*(N$80-M$80)","v":1.4375095833333332E-2},2.3958333333333338E-2,{"$f":"O109+$G$93*(P$80-O$80)","v":3.1625E-2},{"$f":"P109+$G$93*(Q$80-P$80)","v":4.0250000000000008E-2},{"$f":"Q109+$G$93*(R$80-Q$80)","v":4.8875000000000002E-2},{"$f":"R109+$G$93*(S$80-R$80)","v":5.7500000000000009E-2},{"$f":"S109+$G$93*(T$80-S$80)","v":5.7500000000000009E-2},{"$f":"P109+$G$93*(U$80-P$80)","v":5.7500000000000009E-2},null,"M_3",null,{"$f":"IF($X$86=0,0,IF(Y107=Y101,Y103,Y103-(Y103-Y97)*Y107/(Y107-Y101)))","v":-3.7085245447858052E-2},{"$f":"Y109-$Y109*(Z$87-Y$87)/$X$78+Y$90*(Z$87-Y$87)-IF(Z$87>$X$79,Y$89*(Z$87-Y$87)^2/2+(Z$89-Y$89)*(Z$87-Y$87)^2/6,0)-IF(Z$87<=$X$79,Y$88*(Z$87-Y$87)^2/2+(Z$88-Y$88)*(Z$87-Y$87)^2/3,0)","v":-1.8432220903072245E-2},-4.1531963582864366E-3,-1.5423020150007018E-3,6.1958281864993728E-3,1.3184852731285179E-2,1.7257877276070987E-2,1.7257907231749258E-2,1.8753460103610772E-2,1.7789926365642601E-2,1.4410950910428409E-2,8.6019754552142183E-3,3.6300000000002454E-4,3.6300000000002454E-4,3.6300000000002454E-4]
[null,null,null,null,null,null,{"$f":"SUM(G108:G109)","v":-0.10198725162069755},{"$f":"SUM(H108:H109)","v":-5.6344026458627808E-2},-1.5074801296558044E-2,-6.466084593875876E-3,2.1564423865511721E-2,5.4643649027581474E-2,8.4806874189651243E-2,4.3071940364474651E-3,3.4791568814173203E-2,4.1019324513790756E-2,4.573054967586053E-2,4.8011774837930288E-2,4.7863000000000051E-2,4.7863000000000051E-2,4.7863000000000051E-2]
[null,null,null,null,{"$f":"IF($C$34=1,$D$34-G112,($G$119-$G$112)*$U$116/($U$116-$U$122))","v":1.8385641448116137E-3},null,{"$f":"$E$111*($D$2-G$80)/$D$2","v":1.8385641448116139E-3},{"$f":"$E$111*($D$2-H$80)/$D$2","v":1.6547077303304522E-3},1.470851315849291E-3,1.4299943348534774E-3,1.2869949013681295E-3,1.1031384868869683E-3,9.1928207240580693E-4,9.1928002955675707E-4,7.1499716742673869E-4,5.5156924344348414E-4,3.6771282896232269E-4,1.8385641448116142E-4,0,0,0,null,"V",null,{"$f":"Y90-$Y$109/$X$78","v":2.3245582827539787E-2},{"$f":"Z90-$Y$109/$X$78","v":1.8115582827539788E-2},1.3525582827539788E-2,1.2578916160873119E-2,9.4755828275397865E-3,5.9655828275397855E-3,2.9955828275397864E-3,2.9955528275397874E-3,-4.4171724602132603E-6,-2.4044171724602126E-3,-5.1044171724602136E-3,-7.8044171724602112E-3,-1.0504417172460211E-2,-1.0504417172460211E-2,-1.0504417172460211E-2]
[null,"Udgangsmoment, M0",null,null,{"$f":"IF(ABS(Y249)>ABS(D34),D34-Y249,0)","v":0},null,{"$f":"Y249+$E$112*($D$2-G$80)/$D$2","v":-0.10763569873471363},-6.0329955177823094E-2,-1.6336165519241868E-2,-7.043028841757267E-3,2.3357545306892581E-2,5.9070747631086183E-2,8.6766661274285464E-2,6.2669918500133657E-3,3.7725943124089431E-2,4.4537101077624396E-2,4.9616436978581598E-2,5.1955679558217081E-2,5.1553470366011121E-2,5.1553470366011121E-2,5.1553470366011121E-2,null,"Tværlast i alt, M",null,{"$f":"SUM(G98:G103)","v":-6.317475162069755E-2},{"$f":"SUM(H98:H103)","v":-3.5212776458627804E-2},-1.1624801296558041E-2,-6.9452512605425384E-3,7.3331738655117214E-3,2.2731149027581478E-2,3.5213124189651238E-2,3.5213247578114136E-2,4.6051985480839865E-2,3.6563074513790761E-2,2.3593049675860518E-2,8.1930248379302861E-3,-9.6369999999999598E-3,-9.6369999999999598E-3,-9.6369999999999598E-3]
[null,"EI",null,null,null,null,{"$f":"G56","v":44.340862772404321},{"$f":"H56","v":44.340862772404321},44.340862772404321,44.340862772404321,45.096559808647307,45.096559808647307,45.096559808647307,52.658324508357552,52.658324508357552,52.658324508357552,52.658324508357552,52.658324508357552,52.658324508357552,52.658324508357552,52.658324508357552]
[null,"h''",null,null,null,null,{"$f":"Y$248+(G112-G$59)/G113","v":-2.4274606312284265E-3},-1.3605949773122059E-3,-3.6842236478557499E-4,-1.588383355982085E-4,5.1794516934335533E-4,1.3098725907637707E-3,1.9240195181728225E-3,1.1901236715229543E-4,7.1642885481671261E-4,8.457751266004634E-4,9.4223349188990685E-4,9.8665652664226043E-4,9.7901843340702805E-4,9.7901843340702805E-4,9.7901843340702805E-4,null,"Brand - behandling af transiente tøjninger : optræder kun ved spændingsniveauer i elastisk område"]
[null,"a''",null,null,null,null,0,{"$f":"G115+0.5*(G114+H114)*(H$80-G$80)","v":-1.7046250238432845E-3},{"$f":"H115+0.5*(H114+I114)*(I$80-H$80)","v":-2.4826828277872857E-3},-2.5354088978256639E-3,-2.4097215060148625E-3,-1.5872035139666558E-3,-1.3195206494518905E-4,-1.3194184978576281E-4,2.8577458399263147E-4,{"$f":"O115+0.5*(O114+P114)*(P$80-O$80)","v":9.1065617655950175E-4},1.7152600548801687E-3,2.5832605632196432E-3,3.4678142952418232E-3,3.4678142952418232E-3,3.4678142952418232E-3]
[null,"u''",null,null,null,null,0,{"$f":"G116-0.5*(G115+H115)*(H$80-G$80)","v":7.6708126072947802E-4},{"$f":"H116-0.5*(H115+I115)*(I$80-H$80)","v":2.6513697939632348E-3},3.1531789665245297E-3,4.8839746078687147E-3,6.6825908668603981E-3,{"$f":"L116-0.5*(L115+M115)*(M$80-L$80)","v":7.4562108773707286E-3},7.4562121968403021E-3,7.379296598900539E-3,6.9007242946796856E-3,{"$f":"P116-0.5*(P115+Q115)*(Q$80-P$80)","v":5.7190619905318337E-3},{"$f":"Q116-0.5*(Q115+R115)*(R$80-Q$80)","v":3.7847277123869193E-3},{"$f":"R116-0.5*(R115+S115)*(S$80-R$80)","v":1.061744026079258E-3},{"$f":"S116-0.5*(S115+T115)*(T$80-S$80)","v":1.061744026079258E-3},{"$f":"T116-0.5*(T115+U115)*(U$80-T$80)","v":1.061744026079258E-3},null,"Tværsnitskonstanter",null,null,null,null,null,null,null,"Termiske tøjninger før transient virkning, overside"]
[null,"a'",null,null,0,null,{"$f":"G115+U116/$D$2","v":1.1797155845325089E-4},{"$f":"G117+0.5*(G114+H114)*(H$80-G$80)","v":-1.5866534653900337E-3},{"$f":"H117+0.5*(H114+I114)*(I$80-H$80)","v":-2.3647112693340354E-3},{"$f":"I117+0.5*(I114+J114)*(J$80-I$80)","v":-2.4174373393724136E-3},-2.2917499475616121E-3,-1.4692319555134055E-3,-1.3980506491938693E-5,-1.3970291332512454E-5,4.0374614244588182E-4,1.0286277350127521E-3,{"$f":"P117+0.5*(P114+Q114)*(Q$80-P$80)","v":1.833231613333419E-3},{"$f":"Q117+0.5*(Q114+R114)*(R$80-Q$80)","v":2.7012321216728936E-3},{"$f":"R117+0.5*(R114+S114)*(S$80-R$80)","v":3.5857858536950736E-3},{"$f":"S117+0.5*(S114+T114)*(T$80-S$80)","v":3.5857858536950736E-3},{"$f":"T117+0.5*(T114+U114)*(U$80-T$80)","v":3.5857858536950736E-3},null,"a",{"$f":"Stivheder!Q6*200000/Stivheder!U2","v":45.266537671676765},null,"h",{"$f":"Stivheder!C6","v":0.54},"m",null,null,"eQ_urev",{"$f":"1.1*Firsidig!N6/100000","v":3.7766030051362798E-3}]
[null,null,{"$f":"(C119-D119)/(C120-D120)","v":44.666064924628046},null,{"$f":"SUMPRODUCT(G43:U43,G113:U113)/V43","v":46.642734799417127},null,0,{"$f":"IF($C$34=1,H116,G118-0.5*(G117+H117)*(H$80-G$80))","v":6.6090685812155239E-4},{"$f":"H118-0.5*(H117+I117)*(I$80-H$80)","v":2.4390209887473835E-3},{"$f":"I118-0.5*(I117+J117)*(J$80-I$80)","v":2.9172358496180285E-3},4.565451400044938E-3,6.2578932564286956E-3,6.9253388643311002E-3,6.925339004085089E-3,6.7304530274076594E-3,6.1575034764242056E-3,{"$f":"P118-0.5*(P117+Q117)*(Q$80-P$80)","v":4.8696667696684279E-3},{"$f":"Q118-0.5*(Q117+R117)*(R$80-Q$80)","v":2.8291580889155885E-3},{"$f":"R118-0.5*(R117+S117)*(S$80-R$80)","v":0},{"$f":"S118-0.5*(S117+T117)*(T$80-S$80)","v":0},{"$f":"T118-0.5*(T117+U117)*(U$80-T$80)","v":0},null,"A",{"$f":"Stivheder!I2","v":0.25614351898648502},"m2","b",{"$f":"Stivheder!D6","v":0.42},"m",null,null,"eQ_rev",{"$f":"MAX((1.1*Firsidig!X30/100000)*AA117/(AA117-AA120),0)","v":4.0724921603472082E-3}]
[null,"M'",{"$f":"MAX(G119:U119)","v":8.7683747293420281E-2},{"$f":"MIN(G119:U119)","v":-0.10580152669644399},{"$f":"IF(AND($D$36=0,$D$37=0),0,IF(AND($D$36=1,$D$37=0),3*$D$36*G117*$E$118/$D$2))","v":1.834172038269639E-3},null,{"$f":"IF(AND($D$36=0,D$37=0),G112,IF(AND($D$36=1,$D$37=0),G112+E119))","v":-0.10580152669644399},{"$f":"$E119*($D$2-H$80)/$D$2+H112","v":-5.8679200343380422E-2},-1.4868827888626156E-2,-5.6164505897697697E-3,2.4641465733681329E-2,6.0171250854047967E-2,8.7683747293420281E-2,7.1840758311792537E-3,{"$f":"$E119*($D$2-O$80)/$D$2+O112","v":3.843923225008318E-2},4.5087352689105284E-2,4.9983271386235525E-2,5.2139096762044049E-2,5.1553470366011121E-2,5.1553470366011121E-2,5.1553470366011121E-2,null,"h",{"$f":"Stivheder!O2","v":0},"m","Aos",{"$f":"Stivheder!T6*Stivheder!V6/200000","v":6.0318578948924026E-4},"m2",null,null,"Termiske tøjninger før transient virkning underside"]
[null,"h'",{"$f":"MAX(G120:U120)","v":1.9436814445816975E-3},{"$f":"MIN(G120:U120)","v":-2.3881367784106765E-3},null,null,{"$f":"G114+(G119-G112)/$E$118","v":-2.3881367784106765E-3},{"$f":"H114+(H119-H112)/$E$118","v":-1.3252035097762306E-3},-3.3696328253137473E-4,-1.2825311673995827E-4,5.4547186631578057E-4,1.3334669024544208E-3,1.9436814445816975E-3,1.3867424986800078E-4,7.3172146424583769E-4,8.5757228244578846E-4,9.5009826245345689E-4,9.9058891192403556E-4,9.7901843340702805E-4,9.7901843340702805E-4,9.7901843340702805E-4,null,"Io",{"$f":"Stivheder!Q2","v":6.8052891873039908E-3},"m4","aos",{"$f":"Stivheder!U6","v":0.06},"m",null,null,"eQ_urev",{"$f":"1.1*Firsidig!V12/100000","v":3.7766030051362763E-3}]
[null,"a'",{"$f":"(C119-D119)/(C120-D120)","v":44.666064924628046},null,null,null,{"$f":"G117-E119*$D$2/(3*$C$56)","v":0},{"$f":"G121+0.5*(G120+H120)*(H$80-G$80)","v":-1.6710031296841084E-3},{"$f":"H121+0.5*(H120+I120)*(I$80-H$80)","v":-2.4189781862225309E-3},-2.4654998261496642E-3,-2.3194732637981264E-3,-1.473950817851536E-3,7.6593831471716799E-7,7.7635009318902229E-7,4.3596985517153783E-4,1.0716873538481882E-3,{"$f":"P121+0.5*(P120+Q120)*(Q$80-P$80)","v":1.8851390990528489E-3},{"$f":"Q121+0.5*(Q120+R120)*(R$80-Q$80)","v":2.75844832752272E-3},{"$f":"R121+0.5*(R120+S120)*(S$80-R$80)","v":3.6447716329216992E-3},{"$f":"S121+0.5*(S120+T120)*(T$80-S$80)","v":3.6447716329216992E-3},{"$f":"T121+0.5*(T120+U120)*(U$80-T$80)","v":3.6447716329216992E-3},null,"EI_urev",{"$f":"Stivheder!S2","v":55.955848145372805},"MNm2","Aus",{"$f":"Stivheder!X6*Stivheder!Z6/200000","v":6.0318578948924026E-4},"m2",null,null,"eQ_rev",{"$f":"MAX((1.1*Firsidig!X34/100000)*AA117/(AA117-AA122),0)","v":4.0724921603472082E-3},null,{"$f":"AF121/AA117","v":7.5416521487911255E-3},{"$f":"0.125*AH121*D2^2","v":7.6359228006510141E-2}]
[null,"u",null,"Max / u_Na",{"$f":"MAX(ABS(MAX(G122:U122)),ABS(MIN(G122:U122)))","v":7.1256054157686991E-3},null,0,{"$f":"G122-0.5*(G121+H121)*(H$80-G$80)","v":7.5195140835784878E-4},{"$f":"H122-0.5*(H121+I121)*(I$80-H$80)","v":2.5924430005158363E-3},3.0808908017530556E-3,4.7556313832347822E-3,6.4626722199771303E-3,7.1256054157686991E-3,7.1256054080572574E-3,6.9072344891559206E-3,6.30417160554803E-3,4.9735997017425629E-3,2.8839853597835579E-3,2.5363775835681758E-6,2.5363775835681758E-6,2.5363775835681758E-6,null,"W+",{"$f":"X120/(0.5*Stivheder!C6+Snitkræfter!X119)","v":2.5204774767792558E-2},"m3","aus",{"$f":"Stivheder!Y6","v":0.06},"m"]
[null,"Korrigeret moment",null,null,{"$f":"G119-F123","v":-3.8142750757464428E-3},{"$f":"G$110+G122*$D$3+IF($D$6>G$80,G122*$D$4,INDEX($G122:$U122,1+$D$82)*$D$4)-INDEX($G122:$U122,1+$D$82)*$D$4*G$80/$D$2","v":-0.10198725162069755},{"$f":"G$110+$E123*($D$2-G$45)/$D$2+G122*$D$3+IF($D$6>G$80,G122*$D$4,INDEX($G122:$U122,1+$D$82)*$D$4)-INDEX($G122:$U122,1+$D$82)*$D$4*G$80/$D$2","v":-0.10580152669644399},{"$f":"H$110+$E123*($D$2-H$45)/$D$2+H122*$D$3+IF($D$6>H$80,H122*$D$4,INDEX($G122:$U122,1+$D$82)*$D$4)-INDEX($G122:$U122,1+$D$82)*$D$4*H$80/$D$2","v":-5.9373324715873997E-2},-1.6012874514743813E-2,-6.8441015331390173E-3,2.3104811835059524E-2,5.811512112969093E-2,8.8956501255181411E-2,8.4568197940677898E-3,3.8701605003586804E-2,4.4523504931152265E-2,4.8452079269790137E-2,4.9571132389351229E-2,4.7864268188791838E-2,4.7864268188791838E-2,4.7864268188791838E-2,null,"W-",{"$f":"X120/(0.5*Stivheder!C6-Snitkræfter!X119)","v":2.5204774767792558E-2},"m3"]
[null,"h''",null,null,null,null,{"$f":"Y$248+(G123-G$59)/G$113","v":-2.3860953549665687E-3},-1.3390205107336156E-3,-3.6113132477678077E-4,-1.5435201539196178E-4,5.1234089547179059E-4,1.2886819166757662E-3,1.9725784324267663E-3,1.6059796571623892E-4,7.3495701515235946E-4,8.4551693102361838E-4,9.2012193175839026E-4,9.4137314189485189E-4,9.0895919373954186E-4,9.0895919373954186E-4,9.0895919373954186E-4,null,null,null,null,null,null,null,null,null,null,null,null,null,null,null,null,null,null,null,{"$f":"128/(9*48)","v":0.29629629629629628}]
[null,"a''",null,null,null,null,0,{"$f":"G125+0.5*(G124+H124)*(H$80-G$80)","v":-1.676302139565083E-3},-2.4413704655447616E-3,-2.4929187995616359E-3,-2.3676226915336955E-3,-1.5571624260672951E-3,-8.95952689711555E-5,-8.9584603089165184E-5,3.5818840957022984E-4,9.9037798804062086E-4,{"$f":"P125+0.5*(P124+Q124)*(Q$80-P$80)","v":1.7849154762925252E-3},{"$f":"Q125+0.5*(Q124+R124)*(R$80-Q$80)","v":2.6225882594364839E-3},{"$f":"R125+0.5*(R124+S124)*(S$80-R$80)","v":3.4552378104719611E-3},{"$f":"S125+0.5*(S124+T124)*(T$80-S$80)","v":3.4552378104719611E-3},{"$f":"T125+0.5*(T124+U124)*(U$80-T$80)","v":3.4552378104719611E-3},null,"N",null,{"$f":"G52","v":1.2},1.2,1.2,1.2,1.2,1.2,1.2,0.5,0.5,0.5,0.5,0.5,0.5,0.5,0.5]
[null,"u''",null,null,null,null,0,{"$f":"G126-0.5*(G125+H125)*(H$80-G$80)","v":7.5433596280428733E-4},2.6072886351037172E-3,3.1007175616143568E-3,4.8019070834977237E-3,6.5680603864181689E-3,7.3091013491854715E-3,7.3091022450848314E-3,7.1748016848633316E-3,6.6353751258189913E-3,{"$f":"P126-0.5*(P125+Q125)*(Q$80-P$80)","v":5.3864930668690754E-3},{"$f":"Q126-0.5*(Q125+R125)*(R$80-Q$80)","v":3.4031163857910227E-3},{"$f":"R126-0.5*(R125+S125)*(S$80-R$80)","v":6.6809465433222137E-4},{"$f":"S126-0.5*(S125+T125)*(T$80-S$80)","v":6.6809465433222137E-4},{"$f":"T126-0.5*(T125+U125)*(U$80-T$80)","v":6.6809465433222137E-4},null,"s(M-nulpunkt)",null,{"$f":"Y125/$X$118","v":4.6848735613073069},{"$f":"Z125/$X$118","v":4.6848735613073069},4.6848735613073069,4.6848735613073069,4.6848735613073069,4.6848735613073069,4.6848735613073069,1.9520306505447114,1.9520306505447114,1.9520306505447114,1.9520306505447114,1.9520306505447114,1.9520306505447114,1.9520306505447114,1.9520306505447114]
[null,"a'",null,null,{"$f":"IF(ABS(G129)>=ABS($D$34),1,0)","v":0},null,{"$f":"IF(E117=1,0,G125+U126/$D$2)","v":7.4232739370246821E-5},{"$f":"IF(E117=1,H125+U126/($D$2-$H$80),G127+0.5*(G124+H124)*(H$80-G$80))","v":-1.6020694001948361E-3},{"$f":"H127+0.5*(H124+I124)*(I$80-H$80)","v":-2.3671377261745147E-3},-2.418686060191389E-3,-2.2933899521634486E-3,-1.4829296866970482E-3,-1.5362529600908585E-5,-1.5351863718918272E-5,4.3242114894047676E-4,1.0646107274108678E-3,{"$f":"P127+0.5*(P124+Q124)*(Q$80-P$80)","v":1.8591482156627721E-3},{"$f":"Q127+0.5*(Q124+R124)*(R$80-Q$80)","v":2.6968209988067308E-3},{"$f":"R127+0.5*(R124+S124)*(S$80-R$80)","v":3.5294705498422081E-3},{"$f":"S127+0.5*(S124+T124)*(T$80-S$80)","v":3.5294705498422081E-3},{"$f":"T127+0.5*(T124+U124)*(U$80-T$80)","v":3.5294705498422081E-3},null,"s(s_u = 0)",null,{"$f":"2*Y126","v":9.3697471226146138},{"$f":"2*Z126","v":9.3697471226146138},9.3697471226146138,9.3697471226146138,9.3697471226146138,9.3697471226146138,9.3697471226146138,3.9040613010894227,3.9040613010894227,3.9040613010894227,3.9040613010894227,3.9040613010894227,3.9040613010894227,3.9040613010894227,3.9040613010894227]
[null,null,null,null,null,null,0,{"$f":"G128-0.5*(G127+H127)*(H$80-G$80)","v":6.8752649737106517E-4},{"$f":"H128-0.5*(H127+I127)*(I$80-H$80)","v":2.4736697042372731E-3},2.9522520828738634E-3,4.6014786871980571E-3,6.3008225246852807E-3,6.9750540220193608E-3,6.9750541755913276E-3,6.766521618326974E-3,6.1677088677864365E-3,{"$f":"P128-0.5*(P127+Q127)*(Q$80-P$80)","v":4.8520173434032981E-3},{"$f":"Q128-0.5*(Q127+R127)*(R$80-Q$80)","v":2.8018311968920229E-3},{"$f":"R128-0.5*(R127+S127)*(S$80-R$80)","v":0},{"$f":"S128-0.5*(S127+T127)*(T$80-S$80)","v":0},{"$f":"T128-0.5*(T127+U127)*(U$80-T$80)","v":0},null,"s(et = 0)",null,{"$f":"Stivheder!F6/2.35","v":7.598784194528875}]
[null,"M'",null,{"$f":"3*$D$36*G127*$C$118/$D$2","v":1.1052281187481456E-3},{"$f":"IF(AND($D$36=0,$D$37=0),0,IF(AND($D$36=1,$D$37=0),IF(E117=1,$D$34-G123,IF(ABS(3*$D$36*G127*$C$118/$D$2)>ABS($D$34-G123),$D$34-G123,3*$D$36*G127*$C$118/$D$2))))","v":1.1052281187481456E-3},null,{"$f":"IF(AND($D$36=0,$D$37=0),G123,IF(AND($D$36=1,$D$37=0),G123+E129))","v":-0.10469629857769584},{"$f":"$E129*($D$2-H$80)/$D$2+H123","v":-5.8378619409000666E-2},{"$f":"$E129*($D$2-I$80)/$D$2+I123","v":-1.5128692019745297E-2},-5.9844796630015712E-3,2.3878471518183227E-2,5.8778258000939818E-2,8.9509115314555479E-2,9.0094326254106204E-3,3.9131415938655531E-2,4.4855073366776708E-2,{"$f":"$E129*($D$2-Q$80)/$D$2+Q123","v":4.8673124893539768E-2},{"$f":"$E129*($D$2-R$80)/$D$2+R123","v":4.9681655201226041E-2},{"$f":"$E129*($D$2-S$80)/$D$2+S123","v":4.7864268188791838E-2},{"$f":"$E129*($D$2-T$80)/$D$2+T123","v":4.7864268188791838E-2},{"$f":"$E129*($D$2-U$80)/$D$2+U123","v":4.7864268188791838E-2}]
[null,"h'",null,null,null,null,{"$f":"G124+(G129-G123)/$C$118","v":-2.3613511085098199E-3},-1.3167506889225416E-3,-3.413359276113816E-4,-1.3510649037004596E-4,5.2966186799151488E-4,1.3035284645498155E-3,1.9849505556551405E-3,1.7297006145100622E-4,7.4457977766331741E-4,8.5294020496064302E-4,9.2507078104974013E-4,9.4384756654052678E-4,9.0895919373954186E-4,9.0895919373954186E-4,9.0895919373954186E-4,null,"Positive momenter"]
[null,"a'",null,null,null,null,{"$f":"IF(E117=1,0,G127-E129*$D$2/(3*$C$56))","v":3.1459051504430534E-6},{"$f":"IF(E117=1,H127+U128/($D$2-$H$80),G131+0.5*(G130+H130)*(H$80-G$80))","v":-1.6519999036941197E-3},{"$f":"H131+0.5*(H130+I130)*(I$80-H$80)","v":-2.3981388811343853E-3},-2.4457831229325279E-3,-2.3076887407650136E-3,-1.4827530911214149E-3,-2.9375320291847619E-6,-2.9267424260996397E-6,4.5584358938186676E-4,1.0948515824314507E-3,{"$f":"P131+0.5*(P130+Q130)*(Q$80-P$80)","v":1.8949565261361235E-3},{"$f":"Q131+0.5*(Q130+R130)*(R$80-Q$80)","v":2.735969782551743E-3},{"$f":"R131+0.5*(R130+S130)*(S$80-R$80)","v":3.5697328246777744E-3},{"$f":"S131+0.5*(S130+T130)*(T$80-S$80)","v":3.5697328246777744E-3},{"$f":"T131+0.5*(T130+U130)*(U$80-T$80)","v":3.5697328246777744E-3},null,"M-nulpunkt",null,{"$f":"G59","v":0},0,0,0,0,0,0,0,0,0,0,0,0,0,0]
[null,"u",null,{"$f":"E132/E122","v":0.9945700506546814},{"$f":"MAX(ABS(MAX(G132:U132)),ABS(MIN(G132:U132)))","v":7.0869137393063473E-3},null,0,{"$f":"IF(E117=1,H128,G132-0.5*(G131+H131)*(H$80-G$80))","v":7.4198429934465454E-4},{"$f":"H132-0.5*(H131+I131)*(I$80-H$80)","v":2.5645467525174819E-3},3.0489389529241729E-3,4.7126541052183125E-3,6.4183529295672049E-3,7.0869137099849747E-3,7.0869137393063473E-3,6.8604575804126983E-3,6.2401795116873715E-3,4.8947658628319627E-3,2.8108490239224242E-3,-2.671714933085963E-5,-2.671714933085963E-5,-2.671714933085963E-5,null,"M (s_u = 0)",null,{"$f":"Y125*$X$122/$X$118","v":0.11808118292833687},0.11808118292833687,0.11808118292833687,0.11808118292833687,0.11808118292833687,0.11808118292833687,0.11808118292833687,4.9200492886807036E-2,4.9200492886807036E-2,4.9200492886807036E-2,4.9200492886807036E-2,4.9200492886807036E-2,4.9200492886807036E-2,4.9200492886807036E-2,4.9200492886807036E-2]
[null,"Korrigeret moment",null,null,{"$f":"IF(E127=1,$D$34-F133,G129-F133)","v":-2.7090469569982928E-3},{"$f":"G$110+G132*$D$3+IF($D$6>G$80,G132*$D$4,INDEX($G132:$U132,1+$D$82)*$D$4)-INDEX($G132:$U132,1+$D$82)*$D$4*G$80/$D$2","v":-0.10198725162069755},{"$f":"G$110+$E133*($D$2-G$45)/$D$2+G132*$D$3+IF($D$6>G$80,G132*$D$4,INDEX($G132:$U132,1+$D$82)*$D$4)-INDEX($G132:$U132,1+$D$82)*$D$4*G$80/$D$2","v":-0.10469629857769584},-5.8387871520411631E-2,-1.5156750678533601E-2,-6.0168031718076491E-3,2.3835024042778045E-2,5.8735908530067354E-2,8.9476227364639324E-2,8.9765447241044131E-3,3.9097494742153904E-2,4.4814952061631795E-2,4.8628291135274747E-2,4.964237861389062E-2,4.784964142533462E-2,4.784964142533462E-2,4.784964142533462E-2,null,"M  (et = 0)",null,{"$f":"(0.5*$AA$117-Y134/3)*0.5*$AA$118*Y134*$Y$128+$Y$128*(0.5*$AA$117-$AA$120)*$X$117*$AA$119*(Y134-$AA$120)/Y134+$Y$128*(0.5*$AA$117-$AA$122)*$X$117*$AA$121*($AA$117-$AA$122-Y134)/Y134","v":9.555076551584353E-2},{"$f":"(0.5*$AA$117-Z134/3)*0.5*$AA$118*Z134*$Y$128+$Y$128*(0.5*$AA$117-$AA$120)*$X$117*$AA$119*(Z134-$AA$120)/Z134+$Y$128*(0.5*$AA$117-$AA$122)*$X$117*$AA$121*($AA$117-$AA$122-Z134)/Z134","v":9.555076551584353E-2},9.555076551584353E-2,9.555076551584353E-2,9.555076551584353E-2,9.555076551584353E-2,9.555076551584353E-2,0.14303499943311865,0.14303499943311865,0.14303499943311865,0.14303499943311865,0.14303499943311865,0.14303499943311865,0.14303499943311865,0.14303499943311865]
[null,"h''",null,null,null,null,{"$f":"Y$248+(G133-G$59)/G$113","v":-2.3611696307103414E-3},-1.3167960177073847E-3,-3.4182353997781148E-4,-1.3569431886544675E-4,5.2853308864166744E-4,1.3024476540847954E-3,1.9841031720446707E-3,1.7046772391475767E-4,7.4247509975272055E-4,8.5105161396692539E-4,9.2346825671517168E-4,9.427261326176783E-4,9.0868142638568506E-4,9.0868142638568506E-4,9.0868142638568506E-4,null,"x( (et = 0)",null,{"$f":"((-$X$117*$AA$119-$X$117*$AA$121+Y125/$Y$128)+((-$X$117*$AA$119-$X$117*$AA$121+Y125/$Y$128)^2+2*$AA$118*($X$117*$AA$119*$AA$120+$X$117*$AA$121*$AA$117-$X$117*$AA$121*$AA$122))^0.5)/$AA$118","v":0.60752830679252556},{"$f":"((-$X$117*$AA$119-$X$117*$AA$121+Z125/$Y$128)+((-$X$117*$AA$119-$X$117*$AA$121+Z125/$Y$128)^2+2*$AA$118*($X$117*$AA$119*$AA$120+$X$117*$AA$121*$AA$117-$X$117*$AA$121*$AA$122))^0.5)/$AA$118","v":0.60752830679252556},0.60752830679252556,0.60752830679252556,0.60752830679252556,0.60752830679252556,0.60752830679252556,0.29295637293728466,0.29295637293728466,0.29295637293728466,0.29295637293728466,0.29295637293728466,0.29295637293728466,0.29295637293728466,0.29295637293728466]
[null,"a''",null,null,null,null,0,{"$f":"G135+0.5*(G134+H134)*(H$80-G$80)","v":-1.6550845417879767E-3},{"$f":"H135+0.5*(H134+I134)*(I$80-H$80)","v":-2.4014633427463152E-3},-2.4492151286306411E-3,-2.3117215592089639E-3,-1.4877802249820557E-3,-8.8323532237961997E-6,-8.8215803693168096E-6,4.4764526675030418E-4,1.0850559522381624E-3,{"$f":"P135+0.5*(P134+Q134)*(Q$80-P$80)","v":1.8835898940451064E-3},{"$f":"Q135+0.5*(Q134+R134)*(R$80-Q$80)","v":2.7233773692448885E-3},{"$f":"R135+0.5*(R134+S134)*(S$80-R$80)","v":3.5565107707964021E-3},{"$f":"S135+0.5*(S134+T134)*(T$80-S$80)","v":3.5565107707964021E-3},{"$f":"T135+0.5*(T134+U134)*(U$80-T$80)","v":3.5565107707964021E-3},null,"EI_rev",null,{"$f":"(Y133-Y$131)/($Y$128/(Y134*Stivheder!$U$2))","v":92.29097314840638},{"$f":"(Z133-Z$131)/($Y$128/(Z134*Stivheder!$U$2))","v":92.29097314840638},{"$f":"(AA133-AA$131)/($Y$128/(AA134*Stivheder!$U$2))","v":92.29097314840638},{"$f":"(AB133-AB$131)/($Y$128/(AB134*Stivheder!$U$2))","v":92.29097314840638},{"$f":"(AC133-AC$131)/($Y$128/(AC134*Stivheder!$U$2))","v":92.29097314840638},{"$f":"(AD133-AD$131)/($Y$128/(AD134*Stivheder!$U$2))","v":92.29097314840638},{"$f":"(AE133-AE$131)/($Y$128/(AE134*Stivheder!$U$2))","v":92.29097314840638},{"$f":"(AF133-AF$131)/($Y$128/(AF134*Stivheder!$U$2))","v":66.619873729451115},{"$f":"(AG133-AG$131)/($Y$128/(AG134*Stivheder!$U$2))","v":66.619873729451115},{"$f":"(AH133-AH$131)/($Y$128/(AH134*Stivheder!$U$2))","v":66.619873729451115},{"$f":"(AI133-AI$131)/($Y$128/(AI134*Stivheder!$U$2))","v":66.619873729451115},{"$f":"(AJ133-AJ$131)/($Y$128/(AJ134*Stivheder!$U$2))","v":66.619873729451115},{"$f":"(AK133-AK$131)/($Y$128/(AK134*Stivheder!$U$2))","v":66.619873729451115},{"$f":"(AL133-AL$131)/($Y$128/(AL134*Stivheder!$U$2))","v":66.619873729451115},{"$f":"(AM133-AM$131)/($Y$128/(AM134*Stivheder!$U$2))","v":66.619873729451115}]
[null,"u''",null,null,null,null,0,{"$f":"G136-0.5*(G135+H135)*(H$80-G$80)","v":7.4478804380458954E-4},{"$f":"H136-0.5*(H135+I135)*(I$80-H$80)","v":2.5702345918450211E-3},3.0553024389827167E-3,4.7216302797265788E-3,6.4314060826125372E-3,7.1048817428051702E-3,7.1048818310748378E-3,6.8854721820027758E-3,6.2723916944073897E-3,{"$f":"P136-0.5*(P135+Q135)*(Q$80-P$80)","v":4.9365010635799185E-3},{"$f":"Q136-0.5*(Q135+R135)*(R$80-Q$80)","v":2.8633657950994222E-3},{"$f":"R136-0.5*(R135+S135)*(S$80-R$80)","v":3.7416132080840374E-5},{"$f":"S136-0.5*(S135+T135)*(T$80-S$80)","v":3.7416132080840374E-5},{"$f":"T136-0.5*(T135+U135)*(U$80-T$80)","v":3.7416132080840374E-5},null,"Termiske tøjninger i overside"]
[null,"a'",null,null,{"$f":"IF(ABS(G139)>=ABS($D$34),1,0)","v":0},null,{"$f":"IF(E127=1,0,G135+U136/$D$2)","v":4.1573480089822639E-6},{"$f":"IF(E127=1,H135+U136/($D$2-$H$80),G137+0.5*(G134+H134)*(H$80-G$80))","v":-1.6509271937789945E-3},{"$f":"H137+0.5*(H134+I134)*(I$80-H$80)","v":-2.3973059947373331E-3},-2.4450577806216589E-3,-2.3075642111999818E-3,-1.4836228769730736E-3,-4.6750052148140323E-6,-4.6642323603346431E-6,4.5180261475928635E-4,1.0892133002471445E-3,{"$f":"P137+0.5*(P134+Q134)*(Q$80-P$80)","v":1.8877472420540885E-3},{"$f":"Q137+0.5*(Q134+R134)*(R$80-Q$80)","v":2.7275347172538707E-3},{"$f":"R137+0.5*(R134+S134)*(S$80-R$80)","v":3.5606681188053843E-3},{"$f":"S137+0.5*(S134+T134)*(T$80-S$80)","v":3.5606681188053843E-3},{"$f":"T137+0.5*(T134+U134)*(U$80-T$80)","v":3.5606681188053843E-3},null,"et (nulpunkt)",null,{"$f":"$AF$117*(1-2.35*Y$126/Stivheder!$F$6)","v":1.4482163688826044E-3},{"$f":"$AF$117*(1-2.35*Z$126/Stivheder!$F$6)","v":1.4482163688826044E-3},{"$f":"$AF$117*(1-2.35*AA$126/Stivheder!$F$6)","v":1.4482163688826044E-3},{"$f":"$AF$117*(1-2.35*AB$126/Stivheder!$F$6)","v":1.4482163688826044E-3},{"$f":"$AF$117*(1-2.35*AC$126/Stivheder!$F$6)","v":1.4482163688826044E-3},{"$f":"$AF$117*(1-2.35*AD$126/Stivheder!$F$6)","v":1.4482163688826044E-3},{"$f":"$AF$117*(1-2.35*AE$126/Stivheder!$F$6)","v":1.4482163688826044E-3},{"$f":"$AF$117*(1-2.35*AF$126/Stivheder!$F$6)","v":2.8064419066972483E-3},{"$f":"$AF$117*(1-2.35*AG$126/Stivheder!$F$6)","v":2.8064419066972483E-3},{"$f":"$AF$117*(1-2.35*AH$126/Stivheder!$F$6)","v":2.8064419066972483E-3},{"$f":"$AF$117*(1-2.35*AI$126/Stivheder!$F$6)","v":2.8064419066972483E-3},{"$f":"$AF$117*(1-2.35*AJ$126/Stivheder!$F$6)","v":2.8064419066972483E-3},{"$f":"$AF$117*(1-2.35*AK$126/Stivheder!$F$6)","v":2.8064419066972483E-3},{"$f":"$AF$117*(1-2.35*AL$126/Stivheder!$F$6)","v":2.8064419066972483E-3},{"$f":"$AF$117*(1-2.35*AM$126/Stivheder!$F$6)","v":2.8064419066972483E-3}]
[null,null,null,null,null,null,0,{"$f":"G138-0.5*(G137+H137)*(H$80-G$80)","v":7.4104643059650559E-4},{"$f":"H138-0.5*(H137+I137)*(I$80-H$80)","v":2.5627513654288532E-3},3.0469877429647524E-3,4.710405440102327E-3,6.4164396297802014E-3,7.0861736767647504E-3,7.0861737234609382E-3,6.8626067679533739E-3,6.246200401950802E-3,{"$f":"P138-0.5*(P137+Q137)*(Q$80-P$80)","v":4.9065681579152469E-3},{"$f":"Q138-0.5*(Q137+R137)*(R$80-Q$80)","v":2.8296912762266666E-3},{"$f":"R138-0.5*(R137+S137)*(S$80-R$80)","v":0},{"$f":"S138-0.5*(S137+T137)*(T$80-S$80)","v":0},{"$f":"T138-0.5*(T137+U137)*(U$80-T$80)","v":0},null,"et (s_u = 0)",null,{"$f":"MAX($AF$117*(1-2.35*Y$127/Stivheder!$F$6),0)","v":0},{"$f":"MAX($AF$117*(1-2.35*Z$127/Stivheder!$F$6),0)","v":0},{"$f":"MAX($AF$117*(1-2.35*AA$127/Stivheder!$F$6),0)","v":0},{"$f":"MAX($AF$117*(1-2.35*AB$127/Stivheder!$F$6),0)","v":0},{"$f":"MAX($AF$117*(1-2.35*AC$127/Stivheder!$F$6),0)","v":0},{"$f":"MAX($AF$117*(1-2.35*AD$127/Stivheder!$F$6),0)","v":0},{"$f":"MAX($AF$117*(1-2.35*AE$127/Stivheder!$F$6),0)","v":0},{"$f":"MAX($AF$117*(1-2.35*AF$127/Stivheder!$F$6),0)","v":1.8362808082582169E-3},{"$f":"MAX($AF$117*(1-2.35*AG$127/Stivheder!$F$6),0)","v":1.8362808082582169E-3},{"$f":"MAX($AF$117*(1-2.35*AH$127/Stivheder!$F$6),0)","v":1.8362808082582169E-3},{"$f":"MAX($AF$117*(1-2.35*AI$127/Stivheder!$F$6),0)","v":1.8362808082582169E-3},{"$f":"MAX($AF$117*(1-2.35*AJ$127/Stivheder!$F$6),0)","v":1.8362808082582169E-3},{"$f":"MAX($AF$117*(1-2.35*AK$127/Stivheder!$F$6),0)","v":1.8362808082582169E-3},{"$f":"MAX($AF$117*(1-2.35*AL$127/Stivheder!$F$6),0)","v":1.8362808082582169E-3},{"$f":"MAX($AF$117*(1-2.35*AM$127/Stivheder!$F$6),0)","v":1.8362808082582169E-3}]
[null,"M'",null,null,{"$f":"IF(AND($D$36=0,$D$37=0),0,IF(AND($D$36=1,$D$37=0),IF(E127=1,$D$34-G133,IF(ABS(3*$D$36*G137*$C$118/$D$2)>ABS($D$34-G133),$D$34-G133,3*$D$36*G137*$C$118/$D$2))))","v":6.1897458694491644E-5},null,{"$f":"IF(AND($D$36=0,$D$37=0),G133,IF(AND($D$36=1,$D$37=0),G133+E139))","v":-0.10463440111900135},{"$f":"$E139*($D$2-H$80)/$D$2+H133","v":-5.8332163807586587E-2},{"$f":"$E139*($D$2-I$80)/$D$2+I133","v":-1.5107232711578008E-2},-5.9686607039341555E-3,2.3878352263864189E-2,5.8773047005284053E-2,8.9507176093986576E-2,9.0074933846767055E-3,3.912156597609065E-2,4.4833521299240141E-2,{"$f":"$E139*($D$2-Q$80)/$D$2+Q133","v":4.8640670627013646E-2},{"$f":"$E139*($D$2-R$80)/$D$2+R133","v":4.9648568359760066E-2},{"$f":"$E139*($D$2-S$80)/$D$2+S133","v":4.784964142533462E-2},{"$f":"$E139*($D$2-T$80)/$D$2+T133","v":4.784964142533462E-2},{"$f":"$E139*($D$2-U$80)/$D$2+U133","v":4.784964142533462E-2},null,"et (=0)",null,0,0,0,0,0,0,0,0,0,0,0,0,0,0,0]
[null,"h'",null,null,null,null,{"$f":"G134+(G139-G133)/$C$118","v":-2.3597838480406805E-3},-1.31554881330469E-3,-3.4071491384208289E-4,-1.3461648790015504E-4,5.2950313651042998E-4,1.3032791236865919E-3,1.9847960633795013E-3,1.7116061370982955E-4,7.4301401523536642E-4,8.5146734876782361E-4,9.237454132491039E-4,9.428647108846443E-4,9.0868142638568506E-4,9.0868142638568506E-4,9.0868142638568506E-4,null,"Termiske tøjninger i underside"]
[null,"a'",null,null,null,null,{"$f":"IF(E127=1,0,G137-E139*$D$2/(3*$C$56))","v":1.7618402102083241E-7},{"$f":"IF(E127=1,H135+(U136+U138)/($D$2-$H$80),G141+0.5*(G140+H140)*(H$80-G$80))","v":-1.6537235135843961E-3},{"$f":"H141+0.5*(H140+I140)*(I$80-H$80)","v":-2.3990421908004437E-3},-2.4465753309746673E-3,-2.3083650039610708E-3,-1.4836129868724111E-3,-3.9791526926693643E-6,-3.968372909284326E-6,4.5311437069016911E-4,1.0909069162914451E-3,{"$f":"P141+0.5*(P140+Q140)*(Q$80-P$80)","v":1.8897526591990627E-3},{"$f":"Q141+0.5*(Q140+R140)*(R$80-Q$80)","v":2.729727215059249E-3},{"$f":"R141+0.5*(R140+S140)*(S$80-R$80)","v":3.5629229768308975E-3},{"$f":"S141+0.5*(S140+T140)*(T$80-S$80)","v":3.5629229768308975E-3},{"$f":"T141+0.5*(T140+U140)*(U$80-T$80)","v":3.5629229768308975E-3},null,"et (nulpunkt)",null,{"$f":"$AF$120*(1-2.35*Y$126/Stivheder!$F$6)","v":1.4482163688826031E-3},{"$f":"$AF$120*(1-2.35*Z$126/Stivheder!$F$6)","v":1.4482163688826031E-3},{"$f":"$AF$120*(1-2.35*AA$126/Stivheder!$F$6)","v":1.4482163688826031E-3},{"$f":"$AF$120*(1-2.35*AB$126/Stivheder!$F$6)","v":1.4482163688826031E-3},{"$f":"$AF$120*(1-2.35*AC$126/Stivheder!$F$6)","v":1.4482163688826031E-3},{"$f":"$AF$120*(1-2.35*AD$126/Stivheder!$F$6)","v":1.4482163688826031E-3},{"$f":"$AF$120*(1-2.35*AE$126/Stivheder!$F$6)","v":1.4482163688826031E-3},{"$f":"$AF$120*(1-2.35*AF$126/Stivheder!$F$6)","v":2.8064419066972457E-3},{"$f":"$AF$120*(1-2.35*AG$126/Stivheder!$F$6)","v":2.8064419066972457E-3},{"$f":"$AF$120*(1-2.35*AH$126/Stivheder!$F$6)","v":2.8064419066972457E-3},{"$f":"$AF$120*(1-2.35*AI$126/Stivheder!$F$6)","v":2.8064419066972457E-3},{"$f":"$AF$120*(1-2.35*AJ$126/Stivheder!$F$6)","v":2.8064419066972457E-3},{"$f":"$AF$120*(1-2.35*AK$126/Stivheder!$F$6)","v":2.8064419066972457E-3},{"$f":"$AF$120*(1-2.35*AL$126/Stivheder!$F$6)","v":2.8064419066972457E-3},{"$f":"$AF$120*(1-2.35*AM$126/Stivheder!$F$6)","v":2.8064419066972457E-3}]
[null,"u",null,{"$f":"E142/E132","v":1.0007795486153175},{"$f":"MAX(ABS(MAX(G142:U142)),ABS(MIN(G142:U142)))","v":7.0924383330986983E-3},null,0,{"$f":"IF(E127=1,H138,G142-0.5*(G141+H141)*(H$80-G$80))","v":7.440962983035189E-4},{"$f":"H142-0.5*(H141+I141)*(I$80-H$80)","v":2.5678408652766971E-3},3.0524026174542081E-3,4.7166317346817171E-3,6.4230218305567841E-3,7.0924382933610702E-3,7.0924383330986983E-3,6.8678675799382447E-3,6.2502590651455992E-3,4.9089622561748706E-3,2.8301963127586316E-3,-1.4962735919352675E-6,-1.4962735919352675E-6,-1.4962735919352675E-6,null,"et_revnet",null,{"$f":"$AF$121","v":4.0724921603472082E-3},{"$f":"$AF$121","v":4.0724921603472082E-3},4.0724921603472082E-3,4.0724921603472082E-3,4.0724921603472082E-3,4.0724921603472082E-3,4.0724921603472082E-3,4.0724921603472082E-3,4.0724921603472082E-3,4.0724921603472082E-3,4.0724921603472082E-3,4.0724921603472082E-3,4.0724921603472082E-3,4.0724921603472082E-3,4.0724921603472082E-3]
[null,"Korrigeret moment",null,null,{"$f":"IF(E137=1,$D$34-F143,G139-F143)","v":-2.6471494983038024E-3},{"$f":"G$110+G142*$D$3+IF($D$6>G$80,G142*$D$4,INDEX($G142:$U142,1+$D$82)*$D$4)-INDEX($G142:$U142,1+$D$82)*$D$4*G$80/$D$2","v":-0.10198725162069755},{"$f":"G$110+$E143*($D$2-G$45)/$D$2+G142*$D$3+IF($D$6>G$80,G142*$D$4,INDEX($G142:$U142,1+$D$82)*$D$4)-INDEX($G142:$U142,1+$D$82)*$D$4*G$80/$D$2","v":-0.10463440111900135},-5.8330016129672278E-2,-1.51040532179396E-2,-5.9653636861343954E-3,2.3881965256711293E-2,5.877710280312623E-2,8.9511871989856259E-2,9.0121892814576127E-3,3.9126774890216917E-2,4.4839721238478243E-2,4.8648542265357753E-2,4.9658628725014496E-2,4.7862251863204086E-2,4.7862251863204086E-2,4.7862251863204086E-2]
[null,"h''",null,null,null,null,{"$f":"Y$248+(G143-G$59)/G$113","v":-2.3597736845147928E-3},-1.3154912304948235E-3,-3.4063507729803705E-4,-1.3453422674145527E-4,5.295739931836642E-4,1.3033611222791248E-3,1.9848935787933936E-3,1.711446265258072E-4,7.4303114000535649E-4,8.5152198929841765E-4,9.2385283275841037E-4,9.4303472791150119E-4,9.0892090301140764E-4,9.0892090301140764E-4,9.0892090301140764E-4,null,"Negative momenter"]
[null,"a''",null,null,null,null,0,{"$f":"G145+0.5*(G144+H144)*(H$80-G$80)","v":-1.6538692117543275E-3},{"$f":"H145+0.5*(H144+I144)*(I$80-H$80)","v":-2.3991260502611148E-3},-2.4466429806650641E-3,-2.3083790624102911E-3,-1.4835582604520361E-3,-3.8436449694028742E-6,-3.8328647783766867E-6,4.5325044760837266E-4,1.0910716993298821E-3,{"$f":"P145+0.5*(P144+Q144)*(Q$80-P$80)","v":1.889990369255455E-3},{"$f":"Q145+0.5*(Q144+R144)*(R$80-Q$80)","v":2.7300897715569145E-3},{"$f":"R145+0.5*(R144+S144)*(S$80-R$80)","v":3.5634698054722237E-3},{"$f":"S145+0.5*(S144+T144)*(T$80-S$80)","v":3.5634698054722237E-3},{"$f":"T145+0.5*(T144+U144)*(U$80-T$80)","v":3.5634698054722237E-3},null,"M-nulpunkt",null,{"$f":"Y131","v":0},0,0,0,0,0,0,0,0,0,0,0,0,0,0]
[null,"u''",null,null,null,null,0,{"$f":"G146-0.5*(G145+H145)*(H$80-G$80)","v":7.4424114528944733E-4},{"$f":"H146-0.5*(H145+I145)*(I$80-H$80)","v":2.5680890131963966E-3},3.0526659162890143E-3,4.7169236313653893E-3,6.4232954266534364E-3,7.0926262840930836E-3,7.0926263224756324E-3,6.8679197781485483E-3,6.2501909193732469E-3,{"$f":"P146-0.5*(P145+Q145)*(Q$80-P$80)","v":4.9087129885098443E-3},{"$f":"Q146-0.5*(Q145+R145)*(R$80-Q$80)","v":2.8296769251442795E-3},{"$f":"R146-0.5*(R145+S145)*(S$80-R$80)","v":-2.4248845188340473E-6},{"$f":"S146-0.5*(S145+T145)*(T$80-S$80)","v":-2.4248845188340473E-6},{"$f":"T146-0.5*(T145+U145)*(U$80-T$80)","v":-2.4248845188340473E-6},null,"M (s_o = 0)",null,{"$f":"-Y125*$X$123/$X$118","v":-0.11808118292833687},-0.11808118292833687,-0.11808118292833687,-0.11808118292833687,-0.11808118292833687,-0.11808118292833687,-0.11808118292833687,-4.9200492886807036E-2,-4.9200492886807036E-2,-4.9200492886807036E-2,-4.9200492886807036E-2,-4.9200492886807036E-2,-4.9200492886807036E-2,-4.9200492886807036E-2,-4.9200492886807036E-2]
[null,"a'",null,null,{"$f":"IF(ABS(G149)>=ABS($D$34),1,0)","v":0},null,{"$f":"IF(E137=1,0,G145+U146/$D$2)","v":-2.6943161320378302E-7},{"$f":"IF(E137=1,H145+U146/($D$2-$H$80),G147+0.5*(G144+H144)*(H$80-G$80))","v":-1.6541386433675312E-3},{"$f":"H147+0.5*(H144+I144)*(I$80-H$80)","v":-2.3993954818743186E-3},-2.4469124122782678E-3,-2.3086484940234948E-3,-1.4838276920652398E-3,-4.113076582606609E-6,-4.1022963915804215E-6,4.5298101599516893E-4,1.0908022677166783E-3,{"$f":"P147+0.5*(P144+Q144)*(Q$80-P$80)","v":1.8897209376422513E-3},{"$f":"Q147+0.5*(Q144+R144)*(R$80-Q$80)","v":2.7298203399437112E-3},{"$f":"R147+0.5*(R144+S144)*(S$80-R$80)","v":3.5632003738590204E-3},{"$f":"S147+0.5*(S144+T144)*(T$80-S$80)","v":3.5632003738590204E-3},{"$f":"T147+0.5*(T144+U144)*(U$80-T$80)","v":3.5632003738590204E-3},null,"M  (et = 0)",null,{"$f":"-((0.5*$AA$117-Y148/3)*0.5*$AA$118*Y148*$Y$128+$Y$128*(0.5*$AA$117-$AA$122)*$X$117*$AA$121*(Y148-$AA$122)/Y148+$Y$128*(0.5*$AA$117-$AA$120)*$X$117*$AA$119*($AA$117-$AA$120-Y148)/Y148)","v":-9.555076551584353E-2},{"$f":"-((0.5*$AA$117-Z148/3)*0.5*$AA$118*Z148*$Y$128+$Y$128*(0.5*$AA$117-$AA$122)*$X$117*$AA$121*(Z148-$AA$122)/Z148+$Y$128*(0.5*$AA$117-$AA$120)*$X$117*$AA$119*($AA$117-$AA$120-Z148)/Z148)","v":-9.555076551584353E-2},-9.555076551584353E-2,-9.555076551584353E-2,-9.555076551584353E-2,-9.555076551584353E-2,-9.555076551584353E-2,-0.14303499943311865,-0.14303499943311865,-0.14303499943311865,-0.14303499943311865,-0.14303499943311865,-0.14303499943311865,-0.14303499943311865,-0.14303499943311865]
[null,null,null,null,null,null,0,{"$f":"G148-0.5*(G147+H147)*(H$80-G$80)","v":7.4448363374133078E-4},{"$f":"H148-0.5*(H147+I147)*(I$80-H$80)","v":2.5685739901001635E-3},3.0532047795154222E-3,4.7176510967210398E-3,6.4242653804609702E-3,7.0938387263525006E-3,7.0938387674293656E-3,6.8694016520211695E-3,6.2518883385364304E-3,{"$f":"P148-0.5*(P147+Q147)*(Q$80-P$80)","v":4.9106528961249118E-3},{"$f":"Q148-0.5*(Q147+R147)*(R$80-Q$80)","v":2.8318593212112299E-3},{"$f":"R148-0.5*(R147+S147)*(S$80-R$80)","v":0},{"$f":"S148-0.5*(S147+T147)*(T$80-S$80)","v":0},{"$f":"T148-0.5*(T147+U147)*(U$80-T$80)","v":0},null,"x( (et = 0)",null,{"$f":"((-$X$117*$AA$119-$X$117*$AA$121+Y125/$Y$128)+((-$X$117*$AA$119-$X$117*$AA$121+Y125/$Y$128)^2+2*$AA$118*($X$117*$AA$121*$AA$122+$X$117*$AA$119*$AA$117-$X$117*$AA$119*$AA$120))^0.5)/$AA$118","v":0.60752830679252556},{"$f":"((-$X$117*$AA$119-$X$117*$AA$121+Z125/$Y$128)+((-$X$117*$AA$119-$X$117*$AA$121+Z125/$Y$128)^2+2*$AA$118*($X$117*$AA$121*$AA$122+$X$117*$AA$119*$AA$117-$X$117*$AA$119*$AA$120))^0.5)/$AA$118","v":0.60752830679252556},0.60752830679252556,0.60752830679252556,0.60752830679252556,0.60752830679252556,0.60752830679252556,0.29295637293728466,0.29295637293728466,0.29295637293728466,0.29295637293728466,0.29295637293728466,0.29295637293728466,0.29295637293728466,0.29295637293728466]
[null,"M'",null,null,{"$f":"IF(AND($D$36=0,$D$37=0),0,IF(AND($D$36=1,$D$37=0),IF(E137=1,$D$34-G143,IF(ABS(3*$D$36*G147*$C$118/$D$2)>ABS($D$34-G143),$D$34-G143,3*$D$36*G147*$C$118/$D$2))))","v":-4.0114833093691479E-6},null,{"$f":"IF(AND($D$36=0,$D$37=0),G143,IF(AND($D$36=1,$D$37=0),G143+E149))","v":-0.10463841260231072},{"$f":"$E149*($D$2-H$80)/$D$2+H143","v":-5.8333626464650713E-2},{"$f":"$E149*($D$2-I$80)/$D$2+I143","v":-1.5107262404587095E-2},-5.968483728708349E-3,2.3879157218394734E-2,5.8774695913140607E-2,8.9509866248201578E-2,9.0101835442601315E-3,3.912521486892994E-2,4.4838517793485431E-2,{"$f":"$E149*($D$2-Q$80)/$D$2+Q143","v":4.8647739968695876E-2},{"$f":"$E149*($D$2-R$80)/$D$2+R143","v":4.9658227576683561E-2},{"$f":"$E149*($D$2-S$80)/$D$2+S143","v":4.7862251863204086E-2},{"$f":"$E149*($D$2-T$80)/$D$2+T143","v":4.7862251863204086E-2},{"$f":"$E149*($D$2-U$80)/$D$2+U143","v":4.7862251863204086E-2},null,"EI_rev",null,{"$f":"(-Y147+Y$131)/($Y$128/(Y148*Stivheder!$U$2))","v":92.29097314840638},{"$f":"(-Z147+Z$131)/($Y$128/(Z148*Stivheder!$U$2))","v":92.29097314840638},{"$f":"(-AA147+AA$131)/($Y$128/(AA148*Stivheder!$U$2))","v":92.29097314840638},{"$f":"(-AB147+AB$131)/($Y$128/(AB148*Stivheder!$U$2))","v":92.29097314840638},{"$f":"(-AC147+AC$131)/($Y$128/(AC148*Stivheder!$U$2))","v":92.29097314840638},{"$f":"(-AD147+AD$131)/($Y$128/(AD148*Stivheder!$U$2))","v":92.29097314840638},{"$f":"(-AE147+AE$131)/($Y$128/(AE148*Stivheder!$U$2))","v":92.29097314840638},{"$f":"(-AF147+AF$131)/($Y$128/(AF148*Stivheder!$U$2))","v":66.619873729451115},{"$f":"(-AG147+AG$131)/($Y$128/(AG148*Stivheder!$U$2))","v":66.619873729451115},{"$f":"(-AH147+AH$131)/($Y$128/(AH148*Stivheder!$U$2))","v":66.619873729451115},{"$f":"(-AI147+AI$131)/($Y$128/(AI148*Stivheder!$U$2))","v":66.619873729451115},{"$f":"(-AJ147+AJ$131)/($Y$128/(AJ148*Stivheder!$U$2))","v":66.619873729451115},{"$f":"(-AK147+AK$131)/($Y$128/(AK148*Stivheder!$U$2))","v":66.619873729451115},{"$f":"(-AL147+AL$131)/($Y$128/(AL148*Stivheder!$U$2))","v":66.619873729451115},{"$f":"(-AM147+AM$131)/($Y$128/(AM148*Stivheder!$U$2))","v":66.619873729451115}]
[null,"h'",null,null,null,null,{"$f":"G144+(G149-G143)/$C$118","v":-2.3598634950525274E-3},-1.3155720599787848E-3,-3.4070692572822474E-4,-1.3460407938191551E-4,5.2951112580725001E-4,1.303307235956484E-3,1.9848486735245265E-3,1.7109972135672939E-4,7.4299621368512634E-4,8.5149504613709725E-4,9.2383487065086337E-4,9.4302574685772779E-4,9.0892090301140764E-4,9.0892090301140764E-4,9.0892090301140764E-4,null,"Termiske tøjninger i underside"]
[null,"a'",null,null,null,null,{"$f":"IF(E147=1,0,G147-E149*$D$2/(3*$C$56))","v":-1.141822741368068E-8},{"$f":"IF(E147=1,H145+(U146+U148)/($D$2-$H$80),G151+0.5*(G150+H150)*(H$80-G$80))","v":-1.6539574179915042E-3},{"$f":"H151+0.5*(H150+I150)*(I$80-H$80)","v":-2.3992829615596587E-3},-2.4468140620706727E-3,-2.3085965958218055E-3,-1.4838283330281254E-3,-4.1581737616708334E-6,-4.1473940196968353E-6,4.5289600302155604E-4,1.0906925069504455E-3,{"$f":"P151+0.5*(P150+Q150)*(Q$80-P$80)","v":1.8895909695050279E-3},{"$f":"Q151+0.5*(Q150+R150)*(R$80-Q$80)","v":2.7296782473838935E-3},{"$f":"R151+0.5*(R150+S150)*(S$80-R$80)","v":3.5630542398250049E-3},{"$f":"S151+0.5*(S150+T150)*(T$80-S$80)","v":3.5630542398250049E-3},{"$f":"T151+0.5*(T150+U150)*(U$80-T$80)","v":3.5630542398250049E-3},null,"et (nulpunkt)",null,{"$f":"$AF$120*(1-2.35*Y$126/Stivheder!$F$6)","v":1.4482163688826031E-3},{"$f":"$AF$120*(1-2.35*Z$126/Stivheder!$F$6)","v":1.4482163688826031E-3},{"$f":"$AF$120*(1-2.35*AA$126/Stivheder!$F$6)","v":1.4482163688826031E-3},{"$f":"$AF$120*(1-2.35*AB$126/Stivheder!$F$6)","v":1.4482163688826031E-3},{"$f":"$AF$120*(1-2.35*AC$126/Stivheder!$F$6)","v":1.4482163688826031E-3},{"$f":"$AF$120*(1-2.35*AD$126/Stivheder!$F$6)","v":1.4482163688826031E-3},{"$f":"$AF$120*(1-2.35*AE$126/Stivheder!$F$6)","v":1.4482163688826031E-3},{"$f":"$AF$120*(1-2.35*AF$126/Stivheder!$F$6)","v":2.8064419066972457E-3},{"$f":"$AF$120*(1-2.35*AG$126/Stivheder!$F$6)","v":2.8064419066972457E-3},{"$f":"$AF$120*(1-2.35*AH$126/Stivheder!$F$6)","v":2.8064419066972457E-3},{"$f":"$AF$120*(1-2.35*AI$126/Stivheder!$F$6)","v":2.8064419066972457E-3},{"$f":"$AF$120*(1-2.35*AJ$126/Stivheder!$F$6)","v":2.8064419066972457E-3},{"$f":"$AF$120*(1-2.35*AK$126/Stivheder!$F$6)","v":2.8064419066972457E-3},{"$f":"$AF$120*(1-2.35*AL$126/Stivheder!$F$6)","v":2.8064419066972457E-3},{"$f":"$AF$120*(1-2.35*AM$126/Stivheder!$F$6)","v":2.8064419066972457E-3}]
[null,"u",null,{"$f":"E152/E142","v":1.0001402104808319},{"$f":"MAX(ABS(MAX(G152:U152)),ABS(MIN(G152:U152)))","v":7.0934327672876529E-3},null,0,{"$f":"IF(E147=1,H148,G152-0.5*(G151+H151)*(H$80-G$80))","v":7.4428597629851308E-4},{"$f":"H152-0.5*(H151+I151)*(I$80-H$80)","v":2.5682441470965362E-3},3.052853849459569E-3,4.7172475797219371E-3,6.4238387977044054E-3,7.0934327257598136E-3,7.0934327672876529E-3,6.8690607065297685E-3,6.2516253025409682E-3,4.9104977381360044E-3,2.8318265905359912E-3,9.6971291985419733E-8,9.6971291985419733E-8,9.6971291985419733E-8,null,"et (s_o = 0)",null,{"$f":"MAX($AF$120*(1-2.35*Y$127/Stivheder!$F$6),0)","v":0},{"$f":"MAX($AF$120*(1-2.35*Z$127/Stivheder!$F$6),0)","v":0},{"$f":"MAX($AF$120*(1-2.35*AA$127/Stivheder!$F$6),0)","v":0},{"$f":"MAX($AF$120*(1-2.35*AB$127/Stivheder!$F$6),0)","v":0},{"$f":"MAX($AF$120*(1-2.35*AC$127/Stivheder!$F$6),0)","v":0},{"$f":"MAX($AF$120*(1-2.35*AD$127/Stivheder!$F$6),0)","v":0},{"$f":"MAX($AF$120*(1-2.35*AE$127/Stivheder!$F$6),0)","v":0},{"$f":"MAX($AF$120*(1-2.35*AF$127/Stivheder!$F$6),0)","v":1.8362808082582152E-3},{"$f":"MAX($AF$120*(1-2.35*AG$127/Stivheder!$F$6),0)","v":1.8362808082582152E-3},{"$f":"MAX($AF$120*(1-2.35*AH$127/Stivheder!$F$6),0)","v":1.8362808082582152E-3},{"$f":"MAX($AF$120*(1-2.35*AI$127/Stivheder!$F$6),0)","v":1.8362808082582152E-3},{"$f":"MAX($AF$120*(1-2.35*AJ$127/Stivheder!$F$6),0)","v":1.8362808082582152E-3},{"$f":"MAX($AF$120*(1-2.35*AK$127/Stivheder!$F$6),0)","v":1.8362808082582152E-3},{"$f":"MAX($AF$120*(1-2.35*AL$127/Stivheder!$F$6),0)","v":1.8362808082582152E-3},{"$f":"MAX($AF$120*(1-2.35*AM$127/Stivheder!$F$6),0)","v":1.8362808082582152E-3}]
[null,"Korrigeret moment",null,null,{"$f":"IF(E147=1,$D$34-F153,G149-F153)","v":-2.6511609816131654E-3},{"$f":"G$110+G152*$D$3+IF($D$6>G$80,G152*$D$4,INDEX($G152:$U152,1+$D$82)*$D$4)-INDEX($G152:$U152,1+$D$82)*$D$4*G$80/$D$2","v":-0.10198725162069755},{"$f":"G$110+$E153*($D$2-G$45)/$D$2+G152*$D$3+IF($D$6>G$80,G152*$D$4,INDEX($G152:$U152,1+$D$82)*$D$4)-INDEX($G152:$U152,1+$D$82)*$D$4*G$80/$D$2","v":-0.10463841260231072},-5.8333468461324624E-2,-1.5106917686939109E-2,-5.9680969397861586E-3,2.3879687401639267E-2,5.8775397832646112E-2,8.9510711515740499E-2,9.0110288119207259E-3,3.9126082138823133E-2,4.4839409742986849E-2,4.8648646930212272E-2,4.9659112325840159E-2,4.7863048485646043E-2,4.7863048485646043E-2,4.7863048485646043E-2,null,"et (=0)",null,0,0,0,0,0,0,0,0,0,0,0,0,0,0,0]
[null,"h''",null,null,null,null,{"$f":"Y$248+(G153-G$59)/G$113","v":-2.3598641537356997E-3},-1.3155690894140347E-3,-3.4069967840907569E-4,-1.345958686103966E-4,5.2952348256640888E-4,1.3033233151717235E-3,1.9848678456971065E-3,1.7112258880342006E-4,7.430179844140943E-4,8.5151607389008857E-4,9.2385482038060491E-4,9.4304391166032293E-4,9.0893603115020421E-4,9.0893603115020421E-4,9.0893603115020421E-4,null,"Termiske tøjninger i overside"]
[null,"a''",null,null,null,null,0,{"$f":"G155+0.5*(G154+H154)*(H$80-G$80)","v":-1.6539449594173805E-3},{"$f":"H155+0.5*(H154+I154)*(I$80-H$80)","v":-2.3992659049377803E-3},-2.4467954596397276E-3,-2.3085707947551235E-3,-1.4837897357729639E-3,-4.1037133819907257E-6,-4.0929334298186314E-6,4.5297278247607265E-4,1.0907864057977457E-3,{"$f":"P155+0.5*(P154+Q154)*(Q$80-P$80)","v":1.8897033082195581E-3},{"$f":"Q155+0.5*(Q154+R154)*(R$80-Q$80)","v":2.7298077376379753E-3},{"$f":"R155+0.5*(R154+S154)*(S$80-R$80)","v":3.5631987119027131E-3},{"$f":"S155+0.5*(S154+T154)*(T$80-S$80)","v":3.5631987119027131E-3},{"$f":"T155+0.5*(T154+U154)*(U$80-T$80)","v":3.5631987119027131E-3},null,"et (nulpunkt)",null,{"$f":"$AF$117*(1-2.35*Y$126/Stivheder!$F$6)","v":1.4482163688826044E-3},{"$f":"$AF$117*(1-2.35*Z$126/Stivheder!$F$6)","v":1.4482163688826044E-3},{"$f":"$AF$117*(1-2.35*AA$126/Stivheder!$F$6)","v":1.4482163688826044E-3},{"$f":"$AF$117*(1-2.35*AB$126/Stivheder!$F$6)","v":1.4482163688826044E-3},{"$f":"$AF$117*(1-2.35*AC$126/Stivheder!$F$6)","v":1.4482163688826044E-3},{"$f":"$AF$117*(1-2.35*AD$126/Stivheder!$F$6)","v":1.4482163688826044E-3},{"$f":"$AF$117*(1-2.35*AE$126/Stivheder!$F$6)","v":1.4482163688826044E-3},{"$f":"$AF$117*(1-2.35*AF$126/Stivheder!$F$6)","v":2.8064419066972483E-3},{"$f":"$AF$117*(1-2.35*AG$126/Stivheder!$F$6)","v":2.8064419066972483E-3},{"$f":"$AF$117*(1-2.35*AH$126/Stivheder!$F$6)","v":2.8064419066972483E-3},{"$f":"$AF$117*(1-2.35*AI$126/Stivheder!$F$6)","v":2.8064419066972483E-3},{"$f":"$AF$117*(1-2.35*AJ$126/Stivheder!$F$6)","v":2.8064419066972483E-3},{"$f":"$AF$117*(1-2.35*AK$126/Stivheder!$F$6)","v":2.8064419066972483E-3},{"$f":"$AF$117*(1-2.35*AL$126/Stivheder!$F$6)","v":2.8064419066972483E-3},{"$f":"$AF$117*(1-2.35*AM$126/Stivheder!$F$6)","v":2.8064419066972483E-3}]
[null,"u''",null,null,null,null,0,{"$f":"G156-0.5*(G155+H155)*(H$80-G$80)","v":7.4427523173782118E-4},{"$f":"H156-0.5*(H155+I155)*(I$80-H$80)","v":2.5682201206976437E-3},3.0528262571553944E-3,4.7172044461935925E-3,6.4237666849312315E-3,7.0933187370509614E-3,7.0933187780341956E-3,6.8688810979103138E-3,6.2513774226007866E-3,{"$f":"P156-0.5*(P155+Q155)*(Q$80-P$80)","v":4.9101570512929994E-3},{"$f":"Q156-0.5*(Q155+R155)*(R$80-Q$80)","v":2.8313770806571107E-3},{"$f":"R156-0.5*(R155+S155)*(S$80-R$80)","v":-4.758216361998302E-7},{"$f":"S156-0.5*(S155+T155)*(T$80-S$80)","v":-4.758216361998302E-7},{"$f":"T156-0.5*(T155+U155)*(U$80-T$80)","v":-4.758216361998302E-7},null,"et_revnet",null,{"$f":"$AF$118","v":4.0724921603472082E-3},{"$f":"$AF$118","v":4.0724921603472082E-3},4.0724921603472082E-3,4.0724921603472082E-3,4.0724921603472082E-3,4.0724921603472082E-3,4.0724921603472082E-3,4.0724921603472082E-3,4.0724921603472082E-3,4.0724921603472082E-3,4.0724921603472082E-3,4.0724921603472082E-3,4.0724921603472082E-3,4.0724921603472082E-3,4.0724921603472082E-3]
[null,"a'",null,null,{"$f":"IF(ABS(G159)>=ABS($D$34),1,0)","v":0},null,{"$f":"IF(E147=1,0,G155+U156/$D$2)","v":-5.2869070688870023E-8},{"$f":"IF(E147=1,H155+U156/($D$2-$H$80),G157+0.5*(G154+H154)*(H$80-G$80))","v":-1.6539978284880693E-3},{"$f":"H157+0.5*(H154+I154)*(I$80-H$80)","v":-2.399318774008469E-3},-2.4468483287104163E-3,-2.3086236638258121E-3,-1.4838426048436526E-3,-4.1565824526793547E-6,-4.1458025005072604E-6,4.5291991340538402E-4,1.0907335367270571E-3,{"$f":"P157+0.5*(P154+Q154)*(Q$80-P$80)","v":1.8896504391488695E-3},{"$f":"Q157+0.5*(Q154+R154)*(R$80-Q$80)","v":2.7297548685672867E-3},{"$f":"R157+0.5*(R154+S154)*(S$80-R$80)","v":3.5631458428320244E-3},{"$f":"S157+0.5*(S154+T154)*(T$80-S$80)","v":3.5631458428320244E-3},{"$f":"T157+0.5*(T154+U154)*(U$80-T$80)","v":3.5631458428320244E-3}]
[null,null,null,null,null,null,0,{"$f":"G158-0.5*(G157+H157)*(H$80-G$80)","v":7.443228139014412E-4},{"$f":"H158-0.5*(H157+I157)*(I$80-H$80)","v":2.5683152850248837E-3},3.0529319952967721E-3,4.7173471926844528E-3,6.4239570135857117E-3,7.0935566478690613E-3,7.0935566893809863E-3,6.8691718777991028E-3,6.2517104977461262E-3,{"$f":"P158-0.5*(P157+Q157)*(Q$80-P$80)","v":4.9105377086019588E-3},{"$f":"Q158-0.5*(Q157+R157)*(R$80-Q$80)","v":2.8318053201296894E-3},{"$f":"R158-0.5*(R157+S157)*(S$80-R$80)","v":0},{"$f":"S158-0.5*(S157+T157)*(T$80-S$80)","v":0},{"$f":"T158-0.5*(T157+U157)*(U$80-T$80)","v":0},null,"Brand",null,{"$f":"IF(C21=1,0,1)","v":0}]
[null,"M'",null,null,{"$f":"IF(AND($D$36=0,$D$37=0),0,IF(AND($D$36=1,$D$37=0),IF(E147=1,$D$34-G153,IF(ABS(3*$D$36*G157*$C$118/$D$2)>ABS($D$34-G153),$D$34-G153,3*$D$36*G157*$C$118/$D$2))))","v":-7.8715111463127277E-7},null,{"$f":"IF(AND($D$36=0,$D$37=0),G153,IF(AND($D$36=1,$D$37=0),G153+E159))","v":-0.10463919975342535},{"$f":"$E159*($D$2-H$80)/$D$2+H153","v":-5.833417689732779E-2},{"$f":"$E159*($D$2-I$80)/$D$2+I153","v":-1.5107547407830813E-2},-5.9687091684308717E-3,2.3879136395859025E-2,5.877492554197733E-2,8.9510317940183187E-2,9.0106352372380221E-3,3.9125776024500777E-2,4.4839173597652458E-2,{"$f":"$E159*($D$2-Q$80)/$D$2+Q153","v":4.8648489499989345E-2},{"$f":"$E159*($D$2-R$80)/$D$2+R153","v":4.9659033610728695E-2},{"$f":"$E159*($D$2-S$80)/$D$2+S153","v":4.7863048485646043E-2},{"$f":"$E159*($D$2-T$80)/$D$2+T153","v":4.7863048485646043E-2},{"$f":"$E159*($D$2-U$80)/$D$2+U153","v":4.7863048485646043E-2},null,"Termisk udvidelse, os",null,{"$f":"Firsidig!$D$2*$Y$158*IF(OR(X161=1,X161=3),1,0)","v":0},{"$f":"Y159","v":0},{"$f":"Z159","v":0},0,0,0,0,0,0,0,0,0,0,0,0]
[null,"h'",null,null,null,null,{"$f":"G154+(G159-G153)/$C$118","v":-2.3598817767592627E-3},-1.3155849501352414E-3,-3.4071377682792602E-4,-1.3460957540650112E-4,5.2951114644991478E-4,1.3033127413575856E-3,1.984859034185325E-3,1.711137773112197E-4,7.4301113101604211E-4,8.5151078698301964E-4,9.2385129577589233E-4,9.4304214935796659E-4,9.0893603115020421E-4,9.0893603115020421E-4,9.0893603115020421E-4,null,"Termisk udvidelse, us",null,{"$f":"Firsidig!$D$11*$Y$158*IF(OR(X161=1,X161=2),1,0)","v":0},{"$f":"Y160","v":0},{"$f":"Z160","v":0},0,0,0,0,0,0,0,0,0,0,0,0]
[null,"a'",null,null,null,null,{"$f":"IF(E157=1,0,G157-E159*$D$2/(3*$C$56))","v":-2.2405354186069191E-9},{"$f":"IF(E157=1,H155+(U156+U158)/($D$2-$H$80),G161+0.5*(G160+H160)*(H$80-G$80))","v":-1.6539622676379456E-3},{"$f":"H161+0.5*(H160+I160)*(I$80-H$80)","v":-2.3992966947713711E-3},-2.4468290299948137E-3,-2.3086134801296189E-3,-1.4838427306162437E-3,-4.165431621934142E-6,-4.1546517578770675E-6,4.5290323178121238E-4,1.0907119989808369E-3,{"$f":"P161+0.5*(P160+Q160)*(Q$80-P$80)","v":1.8896249362223478E-3},{"$f":"Q161+0.5*(Q160+R160)*(R$80-Q$80)","v":2.729726986532584E-3},{"$f":"R161+0.5*(R160+S160)*(S$80-R$80)","v":3.5631171677612612E-3},{"$f":"S161+0.5*(S160+T160)*(T$80-S$80)","v":3.5631171677612612E-3},{"$f":"T161+0.5*(T160+U160)*(U$80-T$80)","v":3.5631171677612612E-3},null,"type",{"$f":"Brand!$BK$63","v":2}]
[null,"u",null,{"$f":"E162/E152","v":1.0000062388605644},{"$f":"MAX(ABS(MAX(G162:U162)),ABS(MIN(G162:U162)))","v":7.0934770222256111E-3},null,0,{"$f":"IF(E157=1,H158,G162-0.5*(G161+H161)*(H$80-G$80))","v":7.4428402867801396E-4},{"$f":"H162-0.5*(H161+I161)*(I$80-H$80)","v":2.5682505617622064E-3},3.0528631342388248E-3,4.7172680127823769E-3,6.4238733076180145E-3,7.0934769806251944E-3,7.0934770222256111E-3,6.8691049759568431E-3,6.2516588836520233E-3,4.9105072628105898E-3,2.8317988975708717E-3,1.9028138640263259E-8,1.9028138640263259E-8,1.9028138640263259E-8]
[null,"Korrigeret moment",null,null,{"$f":"IF(E157=1,$D$34-F163,G159-F163)","v":-2.6519481327278022E-3},{"$f":"G$110+G162*$D$3+IF($D$6>G$80,G162*$D$4,INDEX($G162:$U162,1+$D$82)*$D$4)-INDEX($G162:$U162,1+$D$82)*$D$4*G$80/$D$2","v":-0.10198725162069755},{"$f":"G$110+$E163*($D$2-G$45)/$D$2+G162*$D$3+IF($D$6>G$80,G162*$D$4,INDEX($G162:$U162,1+$D$82)*$D$4)-INDEX($G162:$U162,1+$D$82)*$D$4*G$80/$D$2","v":-0.10463919975342535},-5.8334182332312981E-2,-1.5107545905913164E-2,-5.9687049107859415E-3,2.3879151622009816E-2,5.8774954562511354E-2,8.9510355556818771E-2,9.0106728538754607E-3,3.9125810206372118E-2,4.4839199681729718E-2,4.8648500458007796E-2,4.9659022862086712E-2,4.7863009514069368E-2,4.7863009514069368E-2,4.7863009514069368E-2,null,"x",null,{"$f":"$G$80","v":0},{"$f":"$H$80","v":0.9},{"$f":"$I$80","v":1.8},{"$f":"$J$80","v":2},{"$f":"$K$80","v":2.7},{"$f":"$L$80","v":3.6},{"$f":"$M$80","v":4.5},{"$f":"$N$80","v":4.5000099999999996},{"$f":"$O$80","v":5.5},{"$f":"$P$80","v":6.3},{"$f":"$Q$80","v":7.2},{"$f":"$R$80","v":8.1},{"$f":"$S$80","v":9},{"$f":"$T$80","v":9},{"$f":"$U$80","v":9}]
[null,"h''",null,null,null,null,{"$f":"Y$248+(G163-G$59)/G$113","v":-2.3598819060090073E-3},-1.3155851890328451E-3,-3.407138463556328E-4,-1.3460957991328452E-4,5.2951160184575691E-4,1.303313485815856E-3,1.9848599524359967E-3,1.7111582903564187E-4,7.4301282032173939E-4,8.5151208475334531E-4,9.2385203882221234E-4,9.4304221271235451E-4,9.0893529106633264E-4,9.0893529106633264E-4,9.0893529106633264E-4,null,"sign(Mo)",null,{"$f":"SIGN(Y165)","v":-1},{"$f":"SIGN(Z165)","v":-1},-1,-1,1,1,1,1,1,1,1,1,1,1,1]
[null,"a''",null,null,null,null,0,{"$f":"G165+0.5*(G164+H164)*(H$80-G$80)","v":-1.6539601927688336E-3},{"$f":"H165+0.5*(H164+I164)*(I$80-H$80)","v":-2.3992947586936484E-3},-2.44682710132054E-3,-2.3086113936441745E-3,-1.4838401041964487E-3,-4.1620569831153208E-6,-4.1512771042083704E-6,4.5290847693123563E-4,1.0907184389612693E-3,{"$f":"P165+0.5*(P164+Q164)*(Q$80-P$80)","v":1.8896322945702706E-3},{"$f":"Q165+0.5*(Q164+R164)*(R$80-Q$80)","v":2.7297347077608249E-3},{"$f":"R165+0.5*(R164+S164)*(S$80-R$80)","v":3.5631245844612346E-3},{"$f":"S165+0.5*(S164+T164)*(T$80-S$80)","v":3.5631245844612346E-3},{"$f":"T165+0.5*(T164+U164)*(U$80-T$80)","v":3.5631245844612346E-3},null,"M0 (før brand og N)",null,{"$f":"G$108+G$109","v":-0.10198725162069755},{"$f":"H$108+H$109","v":-5.6344026458627808E-2},-1.5074801296558044E-2,-6.466084593875876E-3,2.1564423865511721E-2,5.4643649027581474E-2,8.4806874189651243E-2,4.3071940364474651E-3,3.4791568814173203E-2,4.1019324513790756E-2,4.573054967586053E-2,4.8011774837930288E-2,4.7863000000000051E-2,4.7863000000000051E-2,4.7863000000000051E-2]
[null,"u''",null,null,null,null,0,{"$f":"G166-0.5*(G165+H165)*(H$80-G$80)","v":7.4428208674597507E-4},{"$f":"H166-0.5*(H165+I165)*(I$80-H$80)","v":2.5682468149040918E-3},3.0528590009055107E-3,4.7172624741431612E-3,6.4238656481714418E-3,7.0934666207022453E-3,7.0934666622689156E-3,6.8690903061414009E-3,6.2516395397843993E-3,{"$f":"P166-0.5*(P165+Q165)*(Q$80-P$80)","v":4.9104817096952058E-3},{"$f":"Q166-0.5*(Q165+R165)*(R$80-Q$80)","v":2.8317665586462142E-3},{"$f":"R166-0.5*(R165+S165)*(S$80-R$80)","v":-2.0122853713628458E-8},{"$f":"S166-0.5*(S165+T165)*(T$80-S$80)","v":-2.0122853713628458E-8},{"$f":"T166-0.5*(T165+U165)*(U$80-T$80)","v":-2.0122853713628458E-8},null,"e_os",null,{"$f":"IF(Y164=1,IF(Y165<Y$132,Y$137+(Y$138-Y$137)*(Y165-Y$131)/(Y$132-Y$131),IF(Y165<Y$133,Y$138*(Y$133-Y165)/(Y$133-Y$132),0)),IF(Y165>Y$146,Y$156+(Y$155-Y$156)*(Y165-Y$146)/(Y$145-Y$146),Y$156))*Y$159","v":0},0,0,0,0,0,0,0,0,0,0,0,0,0,0]
[null,"a'",null,null,{"$f":"IF(ABS(G169)>=ABS($D$34),1,0)","v":0},null,{"$f":"IF(E157=1,0,G165+U166/$D$2)","v":-2.2358726348476064E-9},{"$f":"IF(E157=1,H165+U166/($D$2-$H$80),G167+0.5*(G164+H164)*(H$80-G$80))","v":-1.6539624286414684E-3},{"$f":"H167+0.5*(H164+I164)*(I$80-H$80)","v":-2.3992969945662835E-3},-2.446829337193175E-3,-2.3086136295168095E-3,-1.4838423400690838E-3,-4.1642928557503612E-6,-4.1535129768434108E-6,4.5290624105860059E-4,1.0907162030886343E-3,{"$f":"P167+0.5*(P164+Q164)*(Q$80-P$80)","v":1.8896300586976355E-3},{"$f":"Q167+0.5*(Q164+R164)*(R$80-Q$80)","v":2.7297324718881903E-3},{"$f":"R167+0.5*(R164+S164)*(S$80-R$80)","v":3.5631223485886E-3},{"$f":"S167+0.5*(S164+T164)*(T$80-S$80)","v":3.5631223485886E-3},{"$f":"T167+0.5*(T164+U164)*(U$80-T$80)","v":3.5631223485886E-3},null,"e_us",null,{"$f":"IF(Y164=1,IF(Y165<Y$132,Y$142+(Y$141-Y$142)*(Y$132-Y165)/(Y$132-Y$131),Y$142),IF(Y165>Y$146,Y$152+(Y$151-Y$152)*(Y165-Y$146)/(Y$145-Y$146),IF(Y165>Y$147,Y$153+(Y$152-Y$153)*(Y165-Y$147)/(Y$146-Y$147),0)))*Y$160","v":0},0,0,0,0,0,0,0,0,0,0,0,0,0,0]
[null,null,null,null,null,null,0,{"$f":"G168-0.5*(G167+H167)*(H$80-G$80)","v":7.442840990313465E-4},{"$f":"H168-0.5*(H167+I167)*(I$80-H$80)","v":2.5682508394748349E-3},3.0528634726507808E-3,4.717268510999276E-3,6.423873697312928E-3,7.0934766821291028E-3,7.0934767237181319E-3,6.8691026034408938E-3,6.2516536257820002E-3,{"$f":"P168-0.5*(P167+Q167)*(Q$80-P$80)","v":4.9104978079781781E-3},{"$f":"Q168-0.5*(Q167+R167)*(R$80-Q$80)","v":2.8317846692145579E-3},{"$f":"R168-0.5*(R167+S167)*(S$80-R$80)","v":0},{"$f":"S168-0.5*(S167+T167)*(T$80-S$80)","v":0},{"$f":"T168-0.5*(T167+U167)*(U$80-T$80)","v":0},null,"EI",null,{"$f":"IF(Y165<Y$146,Y$149,IF(Y165<Y$132,$X$121,Y$135))","v":55.955848145372805},{"$f":"IF(Z165<Z$146,Z$149,IF(Z165<Z$132,$X$121,Z$135))","v":55.955848145372805},55.955848145372805,55.955848145372805,55.955848145372805,55.955848145372805,55.955848145372805,55.955848145372805,55.955848145372805,55.955848145372805,55.955848145372805,55.955848145372805,55.955848145372805,55.955848145372805,55.955848145372805]
[null,"M'",null,null,{"$f":"IF(AND($D$36=0,$D$37=0),0,IF(AND($D$36=1,$D$37=0),IF(E157=1,$D$34-G163,IF(ABS(3*$D$36*G167*$C$118/$D$2)>ABS($D$34-G163),$D$34-G163,3*$D$36*G167*$C$118/$D$2))))","v":-3.3289210757100781E-8},null,{"$f":"IF(AND($D$36=0,$D$37=0),G163,IF(AND($D$36=1,$D$37=0),G163+E169))","v":-0.10463923304263612},{"$f":"$E169*($D$2-H$80)/$D$2+H163","v":-5.8334212292602661E-2},{"$f":"$E169*($D$2-I$80)/$D$2+I163","v":-1.5107572537281769E-2},-5.9687308023943083E-3,2.3879128319562286E-2,5.8774934588984903E-2,8.9510338912213397E-2,9.0106562093070705E-3,3.9125797260567932E-2,4.4839189694966489E-2,{"$f":"$E169*($D$2-Q$80)/$D$2+Q163","v":4.8648493800165643E-2},{"$f":"$E169*($D$2-R$80)/$D$2+R163","v":4.9659019533165635E-2},{"$f":"$E169*($D$2-S$80)/$D$2+S163","v":4.7863009514069368E-2},{"$f":"$E169*($D$2-T$80)/$D$2+T163","v":4.7863009514069368E-2},{"$f":"$E169*($D$2-U$80)/$D$2+U163","v":4.7863009514069368E-2},null,"k",null,{"$f":"Y165/Y168-(Y166-Y167)/$AA$117","v":-1.8226379368915214E-3},{"$f":"Z165/Z168-(Z166-Z167)/$AA$117","v":-1.0069372250822921E-3},-2.6940528642142717E-4,-1.1555690438427534E-4,3.8538284344270032E-4,9.7654938382164727E-4,1.5156034087683511E-3,7.6974868207830795E-5,6.2176823276425034E-4,7.3306590594825606E-4,8.1726130854192325E-4,8.5802961494205426E-4,8.5537082514864921E-4,8.5537082514864921E-4,8.5537082514864921E-4]
[null,"h'",null,null,null,null,{"$f":"G164+(G169-G163)/$C$118","v":-2.3598826512998858E-3},-1.3155858597946356E-3,-3.4071444258833544E-4,-1.3461015958396764E-4,5.2951108014214214E-4,1.3033130386413292E-3,1.9848595797905574E-3,1.7111545639103085E-4,7.4301253048639779E-4,8.515118611660818E-4,9.238518897640367E-4,9.4304213818326664E-4,9.0893529106633264E-4,9.0893529106633264E-4,9.0893529106633264E-4,null,"a",null,0,{"$f":"Y170+0.5*(Y169+Z169)*(Z$163-Y$163)","v":-1.2733088228882162E-3},{"$f":"Z170+0.5*(Z169+AA169)*(AA$163-Z$163)","v":-1.8476629530648899E-3},-1.8861591721454601E-3,-1.7917200934750113E-3,-1.178850591206055E-3,-5.7381834540555813E-5,-5.7373871649171232E-5,2.9199418512136459E-4,8.33927840606367E-4,1.5315750871269479E-3,2.2854560026947372E-3,3.0564862007355538E-3,3.0564862007355538E-3,3.0564862007355538E-3]
[null,"a'",null,null,null,null,{"$f":"IF(E167=1,0,G167-E169*$D$2/(3*$C$56))","v":-9.4753922559956489E-11},{"$f":"IF(E167=1,H165+(U166+U168)/($D$2-$H$80),G171+0.5*(G170+H170)*(H$80-G$80))","v":-1.6539609247464573E-3},{"$f":"H171+0.5*(H170+I170)*(I$80-H$80)","v":-2.399296060818794E-3},-2.4468285210360241E-3,-2.3086131988406628E-3,-1.4838423453881009E-3,-4.1646670937520603E-6,-4.1538872185715602E-6,4.5290553558020852E-4,1.0907152922412001E-3,{"$f":"P171+0.5*(P170+Q170)*(Q$80-P$80)","v":1.8896289801597537E-3},{"$f":"Q171+0.5*(Q170+R170)*(R$80-Q$80)","v":2.7297312927360398E-3},{"$f":"R171+0.5*(R170+S170)*(S$80-R$80)","v":3.5631211358983601E-3},{"$f":"S171+0.5*(S170+T170)*(T$80-S$80)","v":3.5631211358983601E-3},{"$f":"T171+0.5*(T170+U170)*(U$80-T$80)","v":3.5631211358983601E-3},null,"u",null,0,{"$f":"Y171-0.5*(Y170+Z170)*(Z$163-Y$163)","v":5.7298897029969733E-4},1.9774262694785948E-3,2.3508084819996297E-3,3.6380662249667949E-3,4.9748230330732748E-3,5.5311276246592499E-3,5.5311281984377807E-3,5.413819214803251E-3,4.9634504045121585E-3,3.8989740870321666E-3,2.1813100966124096E-3,-2.2256389493122229E-4,-2.2256389493122229E-4,-2.2256389493122229E-4]
[null,"u",null,{"$f":"E172/E162","v":0.99999948294874375},{"$f":"MAX(ABS(MAX(G172:U172)),ABS(MIN(G172:U172)))","v":7.0934733545344056E-3},null,0,{"$f":"IF(E167=1,H168,G172-0.5*(G171+H171)*(H$80-G$80))","v":7.4428245877517093E-4},{"$f":"H172-0.5*(H171+I171)*(I$80-H$80)","v":2.5682481022795338E-3},3.0528605604650157E-3,4.7172651624218563E-3,6.4238701573247998E-3,7.0934733129416339E-3,7.0934733545344056E-3,6.8690997741118285E-3,6.2516514429832651E-3,4.9104965204028357E-3,2.8317843975997296E-3,8.0471424836192629E-10,8.0471424836192629E-10,8.0471424836192629E-10,null,"a",null,{"$f":"AM171/$D$2","v":-2.4729321659024699E-5},{"$f":"Y172+0.5*(Y169+Z169)*(Z$163-Y$163)","v":-1.298038144547241E-3},-1.8723922747239147E-3,-1.9108884938044848E-3,-1.816449415134036E-3,-1.2035799128650797E-3,-8.211115619958056E-5,-8.2103193308195985E-5,2.6726486346233984E-4,8.0919851894734225E-4,1.5068457654679231E-3,2.2607266810357124E-3,3.0317568790765295E-3,3.0317568790765295E-3,3.0317568790765295E-3]
[null,"Korrigeret moment",null,null,{"$f":"IF(E167=1,$D$34-F173,G169-F173)","v":-2.6519814219385651E-3},{"$f":"G$110+G172*$D$3+IF($D$6>G$80,G172*$D$4,INDEX($G172:$U172,1+$D$82)*$D$4)-INDEX($G172:$U172,1+$D$82)*$D$4*G$80/$D$2","v":-0.10198725162069755},{"$f":"G$110+$E173*($D$2-G$45)/$D$2+G172*$D$3+IF($D$6>G$80,G172*$D$4,INDEX($G172:$U172,1+$D$82)*$D$4)-INDEX($G172:$U172,1+$D$82)*$D$4*G$80/$D$2","v":-0.10463923304263612},-5.8334213919748225E-2,-1.5107574975185284E-2,-5.9687333203943286E-3,2.387912566934321E-2,5.8774931835584444E-2,8.9510335794682358E-2,9.0106530917750706E-3,3.9125793661220452E-2,4.4839185204418562E-2,4.8648487915486059E-2,4.9659012026442212E-2,4.7863000402357178E-2,4.7863000402357178E-2,4.7863000402357178E-2,null,"u",{"$f":"SUMPRODUCT(Y168:AM168,$G$43:$U$43)/$V$43","v":55.955848145372798},0,{"$f":"Y173-0.5*(Y172+Z172)*(Z$163-Y$163)","v":5.9524535979281956E-4},2.0219390484648397E-3,2.4002671253176796E-3,3.704835393446162E-3,5.0638485910457637E-3,5.6424095721248606E-3,5.6424103931966086E-3,5.5498304839278877E-3,5.1192451309640154E-3,4.0770252029771453E-3,2.3816176020505101E-3,0,0,0]
[null,"h''",null,null,null,null,{"$f":"Y$248+(G173-G$59)/G$113","v":-2.3598826567659543E-3},-1.3155859014103964E-3,-3.4071450194215732E-4,-1.3461022062270266E-4,5.2951102635470583E-4,1.3033129818544229E-3,1.9848595142177268E-3,1.7111545374644353E-4,7.4301250612352258E-4,8.5151180982414297E-4,9.2385180063533771E-4,9.4304200693967556E-4,9.0893511803173124E-4,9.0893511803173124E-4,9.0893511803173124E-4,null,"DM",{"$f":"3*$D$36*Y172*X173/$D$2","v":-4.6125005583015486E-4},{"$f":"$X174*($D$2-Y$163)/$D$2","v":-4.6125005583015486E-4},{"$f":"$X174*($D$2-Z$163)/$D$2","v":-4.1512505024713932E-4},-3.6900004466412388E-4,-3.5875004342345376E-4,-3.2287503908110839E-4,-2.7675003349809295E-4,-2.3062502791507743E-4,-2.3062451541501543E-4,-1.7937502171172688E-4,-1.3837501674904647E-4,-9.2250011166030956E-5,-4.6125005583015505E-5,0,0,0]
[null,"a''",null,null,null,null,0,{"$f":"G175+0.5*(G174+H174)*(H$80-G$80)","v":-1.653960851179358E-3},{"$f":"H175+0.5*(H174+I174)*(I$80-H$80)","v":-2.3992960326880072E-3},-2.4468285049444932E-3,-2.3086132229382921E-3,-1.4838424192441843E-3,-4.1647960117171222E-6,-4.1540161368777096E-6,4.5290539315830612E-4,1.0907151195373721E-3,{"$f":"P175+0.5*(P174+Q174)*(Q$80-P$80)","v":1.8896287442441387E-3},{"$f":"Q175+0.5*(Q174+R174)*(R$80-Q$80)","v":2.7297309576528941E-3},{"$f":"R175+0.5*(R174+S174)*(S$80-R$80)","v":3.5631206638900275E-3},{"$f":"S175+0.5*(S174+T174)*(T$80-S$80)","v":3.5631206638900275E-3},{"$f":"T175+0.5*(T174+U174)*(U$80-T$80)","v":3.5631206638900275E-3},null,"k",null,{"$f":"Y169+Y174/$X173","v":-1.8308810441111964E-3},{"$f":"Z169+Z174/$X173","v":-1.0143560215799994E-3},{"$f":"AA169+AA174/$X173","v":-2.7599977219716707E-4},{"$f":"AB169+AB174/$X173","v":-1.2196820999957804E-4},3.796126683889279E-4,9.7160351948984234E-4,1.5114818551585137E-3,7.2853323757001367E-5,6.1856257995659904E-4,7.3059297378235354E-4,8.1561268709798827E-4,8.5720530422008672E-4,8.5537082514864921E-4,8.5537082514864921E-4,8.5537082514864921E-4]
[null,"u''",null,null,null,null,0,{"$f":"G176-0.5*(G175+H175)*(H$80-G$80)","v":7.4428238303071107E-4},{"$f":"H176-0.5*(H175+I175)*(I$80-H$80)","v":2.5682479807710257E-3},3.0528604345342754E-3,4.7172650392932509E-3,6.4238700782753653E-3,7.0934733251405207E-3,7.0934733667345814E-3,6.8690999219807522E-3,6.2516517169024805E-3,{"$f":"P176-0.5*(P175+Q175)*(Q$80-P$80)","v":4.9104969782008002E-3},{"$f":"Q176-0.5*(Q175+R175)*(R$80-Q$80)","v":2.8317851123471367E-3},{"$f":"R176-0.5*(R175+S175)*(S$80-R$80)","v":1.8826528209656135E-9},{"$f":"S176-0.5*(S175+T175)*(T$80-S$80)","v":1.8826528209656135E-9},{"$f":"T176-0.5*(T175+U175)*(U$80-T$80)","v":1.8826528209656135E-9},null,"a",null,{"$f":"Y172-X174*$D$2/(3*$X$121)","v":0},{"$f":"Y176+0.5*(Y175+Z175)*(Z$163-Y$163)","v":-1.2803566795610382E-3},{"$f":"Z176+0.5*(Z175+AA175)*(AA$163-Z$163)","v":-1.8610167867607629E-3},-1.9008135849804375E-3,-1.8106380245441649E-3,-1.2025907399987185E-3,-8.5202321406958274E-5,-8.5194399731064002E-5,{"$f":"AF176+0.5*(AF175+AG175)*(AG$163-AF$163)","v":2.6051009504621779E-4},8.0017231654179867E-4,1.4959648639379527E-3,2.2487329600310857E-3,3.0193922182470173E-3,3.0193922182470173E-3,3.0193922182470173E-3]
[null,"a'",null,null,{"$f":"IF(ABS(G179)>=ABS($D$34),1,0)","v":0},null,{"$f":"IF(E167=1,0,G175+U176/$D$2)","v":2.0918364677395707E-10},{"$f":"IF(E167=1,H175+U176/($D$2-$H$80),G177+0.5*(G174+H174)*(H$80-G$80))","v":-1.6539606419957113E-3},{"$f":"H177+0.5*(H174+I174)*(I$80-H$80)","v":-2.3992958235043603E-3},-2.4468282957608462E-3,-2.3086130137546452E-3,-1.4838422100605373E-3,-4.1645868280701555E-6,-4.1538069532307429E-6,4.5290560234195309E-4,1.0907153287210191E-3,{"$f":"P177+0.5*(P174+Q174)*(Q$80-P$80)","v":1.8896289534277857E-3},{"$f":"Q177+0.5*(Q174+R174)*(R$80-Q$80)","v":2.7297311668365411E-3},{"$f":"R177+0.5*(R174+S174)*(S$80-R$80)","v":3.5631208730736745E-3},{"$f":"S177+0.5*(S174+T174)*(T$80-S$80)","v":3.5631208730736745E-3},{"$f":"T177+0.5*(T174+U174)*(U$80-T$80)","v":3.5631208730736745E-3},null,"u",null,0,{"$f":"Y177-0.5*(Y176+Z176)*(Z$163-Y$163)","v":5.7616050580246722E-4},{"$f":"Z177-0.5*(Z176+AA176)*(AA$163-Z$163)","v":1.9897785656472775E-3},2.3659616028213976E-3,3.6649696661550085E-3,5.0209226101993057E-3,5.6004294878318605E-3,5.6004303398154666E-3,5.5127733687363664E-3,5.0885004041011598E-3,4.055238672885271E-3,2.3701246520992049E-3,-5.3167812594234753E-7,-5.3167812594234753E-7,-5.3167812594234753E-7]
[null,null,null,null,null,null,0,{"$f":"G178-0.5*(G177+H177)*(H$80-G$80)","v":7.4428219476542902E-4},{"$f":"H178-0.5*(H177+I177)*(I$80-H$80)","v":2.5682476042404615E-3},3.0528600161669819E-3,4.7172644744974046E-3,6.4238693252142362E-3,7.0934723838141098E-3,7.0934724254060784E-3,6.8690987714706943E-3,6.2516503990455059E-3,{"$f":"P178-0.5*(P177+Q177)*(Q$80-P$80)","v":4.9104954720785438E-3},{"$f":"Q178-0.5*(Q177+R177)*(R$80-Q$80)","v":2.831783417959598E-3},{"$f":"R178-0.5*(R177+S177)*(S$80-R$80)","v":0},{"$f":"S178-0.5*(S177+T177)*(T$80-S$80)","v":0},{"$f":"T178-0.5*(T177+U177)*(U$80-T$80)","v":0},null,"sign(Mo)",null,{"$f":"SIGN(Y179)","v":-1},-1,-1,-1,1,1,1,1,1,1,1,1,1,1,1]
[null,"M'",null,null,{"$f":"IF(AND($D$36=0,$D$37=0),0,IF(AND($D$36=1,$D$37=0),IF(E167=1,$D$34-G173,IF(ABS(3*$D$36*G177*$C$118/$D$2)>ABS($D$34-G173),$D$34-G173,3*$D$36*G177*$C$118/$D$2))))","v":3.1144701159920089E-9},null,{"$f":"IF(AND($D$36=0,$D$37=0),G173,IF(AND($D$36=1,$D$37=0),G173+E179))","v":-0.104639229928166},{"$f":"$E179*($D$2-H$80)/$D$2+H173","v":-5.833421111672512E-2},{"$f":"$E179*($D$2-I$80)/$D$2+I173","v":-1.5107572483609191E-2},-5.9687308980286829E-3,2.3879127849472291E-2,5.8774933704266515E-2,8.9510337351917421E-2,9.0106546490066677E-3,3.9125794872403273E-2,4.4839186138759597E-2,{"$f":"$E179*($D$2-Q$80)/$D$2+Q173","v":4.864848853838008E-2},{"$f":"$E179*($D$2-R$80)/$D$2+R173","v":4.9659012337889226E-2},{"$f":"$E179*($D$2-S$80)/$D$2+S173","v":4.7863000402357178E-2},{"$f":"$E179*($D$2-T$80)/$D$2+T173","v":4.7863000402357178E-2},{"$f":"$E179*($D$2-U$80)/$D$2+U173","v":4.7863000402357178E-2},null,"M0 (før N)",{"$f":"0.3*X174+X165","v":-1.3837501674904645E-4},{"$f":"G$108+G$109+$X179*($D$2-Y$163)/$D$2+Y177*$D$3+IF(Y$163<$D$6,$D$4*Y177,0)+$D$4*INDEX($Y177:$AM177,$D$82)*Y$163/$D$2","v":-0.10212562663744659},{"$f":"H$108+H$109+$X179*($D$2-Z$163)/$D$2+Z177*$D$3+IF(Z$163<$D$6,$D$4*Z177,0)+$D$4*INDEX($Y177:$AM177,$D$82)*Z$163/$D$2","v":-5.5425706784025044E-2},{"$f":"I$108+I$109+$X179*($D$2-AA$163)/$D$2+AA177*$D$3+IF(AA$163<$D$6,$D$4*AA177,0)+$D$4*INDEX($Y177:$AM177,$D$82)*AA$163/$D$2","v":-1.2094837865752647E-2},-2.9535232774862323E-3,2.6919918701315253E-2,6.1991589480627017E-2,8.92952243387624E-2,8.7955486704624809E-3,3.9641982108613132E-2,4.598231428981428E-2,5.0542210670664958E-2,5.2346180906730551E-2,5.1377379988076594E-2,5.1377379988076594E-2,5.1377379988076594E-2]
[null,"h'",null,null,null,null,{"$f":"G174+(G179-G173)/$C$118","v":-2.359882587038072E-3},-1.3155858386553023E-3,-3.4071444615985151E-4,-1.3461016638990534E-4,5.2951107516422335E-4,1.3033130236911523E-3,1.984859549081668E-3,1.7111548861030717E-4,7.4301253323992122E-4,8.5151183074250766E-4,9.2385181458091406E-4,9.4304201391246379E-4,9.0893511803173124E-4,9.0893511803173124E-4,9.0893511803173124E-4,null,"e_os",null,{"$f":"IF(Y178=1,IF(Y179<Y$132,Y$137+(Y$138-Y$137)*(Y179-Y$131)/(Y$132-Y$131),IF(Y179<Y$133,Y$138*(Y$133-Y179)/(Y$133-Y$132),0)),IF(Y179>Y$146,Y$156+(Y$155-Y$156)*(Y179-Y$146)/(Y$145-Y$146),Y$156))*Y$159","v":0},0,0,0,0,0,0,0,0,0,0,0,0,0,0]
[null,"a'",null,null,null,null,{"$f":"IF(E177=1,0,G177-E179*$D$2/(3*$C$56))","v":8.8649821811427855E-12},{"$f":"IF(E177=1,H175+(U176+U178)/($D$2-$H$80),G181+0.5*(G180+H180)*(H$80-G$80))","v":-1.6539607826970362E-3},{"$f":"H181+0.5*(H180+I180)*(I$80-H$80)","v":-2.3992959108638553E-3},-2.4468283721188308E-3,-2.3086130540478193E-3,-1.4838422095629004E-3,-4.1645518151314266E-6,-4.1537719399433752E-6,4.5290566834506178E-4,1.0907154139380331E-3,{"$f":"P181+0.5*(P180+Q180)*(Q$80-P$80)","v":1.8896290543335731E-3},{"$f":"Q181+0.5*(Q180+R180)*(R$80-Q$80)","v":2.7297312771555927E-3},{"$f":"R181+0.5*(R180+S180)*(S$80-R$80)","v":3.5631209865304809E-3},{"$f":"S181+0.5*(S180+T180)*(T$80-S$80)","v":3.5631209865304809E-3},{"$f":"T181+0.5*(T180+U180)*(U$80-T$80)","v":3.5631209865304809E-3},null,"e_us",null,{"$f":"IF(Y178=1,IF(Y179<Y$132,Y$142+(Y$141-Y$142)*(Y$132-Y179)/(Y$132-Y$131),Y$142),IF(Y179>Y$146,Y$152+(Y$151-Y$152)*(Y179-Y$146)/(Y$145-Y$146),IF(Y179>Y$147,Y$153+(Y$152-Y$153)*(Y179-Y$147)/(Y$146-Y$147),0)))*Y$160","v":0},0,0,0,0,0,0,0,0,0,0,0,0,0,0]
[null,"u",null,{"$f":"E182/E172","v":0.99999991345362205},{"$f":"MAX(ABS(MAX(G182:U182)),ABS(MIN(G182:U182)))","v":7.0934727406199794E-3},null,0,{"$f":"IF(E177=1,H178,G182-0.5*(G181+H181)*(H$80-G$80))","v":7.4428234822442431E-4},{"$f":"H182-0.5*(H181+I181)*(I$80-H$80)","v":2.5682478603268255E-3},3.052860288625094E-3,4.7172647877834224E-3,6.4238696564082459E-3,7.0934726990283603E-3,7.0934727406199794E-3,6.8690990361769018E-3,6.2516506032636639E-3,4.9104955925414404E-3,2.8317834433713171E-3,-7.5287416925751138E-11,-7.5287416925751138E-11,-7.5287416925751138E-11,null,"EI",null,{"$f":"IF(Y179<Y$146,Y$149,IF(Y179<Y$132,$X$121,Y$135))","v":55.955848145372805},{"$f":"IF(Z179<Z$146,Z$149,IF(Z179<Z$132,$X$121,Z$135))","v":55.955848145372805},55.955848145372805,55.955848145372805,55.955848145372805,55.955848145372805,55.955848145372805,55.955848145372805,55.955848145372805,55.955848145372805,66.619873729451115,66.619873729451115,66.619873729451115,66.619873729451115,66.619873729451115]
[null,"Korrigeret moment",{"$f":"H182*$D$3+IF($D$6>H$80,H182*$D$4,INDEX($G182:$U182,1+$D$82)*$D$4)-INDEX($G182:$U182,1+$D$82)*$D$4*H$80/$D$2","v":3.9659572893732393E-4},null,{"$f":"IF(E177=1,$D$34-F183,G179-F183)","v":-2.6519783074684528E-3},{"$f":"G$110+G182*$D$3+IF($D$6>G$80,G182*$D$4,INDEX($G182:$U182,1+$D$82)*$D$4)-INDEX($G182:$U182,1+$D$82)*$D$4*G$80/$D$2","v":-0.10198725162069755},{"$f":"G$110+$E183*($D$2-G$45)/$D$2+G182*$D$3+IF($D$6>G$80,G182*$D$4,INDEX($G182:$U182,1+$D$82)*$D$4)-INDEX($G182:$U182,1+$D$82)*$D$4*G$80/$D$2","v":-0.104639229928166},-5.8334211206412086E-2,-1.5107572688004587E-2,-5.9687311287389714E-3,2.3879127528827954E-2,5.8774933275062349E-2,8.9510336830091117E-2,9.0106541271802853E-3,3.9125794336314974E-2,4.4839185589978008E-2,4.8648487988501528E-2,4.9659011817801087E-2,4.7862999962356344E-2,4.7862999962356344E-2,4.7862999962356344E-2,null,"k",null,{"$f":"Y179/Y182-(Y180-Y181)/$AA$117","v":-1.8251108690574237E-3},-9.905257202076456E-4,-2.161496656136882E-4,-5.2783102667177961E-5,4.8109213949143508E-4,1.1078661397388421E-3,1.5958157600752326E-3,1.5718729966547414E-4,7.08451098902542E-4,8.2176065261941212E-4,7.586656629810063E-4,7.8574422280223424E-4,7.7120200192399701E-4,7.7120200192399701E-4,7.7120200192399701E-4]
[null,"h''",null,null,null,null,{"$f":"Y$248+(G183-G$59)/G$113","v":-2.3598825865266781E-3},-1.3155858402177183E-3,-3.4071445036037577E-4,-1.3461017119526214E-4,5.2951106758811141E-4,1.303313013774328E-3,1.9848595371775436E-3,1.711154734091507E-4,7.4301251894380365E-4,8.5151181714605167E-4,9.2385180202192701E-4,9.4304200297750762E-4,9.0893510967596149E-4,9.0893510967596149E-4,9.0893510967596149E-4,null,"a",null,0,{"$f":"Y184+0.5*(Y183+Z183)*(Z$163-Y$163)","v":-1.2670364651692812E-3},-1.8100403887888815E-3,-1.836933665616968E-3,-1.687025502728478E-3,-9.719942770748533E-4,2.4466257784148016E-4,2.4467134285677852E-4,6.7748621394879394E-4,1.2895709145575754E-3,2.0007627565777641E-3,2.6957472051802218E-3,3.3963730063070264E-3,3.3963730063070264E-3,3.3963730063070264E-3]
[null,"a''",null,null,null,null,0,{"$f":"G185+0.5*(G184+H184)*(H$80-G$80)","v":-1.6539607920349783E-3},{"$f":"H185+0.5*(H184+I184)*(I$80-H$80)","v":-2.3992959227951208E-3},-2.4468283849506845E-3,-2.308613071213187E-3,-1.4838422346000893E-3,-4.1645866717472842E-6,-4.1538067966947589E-6,4.5290561873982086E-4,1.0907153531757629E-3,{"$f":"P185+0.5*(P184+Q184)*(Q$80-P$80)","v":1.8896289818013537E-3},{"$f":"Q185+0.5*(Q184+R184)*(R$80-Q$80)","v":2.729731194051099E-3},{"$f":"R185+0.5*(R184+S184)*(S$80-R$80)","v":3.5631208947451603E-3},{"$f":"S185+0.5*(S184+T184)*(T$80-S$80)","v":3.5631208947451603E-3},{"$f":"T185+0.5*(T184+U184)*(U$80-T$80)","v":3.5631208947451603E-3},null,"u",null,0,{"$f":"Y185-0.5*(Y184+Z184)*(Z$163-Y$163)","v":5.7016640932617657E-4},1.9548509936073498E-3,2.3195483990479347E-3,3.5529341079688411E-3,4.7494930088803396E-3,5.0767922735353577E-3,5.0767898268657546E-3,4.6157156592507523E-3,3.828892807848205E-3,2.3482426558373015E-3,2.3481317304620926E-4,-2.5066409221230533E-3,-2.5066409221230533E-3,-2.5066409221230533E-3]
[null,"u''",null,null,null,null,0,{"$f":"G186-0.5*(G185+H185)*(H$80-G$80)","v":7.4428235641574021E-4},{"$f":"H186-0.5*(H185+I185)*(I$80-H$80)","v":2.5682478780892849E-3},3.0528603088638652E-3,4.7172648185212201E-3,6.4238697061371943E-3,7.0934727757095209E-3,7.0934728173014886E-3,6.8690991550889851E-3,6.2516507663227519E-3,{"$f":"P186-0.5*(P185+Q185)*(Q$80-P$80)","v":4.910495815583049E-3},{"$f":"Q186-0.5*(Q185+R185)*(R$80-Q$80)","v":2.8317837364494466E-3},{"$f":"R186-0.5*(R185+S185)*(S$80-R$80)","v":2.9649112895727137E-10},{"$f":"S186-0.5*(S185+T185)*(T$80-S$80)","v":2.9649112895727137E-10},{"$f":"T186-0.5*(T185+U185)*(U$80-T$80)","v":2.9649112895727137E-10},null,"a",null,{"$f":"AM185/$D$2","v":-2.7851565801367259E-4},{"$f":"Y186+0.5*(Y183+Z183)*(Z$163-Y$163)","v":-1.5455521231829538E-3},-2.0885560468025541E-3,-2.1154493236306407E-3,-1.9655411607421508E-3,-1.2505099350885261E-3,-3.3853080172192591E-5,-3.3844315156894217E-5,3.9897055593512114E-4,1.0110552565439027E-3,1.7222470985640915E-3,2.4172315471665492E-3,3.1178573482933533E-3,3.1178573482933533E-3,3.1178573482933533E-3]
[null,"a'",null,null,{"$f":"IF(ABS(G189)>=ABS($D$34),1,0)","v":0},null,{"$f":"IF(E177=1,0,G185+U186/$D$2)","v":3.2943458773030149E-11},{"$f":"IF(E177=1,H185+U186/($D$2-$H$80),G187+0.5*(G184+H184)*(H$80-G$80))","v":-1.6539607590915196E-3},{"$f":"H187+0.5*(H184+I184)*(I$80-H$80)","v":-2.399295889851662E-3},-2.4468283520072257E-3,-2.3086130382697283E-3,-1.4838422016566306E-3,-4.1645537282885593E-6,-4.1537738532360341E-6,4.5290565168327958E-4,1.0907153861192216E-3,{"$f":"P187+0.5*(P184+Q184)*(Q$80-P$80)","v":1.8896290147448125E-3},{"$f":"Q187+0.5*(Q184+R184)*(R$80-Q$80)","v":2.7297312269945577E-3},{"$f":"R187+0.5*(R184+S184)*(S$80-R$80)","v":3.563120927688619E-3},{"$f":"S187+0.5*(S184+T184)*(T$80-S$80)","v":3.563120927688619E-3},{"$f":"T187+0.5*(T184+U184)*(U$80-T$80)","v":3.563120927688619E-3},null,"u",{"$f":"SUMPRODUCT(Y182:AM182,$G$43:$U$43)/$V$43","v":56.5956896804175},0,{"$f":"Y187-0.5*(Y186+Z186)*(Z$163-Y$163)","v":8.208305015384819E-4},2.4561791780319604E-3,2.87657971507528E-3,4.3049263846057575E-3,5.7521493777295618E-3,6.3301127345968856E-3,6.3301130730838619E-3,6.1475517783259525E-3,5.5835414533343432E-3,4.3535553935357451E-3,2.4907900029569577E-3,0,0,0]
[null,null,null,null,null,null,0,{"$f":"G188-0.5*(G187+H187)*(H$80-G$80)","v":7.442823267666274E-4},{"$f":"H188-0.5*(H187+I187)*(I$80-H$80)","v":2.5682478187910593E-3},3.0528602429769477E-3,4.7172647295738819E-3,6.4238695875407431E-3,7.0934726274639566E-3,7.0934726690555948E-3,6.8690989738999621E-3,6.2516505587789616E-3,{"$f":"P188-0.5*(P187+Q187)*(Q$80-P$80)","v":4.9104955783901456E-3},{"$f":"Q188-0.5*(Q187+R187)*(R$80-Q$80)","v":2.8317834696074302E-3},{"$f":"R188-0.5*(R187+S187)*(S$80-R$80)","v":0},{"$f":"S188-0.5*(S187+T187)*(T$80-S$80)","v":0},{"$f":"T188-0.5*(T187+U187)*(U$80-T$80)","v":0},null,"DM",{"$f":"3*$D$36*Y186*X187/$D$2","v":-5.2542619173597E-3},{"$f":"$X188*($D$2-Y$163)/$D$2","v":-5.2542619173597E-3},{"$f":"$X188*($D$2-Z$163)/$D$2","v":-4.7288357256237302E-3},-4.2034095338877604E-3,-4.0866481579464337E-3,-3.6779833421517897E-3,-3.1525571504158203E-3,-2.62713095867985E-3,-2.6271251206110529E-3,-2.0433240789732169E-3,-1.5762785752079101E-3,-1.0508523834719399E-3,-5.2542619173597026E-4,0,{"$f":"$X188*($D$2-AL$163)/$D$2","v":0},{"$f":"$X188*($D$2-AM$163)/$D$2","v":0}]
[null,"M'",null,1,{"$f":"IF(AND($D$36=0,$D$37=0),0,IF(AND($D$36=1,$D$37=0),IF(E177=1,$D$34-G183,IF(ABS(3*$D$36*G187*$C$118/$D$2)>ABS($D$34-G183),$D$34-G183,3*$D$36*G187*$C$118/$D$2))))","v":4.9048488946599062E-10},null,{"$f":"IF(AND($D$36=0,$D$37=0),G183,IF(AND($D$36=1,$D$37=0),G183+E189))","v":-0.10463922943768111},{"$f":"$E189*($D$2-H$80)/$D$2+H183","v":-5.8334210764975684E-2},{"$f":"$E189*($D$2-I$80)/$D$2+I183","v":-1.5107572295616675E-2},-5.9687307472507242E-3,2.3879127872167377E-2,5.8774933569353281E-2,8.9510337075333568E-2,9.010654372422185E-3,3.9125794527059096E-2,4.4839185737123477E-2,{"$f":"$E189*($D$2-Q$80)/$D$2+Q183","v":4.8648488086598503E-2},{"$f":"$E189*($D$2-R$80)/$D$2+R183","v":4.9659011866849574E-2},{"$f":"$E189*($D$2-S$80)/$D$2+S183","v":4.7862999962356344E-2},{"$f":"$E189*($D$2-T$80)/$D$2+T183","v":4.7862999962356344E-2},{"$f":"$E189*($D$2-U$80)/$D$2+U183","v":4.7862999962356344E-2},null,"k",null,{"$f":"Y183+Y188/$X187","v":-1.9179494217286478E-3},-1.0740804176117473E-3,-2.9042050775066758E-4,-1.2499086585590789E-4,4.1610515262157814E-4,1.0521630081361075E-3,1.5493964837396204E-3,1.1076812648380945E-4,6.7234721730817699E-4,7.9390908681804481E-4,7.4009795244676143E-4,7.764603675351118E-4,7.7120200192399701E-4,7.7120200192399701E-4,7.7120200192399701E-4]
[null,"h'",null,null,null,null,{"$f":"G184+(G189-G183)/$C$118","v":-2.3598825755455251E-3},-1.3155858303346805E-3,-3.4071444157545344E-4,-1.3461016265436541E-4,5.2951107527491844E-4,1.3033130203630196E-3,1.9848595426681204E-3,1.7111547889971495E-4,7.4301252321425201E-4,8.5151182044039759E-4,9.2385180421815751E-4,9.4304200407562292E-4,9.0893510967596149E-4,9.0893510967596149E-4,9.0893510967596149E-4,null,"a",null,{"$f":"Y186-X188*$D$2/(3*$X$121)","v":3.1847589137506244E-6},{"$f":"Y190+0.5*(Y189+Z189)*(Z$163-Y$163)","v":-1.3432286687894272E-3},-1.9572540852025137E-3,-1.9987952225631713E-3,-1.8969052221951867E-3,-1.2361845498542281E-3,-6.5482778510150613E-5,-6.5474477687099813E-5,3.2607927863217458E-4,9.1258180028266315E-4,1.6028849679518263E-3,2.285336211943669E-3,2.9817842782002683E-3,2.9817842782002683E-3,2.9817842782002683E-3]
[null,"a",null,null,null,null,{"$f":"IF(E187=1,0,G187-E189*$D$2/(3*$C$56))","v":1.3961090147917011E-12},{"$f":"IF(E187=1,H185+(U186+U188)/($D$2-$H$80),G191+0.5*(G190+H190)*(H$80-G$80))","v":-1.6539607812499837E-3},{"$f":"H191+0.5*(H190+I190)*(I$80-H$80)","v":-2.399295903609544E-3},-2.4468283640325258E-3,-2.308613044615332E-3,-1.4838422015782601E-3,-4.1645482142472958E-6,-4.153768339139865E-6,4.5290566207783318E-4,1.0907153995396929E-3,{"$f":"P191+0.5*(P190+Q190)*(Q$80-P$80)","v":1.8896290306360431E-3},{"$f":"Q191+0.5*(Q190+R190)*(R$80-Q$80)","v":2.729731244368244E-3},{"$f":"R191+0.5*(R190+S190)*(S$80-R$80)","v":3.5631209455564573E-3},{"$f":"S191+0.5*(S190+T190)*(T$80-S$80)","v":3.5631209455564573E-3},{"$f":"T191+0.5*(T190+U190)*(U$80-T$80)","v":3.5631209455564573E-3},null,"u",null,0,{"$f":"Y191-0.5*(Y190+Z190)*(Z$163-Y$163)","v":6.030197594440544E-4},2.0882369987404279E-3,2.4838419295169964E-3,3.847337085182422E-3,5.2572274826046582E-3,5.8429777803686283E-3,5.842978435154909E-3,5.7126773377063761E-3,5.217212906140441E-3,4.0852528604349205E-3,2.3355533294819489E-3,-3.4650891082824067E-5,-3.4650891082824067E-5,-3.4650891082824067E-5]
[null,"u",null,null,null,null,0,{"$f":"IF(E187=1,H188,G192-0.5*(G191+H191)*(H$80-G$80))","v":7.4428235093424366E-4},{"$f":"H192-0.5*(H191+I191)*(I$80-H$80)","v":2.5682478591210313E-3},{"$f":"I192-0.5*(I191+J191)*(J$80-I$80)","v":3.0528602858852383E-3},4.7172647789119893E-3,6.4238696396991058E-3,7.0934726771057343E-3,7.0934727186973169E-3,6.8690990155874385E-3,6.2516505909404278E-3,4.9104955973613461E-3,2.8317834736094182E-3,-1.1856698348827743E-11,-1.1856698348827743E-11,-1.1856698348827743E-11,null,"sign(Mo)",null,{"$f":"SIGN(Y193)","v":-1},-1,-1,-1,1,1,1,1,1,1,1,1,1,1,1]
[null,"M'",null,{"$f":"IF(U186=0,0,D189+IF(U192=U186,0,U192/(U186-U192)))","v":0.96154765074100068},{"$f":"IF(E187=1,E189,E189*D193)","v":4.7162459318998269E-10},null,{"$f":"IF(AND($D$36=0,$D$37=0),G183,IF(AND($D$36=1,$D$37=0),G183+E193))","v":-0.10463922945654142},{"$f":"$E193*($D$2-H$80)/$D$2+H183","v":-5.8334210781949954E-2},-1.5107572310704913E-2,-5.9687307619198434E-3,2.387912785896517E-2,5.8774933558037104E-2,8.9510337065903417E-2,9.0106543629920582E-3,3.912579451972454E-2,4.4839185731465385E-2,{"$f":"$E193*($D$2-Q$80)/$D$2+Q183","v":4.8648488082826444E-2},{"$f":"$E193*($D$2-R$80)/$D$2+R183","v":4.9659011864963548E-2},{"$f":"$E193*($D$2-S$80)/$D$2+S183","v":4.7862999962356344E-2},{"$f":"$E193*($D$2-T$80)/$D$2+T183","v":4.7862999962356344E-2},{"$f":"$E193*($D$2-U$80)/$D$2+U183","v":4.7862999962356344E-2},null,"M0",{"$f":"0.3*X188+X179","v":-1.7146535919569563E-3},{"$f":"G$108+G$109+$X193*($D$2-Y$163)/$D$2+Y191*$D$3+IF(Y$163<$D$6,$D$4*Y191,0)+$D$4*INDEX($Y191:$AM191,$D$82)*Y$163/$D$2","v":-0.1037019052126545},-5.6795585056273877E-2,-1.3204627924070445E-2,-4.0013027971279435E-3,2.6084988624707737E-2,6.1395553546662193E-2,8.8711065902768699E-2,8.2113920710834374E-3,3.923002284260179E-2,4.5689576355750168E-2,5.0374292777945202E-2,5.2320139457516499E-2,5.1525733792281897E-2,5.1525733792281897E-2,5.1525733792281897E-2]
[null,"h'",null,null,null,null,{"$f":"G190-(G193-G189)/G$113","v":-2.359882575120177E-3},{"$f":"H190-(H193-H189)/H$113","v":-1.3155858299518674E-3},-3.4071444123517502E-4,-1.346101623235392E-4,5.2951107556767265E-4,1.3033130206139517E-3,1.9848595428772304E-3,1.7111547907879636E-4,7.4301252335353784E-4,8.5151182054784668E-4,9.2385180428979021E-4,9.4304200411143922E-4,9.0893510967596149E-4,9.0893510967596149E-4,9.0893510967596149E-4,null,"e_os",null,{"$f":"IF(Y192=1,IF(Y193<Y$132,Y$137+(Y$138-Y$137)*(Y193-Y$131)/(Y$132-Y$131),IF(Y193<Y$133,Y$138*(Y$133-Y193)/(Y$133-Y$132),0)),IF(Y193>Y$146,Y$156+(Y$155-Y$156)*(Y193-Y$146)/(Y$145-Y$146),Y$156))*Y$159","v":0},0,0,0,0,0,0,0,0,0,0,0,0,0,0]
[null,"a",null,null,null,null,{"$f":"IF($E$187=1,0,G187-E193*$D$2/(3*$C$56))","v":2.6091787258912949E-12},{"$f":"IF($E$187=1,H191+U192/($D$2-$H$80),G195+0.5*(G194+H194)*(H$80-G$80))","v":-1.6539607796732412E-3},{"$f":"H195+0.5*(H194+I194)*(I$80-H$80)","v":-2.3992959017074102E-3},-2.4468283620632815E-3,-2.3086130424278348E-3,-1.4838421991461041E-3,-4.164545575072176E-6,-4.1537656999628038E-6,4.5290566487619233E-4,1.090715402436746E-3,{"$f":"P195+0.5*(P194+Q194)*(Q$80-P$80)","v":1.8896290336136829E-3},{"$f":"Q195+0.5*(Q194+R194)*(R$80-Q$80)","v":2.7297312473942357E-3},{"$f":"R195+0.5*(R194+S194)*(S$80-R$80)","v":3.5631209485985664E-3},{"$f":"S195+0.5*(S194+T194)*(T$80-S$80)","v":3.5631209485985664E-3},{"$f":"T195+0.5*(T194+U194)*(U$80-T$80)","v":3.5631209485985664E-3},null,"e_us",null,{"$f":"IF(Y192=1,IF(Y193<Y$132,Y$142+(Y$141-Y$142)*(Y$132-Y193)/(Y$132-Y$131),Y$142),IF(Y193>Y$146,Y$152+(Y$151-Y$152)*(Y193-Y$146)/(Y$145-Y$146),IF(Y193>Y$147,Y$153+(Y$152-Y$153)*(Y193-Y$147)/(Y$146-Y$147),0)))*Y$160","v":0},0,0,0,0,0,0,0,0,0,0,0,0,0,0]
[null,"u",null,1,{"$f":"MAX(ABS(MAX(G196:U196)),ABS(MIN(G196:U196)))","v":7.0934727096734398E-3},{"$f":"IF(MAX(G196:U196)>$D$2/20,1,0)","v":0},0,{"$f":"IF($E$187=1,H192+0.5*(H191-H195)*$H$80,(G196-0.5*(G195+H195)*(H$80-G$80)))*$D$196","v":7.4428234967882818E-4},{"$f":"(H196-0.5*(H195+I195)*(I$80-H$80))*$D$196","v":2.5682478563001212E-3},{"$f":"(I196-0.5*(I195+J195)*(J$80-I$80))*$D$196","v":3.0528602826771899E-3},4.7172647742490812E-3,6.4238696329573537E-3,7.0934726680818832E-3,7.0934727096734398E-3,6.8690990038448212E-3,6.2516505769196458E-3,4.9104955806969523E-3,2.8317834542433903E-3,-3.3953371364470186E-11,-3.3953371364470186E-11,-3.3953371364470186E-11,null,"EI",null,{"$f":"IF(Y193<Y$146,Y$149,IF(Y193<Y$132,$X$121,Y$135))","v":55.955848145372805},{"$f":"IF(Z193<Z$146,Z$149,IF(Z193<Z$132,$X$121,Z$135))","v":55.955848145372805},55.955848145372805,55.955848145372805,55.955848145372805,55.955848145372805,55.955848145372805,55.955848145372805,55.955848145372805,55.955848145372805,66.619873729451115,66.619873729451115,66.619873729451115,66.619873729451115,66.619873729451115]
[null,null,null,null,null,{"$f":"MAX(G197:U197,0.0333*ABS(D34))","v":0.10463484489781505},{"$f":"A0!$Q$78","v":0.10463484489781505},{"$f":"A0!$Q$178","v":5.8730988074200956E-2},{"$f":"A0!$Q$278","v":1.5647901721376443E-2},{"$f":"A0!$Q$378","v":6.4346523876691961E-3},{"$f":"A0!$Q$478","v":2.4337092455013389E-2},{"$f":"A0!$Q$578","v":5.915520862729387E-2},{"$f":"A0!$Q$678","v":8.95280972574478E-2},{"$f":"A0!$Q$778","v":9.4745627810216455E-3},{"$f":"A0!$Q$878","v":3.9161472889841523E-2},{"$f":"A0!$Q$978","v":4.4834254514494666E-2},{"$f":"A0!$Q$1078","v":4.864706256372392E-2},{"$f":"A0!$Q$1178","v":4.9659598467350255E-2},{"$f":"A0!$Q$1278","v":4.7850270532834228E-2},{"$f":"A0!$Q$1378","v":4.7862940233667779E-2},{"$f":"A0!$Q$1478","v":4.7850270532834228E-2},null,"k",null,{"$f":"Y193/Y196-(Y194-Y195)/$AA$117","v":-1.8532809107501662E-3},-1.0150071339946353E-3,-2.359829823285841E-4,-7.1508214596847745E-5,4.6617090955245935E-4,1.0972142426857168E-3,1.5853761285558236E-3,1.4674770096863356E-4,7.0108887887254494E-4,8.1652906479138783E-4,7.561451254398864E-4,7.8535332669636942E-4,7.7342887201396109E-4,7.7342887201396109E-4,7.7342887201396109E-4]
[null,null,null,null,null,{"$f":"MAX(G198:U198)","v":0},{"$f":"IF(AND(ABS(G199)>=$F$200*MIN($E$24:$F$25),ABS(G199)-G197>0.03*$F$197),1,0)","v":0},{"$f":"IF(AND(ABS(H199)>=$F$200*MIN($E$24:$F$25),ABS(H199)-H197>0.03*$F$197),1,0)","v":0},{"$f":"IF(AND(ABS(I199)>=$F$200*MIN($E$24:$F$25),ABS(I199)-I197>0.03*$F$197),1,0)","v":0},0,0,0,0,0,0,0,0,0,0,0,0,null,"a",null,0,{"$f":"Y198+0.5*(Y197+Z197)*(Z$163-Y$163)","v":-1.2907296201351609E-3},-1.8536751724806096E-3,-1.8844242921731529E-3,-1.7462923489386887E-3,-1.0427690304315096E-3,1.6439663662718351E-4,1.644052972463308E-4,5.8831934798402106E-4,1.195366525449594E-3,1.9030699110536677E-3,2.5967442145149824E-3,3.2981962039346315E-3,3.2981962039346315E-3,3.2981962039346315E-3]
[null,"Revurderet moment",null,null,{"$f":"IF(ABS(G193-F199)>ABS($D$34),$D$34-F199,G193-F199)","v":-2.6519778358438661E-3},{"$f":"G$110+G196*$D$3+IF($D$6>G$80,G196*$D$4,INDEX($G196:$U196,1+$D$82)*$D$4)-INDEX($G196:$U196,1+$D$82)*$D$4*G$80/$D$2","v":-0.10198725162069755},{"$f":"G$110+$E199*($D$2-G$45)/$D$2+G196*$D$3+IF($D$6>G$80,G196*$D$4,INDEX($G196:$U196,1+$D$82)*$D$4)-INDEX($G196:$U196,1+$D$82)*$D$4*G$80/$D$2","v":-0.10463922945654142},{"$f":"H$110+$E199*($D$2-H$45)/$D$2+H196*$D$3+IF($D$6>H$80,H196*$D$4,INDEX($G196:$U196,1+$D$82)*$D$4)-INDEX($G196:$U196,1+$D$82)*$D$4*H$80/$D$2","v":-5.8334210778038423E-2},-1.5107572311204454E-2,-5.9687307642434361E-3,2.3879127849222716E-2,5.8774933538561051E-2,8.9510337039598903E-2,9.0106543366875423E-3,3.9125794495134175E-2,4.483918571179462E-2,4.8648488072571695E-2,4.9659011868233335E-2,4.7862999983023367E-2,4.7862999983023367E-2,4.7862999983023367E-2,null,"u",null,0,{"$f":"Y199-0.5*(Y198+Z198)*(Z$163-Y$163)","v":5.8082832906082246E-4},1.9958104857379193E-3,2.3696204322032955E-3,3.6403712565924403E-3,4.8954488773090294E-3,5.2907164545209764E-3,5.2907148105113067E-3,4.9143562515193565E-3,4.200881902145911E-3,2.8065855057194423E-3,7.8166914921355083E-4,-1.8710540390887765E-3,-1.8710540390887765E-3,-1.8710540390887765E-3]
[null,"h''",null,{"$f":"F200*MIN($E$24:$F$25)","v":8.1793102233841657E-3},{"$f":"A0!L78/A0!O6","v":-7.295336348230809E-2},0.2,{"$f":"Y$248+IF(ABS(G199)<$F$200*MIN($E$24:$F$25),(G199-G$59)/$C$60,A0!$P$79)","v":-2.1745207217015302E-3},{"$f":"Z$248+IF(ABS(H199)<$F$200*MIN($E$24:$F$25),(H199-H$59)/$C$60,A0!$P$179)","v":-1.2187419692149895E-3},{"$f":"AA$248+IF(ABS(I199)<$F$200*MIN($E$24:$F$25),(I199-I$59)/$C$60,A0!$P$279)","v":-3.2451147158288893E-4},{"$f":"AB$248+IF(ABS(J199)<$F$200*MIN($E$24:$F$25),(J199-J$59)/$C$60,A0!$P$379)","v":-1.2943467528728835E-4},{"$f":"AC$248+IF(ABS(K199)<$F$200*MIN($E$24:$F$25),(K199-K$59)/$C$60,A0!$P$479)","v":5.0474179094479584E-4},{"$f":"AD$248+IF(ABS(L199)<$F$200*MIN($E$24:$F$25),(L199-L$59)/$C$60,A0!$P$579)","v":1.2275571634204775E-3},{"$f":"AE$248+IF(ABS(M199)<$F$200*MIN($E$24:$F$25),(M199-M$59)/$C$60,A0!$P$679)","v":1.8594938896482767E-3},{"$f":"AF$248+IF(ABS(N199)<$F$200*MIN($E$24:$F$25),(N199-N$59)/$C$60,A0!$P$779)","v":1.7535872768629785E-4},{"$f":"AG$248+IF(ABS(O199)<$F$200*MIN($E$24:$F$25),(O199-O$59)/$C$60,A0!$P$879)","v":7.2497367221431043E-4},{"$f":"AH$248+IF(ABS(P199)<$F$200*MIN($E$24:$F$25),(P199-P$59)/$C$60,A0!$P$979)","v":8.3005055815585154E-4},{"$f":"AI$248+IF(ABS(Q199)<$F$200*MIN($E$24:$F$25),(Q199-Q$59)/$C$60,A0!$P$1079)","v":9.0077780290199496E-4},{"$f":"AJ$248+IF(ABS(R199)<$F$200*MIN($E$24:$F$25),(R199-R$59)/$C$60,A0!$P$1179)","v":9.2007812981085766E-4},{"$f":"AK$248+IF(ABS(S199)<$F$200*MIN($E$24:$F$25),(S199-S$59)/$C$60,A0!$P$1279)","v":8.8592590519493786E-4},{"$f":"AL$248+IF(ABS(T199)<$F$200*MIN($E$24:$F$25),(T199-T$59)/$C$60,A0!$P$1379)","v":8.8616064189019712E-4},{"$f":"AM$248+IF(ABS(U199)<$F$200*MIN($E$24:$F$25),(U199-U$59)/$C$60,A0!$P$1479)","v":8.8592590519493786E-4},null,"a",null,{"$f":"AM199/$D$2","v":-2.0789489323208628E-4},{"$f":"Y200+0.5*(Y197+Z197)*(Z$163-Y$163)","v":-1.4986245133672472E-3},-2.0615700657126961E-3,-2.0923191854052394E-3,-1.9541872421707752E-3,-1.2506639236635961E-3,-4.3498256604903012E-5,-4.3489595985755718E-5,3.8042445475193449E-4,9.8747163221750748E-4,1.6951750178215812E-3,2.3888493212828959E-3,3.090301310702545E-3,3.090301310702545E-3,3.090301310702545E-3]
[null,"a''",null,null,null,null,0,{"$f":"G201+0.5*(G200+H200)*(H$80-G$80)","v":-1.5269682109124339E-3},-2.221432259271479E-3,-2.2668268739584967E-3,-2.1354693834783689E-3,-1.3559348540139961E-3,3.3238119866943082E-5,3.3248294130029371E-5,4.8340999241833416E-4,1.1054196845663989E-3,{"$f":"P201+0.5*(P200+Q200)*(Q$80-P$80)","v":1.8842924470424301E-3},{"$f":"Q201+0.5*(Q200+R200)*(R$80-Q$80)","v":2.7036776167632132E-3},{"$f":"R201+0.5*(R200+S200)*(S$80-R$80)","v":3.5163794325158218E-3},{"$f":"S201+0.5*(S200+T200)*(T$80-S$80)","v":3.5163794325158218E-3},{"$f":"T201+0.5*(T200+U200)*(U$80-T$80)","v":3.5163794325158218E-3},null,"u",{"$f":"SUMPRODUCT(Y196:AM196,$G$43:$U$43)/$V$43","v":56.5956896804175},0,{"$f":"Y201-0.5*(Y200+Z200)*(Z$163-Y$163)","v":7.6793373296970007E-4},2.3700212935556745E-3,2.7854102186674681E-3,4.2016874683190736E-3,5.6438704929445407E-3,6.2262434740653653E-3,6.2262439090046279E-3,6.0577781642958319E-3,5.5106197295080551E-3,4.303428736990465E-3,2.465617784393451E-3,0,0,0]
[null,"u''",null,null,null,null,0,{"$f":"G202-0.5*(G201+H201)*(H$80-G$80)","v":6.8713569491059528E-4},{"$f":"H202-0.5*(H201+I201)*(I$80-H$80)","v":2.373915906493356E-3},2.8227418198163534E-3,4.3635455099192569E-3,5.9346774167908208E-3,6.5298909471569943E-3,6.5298906147249246E-3,6.2715640547421755E-3,5.6360321839482828E-3,{"$f":"P202-0.5*(P201+Q201)*(Q$80-P$80)","v":4.2906617247243095E-3},{"$f":"Q202-0.5*(Q201+R201)*(R$80-Q$80)","v":2.2260751960117712E-3},{"$f":"R202-0.5*(R201+S201)*(S$80-R$80)","v":-5.7295047616379591E-4},{"$f":"S202-0.5*(S201+T201)*(T$80-S$80)","v":-5.7295047616379591E-4},{"$f":"T202-0.5*(T201+U201)*(U$80-T$80)","v":-5.7295047616379591E-4},null,"DM",{"$f":"3*$D$36*Y200*X201/$D$2","v":-3.9219849545022271E-3},{"$f":"$X202*($D$2-Y$163)/$D$2","v":-3.9219849545022271E-3},{"$f":"$X202*($D$2-Z$163)/$D$2","v":-3.5297864590520039E-3},-3.1375879636017815E-3,-3.0504327423906213E-3,-2.7453894681515587E-3,-2.3531909727013364E-3,-1.9609924772511136E-3,-1.9609881194900531E-3,-1.5252163711953106E-3,-1.1765954863506682E-3,-7.8439699090044528E-4,-3.9219849545022286E-4,0,0,0]
[null,"a'",null,null,{"$f":"IF(E187=1,1,IF(ABS(G205)>=ABS($D$34),1,0))","v":0},null,{"$f":"IF($E$187=1,0,G201+U202/$D$2)","v":-6.3661164018199548E-5},{"$f":"IF($E$187=1,H201+U202/($D$2-H$80),G203+0.5*(G200+H200)*(H$80-G$80))","v":-1.5906293749306335E-3},{"$f":"H203+0.5*(H200+I200)*(I$80-H$80)","v":-2.2850934232896787E-3},-2.3304880379766964E-3,-2.1991305474965686E-3,-1.4195960180321957E-3,-3.0423044151256561E-5,-3.0412869888170275E-5,4.1974882840013452E-4,1.0417585205481992E-3,{"$f":"P203+0.5*(P200+Q200)*(Q$80-P$80)","v":1.8206312830242304E-3},{"$f":"Q203+0.5*(Q200+R200)*(R$80-Q$80)","v":2.6400164527450136E-3},{"$f":"R203+0.5*(R200+S200)*(S$80-R$80)","v":3.4527182684976222E-3},{"$f":"S203+0.5*(S200+T200)*(T$80-S$80)","v":3.4527182684976222E-3},{"$f":"T203+0.5*(T200+U200)*(U$80-T$80)","v":3.4527182684976222E-3},null,"k",null,{"$f":"Y197+Y202/$X201","v":-1.922579208494195E-3},-1.0773756019642612E-3,-2.9142162052380708E-4,-1.2540689061998122E-4,4.1766210113163926E-4,1.0556352640392996E-3,1.5507269796838092E-3,1.1209862909472779E-4,6.7413954086097821E-4,7.9573957546817925E-4,7.4228546589108068E-4,7.7842349692196656E-4,7.7342887201396109E-4,7.7342887201396109E-4,7.7342887201396109E-4]
[null,"u",null,null,{"$f":"IF(E187=1,$D$34-G199,3*$D$36*G203*$C$60/$D$2)","v":-9.7855371784929005E-4},null,0,{"$f":"G204-0.5*(G203+H203)*(H$80-G$80)","v":7.4443074252697494E-4},{"$f":"H204-0.5*(H203+I203)*(I$80-H$80)","v":2.4885060017261155E-3},2.9500641478527527E-3,4.5354306527683958E-3,6.1638576072563398E-3,6.8163661852388936E-3,6.816366489418464E-3,6.6217004568422744E-3,6.0370975172629408E-3,{"$f":"P204-0.5*(P203+Q203)*(Q$80-P$80)","v":4.7490221056553468E-3},{"$f":"Q204-0.5*(Q203+R203)*(R$80-Q$80)","v":2.7417306245591882E-3},{"$f":"R204-0.5*(R203+S203)*(S$80-R$80)","v":0},{"$f":"S204-0.5*(S203+T203)*(T$80-S$80)","v":0},{"$f":"T204-0.5*(T203+U203)*(U$80-T$80)","v":0},null,"a",null,{"$f":"Y200-X202*$D$2/(3*$X$121)","v":2.3772276182462129E-6},{"$f":"Y204+0.5*(Y203+Z203)*(Z$163-Y$163)","v":-1.3476024370880592E-3},-1.9635611872076898E-3,-2.0052440383220688E-3,-1.9029547146429886E-3,-1.239970900316066E-3,-6.7107890640667181E-5,-6.7099576512623599E-5,3.260155772743798E-4,9.1396722380604272E-4,1.6060784924177098E-3,2.2903975256835804E-3,2.9887310917047481E-3,2.9887310917047481E-3,2.9887310917047481E-3]
[null,"M'",null,1,{"$f":"IF($E$187=1,0,IF(G199<0,MAX(E204,3*$D$36*G203*$C$60/$D$2),MIN(E204,3*$D$36*G203*$C$60/$D$2)))","v":-9.7855371784929005E-4},null,{"$f":"IF(AND($D$36=0,$D$37=0),G199,IF(AND($D$36=1,$D$37=0),G199+E205))","v":-0.1056177831743907},{"$f":"$E205*($D$2-H$80)/$D$2+H199","v":-5.9214909124102787E-2},{"$f":"$E205*($D$2-I$80)/$D$2+I199","v":-1.5890415285483885E-2},-6.7298281003484398E-3,2.3194140246728213E-2,5.8187801307851478E-2,8.9021060180674252E-2,8.5213785650448057E-3,3.8745245827081672E-2,4.454561959643983E-2,4.8452777329001835E-2,4.9561156496448405E-2,4.7862999983023367E-2,4.7862999983023367E-2,4.7862999983023367E-2,null,"u",null,0,{"$f":"Y205-0.5*(Y204+Z204)*(Z$163-Y$163)","v":6.0535134426141577E-4},2.0953749751945029E-3,2.4922554977474787E-3,3.8601250612852493E-3,5.274441588016824E-3,5.862627043947354E-3,5.86262771498469E-3,5.7331710091838156E-3,5.2371778887516469E-3,4.103157316450958E-3,2.3497431083053782E-3,-2.5864769519370976E-5,-2.5864769519370976E-5,-2.5864769519370976E-5]
[null,"h'",null,null,{"$f":"E187","v":0},null,{"$f":"G200+(G205-G199)/$C$60","v":-2.1957411097075965E-3},{"$f":"H200+(H205-H199)/$C$60","v":-1.2378403184204493E-3},{"$f":"I200+(I205-I199)/$C$60","v":-3.414877819877421E-4},-1.4593942151422897E-4,4.8988751934054924E-4,1.2148249306168375E-3,1.8488836956452434E-3,1.6474855726147347E-4,7.1672129910084004E-4,8.2368444175403156E-4,8.965337253007816E-4,9.1795609101025103E-4,8.8592590519493786E-4,8.8616064189019712E-4,8.8592590519493786E-4,null,"sign(Mo)",null,{"$f":"SIGN(Y207)","v":-1},-1,-1,-1,1,1,1,1,1,1,1,1,1,1,1]
[null,"a",null,null,null,null,0,{"$f":"IF($E$203=1,H201+(U202+U204)/($D$2-$H$80),G207+0.5*(G206+H206)*(H$80-G$80))","v":-1.5451116426576207E-3},{"$f":"H207+0.5*(H206+I206)*(I$80-H$80)","v":-2.2558092878413069E-3},{"$f":"I207+0.5*(I206+J206)*(J$80-I$80)","v":-2.304552008191504E-3},-2.1841701739522918E-3,-1.4170495714714679E-3,-3.8380689653531733E-5,-3.8370621492267582E-5,4.0235989933960753E-4,1.018522195681556E-3,1.7926203708562222E-3,2.6091407881961865E-3,3.4208876864885219E-3,3.4208876864885219E-3,3.4208876864885219E-3,null,"M0",{"$f":"0.3*X202+X193","v":-2.8912490783076245E-3},{"$f":"G$108+G$109+$X207*($D$2-Y$163)/$D$2+Y205*$D$3+IF(Y$163<$D$6,$D$4*Y205,0)+$D$4*INDEX($Y205:$AM205,$D$82)*Y$163/$D$2","v":-0.10487850069900517},-5.7850518104829794E-2,-1.4134928766648383E-2,-4.9036585882377692E-3,2.5280332317722216E-2,6.0715073130861795E-2,8.8138617728276997E-2,7.6389452254343199E-3,3.8790068578741566E-2,4.5355015112802544E-2,5.0157565807713904E-2,5.2220419684702812E-2,5.1542176726852143E-2,5.1542176726852143E-2,5.1542176726852143E-2]
[null,"u",null,null,null,null,0,{"$f":"G208-0.5*(G207+H207)*(H$80-G$80)","v":6.9530023919592938E-4},{"$f":"H208-0.5*(H207+I207)*(I$80-H$80)","v":2.4057146579204471E-3},2.8617507875237282E-3,4.4328035512740567E-3,6.0533524367147483E-3,6.7082960542209982E-3,6.7082964379775543E-3,6.5263036190002736E-3,5.9579507809918086E-3,4.6929366260498075E-3,2.7121441044762246E-3,-1.3687091318949872E-6,-1.3687091318949872E-6,-1.3687091318949872E-6,null,"e_os",null,{"$f":"IF(Y206=1,IF(Y207<Y$132,Y$137+(Y$138-Y$137)*(Y207-Y$131)/(Y$132-Y$131),IF(Y207<Y$133,Y$138*(Y$133-Y207)/(Y$133-Y$132),0)),IF(Y207>Y$146,Y$156+(Y$155-Y$156)*(Y207-Y$146)/(Y$145-Y$146),Y$156))*Y$159","v":0},0,0,0,0,0,0,0,0,0,0,0,0,0,0]
[null,"a'",null,null,null,null,{"$f":"IF($E$203=1,0,G207+U208/$D$2)","v":-1.5207879243277635E-7},{"$f":"IF($E$203=1,H207+U208/($D$2-$H$80),G209+0.5*(G206+H206)*(H$80-G$80))","v":-1.5452637214500536E-3},{"$f":"H209+0.5*(H206+I206)*(I$80-H$80)","v":-2.2559613666337398E-3},-2.3047040869839368E-3,-2.1843222527447247E-3,-1.4172016502639008E-3,-3.8532768445964606E-5,-3.8522700284700455E-5,4.0220782054717466E-4,1.0183701168891232E-3,{"$f":"P209+0.5*(P206+Q206)*(Q$80-P$80)","v":1.7924682920637894E-3},{"$f":"Q209+0.5*(Q206+R206)*(R$80-Q$80)","v":2.6089887094037536E-3},{"$f":"R209+0.5*(R206+S206)*(S$80-R$80)","v":3.420735607696089E-3},{"$f":"S209+0.5*(S206+T206)*(T$80-S$80)","v":3.420735607696089E-3},{"$f":"T209+0.5*(T206+U206)*(U$80-T$80)","v":3.420735607696089E-3},null,"e_us",null,{"$f":"IF(Y206=1,IF(Y207<Y$132,Y$142+(Y$141-Y$142)*(Y$132-Y207)/(Y$132-Y$131),Y$142),IF(Y207>Y$146,Y$152+(Y$151-Y$152)*(Y207-Y$146)/(Y$145-Y$146),IF(Y207>Y$147,Y$153+(Y$152-Y$153)*(Y207-Y$147)/(Y$146-Y$147),0)))*Y$160","v":0},0,0,0,0,0,0,0,0,0,0,0,0,0,0]
[null,"u",null,null,{"$f":"MAX(ABS(MAX(G210:U210)),ABS(MIN(G210:U210)))","v":6.7089807940642898E-3},null,0,{"$f":"IF($E$203=1,H204,G210-0.5*(G209+H209)*(H$80-G$80))","v":6.954371101091189E-4},{"$f":"H210-0.5*(H209+I209)*(I$80-H$80)","v":2.4059883997468259E-3},{"$f":"I210-0.5*(I209+J209)*(J$80-I$80)","v":2.8620549451085935E-3},4.4332141640136252E-3,6.0538999203675068E-3,6.7089804087869459E-3,6.7089807940642898E-3,6.5271400523586537E-3,5.9589088773841347E-3,4.6940315933553236E-3,2.7133759426949304E-3,0,0,0,null,"EI",null,{"$f":"IF(Y207<Y$146,Y$149,IF(Y207<Y$132,$X$121,Y$135))","v":55.955848145372805},{"$f":"IF(Z207<Z$146,Z$149,IF(Z207<Z$132,$X$121,Z$135))","v":55.955848145372805},55.955848145372805,55.955848145372805,55.955848145372805,55.955848145372805,55.955848145372805,55.955848145372805,55.955848145372805,55.955848145372805,66.619873729451115,66.619873729451115,66.619873729451115,66.619873729451115,66.619873729451115]
[null,"Revurderet moment",null,null,{"$f":"IF(ABS(G205)>ABS($D$34),$D$34-F211,G205-F211)","v":-3.6305315536931532E-3},{"$f":"G$110+G210*$D$3+IF($D$6>G$80,G210*$D$4,INDEX($G210:$U210,1+$D$82)*$D$4)-INDEX($G210:$U210,1+$D$82)*$D$4*G$80/$D$2","v":-0.10198725162069755},{"$f":"G$110+$E211*($D$2-G$45)/$D$2+G210*$D$3+IF($D$6>G$80,G210*$D$4,INDEX($G210:$U210,1+$D$82)*$D$4)-INDEX($G210:$U210,1+$D$82)*$D$4*G$80/$D$2","v":-0.1056177831743907},{"$f":"H$110+$E211*($D$2-H$45)/$D$2+H210*$D$3+IF($D$6>H$80,H210*$D$4,INDEX($G210:$U210,1+$D$82)*$D$4)-INDEX($G210:$U210,1+$D$82)*$D$4*H$80/$D$2","v":-5.9246608953435781E-2},-1.6031297717046551E-2,-6.8989845984293195E-3,2.2934022888897607E-2,5.7851495485346238E-2,8.8694241760273573E-2,8.1945606155365402E-3,3.8469599014086087E-2,4.4318505372220138E-2,4.8290716419029732E-2,4.9475038282523517E-2,4.7863000000000051E-2,4.7863000000000051E-2,4.7863000000000051E-2,null,"k",null,{"$f":"Y207/Y210-(Y208-Y209)/$AA$117","v":-1.8743081228351994E-3},-1.0338600883063134E-3,-2.5260860544774449E-4,-8.7634425189983843E-5,4.517907092042307E-4,1.0850532186220208E-3,1.5751457738482247E-3,1.3651737000909016E-4,6.9322635371311513E-4,8.1055004286541439E-4,7.5289193749312675E-4,7.8385647947599405E-4,7.7367568927208172E-4,7.7367568927208172E-4,7.7367568927208172E-4]
[null,"h''",null,null,null,null,{"$f":"IF(ABS(G211)<$F$200*MIN($E$24:$F$25),(G211-$G$59)/$C$60+Y$248,G200+(G211-G199)/$C$60)","v":-2.1957411097075965E-3},{"$f":"IF(ABS(H211)<$F$200*MIN($E$24:$F$25),(H211-$G$59)/$C$60+Z$248,H200+(H211-H199)/$C$60)","v":-1.2385277438176476E-3},-3.4454288239405245E-4,-1.4960765807349832E-4,4.8424675464915352E-4,1.2075319839833655E-3,1.8417964876954595E-3,1.5766135952320832E-4,7.1074377102271075E-4,8.1875936521328622E-4,8.9301935983724561E-4,9.1608857788292664E-4,8.859259055630851E-4,8.8616064225834437E-4,8.859259055630851E-4,null,"a",null,0,{"$f":"Y212+0.5*(Y211+Z211)*(Z$163-Y$163)","v":-1.3086756950136808E-3},-1.8875866072030067E-3,-1.9216109102667795E-3,-1.7941562108617932E-3,-1.10257644333998E-3,9.4513103271630459E-5,9.4521661587349424E-5,5.093893747298336E-4,1.1108999333612453E-3,1.8144488245225891E-3,2.5059856121586932E-3,3.2068750880953276E-3,3.2068750880953276E-3,3.2068750880953276E-3]
[null,"a''",null,null,null,null,0,{"$f":"G213+0.5*(G212+H212)*(H$80-G$80)","v":-1.54542098408636E-3},-2.2578027658816252E-3,-2.3072178199283803E-3,-2.1900941361269011E-3,-1.4287937037422676E-3,-5.6595891486796489E-5,-5.6585894197560772E-5,3.7761232904974621E-4,9.8941358354414483E-4,1.7597140098168846E-3,2.5738125817909617E-3,3.3847190993416673E-3,3.3847190993416673E-3,3.3847190993416673E-3,null,"u",null,0,{"$f":"Y213-0.5*(Y212+Z212)*(Z$163-Y$163)","v":5.889040627561564E-4},2.0272220987536658E-3,2.4081418505006442E-3,3.7086603428956449E-3,5.0121900372864427E-3,5.4658185403171997E-3,5.4658175951433751E-3,5.1638650965399654E-3,4.5157493733035342E-3,3.1993424322558084E-3,1.2551469357492326E-3,-1.3156403793650776E-3,-1.3156403793650776E-3,-1.3156403793650776E-3]
[null,"u''",null,null,null,null,0,{"$f":"G214-0.5*(G213+H213)*(H$80-G$80)","v":6.95439442838862E-4},2.4068901303244553E-3,2.8633921889054557E-3,4.4374513735248051E-3,6.0659509014659302E-3,6.7343762193190094E-3,6.7343767852279376E-3,6.5738651729340195E-3,6.0270548078964628E-3,4.7899473908839989E-3,2.8398604246604687E-3,1.5852116815078454E-4,1.5852116815078454E-4,1.5852116815078454E-4,null,"a",null,{"$f":"AM213/$D$2","v":-1.4618226437389752E-4},{"$f":"Y214+0.5*(Y211+Z211)*(Z$163-Y$163)","v":-1.4548579593875782E-3},-2.0337688715769044E-3,-2.0677931746406774E-3,-1.9403384752356911E-3,-1.2487587077138779E-3,-5.1669161102267441E-5,-5.1660602786548476E-5,3.6320711035593575E-4,9.6471766898734742E-4,1.6682665601486912E-3,2.359803347784795E-3,3.0606928237214294E-3,3.0606928237214294E-3,3.0606928237214294E-3]
[null,"a'",null,null,{"$f":"IF(E203=1,1,IF(ABS(G217)>=ABS($D$34),1,0))","v":0},null,{"$f":"IF($E$203=1,0,G213+U214/$D$2)","v":1.7613463127864948E-5},{"$f":"IF($E$203=1,H213+U214/($D$2-$H$80),G215+0.5*(G212+H212)*(H$80-G$80))","v":-1.527807520958495E-3},{"$f":"H215+0.5*(H212+I212)*(I$80-H$80)","v":-2.2401893027537601E-3},-2.2896043568005151E-3,-2.1724806729990359E-3,-1.4111802406144025E-3,-3.8982428358931348E-5,-3.8972431069695631E-5,3.9522579217761135E-4,1.00702704667201E-3,1.7773274729447498E-3,2.5914260449188269E-3,3.4023325624695324E-3,3.4023325624695324E-3,3.4023325624695324E-3,null,"u",{"$f":"SUMPRODUCT(Y210:AM210,$G$43:$U$43)/$V$43","v":56.5956896804175},0,{"$f":"Y215-0.5*(Y214+Z214)*(Z$163-Y$163)","v":7.204681006926641E-4},2.2903501746266816E-3,2.7005063792484396E-3,4.1033524567051687E-3,5.5384461890324744E-3,6.1236387299997402E-3,6.1236392466485594E-3,5.9678675505964035E-3,5.4366976388590905E-3,4.2518547357478726E-3,2.4392232771778049E-3,0,0,0]
[null,null,null,null,{"$f":"IF(E199=1,$D$34-G211,3*$D$36*G215*$C$60/$D$2)","v":2.7074151240851104E-4},null,0,{"$f":"G216-0.5*(G215+H215)*(H$80-G$80)","v":6.7958732602378354E-4},2.3751858966942984E-3,2.8281652626497259E-3,4.3898950230795691E-3,6.0025424342056164E-3,6.6551156352436169E-3,6.6551160250179139E-3,6.4769911257307614E-3,5.916089990190913E-3,4.6631304563633704E-3,2.6971913733247624E-3,0,0,0,null,"DM",{"$f":"3*$D$36*Y214*X215/$D$2","v":-2.7577620237619516E-3},{"$f":"$X216*($D$2-Y$163)/$D$2","v":-2.7577620237619516E-3},{"$f":"$X216*($D$2-Z$163)/$D$2","v":-2.4819858213857562E-3},-2.2062096190095613E-3,-2.1449260184815181E-3,-1.9304334166333663E-3,-1.6546572142571709E-3,-1.3788810118809758E-3,-1.3788779477009495E-3,-1.072463009240759E-3,-8.2732860712858547E-4,-5.5155240475239032E-4,-2.7577620237619527E-4,0,0,0]
[null,"M'",null,null,{"$f":"IF($E$203=1,0,IF(G211<0,MAX(E216,3*$D$36*G215*$C$60/$D$2),MIN(E216,3*$D$36*G215*$C$60/$D$2)))","v":2.7074151240851104E-4},null,{"$f":"IF(AND($D$36=0,$D$37=0),G211,IF(AND($D$36=1,$D$37=0),G211+E217))","v":-0.10534704166198219},{"$f":"$E217*($D$2-H$80)/$D$2+H211","v":-5.900294159226812E-2},-1.5814704507119741E-2,-6.688407866556033E-3,2.3123541947583565E-2,5.8013940392791348E-2,8.8829612516477835E-2,8.3299310709168926E-3,3.8574887380022731E-2,4.4399727825942689E-2,4.8344864721511435E-2,4.9502112433764366E-2,4.7863000000000051E-2,4.7863000000000051E-2,4.7863000000000051E-2,null,"k",null,{"$f":"Y211+Y216/$X215","v":-1.9230355442931652E-3},-1.0777147676184827E-3,-2.9159054261411715E-4,-1.2553353076840172E-4,4.1768151418365463E-4,1.0558167657472412E-3,1.5507820631192417E-3,1.1215371342168663E-4,6.7427680092390621E-4,7.9593181642802463E-4,7.4314645320153357E-4,7.7898373733019746E-4,7.7367568927208172E-4,7.7367568927208172E-4,7.7367568927208172E-4]
[null,"h'",null,null,{"$f":"E206","v":0},null,{"$f":"G212+(G217-G211)/$C$60","v":-2.1898699553316416E-3},{"$f":"H212+(H217-H211)/$C$60","v":-1.2332437048792882E-3},{"$f":"I212+(I217-I211)/$C$60","v":-3.3984595889328847E-4},-1.4504120466997777E-4,4.8835656271232206E-4,1.2110546766089386E-3,1.8447320648834371E-3,1.6059693018768094E-4,7.1302699772447103E-4,8.2052071152607269E-4,8.9419359071243659E-4,9.1667569332052202E-4,8.859259055630851E-4,8.8616064225834437E-4,8.859259055630851E-4,null,"a",null,{"$f":"Y214-X216*$D$2/(3*$X$121)","v":1.6715586937455552E-6},{"$f":"Y218+0.5*(Y217+Z217)*(Z$163-Y$163)","v":-1.3486660816664961E-3},-1.9648534712711661E-3,-2.0065658786094179E-3,-1.9043140844140793E-3,-1.2412398584451762E-3,-6.8270385455258906E-5,-6.8262070776376518E-5,3.2494925424384835E-4,9.130327011846206E-4,1.605617922517922E-3,2.2905765082572005E-3,2.9892732502282264E-3,2.9892732502282264E-3,2.9892732502282264E-3]
[null,null,null,null,null,null,0,{"$f":"IF($E$215=1,H213+(U214+U216)/($D$2-$H$80),G219+0.5*(G218+H218)*(H$80-G$80))","v":-1.5404011470949183E-3},{"$f":"H219+0.5*(H218+I218)*(I$80-H$80)","v":-2.2482914957925779E-3},-2.2967802121489043E-3,-2.1766198368340837E-3,-1.4118847791395163E-3,-3.6780745467947283E-5,-3.6770718822972305E-5,4.0003687701346428E-4,1.0134559607136817E-3,1.7850773967210112E-3,2.5999685745358423E-3,3.4111392940334656E-3,3.4111392940334656E-3,3.4111392940334656E-3,null,"u",null,0,{"$f":"Y219-0.5*(Y218+Z218)*(Z$163-Y$163)","v":6.0614753533773781E-4},2.0972313341596858E-3,2.4943732691477443E-3,3.8631812562059686E-3,5.2786805304926333E-3,5.8679601402478292E-3,5.86796082291011E-3,5.7396185146122913E-3,5.2444257324409035E-3,4.1110329517747585E-3,2.3577454579259546E-3,-1.8186933392488631E-5,-1.8186933392488631E-5,-1.8186933392488631E-5]
[null,null,null,null,null,null,0,{"$f":"G220-0.5*(G219+H219)*(H$80-G$80)","v":6.931805161927133E-4},2.3980922054920866E-3,2.8525993762862347E-3,4.4182893934302811E-3,6.0331164706184008E-3,6.6850159566917595E-3,6.6850163244490807E-3,6.5033850616846257E-3,5.9379879265937675E-3,4.6786479157481554E-3,2.7053772286825726E-3,3.7868782638275297E-7,3.7868782638275297E-7,3.7868782638275297E-7,null,"sign(Mo)",null,{"$f":"SIGN(Y221)","v":-1},-1,-1,-1,1,1,1,1,1,1,1,1,1,1,1]
[null,"a'",null,null,null,null,{"$f":"IF($E$215=1,0,G219+U220/$D$2)","v":4.2076425153639222E-8},{"$f":"IF($E$215=1,H219+U220/($D$2-$H$80),G221+0.5*(G218+H218)*(H$80-G$80))","v":-1.5403590706697648E-3},{"$f":"H221+0.5*(H218+I218)*(I$80-H$80)","v":-2.2482494193674244E-3},-2.2967381357237508E-3,-2.1765777604089301E-3,-1.4118427027143628E-3,-3.6738669042793741E-5,-3.6728642397818762E-5,4.0007895343861782E-4,1.0134980371388352E-3,1.7851194731461648E-3,2.6000106509609959E-3,3.4111813704586196E-3,3.4111813704586196E-3,3.4111813704586196E-3,null,"M0",{"$f":"0.3*X216+X207","v":-3.7185776854362102E-3},{"$f":"G$108+G$109+$X221*($D$2-Y$163)/$D$2+Y219*$D$3+IF(Y$163<$D$6,$D$4*Y219,0)+$D$4*INDEX($Y219:$AM219,$D$82)*Y$163/$D$2","v":-0.10570582930613376},-5.8593861695980631E-2,-1.4793970569646424E-2,-5.5439356770501155E-3,2.4705759904556989E-2,6.0224949601448842E-2,8.7729103602729466E-2,7.2294320282502329E-3,3.8473366754075998E-2,4.5112517534321737E-2,4.9998411711736537E-2,5.2144358532560005E-2,5.1548982904648648E-2,5.1548982904648648E-2,5.1548982904648648E-2]
[null,"u",null,{"$f":"E222/E210","v":0.99639977893951726},{"$f":"MAX(ABS(MAX(G222:U222)),ABS(MIN(G222:U222)))","v":6.684826980115125E-3},null,0,{"$f":"IF($E$215=1,H216,G222-0.5*(G221+H221)*(H$80-G$80))","v":6.9314264741007509E-4},{"$f":"H222-0.5*(H221+I221)*(I$80-H$80)","v":2.3980164679268104E-3},2.8525152234359277E-3,4.4181757870823662E-3,6.0329649954878476E-3,6.684826612778568E-3,6.684826980115125E-3,6.503153641346281E-3,5.9377228451153001E-3,4.6783449654870498E-3,2.7050364096388286E-3,0,0,0,null,"e_os",null,{"$f":"IF(Y220=1,IF(Y221<Y$132,Y$137+(Y$138-Y$137)*(Y221-Y$131)/(Y$132-Y$131),IF(Y221<Y$133,Y$138*(Y$133-Y221)/(Y$133-Y$132),0)),IF(Y221>Y$146,Y$156+(Y$155-Y$156)*(Y221-Y$146)/(Y$145-Y$146),Y$156))*Y$159","v":0},0,0,0,0,0,0,0,0,0,0,0,0,0,0]
[null,"Revurderet moment",null,null,{"$f":"IF(ABS(G217)>ABS($D$34),$D$34-F223,G217-F223)","v":-3.3597900412846438E-3},{"$f":"G$110+G222*$D$3+IF($D$6>G$80,G222*$D$4,INDEX($G222:$U222,1+$D$82)*$D$4)-INDEX($G222:$U222,1+$D$82)*$D$4*G$80/$D$2","v":-0.10198725162069755},{"$f":"G$110+$E223*($D$2-G$45)/$D$2+G222*$D$3+IF($D$6>G$80,G222*$D$4,INDEX($G222:$U222,1+$D$82)*$D$4)-INDEX($G222:$U222,1+$D$82)*$D$4*G$80/$D$2","v":-0.10534704166198219},-5.9004004181786397E-2,-1.5820889293862588E-2,-6.6960982754063732E-3,2.3110568192427815E-2,5.7995581545818103E-2,8.8809081789870695E-2,8.3094003541256626E-3,3.8556318974492035E-2,4.4384062512646517E-2,4.8333639876136127E-2,4.9496251901515742E-2,4.7863000000000051E-2,4.7863000000000051E-2,4.7863000000000051E-2,null,"e_us",null,{"$f":"IF(Y220=1,IF(Y221<Y$132,Y$142+(Y$141-Y$142)*(Y$132-Y221)/(Y$132-Y$131),Y$142),IF(Y221>Y$146,Y$152+(Y$151-Y$152)*(Y221-Y$146)/(Y$145-Y$146),IF(Y221>Y$147,Y$153+(Y$152-Y$153)*(Y221-Y$147)/(Y$146-Y$147),0)))*Y$160","v":0},0,0,0,0,0,0,0,0,0,0,0,0,0,0]
[null,"h''",null,null,null,null,{"$f":"IF(ABS(G223)<$F$200*MIN($E$24:$F$25),(G223-$G$59)/$C$60+Y$248,G212+(G223-G211)/$C$60)","v":-2.1898699553316416E-3},-1.2332667476223258E-3,-3.3998007884196787E-4,-1.4520797472741335E-4,4.880752208572159E-4,1.2106565565578773E-3,1.8442868466223409E-3,1.6015171213944735E-4,7.1262433329958761E-4,8.201810019932E-4,8.9395017477131116E-4,9.1654860497987262E-4,8.859259055630851E-4,8.8616064225834437E-4,8.859259055630851E-4,null,"EI",null,{"$f":"IF(Y221<Y$146,Y$149,IF(Y221<Y$132,$X$121,Y$135))","v":55.955848145372805},{"$f":"IF(Z221<Z$146,Z$149,IF(Z221<Z$132,$X$121,Z$135))","v":55.955848145372805},55.955848145372805,55.955848145372805,55.955848145372805,55.955848145372805,55.955848145372805,55.955848145372805,55.955848145372805,55.955848145372805,66.619873729451115,66.619873729451115,66.619873729451115,66.619873729451115,66.619873729451115]
[null,"a''",null,null,null,null,0,{"$f":"G225+0.5*(G224+H224)*(H$80-G$80)","v":-1.5404115163292853E-3},-2.2483725882382175E-3,-2.2968913935951557E-3,-2.1768878574497247E-3,-1.4124585576129329E-3,-3.7734026181834683E-5,-3.7724003989041255E-5,3.9865965485024921E-4,1.0117817889673641E-3,1.7831408185113944E-3,2.5978652693994268E-3,3.4089787991437581E-3,3.4089787991437581E-3,3.4089787991437581E-3,null,"k",null,{"$f":"Y221/Y224-(Y222-Y223)/$AA$117","v":-1.8890935051419637E-3},-1.0471445548239085E-3,-2.6438649506682155E-4,-9.9076966229642681E-5,4.4152239173234656E-4,1.0762941068283864E-3,1.5678272514931776E-3,1.2919886424504247E-4,6.8756650161253072E-4,8.0621631213809522E-4,7.5050294923680397E-4,7.8271476082831691E-4,7.737778536475975E-4,7.737778536475975E-4,7.737778536475975E-4]
[null,"u''",null,null,null,null,0,{"$f":"G226-0.5*(G225+H225)*(H$80-G$80)","v":6.9318518234817836E-4},2.3981380294035549E-3,2.8526644275868921E-3,4.4184871654526E-3,6.0336930522307958E-3,6.6862797149384416E-3,6.6862800922285921E-3,6.505814071476242E-3,5.9416374939491971E-3,4.6839223205837558E-3,2.7124695810238878E-3,9.3897501794535515E-6,9.3897501794535515E-6,9.3897501794535515E-6,null,"a",null,0,{"$f":"Y226+0.5*(Y225+Z225)*(Z$163-Y$163)","v":-1.3213071269846427E-3},-1.9114960994354711E-3,-1.9478424455651175E-3,-1.8279865466391712E-3,-1.1449691222868413E-3,4.4885488957862414E-5,4.4893974088440787E-5,4.5327257319039826E-4,1.0507856986906486E-3,1.7513093663093534E-3,2.4412573358386573E-3,3.1416790123528189E-3,3.1416790123528189E-3,3.1416790123528189E-3]
[null,"a'",null,null,{"$f":"IF(E215=1,1,IF(ABS(G229)>=ABS($D$34),1,0))","v":0},null,{"$f":"IF($E$203=1,0,G225+U226/$D$2)","v":1.043305575494839E-6},{"$f":"IF($E$203=1,H225+U226/($D$2-$H$80),G227+0.5*(G224+H224)*(H$80-G$80))","v":-1.5393682107537904E-3},{"$f":"H227+0.5*(H224+I224)*(I$80-H$80)","v":-2.2473292826627224E-3},-2.2958480880196606E-3,-2.1758445518742296E-3,-1.4114152520374379E-3,-3.6690720606339603E-5,-3.6680698413546175E-5,3.9970296042574429E-4,1.0128250945428592E-3,1.7841841240868895E-3,2.5989085749749214E-3,3.4100221047192528E-3,3.4100221047192528E-3,3.4100221047192528E-3,null,"u",null,0,{"$f":"Y227-0.5*(Y226+Z226)*(Z$163-Y$163)","v":5.945882071430892E-4},2.0493496590321403E-3,2.4352835135321989E-3,3.7568236608037002E-3,5.0946537118204058E-3,5.5896913468184463E-3,5.5896908979211311E-3,5.3406101151144483E-3,4.7389868063620298E-3,3.4780440271120283E-3,1.5913890111454246E-3,-9.2093234554074051E-4,-9.2093234554074051E-4,-9.2093234554074051E-4]
[null,null,null,null,{"$f":"IF(E211=1,$D$34-G223,3*$D$36*G227*$C$60/$D$2)","v":1.6036944430697225E-5},null,0,{"$f":"G228-0.5*(G227+H227)*(H$80-G$80)","v":6.9224620733023305E-4},2.3962600793676638E-3,2.8505778164359019E-3,4.4156702403987643E-3,6.0299371521590145E-3,6.681584839848714E-3,6.681585206705809E-3,6.5000758908110197E-3,5.9350646688235784E-3,4.6764105204401916E-3,2.704018805862378E-3,0,0,0,null,"a",null,{"$f":"AM227/$D$2","v":-1.0232581617119339E-4},{"$f":"Y228+0.5*(Y225+Z225)*(Z$163-Y$163)","v":-1.4236329431558362E-3},-2.0138219156066645E-3,-2.0501682617363108E-3,-1.9303123628103644E-3,-1.2472949384580347E-3,-5.7440327213331048E-5,-5.7431842082752676E-5,3.5094675701920479E-4,9.48459882519455E-4,1.64898355013816E-3,2.3389315196674638E-3,3.0393531961816255E-3,3.0393531961816255E-3,3.0393531961816255E-3]
[null,"M'",null,null,{"$f":"IF($E$203=1,0,IF(G223<0,MAX(E228,3*$D$36*G227*$C$60/$D$2),MIN(E228,3*$D$36*G227*$C$60/$D$2)))","v":1.6036944430697225E-5},null,{"$f":"IF(AND($D$36=0,$D$37=0),G223,IF(AND($D$36=1,$D$37=0),G223+E229))","v":-0.1053310047175515},{"$f":"$E229*($D$2-H$80)/$D$2+H223","v":-5.8989570931798768E-2},-1.5808059738318031E-2,-6.6836250964047196E-3,2.3121794053529304E-2,5.800520371247652E-2,8.8817100262086043E-2,8.3174188085221833E-3,3.8562555563992865E-2,4.4388873595975729E-2,4.8336847265022263E-2,4.949785559595881E-2,4.7863000000000051E-2,4.7863000000000051E-2,4.7863000000000051E-2,null,"u",{"$f":"SUMPRODUCT(Y224:AM224,$G$43:$U$43)/$V$43","v":56.5956896804175},0,{"$f":"Y229-0.5*(Y228+Z228)*(Z$163-Y$163)","v":6.866814416971634E-4},2.2335361281402887E-3,2.6399351458745862E-3,4.0331033644659233E-3,5.4630266500367026E-3,6.0501575195888169E-3,6.0501580939496631E-3,5.9034021040560115E-3,5.3836394482405479E-3,4.2147899035446211E-3,2.4202281221320917E-3,0,0,0]
[null,"h'",null,null,{"$f":"E218","v":0},null,{"$f":"G224+(G229-G223)/$C$60","v":-2.1895221868064767E-3},-1.2329537559496774E-3,-3.3970186402183594E-4,-1.449374880967295E-4,4.8831865882483134E-4,1.2108652176729762E-3,1.8444607308849234E-3,1.6032559601562033E-4,7.1275957661492962E-4,8.2028533255074955E-4,8.9401972847634405E-4,9.1658338183238906E-4,8.859259055630851E-4,8.8616064225834437E-4,8.859259055630851E-4,null,"DM",{"$f":"3*$D$36*Y228*X229/$D$2","v":-1.9304000461067691E-3},{"$f":"$X230*($D$2-Y$163)/$D$2","v":-1.9304000461067691E-3},{"$f":"$X230*($D$2-Z$163)/$D$2","v":-1.737360041496092E-3},-1.5443200368854154E-3,-1.5014222580830424E-3,-1.3512800322747383E-3,-1.1582400276640614E-3,-9.6520002305338455E-4,-9.6519787816444448E-4,-7.5071112904152122E-4,-5.7912001383203071E-4,-3.8608000922135379E-4,-1.9304000461067697E-4,0,0,0]
[null,null,null,null,null,null,0,{"$f":"IF($E$215=1,H225+(U226+U228)/($D$2-$H$80),G231+0.5*(G230+H230)*(H$80-G$80))","v":-1.5401141742402693E-3},{"$f":"H231+0.5*(H230+I230)*(I$80-H$80)","v":-2.2478092032274504E-3},-2.296273138439307E-3,-2.1760897286844712E-3,-1.411456984260458E-3,-3.6560307409403423E-5,-3.6550283477769301E-5,3.999879374116427E-4,1.0132059010779142E-3,1.7846431785401066E-3,2.5994145781790359E-3,3.4105437575069997E-3,3.4105437575069997E-3,3.4105437575069997E-3,null,"k",null,{"$f":"Y225+Y230/$X229","v":-1.9232021105323616E-3},-1.0778422996752665E-3,-2.9167337937913981E-4,-1.256058815332854E-4,4.1764636795906809E-4,1.0558289435941477E-3,1.5507729487979787E-3,1.1214459944829401E-4,6.7430204396070931E-4,7.9598373052097585E-4,7.4368122815872439E-4,7.7930390028927712E-4,7.737778536475975E-4,7.737778536475975E-4,7.737778536475975E-4]
[null,null,null,null,null,null,0,{"$f":"G232-0.5*(G231+H231)*(H$80-G$80)","v":6.9305137840812122E-4},2.3976168982685953E-3,2.8520251324352709E-3,4.4173521359285933E-3,6.0317481567538113E-3,6.6833559380052492E-3,6.6833563035582034E-3,6.5016392937795363E-3,5.9363617583837137E-3,4.6773296725556041E-3,2.7045036820319912E-3,2.2430973274124855E-8,2.2430973274124855E-8,2.2430973274124855E-8,null,"a",null,{"$f":"Y228-X230*$D$2/(3*$X$121)","v":1.1700708587881743E-6},{"$f":"Y232+0.5*(Y231+Z231)*(Z$163-Y$163)","v":-1.3492999137346444E-3},-1.965581969309127E-3,-2.0073098954003694E-3,-1.9050957251513453E-3,-1.2420318349523982E-3,-6.9060983375941569E-5,-6.9052668788200657E-5,3.2416672068308409E-4,9.1228103047575801E-4,1.6051302618816233E-3,2.2904735696832237E-3,2.9893603589548176E-3,2.9893603589548176E-3,2.9893603589548176E-3]
[null,"a'",null,null,null,null,{"$f":"IF($E$215=1,0,G231+U232/$D$2)","v":2.4923303637916505E-9},{"$f":"IF($E$215=1,H231+U232/($D$2-$H$80),G233+0.5*(G230+H230)*(H$80-G$80))","v":-1.5401116819099055E-3},{"$f":"H233+0.5*(H230+I230)*(I$80-H$80)","v":-2.2478067108970866E-3},-2.2962706461089433E-3,-2.1760872363541075E-3,-1.4114544919300942E-3,-3.6557815079039631E-5,-3.654779114740551E-5,3.9999042974200649E-4,1.013208393408278E-3,1.7846456708704704E-3,2.5994170705093997E-3,3.4105462498373634E-3,3.4105462498373634E-3,3.4105462498373634E-3,null,"u",null,0,{"$f":"Y233-0.5*(Y232+Z232)*(Z$163-Y$163)","v":6.0665842929413522E-4},2.0983552766638326E-3,2.4956444631347822E-3,3.8649864303278826E-3,5.2811938323745668E-3,5.8711856006223194E-3,5.8711862911905799E-3,5.743630540813398E-3,5.249051440349861E-3,4.1162163587890391E-3,2.3631946345848589E-3,-1.2730633302260319E-5,-1.2730633302260319E-5,-1.2730633302260319E-5]
[null,"u",null,{"$f":"E234/E222","v":0.99977832005631706},{"$f":"MAX(ABS(MAX(G234:U234)),ABS(MIN(G234:U234)))","v":6.6833450880466432E-3},null,0,{"$f":"IF($E$215=1,H228,G234-0.5*(G233+H233)*(H$80-G$80))","v":6.9304913531079376E-4},{"$f":"H234-0.5*(H233+I233)*(I$80-H$80)","v":2.3976124120739404E-3},2.8520201477745433E-3,4.4173454066366111E-3,6.0317391843645015E-3,6.6833447225186117E-3,6.6833450880466432E-3,6.5016255859625359E-3,5.9363460567024226E-3,4.6773117277769853E-3,2.7044834941560448E-3,0,0,0,null,"sign(Mo)",null,{"$f":"SIGN(Y235)","v":-1},-1,-1,-1,1,1,1,1,1,1,1,1,1,1,1]
[null,"Revurderet moment",null,null,{"$f":"IF(ABS(G229)>ABS($D$34),$D$34-F235,G229-F235)","v":-3.3437530968539464E-3},{"$f":"G$110+G234*$D$3+IF($D$6>G$80,G234*$D$4,INDEX($G234:$U234,1+$D$82)*$D$4)-INDEX($G234:$U234,1+$D$82)*$D$4*G$80/$D$2","v":-0.10198725162069755},{"$f":"G$110+$E235*($D$2-G$45)/$D$2+G234*$D$3+IF($D$6>G$80,G234*$D$4,INDEX($G234:$U234,1+$D$82)*$D$4)-INDEX($G234:$U234,1+$D$82)*$D$4*G$80/$D$2","v":-0.1053310047175515},-5.898957941399971E-2,-1.5808337140705078E-2,-6.683988670935722E-3,2.3121108793948984E-2,5.8004147668401299E-2,8.8815840655365089E-2,8.3161592020495403E-3,3.8561388132841337E-2,4.4387874004814691E-2,4.8336123181530841E-2,4.9497475405899216E-2,4.7863000000000051E-2,4.7863000000000051E-2,4.7863000000000051E-2,null,"M0",{"$f":"0.3*X230+X221","v":-4.297697699268241E-3},{"$f":"G$108+G$109+$X235*($D$2-Y$163)/$D$2+Y233*$D$3+IF(Y$163<$D$6,$D$4*Y233,0)+$D$4*INDEX($Y233:$AM233,$D$82)*Y$163/$D$2","v":-0.10628494931996579},-5.9114280704550042E-2,-1.5255565987443598E-2,-5.9924459636200595E-3,2.4303069897216069E-2,5.9881197279934885E-2,8.744203598165938E-2,6.942365056554602E-3,3.8251234563158036E-2,4.4942325902048746E-2,4.9886586861531163E-2,5.2090754499691867E-2,5.1553470366011121E-2,5.1553470366011121E-2,5.1553470366011121E-2]
[null,"h''",null,null,null,null,{"$f":"IF(ABS(G235)<$F$200*MIN($E$24:$F$25),(G235-$G$59)/$C$60+Y$248,G224+(G235-G223)/$C$60)","v":-2.1895221868064767E-3},-1.2329539398901108E-3,-3.3970787962034582E-4,-1.4494537237786425E-4,4.8830379865526274E-4,1.2108423168708854E-3,1.8444334157331171E-3,1.6029828086919876E-4,7.1273426033279408E-4,8.2026365595609999E-4,8.9400402639238437E-4,9.1657513723586513E-4,8.859259055630851E-4,8.8616064225834437E-4,8.859259055630851E-4,null,"e_os",null,{"$f":"IF(Y234=1,IF(Y235<Y$132,Y$137+(Y$138-Y$137)*(Y235-Y$131)/(Y$132-Y$131),IF(Y235<Y$133,Y$138*(Y$133-Y235)/(Y$133-Y$132),0)),IF(Y235>Y$146,Y$156+(Y$155-Y$156)*(Y235-Y$146)/(Y$145-Y$146),Y$156))*Y$159","v":0},0,0,0,0,0,0,0,0,0,0,0,0,0,0]
[null,"a''",null,null,null,null,0,{"$f":"G237+0.5*(G236+H236)*(H$80-G$80)","v":-1.5401142570134643E-3},-2.2478120757931696E-3,-2.2962774009929908E-3,-2.1761019517959014E-3,-1.4114861998091349E-3,-3.6612120137333995E-5,-3.6602096478851363E-5,3.999098089594392E-4,1.0131089754749968E-3,1.784529432531815E-3,2.5992900561645268E-3,3.4104155254240549E-3,3.4104155254240549E-3,3.4104155254240549E-3,null,"e_us",null,{"$f":"IF(Y234=1,IF(Y235<Y$132,Y$142+(Y$141-Y$142)*(Y$132-Y235)/(Y$132-Y$131),Y$142),IF(Y235>Y$146,Y$152+(Y$151-Y$152)*(Y235-Y$146)/(Y$145-Y$146),IF(Y235>Y$147,Y$153+(Y$152-Y$153)*(Y235-Y$147)/(Y$146-Y$147),0)))*Y$160","v":0},0,0,0,0,0,0,0,0,0,0,0,0,0,0]
[null,"u''",null,null,null,null,0,{"$f":"G238-0.5*(G237+H237)*(H$80-G$80)","v":6.9305141565605892E-4},2.3976182654190442E-3,2.8520272130976602E-3,4.4173599865737732E-3,6.0317746547960396E-3,6.683418898771951E-3,6.6834192648430341E-3,6.5017672251413026E-3,5.9365597113675284E-3,4.6776224277644621E-3,2.7049036578511093E-3,5.3614613624653265E-7,5.3614613624653265E-7,5.3614613624653265E-7,null,"EI",null,{"$f":"IF(Y235<Y$146,Y$149,IF(Y235<Y$132,$X$121,Y$135))","v":55.955848145372805},{"$f":"IF(Z235<Z$146,Z$149,IF(Z235<Z$132,$X$121,Z$135))","v":55.955848145372805},55.955848145372805,55.955848145372805,55.955848145372805,55.955848145372805,55.955848145372805,55.955848145372805,55.955848145372805,55.955848145372805,66.619873729451115,66.619873729451115,66.619873729451115,66.619873729451115,66.619873729451115]
[null,"a'",null,null,{"$f":"IF(E227=1,1,IF(ABS(G241)>=ABS($D$34),1,0))","v":0},null,{"$f":"IF($E$203=1,0,G237+U238/$D$2)","v":5.9571792916281403E-8},{"$f":"IF($E$203=1,H237+U238/($D$2-$H$80),G239+0.5*(G236+H236)*(H$80-G$80))","v":-1.540054685220548E-3},{"$f":"H239+0.5*(H236+I236)*(I$80-H$80)","v":-2.2477525040002534E-3},-2.2962178292000746E-3,-2.1760423800029852E-3,-1.4114266280162188E-3,-3.6552548344417858E-5,-3.6542524685935226E-5,3.9996938075235534E-4,1.0131685472679129E-3,1.7845890043247312E-3,2.5993496279574429E-3,3.4104750972169711E-3,3.4104750972169711E-3,3.4104750972169711E-3,null,"k",null,{"$f":"Y235/Y238-(Y236-Y237)/$AA$117","v":-1.899443093844962E-3},-1.0564450841844388E-3,-2.7263577433067892E-4,-1.0709239806448358E-4,4.3432582478379925E-4,1.0701508289958192E-3,1.5626969991498606E-3,1.2406862350684773E-4,6.8359672547151215E-4,8.0317477782284664E-4,7.4882439831880756E-4,7.8191013557360955E-4,7.7384521284705639E-4,7.7384521284705639E-4,7.7384521284705639E-4]
[null,null,null,null,{"$f":"IF(E223=1,$D$34-G235,3*$D$36*G239*$C$60/$D$2)","v":9.1569484058616871E-7},null,0,{"$f":"G240-0.5*(G239+H239)*(H$80-G$80)","v":6.929978010424342E-4},2.397511036191795E-3,2.8519080695118275E-3,4.4171991427328985E-3,6.0315601963415403E-3,6.683150825703827E-3,6.6831511911791923E-3,6.5014395802802626E-3,5.9361844090721552E-3,4.6771935108554652E-3,2.7044211263284879E-3,0,0,0,null,"a",null,0,{"$f":"Y240+0.5*(Y239+Z239)*(Z$163-Y$163)","v":-1.3301496801132304E-3},-1.9282360664450333E-3,-1.9662088836845497E-3,-1.8516771843327892E-3,-1.1746626901319611E-3,1.011883253359473E-5,1.0127266361707694E-5,4.1395590252414291E-4,1.0086645038418864E-3,1.707064133105631E-3,2.395894673357218E-3,3.095984580146518E-3,3.095984580146518E-3,3.095984580146518E-3]
[null,"M'",null,null,{"$f":"IF($E$203=1,0,IF(G235<0,MAX(E240,3*$D$36*G239*$C$60/$D$2),MIN(E240,3*$D$36*G239*$C$60/$D$2)))","v":9.1569484058616871E-7},null,{"$f":"IF(AND($D$36=0,$D$37=0),G235,IF(AND($D$36=1,$D$37=0),G235+E241))","v":-0.1053300890227109},{"$f":"$E241*($D$2-H$80)/$D$2+H235","v":-5.8988755288643183E-2},-1.5807604584832609E-2,-6.6832764638374885E-3,2.3121749780337396E-2,5.8004697085305652E-2,8.8816298502785385E-2,8.316617048452395E-3,3.8561744236390451E-2,4.4388148713266865E-2,4.8336306320498956E-2,4.9497566975383274E-2,4.7863000000000051E-2,4.7863000000000051E-2,4.7863000000000051E-2,null,"u",null,0,{"$f":"Y241-0.5*(Y240+Z240)*(Z$163-Y$163)","v":5.9856735605095363E-4},2.0648409420021725E-3,2.4542854370151307E-3,3.7905455608211996E-3,5.1523985043303369E-3,5.6764432402496012E-3,5.6764431390191068E-3,5.4644036749920254E-3,4.8953555124456143E-3,3.6732776258192306E-3,1.8269461629109496E-3,-6.4439950116573276E-4,-6.4439950116573276E-4,-6.4439950116573276E-4]
[null,"h'",null,null,{"$f":"E230","v":0},null,{"$f":"G236+(G241-G235)/$C$60","v":-2.1895023295421712E-3},-1.232936068352236E-3,-3.3969199380890148E-4,-1.4492992783896004E-4,4.8831769874027652E-4,1.2108542312294687E-3,1.8444433443652699E-3,1.6030820947928785E-4,7.1274198260224612E-4,8.2026961313539151E-4,8.9400799784524539E-4,9.1657712296229564E-4,8.859259055630851E-4,8.8616064225834437E-4,8.859259055630851E-4,null,"a",null,{"$f":"AM241/$D$2","v":-7.15999445739703E-5},{"$f":"Y242+0.5*(Y239+Z239)*(Z$163-Y$163)","v":-1.4017496246872007E-3},-1.9998360110190039E-3,-2.0378088282585203E-3,-1.9232771289067598E-3,-1.2462626347059316E-3,-6.1481112040375841E-5,-6.1472678212262877E-5,3.4235595795017234E-4,9.3706455926791576E-4,1.6354641885316604E-3,2.3242947287832475E-3,3.0243846355725475E-3,3.0243846355725475E-3,3.0243846355725475E-3]
[null,null,null,null,null,null,0,{"$f":"IF($E$215=1,H237+(U238+U240)/($D$2-$H$80),G243+0.5*(G242+H242)*(H$80-G$80))","v":-1.5400972790524834E-3},{"$f":"H243+0.5*(H242+I242)*(I$80-H$80)","v":-2.2477799070249951E-3},-2.2962420991897814E-3,-2.1760563793743206E-3,-1.4114290108879354E-3,-3.6545101870303015E-5,-3.653507811253417E-5,3.9998565267727258E-4,1.0131902909723274E-3,1.7846152159136143E-3,2.5993785202770075E-3,3.4105048831134291E-3,3.4105048831134291E-3,3.4105048831134291E-3,null,"u",{"$f":"SUMPRODUCT(Y238:AM238,$G$43:$U$43)/$V$43","v":56.5956896804175},0,{"$f":"Y243-0.5*(Y242+Z242)*(Z$163-Y$163)","v":6.6300730616752695E-4},2.1937208422353189E-3,2.5974853261630714E-3,3.9838654111709199E-3,5.4101583047966306E-3,5.9986429908324692E-3,5.9986436056014203E-3,5.858203370148864E-3,5.3464351632616291E-3,4.1887972267518198E-3,2.4069057139601124E-3,3.903127820947816E-18,3.903127820947816E-18,3.903127820947816E-18]
[null,null,null,null,null,null,0,{"$f":"G244-0.5*(G243+H243)*(H$80-G$80)","v":6.9304377557361755E-4},2.397588509308483E-3,2.8519907099299607E-3,4.4172951774273973E-3,6.0316636030454127E-3,6.6832519537866203E-3,6.6832523191875199E-3,6.5015288491580238E-3,5.9362584716981838E-3,4.67724599359951E-3,2.7044488123137314E-3,1.2807880342240174E-9,1.2807880342240174E-9,1.2807880342240174E-9,null,"DM",{"$f":"3*$D$36*Y242*X243/$D$2","v":-1.3507494147478386E-3},{"$f":"$X244*($D$2-Y$163)/$D$2","v":-1.3507494147478386E-3},{"$f":"$X244*($D$2-Z$163)/$D$2","v":-1.2156744732730548E-3},-1.080599531798271E-3,-1.0505828781372077E-3,-9.4552459032348692E-4,-8.1044964884870315E-4,-6.7537470737391928E-4,-6.7537320654123632E-4,-5.2529143906860384E-4,-4.0522482442435158E-4,-2.701498829495677E-4,-1.350749414747839E-4,0,0,0]
[null,"a'",null,null,null,null,{"$f":"IF($E$215=1,0,G243+U244/$D$2)","v":1.4230978158044638E-10},{"$f":"IF($E$215=1,H243+U244/($D$2-$H$80),G245+0.5*(G242+H242)*(H$80-G$80))","v":-1.5400971367427018E-3},{"$f":"H245+0.5*(H242+I242)*(I$80-H$80)","v":-2.247779764715214E-3},-2.2962419568800002E-3,-2.1760562370645394E-3,-1.4114288685781542E-3,-3.6544959560521869E-5,-3.6534935802753023E-5,3.9998579498705373E-4,1.0131904332821085E-3,1.7846153582233954E-3,2.5993786625867887E-3,3.4105050254232103E-3,3.4105050254232103E-3,3.4105050254232103E-3,null,"k",null,{"$f":"Y239+Y244/$X243","v":-1.9233097420362855E-3},-1.0779250675566298E-3,-2.9172909288373766E-4,-1.2565534665773514E-4,4.1761917104987287E-4,1.0558308400810251E-3,1.5507636750541989E-3,1.1213532592968401E-4,6.7431525117488632E-4,7.960147833654496E-4,7.4405106868054283E-4,7.7952347075447724E-4,7.7384521284705639E-4,7.7384521284705639E-4,7.7384521284705639E-4]
[null,"u",null,{"$f":"E246/E234","v":0.99998602357751509},{"$f":"MAX(ABS(MAX(G246:U246)),ABS(MIN(G246:U246)))","v":6.6832516787920801E-3},null,0,{"$f":"IF($E$215=1,H240,G246-0.5*(G245+H245)*(H$80-G$80))","v":6.9304364749481413E-4},{"$f":"H246-0.5*(H245+I245)*(I$80-H$80)","v":2.3975882531508765E-3},2.851990425310398E-3,4.4172947931909873E-3,6.031663090730199E-3,6.683251313392603E-3,6.6832516787920801E-3,6.5015280664542253E-3,5.9362575751465609E-3,4.6772449689690835E-3,2.7044476596045017E-3,0,0,0,null,"a",null,{"$f":"Y242-X244*$D$2/(3*$X$121)","v":8.1872797864315121E-7},{"$f":"Y246+0.5*(Y245+Z245)*(Z$163-Y$163)","v":-1.3497369363381689E-3},-1.9660813085363342E-3,-2.0078197524904815E-3,-1.9056324139532332E-3,-1.2425799089443293E-3,-6.9612377133478672E-5,-6.9604062638474072E-5,3.2361729366092571E-4,9.1174930747705998E-4,1.6047789408977569E-3,2.2903874836435155E-3,2.9894033912642058E-3,2.9894033912642058E-3,2.9894033912642058E-3]
[null,"Revurderet moment",null,null,{"$f":"IF(ABS(G241)>ABS($D$34),$D$34-F247,G241-F247)","v":-3.3428374020133544E-3},{"$f":"G$110+G246*$D$3+IF($D$6>G$80,G246*$D$4,INDEX($G246:$U246,1+$D$82)*$D$4)-INDEX($G246:$U246,1+$D$82)*$D$4*G$80/$D$2","v":-0.10198725162069755},{"$f":"G$110+$E247*($D$2-G$45)/$D$2+G246*$D$3+IF($D$6>G$80,G246*$D$4,INDEX($G246:$U246,1+$D$82)*$D$4)-INDEX($G246:$U246,1+$D$82)*$D$4*G$80/$D$2","v":-0.1053300890227109},-5.898875533538353E-2,-1.5807620498262641E-2,-6.6832976004859686E-3,2.312170866011911E-2,5.8004631927499772E-2,8.8816219105028266E-2,8.3165376507036634E-3,3.8561670048596446E-2,4.4388084856572474E-2,4.8336259863817364E-2,4.9497542519468689E-2,4.7863000000000051E-2,4.7863000000000051E-2,4.7863000000000051E-2,null,"u",null,0,{"$f":"Y247-0.5*(Y246+Z246)*(Z$163-Y$163)","v":6.0701319376178656E-4},2.0991314039553134E-3,2.4965215100579948E-3,3.866229768313295E-3,5.2829253136171981E-3,5.8734118423522117E-3,5.8734125384344105E-3,5.74640719298934E-3,5.252260552534146E-3,4.1198228407654776E-3,2.3669979497219062E-3,-8.9079439865693069E-6,-8.9079439865693069E-6,-8.9079439865693069E-6]
[null,"h''",null,null,null,null,{"$f":"IF(ABS(G247)<$F$200*MIN($E$24:$F$25),(G247-$G$59)/$C$60+Y$248,G236+(G247-G235)/$C$60)","v":-2.1895023295421712E-3},-1.2329360693658219E-3,-3.3969233889896E-4,-1.4493038619691598E-4,4.8831680702940677E-4,1.2108528182524423E-3,1.8444416225883433E-3,1.603064877025431E-4,7.1274037380576879E-4,8.2026822837356699E-4,8.9400699041071127E-4,9.1657659262452563E-4,8.859259055630851E-4,8.8616064225834437E-4,8.859259055630851E-4,null,"k","termisk del",{"$f":"-(Y236-Y237)/$AA$117","v":0},{"$f":"-(Z236-Z237)/$AA$117","v":0},{"$f":"-(AA236-AA237)/$AA$117","v":0},0,0,0,0,0,0,{"$f":"-(AH236-AH237)/$AA$117","v":0},0,0,0,0,0]
[null,"a''",null,null,null,null,0,{"$f":"G249+0.5*(G248+H248)*(H$80-G$80)","v":-1.5400972795085971E-3},-2.247780063227749E-3,-2.2962423357373368E-3,-2.1760570884459649E-3,-1.4114307570691328E-3,-3.6548258690779264E-5,-3.6538234950228186E-5,3.9998083056962038E-4,1.0131842714413545E-3,1.7846081198942801E-3,2.5993707322601364E-3,3.4104968564445614E-3,3.4104968564445614E-3,3.4104968564445614E-3,null,"M",null,{"$f":"Y235+Y244","v":-0.10763569873471363},-6.0329955177823094E-2,-1.6336165519241868E-2,-7.043028841757267E-3,2.3357545306892581E-2,5.9070747631086183E-2,8.6766661274285464E-2,6.2669918500133657E-3,3.7725943124089431E-2,4.4537101077624396E-2,4.9616436978581598E-2,5.1955679558217081E-2,5.1553470366011121E-2,5.1553470366011121E-2,5.1553470366011121E-2]
[null,"u''",null,null,null,null,0,{"$f":"G250-0.5*(G249+H249)*(H$80-G$80)","v":6.9304377577886873E-4},2.3975885800102243E-3,2.8519908199067328E-3,4.4172956183708891E-3,6.0316651488526831E-3,6.6832557059446438E-3,6.683256071377112E-3,6.5015365907803938E-3,5.9362705499760044E-3,4.6772639738749686E-3,2.7044734904054821E-3,3.3075488366837019E-8,3.3075488366837019E-8,3.3075488366837019E-8]
[null,"a'",null,null,{"$f":"IF(E239=1,1,IF(ABS(G253)>=ABS($D$34),1,0))","v":0},null,{"$f":"IF($E$203=1,0,G249+U250/$D$2)","v":3.675054262981891E-9},{"$f":"IF($E$203=1,H249+U250/($D$2-$H$80),G251+0.5*(G248+H248)*(H$80-G$80))","v":-1.540093604454334E-3},{"$f":"H251+0.5*(H248+I248)*(I$80-H$80)","v":-2.2477763881734859E-3},-2.2962386606830737E-3,-2.1760534133917018E-3,-1.4114270820148698E-3,-3.6544583636516186E-5,-3.6534559895965108E-5,3.9998450562388346E-4,1.0131879464956176E-3,1.7846117949485432E-3,2.5993744073143994E-3,3.4105005314988245E-3,3.4105005314988245E-3,3.4105005314988245E-3]
[null,null,null,null,{"$f":"IF(E235=1,$D$34-G247,3*$D$36*G251*$C$60/$D$2)","v":5.6490296208073015E-8},null,0,{"$f":"G252-0.5*(G251+H251)*(H$80-G$80)","v":6.9304046823003191E-4},2.3975819649125511E-3,2.8519834697982071E-3,4.4172856957243791E-3,6.0316519186573358E-3,6.6832391682004593E-3,6.6832395335961773E-3,6.5015163779819467E-3,5.9362473971341463E-3,4.6772375134842732E-3,2.7044437224659503E-3,0,0,0]
[null,"M'",null,null,{"$f":"IF($E$203=1,0,IF(G247<0,MAX(E252,3*$D$36*G251*$C$60/$D$2),MIN(E252,3*$D$36*G251*$C$60/$D$2)))","v":5.6490296208073015E-8},null,{"$f":"IF(AND($D$36=0,$D$37=0),G247,IF(AND($D$36=1,$D$37=0),G247+E253))","v":-0.1053300325324147},{"$f":"$E253*($D$2-H$80)/$D$2+H247","v":-5.8988704494116945E-2},-1.5807575306025674E-2,-6.6832536635889183E-3,2.3121748203326454E-2,5.8004665821677494E-2,8.8816247350176375E-2,8.316565895789E-3,3.8561692017044971E-2,4.4388101803661338E-2,4.8336271161876602E-2,4.9497548168498308E-2,4.7863000000000051E-2,4.7863000000000051E-2,4.7863000000000051E-2]
[null,"h'",null,null,{"$f":"E242","v":0},null,{"$f":"G248+(G253-G247)/$C$60","v":-2.1895011045240838E-3},-1.2329349668495431E-3,-3.3969135888448987E-4,-1.4492943340507005E-4,4.8831766454206812E-4,1.2108535532632948E-3,1.8444422350973873E-3,1.6030710021022577E-4,7.1274085020169183E-4,8.2026859587899337E-4,8.940072354143287E-4,9.1657671512633434E-4,8.859259055630851E-4,8.8616064225834437E-4,8.859259055630851E-4]
[null,null,null,null,null,null,0,{"$f":"IF($E$215=1,H249+(U250+U252)/($D$2-$H$80),G255+0.5*(G254+H254)*(H$80-G$80))","v":-1.5400962321181321E-3},{"$f":"H255+0.5*(H254+I254)*(I$80-H$80)","v":-2.2477780786984468E-3},-2.2962401579274027E-3,-2.1760542770294534E-3,-1.4114272290170402E-3,-3.6544124254733572E-5,-3.6534100508057416E-5,3.9998550945814949E-4,1.0131892878904234E-3,1.7846134119724186E-3,2.5993761897157167E-3,3.4105023690259558E-3,3.4105023690259558E-3,3.4105023690259558E-3]
[null,null,null,null,null,null,0,{"$f":"G256-0.5*(G255+H255)*(H$80-G$80)","v":6.9304330445315947E-4},2.3975867443206201E-3,2.8519885679832049E-3,4.4172916202181046E-3,6.0316582979390264E-3,6.6832454069113249E-3,6.6832457723024485E-3,6.5015218850844473E-3,5.9362519661450182E-3,4.6772407512067384E-3,2.7044454304470784E-3,7.9013324529031426E-11,7.9013324529031426E-11,7.9013324529031426E-11]
[null,"a'",null,null,null,null,{"$f":"IF($E$215=1,0,G255+U256/$D$2)","v":8.7792582810034912E-12},{"$f":"IF($E$215=1,H255+U256/($D$2-$H$80),G257+0.5*(G254+H254)*(H$80-G$80))","v":-1.5400962233388738E-3},{"$f":"H257+0.5*(H254+I254)*(I$80-H$80)","v":-2.2477780699191887E-3},-2.2962401491481445E-3,-2.1760542682501952E-3,-1.411427220237782E-3,-3.6544115475475435E-5,-3.6534091728799279E-5,3.9998551823740763E-4,1.0131892966696815E-3,1.7846134207516768E-3,2.5993761984949744E-3,3.4105023778052135E-3,3.4105023778052135E-3,3.4105023778052135E-3]
[null,"u",null,{"$f":"E258/E246","v":0.99999911031386113},{"$f":"MAX(ABS(MAX(G258:U258)),ABS(MIN(G258:U258)))","v":6.6832457327956991E-3},null,0,{"$f":"IF($E$215=1,H252,G258-0.5*(G257+H257)*(H$80-G$80))","v":6.93043296551827E-4},{"$f":"H258-0.5*(H257+I257)*(I$80-H$80)","v":2.3975867285179553E-3},2.8519885504246886E-3,4.4172915965141075E-3,6.0316582663336969E-3,6.6832453674046631E-3,6.6832457327956991E-3,6.5015218367985277E-3,5.9362519108356925E-3,4.6772406879960812E-3,2.7044453593350892E-3,3.4694469519536142E-18,3.4694469519536142E-18,3.4694469519536142E-18]
[null,"Revurderet moment",null,null,{"$f":"IF(ABS(G253)>ABS($D$34),$D$34-F259,G253-F259)","v":-3.3427809117171497E-3},{"$f":"G$110+G258*$D$3+IF($D$6>G$80,G258*$D$4,INDEX($G258:$U258,1+$D$82)*$D$4)-INDEX($G258:$U258,1+$D$82)*$D$4*G$80/$D$2","v":-0.10198725162069755},{"$f":"G$110+$E259*($D$2-G$45)/$D$2+G258*$D$3+IF($D$6>G$80,G258*$D$4,INDEX($G258:$U258,1+$D$82)*$D$4)-INDEX($G258:$U258,1+$D$82)*$D$4*G$80/$D$2","v":-0.1053300325324147},-5.8988704499029376E-2,-1.5807576303146872E-2,-6.6832549885203155E-3,2.3121745615971669E-2,5.8004661697278317E-2,8.8816242296086631E-2,8.316560841699655E-3,3.8561687283587075E-2,4.4388097722848435E-2,4.8336268188951786E-2,4.9497546602144442E-2,4.7863000000000051E-2,4.7863000000000051E-2,4.7863000000000051E-2]
[null,"h''",null,null,null,null,{"$f":"IF(ABS(G259)<$F$200*MIN($E$24:$F$25),(G259-$G$59)/$C$60+Y$248,G248+(G259-G247)/$C$60)","v":-2.1895011045240838E-3},-1.2329349669560714E-3,-3.3969138050752223E-4,-1.4492946213681752E-4,4.883176084340881E-4,1.2108534638237993E-3,1.8444421254971237E-3,1.6030699060997088E-4,7.1274074755447753E-4,8.2026850738468632E-4,8.9400717094508507E-4,9.165766811592295E-4,8.859259055630851E-4,8.8616064225834437E-4,8.859259055630851E-4]
[null,"a''",null,null,null,null,0,{"$f":"G261+0.5*(G260+H260)*(H$80-G$80)","v":-1.5400962321660699E-3},-2.2477780885246873E-3,-2.2962401727891213E-3,-2.1760543215850765E-3,-1.4114273390690272E-3,-3.6544323874611925E-5,-3.6534300129031768E-5,3.9998520371450181E-4,1.0131889056901673E-3,1.7846129609385649E-3,2.5993756943855058E-3,3.4105018584105477E-3,3.4105018584105477E-3,3.4105018584105477E-3]
[null,"u''",null,null,null,null,0,{"$f":"G262-0.5*(G261+H261)*(H$80-G$80)","v":6.9304330447473152E-4},2.3975867487855723E-3,2.8519885749169532E-3,4.417291647947923E-3,6.0316583952422691E-3,6.6832456435669063E-3,6.6832460089600266E-3,6.5015223744218096E-3,5.9362527306599418E-3,4.6772418906770117E-3,2.7044469957811807E-3,2.0970229554564956E-9,2.0970229554564956E-9,2.0970229554564956E-9]
[null,"a'",null,null,{"$f":"IF(E251=1,1,IF(ABS(G265)>=ABS($D$34),1,0))","v":0},null,{"$f":"IF($E$203=1,0,G261+U262/$D$2)","v":2.3300255060627728E-10},{"$f":"IF($E$203=1,H261+U262/($D$2-$H$80),G263+0.5*(G260+H260)*(H$80-G$80))","v":-1.5400959991635193E-3},{"$f":"H263+0.5*(H260+I260)*(I$80-H$80)","v":-2.2477778555221365E-3},-2.2962399397865704E-3,-2.1760540885825256E-3,-1.4114271060664764E-3,-3.6544090872061077E-5,-3.6534067126480921E-5,3.9998543671705266E-4,1.0131891386927182E-3,1.7846131939411158E-3,2.5993759273880571E-3,3.410502091413099E-3,3.410502091413099E-3,3.410502091413099E-3]
[null,null,null,null,{"$f":"IF(E247=1,$D$34-G259,3*$D$36*G263*$C$60/$D$2)","v":3.5815479606838078E-9},null,0,{"$f":"G264-0.5*(G263+H263)*(H$80-G$80)","v":6.9304309477243595E-4},2.397586329380981E-3,2.8519881089118515E-3,4.4172910188410358E-3,6.0316575564330864E-3,6.6832445950554282E-3,6.6832449604462179E-3,6.5015210929077801E-3,5.9362512627438718E-3,4.6772402130586463E-3,2.7044451084605198E-3,0,0,0]
[null,"M'",null,null,{"$f":"IF($E$203=1,0,IF(G259<0,MAX(E264,3*$D$36*G263*$C$60/$D$2),MIN(E264,3*$D$36*G263*$C$60/$D$2)))","v":3.5815479606838078E-9},null,{"$f":"IF(AND($D$36=0,$D$37=0),G259,IF(AND($D$36=1,$D$37=0),G259+E265))","v":-0.10533002895086674},{"$f":"$E265*($D$2-H$80)/$D$2+H259","v":-5.8988701275636213E-2},-1.5807573437908503E-2,-6.6832522028719013E-3,2.3121748123055241E-2,5.8004663846207095E-2,8.8816244086860605E-2,8.3165626324696561E-3,3.8561688676411285E-2,4.4388098797312821E-2,4.8336268905261381E-2,4.9497546960299239E-2,4.7863000000000051E-2,4.7863000000000051E-2,4.7863000000000051E-2]
[null,"h'",null,null,{"$f":"E254","v":0},null,{"$f":"G260+(G265-G259)/$C$60","v":-2.1895010268565668E-3},-1.2329348970553063E-3,-3.3969131837350869E-4,-1.4492940172874884E-4,4.8831766280134988E-4,1.2108535104243094E-3,1.844442164330882E-3,1.6030702944364302E-4,7.127407777585119E-4,8.2026853068494128E-4,8.9400718647858848E-4,9.1657668892598126E-4,8.859259055630851E-4,8.8616064225834437E-4,8.859259055630851E-4]
[null,null,null,null,null,null,0,{"$f":"IF($E$215=1,H261+(U262+U264)/($D$2-$H$80),G267+0.5*(G266+H266)*(H$80-G$80))","v":-1.5400961657603429E-3},{"$f":"H267+0.5*(H266+I266)*(I$80-H$80)","v":-2.2477779627033097E-3},-2.2962400347135356E-3,-2.1760541433381254E-3,-1.4114271153865788E-3,-3.6544061746742818E-5,-3.6534038000774327E-5,3.9998550036126728E-4,1.0131892237386483E-3,1.7846132964622371E-3,2.599376040394293E-3,3.4105022079143734E-3,3.4105022079143734E-3,3.4105022079143734E-3]
[null,null,null,null,null,null,0,{"$f":"G268-0.5*(G267+H267)*(H$80-G$80)","v":6.9304327459215431E-4},2.3975866324007977E-3,2.8519884321424821E-3,4.4172913944605634E-3,6.0316579608866803E-3,6.6832449905966746E-3,6.6832453559871738E-3,6.5015214420642391E-3,5.936251552424273E-3,4.6772404183338737E-3,2.7044452167484362E-3,5.0095353212875615E-12,5.0095353212875615E-12,5.0095353212875615E-12]
[null,"a'",null,null,null,null,{"$f":"IF($E$215=1,0,G267+U268/$D$2)","v":5.5661503569861799E-13},{"$f":"IF($E$215=1,H267+U268/($D$2-$H$80),G269+0.5*(G266+H266)*(H$80-G$80))","v":-1.5400961652037278E-3},{"$f":"H269+0.5*(H266+I266)*(I$80-H$80)","v":-2.2477779621466946E-3},-2.2962400341569205E-3,-2.1760541427815103E-3,-1.4114271148299637E-3,-3.6544061190127734E-5,-3.6534037444159243E-5,3.9998550091788237E-4,1.0131892242952634E-3,1.7846132970188522E-3,2.5993760409509081E-3,3.410502208470988E-3,3.410502208470988E-3,3.410502208470988E-3]
[null,"u",null,{"$f":"E270/E258","v":0.99999994324414909},{"$f":"MAX(ABS(MAX(G270:U270)),ABS(MIN(G270:U270)))","v":6.6832453534824005E-3},null,0,{"$f":"IF($E$215=1,H264,G270-0.5*(G269+H269)*(H$80-G$80))","v":6.9304327409120076E-4},{"$f":"H270-0.5*(H269+I269)*(I$80-H$80)","v":2.3975866313988908E-3},2.8519884310292524E-3,4.4172913929577031E-3,6.0316579588828665E-3,6.6832449880919074E-3,6.6832453534824005E-3,6.5015214390028563E-3,5.936251548917598E-3,4.6772404143262461E-3,2.7044452122398552E-3,0,0,0]
[null,"Revurderet moment",null,null,{"$f":"IF(ABS(G265)>ABS($D$34),$D$34-F271,G265-F271)","v":-3.3427773301691888E-3},{"$f":"G$110+G270*$D$3+IF($D$6>G$80,G270*$D$4,INDEX($G270:$U270,1+$D$82)*$D$4)-INDEX($G270:$U270,1+$D$82)*$D$4*G$80/$D$2","v":-0.10198725162069755},{"$f":"G$110+$E271*($D$2-G$45)/$D$2+G270*$D$3+IF($D$6>G$80,G270*$D$4,INDEX($G270:$U270,1+$D$82)*$D$4)-INDEX($G270:$U270,1+$D$82)*$D$4*G$80/$D$2","v":-0.10533002895086674},-5.8988701276037073E-2,-1.5807573501347594E-2,-6.683252287142216E-3,2.3121747958443233E-2,5.800466358347367E-2,8.8816243764444774E-2,8.3165623100538363E-3,3.8561688374256074E-2,4.4388098536698097E-2,4.8336268715322678E-2,4.9497546860199727E-2,4.7863000000000051E-2,4.7863000000000051E-2,4.7863000000000051E-2]
[null,"h''",null,null,null,null,{"$f":"IF(ABS(G271)<$F$200*MIN($E$24:$F$25),(G271-$G$59)/$C$60+Y$248,G260+(G271-G259)/$C$60)","v":-2.1895010268565668E-3},-1.232934897063999E-3,-3.3969131974921461E-4,-1.4492940355618944E-4,4.8831765923166269E-4,1.2108535047268142E-3,1.8444421573391462E-3,1.6030702245190749E-4,7.1274077120613705E-4,8.2026852503339098E-4,8.9400718235968025E-4,9.1657668675527721E-4,8.859259055630851E-4,8.8616064225834437E-4,8.859259055630851E-4]
[null,"a''",null,null,null,null,0,{"$f":"G273+0.5*(G272+H272)*(H$80-G$80)","v":-1.5400961657642547E-3},-2.2477779633302006E-3,-2.296240035660741E-3,-2.1760541461743254E-3,-1.4114271223930109E-3,-3.6544074463328849E-5,-3.6534050717430275E-5,3.9998548087262384E-4,1.013189199368435E-3,1.7846132676953173E-3,2.5993760087970478E-3,3.410502175340311E-3,3.410502175340311E-3,3.410502175340311E-3]
[null,"u''",null,null,null,null,0,{"$f":"G274-0.5*(G273+H273)*(H$80-G$80)","v":6.9304327459391462E-4},2.3975866326864195E-3,2.8519884325855136E-3,4.417291396227787E-3,6.0316579670830883E-3,6.6832450056684414E-3,6.6832453710590671E-3,6.5015214732386207E-3,5.9362516011421968E-3,4.6772404909635077E-3,2.7044453165419448E-3,1.3368013206810359E-10,1.3368013206810359E-10,1.3368013206810359E-10]
[null,"a'",null,null,{"$f":"IF(E263=1,1,IF(ABS(G277)>=ABS($D$34),1,0))","v":0},null,{"$f":"IF($E$203=1,0,G273+U274/$D$2)","v":1.4853348007567064E-11},{"$f":"IF($E$203=1,H273+U274/($D$2-$H$80),G275+0.5*(G272+H272)*(H$80-G$80))","v":-1.5400961509109067E-3},{"$f":"H275+0.5*(H272+I272)*(I$80-H$80)","v":-2.2477779484768529E-3},-2.2962400208073933E-3,-2.1760541313209777E-3,-1.4114271075396632E-3,-3.654405960998113E-5,-3.6534035864082557E-5,3.9998549572597156E-4,1.0131892142217827E-3,1.784613282548665E-3,2.5993760236503955E-3,3.4105021901936587E-3,3.4105021901936587E-3,3.4105021901936587E-3]
[null,null,null,null,{"$f":"IF(E259=1,$D$34-G271,3*$D$36*G275*$C$60/$D$2)","v":2.2831500396629358E-10},null,0,{"$f":"G276-0.5*(G275+H275)*(H$80-G$80)","v":6.9304326122590144E-4},2.3975866059503933E-3,2.8519884028788177E-3,4.417291356123748E-3,6.0316579136110359E-3,6.6832449388283758E-3,6.6832453042188532E-3,6.5015213915452083E-3,5.9362515075661064E-3,4.677240384019404E-3,2.7044451962298277E-3,0,0,0]
[null,"M'",null,null,{"$f":"IF($E$203=1,0,IF(G271<0,MAX(E276,3*$D$36*G275*$C$60/$D$2),MIN(E276,3*$D$36*G275*$C$60/$D$2)))","v":2.2831500396629358E-10},null,{"$f":"IF(AND($D$36=0,$D$37=0),G271,IF(AND($D$36=1,$D$37=0),G271+E277))","v":-0.10533002872255173},{"$f":"$E277*($D$2-H$80)/$D$2+H271","v":-5.8988701070553567E-2},-1.5807573318695589E-2,-6.6832521095638794E-3,2.3121748118263737E-2,5.8004663720462674E-2,8.8816243878602277E-2,8.3165624242110842E-3,3.8561688463045245E-2,4.4388098605192598E-2,4.8336268760985679E-2,4.9497546883031228E-2,4.7863000000000051E-2,4.7863000000000051E-2,4.7863000000000051E-2]
[null,"h'",null,null,{"$f":"E266","v":0},null,{"$f":"G272+(G277-G271)/$C$60","v":-2.1895010219054509E-3},-1.2329348926079947E-3,-3.396913157883218E-4,-1.4492939970532143E-4,4.8831766269744395E-4,1.2108535076974839E-3,1.8444421598147042E-3,1.6030702492745997E-4,7.1274077313157114E-4,8.2026852651872584E-4,8.9400718334990345E-4,9.1657668725038887E-4,8.859259055630851E-4,8.8616064225834437E-4,8.859259055630851E-4]
[null,null,null,null,null,null,0,{"$f":"IF($E$215=1,H273+(U274+U276)/($D$2-$H$80),G279+0.5*(G278+H278)*(H$80-G$80))","v":-1.5400961615310506E-3},{"$f":"H279+0.5*(H278+I278)*(I$80-H$80)","v":-2.2477779553093931E-3},-2.2962400268587576E-3,-2.1760541348115146E-3,-1.4114271081337971E-3,-3.6544057753312448E-5,-3.6534034007389115E-5,3.9998549978313632E-4,1.013189219643255E-3,1.7846132890841386E-3,2.5993760308542697E-3,3.4105021976203334E-3,3.4105021976203334E-3,3.4105021976203334E-3]
[null,null,null,null,null,null,0,{"$f":"G280-0.5*(G279+H279)*(H$80-G$80)","v":6.9304327268897281E-4},2.3975866252671724E-3,2.8519884234839872E-3,4.4172913800685828E-3,6.0316579393939725E-3,6.6832449640431713E-3,6.6832453294336305E-3,6.5015214138030861E-3,5.9362515260325301E-3,4.6772403971052021E-3,2.7044452031329191E-3,3.193465457351774E-13,3.193465457351774E-13,3.193465457351774E-13]
[null,"a'",null,null,null,null,{"$f":"IF($E$215=1,0,G279+U280/$D$2)","v":3.5482949526130822E-14},{"$f":"IF($E$215=1,H279+U280/($D$2-$H$80),G281+0.5*(G278+H278)*(H$80-G$80))","v":-1.5400961614955677E-3},{"$f":"H281+0.5*(H278+I278)*(I$80-H$80)","v":-2.2477779552739102E-3},-2.2962400268232747E-3,-2.1760541347760317E-3,-1.4114271080983142E-3,-3.6544057717829547E-5,-3.6534033971906213E-5,3.9998549981861922E-4,1.0131892196787379E-3,1.7846132891196215E-3,2.5993760308897526E-3,3.4105021976558163E-3,3.4105021976558163E-3,3.4105021976558163E-3]
[null,"u",null,{"$f":"E282/E222","v":0.99976339689181593},{"$f":"MAX(ABS(MAX(G282:U282)),ABS(MIN(G282:U282)))","v":6.683245329273957E-3},null,0,{"$f":"IF($E$215=1,H276,G282-0.5*(G281+H281)*(H$80-G$80))","v":6.9304327265703818E-4},{"$f":"H282-0.5*(H281+I281)*(I$80-H$80)","v":2.3975866252033034E-3},2.8519884234130218E-3,4.4172913799727792E-3,6.0316579392662344E-3,6.6832449638834987E-3,6.683245329273957E-3,6.5015214136079297E-3,5.9362515258089867E-3,4.6772403968497241E-3,2.7044452028455067E-3,0,0,0]
[null,"a'",null,null,null,null,{"$f":"G281+IF(D36=1,0,U282/$D$2)","v":3.5482949526130822E-14},{"$f":"IF($E$275=1,H279+(U280+U282)/($D$2-$H$80),G283+0.5*(G278+H278)*(H$80-G$80))","v":-1.5400961614955677E-3},{"$f":"H283+0.5*(H278+I278)*(I$80-H$80)","v":-2.2477779552739102E-3},{"$f":"I283+0.5*(I278+J278)*(J$80-I$80)","v":-2.2962400268232747E-3},-2.1760541347760317E-3,-1.4114271080983142E-3,-3.6544057717829547E-5,-3.6534033971906213E-5,3.9998549981861922E-4,1.0131892196787379E-3,1.7846132891196215E-3,2.5993760308897526E-3,3.4105021976558163E-3,3.4105021976558163E-3,3.4105021976558163E-3]
[null,"u''",null,"Faktor",1.01,null,0,{"$f":"IF($E$275=1,H276,G282-0.5*(G283+H283)*(H$80-G$80))*$E$284","v":6.9997370538360862E-4},{"$f":"$E$284*(H284/$E$284-0.5*(H283+I283)*(I$80-H$80))","v":2.4215624914553364E-3},2.8805083076471521E-3,4.4614642937725072E-3,6.0919745186588971E-3,6.7500774135223337E-3,6.7500777825666965E-3,6.5665366277440091E-3,5.9956140410670766E-3,4.7240128008182213E-3,2.7314896548739616E-3,-4.380176776841438E-19,-4.380176776841438E-19,-4.380176776841438E-19]
[null,"Snitmoment efter omlejring",{"$f":"H284*$D$3+IF($D$6>H$80,H284*$D$4,INDEX($G284:$U284,1+$D$82)*$D$4)-INDEX($G284:$U284,1+$D$82)*$D$4*H$80/$D$2","v":3.6746302751376687E-4},null,{"$f":"G277-F285","v":-3.342777101854183E-3},{"$f":"G$110+G284*$D$3+IF($D$6>G$80,G284*$D$4,INDEX($G284:$U284,1+$D$82)*$D$4)-INDEX($G284:$U284,1+$D$82)*$D$4*G$80/$D$2","v":-0.10198725162069755},{"$f":"G$110+$E$285*($D$2-G$45)/$D$2+G284*$D$3+IF($D$6>G$80,G284*$D$4,INDEX($G284:$U284,1+$D$82)*$D$4)-INDEX($G284:$U284,1+$D$82)*$D$4*G$80/$D$2","v":-0.10533002872255173},-5.8985062822782805E-2,-1.5788158826188115E-2,-6.6594244126893546E-3,2.3160720789901112E-2,5.8058330513073388E-2,8.887305144021812E-2,8.373369935673107E-3,3.8612389328782991E-2,4.4431814660607728E-2,4.8369011493791927E-2,4.9515747374128408E-2,4.7863000000000058E-2,4.7863000000000058E-2,4.7863000000000058E-2]
[null,"M'",null,null,null,null,{"$f":"G285+$E286*($D$2-G$80)/$D$2","v":-0.10533002872255173},{"$f":"H285+$E286*($D$2-H$80)/$D$2","v":-5.8985062822782805E-2},-1.5788158826188115E-2,-6.6594244126893546E-3,2.3160720789901112E-2,5.8058330513073388E-2,{"$f":"M285+$E286*($D$2-M$80)/$D$2","v":8.887305144021812E-2},8.373369935673107E-3,3.8612389328782991E-2,4.4431814660607728E-2,4.8369011493791927E-2,4.9515747374128408E-2,4.7863000000000058E-2,4.7863000000000058E-2,4.7863000000000058E-2]
[null,"h''",null,null,null,null,{"$f":"Y$248+IF(ABS(G286)<$F$200*MIN($E$24:$F$25),(G286-G$59)/$C$60,A0!$P$99)","v":-2.1868870503123083E-3},{"$f":"Z$248+IF(ABS(H286)<$F$200*MIN($E$24:$F$25),(H286-H$59)/$C$60,A0!$P$199)","v":-1.2196576104574631E-3},{"$f":"AA$248+IF(ABS(I286)<$F$200*MIN($E$24:$F$25),(I286-I$59)/$C$60,A0!$P$299)","v":-3.1458959347528296E-4},{"$f":"AB$248+IF(ABS(J286)<$F$200*MIN($E$24:$F$25),(J286-J$59)/$C$60,A0!$P$399)","v":-1.4441268512568683E-4},{"$f":"AC$248+IF(ABS(K286)<$F$200*MIN($E$24:$F$25),(K286-K$59)/$C$60,A0!$P$499)","v":4.7673603978382468E-4},{"$f":"AD$248+IF(ABS(L286)<$F$200*MIN($E$24:$F$25),(L286-L$59)/$C$60,A0!$P$599)","v":1.1996007976920284E-3},{"$f":"AE$248+IF(ABS(M286)<$F$200*MIN($E$24:$F$25),(M286-M$59)/$C$60,A0!$P$699)","v":1.8432879159929318E-3},{"$f":"AF$248+IF(ABS(N286)<$F$200*MIN($E$24:$F$25),(N286-N$59)/$C$60,A0!$P$799)","v":1.5626037156450014E-4},{"$f":"AG$248+IF(ABS(O286)<$F$200*MIN($E$24:$F$25),(O286-O$59)/$C$60,A0!$P$899)","v":7.1382780007215208E-4},{"$f":"AH$248+IF(ABS(P286)<$F$200*MIN($E$24:$F$25),(P286-P$59)/$C$60,A0!$P$999)","v":8.2226902072862122E-4},{"$f":"AI$248+IF(ABS(Q286)<$F$200*MIN($E$24:$F$25),(Q286-Q$59)/$C$60,A0!$P$1099)","v":8.9544319134845889E-4},{"$f":"AJ$248+IF(ABS(R286)<$F$200*MIN($E$24:$F$25),(R286-R$59)/$C$60,A0!$P$1199)","v":9.1652045792537794E-4},{"$f":"AK$248+IF(ABS(S286)<$F$200*MIN($E$24:$F$25),(S286-S$59)/$C$60,A0!$P$1299)","v":8.8563351717989064E-4},{"$f":"AL$248+IF(ABS(T286)<$F$200*MIN($E$24:$F$25),(T286-T$59)/$C$60,A0!$P$1399)","v":8.8563577318084472E-4},{"$f":"AM$248+IF(ABS(U286)<$F$200*MIN($E$24:$F$25),(U286-U$59)/$C$60,A0!$P$1499)","v":8.8563351717989064E-4}]
[null,"a''",null,null,null,null,{"$f":"G283","v":3.5482949526130822E-14},{"$f":"IF(E290=1,H283,G288+0.5*(G287+H287)*(H$80-G$80))","v":-1.5329450973109143E-3},{"$f":"H288+0.5*(H287+I287)*(I$80-H$80)","v":-2.22335633908065E-3},-2.2692565669407468E-3,-2.1529433928103984E-3,-1.3985918159462646E-3,-2.9291894788032596E-5,-2.9281897046595188E-5,4.057578383308729E-4,1.020196566651182E-3,{"$f":"P288+0.5*(P287+Q287)*(Q$80-P$80)","v":1.7931670620858684E-3},{"$f":"Q288+0.5*(Q287+R287)*(R$80-Q$80)","v":2.6085507042590945E-3},{"$f":"R288+0.5*(R287+S287)*(S$80-R$80)","v":3.4195199930564654E-3},{"$f":"S288+0.5*(S287+T287)*(T$80-S$80)","v":3.4195199930564654E-3},{"$f":"T288+0.5*(T287+U287)*(U$80-T$80)","v":3.4195199930564654E-3}]
[null,"u''",null,null,null,null,0,{"$f":"IF($E$290=1,H284,G289-0.5*(G288+H288)*(H$80-G$80))","v":6.8982529377394411E-4},{"$f":"H289-0.5*(H288+I288)*(I$80-H$80)","v":2.3801609401501484E-3},2.8294222307522878E-3,4.3771922166651886E-3,5.9753830606056862E-3,6.6179307304361197E-3,6.6179310233050789E-3,6.4296949350426463E-3,5.8593131730498241E-3,{"$f":"P289-0.5*(P288+Q288)*(Q$80-P$80)","v":4.5932995401181511E-3},{"$f":"Q289-0.5*(Q288+R288)*(R$80-Q$80)","v":2.612526545262919E-3},{"$f":"R289-0.5*(R288+S288)*(S$80-R$80)","v":-1.0010526852908359E-4},{"$f":"S289-0.5*(S288+T288)*(T$80-S$80)","v":-1.0010526852908359E-4},{"$f":"T289-0.5*(T288+U288)*(U$80-T$80)","v":-1.0010526852908359E-4}]
[null,"a'",null,null,{"$f":"IF(E275=1,1,IF(A0!L98=A0!O6,1,0))","v":0},null,{"$f":"IF($E$290=1,G283,G288+U289/$D$2)","v":-1.1122807578859672E-5},{"$f":"IF($E$290=1,H288+U289/($D$2-$H$80),G290+0.5*(G287+H287)*(H$80-G$80))","v":-1.5440679049252568E-3},{"$f":"H290+0.5*(H287+I287)*(I$80-H$80)","v":-2.2344791466949922E-3},{"$f":"I290+0.5*(I287+J287)*(J$80-I$80)","v":-2.2803793745550891E-3},-2.1640662004247407E-3,-1.4097146235606069E-3,-4.041470240237488E-5,-4.0404704660937471E-5,3.9463503071653062E-4,1.0090737590368398E-3,1.7820442544715261E-3,2.5974278966447522E-3,3.4083971854421231E-3,3.4083971854421231E-3,3.4083971854421231E-3]
[null,"u''",null,null,null,null,0,{"$f":"IF($E$290=1,H289,G291-0.5*(G290+H290)*(H$80-G$80))","v":6.9983582062685238E-4},{"$f":"H291-0.5*(H290+I290)*(I$80-H$80)","v":2.4001819938559645E-3},{"$f":"I291-0.5*(I290+J290)*(J$80-I$80)","v":2.8516678459809723E-3},4.4072237972239128E-3,6.0154251680173184E-3,6.66798336470066E-3,6.6679837687976954E-3,6.4908703769215289E-3,5.9293868610201805E-3,{"$f":"P291-0.5*(P290+Q290)*(Q$80-P$80)","v":4.6733837549414155E-3},{"$f":"Q291-0.5*(Q290+R290)*(R$80-Q$80)","v":2.7026212869390915E-3},{"$f":"R291-0.5*(R290+S290)*(S$80-R$80)","v":0},{"$f":"S291-0.5*(S290+T290)*(T$80-S$80)","v":0},{"$f":"T291-0.5*(T290+U290)*(U$80-T$80)","v":0}]
[null,"M'",null,null,{"$f":"IF(AND($D$36=0,$D$37=0),0,IF(AND($D$36=1,$D$37=0),IF(A0!$L$98=A0!$O$6,0,3*G290*E293/$D$2)))","v":-1.7893984600368622E-4},null,{"$f":"IF(AND($D$36=0,$D$37=0),G286,IF(AND($D$36=1,$D$37=0),G286+E292))","v":-0.10550896856855542},{"$f":"$E292*($D$2-H$80)/$D$2+H286","v":-5.914610868418612E-2},{"$f":"$E292*($D$2-I$80)/$D$2+I286","v":-1.5931310702991062E-2},-6.7985998484699998E-3,2.3035462897698533E-2,5.7950966605471173E-2,8.8783581517216284E-2,8.2839002114933145E-3,3.8542801610892671E-2,4.4378132706806621E-2,4.8333223524591191E-2,4.9497853389528036E-2,{"$f":"$E292*($D$2-S$80)/$D$2+S286","v":4.7863000000000058E-2},4.7863000000000058E-2,{"$f":"$E292*($D$2-U$80)/$D$2+U286","v":4.7863000000000058E-2}]
[null,"h''",null,"( EI_reg  =",{"$f":"D302","v":48.262952874538023},")",{"$f":"G287+(G292-G286)/$E$293","v":-2.190594652838595E-3},{"$f":"H287+(H292-H286)/$E$293","v":-1.2229944527311209E-3},-3.1755567549631217E-4,-1.4729637597946527E-4,4.7414071801542409E-4,1.1973762361762565E-3,1.8414341147297887E-3,1.5440657442091521E-4,7.1238595464526296E-4,8.2115673997073526E-4,8.9470167084320165E-4,9.1614969767274922E-4,8.8563351717989064E-4,8.8563577318084472E-4,8.8563351717989064E-4]
[null,"a''",null,null,null,null,{"$f":"G289","v":0},{"$f":"IF($E$290=1,H283,G294+0.5*(G293+H293)*(H$80-G$80))","v":-1.5361150975063723E-3},{"$f":"H294+0.5*(H293+I293)*(I$80-H$80)","v":-2.2293626552087171E-3},{"$f":"I294+0.5*(I293+J293)*(J$80-I$80)","v":-2.275847860356295E-3},-2.1614523406437093E-3,-1.409269711257453E-3,-4.1805053349732845E-5,-4.1795074146287467E-5,3.9159685642415644E-4,1.0050139342705556E-3,{"$f":"P294+0.5*(P293+Q293)*(Q$80-P$80)","v":1.7771502191368275E-3},{"$f":"Q294+0.5*(Q293+R293)*(R$80-Q$80)","v":2.5920333349690049E-3},{"$f":"R294+0.5*(R293+S293)*(S$80-R$80)","v":3.402835781652693E-3},{"$f":"S294+0.5*(S293+T293)*(T$80-S$80)","v":3.402835781652693E-3},{"$f":"T294+0.5*(T293+U293)*(U$80-T$80)","v":3.402835781652693E-3}]
[null,"u''",null,null,null,null,0,{"$f":"IF($E$290=1,H291,G295-0.5*(G294+H294)*(H$80-G$80))","v":6.9125179387786756E-4},{"$f":"H295-0.5*(H294+I294)*(I$80-H$80)","v":2.3857167825996578E-3},{"$f":"I295-0.5*(I294+J294)*(J$80-I$80)","v":2.8362378341561588E-3},4.3892929045061604E-3,5.9961178278616833E-3,6.6491014719349166E-3,6.6491018899355542E-3,6.4742027478055311E-3,5.9155584315276465E-3,{"$f":"P295-0.5*(P294+Q294)*(Q$80-P$80)","v":4.6635845624943238E-3},{"$f":"Q295-0.5*(Q294+R294)*(R$80-Q$80)","v":2.6974519631467E-3},{"$f":"R295-0.5*(R294+S294)*(S$80-R$80)","v":-2.3913933306545301E-7},{"$f":"S295-0.5*(S294+T294)*(T$80-S$80)","v":-2.3913933306545301E-7},{"$f":"T295-0.5*(T294+U294)*(U$80-T$80)","v":-2.3913933306545301E-7}]
[null,"a'",null,null,null,null,{"$f":"IF($E$290=1,G290,G294+U295/$D$2)","v":-2.6571037007272557E-8},{"$f":"IF($E$290=1,H290,G296+0.5*(G293+H293)*(H$80-G$80))","v":-1.5361416685433797E-3},{"$f":"H296+0.5*(H293+I293)*(I$80-H$80)","v":-2.2293892262457244E-3},{"$f":"I296+0.5*(I293+J293)*(J$80-I$80)","v":-2.2758744313933024E-3},-2.1614789116807167E-3,-1.4092962822944604E-3,-4.1831624386740214E-5,-4.1821645183294836E-5,3.9157028538714907E-4,1.0049873632335482E-3,1.7771236480998201E-3,2.5920067639319975E-3,3.402809210615686E-3,3.402809210615686E-3,3.402809210615686E-3]
[null,"u''",null,null,null,null,0,{"$f":"IF($E$290=1,H291,G297-0.5*(G296+H296)*(H$80-G$80))","v":6.9127570781117424E-4},{"$f":"H297-0.5*(H296+I296)*(I$80-H$80)","v":2.3857646104662711E-3},2.8362909762301739E-3,4.3893646463060813E-3,5.9962134835949109E-3,6.6492210416014509E-3,6.6492214598677987E-3,6.4743488885090723E-3,5.9157258290607933E-3,{"$f":"P297-0.5*(P296+Q296)*(Q$80-P$80)","v":4.6637758739607772E-3},{"$f":"Q297-0.5*(Q296+R296)*(R$80-Q$80)","v":2.6976671885464605E-3},{"$f":"R297-0.5*(R296+S296)*(S$80-R$80)","v":0},{"$f":"S297-0.5*(S296+T296)*(T$80-S$80)","v":0},{"$f":"T297-0.5*(T296+U296)*(U$80-T$80)","v":0}]
[null,"Momentafvigelseskontrol","DM",{"$f":"MAX(MAX(G298:U298),ABS(MIN(G298:U298)),(MAX(G298:U298)-MIN(G298:U298)),0.05*ABS(D34))","v":0.19404203080182658},null,null,{"$f":"SIGN(G286)*A0!$Q$98","v":-0.10524009950806409},{"$f":"SIGN(H286)*A0!$Q$198","v":-5.9036753932728864E-2},{"$f":"SIGN(I286)*A0!$Q$298","v":-1.5772410635690574E-2},{"$f":"SIGN(J286)*A0!$Q$398","v":-6.6642554736102127E-3},{"$f":"SIGN(K286)*A0!$Q$498","v":2.3142189328987726E-2},{"$f":"SIGN(L286)*A0!$Q$598","v":5.7965373210049381E-2},{"$f":"SIGN(M286)*A0!$Q$698","v":8.8801931293762487E-2},{"$f":"SIGN(N286)*A0!$Q$798","v":8.3857184591824736E-3},{"$f":"SIGN(O286)*A0!$Q$898","v":3.8580176785137227E-2},{"$f":"SIGN(P286)*A0!$Q$998","v":4.4420152834434935E-2},{"$f":"SIGN(Q286)*A0!$Q$1098","v":4.8362564981953252E-2},{"$f":"SIGN(R286)*A0!$Q$1198","v":4.9474889402288086E-2},{"$f":"SIGN(S286)*A0!$Q$1298","v":4.7834688825921873E-2},{"$f":"SIGN(T286)*A0!$Q$1398","v":4.7834808201639899E-2},{"$f":"SIGN(U286)*A0!$Q$1498","v":4.7834688825921873E-2}]
[null,null,null,{"$f":"MIN(G299:U299)","v":1},null,null,{"$f":"IF(ABS(G286)<0.005*$D$298,1,IF($E$290=1,1,IF(ABS(G286)<0.1*$D$298,IF(ABS(G286-G298)<0.05*$D$298,1,0),IF(ABS(G286-G298)<IF(A0!$L$98=A0!$O$6,0.01,0.02)*$D$298,1,0))))","v":1},{"$f":"IF(ABS(H286)<0.005*$D$298,1,IF(ABS(H286)<0.1*$D$298,IF(ABS(H286-H298)<0.05*$D$298,1,0),IF(ABS(H286-H298)<IF(A0!$L$98=A0!$O$6,0.01,0.02)*$D$298,1,0)))","v":1},{"$f":"IF(ABS(I286)<0.005*$D$298,1,IF(ABS(I286)<0.1*$D$298,IF(ABS(I286-I298)<0.05*$D$298,1,0),IF(ABS(I286-I298)<IF(A0!$L$98=A0!$O$6,0.01,0.02)*$D$298,1,0)))","v":1},{"$f":"IF(ABS(J286)<0.005*$D$298,1,IF(ABS(J286)<0.1*$D$298,IF(ABS(J286-J298)<0.05*$D$298,1,0),IF(ABS(J286-J298)<IF(A0!$L$98=A0!$O$6,0.01,0.02)*$D$298,1,0)))","v":1},{"$f":"IF(ABS(K286)<0.005*$D$298,1,IF(ABS(K286)<0.1*$D$298,IF(ABS(K286-K298)<0.05*$D$298,1,0),IF(ABS(K286-K298)<IF(A0!$L$98=A0!$O$6,0.01,0.02)*$D$298,1,0)))","v":1},{"$f":"IF(ABS(L286)<0.005*$D$298,1,IF(ABS(L286)<0.1*$D$298,IF(ABS(L286-L298)<0.05*$D$298,1,0),IF(ABS(L286-L298)<IF(A0!$L$98=A0!$O$6,0.01,0.02)*$D$298,1,0)))","v":1},{"$f":"IF(ABS(M286)<0.005*$D$298,1,IF(ABS(M286)<0.1*$D$298,IF(ABS(M286-M298)<0.05*$D$298,1,0),IF(ABS(M286-M298)<IF(A0!$L$98=A0!$O$6,0.01,0.02)*$D$298,1,0)))","v":1},{"$f":"IF(ABS(N286)<0.005*$D$298,1,IF(ABS(N286)<0.1*$D$298,IF(ABS(N286-N298)<0.05*$D$298,1,0),IF(ABS(N286-N298)<IF(A0!$L$98=A0!$O$6,0.01,0.02)*$D$298,1,0)))","v":1},{"$f":"IF(ABS(O286)<0.005*$D$298,1,IF(ABS(O286)<0.1*$D$298,IF(ABS(O286-O298)<0.05*$D$298,1,0),IF(ABS(O286-O298)<IF(A0!$L$98=A0!$O$6,0.01,0.02)*$D$298,1,0)))","v":1},{"$f":"IF(ABS(P286)<0.005*$D$298,1,IF(ABS(P286)<0.1*$D$298,IF(ABS(P286-P298)<0.05*$D$298,1,0),IF(ABS(P286-P298)<IF(A0!$L$98=A0!$O$6,0.01,0.02)*$D$298,1,0)))","v":1},{"$f":"IF(ABS(Q286)<0.005*$D$298,1,IF(ABS(Q286)<0.1*$D$298,IF(ABS(Q286-Q298)<0.05*$D$298,1,0),IF(ABS(Q286-Q298)<IF(A0!$L$98=A0!$O$6,0.01,0.02)*$D$298,1,0)))","v":1},{"$f":"IF(ABS(R286)<0.005*$D$298,1,IF(ABS(R286)<0.1*$D$298,IF(ABS(R286-R298)<0.05*$D$298,1,0),IF(ABS(R286-R298)<IF(A0!$L$98=A0!$O$6,0.01,0.02)*$D$298,1,0)))","v":1},{"$f":"IF(ABS(S286)<0.005*$D$298,1,IF(ABS(S286)<0.1*$D$298,IF(ABS(S286-S298)<0.05*$D$298,1,0),IF(ABS(S286-S298)<IF(A0!$L$98=A0!$O$6,0.01,0.02)*$D$298,1,0)))","v":1},{"$f":"IF(ABS(T286)<0.005*$D$298,1,IF(ABS(T286)<0.1*$D$298,IF(ABS(T286-T298)<0.05*$D$298,1,0),IF(ABS(T286-T298)<IF(A0!$L$98=A0!$O$6,0.01,0.02)*$D$298,1,0)))","v":1},{"$f":"IF(ABS(U286)<0.005*$D$298,1,IF(ABS(U286)<0.1*$D$298,IF(ABS(U286-U298)<0.05*$D$298,1,0),IF(ABS(U286-U298)<IF(A0!$L$98=A0!$O$6,0.01,0.02)*$D$298,1,0)))","v":1}]
[null,"Moment iht tværsnitsanalyse A0",null,{"$f":"IF(E290=0,MAX(G300:U300)-MIN(G300:U300),MAX(H300:U300)-MIN(H300:U300))","v":9.857584403445388E-2},null,null,{"$f":"A0!$Q$98","v":0.10524009950806409},{"$f":"A0!$Q$198","v":5.9036753932728864E-2},{"$f":"A0!$Q$298","v":1.5772410635690574E-2},{"$f":"A0!$Q$398","v":6.6642554736102127E-3},{"$f":"A0!$Q$498","v":2.3142189328987726E-2},{"$f":"A0!$Q$598","v":5.7965373210049381E-2},{"$f":"A0!$Q$698","v":8.8801931293762487E-2},{"$f":"A0!$Q$798","v":8.3857184591824736E-3},{"$f":"A0!$Q$898","v":3.8580176785137227E-2},{"$f":"A0!$Q$998","v":4.4420152834434935E-2},{"$f":"A0!$Q$1098","v":4.8362564981953252E-2},{"$f":"A0!$Q$1198","v":4.9474889402288086E-2},{"$f":"A0!$Q$1298","v":4.7834688825921873E-2},{"$f":"A0!$Q$1398","v":4.7834808201639899E-2},{"$f":"A0!$Q$1498","v":4.7834688825921873E-2}]
[null,"Krumning excl brandbidrag",null,{"$f":"IF(E290=0,MAX(G301:U301)-MIN(G301:U301),MAX(H301:U301)-MIN(H301:U301))","v":2.0424743651866217E-3},null,null,{"$f":"ABS(G287-Y248)","v":2.1868870503123083E-3},1.2196576104574631E-3,3.1458959347528296E-4,1.4441268512568683E-4,4.7673603978382468E-4,1.1996007976920284E-3,1.8432879159929318E-3,1.5626037156450014E-4,7.1382780007215208E-4,8.2226902072862122E-4,8.9544319134845889E-4,9.1652045792537794E-4,8.8563351717989064E-4,8.8563577318084472E-4,8.8563351717989064E-4]
[null,"Stivheder (til beregning af EI_reg)",null,{"$f":"IF(D300>0,D300/D301,$C$60)","v":48.262952874538023},null,null,{"$f":"G300/G301","v":48.123244176252634},{"$f":"H300/H301","v":48.404366460342629},{"$f":"I300/I301","v":50.136466567289034},46.147299787481309,48.542982694326028,48.320552405076626,48.175833261472434,53.665035960323898,54.046895877741989,54.021435460469824,54.009640644118889,53.981216648757311,54.011832093077444,54.011829298444731,54.011832093077444]

{"sheet":"Stivheder","index":3,"n_rows":601,"n_cols":30,"rows_kept":601,"cut":false,"hidden":false,"merged":[]}
[]
[null,"Tilstand:",{"$f":"Kold!AR48","v":1},null,"Navier:","a=",{"$f":"0.5*(V6+Z6)*Q6/G6","v":24.323781741718612},"A=",{"$f":"C6*D6+G2*T6+G2*X6","v":0.25614351898648502},"Sy=",{"$f":"-(0.5*C6-U6)*G2*T6+(0.5*C6-Y6)*G2*X6","v":0},"Iy=",{"$f":"D6*C6^3/12+(0.5*C6-U6)^2*G2*T6+(0.5*C6-Y6)^2*G2*X6","v":6.8052891873039908E-3},"h=",{"$f":"K2/I2","v":0},"Io=",{"$f":"M2-I2*O2^2","v":6.8052891873039908E-3},"EIo=",{"$f":"Q2*G6/Q6","v":55.955848145372805},"E",{"$f":"1.4*F6/AD5","v":12080.993406371976},null,null,"EImax",{"$f":"M2*V9/Q6","v":45.096559808647307},"MNm2"]
[]
[null,"L","h","b","fck","fcd","Ecd","Ac","ac","Esc","fyd_c","At","at","Est","fyd_t","Modenhed","1+f","uterm","g","Ac","ac","Esc","fyd_c","At","at","Est","fyd_t","   emax",null,{"$f":"IF($C$2=1,0.0035,Firsidig!$G$21)","v":3.5000000000000001E-3}]
[null,"(m)","(m)","(m)","(Mpa)","(Mpa)","(Mpa)","(m2)","(m)","(Mpa)","(Mpa)","(m2)","(m)","(Mpa)","(Mpa)","(døgn)",null,"(m)",null,"(m2)","(m)","(Mpa)","(Mpa)","(m2)","(m)","(Mpa)","(Mpa)","e1",null,{"$f":"IF($C$2=1,0.7*(E6+8)^0.31/1000,Firsidig!$F$21)","v":2.0693662482105194E-3}]
[null,{"$f":"C6","v":0.54},{"$f":"IF($C$2=1,Kold!AQ$23,Brand!AQ$23)","v":0.54},{"$f":"IF($C$2=1,Kold!AR$23,Brand!AR$23)","v":0.42},{"$f":"IF($C$2=1,Kold!AS$23,Brand!AS$23)","v":25},{"$f":"IF($C$2=1,Kold!AT$23,Brand!AT$23)","v":17.857142857142858},{"$f":"IF($C$2=1,Kold!AU$23,1.4*F6/AD5)","v":22482.71872144239},{"$f":"IF($W8<0,X6,T6)","v":6.0318578948924026E-4},{"$f":"IF($W8<0,Y6,U6)","v":0.06},{"$f":"IF($W8<0,Z6,V6)","v":200000},{"$f":"IF($W8<0,AA6,W6)","v":458.33333333333337},{"$f":"IF($W8<0,T6,X6)","v":6.0318578948924026E-4},{"$f":"IF($W8<0,U6,Y6)","v":0.06},{"$f":"IF($W8<0,V6,Z6)","v":200000},{"$f":"IF($W8<0,W6,AA6)","v":458.33333333333337},{"$f":"IF($C$2=1,Kold!BD$23,Brand!BD$23)","v":28},{"$f":"IF($C$2=1,Kold!BE$23,Brand!BE$23)","v":2.7343237157040781},0,{"$f":"IF($C$2=1,Kold!BG$23,Brand!BG$23)","v":1.4},{"$f":"IF($C$2=1,Kold!BH$23,Brand!BH$23)","v":6.0318578948924026E-4},{"$f":"IF($C$2=1,Kold!BI$23,Brand!BI$23)","v":0.06},{"$f":"IF($C$2=1,Kold!AX$23,Brand!AX$23)","v":200000},{"$f":"IF($C$2=1,Kold!AY$23,Brand!AY$23)","v":458.33333333333337},{"$f":"IF($C$2=1,Kold!BJ$23,Brand!BJ$23)","v":6.0318578948924026E-4},{"$f":"IF($C$2=1,Kold!BK$23,Brand!BK$23)","v":0.06},{"$f":"IF($C$2=1,Kold!BB$23,Brand!BB$23)","v":200000},{"$f":"IF($C$2=1,Kold!BC$23,Brand!BC$23)","v":458.33333333333337},"k",null,{"$f":"1.05*G6*AD5/F6","v":2.7356687822616226}]
[]
[null,"Initialt","elasttisk","e_o","sc_o/fcd","sc_u/fcd","sc_o","sc_u","hc","elasttisk","e_o","sc_o/fcd","sc_u/fcd","sc_o","sc_u","hc","At","Ac","Ic","Wt","u_skøn","E",{"$f":"Snitkræfter!C25","v":8.6766661274285464E-2},{"$f":"Snitkræfter!C31","v":0},{"$f":"0.5*(MAX(R11-H6*K6,0)+L6*O6)/(D6*F6)","v":0.08},{"$f":"(0.5*C6-Y8)*R11+(C6-M6-Y8)*L6*O6","v":0.33858406140636071},"M_rev"]
[null,"beregning","skøn_1",{"$f":"IF(C2=1,AD5*0.5*(-((AD6-2)*E9-AD6)-(((AD6-2)*E9-AD6)^2-4*E9)^0.5),G9/(1.4*F6/AD5))","v":5.1710782873739701E-4},{"$f":"MIN(0.9999,G9/F6)","v":0.52470583886641831},{"$f":"H9/F6","v":0},{"$f":"R11/Q9+(Q11+$O$2*R11+R11*R6)/T9","v":9.3697471226146138},{"$f":"R11/Q9-(Q11+$O$2*R11+R11*R6)/T9","v":0},{"$f":"IF(G9=H9,100*C6,C6*G9/(G9-H9))","v":0.54},"skøn_2",{"$f":"IF(C2=1,AD5*0.5*(-((AD6-2)*L9-AD6)-(((AD6-2)*L9-AD6)^2-4*L9)^0.5),G9/(1.4*F6/AD5))","v":5.1736063622856725E-4},{"$f":"MIN(0.9999,N9/F6)","v":0.52489671200060051},{"$f":"O9/F6","v":-1.9087313418207684E-4},{"$f":"R11/Q9+(Q11+$O$2*R11+R11*U9)/T9","v":9.3731555714392947},{"$f":"R11/Q9-(Q11+$O$2*R11+R11*U9)/T9","v":-3.4084488246799438E-3},{"$f":"IF(N9=O9,100*C6,C6*N9/(N9-O9))","v":0.53980370609518058},{"$f":"R9+Q6*(H6+L6)*N6/G6","v":0.25614351898648502},{"$f":"C6*D6","v":0.2268},{"$f":"D6*C6^3/12","v":5.5112400000000006E-3},{"$f":"(S9+((0.5*C6-I6)^2*H6+(0.5*C6-M6)^2*L6)*Q6)/(0.5*C6)","v":2.0950773034997532E-2},{"$f":"Q11/(10*AA31/B6^2-R11)+R6","v":5.9508031439385919E-5},{"$f":"G9/D9","v":18119.522857529304},null,null,null,null,{"$f":"R11*T9/Q9+IF(SIGN(W8)=1,-R11*$O$2,+R11*$O$2)","v":9.8151722680609982E-2}]
[null,"hc","e0","a'","b'","N'","tN'","t'","Nc","sac","Nac","sat","Nat","Mtot","N","u","Mo","N","A","B1","B2","B3","C1","C2","gættet x","beregnet x","EIt"]
[null,{"$f":"I9","v":0.54},null,null,null,null,null,null,null,null,null,null,null,null,null,null,{"$f":"MAX(MIN(ABS(W8),0.9*$Q$465,Z8),MIN($C$6*$D$6*0.025*$C$6*$F$6,$C$6*0.15*L6*K6),(0.01-$O$2)*R11,AA9)","v":9.8151722680609982E-2},{"$f":"Snitkræfter!D5","v":1.2}]
[null,{"$f":"0.5*(-(T12+U12+V12)+SQRT((T12+U12+V12)^2+4*S12*(W12+X12)))/S12","v":0.48744557284030188},{"$f":"MIN(D9,AD5)","v":5.1710782873739701E-4},{"$f":"IF($C$2=1,C12/($AD$6*$AD$5),2^(1/3)*$AD$5/C12)","v":9.1344044423319087E-2},{"$f":"IF($C$2=1,-($AD$6-2)*C12/$AD$5,3*($AD$5/C12)^2)","v":-0.18383410234614586},{"$f":"IF($C$2=1,0.5*($AD$6*C12*$F$6/$AD$5)*(1-Y12^2+(D12-E12)*(E12^2*(1-Y12^2)+2*E12*(1-Y12)+2*LN((1-E12)/(1-E12*Y12)))/(E12^3)),$F$6*E12*(LN((1-D12+D12^2)/(1+D12)^2)/(6*D12)+ATAN((2-D12)/(D12*3^0.5))/(D12*3^0.5)-LN((Y12^2-D12*Y12+D12^2)/(Y12+D12)^2)/(6*D12)-ATAN((2*Y12-D12)/(D12*3^0.5))/(D12*3^0.5)))","v":5.1186024732646205},{"$f":"IF($C$2=1,($AD$6*C12*$F$6/$AD$5)*(1-Y12^3-(D12-E12)*(-2*E12^3*(1-Y12^3)-3*E12^2*(1-Y12^2)-6*E12*(1-Y12)-6*LN((1-E12)/(1-E12*Y12)))/(2*E12^4))/3,$F$6*E12*(LN((1+D12^3)/(D12^3+Y12^3)))/3)","v":3.3364564544279727},{"$f":"G12/F12","v":0.6518295710313281},{"$f":"F12*B12*$D$6","v":1.0479168481833487},{"$f":"MAX(MIN($K$6,$Q$6*$J$6*C12*(B12-$I$6)/B12),-$K$6)","v":247.97947188154069},{"$f":"J12*$H$6","v":0.14957769352399197},{"$f":"MIN($O$6,$Q$6*$N$6*C12*(C$6-B12-$M$6)/B12)","v":-4.3194954822550198},{"$f":"L12*$L$6","v":-2.6054582926592009E-3},{"$f":"(0.5*$C$6-B12+H12*B12)*I12+(0.5*$C$6-$I$6)*K12+(0.5*$C$6-$M$6)*M12","v":0.13595541781062084},{"$f":"I12+K12-M12","v":1.2000999999999997},0,{"$f":"N12-P12*O12","v":0.13595541781062084},{"$f":"$R$11","v":1.2},{"$f":"F12*$D$6","v":2.1498130387711405},{"$f":"IF(ABS(J11)<$K$6,$Q$6*C12*$H$6*$J$6,IF(J11>0,1,-1)*$H$6*$K$6)","v":0.17057372712846808},{"$f":"IF(L11<$O$6,$Q$6*C12*$L$6*$N$6,-$L$6*$O$6)","v":0.17057372712846808},{"$f":"-(R12+0.0001)","v":-1.2000999999999999},{"$f":"IF(ABS(J11)<$K$6,$I$6*$Q$6*C12*$H$6*$J$6,0)","v":1.0234423627708085E-2},{"$f":"IF(L11<$O$6,($C$6-$M$6)*$Q$6*C12*$L$6*$N$6,0)","v":8.1875389021664705E-2},{"$f":"IF(B11<$C$6,0,(B11-$C$6)/B11)","v":0},{"$f":"IF(AND(B12<=$C$6,B12>0),0,(B12-$C$6)/B12)","v":0}]
[null,0.50880016726836574,{"$f":"0.95*C12","v":4.9125243730052713E-4},8.6776842202153134E-2,-0.17464239722883856,4.9041221284406049,3.200208829671277,0.65255488053860267,1.0479916268871308,{"$f":"MAX(MIN($K$6,$Q$6*$J$6*C13*(B13-$I$6)/B13),-$K$6)","v":236.96838444834478},0.14293596205746464,-15.206609995191439,-9.1724110554045196E-3,0.12578398379631447,1.2000999999999999,0,0.12578398379631447,{"$f":"$R$11","v":1.2},{"$f":"F13*$D$6","v":2.0597312939450538},{"$f":"IF(ABS(J12)<$K$6,$Q$6*C13*$H$6*$J$6,IF(J12>0,1,-1)*$H$6*$K$6)","v":0.16204504077204465},0.16204504077204465,{"$f":"-(R13+0.0001)","v":-1.2000999999999999},{"$f":"IF(ABS(J12)<$K$6,$I$6*$Q$6*C13*$H$6*$J$6,0)","v":9.7227024463226799E-3},7.7781619570581453E-2,{"$f":"Z12","v":0},{"$f":"IF(AND(B13<=$C$6,B13>0),0,(B13-$C$6)/B13)","v":0}]
[null,0.55718403078142997,{"$f":"IF(ABS($Q$11-Q13)<0.00001*$Q$11,C13,MAX(0.9*C13,MIN($AD$4,1.05*C13,IF(C13=$AD$4,0.5*(C13+C12),C13+(C13-C12)*(Q13-$Q$11)/(Q12-Q13)))))","v":4.4212719357047443E-4},7.8099157981937825E-2,-0.15717815750595471,4.4858292462819129,2.9334478768717198,0.65393658916088104,1.0497616167530437,215.74744566818086,0.13013579334564865,-33.493146313036654,-2.020258990130765E-2,0.10410551807898677,1.2000999999999999,0,0.10410551807898677,1.2,1.8840482834384034,0.14584053669484018,0.14584053669484018,-1.2000999999999999,8.7504322016904116E-3,7.0003457613523307E-2,{"$f":"Z13+IF(C12=C13,0,(C14-C13)*(Z13-Z12)/(C13-C12))","v":0},3.0840852989505049E-2]
[null,0.5735485625008494,4.2863538774445863E-4,7.5715910151922403E-2,-0.15238176132856546,4.360653525820207,2.858131304194981,0.65543645861141586,1.050439555745345,209.88396998640653,0.12659902813738663,-38.232691351691344,-2.3061416117268391E-2,9.7769591798014935E-2,1.2000999999999999,0,9.7769591798014935E-2,1.2,1.8314744808444869,0.1413901155688321,0.1413901155688321,-1.2000999999999999,8.4834069341299268E-3,6.7867255473039415E-2,{"$f":"Z14+IF(C13=C14,0,(C15-C14)*(Z14-Z13)/(C14-C13))","v":3.9311015546450286E-2},5.8492976348100745E-2]
[null,0.57356770245380684,4.2944910233636918E-4,7.5859648029596521E-2,-0.15267104043682239,4.3593101464883857,2.8622738798731668,0.6565887224562017,1.0501509921020629,210.28323021110015,0.12683985623123009,-38.311830400174593,-2.3109151666707187E-2,9.8476376639125229E-2,1.2001000000000002,0,9.8476376639125229E-2,1.2,1.8309102615251218,0.14165852831187625,0.14165852831187625,-1.2000999999999999,8.4995116987125734E-3,6.7996093589700601E-2,5.6825228044844543E-2,5.8524394435389655E-2]
[null,0.57412463484930243,4.2907533135544325E-4,7.5793623592934622E-2,-0.15253816321287991,4.3550865453310266,2.8601273303816188,0.65673260464775052,1.05015223848162,210.12402115241912,0.12674382358947575,-38.468973131069127,-2.3203937928904302E-2,9.8322296069579526E-2,1.2001000000000002,0,9.8322296069579526E-2,1.2,{"$f":"F17*$D$6","v":1.8291363490390311},0.14153523582670025,0.14153523582670025,{"$f":"-(R17+0.0001)","v":-1.2000999999999999},8.4921141496020133E-3,6.7936913196816121E-2,5.8509962877418914E-2,5.9437677427410004E-2]
[null,0.57475149397482661,4.2866155184318556E-4,7.5720531885463446E-2,-0.15239106278047906,4.3503347600469171,2.8577438688683361,0.65690206075946123,1.0501517891035854,209.94810726584655,0.12663771483292136,-38.645632025302966,-2.3310496063493037E-2,9.8153910971315414E-2,1.2000999999999999,0,9.8153910971315414E-2,1.2,1.8271405992197052,0.14139874608569686,0.14139874608569686,-1.2000999999999999,8.4839247651418113E-3,6.7871398121134491E-2,6.0448718439891157E-2,6.0463512212025054E-2]
[null,{"$f":"0.5*(-(T19+U19+V19)+SQRT((T19+U19+V19)^2+4*S19*(W19+X19)))/S19","v":0.57475988547192025},4.2865617446793025E-4,7.5719582003878017E-2,-0.15238915109997822,4.3502710026362177,2.8577127535433338,{"$f":"G19/F19","v":0.6569045357890555},{"$f":"F19*B19*$D$6","v":1.0501517305637433},{"$f":"MAX(MIN($K$6,$Q$6*$J$6*C19*(B19-$I$6)/B19),-$K$6)","v":209.94583084057237},0.12663634172554514,{"$f":"MIN($O$6,$Q$6*$N$6*C19*(C$6-B19-$M$6)/B19)","v":-38.648005501673843},-2.3311927710711638E-2,{"$f":"(0.5*$C$6-B19+H19*B19)*I19+(0.5*$C$6-$I$6)*K19+(0.5*$C$6-$M$6)*M19","v":9.8151788104399118E-2},{"$f":"I19+K19-M19","v":1.2001000000000002},0,{"$f":"N19-P19*O19","v":9.8151788104399118E-2},1.2,{"$f":"F19*$D$6","v":1.8271138211072113},0.14139697229909279,0.14139697229909279,{"$f":"-(R19+0.0001)","v":-1.2000999999999999},8.4838183379455662E-3,6.7870546703564544E-2,6.0476843704821127E-2,6.0477229449267818E-2]
[null,0.57475991278045835,4.2865617446793025E-4,7.5719582003878017E-2,-0.15238915109997822,4.3502707697949088,2.8577127394622583,0.65690456771199635,1.0501517242518537,209.94583200326733,0.12663634242686619,-38.648014803233551,-2.3311933321280273E-2,9.8151796042818817E-2,1.2001000000000002,0,9.8151796042818817E-2,1.2,1.8271137233138617,0.14139697229909279,0.14139697229909279,-1.2000999999999999,8.4838183379455662E-3,6.7870546703564544E-2,6.0477229449267818E-2,6.0477274088764771E-2]
[null,0.57475991594068299,4.2865617446793025E-4,7.5719582003878017E-2,-0.15238915109997822,4.3502707428498262,2.8577127378319638,0.65690457140603165,1.0501517235214231,209.94583213781786,0.12663634250802519,-38.648015879637441,-2.3311933970551806E-2,9.8151796961366652E-2,1.2001000000000002,0,9.8151796961366652E-2,1.2,1.827113711996927,0.14139697229909279,0.14139697229909279,-1.2000999999999999,8.4838183379455662E-3,6.7870546703564544E-2,6.0477274088764771E-2,6.0477279254578853E-2]
[null,0.57475991630639911,4.2865617446793025E-4,7.5719582003878017E-2,-0.15238915109997822,4.3502707397316138,2.8577127376436224,0.65690457183359729,1.050151723436894,209.94583215338866,0.12663634251741726,-38.648016004203988,-2.3311934045688577E-2,9.8151797067710267E-2,1.2000999999999999,0,9.8151797067710267E-2,1.2,1.8271137106872777,0.14139697229909279,0.14139697229909279,-1.2000999999999999,8.4838183379455662E-3,6.7870546703564544E-2,6.0477279254578853E-2,6.0477279852391257E-2]
[null,0.57475991634873225,4.2865617446793025E-4,7.5719582003878017E-2,-0.15238915109997822,4.3502707393706688,2.8577127376224478,0.6569045718832337,1.0501517234271098,209.94583215519103,0.12663634251850442,-38.648016018623068,-2.331193405438596E-2,9.8151797080106851E-2,1.2001000000000002,0,9.8151797080106851E-2,1.2,1.8271137105356807,0.14139697229909279,0.14139697229909279,-1.2000999999999999,8.4838183379455662E-3,6.7870546703564544E-2,6.0477279852391257E-2,6.0477279921590486E-2]
[null,0.57475991635363743,4.2865617446793025E-4,7.5719582003878017E-2,-0.15238915109997822,4.3502707393288453,2.8577127376202824,0.65690457188905149,1.0501517234259758,209.94583215539987,0.1266363425186304,-38.648016020293831,-2.3311934055393741E-2,9.8151797081583309E-2,1.2000999999999999,0,9.8151797081583309E-2,1.2,1.827113710518115,0.14139697229909279,0.14139697229909279,-1.2000999999999999,8.4838183379455662E-3,6.7870546703564544E-2,6.0477279921590486E-2,6.0477279929608677E-2]
[null,0.57475991635419399,4.2865617446793025E-4,7.5719582003878017E-2,-0.15238915109997822,4.3502707393241007,2.8577127376193521,0.65690457188955398,1.0501517234258475,209.9458321554236,0.12663634251864472,-38.648016020483396,-2.3311934055508084E-2,9.8151797081655737E-2,1.2001000000000004,0,9.8151797081655737E-2,1.2,1.8271137105161221,0.14139697229909279,0.14139697229909279,-1.2000999999999999,8.4838183379455662E-3,6.7870546703564544E-2,6.0477279929608677E-2,6.0477279930518442E-2]
[null,0.57475991635425072,4.2865617446793025E-4,7.5719582003878017E-2,-0.15238915109997822,4.3502707393236166,2.8577127376188431,0.65690457188951012,1.0501517234258342,209.94583215542599,0.12663634251864614,-38.648016020502716,-2.3311934055519738E-2,9.815179708160568E-2,1.2000999999999999,0,9.815179708160568E-2,1.2,1.827113710515919,0.14139697229909279,0.14139697229909279,-1.2000999999999999,8.4838183379455662E-3,6.7870546703564544E-2,6.0477279930518442E-2,6.047727993061118E-2]
[null,0.57475991635427204,4.2865617446793025E-4,7.5719582003878017E-2,-0.15238915109997822,4.3502707393234337,2.8577127376197109,0.65690457188973728,1.0501517234258289,209.9458321554269,0.12663634251864669,-38.648016020509985,-2.3311934055524119E-2,9.8151797081733966E-2,1.2000999999999997,0,9.8151797081733966E-2,1.2,1.8271137105158421,0.14139697229909279,0.14139697229909279,-1.2000999999999999,8.4838183379455662E-3,6.7870546703564544E-2,6.047727993061118E-2,6.047727993064602E-2]
[null,0.5747599163542747,4.2865617446793025E-4,7.5719582003878017E-2,-0.15238915109997822,4.3502707393234124,2.8577127376197886,0.65690457188975837,1.0501517234258289,209.94583215542698,0.12663634251864675,-38.648016020510887,-2.3311934055524664E-2,9.8151797081745651E-2,1.2001000000000002,0,9.8151797081745651E-2,1.2,1.827113710515833,0.14139697229909279,0.14139697229909279,-1.2000999999999999,8.4838183379455662E-3,6.7870546703564544E-2,6.047727993064602E-2,6.0477279930650378E-2]
[null,0.57475991635426649,4.2865617446793025E-4,7.5719582003878017E-2,-0.15238915109997822,4.3502707393234816,2.857712737619313,0.65690457188963858,1.0501517234258304,209.94583215542664,0.12663634251864656,-38.648016020508088,-2.3311934055522978E-2,9.8151797081676692E-2,1.2000999999999999,0,9.8151797081676692E-2,1.2,1.8271137105158621,0.14139697229909279,0.14139697229909279,-1.2000999999999999,8.4838183379455662E-3,6.7870546703564544E-2,6.0477279930650378E-2,6.0477279930636944E-2]
[null,0.57475991635425905,4.2865617446793025E-4,7.5719582003878017E-2,-0.15238915109997822,4.3502707393235447,2.8577127376188383,0.65690457188951989,1.0501517234258322,209.94583215542639,0.12663634251864639,-38.648016020505551,-2.3311934055521448E-2,9.815179708160815E-2,1.2000999999999999,0,9.815179708160815E-2,1.2,1.8271137105158888,0.14139697229909279,0.14139697229909279,-1.2000999999999999,8.4838183379455662E-3,6.7870546703564544E-2,6.0477279930636944E-2,6.0477279930624787E-2]
[null,null,null,null,null,null,null,null,null,null,null,null,null,null,null,null,null,null,null,null,null,null,null,null,null,null,{"$f":"N30/($Q$6*C30/B30)","v":48.13109204125054}]
[null,{"$f":"IF(B30<0,P9,0.5*(P9+B30))","v":0.55728181122471976}]
[null,0.52597297368548823,{"$f":"0.5*(K9+C30)","v":4.7300840534824875E-4},{"$f":"IF($C$2=1,C33/($AD$6*$AD$5),2^(1/3)*$AD$5/C33)","v":8.3554141688841704E-2},{"$f":"IF($C$2=1,-($AD$6-2)*C33/$AD$5,3*($AD$5/C33)^2)","v":-0.16815656380931651},{"$f":"IF($C$2=1,0.5*($AD$6*C33*$F$6/$AD$5)*(1-Y33^2+(D33-E33)*(E33^2*(1-Y33^2)+2*E33*(1-Y33)+2*LN((1-E33)/(1-E33*Y33)))/(E33^3)),$F$6*E33*(LN((1-D33+D33^2)/(1+D33)^2)/(6*D33)+ATAN((2-D33)/(D33*3^0.5))/(D33*3^0.5)-LN((Y33^2-D33*Y33+D33^2)/(Y33+D33)^2)/(6*D33)-ATAN((2*Y33-D33)/(D33*3^0.5))/(D33*3^0.5)))","v":4.7451016576193084},{"$f":"IF($C$2=1,($AD$6*C33*$F$6/$AD$5)*(1-Y33^3-(D33-E33)*(-2*E33^3*(1-Y33^3)-3*E33^2*(1-Y33^2)-6*E33*(1-Y33)-6*LN((1-E33)/(1-E33*Y33)))/(2*E33^4))/3,$F$6*E33*(LN((1+D33^3)/(D33^3+Y33^3)))/3)","v":3.1022493101147819},0.65377931474522488,1.0482339963051461,229.16383550805756,0.1382283690433101,-22.609343404942582,-1.3637634651543639E-2,0.11830096776335781,1.2000999999999999,{"$f":"Snitkræfter!$D$44*0.1*$Q$6*C33*$B$6^2/B33+$R$6","v":7.1703916544367082E-5},0.11821491589311292,{"$f":"$R$11","v":1.2},1.9929426962001093,{"$f":"IF(ABS(J32)<$K$6,$Q$6*C33*$H$6*$J$6,IF(J32>0,1,-1)*$H$6*$K$6)","v":0.15602704538499101},{"$f":"IF(L32<$O$6,$Q$6*C33*$L$6*$N$6,-$L$6*$O$6)","v":0.15602704538499101},-1.2000999999999999,{"$f":"IF(ABS(J32)<$K$6,$I$6*$Q$6*C33*$H$6*$J$6,0)","v":9.3616227230994605E-3},{"$f":"IF(L32<$O$6,($C$6-$M$6)*$Q$6*C33*$L$6*$N$6,0)","v":7.4892981784795712E-2},{"$f":"IF(ABS(B32)<$C$6,0,(B32-$C$6)/B32)","v":3.1010901265088948E-2},{"$f":"IF(AND(B33<=$C$6,B33>0),0,(B33-$C$6)/B33)","v":0}]
[null,0.54932066801518353,{"$f":"IF(Z33>0,C33+0.5*($Q$11-Q33)/($T$9*$G$6),0.95*C33)","v":4.4935798508083629E-4},7.9376434604399609E-2,-0.15974873561885067,4.5482986435237054,2.9733724739352692,0.65373290255885819,1.049359268661058,218.89710044679174,0.1320356203499036,-31.010529947791767,-1.8705110989038504E-2,0.10752602714242018,1.2001000000000002,{"$f":"Snitkræfter!$D$44*0.1*$Q$6*C34*$B$6^2/B34+$R$6","v":6.5223480901795689E-5},{"$f":"N34-P34*O34","v":0.10744775244298994},1.2,1.9102854302799561,0.14822569311574146,0.14822569311574146,-1.2000999999999999,8.8935415869444874E-3,7.1148332695555913E-2,{"$f":"Z33","v":0},1.6967626666699293E-2]
[null,0.55945073223182706,{"$f":"IF(OR(C34=C33,ABS($Q$11-Q34)<0.00005*$Q$11),C34,MAX(IF(Z34>0,0.98*C34,0.9*C34),MIN($AD$4,IF(Z34>0,1.005*C34,1.05*C34),IF(C34=$AD$4,0.5*(C34+C33),C34+(C34-C33)*(Q34-$Q$11)/(Q33-Q34)))))","v":4.4037082537921955E-4},7.7788905912311621E-2,-0.15655376090647366,4.4677683915220596,2.9236710240173327,0.65439180544032394,1.049788445193276,214.99545135891609,0.12968220106452336,-34.20066271731762,-2.0629353742200453E-2,0.10336658703469062,1.2000999999999997,{"$f":"Snitkræfter!$D$44*0.1*$Q$6*C35*$B$6^2/B35+$R$6","v":6.2761619485583468E-5},0.10329126681514597,1.2,1.8764627244392649,0.14526117925342663,0.14526117925342663,-1.2000999999999999,8.7156707552055977E-3,6.9725366041644796E-2,{"$f":"Z34+IF(C33=C34,0,(C35-C34)*(Z34-Z33)/(C34-C33))","v":2.3415324800045031E-2},3.4767551655946298E-2]
[null,{"$f":"0.5*(-(T36+U36+V36)+SQRT((T36+U36+V36)^2+4*S36*(W36+X36)))/S36","v":0.57078342069690569},{"$f":"IF(OR(C35=C34,ABS($Q$11-Q35)<0.00005*$Q$11),C35,MAX(IF(Z35>0,0.98*C35,0.9*C35),MIN($AD$4,IF(Z35>0,1.005*C35,1.05*C35),IF(C35=$AD$4,0.5*(C35+C34),C35+(C35-C34)*(Q35-$Q$11)/(Q34-Q35)))))","v":4.3156340887163516E-4},7.6233127794065381E-2,-0.15342268568834419,4.3802225006288094,2.8742257255124142,{"$f":"G36/F36","v":0.65618258549646746},{"$f":"F36*B36*$D$6","v":1.0500665205754356},{"$f":"MAX(MIN($K$6,$Q$6*$J$6*C36*(B36-$I$6)/B36),-$K$6)","v":211.19808801160298},0.1273916854558968,{"$f":"MIN($O$6,$Q$6*$N$6*C36*(C$6-B36-$M$6)/B36)","v":-37.537014901892654},-2.2641793968667497E-2,{"$f":"(0.5*$C$6-B36+H36*B36)*I36+(0.5*$C$6-$I$6)*K36+(0.5*$C$6-$M$6)*M36","v":9.9444839475970437E-2},{"$f":"I36+K36-M36","v":1.2000999999999997},{"$f":"Snitkræfter!$D$44*0.1*$Q$6*C36*$B$6^2/B36+$R$6","v":6.0285201093799432E-5},{"$f":"N36-P36*O36","v":9.9372491206137767E-2},1.2,{"$f":"F36*$D$6","v":1.8396934502640998},0.1423559556683581,0.1423559556683581,{"$f":"-(R36+0.0001)","v":-1.2000999999999999},8.5413573401014846E-3,6.8330858720811891E-2,{"$f":"MIN(Z35+IF(C34=C35,Y35-Z35,IF(ABS(Y35-Z35)<0.001,Y35-Z35,(C36-C35)*(Z35-Z34)/(C35-C34))),0.995)","v":5.2211478145408323E-2},5.3931876050849932E-2]
[null,0.57452477169399352,4.288197414774222E-4,7.5748475150241121E-2,-0.15244729988963554,4.3520395353148569,2.8586487326559156,0.65685265711840579,1.0501488985806007,210.01592398027228,0.12667862091135279,-38.582607404847856,-2.3272480508046561E-2,9.8222155977505207E-2,1.2001000000000002,{"$f":"Snitkræfter!$D$44*0.1*$Q$6*C37*$B$6^2/B37+$R$6","v":5.9511851325468766E-5},9.8150735804729508E-2,1.2,1.8278566048322398,0.14145092668325368,0.14145092668325368,-1.2000999999999999,8.4870556009952209E-3,6.7896444807961781E-2,{"$f":"MIN(Z36+IF(C35=C36,Y36-Z36,IF(ABS(Y36-Z36)<0.001,Y36-Z36,(C37-C36)*(Z36-Z35)/(C36-C35))),0.995)","v":5.9901905051878562E-2},6.0092746901402982E-2]
[null,0.57452477169399352,4.288197414774222E-4,7.5748475150241121E-2,-0.15244729988963554,4.3520395353148569,2.8586487326559156,0.65685265711840579,1.0501488985806007,210.01592398027228,0.12667862091135279,-38.582607404847856,-2.3272480508046561E-2,9.8222155977505207E-2,1.2001000000000002,{"$f":"Snitkræfter!$D$44*0.1*$Q$6*C38*$B$6^2/B38+$R$6","v":5.9511851325468766E-5},9.8150735804729508E-2,1.2,1.8278566048322398,0.14145092668325368,0.14145092668325368,-1.2000999999999999,8.4870556009952209E-3,6.7896444807961781E-2,5.9901905051878562E-2,6.0092746901402982E-2]
[null,0.57452477169399352,4.288197414774222E-4,7.5748475150241121E-2,-0.15244729988963554,4.3520395353148569,2.8586487326559156,0.65685265711840579,1.0501488985806007,210.01592398027228,0.12667862091135279,-38.582607404847856,-2.3272480508046561E-2,9.8222155977505207E-2,1.2001000000000002,{"$f":"Snitkræfter!$D$44*0.1*$Q$6*C39*$B$6^2/B39+$R$6","v":5.9511851325468766E-5},9.8150735804729508E-2,1.2,1.8278566048322398,0.14145092668325368,0.14145092668325368,-1.2000999999999999,8.4870556009952209E-3,6.7896444807961781E-2,5.9901905051878562E-2,{"$f":"IF(AND(B39<=$C$6,B39>0),0,(B39-$C$6)/B39)","v":6.0092746901402982E-2}]
[null,0.57452477169399352,4.288197414774222E-4,7.5748475150241121E-2,-0.15244729988963554,4.3520395353148569,2.8586487326559156,0.65685265711840579,1.0501488985806007,210.01592398027228,0.12667862091135279,-38.582607404847856,-2.3272480508046561E-2,9.8222155977505207E-2,1.2001000000000002,{"$f":"Snitkræfter!$D$44*0.1*$Q$6*C40*$B$6^2/B40+$R$6","v":5.9511851325468766E-5},9.8150735804729508E-2,1.2,1.8278566048322398,0.14145092668325368,0.14145092668325368,-1.2000999999999999,8.4870556009952209E-3,6.7896444807961781E-2,5.9901905051878562E-2,6.0092746901402982E-2]
[null,0.57452477169399352,4.288197414774222E-4,7.5748475150241121E-2,-0.15244729988963554,4.3520395353148569,2.8586487326559156,0.65685265711840579,1.0501488985806007,210.01592398027228,0.12667862091135279,-38.582607404847856,-2.3272480508046561E-2,9.8222155977505207E-2,1.2001000000000002,{"$f":"Snitkræfter!$D$44*0.1*$Q$6*C41*$B$6^2/B41+$R$6","v":5.9511851325468766E-5},9.8150735804729508E-2,1.2,1.8278566048322398,0.14145092668325368,0.14145092668325368,-1.2000999999999999,8.4870556009952209E-3,6.7896444807961781E-2,5.9901905051878562E-2,6.0092746901402982E-2]
[null,0.57452477169399352,4.288197414774222E-4,7.5748475150241121E-2,-0.15244729988963554,4.3520395353148569,2.8586487326559156,0.65685265711840579,1.0501488985806007,210.01592398027228,0.12667862091135279,-38.582607404847856,-2.3272480508046561E-2,9.8222155977505207E-2,1.2001000000000002,{"$f":"Snitkræfter!$D$44*0.1*$Q$6*C42*$B$6^2/B42+$R$6","v":5.9511851325468766E-5},9.8150735804729508E-2,1.2,1.8278566048322398,0.14145092668325368,0.14145092668325368,-1.2000999999999999,8.4870556009952209E-3,6.7896444807961781E-2,5.9901905051878562E-2,6.0092746901402982E-2]
[null,0.57452477169399352,4.288197414774222E-4,7.5748475150241121E-2,-0.15244729988963554,4.3520395353148569,2.8586487326559156,0.65685265711840579,1.0501488985806007,210.01592398027228,0.12667862091135279,-38.582607404847856,-2.3272480508046561E-2,9.8222155977505207E-2,1.2001000000000002,{"$f":"Snitkræfter!$D$44*0.1*$Q$6*C43*$B$6^2/B43+$R$6","v":5.9511851325468766E-5},9.8150735804729508E-2,1.2,1.8278566048322398,0.14145092668325368,0.14145092668325368,-1.2000999999999999,8.4870556009952209E-3,6.7896444807961781E-2,5.9901905051878562E-2,6.0092746901402982E-2]
[null,0.57452477169399352,4.288197414774222E-4,7.5748475150241121E-2,-0.15244729988963554,4.3520395353148569,2.8586487326559156,0.65685265711840579,1.0501488985806007,210.01592398027228,0.12667862091135279,-38.582607404847856,-2.3272480508046561E-2,9.8222155977505207E-2,1.2001000000000002,{"$f":"Snitkræfter!$D$44*0.1*$Q$6*C44*$B$6^2/B44+$R$6","v":5.9511851325468766E-5},9.8150735804729508E-2,1.2,1.8278566048322398,0.14145092668325368,0.14145092668325368,-1.2000999999999999,8.4870556009952209E-3,6.7896444807961781E-2,5.9901905051878562E-2,6.0092746901402982E-2]
[null,0.57452477169399352,4.288197414774222E-4,7.5748475150241121E-2,-0.15244729988963554,4.3520395353148569,2.8586487326559156,0.65685265711840579,1.0501488985806007,210.01592398027228,0.12667862091135279,-38.582607404847856,-2.3272480508046561E-2,9.8222155977505207E-2,1.2001000000000002,{"$f":"Snitkræfter!$D$44*0.1*$Q$6*C45*$B$6^2/B45+$R$6","v":5.9511851325468766E-5},9.8150735804729508E-2,1.2,1.8278566048322398,0.14145092668325368,0.14145092668325368,-1.2000999999999999,8.4870556009952209E-3,6.7896444807961781E-2,5.9901905051878562E-2,6.0092746901402982E-2]
[null,0.57452477169399352,4.288197414774222E-4,7.5748475150241121E-2,-0.15244729988963554,4.3520395353148569,2.8586487326559156,0.65685265711840579,1.0501488985806007,210.01592398027228,0.12667862091135279,-38.582607404847856,-2.3272480508046561E-2,9.8222155977505207E-2,1.2001000000000002,{"$f":"Snitkræfter!$D$44*0.1*$Q$6*C46*$B$6^2/B46+$R$6","v":5.9511851325468766E-5},9.8150735804729508E-2,1.2,1.8278566048322398,0.14145092668325368,0.14145092668325368,-1.2000999999999999,8.4870556009952209E-3,6.7896444807961781E-2,5.9901905051878562E-2,6.0092746901402982E-2]
[null,0.57452477169399352,4.288197414774222E-4,7.5748475150241121E-2,-0.15244729988963554,4.3520395353148569,2.8586487326559156,0.65685265711840579,1.0501488985806007,210.01592398027228,0.12667862091135279,-38.582607404847856,-2.3272480508046561E-2,9.8222155977505207E-2,1.2001000000000002,{"$f":"Snitkræfter!$D$44*0.1*$Q$6*C47*$B$6^2/B47+$R$6","v":5.9511851325468766E-5},9.8150735804729508E-2,1.2,1.8278566048322398,0.14145092668325368,0.14145092668325368,-1.2000999999999999,8.4870556009952209E-3,6.7896444807961781E-2,5.9901905051878562E-2,6.0092746901402982E-2]
[null,0.57452477169399352,4.288197414774222E-4,7.5748475150241121E-2,-0.15244729988963554,4.3520395353148569,2.8586487326559156,0.65685265711840579,1.0501488985806007,210.01592398027228,0.12667862091135279,-38.582607404847856,-2.3272480508046561E-2,9.8222155977505207E-2,1.2001000000000002,{"$f":"Snitkræfter!$D$44*0.1*$Q$6*C48*$B$6^2/B48+$R$6","v":5.9511851325468766E-5},9.8150735804729508E-2,1.2,1.8278566048322398,0.14145092668325368,0.14145092668325368,-1.2000999999999999,8.4870556009952209E-3,6.7896444807961781E-2,5.9901905051878562E-2,6.0092746901402982E-2]
[null,0.57452477169399352,4.288197414774222E-4,7.5748475150241121E-2,-0.15244729988963554,4.3520395353148569,2.8586487326559156,0.65685265711840579,1.0501488985806007,210.01592398027228,0.12667862091135279,-38.582607404847856,-2.3272480508046561E-2,9.8222155977505207E-2,1.2001000000000002,{"$f":"Snitkræfter!$D$44*0.1*$Q$6*C49*$B$6^2/B49+$R$6","v":5.9511851325468766E-5},9.8150735804729508E-2,1.2,1.8278566048322398,0.14145092668325368,0.14145092668325368,-1.2000999999999999,8.4870556009952209E-3,6.7896444807961781E-2,{"$f":"MIN(Z48+IF(C47=C48,Y48-Z48,IF(ABS(Y48-Z48)<0.001,Y48-Z48,(C49-C48)*(Z48-Z47)/(C48-C47))),0.995)","v":5.9901905051878562E-2},6.0092746901402982E-2]
[null,0.57452477169399352,4.288197414774222E-4,7.5748475150241121E-2,-0.15244729988963554,4.3520395353148569,2.8586487326559156,0.65685265711840579,1.0501488985806007,210.01592398027228,0.12667862091135279,-38.582607404847856,-2.3272480508046561E-2,9.8222155977505207E-2,1.2001000000000002,{"$f":"Snitkræfter!$D$44*0.1*$Q$6*C50*$B$6^2/B50+$R$6","v":5.9511851325468766E-5},9.8150735804729508E-2,1.2,1.8278566048322398,0.14145092668325368,0.14145092668325368,-1.2000999999999999,8.4870556009952209E-3,6.7896444807961781E-2,5.9901905051878562E-2,6.0092746901402982E-2]
[null,0.57452477169399352,4.288197414774222E-4,7.5748475150241121E-2,-0.15244729988963554,4.3520395353148569,2.8586487326559156,0.65685265711840579,1.0501488985806007,210.01592398027228,0.12667862091135279,-38.582607404847856,-2.3272480508046561E-2,9.8222155977505207E-2,1.2001000000000002,{"$f":"Snitkræfter!$D$44*0.1*$Q$6*C51*$B$6^2/B51+$R$6","v":5.9511851325468766E-5},9.8150735804729508E-2,1.2,1.8278566048322398,0.14145092668325368,0.14145092668325368,-1.2000999999999999,8.4870556009952209E-3,6.7896444807961781E-2,5.9901905051878562E-2,6.0092746901402982E-2]
[null,0.57452477169399352,4.288197414774222E-4,7.5748475150241121E-2,-0.15244729988963554,4.3520395353148569,2.8586487326559156,0.65685265711840579,1.0501488985806007,210.01592398027228,0.12667862091135279,-38.582607404847856,-2.3272480508046561E-2,9.8222155977505207E-2,1.2001000000000002,{"$f":"Snitkræfter!$D$44*0.1*$Q$6*C52*$B$6^2/B52+$R$6","v":5.9511851325468766E-5},9.8150735804729508E-2,1.2,1.8278566048322398,0.14145092668325368,0.14145092668325368,-1.2000999999999999,8.4870556009952209E-3,6.7896444807961781E-2,5.9901905051878562E-2,6.0092746901402982E-2]
[null,0.57452477169399352,4.288197414774222E-4,7.5748475150241121E-2,-0.15244729988963554,4.3520395353148569,2.8586487326559156,0.65685265711840579,1.0501488985806007,210.01592398027228,0.12667862091135279,-38.582607404847856,-2.3272480508046561E-2,9.8222155977505207E-2,1.2001000000000002,{"$f":"Snitkræfter!$D$44*0.1*$Q$6*C53*$B$6^2/B53+$R$6","v":5.9511851325468766E-5},9.8150735804729508E-2,1.2,1.8278566048322398,0.14145092668325368,0.14145092668325368,-1.2000999999999999,8.4870556009952209E-3,6.7896444807961781E-2,5.9901905051878562E-2,6.0092746901402982E-2]
[null,0.57452477169399352,4.288197414774222E-4,7.5748475150241121E-2,-0.15244729988963554,4.3520395353148569,2.8586487326559156,0.65685265711840579,1.0501488985806007,210.01592398027228,0.12667862091135279,-38.582607404847856,-2.3272480508046561E-2,9.8222155977505207E-2,1.2001000000000002,{"$f":"Snitkræfter!$D$44*0.1*$Q$6*C54*$B$6^2/B54+$R$6","v":5.9511851325468766E-5},9.8150735804729508E-2,1.2,1.8278566048322398,0.14145092668325368,0.14145092668325368,-1.2000999999999999,8.4870556009952209E-3,6.7896444807961781E-2,5.9901905051878562E-2,6.0092746901402982E-2]
[null,0.57452477169399352,4.288197414774222E-4,7.5748475150241121E-2,-0.15244729988963554,4.3520395353148569,2.8586487326559156,0.65685265711840579,1.0501488985806007,210.01592398027228,0.12667862091135279,-38.582607404847856,-2.3272480508046561E-2,9.8222155977505207E-2,1.2001000000000002,{"$f":"Snitkræfter!$D$44*0.1*$Q$6*C55*$B$6^2/B55+$R$6","v":5.9511851325468766E-5},9.8150735804729508E-2,1.2,1.8278566048322398,0.14145092668325368,0.14145092668325368,-1.2000999999999999,8.4870556009952209E-3,6.7896444807961781E-2,5.9901905051878562E-2,6.0092746901402982E-2]
[null,0.57452477169399352,4.288197414774222E-4,7.5748475150241121E-2,-0.15244729988963554,4.3520395353148569,2.8586487326559156,0.65685265711840579,1.0501488985806007,210.01592398027228,0.12667862091135279,-38.582607404847856,-2.3272480508046561E-2,9.8222155977505207E-2,1.2001000000000002,{"$f":"Snitkræfter!$D$44*0.1*$Q$6*C56*$B$6^2/B56+$R$6","v":5.9511851325468766E-5},9.8150735804729508E-2,1.2,1.8278566048322398,0.14145092668325368,0.14145092668325368,-1.2000999999999999,8.4870556009952209E-3,6.7896444807961781E-2,5.9901905051878562E-2,6.0092746901402982E-2]
[null,0.57452477169399352,4.288197414774222E-4,7.5748475150241121E-2,-0.15244729988963554,4.3520395353148569,2.8586487326559156,0.65685265711840579,1.0501488985806007,210.01592398027228,0.12667862091135279,-38.582607404847856,-2.3272480508046561E-2,9.8222155977505207E-2,1.2001000000000002,{"$f":"Snitkræfter!$D$44*0.1*$Q$6*C57*$B$6^2/B57+$R$6","v":5.9511851325468766E-5},9.8150735804729508E-2,1.2,{"$f":"F57*$D$6","v":1.8278566048322398},0.14145092668325368,0.14145092668325368,-1.2000999999999999,8.4870556009952209E-3,6.7896444807961781E-2,5.9901905051878562E-2,6.0092746901402982E-2]
[null,{"$f":"0.5*(-(T58+U58+V58)+SQRT((T58+U58+V58)^2+4*S58*(W58+X58)))/S58","v":0.57452477169399352},4.288197414774222E-4,7.5748475150241121E-2,-0.15244729988963554,4.3520395353148569,2.8586487326559156,0.65685265711840579,1.0501488985806007,210.01592398027228,0.12667862091135279,-38.582607404847856,-2.3272480508046561E-2,9.8222155977505207E-2,1.2001000000000002,{"$f":"Snitkræfter!$D$44*0.1*$Q$6*C58*$B$6^2/B58+$R$6","v":5.9511851325468766E-5},9.8150735804729508E-2,1.2,1.8278566048322398,0.14145092668325368,0.14145092668325368,-1.2000999999999999,8.4870556009952209E-3,6.7896444807961781E-2,5.9901905051878562E-2,6.0092746901402982E-2]
[null,0.57452477169399352,4.288197414774222E-4,7.5748475150241121E-2,-0.15244729988963554,4.3520395353148569,2.8586487326559156,0.65685265711840579,1.0501488985806007,210.01592398027228,0.12667862091135279,-38.582607404847856,-2.3272480508046561E-2,9.8222155977505207E-2,1.2001000000000002,{"$f":"Snitkræfter!$D$44*0.1*$Q$6*C59*$B$6^2/B59+$R$6","v":5.9511851325468766E-5},9.8150735804729508E-2,1.2,1.8278566048322398,0.14145092668325368,0.14145092668325368,-1.2000999999999999,8.4870556009952209E-3,6.7896444807961781E-2,5.9901905051878562E-2,6.0092746901402982E-2]
[null,0.57452477169399352,4.288197414774222E-4,7.5748475150241121E-2,-0.15244729988963554,4.3520395353148569,2.8586487326559156,0.65685265711840579,1.0501488985806007,210.01592398027228,0.12667862091135279,-38.582607404847856,-2.3272480508046561E-2,9.8222155977505207E-2,1.2001000000000002,{"$f":"Snitkræfter!$D$44*0.1*$Q$6*C60*$B$6^2/B60+$R$6","v":5.9511851325468766E-5},9.8150735804729508E-2,1.2,1.8278566048322398,0.14145092668325368,0.14145092668325368,-1.2000999999999999,8.4870556009952209E-3,6.7896444807961781E-2,5.9901905051878562E-2,6.0092746901402982E-2]
[null,0.57452477169399352,4.288197414774222E-4,7.5748475150241121E-2,-0.15244729988963554,4.3520395353148569,2.8586487326559156,0.65685265711840579,1.0501488985806007,210.01592398027228,0.12667862091135279,-38.582607404847856,-2.3272480508046561E-2,9.8222155977505207E-2,1.2001000000000002,{"$f":"Snitkræfter!$D$44*0.1*$Q$6*C61*$B$6^2/B61+$R$6","v":5.9511851325468766E-5},9.8150735804729508E-2,1.2,1.8278566048322398,0.14145092668325368,0.14145092668325368,-1.2000999999999999,8.4870556009952209E-3,6.7896444807961781E-2,5.9901905051878562E-2,6.0092746901402982E-2]
[null,0.57452477169399352,4.288197414774222E-4,7.5748475150241121E-2,-0.15244729988963554,4.3520395353148569,2.8586487326559156,0.65685265711840579,1.0501488985806007,210.01592398027228,0.12667862091135279,-38.582607404847856,-2.3272480508046561E-2,9.8222155977505207E-2,1.2001000000000002,{"$f":"Snitkræfter!$D$44*0.1*$Q$6*C62*$B$6^2/B62+$R$6","v":5.9511851325468766E-5},9.8150735804729508E-2,1.2,1.8278566048322398,0.14145092668325368,0.14145092668325368,-1.2000999999999999,8.4870556009952209E-3,6.7896444807961781E-2,5.9901905051878562E-2,6.0092746901402982E-2]
[null,0.57452477169399352,4.288197414774222E-4,7.5748475150241121E-2,-0.15244729988963554,4.3520395353148569,2.8586487326559156,0.65685265711840579,1.0501488985806007,210.01592398027228,0.12667862091135279,-38.582607404847856,-2.3272480508046561E-2,9.8222155977505207E-2,1.2001000000000002,{"$f":"Snitkræfter!$D$44*0.1*$Q$6*C63*$B$6^2/B63+$R$6","v":5.9511851325468766E-5},9.8150735804729508E-2,1.2,1.8278566048322398,0.14145092668325368,0.14145092668325368,-1.2000999999999999,8.4870556009952209E-3,6.7896444807961781E-2,5.9901905051878562E-2,6.0092746901402982E-2]
[null,0.57452477169399352,4.288197414774222E-4,7.5748475150241121E-2,-0.15244729988963554,4.3520395353148569,2.8586487326559156,0.65685265711840579,1.0501488985806007,210.01592398027228,0.12667862091135279,-38.582607404847856,-2.3272480508046561E-2,9.8222155977505207E-2,1.2001000000000002,{"$f":"Snitkræfter!$D$44*0.1*$Q$6*C64*$B$6^2/B64+$R$6","v":5.9511851325468766E-5},9.8150735804729508E-2,1.2,1.8278566048322398,0.14145092668325368,0.14145092668325368,-1.2000999999999999,8.4870556009952209E-3,6.7896444807961781E-2,5.9901905051878562E-2,6.0092746901402982E-2]
[null,0.57452477169399352,4.288197414774222E-4,7.5748475150241121E-2,-0.15244729988963554,4.3520395353148569,2.8586487326559156,0.65685265711840579,1.0501488985806007,210.01592398027228,0.12667862091135279,-38.582607404847856,-2.3272480508046561E-2,9.8222155977505207E-2,1.2001000000000002,{"$f":"Snitkræfter!$D$44*0.1*$Q$6*C65*$B$6^2/B65+$R$6","v":5.9511851325468766E-5},9.8150735804729508E-2,1.2,1.8278566048322398,0.14145092668325368,0.14145092668325368,-1.2000999999999999,8.4870556009952209E-3,6.7896444807961781E-2,5.9901905051878562E-2,6.0092746901402982E-2]
[null,0.57452477169399352,4.288197414774222E-4,7.5748475150241121E-2,-0.15244729988963554,4.3520395353148569,2.8586487326559156,0.65685265711840579,1.0501488985806007,210.01592398027228,0.12667862091135279,-38.582607404847856,-2.3272480508046561E-2,9.8222155977505207E-2,1.2001000000000002,{"$f":"Snitkræfter!$D$44*0.1*$Q$6*C66*$B$6^2/B66+$R$6","v":5.9511851325468766E-5},9.8150735804729508E-2,1.2,1.8278566048322398,0.14145092668325368,0.14145092668325368,-1.2000999999999999,8.4870556009952209E-3,6.7896444807961781E-2,5.9901905051878562E-2,6.0092746901402982E-2]
[null,0.57452477169399352,4.288197414774222E-4,7.5748475150241121E-2,-0.15244729988963554,4.3520395353148569,2.8586487326559156,0.65685265711840579,1.0501488985806007,210.01592398027228,0.12667862091135279,-38.582607404847856,-2.3272480508046561E-2,9.8222155977505207E-2,1.2001000000000002,{"$f":"Snitkræfter!$D$44*0.1*$Q$6*C67*$B$6^2/B67+$R$6","v":5.9511851325468766E-5},9.8150735804729508E-2,1.2,1.8278566048322398,0.14145092668325368,0.14145092668325368,-1.2000999999999999,8.4870556009952209E-3,6.7896444807961781E-2,5.9901905051878562E-2,6.0092746901402982E-2]
[null,0.57452477169399352,4.288197414774222E-4,7.5748475150241121E-2,-0.15244729988963554,4.3520395353148569,2.8586487326559156,0.65685265711840579,1.0501488985806007,210.01592398027228,0.12667862091135279,-38.582607404847856,-2.3272480508046561E-2,9.8222155977505207E-2,1.2001000000000002,{"$f":"Snitkræfter!$D$44*0.1*$Q$6*C68*$B$6^2/B68+$R$6","v":5.9511851325468766E-5},9.8150735804729508E-2,1.2,{"$f":"F68*$D$6","v":1.8278566048322398},0.14145092668325368,0.14145092668325368,-1.2000999999999999,8.4870556009952209E-3,6.7896444807961781E-2,5.9901905051878562E-2,6.0092746901402982E-2]
[null,{"$f":"0.5*(-(T69+U69+V69)+SQRT((T69+U69+V69)^2+4*S69*(W69+X69)))/S69","v":0.57452477169399352},4.288197414774222E-4,7.5748475150241121E-2,-0.15244729988963554,4.3520395353148569,2.8586487326559156,{"$f":"G69/F69","v":0.65685265711840579},{"$f":"F69*B69*$D$6","v":1.0501488985806007},{"$f":"MAX(MIN($K$6,$Q$6*$J$6*C69*(B69-$I$6)/B69),-$K$6)","v":210.01592398027228},0.12667862091135279,{"$f":"MIN($O$6,$Q$6*$N$6*C69*(C$6-B69-$M$6)/B69)","v":-38.582607404847856},-2.3272480508046561E-2,{"$f":"(0.5*$C$6-B69+H69*B69)*I69+(0.5*$C$6-$I$6)*K69+(0.5*$C$6-$M$6)*M69","v":9.8222155977505207E-2},{"$f":"I69+K69-M69","v":1.2001000000000002},{"$f":"Snitkræfter!$D$44*0.1*$Q$6*C69*$B$6^2/B69+$R$6","v":5.9511851325468766E-5},{"$f":"N69-P69*O69","v":9.8150735804729508E-2},1.2,{"$f":"F69*$D$6","v":1.8278566048322398},0.14145092668325368,0.14145092668325368,{"$f":"-(R69+0.0001)","v":-1.2000999999999999},8.4870556009952209E-3,6.7896444807961781E-2,5.9901905051878562E-2,6.0092746901402982E-2]
[null,0.57452477169399352,4.288197414774222E-4,7.5748475150241121E-2,-0.15244729988963554,4.3520395353148569,2.8586487326559156,0.65685265711840579,1.0501488985806007,210.01592398027228,0.12667862091135279,-38.582607404847856,-2.3272480508046561E-2,9.8222155977505207E-2,1.2001000000000002,{"$f":"Snitkræfter!$D$44*0.1*$Q$6*C70*$B$6^2/B70+$R$6","v":5.9511851325468766E-5},9.8150735804729508E-2,1.2,1.8278566048322398,0.14145092668325368,0.14145092668325368,-1.2000999999999999,8.4870556009952209E-3,6.7896444807961781E-2,5.9901905051878562E-2,6.0092746901402982E-2]
[null,0.57452477169399352,4.288197414774222E-4,7.5748475150241121E-2,-0.15244729988963554,4.3520395353148569,2.8586487326559156,0.65685265711840579,1.0501488985806007,210.01592398027228,0.12667862091135279,-38.582607404847856,-2.3272480508046561E-2,9.8222155977505207E-2,1.2001000000000002,{"$f":"Snitkræfter!$D$44*0.1*$Q$6*C71*$B$6^2/B71+$R$6","v":5.9511851325468766E-5},9.8150735804729508E-2,1.2,1.8278566048322398,0.14145092668325368,0.14145092668325368,-1.2000999999999999,8.4870556009952209E-3,6.7896444807961781E-2,5.9901905051878562E-2,6.0092746901402982E-2]
[null,0.57452477169399352,4.288197414774222E-4,7.5748475150241121E-2,-0.15244729988963554,4.3520395353148569,2.8586487326559156,0.65685265711840579,1.0501488985806007,210.01592398027228,0.12667862091135279,-38.582607404847856,-2.3272480508046561E-2,9.8222155977505207E-2,1.2001000000000002,{"$f":"Snitkræfter!$D$44*0.1*$Q$6*C72*$B$6^2/B72+$R$6","v":5.9511851325468766E-5},9.8150735804729508E-2,1.2,1.8278566048322398,0.14145092668325368,0.14145092668325368,-1.2000999999999999,8.4870556009952209E-3,6.7896444807961781E-2,5.9901905051878562E-2,6.0092746901402982E-2]
[null,0.57452477169399352,4.288197414774222E-4,7.5748475150241121E-2,-0.15244729988963554,4.3520395353148569,2.8586487326559156,0.65685265711840579,1.0501488985806007,210.01592398027228,0.12667862091135279,-38.582607404847856,-2.3272480508046561E-2,9.8222155977505207E-2,1.2001000000000002,{"$f":"Snitkræfter!$D$44*0.1*$Q$6*C73*$B$6^2/B73+$R$6","v":5.9511851325468766E-5},9.8150735804729508E-2,1.2,1.8278566048322398,0.14145092668325368,0.14145092668325368,-1.2000999999999999,8.4870556009952209E-3,6.7896444807961781E-2,5.9901905051878562E-2,6.0092746901402982E-2]
[null,0.57452477169399352,4.288197414774222E-4,7.5748475150241121E-2,-0.15244729988963554,4.3520395353148569,2.8586487326559156,0.65685265711840579,1.0501488985806007,210.01592398027228,0.12667862091135279,-38.582607404847856,-2.3272480508046561E-2,9.8222155977505207E-2,1.2001000000000002,{"$f":"Snitkræfter!$D$44*0.1*$Q$6*C74*$B$6^2/B74+$R$6","v":5.9511851325468766E-5},9.8150735804729508E-2,1.2,1.8278566048322398,0.14145092668325368,0.14145092668325368,-1.2000999999999999,8.4870556009952209E-3,6.7896444807961781E-2,5.9901905051878562E-2,6.0092746901402982E-2]
[null,0.57452477169399352,4.288197414774222E-4,7.5748475150241121E-2,-0.15244729988963554,4.3520395353148569,2.8586487326559156,0.65685265711840579,1.0501488985806007,210.01592398027228,0.12667862091135279,-38.582607404847856,-2.3272480508046561E-2,9.8222155977505207E-2,1.2001000000000002,{"$f":"Snitkræfter!$D$44*0.1*$Q$6*C75*$B$6^2/B75+$R$6","v":5.9511851325468766E-5},9.8150735804729508E-2,1.2,1.8278566048322398,0.14145092668325368,0.14145092668325368,-1.2000999999999999,8.4870556009952209E-3,6.7896444807961781E-2,5.9901905051878562E-2,6.0092746901402982E-2]
[null,0.57452477169399352,4.288197414774222E-4,7.5748475150241121E-2,-0.15244729988963554,4.3520395353148569,2.8586487326559156,0.65685265711840579,1.0501488985806007,210.01592398027228,{"$f":"J76*$H$6","v":0.12667862091135279},-38.582607404847856,{"$f":"L76*$L$6","v":-2.3272480508046561E-2},9.8222155977505207E-2,1.2001000000000002,{"$f":"Snitkræfter!$D$44*0.1*$Q$6*C76*$B$6^2/B76+$R$6","v":5.9511851325468766E-5},9.8150735804729508E-2,1.2,1.8278566048322398,0.14145092668325368,0.14145092668325368,-1.2000999999999999,8.4870556009952209E-3,6.7896444807961781E-2,5.9901905051878562E-2,6.0092746901402982E-2]
[null,0.57452477169399352,4.288197414774222E-4,7.5748475150241121E-2,-0.15244729988963554,4.3520395353148569,2.8586487326559156,0.65685265711840579,1.0501488985806007,210.01592398027228,{"$f":"J77*$H$6","v":0.12667862091135279},-38.582607404847856,{"$f":"L77*$L$6","v":-2.3272480508046561E-2},9.8222155977505207E-2,1.2001000000000002,{"$f":"Snitkræfter!$D$44*0.1*$Q$6*C77*$B$6^2/B77+$R$6","v":5.9511851325468766E-5},9.8150735804729508E-2,1.2,1.8278566048322398,0.14145092668325368,0.14145092668325368,-1.2000999999999999,8.4870556009952209E-3,6.7896444807961781E-2,5.9901905051878562E-2,6.0092746901402982E-2]
[null,0.57452477169399352,4.288197414774222E-4,7.5748475150241121E-2,-0.15244729988963554,4.3520395353148569,2.8586487326559156,0.65685265711840579,1.0501488985806007,210.01592398027228,{"$f":"J78*$H$6","v":0.12667862091135279},-38.582607404847856,{"$f":"L78*$L$6","v":-2.3272480508046561E-2},9.8222155977505207E-2,1.2001000000000002,{"$f":"Snitkræfter!$D$44*0.1*$Q$6*C78*$B$6^2/B78+$R$6","v":5.9511851325468766E-5},9.8150735804729508E-2,1.2,1.8278566048322398,0.14145092668325368,0.14145092668325368,-1.2000999999999999,8.4870556009952209E-3,6.7896444807961781E-2,5.9901905051878562E-2,6.0092746901402982E-2]
[null,null,null,null,null,null,null,null,null,null,null,null,null,null,null,{"$f":"$Q$6*C78/B78","v":2.0408728163740998E-3},null,null,null,null,null,null,null,null,null,null,{"$f":"(N78+$O$2*R78)/($Q$6*C78/B78)","v":48.127524257984291}]
[null,{"$f":"IF(L78=O6,B11,B78)","v":0.57452477169399352},null,null,null,null,null,null,null,null,null,null,null,null,null,null,{"$f":"0.9*Q78","v":8.8335662224256553E-2}]
[null,{"$f":"0.5*(-(T81+U81+V81)+SQRT((T81+U81+V81)^2+4*S81*(W81+X81)))/S81","v":0.57453816977883776},{"$f":"IF(L78=O6,C12,C78)","v":4.288197414774222E-4},{"$f":"IF($C$2=1,C81/($AD$6*$AD$5),2^(1/3)*$AD$5/C81)","v":7.5748475150241121E-2},{"$f":"IF($C$2=1,-($AD$6-2)*C81/$AD$5,3*($AD$5/C81)^2)","v":-0.15244729988963554},{"$f":"IF($C$2=1,0.5*($AD$6*C81*$F$6/$AD$5)*(1-Y81^2+(D81-E81)*(E81^2*(1-Y81^2)+2*E81*(1-Y81)+2*LN((1-E81)/(1-E81*Y81)))/(E81^3)),$F$6*E81*(LN((1-D81+D81^2)/(1+D81)^2)/(6*D81)+ATAN((2-D81)/(D81*3^0.5))/(D81*3^0.5)-LN((Y81^2-D81*Y81+D81^2)/(Y81+D81)^2)/(6*D81)-ATAN((2*Y81-D81)/(D81*3^0.5))/(D81*3^0.5)))","v":4.3519251985299725},{"$f":"IF($C$2=1,($AD$6*C81*$F$6/$AD$5)*(1-Y81^3-(D81-E81)*(-2*E81^3*(1-Y81^3)-3*E81^2*(1-Y81^2)-6*E81*(1-Y81)-6*LN((1-E81)/(1-E81*Y81)))/(2*E81^4))/3,$F$6*E81*(LN((1+D81^3)/(D81^3+Y81^3)))/3)","v":2.8586418727491392},{"$f":"G81/F81","v":0.65686833811269407},{"$f":"F81*B81*$D$6","v":1.0501457982026825},{"$f":"MAX(MIN($K$6,$Q$6*$J$6*C81*(B81-$I$6)/B81),-$K$6)","v":210.01649509192868},{"$f":"J81*$H$6","v":0.12667896539778814},{"$f":"MIN($O$6,$Q$6*$N$6*C81*(C$6-B81-$M$6)/B81)","v":-38.587176298098967},{"$f":"L81*$L$6","v":-2.3275236399529324E-2},{"$f":"(0.5*$C$6-B81+H81*B81)*I81+(0.5*$C$6-$I$6)*K81+(0.5*$C$6-$M$6)*M81","v":9.8226056755930324E-2},{"$f":"I81+K81-M81","v":1.2000999999999999},{"$f":"Snitkræfter!$D$44*0.1*$Q$6*C81*$B$6^2/B81+$R$6","v":5.9510463524143741E-5},{"$f":"N81-P81*O81","v":9.8154638248655002E-2},{"$f":"R78","v":1.2},{"$f":"F81*$D$6","v":1.8278085833825883},{"$f":"IF(ABS(J80)<$K$6,$Q$6*C81*$H$6*$J$6,IF(J80>0,1,-1)*$H$6*$K$6)","v":0.14145092668325368},{"$f":"IF(L78<$O$6,$Q$6*C81*$L$6*$N$6,-$L$6*$O$6)","v":0.14145092668325368},{"$f":"-(R81+0.0001)","v":-1.2000999999999999},{"$f":"IF(ABS(J80)<$K$6,$I$6*$Q$6*C81*$H$6*$J$6,0)","v":8.4870556009952209E-3},{"$f":"IF(L78<$O$6,($C$6-$M$6)*$Q$6*C81*$L$6*$N$6,0)","v":6.7896444807961781E-2},{"$f":"IF(B80<$C$6,0,(B80-$C$6)/B80)","v":6.0092746901402982E-2},{"$f":"IF(B81<=$C$6,0,(B81-$C$6)/B81)","v":6.0114665300884738E-2}]
[null,{"$f":"0.5*(-(T82+U82+V82)+SQRT((T82+U82+V82)^2+4*S82*(W82+X82)))/S82","v":0.6317905831240076},{"$f":"0.9*C81","v":3.8593776732967998E-4},6.8173627635217018E-2,-0.13720256990067195,3.9732060827197726,2.6145786534726474,{"$f":"G82/F82","v":0.65805261520260583},1.0542983589068191,191.01217739152253,0.11521583102196432,-50.70711313858331,-3.05858100712166E-2,7.4663153032187818E-2,{"$f":"I82+K82-M82","v":1.2001000000000002},{"$f":"Snitkræfter!$D$44*0.1*$Q$6*C82*$B$6^2/B82+$R$6","v":4.8705900876377486E-5},{"$f":"N82-P82*O82","v":7.4604701080546079E-2},{"$f":"R81","v":1.2},1.6687465547423044,0.12730583401492829,{"$f":"IF(L81<$O$6,$Q$6*C82*$L$6*$N$6,-$L$6*$O$6)","v":0.12730583401492829},{"$f":"-(R82+0.0001)","v":-1.2000999999999999},7.6383500408956986E-3,{"$f":"IF(L81<$O$6,($C$6-$M$6)*$Q$6*C82*$L$6*$N$6,0)","v":6.1106800327165603E-2},6.0114665300884738E-2,0.14528640593237671]
[null,{"$f":"0.5*(-(T83+U83+V83)+SQRT((T83+U83+V83)^2+4*S83*(W83+X83)))/S83","v":0.61530718475629442},{"$f":"IF(ABS(Q81-Q82)<=0.00001*Q$80,C82,MAX(0.9*C82,MIN($AD$4,1.05*C82,IF(C82=$AD$4,0.5*(C82+C81),C82+(C82-C81)*(Q82-Q$80)/(Q81-Q82)))))","v":4.0523465569616401E-4},7.1582309016977874E-2,-0.1440626983957056,4.0632779236524463,2.7165719022408257,{"$f":"G83/F83","v":0.6685665990080546},1.0500689220356949,199.9989936569205,0.12063655088600315,-48.73212796208675,-2.9394527078301976E-2,8.8535357903941181E-2,{"$f":"I83+K83-M83","v":1.2001000000000002},{"$f":"Snitkræfter!$D$44*0.1*$Q$6*C83*$B$6^2/B83+$R$6","v":5.2511211948349428E-5},{"$f":"N83-P83*O83","v":8.8472339198481964E-2},{"$f":"R82","v":1.2},1.7065767279340274,0.13367112571567472,0.13367112571567472,{"$f":"-(R83+0.0001)","v":-1.2000999999999999},8.0202675429404836E-3,6.4162140343523869E-2,0.14528640593237671,0.12238957486921173]
[null,0.61171352995587602,4.050444689973573E-4,7.1548713659686639E-2,-0.1439950861896814,4.0901038541973209,2.7193111139108286,0.66485136095510977,1.0508281839456142,199.77823834789973,0.12050339442064752,-47.694130291263079,-2.876842163373821E-2,8.7552458951966713E-2,1.2000999999999999,{"$f":"Snitkræfter!$D$44*0.1*$Q$6*C84*$B$6^2/B84+$R$6","v":5.2794911796803875E-5},8.7489099778319368E-2,1.2,1.7178436187628747,0.13360839053306317,0.13360839053306317,-1.2000999999999999,8.0165034319837885E-3,6.4132027455870322E-2,0.12238957486921173,0.117233846308825]
[null,0.61071743647877508,{"$f":"IF(ABS(Q83-Q84)<=0.00001*Q$80,C84,MAX(0.9*C84,MIN($AD$4,1.05*C84,IF(C84=$AD$4,0.5*(C84+C83),C84+(C84-C83)*(Q84-Q$80)/(Q83-Q84)))))","v":4.0520821845005915E-4},7.1577639033565454E-2,-0.14405329983870044,4.0972899165685108,2.7209328023544068,0.66408110184040725,1.0509602856299631,199.82355334691835,0.12053072778410626,-47.42980866667294,-2.8608986585930727E-2,8.7456733940827341E-2,1.2001000000000002,{"$f":"Snitkræfter!$D$44*0.1*$Q$6*C85*$B$6^2/B85+$R$6","v":5.2902399938999483E-5},8.7393245770660544E-2,1.2,1.7208617649587745,0.13366240509813132,0.13366240509813132,-1.2000999999999999,8.0197443058878781E-3,6.4157954447103052E-2,0.117233846308825,0.1157940354323464]
[null,0.61270911858314703,4.0359826825326782E-4,7.129325083806258E-2,-0.14348095547877887,4.0847868805279912,2.7119470658202611,0.66391396788606027,1.0511701910506894,199.10011227532874,0.12009435841019055,-47.805255099820862,-2.8835450539119976E-2,8.6520227682502712E-2,1.2000999999999999,{"$f":"Snitkræfter!$D$44*0.1*$Q$6*C86*$B$6^2/B86+$R$6","v":5.2520928990926312E-5},8.6457197315620696E-2,1.2,1.7156104898217563,0.13313134524891493,0.13313134524891493,-1.2000999999999999,7.9878807149348953E-3,6.3903045719479162E-2,0.1157940354323464,0.11866824954602023]
[null,0.608730207514945,4.0682912124281222E-4,7.1863961940469859E-2,-0.1446295378945498,4.1098473836799263,2.7299638190152895,0.66424943900736788,1.0507510653033387,200.55152678819667,0.12096983101901093,-47.048694070993818,-2.8379103677650144E-2,8.8392752414164583E-2,1.2000999999999999,{"$f":"Snitkræfter!$D$44*0.1*$Q$6*C87*$B$6^2/B87+$R$6","v":5.3287411928971863E-5},8.8328802191108627E-2,1.2,1.726135901145569,0.13419707778206247,0.13419707778206247,-1.2000999999999999,8.051824666923748E-3,6.4414597335389998E-2,0.11866824954602023,0.11290750264476987]
[null,0.60788422641455142,4.0684096335697563E-4,7.1866053780009112E-2,-0.14463374781810176,4.1161988785141164,2.7307547353609976,0.66341661711611888,1.050912395834279,200.52684547322124,0.12095494360055184,-46.805911308148751,-2.8232660565169064E-2,8.8197430927589679E-2,1.2000999999999999,{"$f":"Snitkræfter!$D$44*0.1*$Q$6*C88*$B$6^2/B88+$R$6","v":5.3363124288732318E-5},8.8133389842130774E-2,1.2,1.7288035289759287,0.13420098403417793,0.13420098403417793,-1.2000999999999999,8.0520590420506775E-3,6.441647233640542E-2,0.11290750264476987,0.11167295261952924]
[null,0.60772843747855154,4.0682870552038666E-4,7.1863888505558235E-2,-0.1446293901034032,4.1173913856990545,2.7308309817486407,0.66324299196662295,1.0509474499937845,200.5151745088472,0.12094790384069178,-46.759467243759907,-2.8204646165523588E-2,8.8148342699278417E-2,1.2000999999999999,{"$f":"Snitkræfter!$D$44*0.1*$Q$6*C89*$B$6^2/B89+$R$6","v":5.3375195522023149E-5},8.8084287127132441E-2,1.2,1.7293043819936029,0.13419694065143006,0.13419694065143006,-1.2000999999999999,8.051816439085804E-3,6.4414531512686432E-2,0.11167295261952924,0.11144523326825863]
[null,0.60761228502866071,4.0689145795399828E-4,7.1874973352402435E-2,-0.14465169886892931,4.1181776578854468,2.7312142852017858,0.66320943681778344,1.0509472414819367,200.54190399092525,0.12096402668444167,-46.733083445965534,-2.8188731833621264E-2,8.8174737582359844E-2,1.2000999999999997,{"$f":"Snitkræfter!$D$44*0.1*$Q$6*C90*$B$6^2/B90+$R$6","v":5.3393633417750321E-5},8.8110659882895195E-2,1.2,1.7296346163118876,0.13421764023455887,0.13421764023455887,-1.2000999999999999,8.0530584140735325E-3,6.4424467312588274E-2,0.11144523326825863,0.11127537525919419]
[null,0.60686835731822997,4.0742683789744274E-4,7.1969545057991871E-2,-0.14484202878823757,4.1230303824834005,2.7342768410956633,0.66317164499009651,1.050897403664159,200.77880257206343,0.12110692054213439,-46.578809188289,-2.8095675793706778E-2,8.8460227653056028E-2,1.2001000000000002,{"$f":"Snitkræfter!$D$44*0.1*$Q$6*C91*$B$6^2/B91+$R$6","v":5.3529426274653124E-5},8.8395986988583822E-2,1.2,1.7316727606430282,0.13439424122048116,0.13439424122048116,-1.2000999999999999,8.0636544732288692E-3,6.4509235785830968E-2,0.11127537525919419,0.11018593490971135]
[null,0.60687079037589764,4.073136461667241E-4,7.1949550407157892E-2,-0.14480178863124657,4.1231746002292438,2.7337590389951214,0.66302286564413926,1.0509383759695576,200.72311029684718,0.12107332775313961,-46.566574953775117,-2.8088296277302725E-2,8.8361659895020706E-2,1.2001000000000002,{"$f":"Snitkræfter!$D$44*0.1*$Q$6*C92*$B$6^2/B92+$R$6","v":5.3514340126237887E-5},8.8297437335435214E-2,1.2,1.7317333320962822,0.13435690367825917,0.13435690367825917,-1.2000999999999999,8.0614142206955515E-3,6.4491313765564412E-2,0.11018593490971135,0.1101895023394974]
[null,0.60681227100034763,4.0735755034278134E-4,7.1957305820604126E-2,-0.14481739675850008,4.1235543851422518,2.7340081373502749,0.66302220899554321,1.050933828437477,200.74262215367148,0.12108509702790259,-46.554602286633006,-2.8081074534620321E-2,8.8385655485734502E-2,1.2000999999999997,{"$f":"Snitkræfter!$D$44*0.1*$Q$6*C93*$B$6^2/B93+$R$6","v":5.3525269753843367E-5},8.8321419809502907E-2,1.2,1.7318928417597457,0.13437138595551434,0.13437138595551434,-1.2000999999999999,8.0622831573308601E-3,6.4498265258646895E-2,0.1101895023394974,0.1101036913610953]
[null,0.60676550928116779,4.0738362361124645E-4,7.1961911509515766E-2,-0.14482666591985704,4.1238708751864124,2.7341660829930974,0.66300962511817352,1.0509334969527486,200.75377319983028,0.1210918231804835,-46.544000797069032,-2.8074679866767913E-2,8.8396925029917375E-2,1.2000999999999999,{"$f":"Snitkræfter!$D$44*0.1*$Q$6*C94*$B$6^2/B94+$R$6","v":5.3532820991244255E-5},8.8332680291445781E-2,1.2,1.7320257675782931,0.13437998651101429,0.13437998651101429,-1.2000999999999999,8.0627991906608576E-3,6.4502393525286875E-2,0.1101036913610953,0.11003510954382449]
[null,0.60674686769709363,4.073905281767095E-4,7.196313116023334E-2,-0.14482912052317856,4.1240020743948262,2.7342131229453539,0.66299993880254871,1.0509346432264586,200.75649883072165,0.12109346724230458,-46.539374800270963,-2.8071889531237095E-2,8.8398356879743956E-2,1.2001000000000002,{"$f":"Snitkræfter!$D$44*0.1*$Q$6*C95*$B$6^2/B95+$R$6","v":5.353537305628503E-5},8.8334109078539114E-2,1.2,1.7320808712458269,0.13438226405817136,0.13438226405817136,-1.2000999999999999,8.0629358434902813E-3,6.4503486747922251E-2,0.11003510954382449,0.11000776641901948]
[null,0.60673305197694793,4.0739803370103134E-4,7.1964456966784648E-2,-0.14483178877001152,4.1240958836481374,2.7342588831839301,0.66299595361619712,1.0509346184951889,200.75969578044322,0.12109539559694635,-46.536218851630565,-2.8069985907864848E-2,8.8401511918182157E-2,1.2000999999999999,{"$f":"Snitkræfter!$D$44*0.1*$Q$6*C96*$B$6^2/B96+$R$6","v":5.3537578419573536E-5},8.8337261470320824E-2,1.2,1.7321202711322177,0.13438473983824367,0.13438473983824367,-1.2000999999999999,8.0630843902946194E-3,6.4504675122356969E-2,0.11000776641901948,0.10998750069657214]
[null,0.60673540221838951,4.0739422605875109E-4,7.1963784369259987E-2,-0.14483043513647179,4.1240835614302505,2.7342395482690787,0.66299324626701606,1.0509355493391852,200.75790477266921,0.12109431528650819,-46.536466646661914,-2.8070135374306464E-2,8.8398755964342171E-2,1.2000999999999999,{"$f":"Snitkræfter!$D$44*0.1*$Q$6*C97*$B$6^2/B97+$R$6","v":5.3536870663742556E-5},8.8334506365858614E-2,1.2,1.7321150958007052,0.13438348384539417,0.13438348384539417,-1.2000999999999999,8.0630090307236522E-3,6.4504072245789218E-2,0.10998750069657214,0.10999094823606255]
[null,0.60673372645275692,4.0739582349193969E-4,7.1964066546399905E-2,-0.14483100303098037,4.1240939530103677,2.7342482343560772,0.66299368188744157,1.0509352947875299,200.75863111391993,0.12109475340522895,-46.53616231743473,-2.8069951807241301E-2,8.8399741116430203E-2,1.2001000000000002,{"$f":"Snitkræfter!$D$44*0.1*$Q$6*C98*$B$6^2/B98+$R$6","v":5.3537228453637016E-5},8.8335491088562992E-2,1.2,1.7321194602643544,0.13438401077637005,0.13438401077637005,-1.2000999999999999,8.0630406465822015E-3,6.4504325172657626E-2,0.10999094823606255,0.10998849007935127]
[null,null,null,null,null,null,null,null,null,null,null,null,null,null,null,{"$f":"$Q$6*C98/B98","v":1.8359817713867283E-3},null,null,null,null,null,null,null,null,null,null,{"$f":"(N98+$O$2*R98)/($Q$6*C98/B98)","v":48.148485183304047}]
[]
[]
[null,"Tilstand:",{"$f":"C2","v":1},null,"Navier:","a=",{"$f":"J106*Q106/G106","v":24.323781741718612},"A=",{"$f":"C106*D106+G102*H106+G102*L106","v":0.25614351898648502},"Sy=",{"$f":"-(0.5*C106-I106)*G102*H106+(0.5*C106-M106)*G102*L106","v":0},"Iy=",{"$f":"D106*C106^3/12+(0.5*C106-I106)^2*G102*H106+(0.5*C106-M106)^2*G102*L106","v":6.8052891873039908E-3},"h=",{"$f":"K102/I102","v":0},"Io=",{"$f":"M102-I102*O102^2","v":6.8052891873039908E-3},"EIo=",{"$f":"Q102*G106/Q106","v":55.955848145372805},null,null,null,null,"EImax",{"$f":"M102*V109/Q106","v":52.658324508357552},"MNm2"]
[]
[null,"L","h","b","fck","fcd","Ecd","Ac","ac","Esc","fyd_c","At","at","Est","fyd_t","Modenhed","1+f","uterm","g","Ac","ac","Esc","fyd_c","At","at","Est","fyd_t","   emax",null,{"$f":"IF($C$2=1,0.0035,Firsidig!$G$21)","v":3.5000000000000001E-3}]
[null,"(m)","(m)","(m)","(Mpa)","(Mpa)","(Mpa)","(m2)","(m)","(Mpa)","(Mpa)","(m2)","(m)","(Mpa)","(Mpa)","(døgn)",null,"(m)",null,"(m2)","(m)","(Mpa)","(Mpa)","(m2)","(m)","(Mpa)","(Mpa)","e1",null,{"$f":"IF($C$2=1,0.7*(E106+8)^0.31/1000,Firsidig!$F$21)","v":2.0693662482105194E-3}]
[null,{"$f":"B6","v":0.54},{"$f":"C6","v":0.54},{"$f":"D6","v":0.42},{"$f":"E6","v":25},{"$f":"F6","v":17.857142857142858},{"$f":"IF($C$2=1,Kold!AU$23,1.4*F106/AD105)","v":22482.71872144239},{"$f":"IF($W108<0,X106,T106)","v":6.0318578948924026E-4},{"$f":"IF($W108<0,Y106,U106)","v":0.06},{"$f":"IF($W108<0,Z106,V106)","v":200000},{"$f":"IF($W108<0,AA106,W106)","v":458.33333333333337},{"$f":"IF($W108<0,T106,X106)","v":6.0318578948924026E-4},{"$f":"IF($W108<0,U106,Y106)","v":0.06},{"$f":"IF($W108<0,V106,Z106)","v":200000},{"$f":"IF($W108<0,W106,AA106)","v":458.33333333333337},{"$f":"P6","v":28},{"$f":"Q6","v":2.7343237157040781},{"$f":"R6","v":0},{"$f":"S6","v":1.4},{"$f":"T$6","v":6.0318578948924026E-4},{"$f":"U$6","v":0.06},200000,458.33333333333337,6.0318578948924026E-4,0.06,200000,458.33333333333337,"k",null,{"$f":"1.05*G106*AD105/F106","v":2.7356687822616226}]
[]
[null,"Initialt","elasttisk","e_o","sc_o/fcd","sc_u/fcd","sc_o","sc_u","hc","elasttisk","e_o","sc_o/fcd","sc_u/fcd","sc_o","sc_u","hc","At","Ac","Ic","Wt","u_skøn","E",{"$f":"Snitkræfter!C24","v":5.1955679558217081E-2},{"$f":"Snitkræfter!C30","v":0},{"$f":"0.5*(MAX(R111-H106*K106,0)+L106*O106)/(D106*F106)","v":3.3333333333333333E-2},{"$f":"(0.5*C106-Y108)*R111+(C106-M106-Y108)*L106*O106","v":0.24181886857043616},"M_rev"]
[null,"beregning","skøn_1",{"$f":"IF(C102=1,AD105*0.5*(-((AD106-2)*E109-AD106)-(((AD106-2)*E109-AD106)^2-4*E109)^0.5),G109/(1.4*F106/AD105))","v":2.0947003673117581E-4},{"$f":"MIN(0.9999,G109/F106)","v":0.24818773556096305},{"$f":"H109/F106","v":-2.9560302699955403E-2},{"$f":"R111/Q109+(Q111+$O$2*R111+R111*R106)/T109","v":4.4319238493029118},{"$f":"R111/Q109-(Q111+$O$2*R111+R111*R106)/T109","v":-0.52786254821348932},{"$f":"IF(G109=H109,100*C106,C106*G109/(G109-H109))","v":0.48252861853526197},"skøn_2",{"$f":"IF(C102=1,AD105*0.5*(-((AD106-2)*L109-AD106)-(((AD106-2)*L109-AD106)^2-4*L109)^0.5),G109/(1.4*F106/AD105))","v":2.095056458916584E-4},{"$f":"MIN(0.9999,N109/F106)","v":0.24822538064140706},{"$f":"O109/F106","v":-2.959794778039939E-2},{"$f":"R111/Q109+(Q111+$O$2*R111+R111*U109)/T109","v":4.4325960828822693},{"$f":"R111/Q109-(Q111+$O$2*R111+R111*U109)/T109","v":-0.5285347817928463},{"$f":"IF(N109=O109,100*C106,C106*N109/(N109-O109))","v":0.48247102324989227},{"$f":"R109+Q106*(H106+L106)*N106/G106","v":0.25614351898648502},{"$f":"C106*D106","v":0.2268},{"$f":"D106*C106^3/12","v":5.5112400000000006E-3},{"$f":"(S109+((0.5*C106-I106)^2*H106+(0.5*C106-M106)^2*L106)*Q106)/(0.5*C106)","v":2.0950773034997532E-2},{"$f":"Q111/(10*AA131/B106^2-R111)+R106","v":2.8167626295228749E-5},{"$f":"G109/D109","v":21157.793823231332},null,null,null,null,{"$f":"R111*T109/Q109+IF(SIGN(W108)=1,-R111*$O$2,+R111*$O$2)","v":4.089655111692083E-2}]
[null,"hc","e0","a'","b'","N'","tN'","t'","Nc","sac","Nac","sat","Nat","Mtot","N","u","Mo","N","A","B1","B2","B3","C1","C2","gættet x","beregnet x","EIt"]
[null,{"$f":"I109","v":0.48252861853526197},null,null,null,null,null,null,null,null,null,null,null,null,null,null,{"$f":"MAX(MIN(ABS(W108),Z108,0.9*$N$465),MIN($C$6*$D$6*0.025*$C$6*$F$6,$C$6*0.15*L106*K106),(0.01-$O$2)*R111,AA109)","v":5.1955679558217081E-2},{"$f":"Snitkræfter!D3","v":0.5}]
[null,{"$f":"0.5*(-(T112+U112+V112)+SQRT((T112+U112+V112)^2+4*S112*(W112+X112)))/S112","v":0.45909542357505634},{"$f":"MIN(D109,AD105)","v":2.0947003673117581E-4},{"$f":"IF($C$2=1,C112/($AD$6*$AD$5),2^(1/3)*$AD$5/C112)","v":3.7001645067422768E-2},{"$f":"IF($C$2=1,-($AD$6-2)*C112/$AD$5,3*($AD$5/C112)^2)","v":-7.4467517277610779E-2},{"$f":"IF($C$2=1,0.5*($AD$6*C112*$F$6/$AD$5)*(1-Y112^2+(D112-E112)*(E112^2*(1-Y112^2)+2*E112*(1-Y112)+2*LN((1-E112)/(1-E112*Y112)))/(E112^3)),$F$6*E112*(LN((1-D112+D112^2)/(1+D112)^2)/(6*D112)+ATAN((2-D112)/(D112*3^0.5))/(D112*3^0.5)-LN((Y112^2-D112*Y112+D112^2)/(Y112+D112)^2)/(6*D112)-ATAN((2*Y112-D112)/(D112*3^0.5))/(D112*3^0.5)))","v":2.29841475395749},{"$f":"IF($C$2=1,($AD$6*C112*$F$6/$AD$5)*(1-Y112^3-(D112-E112)*(-2*E112^3*(1-Y112^3)-3*E112^2*(1-Y112^2)-6*E112*(1-Y112)-6*LN((1-E112)/(1-E112*Y112)))/(2*E112^4))/3,$F$6*E112*(LN((1+D112^3)/(D112^3+Y112^3)))/3)","v":1.5182382948510309},{"$f":"G112/F112","v":0.66055888835419097},{"$f":"F112*B112*$D$6","v":0.44318051190809454},{"$f":"MAX(MIN($K$106,$Q$106*$J$106*C112*(B112-$I$106)/B112),-$K$106)","v":99.580801610712783},{"$f":"J112*$H$106","v":6.0065724437529201E-2},{"$f":"MIN($O$106,$Q$106*$N$106*C112*(C$106-B112-$M$106)/B112)","v":5.2160319431395479},{"$f":"L112*$L$106","v":3.1462363456237243E-3},{"$f":"(0.5*$C$6-B112+H112*B112)*I112+(0.5*$C$6-$I$106)*K112+(0.5*$C$6-$M$106)*M112","v":6.3869833359131073E-2},{"$f":"I112+K112-M112","v":0.50009999999999999},0,{"$f":"N112-P112*O112","v":6.3869833359131073E-2},{"$f":"$R$111","v":0.5},{"$f":"F112*$D$106","v":0.9653341966621457},{"$f":"IF(ABS(J111)<$K$106,$Q$106*C112*$H$106*$J$106,IF(J111>0,1,-1)*$H$106*$K$106)","v":6.9096004549408174E-2},{"$f":"IF(L111<$O$106,$Q$106*C112*$L$106*$N$106,-$L$106*$O$106)","v":6.9096004549408174E-2},{"$f":"-(R112+0.0001)","v":-0.50009999999999999},{"$f":"IF(ABS(J111)<$K$106,$I$106*$Q$106*C112*$H$106*$J$106,0)","v":4.1457602729644905E-3},{"$f":"IF(L111<$O$106,($C$106-$M$106)*$Q$106*C112*$L$106*$N$106,0)","v":3.3166082183715931E-2},{"$f":"IF(B111<$C$6,0,(B111-$C$6)/B111)","v":0},{"$f":"IF(AND(B112<=$C$6,B112>0),0,(B112-$C$6)/B112)","v":0}]
[null,{"$f":"0.5*(-(T113+U113+V113)+SQRT((T113+U113+V113)^2+4*S113*(W113+X113)))/S113","v":0.48082710786284627},{"$f":"0.95*C112","v":1.9899653489461702E-4},3.5151562814051629E-2,-7.0744141413730241E-2,2.1913475964760609,1.4481752868509572,0.66086059974227263,0.44253691739702922,{"$f":"MAX(MIN($K$106,$Q$106*$J$106*C113*(B113-$I$106)/B113),-$K$106)","v":95.244564935486423},{"$f":"J113*$H$106","v":5.745016809517059E-2},{"$f":"MIN($O$106,$Q$106*$N$106*C113*(C$106-B113-$M$106)/B113)","v":-0.18719689649171586},{"$f":"L113*$L$106","v":-1.1291450780029122E-4},5.9362438908663676E-2,0.5001000000000001,0,5.9362438908663676E-2,{"$f":"$R$111","v":0.5},{"$f":"F113*$D$106","v":0.9203659905199455},{"$f":"IF(ABS(J112)<$K$106,$Q$106*C113*$H$106*$J$106,IF(J112>0,1,-1)*$H$106*$K$106)","v":6.5641204321937763E-2},6.5641204321937763E-2,{"$f":"-(R113+0.0001)","v":-0.50009999999999999},{"$f":"IF(ABS(J112)<$K$106,$I$106*$Q$106*C113*$H$106*$J$106,0)","v":3.9384722593162665E-3},3.1507778074530139E-2,{"$f":"Z112","v":0},{"$f":"IF(AND(B113<=$C$6,B113>0),0,(B113-$C$6)/B113)","v":0}]
[null,0.52274733867626599,{"$f":"IF(ABS($Q$111-Q113)<0.00001*$Q$111,C113,MAX(0.9*C113,MIN($AD$4,1.05*C113,IF(C113=$AD$4,0.5*(C113+C112),C113+(C113-C112)*(Q113-$Q$111)/(Q112-Q113)))))","v":1.8178599152808133E-4},3.2111421956658726E-2,-6.4625717721709094E-2,2.0136967021142209,1.3317727207119319,0.66135715438858134,0.44211492861118068,88.00197875440746,5.3081543031592612E-2,-8.1293830900407933,-4.9035283572267351E-3,5.1223174943025022E-2,0.50009999999999999,0,5.1223174943025022E-2,0.5,0.84575261488797271,5.9964116556502009E-2,5.9964116556502009E-2,-0.50009999999999999,3.5978469933901206E-3,2.8782775947120968E-2,{"$f":"Z113+IF(C112=C113,0,(C114-C113)*(Z113-Z112)/(C113-C112))","v":0},0]
[null,0.51861198188956825,1.833348788106627E-4,3.2385023748943087E-2,-6.5176353947665952E-2,2.0297724427582535,1.3423137395860907,0.66131242660976486,0.44211900991594894,88.66002949589533,5.347846988762095E-2,-7.4645661003432293,-4.5025201964301502E-3,5.2000012640780649E-2,0.50009999999999999,0,5.2000012640780649E-2,0.5,0.85250442595846643,6.0475034129219625E-2,6.0475034129219625E-2,-0.50009999999999999,3.6285020477531782E-3,2.9028016382025425E-2,{"$f":"Z114+IF(C113=C114,0,(C115-C114)*(Z114-Z113)/(C114-C113))","v":0},0]
[null,0.51884588047875124,1.8324648589670045E-4,3.2369409662652053E-2,-6.5144929878856769E-2,2.0288554909445269,1.3417125262863021,0.66131497894986713,0.44211859169657008,88.622509559619999,5.3455838395237133E-2,-7.5027793874667017,-4.5255699081927009E-3,5.195594162092064E-2,0.50009999999999999,0,5.195594162092064E-2,0.5,0.85211930619670129,6.044587675052919E-2,6.044587675052919E-2,-0.50009999999999999,3.6267526050317513E-3,2.9014020840254017E-2,0,0]
[null,0.51884588047875124,1.8324648589670045E-4,3.2369409662652053E-2,-6.5144929878856769E-2,2.0288554909445269,1.3417125262863021,0.66131497894986713,0.44211859169657008,88.622509559619999,5.3455838395237133E-2,-7.5027793874667017,-4.5255699081927009E-3,5.195594162092064E-2,0.50009999999999999,0,5.195594162092064E-2,0.5,0.85211930619670129,6.044587675052919E-2,6.044587675052919E-2,-0.50009999999999999,3.6267526050317513E-3,2.9014020840254017E-2,0,0]
[null,0.51884588047875124,1.8324648589670045E-4,3.2369409662652053E-2,-6.5144929878856769E-2,2.0288554909445269,1.3417125262863021,0.66131497894986713,0.44211859169657008,88.622509559619999,5.3455838395237133E-2,-7.5027793874667017,-4.5255699081927009E-3,5.195594162092064E-2,0.50009999999999999,0,5.195594162092064E-2,0.5,0.85211930619670129,6.044587675052919E-2,6.044587675052919E-2,-0.50009999999999999,3.6267526050317513E-3,2.9014020840254017E-2,0,0]
[null,0.51884588047875124,1.8324648589670045E-4,3.2369409662652053E-2,-6.5144929878856769E-2,2.0288554909445269,1.3417125262863021,0.66131497894986713,0.44211859169657008,88.622509559619999,5.3455838395237133E-2,-7.5027793874667017,-4.5255699081927009E-3,5.195594162092064E-2,0.50009999999999999,0,5.195594162092064E-2,0.5,0.85211930619670129,6.044587675052919E-2,6.044587675052919E-2,-0.50009999999999999,3.6267526050317513E-3,2.9014020840254017E-2,0,0]
[null,0.51884588047875124,1.8324648589670045E-4,3.2369409662652053E-2,-6.5144929878856769E-2,2.0288554909445269,1.3417125262863021,0.66131497894986713,0.44211859169657008,88.622509559619999,5.3455838395237133E-2,-7.5027793874667017,-4.5255699081927009E-3,5.195594162092064E-2,0.50009999999999999,0,5.195594162092064E-2,0.5,0.85211930619670129,6.044587675052919E-2,6.044587675052919E-2,-0.50009999999999999,3.6267526050317513E-3,2.9014020840254017E-2,0,0]
[null,0.51884588047875124,1.8324648589670045E-4,3.2369409662652053E-2,-6.5144929878856769E-2,2.0288554909445269,1.3417125262863021,0.66131497894986713,0.44211859169657008,88.622509559619999,5.3455838395237133E-2,-7.5027793874667017,-4.5255699081927009E-3,5.195594162092064E-2,0.50009999999999999,0,5.195594162092064E-2,0.5,0.85211930619670129,6.044587675052919E-2,6.044587675052919E-2,-0.50009999999999999,3.6267526050317513E-3,2.9014020840254017E-2,0,0]
[null,0.51884588047875124,1.8324648589670045E-4,3.2369409662652053E-2,-6.5144929878856769E-2,2.0288554909445269,1.3417125262863021,0.66131497894986713,0.44211859169657008,88.622509559619999,5.3455838395237133E-2,-7.5027793874667017,-4.5255699081927009E-3,5.195594162092064E-2,0.50009999999999999,0,5.195594162092064E-2,0.5,0.85211930619670129,6.044587675052919E-2,6.044587675052919E-2,-0.50009999999999999,3.6267526050317513E-3,2.9014020840254017E-2,0,0]
[null,0.51884588047875124,1.8324648589670045E-4,3.2369409662652053E-2,-6.5144929878856769E-2,2.0288554909445269,1.3417125262863021,0.66131497894986713,0.44211859169657008,88.622509559619999,5.3455838395237133E-2,-7.5027793874667017,-4.5255699081927009E-3,5.195594162092064E-2,0.50009999999999999,0,5.195594162092064E-2,0.5,0.85211930619670129,6.044587675052919E-2,6.044587675052919E-2,-0.50009999999999999,3.6267526050317513E-3,2.9014020840254017E-2,0,0]
[null,0.51884588047875124,1.8324648589670045E-4,3.2369409662652053E-2,-6.5144929878856769E-2,2.0288554909445269,1.3417125262863021,0.66131497894986713,0.44211859169657008,88.622509559619999,5.3455838395237133E-2,-7.5027793874667017,-4.5255699081927009E-3,5.195594162092064E-2,0.50009999999999999,0,5.195594162092064E-2,0.5,0.85211930619670129,6.044587675052919E-2,6.044587675052919E-2,-0.50009999999999999,3.6267526050317513E-3,2.9014020840254017E-2,0,0]
[null,0.51884588047875124,1.8324648589670045E-4,3.2369409662652053E-2,-6.5144929878856769E-2,2.0288554909445269,1.3417125262863021,0.66131497894986713,0.44211859169657008,88.622509559619999,5.3455838395237133E-2,-7.5027793874667017,-4.5255699081927009E-3,5.195594162092064E-2,0.50009999999999999,0,5.195594162092064E-2,0.5,0.85211930619670129,6.044587675052919E-2,6.044587675052919E-2,-0.50009999999999999,3.6267526050317513E-3,2.9014020840254017E-2,0,0]
[null,0.51884588047875124,1.8324648589670045E-4,3.2369409662652053E-2,-6.5144929878856769E-2,2.0288554909445269,1.3417125262863021,0.66131497894986713,0.44211859169657008,88.622509559619999,5.3455838395237133E-2,-7.5027793874667017,-4.5255699081927009E-3,5.195594162092064E-2,0.50009999999999999,0,5.195594162092064E-2,0.5,0.85211930619670129,6.044587675052919E-2,6.044587675052919E-2,-0.50009999999999999,3.6267526050317513E-3,2.9014020840254017E-2,0,0]
[null,0.51884588047875124,1.8324648589670045E-4,3.2369409662652053E-2,-6.5144929878856769E-2,2.0288554909445269,1.3417125262863021,0.66131497894986713,0.44211859169657008,88.622509559619999,5.3455838395237133E-2,-7.5027793874667017,-4.5255699081927009E-3,5.195594162092064E-2,0.50009999999999999,0,5.195594162092064E-2,0.5,0.85211930619670129,6.044587675052919E-2,6.044587675052919E-2,-0.50009999999999999,3.6267526050317513E-3,2.9014020840254017E-2,0,0]
[null,0.51884588047875124,1.8324648589670045E-4,3.2369409662652053E-2,-6.5144929878856769E-2,2.0288554909445269,1.3417125262863021,0.66131497894986713,0.44211859169657008,88.622509559619999,5.3455838395237133E-2,-7.5027793874667017,-4.5255699081927009E-3,5.195594162092064E-2,0.50009999999999999,0,5.195594162092064E-2,0.5,0.85211930619670129,6.044587675052919E-2,6.044587675052919E-2,-0.50009999999999999,3.6267526050317513E-3,2.9014020840254017E-2,0,0]
[null,0.51884588047875124,1.8324648589670045E-4,3.2369409662652053E-2,-6.5144929878856769E-2,2.0288554909445269,1.3417125262863021,0.66131497894986713,0.44211859169657008,88.622509559619999,5.3455838395237133E-2,-7.5027793874667017,-4.5255699081927009E-3,5.195594162092064E-2,0.50009999999999999,0,5.195594162092064E-2,0.5,0.85211930619670129,6.044587675052919E-2,6.044587675052919E-2,-0.50009999999999999,3.6267526050317513E-3,2.9014020840254017E-2,0,0]
[null,0.51884588047875124,1.8324648589670045E-4,3.2369409662652053E-2,-6.5144929878856769E-2,2.0288554909445269,1.3417125262863021,0.66131497894986713,0.44211859169657008,88.622509559619999,5.3455838395237133E-2,-7.5027793874667017,-4.5255699081927009E-3,5.195594162092064E-2,0.50009999999999999,0,5.195594162092064E-2,0.5,0.85211930619670129,6.044587675052919E-2,6.044587675052919E-2,-0.50009999999999999,3.6267526050317513E-3,2.9014020840254017E-2,0,0]
[null,null,null,null,null,null,null,null,null,null,null,null,null,null,null,null,null,null,null,null,null,null,null,null,null,null,{"$f":"N130/($Q$6*C130/B130)","v":53.800710220502019}]
[null,{"$f":"IF(B130<0,P109,0.5*(P109+B130))","v":0.50065845186432179}]
[null,{"$f":"0.5*(-(T133+U133+V133)+SQRT((T133+U133+V133)^2+4*S133*(W133+X133)))/S133","v":0.48667726397971711},{"$f":"0.5*(K109+C130)","v":1.9637606589417944E-4},{"$f":"IF($C$2=1,C133/($AD$6*$AD$5),2^(1/3)*$AD$5/C133)","v":3.4688672439000943E-2},{"$f":"IF($C$2=1,-($AD$6-2)*C133/$AD$5,3*($AD$5/C133)^2)","v":-6.9812553184641607E-2},{"$f":"IF($C$2=1,0.5*($AD$6*C133*$F$6/$AD$5)*(1-Y133^2+(D133-E133)*(E133^2*(1-Y133^2)+2*E133*(1-Y133)+2*LN((1-E133)/(1-E133*Y133)))/(E133^3)),$F$6*E133*(LN((1-D133+D133^2)/(1+D133)^2)/(6*D133)+ATAN((2-D133)/(D133*3^0.5))/(D133*3^0.5)-LN((Y133^2-D133*Y133+D133^2)/(Y133+D133)^2)/(6*D133)-ATAN((2*Y133-D133)/(D133*3^0.5))/(D133*3^0.5)))","v":2.1644364799492664},{"$f":"IF($C$2=1,($AD$6*C133*$F$6/$AD$5)*(1-Y133^3-(D133-E133)*(-2*E133^3*(1-Y133^3)-3*E133^2*(1-Y133^2)-6*E133*(1-Y133)-6*LN((1-E133)/(1-E133*Y133)))/(2*E133^4))/3,$F$6*E133*(LN((1+D133^3)/(D133^3+Y133^3)))/3)","v":1.4305542984835551},{"$f":"G133/F133","v":0.66093614284170943},{"$f":"F133*B133*$D$6","v":0.44242045013023146},{"$f":"MAX(MIN($K$106,$Q$106*$J$106*C133*(B133-$I$106)/B133),-$K$106)","v":94.151430728805451},{"$f":"J133*$H$106","v":5.6790805075696033E-2},{"$f":"MIN($O$106,$Q$106*$N$106*C133*(C$106-B133-$M$106)/B133)","v":-1.4734179908732259},{"$f":"L133*$L$106","v":-8.8874479407251696E-4},{"$f":"(0.5*$C$6-B133+H133*B133)*I133+(0.5*$C$6-$I$106)*K133+(0.5*$C$6-$M$106)*M133","v":5.8187089474915625E-2},{"$f":"I133+K133-M133","v":0.50009999999999999},{"$f":"Snitkræfter!$D$44*0.1*$Q$6*C133*$B$6^2/B133+$R$6","v":3.2172510136167897E-5},{"$f":"N133-P133*O133","v":5.8171000002596528E-2},{"$f":"$R$111","v":0.5},{"$f":"F133*$D$106","v":0.90906332157869185},{"$f":"IF(ABS(J132)<$K$106,$Q$106*C133*$H$106*$J$106,IF(J132>0,1,-1)*$H$106*$K$106)","v":6.4776813687356521E-2},{"$f":"IF(L132<$O$106,$Q$106*C133*$L$106*$N$106,-$L$106*$O$106)","v":6.4776813687356521E-2},{"$f":"-(R133+0.0001)","v":-0.50009999999999999},{"$f":"IF(ABS(J132)<$K$106,$I$106*$Q$106*C133*$H$106*$J$106,0)","v":3.8866088212413906E-3},{"$f":"IF(L132<$O$106,($C$106-$M$106)*$Q$106*C133*$L$106*$N$106,0)","v":3.1092870569931135E-2},{"$f":"IF(ABS(B132)<$C$6,0,(B132-$C$6)/B132)","v":0},{"$f":"IF(AND(B133<=$C$6,B133>0),0,(B133-$C$6)/B133)","v":0}]
[null,0.51025420158833401,{"$f":"0.95*C133","v":1.8655726259947047E-4},3.2954238817050896E-2,-6.6321925525409525E-2,2.0631614111988479,1.3642023461729045,0.66121939794337414,0.442149447020034,90.025029051665697,5.4301818222320768E-2,-6.0491059657338369,-3.6487347576452376E-3,5.3585676457321978E-2,0.50009999999999999,{"$f":"Snitkræfter!$D$44*0.1*$Q$6*C134*$B$6^2/B134+$R$6","v":2.9151641871259207E-5},5.3571097721222163E-2,0.5,0.8665277927035161,6.1537973002988695E-2,6.1537973002988695E-2,-0.50009999999999999,3.6922783801793214E-3,2.9538227041434578E-2,{"$f":"Z133","v":0},0]
[null,0.51921007271101693,{"$f":"IF(OR(C134=C133,ABS($Q$111-Q134)<0.00005*$Q$111),C134,MAX(IF(Z134>0,0.98*C134,0.9*C134),MIN($AD$4,IF(Z134>0,1.005*C134,1.05*C134),IF(C134=$AD$4,0.5*(C134+C133),C134+(C134-C133)*(Q134-$Q$111)/(Q133-Q134)))))","v":1.8310904300457336E-4},3.2345131187358454E-2,-6.5096068327563442E-2,2.0274296020401823,1.3407776108750058,0.66131894765953625,0.44211798585853551,88.564161303371606,5.3420643556226624E-2,-7.5621320407768104,-4.5613705852378403E-3,5.1887352787312241E-2,0.50009999999999999,{"$f":"Snitkræfter!$D$44*0.1*$Q$6*C135*$B$6^2/B135+$R$6","v":2.811927587258648E-5},5.1873290337448363E-2,0.5,0.85152043285687651,6.0400539694939304E-2,6.0400539694939304E-2,-0.50009999999999999,3.6240323816963582E-3,2.8992259053570869E-2,{"$f":"Z134+IF(C133=C134,0,(C135-C134)*(Z134-Z133)/(C134-C133))","v":0},0]
[null,0.51876676413487111,{"$f":"IF(OR(C135=C134,ABS($Q$111-Q135)<0.00005*$Q$111),C135,MAX(IF(Z135>0,0.98*C135,0.9*C135),MIN($AD$4,IF(Z135>0,1.005*C135,1.05*C135),IF(C135=$AD$4,0.5*(C135+C134),C135+(C135-C134)*(Q135-$Q$111)/(Q134-Q135)))))","v":1.8327637419194957E-4},3.2374689253517344E-2,-6.5155555298976972E-2,2.0291655462048697,1.3419158192517029,0.661314115923896,0.44211873060544077,88.635196636543967,5.3463491059747827E-2,-7.4898620185281155,-4.5177783348113558E-3,5.1970846867397495E-2,0.50009999999999999,{"$f":"Snitkræfter!$D$44*0.1*$Q$6*C136*$B$6^2/B136+$R$6","v":2.8169023303111218E-5},5.1956759538843607E-2,0.5,0.85224952940604526,6.0455735734738746E-2,6.0455735734738746E-2,-0.50009999999999999,3.627344144084325E-3,2.9018753152674603E-2,{"$f":"MIN(Z135+IF(C134=C135,Y135-Z135,IF(ABS(Y135-Z135)<0.001,Y135-Z135,(C136-C135)*(Z135-Z134)/(C135-C134))),0.995)","v":0},0]
[null,0.51876676413487111,1.8327637419194957E-4,3.2374689253517344E-2,-6.5155555298976972E-2,2.0291655462048697,1.3419158192517029,0.661314115923896,0.44211873060544077,88.635196636543967,5.3463491059747827E-2,-7.4898620185281155,-4.5177783348113558E-3,5.1970846867397495E-2,0.50009999999999999,{"$f":"Snitkræfter!$D$44*0.1*$Q$6*C137*$B$6^2/B137+$R$6","v":2.8169023303111218E-5},5.1956759538843607E-2,0.5,0.85224952940604526,6.0455735734738746E-2,6.0455735734738746E-2,-0.50009999999999999,3.627344144084325E-3,2.9018753152674603E-2,{"$f":"MIN(Z136+IF(C135=C136,Y136-Z136,IF(ABS(Y136-Z136)<0.001,Y136-Z136,(C137-C136)*(Z136-Z135)/(C136-C135))),0.995)","v":0},0]
[null,0.51876676413487111,1.8327637419194957E-4,3.2374689253517344E-2,-6.5155555298976972E-2,2.0291655462048697,1.3419158192517029,0.661314115923896,0.44211873060544077,88.635196636543967,5.3463491059747827E-2,-7.4898620185281155,-4.5177783348113558E-3,5.1970846867397495E-2,0.50009999999999999,{"$f":"Snitkræfter!$D$44*0.1*$Q$6*C138*$B$6^2/B138+$R$6","v":2.8169023303111218E-5},5.1956759538843607E-2,0.5,0.85224952940604526,6.0455735734738746E-2,6.0455735734738746E-2,-0.50009999999999999,3.627344144084325E-3,2.9018753152674603E-2,0,0]
[null,0.51876676413487111,1.8327637419194957E-4,3.2374689253517344E-2,-6.5155555298976972E-2,2.0291655462048697,1.3419158192517029,0.661314115923896,0.44211873060544077,88.635196636543967,5.3463491059747827E-2,-7.4898620185281155,-4.5177783348113558E-3,5.1970846867397495E-2,0.50009999999999999,{"$f":"Snitkræfter!$D$44*0.1*$Q$6*C139*$B$6^2/B139+$R$6","v":2.8169023303111218E-5},5.1956759538843607E-2,0.5,0.85224952940604526,6.0455735734738746E-2,6.0455735734738746E-2,-0.50009999999999999,3.627344144084325E-3,2.9018753152674603E-2,0,0]
[null,0.51876676413487111,1.8327637419194957E-4,3.2374689253517344E-2,-6.5155555298976972E-2,2.0291655462048697,1.3419158192517029,0.661314115923896,0.44211873060544077,88.635196636543967,5.3463491059747827E-2,-7.4898620185281155,-4.5177783348113558E-3,5.1970846867397495E-2,0.50009999999999999,{"$f":"Snitkræfter!$D$44*0.1*$Q$6*C140*$B$6^2/B140+$R$6","v":2.8169023303111218E-5},5.1956759538843607E-2,0.5,0.85224952940604526,6.0455735734738746E-2,6.0455735734738746E-2,-0.50009999999999999,3.627344144084325E-3,2.9018753152674603E-2,0,0]
[null,0.51876676413487111,1.8327637419194957E-4,3.2374689253517344E-2,-6.5155555298976972E-2,2.0291655462048697,1.3419158192517029,0.661314115923896,0.44211873060544077,88.635196636543967,5.3463491059747827E-2,-7.4898620185281155,-4.5177783348113558E-3,5.1970846867397495E-2,0.50009999999999999,{"$f":"Snitkræfter!$D$44*0.1*$Q$6*C141*$B$6^2/B141+$R$6","v":2.8169023303111218E-5},5.1956759538843607E-2,0.5,0.85224952940604526,6.0455735734738746E-2,6.0455735734738746E-2,-0.50009999999999999,3.627344144084325E-3,2.9018753152674603E-2,0,0]
[null,0.51876676413487111,1.8327637419194957E-4,3.2374689253517344E-2,-6.5155555298976972E-2,2.0291655462048697,1.3419158192517029,0.661314115923896,0.44211873060544077,88.635196636543967,5.3463491059747827E-2,-7.4898620185281155,-4.5177783348113558E-3,5.1970846867397495E-2,0.50009999999999999,{"$f":"Snitkræfter!$D$44*0.1*$Q$6*C142*$B$6^2/B142+$R$6","v":2.8169023303111218E-5},5.1956759538843607E-2,0.5,0.85224952940604526,6.0455735734738746E-2,6.0455735734738746E-2,-0.50009999999999999,3.627344144084325E-3,2.9018753152674603E-2,0,0]
[null,0.51876676413487111,1.8327637419194957E-4,3.2374689253517344E-2,-6.5155555298976972E-2,2.0291655462048697,1.3419158192517029,0.661314115923896,0.44211873060544077,88.635196636543967,5.3463491059747827E-2,-7.4898620185281155,-4.5177783348113558E-3,5.1970846867397495E-2,0.50009999999999999,{"$f":"Snitkræfter!$D$44*0.1*$Q$6*C143*$B$6^2/B143+$R$6","v":2.8169023303111218E-5},5.1956759538843607E-2,0.5,0.85224952940604526,6.0455735734738746E-2,6.0455735734738746E-2,-0.50009999999999999,3.627344144084325E-3,2.9018753152674603E-2,0,0]
[null,0.51876676413487111,1.8327637419194957E-4,3.2374689253517344E-2,-6.5155555298976972E-2,2.0291655462048697,1.3419158192517029,0.661314115923896,0.44211873060544077,88.635196636543967,5.3463491059747827E-2,-7.4898620185281155,-4.5177783348113558E-3,5.1970846867397495E-2,0.50009999999999999,{"$f":"Snitkræfter!$D$44*0.1*$Q$6*C144*$B$6^2/B144+$R$6","v":2.8169023303111218E-5},5.1956759538843607E-2,0.5,0.85224952940604526,6.0455735734738746E-2,6.0455735734738746E-2,-0.50009999999999999,3.627344144084325E-3,2.9018753152674603E-2,0,0]
[null,0.51876676413487111,1.8327637419194957E-4,3.2374689253517344E-2,-6.5155555298976972E-2,2.0291655462048697,1.3419158192517029,0.661314115923896,0.44211873060544077,88.635196636543967,5.3463491059747827E-2,-7.4898620185281155,-4.5177783348113558E-3,5.1970846867397495E-2,0.50009999999999999,{"$f":"Snitkræfter!$D$44*0.1*$Q$6*C145*$B$6^2/B145+$R$6","v":2.8169023303111218E-5},5.1956759538843607E-2,0.5,0.85224952940604526,6.0455735734738746E-2,6.0455735734738746E-2,-0.50009999999999999,3.627344144084325E-3,2.9018753152674603E-2,0,0]
[null,0.51876676413487111,1.8327637419194957E-4,3.2374689253517344E-2,-6.5155555298976972E-2,2.0291655462048697,1.3419158192517029,0.661314115923896,0.44211873060544077,88.635196636543967,5.3463491059747827E-2,-7.4898620185281155,-4.5177783348113558E-3,5.1970846867397495E-2,0.50009999999999999,{"$f":"Snitkræfter!$D$44*0.1*$Q$6*C146*$B$6^2/B146+$R$6","v":2.8169023303111218E-5},5.1956759538843607E-2,0.5,0.85224952940604526,6.0455735734738746E-2,6.0455735734738746E-2,-0.50009999999999999,3.627344144084325E-3,2.9018753152674603E-2,0,0]
[null,0.51876676413487111,1.8327637419194957E-4,3.2374689253517344E-2,-6.5155555298976972E-2,2.0291655462048697,1.3419158192517029,0.661314115923896,0.44211873060544077,88.635196636543967,5.3463491059747827E-2,-7.4898620185281155,-4.5177783348113558E-3,5.1970846867397495E-2,0.50009999999999999,{"$f":"Snitkræfter!$D$44*0.1*$Q$6*C147*$B$6^2/B147+$R$6","v":2.8169023303111218E-5},5.1956759538843607E-2,0.5,0.85224952940604526,6.0455735734738746E-2,6.0455735734738746E-2,-0.50009999999999999,3.627344144084325E-3,2.9018753152674603E-2,0,0]
[null,0.51876676413487111,1.8327637419194957E-4,3.2374689253517344E-2,-6.5155555298976972E-2,2.0291655462048697,1.3419158192517029,0.661314115923896,0.44211873060544077,88.635196636543967,5.3463491059747827E-2,-7.4898620185281155,-4.5177783348113558E-3,5.1970846867397495E-2,0.50009999999999999,{"$f":"Snitkræfter!$D$44*0.1*$Q$6*C148*$B$6^2/B148+$R$6","v":2.8169023303111218E-5},5.1956759538843607E-2,0.5,0.85224952940604526,6.0455735734738746E-2,6.0455735734738746E-2,-0.50009999999999999,3.627344144084325E-3,2.9018753152674603E-2,0,0]
[null,0.51876676413487111,1.8327637419194957E-4,3.2374689253517344E-2,-6.5155555298976972E-2,2.0291655462048697,1.3419158192517029,0.661314115923896,0.44211873060544077,88.635196636543967,5.3463491059747827E-2,-7.4898620185281155,-4.5177783348113558E-3,5.1970846867397495E-2,0.50009999999999999,{"$f":"Snitkræfter!$D$44*0.1*$Q$6*C149*$B$6^2/B149+$R$6","v":2.8169023303111218E-5},5.1956759538843607E-2,0.5,0.85224952940604526,6.0455735734738746E-2,6.0455735734738746E-2,-0.50009999999999999,3.627344144084325E-3,2.9018753152674603E-2,{"$f":"MIN(Z148+IF(C147=C148,Y148-Z148,IF(ABS(Y148-Z148)<0.001,Y148-Z148,(C149-C148)*(Z148-Z147)/(C148-C147))),0.995)","v":0},0]
[null,0.51876676413487111,1.8327637419194957E-4,3.2374689253517344E-2,-6.5155555298976972E-2,2.0291655462048697,1.3419158192517029,0.661314115923896,0.44211873060544077,88.635196636543967,5.3463491059747827E-2,-7.4898620185281155,-4.5177783348113558E-3,5.1970846867397495E-2,0.50009999999999999,{"$f":"Snitkræfter!$D$44*0.1*$Q$6*C150*$B$6^2/B150+$R$6","v":2.8169023303111218E-5},5.1956759538843607E-2,0.5,0.85224952940604526,6.0455735734738746E-2,6.0455735734738746E-2,-0.50009999999999999,3.627344144084325E-3,2.9018753152674603E-2,{"$f":"MIN(Z149+IF(C148=C149,Y149-Z149,IF(ABS(Y149-Z149)<0.001,Y149-Z149,(C150-C149)*(Z149-Z148)/(C149-C148))),0.995)","v":0},0]
[null,0.51876676413487111,1.8327637419194957E-4,3.2374689253517344E-2,-6.5155555298976972E-2,2.0291655462048697,1.3419158192517029,0.661314115923896,0.44211873060544077,88.635196636543967,5.3463491059747827E-2,-7.4898620185281155,-4.5177783348113558E-3,5.1970846867397495E-2,0.50009999999999999,{"$f":"Snitkræfter!$D$44*0.1*$Q$6*C151*$B$6^2/B151+$R$6","v":2.8169023303111218E-5},5.1956759538843607E-2,0.5,0.85224952940604526,6.0455735734738746E-2,6.0455735734738746E-2,-0.50009999999999999,3.627344144084325E-3,2.9018753152674603E-2,0,0]
[null,0.51876676413487111,1.8327637419194957E-4,3.2374689253517344E-2,-6.5155555298976972E-2,2.0291655462048697,1.3419158192517029,0.661314115923896,0.44211873060544077,88.635196636543967,5.3463491059747827E-2,-7.4898620185281155,-4.5177783348113558E-3,5.1970846867397495E-2,0.50009999999999999,{"$f":"Snitkræfter!$D$44*0.1*$Q$6*C152*$B$6^2/B152+$R$6","v":2.8169023303111218E-5},5.1956759538843607E-2,0.5,0.85224952940604526,6.0455735734738746E-2,6.0455735734738746E-2,-0.50009999999999999,3.627344144084325E-3,2.9018753152674603E-2,0,0]
[null,0.51876676413487111,1.8327637419194957E-4,3.2374689253517344E-2,-6.5155555298976972E-2,2.0291655462048697,1.3419158192517029,0.661314115923896,0.44211873060544077,88.635196636543967,5.3463491059747827E-2,-7.4898620185281155,-4.5177783348113558E-3,5.1970846867397495E-2,0.50009999999999999,{"$f":"Snitkræfter!$D$44*0.1*$Q$6*C153*$B$6^2/B153+$R$6","v":2.8169023303111218E-5},5.1956759538843607E-2,0.5,0.85224952940604526,6.0455735734738746E-2,6.0455735734738746E-2,-0.50009999999999999,3.627344144084325E-3,2.9018753152674603E-2,0,0]
[null,0.51876676413487111,1.8327637419194957E-4,3.2374689253517344E-2,-6.5155555298976972E-2,2.0291655462048697,1.3419158192517029,0.661314115923896,0.44211873060544077,88.635196636543967,5.3463491059747827E-2,-7.4898620185281155,-4.5177783348113558E-3,5.1970846867397495E-2,0.50009999999999999,{"$f":"Snitkræfter!$D$44*0.1*$Q$6*C154*$B$6^2/B154+$R$6","v":2.8169023303111218E-5},5.1956759538843607E-2,0.5,0.85224952940604526,6.0455735734738746E-2,6.0455735734738746E-2,-0.50009999999999999,3.627344144084325E-3,2.9018753152674603E-2,0,0]
[null,0.51876676413487111,1.8327637419194957E-4,3.2374689253517344E-2,-6.5155555298976972E-2,2.0291655462048697,1.3419158192517029,0.661314115923896,0.44211873060544077,88.635196636543967,5.3463491059747827E-2,-7.4898620185281155,-4.5177783348113558E-3,5.1970846867397495E-2,0.50009999999999999,{"$f":"Snitkræfter!$D$44*0.1*$Q$6*C155*$B$6^2/B155+$R$6","v":2.8169023303111218E-5},5.1956759538843607E-2,0.5,0.85224952940604526,6.0455735734738746E-2,6.0455735734738746E-2,-0.50009999999999999,3.627344144084325E-3,2.9018753152674603E-2,0,0]
[null,0.51876676413487111,1.8327637419194957E-4,3.2374689253517344E-2,-6.5155555298976972E-2,2.0291655462048697,1.3419158192517029,0.661314115923896,0.44211873060544077,88.635196636543967,5.3463491059747827E-2,-7.4898620185281155,-4.5177783348113558E-3,5.1970846867397495E-2,0.50009999999999999,{"$f":"Snitkræfter!$D$44*0.1*$Q$6*C156*$B$6^2/B156+$R$6","v":2.8169023303111218E-5},5.1956759538843607E-2,0.5,0.85224952940604526,6.0455735734738746E-2,6.0455735734738746E-2,-0.50009999999999999,3.627344144084325E-3,2.9018753152674603E-2,0,0]
[null,0.51876676413487111,1.8327637419194957E-4,3.2374689253517344E-2,-6.5155555298976972E-2,2.0291655462048697,1.3419158192517029,0.661314115923896,0.44211873060544077,88.635196636543967,5.3463491059747827E-2,-7.4898620185281155,-4.5177783348113558E-3,5.1970846867397495E-2,0.50009999999999999,{"$f":"Snitkræfter!$D$44*0.1*$Q$6*C157*$B$6^2/B157+$R$6","v":2.8169023303111218E-5},5.1956759538843607E-2,0.5,0.85224952940604526,6.0455735734738746E-2,6.0455735734738746E-2,-0.50009999999999999,3.627344144084325E-3,2.9018753152674603E-2,0,0]
[null,{"$f":"0.5*(-(T158+U158+V158)+SQRT((T158+U158+V158)^2+4*S158*(W158+X158)))/S158","v":0.51876676413487111},1.8327637419194957E-4,3.2374689253517344E-2,-6.5155555298976972E-2,2.0291655462048697,1.3419158192517029,0.661314115923896,0.44211873060544077,88.635196636543967,5.3463491059747827E-2,-7.4898620185281155,-4.5177783348113558E-3,5.1970846867397495E-2,0.50009999999999999,{"$f":"Snitkræfter!$D$44*0.1*$Q$6*C158*$B$6^2/B158+$R$6","v":2.8169023303111218E-5},5.1956759538843607E-2,0.5,0.85224952940604526,6.0455735734738746E-2,6.0455735734738746E-2,-0.50009999999999999,3.627344144084325E-3,2.9018753152674603E-2,0,0]
[null,{"$f":"0.5*(-(T159+U159+V159)+SQRT((T159+U159+V159)^2+4*S159*(W159+X159)))/S159","v":0.51876676413487111},1.8327637419194957E-4,3.2374689253517344E-2,-6.5155555298976972E-2,2.0291655462048697,1.3419158192517029,0.661314115923896,0.44211873060544077,88.635196636543967,5.3463491059747827E-2,-7.4898620185281155,-4.5177783348113558E-3,5.1970846867397495E-2,0.50009999999999999,{"$f":"Snitkræfter!$D$44*0.1*$Q$6*C159*$B$6^2/B159+$R$6","v":2.8169023303111218E-5},5.1956759538843607E-2,0.5,0.85224952940604526,6.0455735734738746E-2,6.0455735734738746E-2,-0.50009999999999999,3.627344144084325E-3,2.9018753152674603E-2,0,0]
[null,0.51876676413487111,1.8327637419194957E-4,3.2374689253517344E-2,-6.5155555298976972E-2,2.0291655462048697,1.3419158192517029,0.661314115923896,0.44211873060544077,88.635196636543967,5.3463491059747827E-2,-7.4898620185281155,-4.5177783348113558E-3,5.1970846867397495E-2,0.50009999999999999,{"$f":"Snitkræfter!$D$44*0.1*$Q$6*C160*$B$6^2/B160+$R$6","v":2.8169023303111218E-5},5.1956759538843607E-2,0.5,0.85224952940604526,6.0455735734738746E-2,6.0455735734738746E-2,-0.50009999999999999,3.627344144084325E-3,2.9018753152674603E-2,0,0]
[null,0.51876676413487111,1.8327637419194957E-4,3.2374689253517344E-2,-6.5155555298976972E-2,2.0291655462048697,1.3419158192517029,0.661314115923896,0.44211873060544077,88.635196636543967,5.3463491059747827E-2,-7.4898620185281155,-4.5177783348113558E-3,5.1970846867397495E-2,0.50009999999999999,{"$f":"Snitkræfter!$D$44*0.1*$Q$6*C161*$B$6^2/B161+$R$6","v":2.8169023303111218E-5},5.1956759538843607E-2,0.5,0.85224952940604526,6.0455735734738746E-2,6.0455735734738746E-2,-0.50009999999999999,3.627344144084325E-3,2.9018753152674603E-2,0,0]
[null,0.51876676413487111,1.8327637419194957E-4,3.2374689253517344E-2,-6.5155555298976972E-2,2.0291655462048697,1.3419158192517029,0.661314115923896,0.44211873060544077,88.635196636543967,5.3463491059747827E-2,-7.4898620185281155,-4.5177783348113558E-3,5.1970846867397495E-2,0.50009999999999999,{"$f":"Snitkræfter!$D$44*0.1*$Q$6*C162*$B$6^2/B162+$R$6","v":2.8169023303111218E-5},5.1956759538843607E-2,0.5,0.85224952940604526,6.0455735734738746E-2,6.0455735734738746E-2,-0.50009999999999999,3.627344144084325E-3,2.9018753152674603E-2,0,0]
[null,0.51876676413487111,1.8327637419194957E-4,3.2374689253517344E-2,-6.5155555298976972E-2,2.0291655462048697,1.3419158192517029,0.661314115923896,0.44211873060544077,88.635196636543967,5.3463491059747827E-2,-7.4898620185281155,-4.5177783348113558E-3,5.1970846867397495E-2,0.50009999999999999,{"$f":"Snitkræfter!$D$44*0.1*$Q$6*C163*$B$6^2/B163+$R$6","v":2.8169023303111218E-5},5.1956759538843607E-2,0.5,0.85224952940604526,6.0455735734738746E-2,6.0455735734738746E-2,-0.50009999999999999,3.627344144084325E-3,2.9018753152674603E-2,0,0]
[null,0.51876676413487111,1.8327637419194957E-4,3.2374689253517344E-2,-6.5155555298976972E-2,2.0291655462048697,1.3419158192517029,0.661314115923896,0.44211873060544077,88.635196636543967,5.3463491059747827E-2,-7.4898620185281155,-4.5177783348113558E-3,5.1970846867397495E-2,0.50009999999999999,{"$f":"Snitkræfter!$D$44*0.1*$Q$6*C164*$B$6^2/B164+$R$6","v":2.8169023303111218E-5},5.1956759538843607E-2,0.5,0.85224952940604526,6.0455735734738746E-2,6.0455735734738746E-2,-0.50009999999999999,3.627344144084325E-3,2.9018753152674603E-2,0,0]
[null,0.51876676413487111,1.8327637419194957E-4,3.2374689253517344E-2,-6.5155555298976972E-2,2.0291655462048697,1.3419158192517029,0.661314115923896,0.44211873060544077,88.635196636543967,5.3463491059747827E-2,-7.4898620185281155,-4.5177783348113558E-3,{"$f":"(0.5*$C$6-B165+H165*B165)*I165+(0.5*$C$6-$I$106)*K165+(0.5*$C$6-$M$106)*M165","v":5.1970846867397495E-2},0.50009999999999999,{"$f":"Snitkræfter!$D$44*0.1*$Q$6*C165*$B$6^2/B165+$R$6","v":2.8169023303111218E-5},5.1956759538843607E-2,0.5,0.85224952940604526,6.0455735734738746E-2,6.0455735734738746E-2,-0.50009999999999999,3.627344144084325E-3,2.9018753152674603E-2,0,0]
[null,0.51876676413487111,1.8327637419194957E-4,3.2374689253517344E-2,-6.5155555298976972E-2,2.0291655462048697,1.3419158192517029,0.661314115923896,0.44211873060544077,88.635196636543967,5.3463491059747827E-2,-7.4898620185281155,-4.5177783348113558E-3,5.1970846867397495E-2,0.50009999999999999,{"$f":"Snitkræfter!$D$44*0.1*$Q$6*C166*$B$6^2/B166+$R$6","v":2.8169023303111218E-5},5.1956759538843607E-2,0.5,0.85224952940604526,6.0455735734738746E-2,6.0455735734738746E-2,-0.50009999999999999,3.627344144084325E-3,2.9018753152674603E-2,0,0]
[null,0.51876676413487111,1.8327637419194957E-4,3.2374689253517344E-2,-6.5155555298976972E-2,2.0291655462048697,1.3419158192517029,0.661314115923896,0.44211873060544077,88.635196636543967,5.3463491059747827E-2,-7.4898620185281155,-4.5177783348113558E-3,5.1970846867397495E-2,0.50009999999999999,{"$f":"Snitkræfter!$D$44*0.1*$Q$6*C167*$B$6^2/B167+$R$6","v":2.8169023303111218E-5},5.1956759538843607E-2,0.5,0.85224952940604526,6.0455735734738746E-2,6.0455735734738746E-2,-0.50009999999999999,3.627344144084325E-3,2.9018753152674603E-2,0,0]
[null,0.51876676413487111,1.8327637419194957E-4,3.2374689253517344E-2,-6.5155555298976972E-2,2.0291655462048697,1.3419158192517029,0.661314115923896,0.44211873060544077,88.635196636543967,5.3463491059747827E-2,-7.4898620185281155,-4.5177783348113558E-3,5.1970846867397495E-2,0.50009999999999999,{"$f":"Snitkræfter!$D$44*0.1*$Q$6*C168*$B$6^2/B168+$R$6","v":2.8169023303111218E-5},5.1956759538843607E-2,0.5,0.85224952940604526,6.0455735734738746E-2,6.0455735734738746E-2,-0.50009999999999999,3.627344144084325E-3,2.9018753152674603E-2,0,0]
[null,0.51876676413487111,1.8327637419194957E-4,3.2374689253517344E-2,-6.5155555298976972E-2,2.0291655462048697,1.3419158192517029,0.661314115923896,0.44211873060544077,88.635196636543967,5.3463491059747827E-2,-7.4898620185281155,-4.5177783348113558E-3,5.1970846867397495E-2,0.50009999999999999,{"$f":"Snitkræfter!$D$44*0.1*$Q$6*C169*$B$6^2/B169+$R$6","v":2.8169023303111218E-5},5.1956759538843607E-2,0.5,0.85224952940604526,6.0455735734738746E-2,6.0455735734738746E-2,-0.50009999999999999,3.627344144084325E-3,2.9018753152674603E-2,0,0]
[null,0.51876676413487111,1.8327637419194957E-4,3.2374689253517344E-2,-6.5155555298976972E-2,2.0291655462048697,1.3419158192517029,0.661314115923896,0.44211873060544077,88.635196636543967,5.3463491059747827E-2,-7.4898620185281155,-4.5177783348113558E-3,5.1970846867397495E-2,0.50009999999999999,{"$f":"Snitkræfter!$D$44*0.1*$Q$6*C170*$B$6^2/B170+$R$6","v":2.8169023303111218E-5},5.1956759538843607E-2,0.5,0.85224952940604526,6.0455735734738746E-2,6.0455735734738746E-2,-0.50009999999999999,3.627344144084325E-3,2.9018753152674603E-2,0,0]
[null,0.51876676413487111,1.8327637419194957E-4,3.2374689253517344E-2,-6.5155555298976972E-2,2.0291655462048697,1.3419158192517029,0.661314115923896,0.44211873060544077,88.635196636543967,5.3463491059747827E-2,-7.4898620185281155,-4.5177783348113558E-3,5.1970846867397495E-2,0.50009999999999999,{"$f":"Snitkræfter!$D$44*0.1*$Q$6*C171*$B$6^2/B171+$R$6","v":2.8169023303111218E-5},5.1956759538843607E-2,0.5,0.85224952940604526,6.0455735734738746E-2,6.0455735734738746E-2,-0.50009999999999999,3.627344144084325E-3,2.9018753152674603E-2,0,0]
[null,0.51876676413487111,1.8327637419194957E-4,3.2374689253517344E-2,-6.5155555298976972E-2,2.0291655462048697,1.3419158192517029,0.661314115923896,0.44211873060544077,88.635196636543967,5.3463491059747827E-2,-7.4898620185281155,-4.5177783348113558E-3,5.1970846867397495E-2,0.50009999999999999,{"$f":"Snitkræfter!$D$44*0.1*$Q$6*C172*$B$6^2/B172+$R$6","v":2.8169023303111218E-5},5.1956759538843607E-2,0.5,0.85224952940604526,6.0455735734738746E-2,6.0455735734738746E-2,-0.50009999999999999,3.627344144084325E-3,2.9018753152674603E-2,0,0]
[null,0.51876676413487111,1.8327637419194957E-4,3.2374689253517344E-2,-6.5155555298976972E-2,2.0291655462048697,1.3419158192517029,0.661314115923896,0.44211873060544077,88.635196636543967,5.3463491059747827E-2,-7.4898620185281155,-4.5177783348113558E-3,5.1970846867397495E-2,0.50009999999999999,{"$f":"Snitkræfter!$D$44*0.1*$Q$6*C173*$B$6^2/B173+$R$6","v":2.8169023303111218E-5},5.1956759538843607E-2,0.5,0.85224952940604526,6.0455735734738746E-2,6.0455735734738746E-2,-0.50009999999999999,3.627344144084325E-3,2.9018753152674603E-2,0,0]
[null,0.51876676413487111,1.8327637419194957E-4,3.2374689253517344E-2,-6.5155555298976972E-2,2.0291655462048697,1.3419158192517029,0.661314115923896,0.44211873060544077,88.635196636543967,5.3463491059747827E-2,-7.4898620185281155,-4.5177783348113558E-3,5.1970846867397495E-2,0.50009999999999999,{"$f":"Snitkræfter!$D$44*0.1*$Q$6*C174*$B$6^2/B174+$R$6","v":2.8169023303111218E-5},5.1956759538843607E-2,0.5,0.85224952940604526,6.0455735734738746E-2,6.0455735734738746E-2,-0.50009999999999999,3.627344144084325E-3,2.9018753152674603E-2,0,0]
[null,0.51876676413487111,1.8327637419194957E-4,3.2374689253517344E-2,-6.5155555298976972E-2,2.0291655462048697,1.3419158192517029,0.661314115923896,0.44211873060544077,88.635196636543967,5.3463491059747827E-2,-7.4898620185281155,-4.5177783348113558E-3,5.1970846867397495E-2,0.50009999999999999,{"$f":"Snitkræfter!$D$44*0.1*$Q$6*C175*$B$6^2/B175+$R$6","v":2.8169023303111218E-5},5.1956759538843607E-2,0.5,0.85224952940604526,6.0455735734738746E-2,6.0455735734738746E-2,-0.50009999999999999,3.627344144084325E-3,2.9018753152674603E-2,0,0]
[null,0.51876676413487111,1.8327637419194957E-4,3.2374689253517344E-2,-6.5155555298976972E-2,2.0291655462048697,1.3419158192517029,0.661314115923896,0.44211873060544077,88.635196636543967,5.3463491059747827E-2,-7.4898620185281155,-4.5177783348113558E-3,5.1970846867397495E-2,0.50009999999999999,{"$f":"Snitkræfter!$D$44*0.1*$Q$6*C176*$B$6^2/B176+$R$6","v":2.8169023303111218E-5},5.1956759538843607E-2,0.5,0.85224952940604526,6.0455735734738746E-2,6.0455735734738746E-2,-0.50009999999999999,3.627344144084325E-3,2.9018753152674603E-2,0,0]
[null,0.51876676413487111,1.8327637419194957E-4,3.2374689253517344E-2,-6.5155555298976972E-2,2.0291655462048697,1.3419158192517029,0.661314115923896,0.44211873060544077,88.635196636543967,5.3463491059747827E-2,-7.4898620185281155,-4.5177783348113558E-3,5.1970846867397495E-2,0.50009999999999999,{"$f":"Snitkræfter!$D$44*0.1*$Q$6*C177*$B$6^2/B177+$R$6","v":2.8169023303111218E-5},5.1956759538843607E-2,0.5,0.85224952940604526,6.0455735734738746E-2,6.0455735734738746E-2,-0.50009999999999999,3.627344144084325E-3,2.9018753152674603E-2,0,0]
[null,0.51876676413487111,1.8327637419194957E-4,3.2374689253517344E-2,-6.5155555298976972E-2,2.0291655462048697,1.3419158192517029,0.661314115923896,0.44211873060544077,88.635196636543967,5.3463491059747827E-2,-7.4898620185281155,-4.5177783348113558E-3,5.1970846867397495E-2,0.50009999999999999,{"$f":"Snitkræfter!$D$44*0.1*$Q$6*C178*$B$6^2/B178+$R$6","v":2.8169023303111218E-5},5.1956759538843607E-2,0.5,0.85224952940604526,6.0455735734738746E-2,6.0455735734738746E-2,-0.50009999999999999,3.627344144084325E-3,2.9018753152674603E-2,0,0]
[null,null,null,null,null,null,null,null,null,null,null,null,null,null,null,{"$f":"$Q$6*C178/B178","v":9.6601588830971244E-4},null,null,null,null,null,null,null,null,null,null,{"$f":"(N178+$O$2*R178)/($Q$6*C178/B178)","v":53.79916365385413}]
[null,{"$f":"IF(L178=O106,B111,B178)","v":0.51876676413487111},null,null,null,null,null,null,null,null,null,null,null,null,null,null,{"$f":"0.9*Q178","v":4.676108358495925E-2}]
[null,{"$f":"0.5*(-(T181+U181+V181)+SQRT((T181+U181+V181)^2+4*S181*(W181+X181)))/S181","v":0.51876676413487111},{"$f":"IF(L178=O106,C112,C178)","v":1.8327637419194957E-4},{"$f":"IF($C$2=1,C181/($AD$106*$AD$5),2^(1/3)*$AD$5/C181)","v":3.2374689253517344E-2},{"$f":"IF($C$2=1,-($AD$106-2)*C181/$AD$5,3*($AD$5/C181)^2)","v":-6.5155555298976972E-2},{"$f":"IF($C$2=1,0.5*($AD$106*C181*$F$106/$AD$5)*(1-Y181^2+(D181-E181)*(E181^2*(1-Y181^2)+2*E181*(1-Y181)+2*LN((1-E181)/(1-E181*Y181)))/(E181^3)),$F$106*E181*(LN((1-D181+D181^2)/(1+D181)^2)/(6*D181)+ATAN((2-D181)/(D181*3^0.5))/(D181*3^0.5)-LN((Y181^2-D181*Y181+D181^2)/(Y181+D181)^2)/(6*D181)-ATAN((2*Y181-D181)/(D181*3^0.5))/(D181*3^0.5)))","v":2.0291655462048697},{"$f":"IF($C$2=1,($AD$106*C181*$F$106/$AD$5)*(1-Y181^3-(D181-E181)*(-2*E181^3*(1-Y181^3)-3*E181^2*(1-Y181^2)-6*E181*(1-Y181)-6*LN((1-E181)/(1-E181*Y181)))/(2*E181^4))/3,$F$106*E181*(LN((1+D181^3)/(D181^3+Y181^3)))/3)","v":1.3419158192517029},{"$f":"G181/F181","v":0.661314115923896},{"$f":"F181*B181*$D$106","v":0.44211873060544077},{"$f":"MAX(MIN($K$106,$Q$106*$J$106*C181*(B181-$I$106)/B181),-$K$106)","v":88.635196636543967},{"$f":"J181*$H$106","v":5.3463491059747827E-2},{"$f":"MIN($O$106,$Q$106*$N$106*C181*(C$106-B181-$M$106)/B181)","v":-7.4898620185281155},{"$f":"L181*$L$106","v":-4.5177783348113558E-3},{"$f":"(0.5*$C$106-B181+H181*B181)*I181+(0.5*$C$106-$I$106)*K181+(0.5*$C$106-$M$106)*M181","v":5.1970846867397495E-2},{"$f":"I181+K181-M181","v":0.50009999999999999},{"$f":"Snitkræfter!$D$44*0.1*$Q$6*C181*$B$6^2/B181+$R$6","v":2.8169023303111218E-5},{"$f":"N181-P181*O181","v":5.1956759538843607E-2},{"$f":"R178","v":0.5},{"$f":"F181*$D$106","v":0.85224952940604526},{"$f":"IF(ABS(J180)<$K$106,$Q$106*C181*$H$106*$J$106,IF(J180>0,1,-1)*$H$106*$K$106)","v":6.0455735734738746E-2},{"$f":"IF(L178<$O$106,$Q$106*C181*$L$106*$N$106,-$L$106*$O$106)","v":6.0455735734738746E-2},{"$f":"-(R181+0.0001)","v":-0.50009999999999999},{"$f":"IF(ABS(J180)<$K$106,$I$106*$Q$106*C181*$H$106*$J$106,0)","v":3.627344144084325E-3},{"$f":"IF(L178<$O$106,($C$106-$M$106)*$Q$106*C181*$L$106*$N$106,0)","v":2.9018753152674603E-2},{"$f":"IF(B180<$C$106,0,(B180-$C$106)/B180)","v":0},{"$f":"IF(B181<=$C$106,0,(B181-$C$106)/B181)","v":0}]
[null,{"$f":"0.5*(-(T182+U182+V182)+SQRT((T182+U182+V182)^2+4*S182*(W182+X182)))/S182","v":0.57331094297995322},{"$f":"0.9*C181","v":1.6494873677275462E-4},2.9137220328165611E-2,-5.8639999769079278E-2,1.8378145367381644,1.2163463116191375,{"$f":"G182/F182","v":0.66184388430073227},0.44252845773344163,80.764258530005904,4.871585304393472E-2,-14.681528273606077,-8.8556892226236833E-3,4.2060944736569988E-2,{"$f":"I182+K182-M182","v":0.50009999999999999},{"$f":"Snitkræfter!$D$44*0.1*$Q$6*C182*$B$6^2/B182+$R$6","v":2.2940147789007375E-5},{"$f":"N182-P182*O182","v":4.2049472368660704E-2},{"$f":"R181","v":0.5},0.771882105430029,5.4410162161264874E-2,{"$f":"IF(L181<$O$106,$Q$106*C182*$L$106*$N$106,-$L$106*$O$106)","v":5.4410162161264874E-2},{"$f":"-(R182+0.0001)","v":-0.50009999999999999},3.2646097296758925E-3,{"$f":"IF(L181<$O$106,($C$106-$M$106)*$Q$106*C182*$L$106*$N$106,0)","v":2.611687783740714E-2},0,5.8102751025141265E-2]
[null,{"$f":"0.5*(-(T183+U183+V183)+SQRT((T183+U183+V183)^2+4*S183*(W183+X183)))/S183","v":0.54892315877851516},{"$f":"IF(ABS(Q181-Q182)<=0.00001*Q$180,C182,MAX(0.9*C182,MIN($AD$4,1.05*C182,IF(C182=$AD$4,0.5*(C182+C181),C182+(C182-C181)*(Q182-Q$180)/(Q181-Q182)))))","v":1.7319617361139235E-4},3.0594081344573892E-2,-6.157199975753324E-2,1.9173497569071567,1.2728123719624007,{"$f":"G183/F183","v":0.66383943116124622},0.44204062771877173,84.36207884257793,5.08860071296139E-2,-11.892463775860147,-7.1733651516143939E-3,4.6962493399702314E-2,{"$f":"I183+K183-M183","v":0.50009999999999999},{"$f":"Snitkræfter!$D$44*0.1*$Q$6*C183*$B$6^2/B183+$R$6","v":2.5157309230303463E-5},{"$f":"N183-P183*O183","v":4.6949912229356239E-2},{"$f":"R182","v":0.5},0.80528689790100583,5.7130670269328124E-2,5.7130670269328124E-2,{"$f":"-(R183+0.0001)","v":-0.50009999999999999},3.4278402161596871E-3,2.7422721729277497E-2,5.8102751025141265E-2,1.6255752077160093E-2]
[null,0.54827488993442042,1.728783751356921E-4,3.053794412044231E-2,-6.1459021004823242E-2,1.9203674729427054,1.2708935973671638,0.66179708585653663,0.44221349124174719,84.195063988965771,5.0785266143281424E-2,-11.772894419453314,-7.1012426149714182E-3,4.6572451123745105E-2,0.5001000000000001,{"$f":"Snitkræfter!$D$44*0.1*$Q$6*C184*$B$6^2/B184+$R$6","v":2.5140838864845039E-5},4.6559878190228797E-2,0.5,0.80655433863593617,5.7025840933039987E-2,5.7025840933039987E-2,-0.50009999999999999,3.4215504559823996E-3,2.73724036478592E-2,1.6255752077160093E-2,1.5092593307364757E-2]
[null,0.54776236418033264,1.7304231664164643E-4,3.0566903419394102E-2,-6.1517302929616331E-2,1.9221543434703263,1.272019000023324,0.66176735720752544,0.44221119914949647,84.265216964967124,5.0827581421495814E-2,-11.7065414206574,-7.0612194290077266E-3,4.6658999157429666E-2,0.50009999999999999,{"$f":"Snitkræfter!$D$44*0.1*$Q$6*C185*$B$6^2/B185+$R$6","v":2.5188225938953236E-5},4.6646402525637592E-2,0.5,0.80730482425753702,5.7079918848994111E-2,5.7079918848994111E-2,-0.50009999999999999,3.4247951309396472E-3,2.7398361047517181E-2,1.5092593307364757E-2,1.417104329894615E-2]
[null,0.54709570664011087,1.7325960794450132E-4,3.0605286644937679E-2,-6.1594550941323066E-2,1.92447899442558,1.2735096674173454,0.66174256570540724,0.44220716205511129,84.358383145085455,5.0883777937404187E-2,-11.620068193946658,-7.0090600074845253E-3,4.6775125279618301E-2,0.50009999999999999,{"$f":"Snitkræfter!$D$44*0.1*$Q$6*C186*$B$6^2/B186+$R$6","v":2.5250586475895324E-5},4.6762497461321703E-2,0.5,0.80828117765874352,5.7151594784535562E-2,5.7151594784535562E-2,-0.50009999999999999,3.4290956870721341E-3,2.7432765496577072E-2,1.417104329894615E-2,1.2969772114805706E-2]
[null,0.54708685627561082,1.7325696163581383E-4,3.0604819190134497E-2,-6.1593610166971846E-2,1.924517946930608,1.2734924287547715,0.66172021455339003,0.44220895884154882,84.356926585310106,5.088289936124616E-2,-11.618545926188476,-7.008141797204992E-3,4.6771202724289272E-2,0.50009999999999999,{"$f":"Snitkræfter!$D$44*0.1*$Q$6*C187*$B$6^2/B187+$R$6","v":2.5250609285952227E-5},4.6758574894585368E-2,0.5,0.80829753771085533,5.7150721870394897E-2,5.7150721870394897E-2,-0.50009999999999999,3.4290433122236932E-3,2.7432346497789552E-2,1.2969772114805706E-2,1.2953804673458611E-2]
[null,0.54708156604430136,1.7325865409118218E-4,3.0605118152381358E-2,-6.1594211842282302E-2,1.924536469732667,1.2735040430959286,0.66171988066967014,0.44220893882370182,84.357650140427864,5.0883335799411102E-2,-11.617855557938503,-7.0077253768870938E-3,4.6772090717344984E-2,0.50009999999999999,{"$f":"Snitkræfter!$D$44*0.1*$Q$6*C188*$B$6^2/B188+$R$6","v":2.5251100119349879E-5},4.6759462642175301E-2,0.5,0.80830531728772015,5.7151280145485955E-2,5.7151280145485955E-2,-0.50009999999999999,3.4290768087291566E-3,2.7432614469833264E-2,1.2953804673458611E-2,1.2944260022330702E-2]
[null,0.54707216878727416,1.7326174435394108E-4,3.0605664029049712E-2,-6.1595310444254134E-2,1.9245692516823223,1.2735252362647973,0.66171962123554229,0.44220887528964276,84.358976253880982,5.0884135692201272E-2,-11.616634775314195,-7.0069890181560556E-3,4.6773750911772438E-2,0.5001000000000001,{"$f":"Snitkræfter!$D$44*0.1*$Q$6*C189*$B$6^2/B189+$R$6","v":2.5251984256131038E-5},4.676112239444595E-2,0.5,0.80831908570657529,5.7152299502779148E-2,5.7152299502779148E-2,-0.50009999999999999,3.4291379701667491E-3,2.7433103761333993E-2,1.2944260022330702E-2,1.2927305007950599E-2]
[null,0.54707215965841349,1.7326167209525913E-4,3.0605651264980233E-2,-6.1595284755975609E-2,1.9245693929705543,1.273524752452309,0.66171932126938582,0.44220890037445088,84.358940898627736,5.0884114366414927E-2,-11.616628543367183,-7.0069852591341771E-3,4.6773678151086358E-2,0.50009999999999999,{"$f":"Snitkræfter!$D$44*0.1*$Q$6*C190*$B$6^2/B190+$R$6","v":2.5251974146183311E-5},4.6761049638815853E-2,0.5,0.8083191450476328,5.7152275667455038E-2,5.7152275667455038E-2,-0.50009999999999999,3.4291365400473022E-3,2.7433092320378421E-2,1.2927305007950599E-2,1.2927288536907534E-2]
[null,0.54707215943914156,1.7326167209525913E-4,3.0605651264980233E-2,-6.1595284755975609E-2,1.9245693938403481,1.273524752464537,0.66171932097668063,0.4422089003970619,84.35894089446262,5.088411436390259E-2,-11.616628510046226,-7.0069852390354497E-3,4.6773678118689745E-2,0.50009999999999999,{"$f":"Snitkræfter!$D$44*0.1*$Q$6*C191*$B$6^2/B191+$R$6","v":2.5251974156304552E-5},4.6761049606414175E-2,0.5,0.80831914541294614,5.7152275667455038E-2,5.7152275667455038E-2,-0.50009999999999999,3.4291365400473022E-3,2.7433092320378421E-2,1.2927288536907534E-2,1.2927288141279025E-2]
[null,0.54707215943385956,1.7326167209525913E-4,3.0605651264980233E-2,-6.1595284755975609E-2,1.9245693938613004,1.2735247524640803,0.66171932096923936,0.44220890039760663,84.358940894362291,5.0884114363842076E-2,-11.616628509243563,-7.0069852385512953E-3,4.6773678117814944E-2,0.50009999999999999,{"$f":"Snitkræfter!$D$44*0.1*$Q$6*C192*$B$6^2/B192+$R$6","v":2.5251974156548359E-5},4.6761049605539257E-2,0.5,0.8083191454217461,5.7152275667455038E-2,5.7152275667455038E-2,-0.50009999999999999,3.4291365400473022E-3,2.7433092320378421E-2,1.2927288141279025E-2,1.2927288131748812E-2]
[null,0.54707215943372967,1.7326167209525913E-4,3.0605651264980233E-2,-6.1595284755975609E-2,1.9245693938618156,1.2735247524638442,0.66171932096893959,0.44220890039762001,84.358940894359819,5.0884114363840584E-2,-11.616628509223826,-7.0069852385393899E-3,4.6773678117765165E-2,0.50009999999999999,{"$f":"Snitkræfter!$D$44*0.1*$Q$6*C193*$B$6^2/B193+$R$6","v":2.5251974156554356E-5},4.676104960548947E-2,0.5,0.80831914542196248,5.7152275667455038E-2,5.7152275667455038E-2,-0.50009999999999999,3.4291365400473022E-3,2.7433092320378421E-2,1.2927288131748812E-2,1.2927288131514442E-2]
[null,0.54707215943373222,1.7326167209525913E-4,3.0605651264980233E-2,-6.1595284755975609E-2,1.9245693938618056,1.2735247524640869,0.66171932096906916,0.44220890039761979,84.358940894359876,5.0884114363840618E-2,-11.616628509224213,-7.0069852385396232E-3,4.6773678117796064E-2,0.50009999999999999,{"$f":"Snitkræfter!$D$44*0.1*$Q$6*C194*$B$6^2/B194+$R$6","v":2.5251974156554237E-5},4.6761049605520369E-2,0.5,0.80831914542195826,5.7152275667455038E-2,5.7152275667455038E-2,-0.50009999999999999,3.4291365400473022E-3,2.7433092320378421E-2,1.2927288131514442E-2,1.2927288131519049E-2]
[null,0.54707215943367871,1.7326167209525913E-4,3.0605651264980233E-2,-6.1595284755975609E-2,1.9245693938620181,1.2735247524606934,0.66171932096723274,0.44220890039762528,84.358940894358852,5.0884114363840001E-2,-11.616628509216081,-7.0069852385347183E-3,4.6773678117361175E-2,0.50009999999999999,{"$f":"Snitkræfter!$D$44*0.1*$Q$6*C195*$B$6^2/B195+$R$6","v":2.5251974156556707E-5},4.6761049605085481E-2,0.5,0.80831914542204752,5.7152275667455038E-2,5.7152275667455038E-2,-0.50009999999999999,3.4291365400473022E-3,2.7433092320378421E-2,1.2927288131519049E-2,1.2927288131422496E-2]
[null,0.54707215943364351,1.7326167209525913E-4,3.0605651264980233E-2,-6.1595284755975609E-2,1.9245693938621575,1.2735247524585118,0.66171932096605135,0.44220890039762895,84.358940894358184,5.0884114363839598E-2,-11.616628509210733,-7.0069852385314917E-3,4.6773678117081552E-2,0.50009999999999999,{"$f":"Snitkræfter!$D$44*0.1*$Q$6*C196*$B$6^2/B196+$R$6","v":2.5251974156558333E-5},4.6761049604805857E-2,0.5,0.80831914542210614,5.7152275667455038E-2,5.7152275667455038E-2,-0.50009999999999999,3.4291365400473022E-3,2.7433092320378421E-2,1.2927288131422496E-2,1.2927288131358997E-2]
[null,0.54707215943367082,1.7326167209525913E-4,3.0605651264980233E-2,-6.1595284755975609E-2,1.9245693938620489,1.2735247524606936,0.6617193209672223,0.44220890039762606,84.358940894358696,5.0884114363839904E-2,-11.616628509214884,-7.0069852385339958E-3,4.6773678117360024E-2,0.50009999999999999,{"$f":"Snitkræfter!$D$44*0.1*$Q$6*C197*$B$6^2/B197+$R$6","v":2.5251974156557073E-5},4.6761049605084329E-2,0.5,0.80831914542206051,5.7152275667455038E-2,5.7152275667455038E-2,-0.50009999999999999,3.4291365400473022E-3,2.7433092320378421E-2,1.2927288131358997E-2,1.2927288131408275E-2]
[null,0.5470721594337139,1.7326167209525913E-4,3.0605651264980233E-2,-6.1595284755975609E-2,1.9245693938618782,1.2735247524633595,0.66171932096866615,0.44220890039762167,84.35894089435952,5.0884114363840403E-2,-11.61662850922143,-7.006985238537944E-3,4.6773678117701778E-2,0.50009999999999999,{"$f":"Snitkræfter!$D$44*0.1*$Q$6*C198*$B$6^2/B198+$R$6","v":2.5251974156555084E-5},4.6761049605426083E-2,0.5,0.80831914542198879,5.7152275667455038E-2,5.7152275667455038E-2,-0.50009999999999999,3.4291365400473022E-3,2.7433092320378421E-2,1.2927288131408275E-2,1.2927288131485998E-2]
[null,null,null,null,null,null,null,null,null,null,null,null,null,null,null,{"$f":"$Q$6*C198/B198","v":8.6597990934688198E-4},null,null,null,null,null,null,null,null,null,null,{"$f":"(N198+$O$2*R198)/($Q$6*C198/B198)","v":54.012428709781808}]
[]
[]
[null,"Tilstand:",{"$f":"C102","v":1},null,"Navier:","a=",{"$f":"J206*Q206/G206","v":24.323781741718612},"A=",{"$f":"C206*D206+G202*H206+G202*L206","v":0.25614351898648502},"Sy=",{"$f":"-(0.5*C206-I206)*G202*H206+(0.5*C206-M206)*G202*L206","v":0},"Iy=",{"$f":"D206*C206^3/12+(0.5*C206-I206)^2*G202*H206+(0.5*C206-M206)^2*G202*L206","v":6.8052891873039908E-3},"h=",{"$f":"K202/I202","v":0},"Io=",{"$f":"M202-I202*O202^2","v":6.8052891873039908E-3},"EIo=",{"$f":"Q202*G206/Q206","v":55.955848145372805},null,null,null,null,"EImax",{"$f":"M202*V209/Q206","v":44.340862772404321},"MNm2"]
[]
[null,"L","h","b","fck","fcd","Ecd","Ac","ac","Esc","fyd_c","At","at","Est","fyd_t","Modenhed","1+f","uterm","g","Ac","ac","Esc","fyd_c","At","at","Est","fyd_t","   emax",null,{"$f":"IF($C$2=1,0.0035,Firsidig!$G$21)","v":3.5000000000000001E-3}]
[null,"(m)","(m)","(m)","(Mpa)","(Mpa)","(Mpa)","(m2)","(m)","(Mpa)","(Mpa)","(m2)","(m)","(Mpa)","(Mpa)","(døgn)",null,"(m)",null,"(m2)","(m)","(Mpa)","(Mpa)","(m2)","(m)","(Mpa)","(Mpa)","e1",null,{"$f":"IF($C$2=1,0.7*(E206+8)^0.31/1000,Firsidig!$F$21)","v":2.0693662482105194E-3}]
[null,{"$f":"B106","v":0.54},{"$f":"C106","v":0.54},{"$f":"D106","v":0.42},{"$f":"E106","v":25},{"$f":"F106","v":17.857142857142858},{"$f":"IF($C$2=1,Kold!AU$23,1.4*F206/AD205)","v":22482.71872144239},{"$f":"IF($W208<0,X206,T206)","v":6.0318578948924026E-4},{"$f":"IF($W208<0,Y206,U206)","v":0.06},{"$f":"IF($W208<0,Z206,V206)","v":200000},{"$f":"IF($W208<0,AA206,W206)","v":458.33333333333337},{"$f":"IF($W208<0,T206,X206)","v":6.0318578948924026E-4},{"$f":"IF($W208<0,U206,Y206)","v":0.06},{"$f":"IF($W208<0,V206,Z206)","v":200000},{"$f":"IF($W208<0,W206,AA206)","v":458.33333333333337},{"$f":"P106","v":28},{"$f":"Q106","v":2.7343237157040781},{"$f":"R106","v":0},{"$f":"S106","v":1.4},{"$f":"T$6","v":6.0318578948924026E-4},{"$f":"U$6","v":0.06},200000,458.33333333333337,6.0318578948924026E-4,0.06,200000,458.33333333333337,"k",null,{"$f":"1.05*G206*AD205/F206","v":2.7356687822616226}]
[]
[null,"Initialt","elasttisk","e_o","sc_o/fcd","sc_u/fcd","sc_o","sc_u","hc","elasttisk","e_o","sc_o/fcd","sc_u/fcd","sc_o","sc_u","hc","At","Ac","Ic","Wt","u_skøn","E",{"$f":"Snitkræfter!D25","v":-0.10763569873471363},{"$f":"-Snitkræfter!C31","v":0},{"$f":"0.5*(MAX(R211-H206*K206,0)+L206*O206)/(D206*F206)","v":0.08},{"$f":"(0.5*C206-Y208)*R211+(C206-M206-Y208)*L206*O206","v":0.33858406140636071},"M_rev"]
[null,"beregning","skøn_1",{"$f":"IF(C202=1,AD205*0.5*(-((AD206-2)*E209-AD206)-(((AD206-2)*E209-AD206)^2-4*E209)^0.5),G209/(1.4*F206/AD205))","v":5.5132957481872206E-4},{"$f":"MIN(0.9999,G209/F206)","v":0.55005586571949028},{"$f":"H209/F206","v":-2.5350026853072E-2},{"$f":"R211/Q209+(Q211+$O$2*R211+R211*R206)/T209","v":9.8224261735623273},{"$f":"R211/Q209-(Q211+$O$2*R211+R211*R206)/T209","v":-0.45267905094771432},{"$f":"IF(G209=H209,100*C206,C206*G209/(G209-H209))","v":0.51620981175660685},"skøn_2",{"$f":"IF(C202=1,AD205*0.5*(-((AD206-2)*L209-AD206)-(((AD206-2)*L209-AD206)^2-4*L209)^0.5),G209/(1.4*F206/AD205))","v":5.5161783313216093E-4},{"$f":"MIN(0.9999,N209/F206)","v":0.55026526299285916},{"$f":"O209/F206","v":-2.5559424126440817E-2},{"$f":"R211/Q209+(Q211+$O$2*R211+R211*U209)/T209","v":9.8261654105867713},{"$f":"R211/Q209-(Q211+$O$2*R211+R211*U209)/T209","v":-0.45641828797215744},{"$f":"IF(N209=O209,100*C206,C206*N209/(N209-O209))","v":0.51603074453558728},{"$f":"R209+Q206*(H206+L206)*N206/G206","v":0.25614351898648502},{"$f":"C206*D206","v":0.2268},{"$f":"D206*C206^3/12","v":5.5112400000000006E-3},{"$f":"(S209+((0.5*C206-I206)^2*H206+(0.5*C206-M206)^2*L206)*Q206)/(0.5*C206)","v":2.0950773034997532E-2},{"$f":"Q211/(10*AA231/B206^2-R211)+R206","v":6.5283255185983691E-5},{"$f":"G209/D209","v":17815.888394508773},null,null,null,null,{"$f":"R211*T209/Q209+IF(SIGN(W208)=1,-R211*$O$2,+R211*$O$2)","v":9.8151722680609982E-2}]
[null,"hc","e0","a'","b'","N'","tN'","t'","Nc","sac","Nac","sat","Nat","Mtot","N","u","Mo","N","A","B1","B2","B3","C1","C2","gættet x","beregnet x","EIt"]
[null,{"$f":"I209","v":0.51620981175660685},null,null,null,null,null,null,null,null,null,null,null,null,null,null,{"$f":"MAX(MIN(ABS(W208),Z208,0.9*$Q$433),MIN($C$6*$D$6*0.025*$C$6*$F$6,$C$6*0.15*L206*K206),(0.01-$O$2)*R211,AA209)","v":0.10763569873471363},{"$f":"Snitkræfter!D5","v":1.2}]
[null,{"$f":"0.5*(-(T212+U212+V212)+SQRT((T212+U212+V212)^2+4*S212*(W212+X212)))/S212","v":0.46265386825779592},{"$f":"MIN(D209,AD205)","v":5.5132957481872206E-4},{"$f":"IF($C$2=1,C212/($AD$6*$AD$5),2^(1/3)*$AD$5/C212)","v":9.7389113789081008E-2},{"$f":"IF($C$2=1,-($AD$6-2)*C212/$AD$5,3*($AD$5/C212)^2)","v":-0.19600008325372356},{"$f":"IF($C$2=1,0.5*($AD$6*C212*$F$6/$AD$5)*(1-Y212^2+(D212-E212)*(E212^2*(1-Y212^2)+2*E212*(1-Y212)+2*LN((1-E212)/(1-E212*Y212)))/(E212^3)),$F$6*E212*(LN((1-D212+D212^2)/(1+D212)^2)/(6*D212)+ATAN((2-D212)/(D212*3^0.5))/(D212*3^0.5)-LN((Y212^2-D212*Y212+D212^2)/(Y212+D212)^2)/(6*D212)-ATAN((2*Y212-D212)/(D212*3^0.5))/(D212*3^0.5)))","v":5.3966160978501083},{"$f":"IF($C$2=1,($AD$6*C212*$F$6/$AD$5)*(1-Y212^3-(D212-E212)*(-2*E212^3*(1-Y212^3)-3*E212^2*(1-Y212^2)-6*E212*(1-Y212)-6*LN((1-E212)/(1-E212*Y212)))/(2*E212^4))/3,$F$6*E212*(LN((1+D212^3)/(D212^3+Y212^3)))/3)","v":3.5125032671160863},{"$f":"G212/F212","v":0.65087143562340655},{"$f":"F212*B212*$D$6","v":1.0486414315325108},{"$f":"MAX(MIN($K$206,$Q$206*$J$206*C212*(B212-$I$206)/B212),-$K$206)","v":262.40185010614488},{"$f":"J212*$H$206","v":0.15827706711971229},{"$f":"MIN($O$206,$Q$206*$N$206*C212*(C$206-B212-$M$206)/B212)","v":11.304143385070185},{"$f":"L212*$L$206","v":6.8184986522231324E-3},{"$f":"(0.5*$C$6-B212+H212*B212)*I212+(0.5*$C$6-$I$206)*K212+(0.5*$C$6-$M$206)*M212","v":0.14842073415301921},{"$f":"I212+K212-M212","v":1.2000999999999999},0,{"$f":"N212-P212*O212","v":0.14842073415301921},{"$f":"$R$211","v":1.2},{"$f":"F212*$D$206","v":2.2665787610970454},{"$f":"IF(ABS(J211)<$K$206,$Q$206*C212*$H$206*$J$206,IF(J211<0,1,-1)*$H$206*$K$206)","v":0.18186214794427444},{"$f":"IF(L211<$O$206,$Q$206*C212*$L$206*$N$206,-$L$206*$O$206)","v":0.18186214794427444},{"$f":"-(R212+0.0001)","v":-1.2000999999999999},{"$f":"IF(ABS(J211)<$K$206,$I$206*$Q$206*C212*$H$206*$J$206,0)","v":1.0911728876656467E-2},{"$f":"IF(L211<$O$206,($C$206-$M$206)*$Q$206*C212*$L$206*$N$206,0)","v":8.7293831013251749E-2},{"$f":"IF(B211<$C$6,0,(B211-$C$6)/B211)","v":0},{"$f":"IF(AND(B212<=$C$6,B212>0),0,(B212-$C$6)/B212)","v":0}]
[null,{"$f":"0.5*(-(T213+U213+V213)+SQRT((T213+U213+V213)^2+4*S213*(W213+X213)))/S213","v":0.48233419181951459},{"$f":"0.95*C212","v":5.2376309607778592E-4},9.251965809962695E-2,-0.18620007909103736,5.1731889624027989,3.3710727616785952,0.65164307474143146,1.0479864852702787,{"$f":"MAX(MIN($K$206,$Q$206*$J$206*C213*(B213-$I$206)/B213),-$K$206)","v":250.79739061860963},0.15127742206212744,-1.3861279263596311,-8.3609266759431759E-4,0.13846167110316657,1.2001000000000004,0,0.13846167110316657,{"$f":"$R$211","v":1.2},2.1727393642091752,{"$f":"IF(ABS(J212)<$K$206,$Q$206*C213*$H$206*$J$206,IF(J212<0,1,-1)*$H$206*$K$206)","v":0.17276904054706069},0.17276904054706069,{"$f":"-(R213+0.0001)","v":-1.2000999999999999},{"$f":"IF(ABS(J212)<$K$206,$I$206*$Q$206*C213*$H$206*$J$206,0)","v":1.0366142432823642E-2},8.292913946258916E-2,{"$f":"Z212","v":0},{"$f":"IF(AND(B213<=$C$6,B213>0),0,(B213-$C$6)/B213)","v":0}]
[null,0.52701085292937888,{"$f":"IF(ABS($Q$211-Q213)<0.00001*$Q$211,C213,MAX(0.9*C213,MIN($AD$4,1.05*C213,IF(C213=$AD$4,0.5*(C213+C212),C213+(C213-C212)*(Q213-$Q$211)/(Q212-Q213)))))","v":4.7138678647000735E-4},8.3267692289664269E-2,-0.16758007118193363,4.7366886278781495,3.0935930974406549,0.65311303749903926,1.0484402518123603,228.43610362833391,0.13778941151490248,-22.995131706405743,-1.387033667273741E-2,0.11743316257757691,1.2001000000000004,0,0.11743316257757691,1.2,1.9894092237088228,0.15549213649235466,0.15549213649235466,-1.2000999999999999,9.3295281895412786E-3,7.4636225516330243E-2,{"$f":"Z213+IF(C212=C213,0,(C214-C213)*(Z213-Z212)/(C213-C212))","v":0},0]
[null,0.55187128899919125,4.4698396213368492E-4,7.8957077469397313E-2,-0.15890476004318721,4.5278232341005165,2.9602897664338568,0.65379976500384274,1.0494857707166863,217.86403274154884,0.13141248859052082,-31.83387445027892,-1.9201740692792846E-2,0.1064127943188715,1.2000999999999999,0,0.1064127943188715,1.2,1.9016857583222169,0.14744259543305338,0.14744259543305338,-1.2000999999999999,8.8465557259832031E-3,7.0772445807865639E-2,{"$f":"Z214+IF(C213=C214,0,(C215-C214)*(Z214-Z213)/(C214-C213))","v":0},2.1510974090932652E-2]
[null,0.54916935278231749,4.4969188631002402E-4,7.9435416284847946E-2,-0.15986743897108938,4.5492404278854792,2.9751858767624966,0.65399618330249143,1.049287437001869,219.05235364575717,0.13212926687329229,-30.974363869976376,-1.86832961248387E-2,0.10775123260657302,1.2000999999999999,0,0.10775123260657302,1.2,1.9106809797119011,0.14833583412307136,0.14833583412307136,-1.2000999999999999,8.900150047384283E-3,7.1201200379074278E-2,1.9123951753082277E-2,1.669676710082554E-2]
[null,0.54937800554297289,4.4945813854020239E-4,7.9394126121590178E-2,-0.15978434061315985,4.5476124161538127,2.9739061839597682,0.65394891028883639,1.0493104604509975,218.94869046287153,0.13206673871448246,-31.039857305613779,-1.872280083452001E-2,0.10762864125500282,1.2000999999999999,0,0.10762864125500282,1.2,1.9099972147846014,0.14825872984019137,0.14825872984019137,-1.2000999999999999,8.8955237904114817E-3,7.1164190323291868E-2,1.711232901250306E-2,1.7070223868362162E-2]
[null,0.54936241776172812,4.4947159520025085E-4,7.9396503161126133E-2,-0.15978912451485908,4.547739806568047,2.9739804596196682,0.65394692443145364,1.0493100809047398,218.95448402361157,0.13207023330799139,-31.034692980947415,-1.8719685787268951E-2,0.10763451436376384,1.2001000000000002,0,0.10763451436376384,1.2,1.9100507187585796,0.14826316866809458,0.14826316866809458,-1.2000999999999999,8.895790120085673E-3,7.1166320960685411E-2,1.704872428029176E-2,1.7042333911142772E-2]
[null,0.54935929050522614,4.4947430886994286E-4,7.9396982514852998E-2,-0.15979008923634305,4.5477653447451569,2.97399543528635,0.6539465451362253,1.0493100001328508,218.95565313258481,0.13207093849791041,-31.033657780779958,-1.8719061369238663E-2,0.10763570404425117,1.2000999999999999,0,0.10763570404425117,1.2,1.9100614447929658,0.14826406380200638,0.14826406380200638,-1.2000999999999999,8.8958438281203835E-3,7.1166750624963068E-2,1.7036709623143746E-2,1.7036738373203259E-2]
[null,0.54935929105421688,4.4947430886994286E-4,7.9396982514852998E-2,-0.15979008923634305,4.5477653395692297,2.9739954351974465,0.65394654586094969,1.0493099999872104,218.9556531594128,0.13207093851409268,-31.033657995403868,-1.8719061498696756E-2,0.10763570422724571,1.2000999999999999,0,0.10763570422724571,1.2,1.9100614426190763,0.14826406380200638,0.14826406380200638,-1.2000999999999999,8.8958438281203835E-3,7.1166750624963068E-2,1.7036738373203259E-2,1.7036739355507081E-2]
[null,0.54935929107299086,4.4947430886994286E-4,7.9396982514852998E-2,-0.15979008923634305,4.5477653393922273,2.9739954351954299,0.65394654588595835,1.0493099999822302,218.95565316033026,0.13207093851464607,-31.033658002743422,-1.8719061503123871E-2,0.10763570423363338,1.2001000000000002,0,0.10763570423363338,1.2,1.9100614425447353,0.14826406380200638,0.14826406380200638,-1.2000999999999999,8.8958438281203835E-3,7.1166750624963068E-2,1.7036739355507081E-2,1.7036739389099186E-2]
[null,0.54935929107362758,4.4947430886994286E-4,7.9396982514852998E-2,-0.15979008923634305,4.5477653393862241,2.9739954351950382,0.6539465458867354,1.0493099999820612,218.95565316036138,0.13207093851466484,-31.03365800299234,-1.8719061503274015E-2,0.10763570423380903,1.2000999999999999,0,0.10763570423380903,1.2,1.910061442542214,0.14826406380200638,0.14826406380200638,-1.2000999999999999,8.8958438281203835E-3,7.1166750624963068E-2,1.7036739389099186E-2,1.7036739390238448E-2]
[null,0.54935929107364578,4.4947430886994286E-4,7.9396982514852998E-2,-0.15979008923634305,4.5477653393860527,2.9739954351947469,0.65394654588669598,1.0493099999820563,218.95565316036226,0.13207093851466536,-31.033658002999459,-1.8719061503278307E-2,0.10763570423377855,1.2001000000000002,0,0.10763570423377855,1.2,1.9100614425421421,0.14826406380200638,0.14826406380200638,-1.2000999999999999,8.8958438281203835E-3,7.1166750624963068E-2,1.7036739390238448E-2,1.7036739390271026E-2]
[null,0.54935929107363712,4.4947430886994286E-4,7.9396982514852998E-2,-0.15979008923634305,4.5477653393861335,2.9739954351940985,0.65394654588654177,1.0493099999820585,218.95565316036183,0.13207093851466511,-31.033658002996074,-1.8719061503276267E-2,0.1076357042336933,1.2000999999999999,0,0.1076357042336933,1.2,1.910061442542176,0.14826406380200638,0.14826406380200638,-1.2000999999999999,8.8958438281203835E-3,7.1166750624963068E-2,1.7036739390271026E-2,1.7036739390255531E-2]
[null,0.54935929107364789,4.4947430886994286E-4,7.9396982514852998E-2,-0.15979008923634305,4.5477653393860322,2.9739954351948188,0.65394654588671475,1.0493099999820557,218.95565316036235,0.13207093851466542,-31.033658003000284,-1.8719061503278806E-2,0.10763570423378842,1.2000999999999999,0,0.10763570423378842,1.2,1.9100614425421334,0.14826406380200638,0.14826406380200638,-1.2000999999999999,8.8958438281203835E-3,7.1166750624963068E-2,1.7036739390255531E-2,1.7036739390274801E-2]
[null,0.54935929107365011,4.4947430886994286E-4,7.9396982514852998E-2,-0.15979008923634305,4.5477653393860109,2.9739954351949627,0.6539465458867495,1.049309999982055,218.95565316036246,0.1320709385146655,-31.033658003001147,-1.8719061503279327E-2,0.1076357042338075,1.2000999999999997,0,0.1076357042338075,1.2,1.9100614425421245,0.14826406380200638,0.14826406380200638,-1.2000999999999999,8.8958438281203835E-3,7.1166750624963068E-2,1.7036739390274801E-2,1.7036739390278773E-2]
[null,0.549359291073652,4.4947430886994286E-4,7.9396982514852998E-2,-0.15979008923634305,4.5477653393859931,2.973995435195107,0.65394654588678369,1.0493099999820545,218.95565316036254,0.13207093851466556,-31.033658003001886,-1.8719061503279771E-2,0.10763570423382643,1.2000999999999999,0,0.10763570423382643,1.2,1.910061442542117,0.14826406380200638,0.14826406380200638,-1.2000999999999999,8.8958438281203835E-3,7.1166750624963068E-2,1.7036739390278773E-2,1.7036739390282152E-2]
[null,0.54935929107363746,4.4947430886994286E-4,7.9396982514852998E-2,-0.15979008923634305,4.5477653393861308,2.9739954351942419,0.65394654588657375,1.0493099999820585,218.95565316036186,0.13207093851466514,-31.033658002996205,-1.8719061503276346E-2,0.10763570423371165,1.2001000000000002,0,0.10763570423371165,1.2,1.9100614425421749,0.14826406380200638,0.14826406380200638,-1.2000999999999999,8.8958438281203835E-3,7.1166750624963068E-2,1.7036739390282152E-2,1.7036739390256128E-2]
[null,0.54935929107364423,4.4947430886994286E-4,7.9396982514852998E-2,-0.15979008923634305,4.5477653393860669,2.9739954351946025,0.65394654588666223,1.0493099999820565,218.95565316036217,0.13207093851466534,-31.033658002998848,-1.8719061503277939E-2,0.1076357042337597,1.2000999999999999,0,0.1076357042337597,1.2,1.910061442542148,0.14826406380200638,0.14826406380200638,-1.2000999999999999,8.8958438281203835E-3,7.1166750624963068E-2,1.7036739390256128E-2,1.7036739390268247E-2]
[null,0.54935929107364445,4.4947430886994286E-4,7.9396982514852998E-2,-0.15979008923634305,4.5477653393860642,2.9739954351945301,0.65394654588664669,1.0493099999820565,218.9556531603622,0.13207093851466534,-31.033658002998937,-1.8719061503277994E-2,0.10763570423375066,1.2000999999999999,0,0.10763570423375066,1.2,1.9100614425421469,0.14826406380200638,0.14826406380200638,-1.2000999999999999,8.8958438281203835E-3,7.1166750624963068E-2,1.7036739390268247E-2,1.7036739390268642E-2]
[null,null,null,null,null,null,null,null,null,null,null,null,null,null,null,null,null,null,null,null,null,null,null,null,null,null,{"$f":"N230/($Q$6*C230/B230)","v":48.112511513428295}]
[null,{"$f":"IF(B230<0,P209,0.5*(P209+B230))","v":0.53269501780461592}]
[null,{"$f":"0.5*(-(T233+U233+V233)+SQRT((T233+U233+V233)^2+4*S233*(W233+X233)))/S233","v":0.50083706880879486},{"$f":"0.5*(K209+C230)","v":5.0054607100105187E-4},{"$f":"IF($C$2=1,C233/($AD$6*$AD$5),2^(1/3)*$AD$5/C233)","v":8.8418507716418418E-2},{"$f":"IF($C$2=1,-($AD$6-2)*C233/$AD$5,3*($AD$5/C233)^2)","v":-0.17794632479273062},{"$f":"IF($C$2=1,0.5*($AD$6*C233*$F$6/$AD$5)*(1-Y233^2+(D233-E233)*(E233^2*(1-Y233^2)+2*E233*(1-Y233)+2*LN((1-E233)/(1-E233*Y233)))/(E233^3)),$F$6*E233*(LN((1-D233+D233^2)/(1+D233)^2)/(6*D233)+ATAN((2-D233)/(D233*3^0.5))/(D233*3^0.5)-LN((Y233^2-D233*Y233+D233^2)/(Y233+D233)^2)/(6*D233)-ATAN((2*Y233-D233)/(D233*3^0.5))/(D233*3^0.5)))","v":4.9816608283722754},{"$f":"IF($C$2=1,($AD$6*C233*$F$6/$AD$5)*(1-Y233^3-(D233-E233)*(-2*E233^3*(1-Y233^3)-3*E233^2*(1-Y233^2)-6*E233*(1-Y233)-6*LN((1-E233)/(1-E233*Y233)))/(2*E233^4))/3,$F$6*E233*(LN((1+D233^3)/(D233^3+Y233^3)))/3)","v":3.2495075939000393},{"$f":"G233/F233","v":0.65229402519596946},{"$f":"F233*B233*$D$6","v":1.0479001709742566},{"$f":"MAX(MIN($K$206,$Q$206*$J$206*C233*(B233-$I$206)/B233),-$K$206)","v":240.93817841612838},{"$f":"J233*$H$206","v":0.14533048536603183},{"$f":"MIN($O$206,$Q$206*$N$206*C233*(C$206-B233-$M$206)/B233)","v":-11.38843749208413},{"$f":"L233*$L$206","v":-6.8693436597116291E-3},{"$f":"(0.5*$C$6-B233+H233*B233)*I233+(0.5*$C$6-$I$206)*K233+(0.5*$C$6-$M$206)*M233","v":0.12952431534424455},{"$f":"I233+K233-M233","v":1.2000999999999999},{"$f":"Snitkræfter!$D$44*0.1*$Q$6*C233*$B$6^2/B233+$R$6","v":7.9686552920775377E-5},{"$f":"N233-P233*O233","v":0.12942868351208434},{"$f":"$R$211","v":1.2},{"$f":"F233*$D$206","v":2.0922975479163557},{"$f":"IF(ABS(J232)<$K$206,$Q$206*C233*$H$206*$J$206,IF(J232<0,1,-1)*$H$206*$K$206)","v":0.16511064846693471},{"$f":"IF(L232<$O$206,$Q$206*C233*$L$206*$N$206,-$L$206*$O$206)","v":0.16511064846693471},{"$f":"-(R233+0.0001)","v":-1.2000999999999999},{"$f":"IF(ABS(J232)<$K$206,$I$206*$Q$206*C233*$H$206*$J$206,0)","v":9.9066389080160831E-3},{"$f":"IF(L232<$O$206,($C$206-$M$206)*$Q$206*C233*$L$206*$N$206,0)","v":7.9253111264128678E-2},{"$f":"IF(ABS(B232)<$C$6,0,(B232-$C$6)/B232)","v":0},{"$f":"IF(AND(B233<=$C$6,B233>0),0,(B233-$C$6)/B233)","v":0}]
[null,0.52308242682791961,{"$f":"0.95*C233","v":4.7551876745099926E-4},8.3997582330597495E-2,-0.16904900855309407,4.7717049603002222,3.1159084442458393,0.65299687850981369,1.048317904511078,230.21613454055233,0.1388631008660042,-21.417935979322834,-1.2918994622917849E-2,0.1192126191072156,1.2000999999999999,{"$f":"Snitkræfter!$D$44*0.1*$Q$6*C234*$B$6^2/B234+$R$6","v":7.2482803214826818E-5},0.11912563249507749,1.2,2.0041160833260934,0.15685511604358796,0.15685511604358796,-1.2000999999999999,9.4113069626152769E-3,7.5290455700922229E-2,{"$f":"Z233","v":0},0]
[null,0.55119750428995817,{"$f":"IF(OR(C234=C233,ABS($Q$211-Q234)<0.00005*$Q$211),C234,MAX(IF(Z234>0,0.98*C234,0.9*C234),MIN($AD$4,IF(Z234>0,1.005*C234,1.05*C234),IF(C234=$AD$4,0.5*(C234+C233),C234+(C234-C233)*(Q234-$Q$211)/(Q233-Q234)))))","v":4.4760838832971214E-4},7.9067378669687119E-2,-0.15912674629605128,4.5332120450085922,2.9637332413572115,0.65378217739020283,1.0494519695628837,218.13585212097476,0.13157644617749834,-31.618092786580714,-1.907158425961774E-2,0.1067065160928678,1.2000999999999997,{"$f":"Snitkræfter!$D$44*0.1*$Q$6*C235*$B$6^2/B235+$R$6","v":6.4748307883225368E-5},0.10662881164857714,1.2,1.9039490589036085,0.14764856930862413,0.14764856930862413,-1.2000999999999999,8.8589141585174464E-3,7.0871313268139585E-2,{"$f":"Z234+IF(C233=C234,0,(C235-C234)*(Z234-Z233)/(C234-C233))","v":0},2.0314867543499756E-2]
[null,0.54899528041354173,{"$f":"IF(OR(C235=C234,ABS($Q$211-Q235)<0.00005*$Q$211),C235,MAX(IF(Z235>0,0.98*C235,0.9*C235),MIN($AD$4,IF(Z235>0,1.005*C235,1.05*C235),IF(C235=$AD$4,0.5*(C235+C234),C235+(C235-C234)*(Q235-$Q$211)/(Q234-Q235)))))","v":4.4984643027136064E-4},7.9462715563035552E-2,-0.15992238002753151,4.5506587402393217,2.9760380950232412,0.65397962468764026,1.0492818718888888,219.11911239091884,0.13216953479969795,-30.916831325227527,-1.8648593311413039E-2,0.1078201906679383,1.2000999999999999,{"$f":"Snitkræfter!$D$44*0.1*$Q$6*C236*$B$6^2/B236+$R$6","v":6.5333077569947135E-5},0.1077417844415466,1.2,1.9112766709005151,0.14838681215516722,0.14838681215516722,-1.2000999999999999,8.9032087293100335E-3,7.1225669834480268E-2,{"$f":"MIN(Z235+IF(C234=C235,Y235-Z235,IF(ABS(Y235-Z235)<0.001,Y235-Z235,(C236-C235)*(Z235-Z234)/(C235-C234))),0.995)","v":1.8685884812601986E-2},1.6384986783066366E-2]
[null,0.54918454203406719,4.4963310586415014E-4,7.9425033066183023E-2,-0.15984654226463435,4.5491825831863988,2.9748703951859596,0.6539351500599172,1.0493031165021625,219.02446373987195,0.13211244407839215,-30.976259296936071,-1.8684439419445802E-2,0.10770802812336017,1.2001000000000004,{"$f":"Snitkræfter!$D$44*0.1*$Q$6*C237*$B$6^2/B237+$R$6","v":6.5279590970904899E-5},0.10762968608623598,1.2,1.9106566849382873,0.14831644474395589,0.14831644474395589,-1.2000999999999999,8.8989866846373531E-3,7.1191893477098839E-2,{"$f":"MIN(Z236+IF(C235=C236,Y236-Z236,IF(ABS(Y236-Z236)<0.001,Y236-Z236,(C237-C236)*(Z236-Z235)/(C236-C235))),0.995)","v":1.6759572919289496E-2},1.6723963132774078E-2]
[null,0.54917233387622988,4.4964454800055533E-4,7.9427054252013157E-2,-0.15985060999433803,4.5492811305928056,2.9749333759859962,0.65393482851176088,1.0493025210976328,219.02944020727554,0.13211544581281184,-30.972269929261422,-1.8682033089555405E-2,0.10771336403318908,1.2000999999999999,{"$f":"Snitkræfter!$D$44*0.1*$Q$6*C238*$B$6^2/B238+$R$6","v":6.5282703396510609E-5},0.10763501826084293,1.2,1.9106980748489784,0.14832021905899131,0.14832021905899131,-1.2000999999999999,8.8992131435394785E-3,7.1193705148315842E-2,1.6759572919289496E-2,1.670210480467697E-2]
[null,0.54917233387622988,4.4964454800055533E-4,7.9427054252013157E-2,-0.15985060999433803,4.5492811305928056,2.9749333759859962,0.65393482851176088,1.0493025210976328,219.02944020727554,0.13211544581281184,-30.972269929261422,-1.8682033089555405E-2,0.10771336403318908,1.2000999999999999,{"$f":"Snitkræfter!$D$44*0.1*$Q$6*C239*$B$6^2/B239+$R$6","v":6.5282703396510609E-5},0.10763501826084293,1.2,1.9106980748489784,0.14832021905899131,0.14832021905899131,-1.2000999999999999,8.8992131435394785E-3,7.1193705148315842E-2,1.6759572919289496E-2,1.670210480467697E-2]
[null,0.54917233387622988,4.4964454800055533E-4,7.9427054252013157E-2,-0.15985060999433803,4.5492811305928056,2.9749333759859962,0.65393482851176088,1.0493025210976328,219.02944020727554,0.13211544581281184,-30.972269929261422,-1.8682033089555405E-2,0.10771336403318908,1.2000999999999999,{"$f":"Snitkræfter!$D$44*0.1*$Q$6*C240*$B$6^2/B240+$R$6","v":6.5282703396510609E-5},0.10763501826084293,1.2,1.9106980748489784,0.14832021905899131,0.14832021905899131,-1.2000999999999999,8.8992131435394785E-3,7.1193705148315842E-2,1.6759572919289496E-2,1.670210480467697E-2]
[null,0.54917233387622988,4.4964454800055533E-4,7.9427054252013157E-2,-0.15985060999433803,4.5492811305928056,2.9749333759859962,0.65393482851176088,1.0493025210976328,219.02944020727554,0.13211544581281184,-30.972269929261422,-1.8682033089555405E-2,0.10771336403318908,1.2000999999999999,{"$f":"Snitkræfter!$D$44*0.1*$Q$6*C241*$B$6^2/B241+$R$6","v":6.5282703396510609E-5},0.10763501826084293,1.2,1.9106980748489784,0.14832021905899131,0.14832021905899131,-1.2000999999999999,8.8992131435394785E-3,7.1193705148315842E-2,1.6759572919289496E-2,1.670210480467697E-2]
[null,0.54917233387622988,4.4964454800055533E-4,7.9427054252013157E-2,-0.15985060999433803,4.5492811305928056,2.9749333759859962,0.65393482851176088,1.0493025210976328,219.02944020727554,0.13211544581281184,-30.972269929261422,-1.8682033089555405E-2,0.10771336403318908,1.2000999999999999,{"$f":"Snitkræfter!$D$44*0.1*$Q$6*C242*$B$6^2/B242+$R$6","v":6.5282703396510609E-5},0.10763501826084293,1.2,1.9106980748489784,0.14832021905899131,0.14832021905899131,-1.2000999999999999,8.8992131435394785E-3,7.1193705148315842E-2,1.6759572919289496E-2,1.670210480467697E-2]
[null,0.54917233387622988,4.4964454800055533E-4,7.9427054252013157E-2,-0.15985060999433803,4.5492811305928056,2.9749333759859962,0.65393482851176088,1.0493025210976328,219.02944020727554,0.13211544581281184,-30.972269929261422,-1.8682033089555405E-2,0.10771336403318908,1.2000999999999999,{"$f":"Snitkræfter!$D$44*0.1*$Q$6*C243*$B$6^2/B243+$R$6","v":6.5282703396510609E-5},0.10763501826084293,1.2,1.9106980748489784,0.14832021905899131,0.14832021905899131,-1.2000999999999999,8.8992131435394785E-3,7.1193705148315842E-2,1.6759572919289496E-2,1.670210480467697E-2]
[null,0.54917233387622988,4.4964454800055533E-4,7.9427054252013157E-2,-0.15985060999433803,4.5492811305928056,2.9749333759859962,0.65393482851176088,1.0493025210976328,219.02944020727554,0.13211544581281184,-30.972269929261422,-1.8682033089555405E-2,0.10771336403318908,1.2000999999999999,{"$f":"Snitkræfter!$D$44*0.1*$Q$6*C244*$B$6^2/B244+$R$6","v":6.5282703396510609E-5},0.10763501826084293,1.2,1.9106980748489784,0.14832021905899131,0.14832021905899131,-1.2000999999999999,8.8992131435394785E-3,7.1193705148315842E-2,1.6759572919289496E-2,1.670210480467697E-2]
[null,0.54917233387622988,4.4964454800055533E-4,7.9427054252013157E-2,-0.15985060999433803,4.5492811305928056,2.9749333759859962,0.65393482851176088,1.0493025210976328,219.02944020727554,0.13211544581281184,-30.972269929261422,-1.8682033089555405E-2,0.10771336403318908,1.2000999999999999,{"$f":"Snitkræfter!$D$44*0.1*$Q$6*C245*$B$6^2/B245+$R$6","v":6.5282703396510609E-5},0.10763501826084293,1.2,1.9106980748489784,0.14832021905899131,0.14832021905899131,-1.2000999999999999,8.8992131435394785E-3,7.1193705148315842E-2,1.6759572919289496E-2,1.670210480467697E-2]
[null,0.54917233387622988,4.4964454800055533E-4,7.9427054252013157E-2,-0.15985060999433803,4.5492811305928056,2.9749333759859962,0.65393482851176088,1.0493025210976328,219.02944020727554,0.13211544581281184,-30.972269929261422,-1.8682033089555405E-2,0.10771336403318908,1.2000999999999999,{"$f":"Snitkræfter!$D$44*0.1*$Q$6*C246*$B$6^2/B246+$R$6","v":6.5282703396510609E-5},0.10763501826084293,1.2,1.9106980748489784,0.14832021905899131,0.14832021905899131,-1.2000999999999999,8.8992131435394785E-3,7.1193705148315842E-2,1.6759572919289496E-2,1.670210480467697E-2]
[null,0.54917233387622988,4.4964454800055533E-4,7.9427054252013157E-2,-0.15985060999433803,4.5492811305928056,2.9749333759859962,0.65393482851176088,1.0493025210976328,219.02944020727554,0.13211544581281184,-30.972269929261422,-1.8682033089555405E-2,0.10771336403318908,1.2000999999999999,{"$f":"Snitkræfter!$D$44*0.1*$Q$6*C247*$B$6^2/B247+$R$6","v":6.5282703396510609E-5},0.10763501826084293,1.2,1.9106980748489784,0.14832021905899131,0.14832021905899131,-1.2000999999999999,8.8992131435394785E-3,7.1193705148315842E-2,1.6759572919289496E-2,1.670210480467697E-2]
[null,0.54917233387622988,4.4964454800055533E-4,7.9427054252013157E-2,-0.15985060999433803,4.5492811305928056,2.9749333759859962,0.65393482851176088,1.0493025210976328,219.02944020727554,0.13211544581281184,-30.972269929261422,-1.8682033089555405E-2,0.10771336403318908,1.2000999999999999,{"$f":"Snitkræfter!$D$44*0.1*$Q$6*C248*$B$6^2/B248+$R$6","v":6.5282703396510609E-5},0.10763501826084293,1.2,1.9106980748489784,0.14832021905899131,0.14832021905899131,-1.2000999999999999,8.8992131435394785E-3,7.1193705148315842E-2,1.6759572919289496E-2,1.670210480467697E-2]
[null,0.54917233387622988,4.4964454800055533E-4,7.9427054252013157E-2,-0.15985060999433803,4.5492811305928056,2.9749333759859962,0.65393482851176088,1.0493025210976328,219.02944020727554,0.13211544581281184,-30.972269929261422,-1.8682033089555405E-2,0.10771336403318908,1.2000999999999999,{"$f":"Snitkræfter!$D$44*0.1*$Q$6*C249*$B$6^2/B249+$R$6","v":6.5282703396510609E-5},0.10763501826084293,1.2,1.9106980748489784,0.14832021905899131,0.14832021905899131,-1.2000999999999999,8.8992131435394785E-3,7.1193705148315842E-2,{"$f":"MIN(Z248+IF(C247=C248,Y248-Z248,IF(ABS(Y248-Z248)<0.001,Y248-Z248,(C249-C248)*(Z248-Z247)/(C248-C247))),0.995)","v":1.6759572919289496E-2},1.670210480467697E-2]
[null,0.54917233387622988,4.4964454800055533E-4,7.9427054252013157E-2,-0.15985060999433803,4.5492811305928056,2.9749333759859962,0.65393482851176088,1.0493025210976328,219.02944020727554,0.13211544581281184,-30.972269929261422,-1.8682033089555405E-2,0.10771336403318908,1.2000999999999999,{"$f":"Snitkræfter!$D$44*0.1*$Q$6*C250*$B$6^2/B250+$R$6","v":6.5282703396510609E-5},0.10763501826084293,1.2,1.9106980748489784,0.14832021905899131,0.14832021905899131,-1.2000999999999999,8.8992131435394785E-3,7.1193705148315842E-2,{"$f":"MIN(Z249+IF(C248=C249,Y249-Z249,IF(ABS(Y249-Z249)<0.001,Y249-Z249,(C250-C249)*(Z249-Z248)/(C249-C248))),0.995)","v":1.6759572919289496E-2},1.670210480467697E-2]
[null,0.54917233387622988,4.4964454800055533E-4,7.9427054252013157E-2,-0.15985060999433803,4.5492811305928056,2.9749333759859962,0.65393482851176088,1.0493025210976328,219.02944020727554,0.13211544581281184,-30.972269929261422,-1.8682033089555405E-2,0.10771336403318908,1.2000999999999999,{"$f":"Snitkræfter!$D$44*0.1*$Q$6*C251*$B$6^2/B251+$R$6","v":6.5282703396510609E-5},0.10763501826084293,1.2,1.9106980748489784,0.14832021905899131,0.14832021905899131,-1.2000999999999999,8.8992131435394785E-3,7.1193705148315842E-2,1.6759572919289496E-2,1.670210480467697E-2]
[null,0.54917233387622988,4.4964454800055533E-4,7.9427054252013157E-2,-0.15985060999433803,4.5492811305928056,2.9749333759859962,0.65393482851176088,1.0493025210976328,219.02944020727554,0.13211544581281184,-30.972269929261422,-1.8682033089555405E-2,0.10771336403318908,1.2000999999999999,{"$f":"Snitkræfter!$D$44*0.1*$Q$6*C252*$B$6^2/B252+$R$6","v":6.5282703396510609E-5},0.10763501826084293,1.2,1.9106980748489784,0.14832021905899131,0.14832021905899131,-1.2000999999999999,8.8992131435394785E-3,7.1193705148315842E-2,1.6759572919289496E-2,1.670210480467697E-2]
[null,0.54917233387622988,4.4964454800055533E-4,7.9427054252013157E-2,-0.15985060999433803,4.5492811305928056,2.9749333759859962,0.65393482851176088,1.0493025210976328,219.02944020727554,0.13211544581281184,-30.972269929261422,-1.8682033089555405E-2,0.10771336403318908,1.2000999999999999,{"$f":"Snitkræfter!$D$44*0.1*$Q$6*C253*$B$6^2/B253+$R$6","v":6.5282703396510609E-5},0.10763501826084293,1.2,1.9106980748489784,0.14832021905899131,0.14832021905899131,-1.2000999999999999,8.8992131435394785E-3,7.1193705148315842E-2,1.6759572919289496E-2,1.670210480467697E-2]
[null,0.54917233387622988,4.4964454800055533E-4,7.9427054252013157E-2,-0.15985060999433803,4.5492811305928056,2.9749333759859962,0.65393482851176088,1.0493025210976328,219.02944020727554,0.13211544581281184,-30.972269929261422,-1.8682033089555405E-2,0.10771336403318908,1.2000999999999999,{"$f":"Snitkræfter!$D$44*0.1*$Q$6*C254*$B$6^2/B254+$R$6","v":6.5282703396510609E-5},0.10763501826084293,1.2,1.9106980748489784,0.14832021905899131,0.14832021905899131,-1.2000999999999999,8.8992131435394785E-3,7.1193705148315842E-2,1.6759572919289496E-2,1.670210480467697E-2]
[null,0.54917233387622988,4.4964454800055533E-4,7.9427054252013157E-2,-0.15985060999433803,4.5492811305928056,2.9749333759859962,0.65393482851176088,1.0493025210976328,219.02944020727554,0.13211544581281184,-30.972269929261422,-1.8682033089555405E-2,0.10771336403318908,1.2000999999999999,{"$f":"Snitkræfter!$D$44*0.1*$Q$6*C255*$B$6^2/B255+$R$6","v":6.5282703396510609E-5},0.10763501826084293,1.2,1.9106980748489784,0.14832021905899131,0.14832021905899131,-1.2000999999999999,8.8992131435394785E-3,7.1193705148315842E-2,1.6759572919289496E-2,1.670210480467697E-2]
[null,0.54917233387622988,4.4964454800055533E-4,7.9427054252013157E-2,-0.15985060999433803,4.5492811305928056,2.9749333759859962,0.65393482851176088,1.0493025210976328,219.02944020727554,0.13211544581281184,-30.972269929261422,-1.8682033089555405E-2,0.10771336403318908,1.2000999999999999,{"$f":"Snitkræfter!$D$44*0.1*$Q$6*C256*$B$6^2/B256+$R$6","v":6.5282703396510609E-5},0.10763501826084293,1.2,1.9106980748489784,0.14832021905899131,0.14832021905899131,-1.2000999999999999,8.8992131435394785E-3,7.1193705148315842E-2,1.6759572919289496E-2,1.670210480467697E-2]
[null,0.54917233387622988,4.4964454800055533E-4,7.9427054252013157E-2,-0.15985060999433803,4.5492811305928056,2.9749333759859962,0.65393482851176088,1.0493025210976328,219.02944020727554,0.13211544581281184,-30.972269929261422,-1.8682033089555405E-2,0.10771336403318908,1.2000999999999999,{"$f":"Snitkræfter!$D$44*0.1*$Q$6*C257*$B$6^2/B257+$R$6","v":6.5282703396510609E-5},0.10763501826084293,1.2,1.9106980748489784,0.14832021905899131,0.14832021905899131,-1.2000999999999999,8.8992131435394785E-3,7.1193705148315842E-2,1.6759572919289496E-2,1.670210480467697E-2]
[null,{"$f":"0.5*(-(T258+U258+V258)+SQRT((T258+U258+V258)^2+4*S258*(W258+X258)))/S258","v":0.54917233387622988},4.4964454800055533E-4,7.9427054252013157E-2,-0.15985060999433803,4.5492811305928056,2.9749333759859962,0.65393482851176088,1.0493025210976328,219.02944020727554,0.13211544581281184,-30.972269929261422,-1.8682033089555405E-2,0.10771336403318908,1.2000999999999999,{"$f":"Snitkræfter!$D$44*0.1*$Q$6*C258*$B$6^2/B258+$R$6","v":6.5282703396510609E-5},0.10763501826084293,1.2,1.9106980748489784,0.14832021905899131,0.14832021905899131,-1.2000999999999999,8.8992131435394785E-3,7.1193705148315842E-2,1.6759572919289496E-2,1.670210480467697E-2]
[null,{"$f":"0.5*(-(T259+U259+V259)+SQRT((T259+U259+V259)^2+4*S259*(W259+X259)))/S259","v":0.54917233387622988},4.4964454800055533E-4,7.9427054252013157E-2,-0.15985060999433803,4.5492811305928056,2.9749333759859962,0.65393482851176088,1.0493025210976328,219.02944020727554,0.13211544581281184,-30.972269929261422,-1.8682033089555405E-2,0.10771336403318908,1.2000999999999999,{"$f":"Snitkræfter!$D$44*0.1*$Q$6*C259*$B$6^2/B259+$R$6","v":6.5282703396510609E-5},0.10763501826084293,1.2,1.9106980748489784,0.14832021905899131,0.14832021905899131,-1.2000999999999999,8.8992131435394785E-3,7.1193705148315842E-2,1.6759572919289496E-2,1.670210480467697E-2]
[null,0.54917233387622988,4.4964454800055533E-4,7.9427054252013157E-2,-0.15985060999433803,4.5492811305928056,2.9749333759859962,0.65393482851176088,1.0493025210976328,219.02944020727554,0.13211544581281184,-30.972269929261422,-1.8682033089555405E-2,0.10771336403318908,1.2000999999999999,{"$f":"Snitkræfter!$D$44*0.1*$Q$6*C260*$B$6^2/B260+$R$6","v":6.5282703396510609E-5},0.10763501826084293,1.2,1.9106980748489784,0.14832021905899131,0.14832021905899131,-1.2000999999999999,8.8992131435394785E-3,7.1193705148315842E-2,1.6759572919289496E-2,1.670210480467697E-2]
[null,0.54917233387622988,4.4964454800055533E-4,7.9427054252013157E-2,-0.15985060999433803,4.5492811305928056,2.9749333759859962,0.65393482851176088,1.0493025210976328,219.02944020727554,0.13211544581281184,-30.972269929261422,-1.8682033089555405E-2,0.10771336403318908,1.2000999999999999,{"$f":"Snitkræfter!$D$44*0.1*$Q$6*C261*$B$6^2/B261+$R$6","v":6.5282703396510609E-5},0.10763501826084293,1.2,1.9106980748489784,0.14832021905899131,0.14832021905899131,-1.2000999999999999,8.8992131435394785E-3,7.1193705148315842E-2,1.6759572919289496E-2,1.670210480467697E-2]
[null,0.54917233387622988,4.4964454800055533E-4,7.9427054252013157E-2,-0.15985060999433803,4.5492811305928056,2.9749333759859962,0.65393482851176088,1.0493025210976328,219.02944020727554,0.13211544581281184,-30.972269929261422,-1.8682033089555405E-2,0.10771336403318908,1.2000999999999999,{"$f":"Snitkræfter!$D$44*0.1*$Q$6*C262*$B$6^2/B262+$R$6","v":6.5282703396510609E-5},0.10763501826084293,1.2,1.9106980748489784,0.14832021905899131,0.14832021905899131,-1.2000999999999999,8.8992131435394785E-3,7.1193705148315842E-2,1.6759572919289496E-2,1.670210480467697E-2]
[null,0.54917233387622988,4.4964454800055533E-4,7.9427054252013157E-2,-0.15985060999433803,4.5492811305928056,2.9749333759859962,0.65393482851176088,1.0493025210976328,219.02944020727554,0.13211544581281184,-30.972269929261422,-1.8682033089555405E-2,0.10771336403318908,1.2000999999999999,{"$f":"Snitkræfter!$D$44*0.1*$Q$6*C263*$B$6^2/B263+$R$6","v":6.5282703396510609E-5},0.10763501826084293,1.2,1.9106980748489784,0.14832021905899131,0.14832021905899131,-1.2000999999999999,8.8992131435394785E-3,7.1193705148315842E-2,1.6759572919289496E-2,1.670210480467697E-2]
[null,0.54917233387622988,4.4964454800055533E-4,7.9427054252013157E-2,-0.15985060999433803,4.5492811305928056,2.9749333759859962,0.65393482851176088,1.0493025210976328,219.02944020727554,0.13211544581281184,-30.972269929261422,-1.8682033089555405E-2,0.10771336403318908,1.2000999999999999,{"$f":"Snitkræfter!$D$44*0.1*$Q$6*C264*$B$6^2/B264+$R$6","v":6.5282703396510609E-5},0.10763501826084293,1.2,1.9106980748489784,0.14832021905899131,0.14832021905899131,-1.2000999999999999,8.8992131435394785E-3,7.1193705148315842E-2,1.6759572919289496E-2,1.670210480467697E-2]
[null,0.54917233387622988,4.4964454800055533E-4,7.9427054252013157E-2,-0.15985060999433803,4.5492811305928056,2.9749333759859962,0.65393482851176088,1.0493025210976328,{"$f":"MAX(MIN($K$206,$Q$206*$J$206*C265*(B265-$I$206)/B265),-$K$206)","v":219.02944020727554},{"$f":"J265*$H$206","v":0.13211544581281184},{"$f":"MIN($O$206,$Q$206*$N$206*C265*(C$206-B265-$M$206)/B265)","v":-30.972269929261422},{"$f":"L265*$L$206","v":-1.8682033089555405E-2},{"$f":"(0.5*$C$6-B265+H265*B265)*I265+(0.5*$C$6-$I$206)*K265+(0.5*$C$6-$M$206)*M265","v":0.10771336403318908},1.2000999999999999,{"$f":"Snitkræfter!$D$44*0.1*$Q$6*C265*$B$6^2/B265+$R$6","v":6.5282703396510609E-5},0.10763501826084293,1.2,{"$f":"F265*$D$206","v":1.9106980748489784},0.14832021905899131,0.14832021905899131,-1.2000999999999999,8.8992131435394785E-3,7.1193705148315842E-2,1.6759572919289496E-2,1.670210480467697E-2]
[null,0.54917233387622988,4.4964454800055533E-4,7.9427054252013157E-2,-0.15985060999433803,4.5492811305928056,2.9749333759859962,0.65393482851176088,1.0493025210976328,219.02944020727554,0.13211544581281184,-30.972269929261422,-1.8682033089555405E-2,0.10771336403318908,1.2000999999999999,{"$f":"Snitkræfter!$D$44*0.1*$Q$6*C266*$B$6^2/B266+$R$6","v":6.5282703396510609E-5},0.10763501826084293,1.2,1.9106980748489784,0.14832021905899131,0.14832021905899131,-1.2000999999999999,8.8992131435394785E-3,7.1193705148315842E-2,1.6759572919289496E-2,1.670210480467697E-2]
[null,0.54917233387622988,4.4964454800055533E-4,7.9427054252013157E-2,-0.15985060999433803,4.5492811305928056,2.9749333759859962,0.65393482851176088,1.0493025210976328,219.02944020727554,0.13211544581281184,-30.972269929261422,-1.8682033089555405E-2,0.10771336403318908,1.2000999999999999,{"$f":"Snitkræfter!$D$44*0.1*$Q$6*C267*$B$6^2/B267+$R$6","v":6.5282703396510609E-5},0.10763501826084293,1.2,1.9106980748489784,0.14832021905899131,0.14832021905899131,-1.2000999999999999,8.8992131435394785E-3,7.1193705148315842E-2,1.6759572919289496E-2,1.670210480467697E-2]
[null,0.54917233387622988,4.4964454800055533E-4,7.9427054252013157E-2,-0.15985060999433803,4.5492811305928056,2.9749333759859962,0.65393482851176088,1.0493025210976328,219.02944020727554,0.13211544581281184,-30.972269929261422,-1.8682033089555405E-2,0.10771336403318908,1.2000999999999999,{"$f":"Snitkræfter!$D$44*0.1*$Q$6*C268*$B$6^2/B268+$R$6","v":6.5282703396510609E-5},0.10763501826084293,1.2,1.9106980748489784,0.14832021905899131,0.14832021905899131,-1.2000999999999999,8.8992131435394785E-3,7.1193705148315842E-2,1.6759572919289496E-2,1.670210480467697E-2]
[null,0.54917233387622988,4.4964454800055533E-4,7.9427054252013157E-2,-0.15985060999433803,4.5492811305928056,2.9749333759859962,0.65393482851176088,1.0493025210976328,219.02944020727554,0.13211544581281184,-30.972269929261422,-1.8682033089555405E-2,0.10771336403318908,1.2000999999999999,{"$f":"Snitkræfter!$D$44*0.1*$Q$6*C269*$B$6^2/B269+$R$6","v":6.5282703396510609E-5},0.10763501826084293,1.2,1.9106980748489784,0.14832021905899131,0.14832021905899131,-1.2000999999999999,8.8992131435394785E-3,7.1193705148315842E-2,1.6759572919289496E-2,1.670210480467697E-2]
[null,0.54917233387622988,4.4964454800055533E-4,7.9427054252013157E-2,-0.15985060999433803,4.5492811305928056,2.9749333759859962,0.65393482851176088,1.0493025210976328,219.02944020727554,0.13211544581281184,-30.972269929261422,-1.8682033089555405E-2,0.10771336403318908,1.2000999999999999,{"$f":"Snitkræfter!$D$44*0.1*$Q$6*C270*$B$6^2/B270+$R$6","v":6.5282703396510609E-5},0.10763501826084293,1.2,1.9106980748489784,0.14832021905899131,0.14832021905899131,-1.2000999999999999,8.8992131435394785E-3,7.1193705148315842E-2,1.6759572919289496E-2,1.670210480467697E-2]
[null,0.54917233387622988,4.4964454800055533E-4,7.9427054252013157E-2,-0.15985060999433803,4.5492811305928056,2.9749333759859962,0.65393482851176088,1.0493025210976328,219.02944020727554,0.13211544581281184,-30.972269929261422,-1.8682033089555405E-2,0.10771336403318908,1.2000999999999999,{"$f":"Snitkræfter!$D$44*0.1*$Q$6*C271*$B$6^2/B271+$R$6","v":6.5282703396510609E-5},0.10763501826084293,1.2,1.9106980748489784,0.14832021905899131,0.14832021905899131,-1.2000999999999999,8.8992131435394785E-3,7.1193705148315842E-2,1.6759572919289496E-2,1.670210480467697E-2]
[null,0.54917233387622988,4.4964454800055533E-4,7.9427054252013157E-2,-0.15985060999433803,4.5492811305928056,2.9749333759859962,0.65393482851176088,1.0493025210976328,219.02944020727554,0.13211544581281184,-30.972269929261422,-1.8682033089555405E-2,0.10771336403318908,1.2000999999999999,{"$f":"Snitkræfter!$D$44*0.1*$Q$6*C272*$B$6^2/B272+$R$6","v":6.5282703396510609E-5},0.10763501826084293,1.2,1.9106980748489784,0.14832021905899131,0.14832021905899131,-1.2000999999999999,8.8992131435394785E-3,7.1193705148315842E-2,1.6759572919289496E-2,1.670210480467697E-2]
[null,0.54917233387622988,4.4964454800055533E-4,7.9427054252013157E-2,-0.15985060999433803,4.5492811305928056,2.9749333759859962,0.65393482851176088,1.0493025210976328,219.02944020727554,0.13211544581281184,-30.972269929261422,-1.8682033089555405E-2,0.10771336403318908,1.2000999999999999,{"$f":"Snitkræfter!$D$44*0.1*$Q$6*C273*$B$6^2/B273+$R$6","v":6.5282703396510609E-5},0.10763501826084293,1.2,1.9106980748489784,0.14832021905899131,0.14832021905899131,-1.2000999999999999,8.8992131435394785E-3,7.1193705148315842E-2,1.6759572919289496E-2,1.670210480467697E-2]
[null,0.54917233387622988,4.4964454800055533E-4,7.9427054252013157E-2,-0.15985060999433803,4.5492811305928056,2.9749333759859962,0.65393482851176088,1.0493025210976328,219.02944020727554,0.13211544581281184,-30.972269929261422,-1.8682033089555405E-2,0.10771336403318908,1.2000999999999999,{"$f":"Snitkræfter!$D$44*0.1*$Q$6*C274*$B$6^2/B274+$R$6","v":6.5282703396510609E-5},0.10763501826084293,1.2,1.9106980748489784,0.14832021905899131,0.14832021905899131,-1.2000999999999999,8.8992131435394785E-3,7.1193705148315842E-2,1.6759572919289496E-2,1.670210480467697E-2]
[null,0.54917233387622988,4.4964454800055533E-4,7.9427054252013157E-2,-0.15985060999433803,4.5492811305928056,2.9749333759859962,0.65393482851176088,1.0493025210976328,219.02944020727554,0.13211544581281184,-30.972269929261422,-1.8682033089555405E-2,0.10771336403318908,1.2000999999999999,{"$f":"Snitkræfter!$D$44*0.1*$Q$6*C275*$B$6^2/B275+$R$6","v":6.5282703396510609E-5},0.10763501826084293,1.2,1.9106980748489784,0.14832021905899131,0.14832021905899131,-1.2000999999999999,8.8992131435394785E-3,7.1193705148315842E-2,1.6759572919289496E-2,1.670210480467697E-2]
[null,0.54917233387622988,4.4964454800055533E-4,7.9427054252013157E-2,-0.15985060999433803,4.5492811305928056,2.9749333759859962,0.65393482851176088,1.0493025210976328,219.02944020727554,0.13211544581281184,-30.972269929261422,-1.8682033089555405E-2,0.10771336403318908,1.2000999999999999,{"$f":"Snitkræfter!$D$44*0.1*$Q$6*C276*$B$6^2/B276+$R$6","v":6.5282703396510609E-5},0.10763501826084293,1.2,1.9106980748489784,0.14832021905899131,0.14832021905899131,-1.2000999999999999,8.8992131435394785E-3,7.1193705148315842E-2,1.6759572919289496E-2,1.670210480467697E-2]
[null,0.54917233387622988,4.4964454800055533E-4,7.9427054252013157E-2,-0.15985060999433803,4.5492811305928056,2.9749333759859962,0.65393482851176088,1.0493025210976328,219.02944020727554,0.13211544581281184,-30.972269929261422,-1.8682033089555405E-2,0.10771336403318908,1.2000999999999999,{"$f":"Snitkræfter!$D$44*0.1*$Q$6*C277*$B$6^2/B277+$R$6","v":6.5282703396510609E-5},0.10763501826084293,1.2,1.9106980748489784,0.14832021905899131,0.14832021905899131,-1.2000999999999999,8.8992131435394785E-3,7.1193705148315842E-2,1.6759572919289496E-2,1.670210480467697E-2]
[null,0.54917233387622988,4.4964454800055533E-4,7.9427054252013157E-2,-0.15985060999433803,4.5492811305928056,2.9749333759859962,0.65393482851176088,1.0493025210976328,219.02944020727554,0.13211544581281184,-30.972269929261422,-1.8682033089555405E-2,0.10771336403318908,1.2000999999999999,{"$f":"Snitkræfter!$D$44*0.1*$Q$6*C278*$B$6^2/B278+$R$6","v":6.5282703396510609E-5},0.10763501826084293,1.2,1.9106980748489784,0.14832021905899131,0.14832021905899131,-1.2000999999999999,8.8992131435394785E-3,7.1193705148315842E-2,1.6759572919289496E-2,1.670210480467697E-2]
[null,null,null,null,null,null,null,null,null,null,null,null,null,null,null,{"$f":"$Q$6*C278/B278","v":2.2387758366430245E-3},null,null,null,null,null,null,null,null,null,null,{"$f":"(N278-$O$2*R278)/($Q$6*C278/B278)","v":48.11261684631274}]
[null,{"$f":"IF(L278=O206,B211,B278)","v":0.54917233387622988},null,null,null,null,null,null,null,null,null,null,null,null,null,null,{"$f":"0.9*Q278","v":9.6871516434758637E-2}]
[null,{"$f":"0.5*(-(T281+U281+V281)+SQRT((T281+U281+V281)^2+4*S281*(W281+X281)))/S281","v":0.54917125651949839},{"$f":"IF(L278=O206,C212,C278)","v":4.4964454800055533E-4},{"$f":"IF($C$2=1,C281/($AD$206*$AD$5),2^(1/3)*$AD$5/C281)","v":7.9427054252013157E-2},{"$f":"IF($C$2=1,-($AD$206-2)*C281/$AD$5,3*($AD$5/C281)^2)","v":-0.15985060999433803},{"$f":"IF($C$2=1,0.5*($AD$206*C281*$F$206/$AD$5)*(1-Y281^2+(D281-E281)*(E281^2*(1-Y281^2)+2*E281*(1-Y281)+2*LN((1-E281)/(1-E281*Y281)))/(E281^3)),$F$206*E281*(LN((1-D281+D281^2)/(1+D281)^2)/(6*D281)+ATAN((2-D281)/(D281*3^0.5))/(D281*3^0.5)-LN((Y281^2-D281*Y281+D281^2)/(Y281+D281)^2)/(6*D281)-ATAN((2*Y281-D281)/(D281*3^0.5))/(D281*3^0.5)))","v":4.549291295763318},{"$f":"IF($C$2=1,($AD$206*C281*$F$206/$AD$5)*(1-Y281^3-(D281-E281)*(-2*E281^3*(1-Y281^3)-3*E281^2*(1-Y281^2)-6*E281*(1-Y281)-6*LN((1-E281)/(1-E281*Y281)))/(2*E281^4))/3,$F$206*E281*(LN((1+D281^3)/(D281^3+Y281^3)))/3)","v":2.9749335460583914},{"$f":"G281/F281","v":0.65393340471050942},{"$f":"F281*B281*$D$206","v":1.0493028072103745},{"$f":"MAX(MIN($K$206,$Q$206*$J$206*C281*(B281-$I$206)/B281),-$K$206)","v":219.02938750327425},{"$f":"J281*$H$206","v":0.1321154140225072},{"$f":"MIN($O$206,$Q$206*$N$206*C281*(C$206-B281-$M$206)/B281)","v":-30.971848297251061},{"$f":"L281*$L$206","v":-1.8681778767118361E-2},{"$f":"(0.5*$C$206-B281+H281*B281)*I281+(0.5*$C$206-$I$206)*K281+(0.5*$C$206-$M$206)*M281","v":0.10771300439618707},{"$f":"I281+K281-M281","v":1.2000999999999999},{"$f":"Snitkræfter!$D$44*0.1*$Q$6*C281*$B$6^2/B281+$R$6","v":6.5282831467233758E-5},{"$f":"N281-P281*O281","v":0.10763465847014324},{"$f":"R278","v":1.2},{"$f":"F281*$D$206","v":1.9107023442205935},{"$f":"IF(ABS(J280)<$K$206,$Q$206*C281*$H$206*$J$206,IF(J280<0,1,-1)*$H$206*$K$206)","v":0.14832021905899131},{"$f":"IF(L278<$O$206,$Q$206*C281*$L$206*$N$206,-$L$206*$O$206)","v":0.14832021905899131},{"$f":"-(R281+0.0001)","v":-1.2000999999999999},{"$f":"IF(ABS(J280)<$K$206,$I$206*$Q$206*C281*$H$206*$J$206,0)","v":8.8992131435394785E-3},{"$f":"IF(L278<$O$206,($C$206-$M$206)*$Q$206*C281*$L$206*$N$206,0)","v":7.1193705148315842E-2},{"$f":"IF(B280<$C$206,0,(B280-$C$206)/B280)","v":1.670210480467697E-2},{"$f":"IF(B281<=$C$206,0,(B281-$C$206)/B281)","v":1.6700175784186772E-2}]
[null,{"$f":"0.5*(-(T282+U282+V282)+SQRT((T282+U282+V282)^2+4*S282*(W282+X282)))/S282","v":0.60307211981658193},{"$f":"0.9*C281","v":4.0468009320049982E-4},7.1484348826811844E-2,-0.14386554899490422,4.1559073495022574,2.7229470285773991,{"$f":"G282/F282","v":0.65519916580996918},1.0526509791107683,{"$f":"MAX(MIN($K$206,$Q$206*$J$206*C282*(B282-$I$206)/B282),-$K$206)","v":199.28748319208572},{"$f":"J282*$H$206","v":0.12020737788454192},{"$f":"MIN($O$206,$Q$206*$N$206*C282*(C$206-B282-$M$206)/B282)","v":-45.162938980636902},{"$f":"L282*$L$206","v":-2.7241643004689852E-2},{"$f":"(0.5*$C$206-B282+H282*B282)*I282+(0.5*$C$206-$I$206)*K282+(0.5*$C$206-$M$206)*M282","v":8.4850566209153169E-2},{"$f":"I282+K282-M282","v":1.2000999999999999},{"$f":"Snitkræfter!$D$44*0.1*$Q$6*C282*$B$6^2/B282+$R$6","v":5.350323463340295E-5},{"$f":"N282-P282*O282","v":8.478635697726962E-2},{"$f":"R281","v":1.2},1.745481086790948,0.13348819715309218,{"$f":"IF(L281<$O$206,$Q$206*C282*$L$206*$N$206,-$L$206*$O$206)","v":0.13348819715309218},{"$f":"-(R282+0.0001)","v":-1.2000999999999999},8.0092918291855327E-3,{"$f":"IF(L281<$O$206,($C$206-$M$206)*$Q$206*C282*$L$206*$N$206,0)","v":6.4074334633484262E-2},{"$f":"IF(B281<$C$206,0,(B281-$C$206)/B281)","v":1.6700175784186772E-2},{"$f":"IF(B282<=$C$206,0,(B282-$C$206)/B282)","v":0.10458470511912343}]
[null,{"$f":"0.5*(-(T283+U283+V283)+SQRT((T283+U283+V283)^2+4*S283*(W283+X283)))/S283","v":0.58356753179304444},{"$f":"IF(ABS(Q281-Q282)<=0.00001*Q$280,C282,MAX(0.9*C282,MIN($AD$4,1.05*C282,IF(C282=$AD$4,0.5*(C282+C281),C282+(C282-C281)*(Q282-Q$280)/(Q281-Q282)))))","v":4.2491409786052484E-4},7.5058566268152438E-2,-0.15105882644464946,4.28184516419942,2.8337167869073157,{"$f":"G283/F283","v":0.6617980515970241},1.049473241876572,{"$f":"MAX(MIN($K$206,$Q$206*$J$206*C283*(B283-$I$206)/B283),-$K$206)","v":208.47916124317194},0.12575166746651728,-41.239517061524339,-2.4875090656910553E-2,9.7413959265461106E-2,{"$f":"I283+K283-M283","v":1.2000999999999999},{"$f":"Snitkræfter!$D$44*0.1*$Q$6*C283*$B$6^2/B283+$R$6","v":5.8056047908771962E-5},{"$f":"N283-P283*O283","v":9.7344286202365793E-2},{"$f":"R282","v":1.2},1.7983749689637563,0.14016260701074681,0.14016260701074681,{"$f":"-(R283+0.0001)","v":-1.2000999999999999},8.4097564206448098E-3,6.7278051365158478E-2,{"$f":"IF(B282<$C$206,0,(B282-$C$206)/B282)","v":0.10458470511912343},{"$f":"IF(B283<=$C$206,0,(B283-$C$206)/B283)","v":7.4657223747833748E-2}]
[null,0.58131751115961683,{"$f":"IF(ABS(Q282-Q283)<=0.00001*Q$280,C283,MAX(0.9*C283,MIN($AD$4,1.05*C283,IF(C283=$AD$4,0.5*(C283+C282),C283+(C283-C282)*(Q283-Q$280)/(Q282-Q283)))))","v":4.2415234602155403E-4},7.4924007303944939E-2,-0.1507880203230913,4.3015766858872473,2.8318255422789278,0.65832269167016666,1.0502443783029272,208.013109478801,0.12547055166508234,-40.427129512847223,-2.4385070031990516E-2,9.6191241509550357E-2,1.2000999999999999,{"$f":"Snitkræfter!$D$44*0.1*$Q$6*C284*$B$6^2/B284+$R$6","v":5.8176275902466814E-5},9.6121424160839811E-2,1.2,1.8066622080726438,0.139911334755524,0.139911334755524,-1.2000999999999999,8.3946800853314397E-3,6.7157440682651531E-2,{"$f":"IF(B283<$C$206,0,(B283-$C$206)/B283)","v":7.4657223747833748E-2},7.1075634857784162E-2]
[null,0.58043908131279565,4.2461959755905573E-4,7.5006544528923011E-2,-0.15095413029511826,4.3082171862586591,2.8346358258484408,0.65796028920958238,1.0502762027889487,208.20598759823136,0.12558689300582615,-40.181490724024002,-2.4236904205225E-2,9.6343360694452831E-2,1.2000999999999999,{"$f":"Snitkræfter!$D$44*0.1*$Q$6*C285*$B$6^2/B285+$R$6","v":5.8328503914903404E-5},9.6273360656904561E-2,1.2,1.8094512182286369,0.14006546283448343,0.14006546283448343,-1.2000999999999999,8.4039277700690054E-3,6.7231422160552057E-2,7.1075634857784162E-2,6.9669811380263E-2]
[null,0.57809399803168904,4.2645911086959521E-4,7.5331483692898674E-2,-0.15160808534937165,4.3252071176468432,2.8450214970144825,0.65777693868272713,1.0501580354813442,209.01017205852492,0.12607196564440329,-39.573211587866901,-2.3869998874252247E-2,9.724486469840285E-2,1.2000999999999999,{"$f":"Snitkræfter!$D$44*0.1*$Q$6*C286*$B$6^2/B286+$R$6","v":5.8818830563385583E-5},9.717427621984373E-2,1.2,1.816586989411674,0.14067224661156774,0.14067224661156774,-1.2000999999999999,8.4403347966940639E-3,6.7522678373552525E-2,6.9669811380263E-2,6.5895854586611402E-2]
[null,0.57853888939520171,4.2584092790387627E-4,7.5222285322376528E-2,-0.15138831859227941,4.3223603188965551,2.8417277852551095,0.65744814767792592,1.0502744861533271,208.72578354107077,0.12590042653198105,-39.664540729566923,-2.3925087314691951E-2,9.6845988336869068E-2,1.2000999999999999,{"$f":"Snitkræfter!$D$44*0.1*$Q$6*C287*$B$6^2/B287+$R$6","v":5.8688402861707763E-5},9.677555638459473E-2,1.2,1.8153913339365531,0.1404683321344509,0.1404683321344509,-1.2000999999999999,8.4280999280670552E-3,6.7424799424536441E-2,6.5895854586611402E-2,6.6614172532964561E-2]
[null,0.57841520550476044,4.259897062267902E-4,7.5248566134582875E-2,-0.15144120993896087,4.3231845534845617,2.8425307845433903,0.65750854477222376,1.050250186414287,208.79354098526525,0.12594129685945127,-39.637068947706254,-2.3908516726261646E-2,9.693749293221135E-2,1.2000999999999999,{"$f":"Snitkræfter!$D$44*0.1*$Q$6*C288*$B$6^2/B288+$R$6","v":5.8721461007324067E-5},9.6867021306856455E-2,1.2,1.8157375124635158,0.14051740830704978,0.14051740830704978,-1.2000999999999999,8.4310444984229873E-3,6.7448355987383912E-2,6.6614172532964561E-2,6.6414584435478236E-2]
[null,0.57839073328884827,4.2599701807458968E-4,7.5249857729320177E-2,-0.15144380933294024,4.3233797325025902,2.8425805282399081,0.6574903672859842,1.0502531649826934,208.79610232760714,0.1259428418247539,-39.629569544059976,-2.3903993192552569E-2,9.6936742156542174E-2,1.2000999999999999,{"$f":"Snitkræfter!$D$44*0.1*$Q$6*C289*$B$6^2/B289+$R$6","v":5.8724953523431378E-5},9.6866266339818707E-2,1.2,1.8158194876510878,0.14051982020078269,0.14051982020078269,-1.2000999999999999,8.4311892120469585E-3,6.7449513696375696E-2,6.6414584435478236E-2,6.6375083623056427E-2]
[null,0.57838764341903837,4.2599701807458968E-4,7.5249857729320177E-2,-0.15144380933294024,4.3234057140301339,2.8425822532791742,0.65748681509453211,1.0502538658425635,208.79597322423595,0.12594276395143503,-39.628536717090149,-2.3903370206001369E-2,9.693586072101118E-2,1.2000999999999999,{"$f":"Snitkræfter!$D$44*0.1*$Q$6*C290*$B$6^2/B290+$R$6","v":5.8725267244623462E-5},9.6865384527790907E-2,1.2,1.8158303998926562,0.14051982020078269,0.14051982020078269,-1.2000999999999999,8.4311892120469585E-3,6.7449513696375696E-2,6.6375083623056427E-2,6.6370096000178055E-2]
[null,0.57838725340386354,4.2599701807458968E-4,7.5249857729320177E-2,-0.15144380933294024,4.3234089935397471,2.8425824709491496,0.65748636670661453,1.0502539543083069,208.79595692821704,0.125942754121908,-39.628406348938888,-2.3903291569785125E-2,9.6935749454347048E-2,1.2001000000000002,{"$f":"Snitkræfter!$D$44*0.1*$Q$6*C291*$B$6^2/B291+$R$6","v":5.872530684394941E-5},9.6865273213603623E-2,1.2,1.8158317772866936,0.14051982020078269,0.14051982020078269,-1.2000999999999999,8.4311892120469585E-3,6.7449513696375696E-2,6.6370096000178055E-2,6.6369466439571242E-2]
[null,0.57838720417644141,4.2599701807458968E-4,7.5249857729320177E-2,-0.15144380933294024,4.3234094074773344,2.8425824984212285,0.65748631011094705,1.050253965474395,208.79595487134424,0.12594275288123155,-39.628389893956353,-2.3903281644373494E-2,9.6935735410086321E-2,1.2000999999999999,{"$f":"Snitkræfter!$D$44*0.1*$Q$6*C292*$B$6^2/B292+$R$6","v":5.8725311842150353E-5},9.6865259163344555E-2,1.2,1.8158319511404803,0.14051982020078269,0.14051982020078269,-1.2000999999999999,8.4311892120469585E-3,6.7449513696375696E-2,6.6369466439571242E-2,6.6369386976844427E-2]
[null,0.57838719796302096,4.2599701807458968E-4,7.5249857729320177E-2,-0.15144380933294024,4.3234094597239974,2.8425825018886353,0.6574863029674971,1.050253966883764,208.7959546117284,0.12594275272463498,-39.62838781702991,-2.3903280391600976E-2,9.6935733637426885E-2,1.2001000000000002,{"$f":"Snitkræfter!$D$44*0.1*$Q$6*C293*$B$6^2/B293+$R$6","v":5.8725312473016758E-5},9.6865257389928017E-2,1.2,1.8158319730840788,0.14051982020078269,0.14051982020078269,-1.2000999999999999,8.4311892120469585E-3,6.7449513696375696E-2,6.6369386976844427E-2,6.6369376947162648E-2]
[null,0.57838719717877907,4.2599701807458968E-4,7.5249857729320177E-2,-0.15144380933294024,4.3234094663184361,2.842582502326751,0.6574863020659778,1.0502539670616509,208.79595457896033,0.12594275270486974,-39.628387554885613,-2.3903280233479263E-2,9.6935733413752334E-2,1.2000999999999999,{"$f":"Snitkræfter!$D$44*0.1*$Q$6*C294*$B$6^2/B294+$R$6","v":5.8725312552643093E-5},9.6865257166157903E-2,1.2,1.8158319758537431,0.14051982020078269,0.14051982020078269,-1.2000999999999999,8.4311892120469585E-3,6.7449513696375696E-2,6.6369376947162648E-2,6.6369375681242085E-2]
[null,0.5783871970797827,4.2599701807458968E-4,7.5249857729320177E-2,-0.15144380933294024,4.3234094671508645,2.842582502381465,0.65748630195204083,1.0502539670841058,208.79595457482395,0.12594275270237473,-39.628387521794636,-2.3903280213519253E-2,9.6935733385434569E-2,1.2000999999999997,{"$f":"Snitkræfter!$D$44*0.1*$Q$6*C295*$B$6^2/B295+$R$6","v":5.8725312562694474E-5},9.6865257137828079E-2,1.2,1.815831976203363,0.14051982020078269,0.14051982020078269,-1.2000999999999999,8.4311892120469585E-3,6.7449513696375696E-2,6.6369375681242085E-2,6.6369375521442495E-2]
[null,0.57838719706730868,4.2599701807458968E-4,7.5249857729320177E-2,-0.15144380933294024,4.3234094672557548,2.8425825023895062,0.65748630193794944,1.0502539670869353,208.79595457430275,0.12594275270206035,-39.628387517625008,-2.3903280211004196E-2,9.6935733382027475E-2,1.2000999999999997,{"$f":"Snitkræfter!$D$44*0.1*$Q$6*C296*$B$6^2/B296+$R$6","v":5.8725312563960999E-5},9.6865257134419472E-2,1.2,1.8158319762474169,0.14051982020078269,0.14051982020078269,-1.2000999999999999,8.4311892120469585E-3,6.7449513696375696E-2,6.6369375521442495E-2,6.6369375501306963E-2]
[null,0.57838719706571695,4.2599701807458968E-4,7.5249857729320177E-2,-0.15144380933294024,4.3234094672691397,2.8425825023895155,0.65748630193591606,1.0502539670872966,208.7959545742363,0.12594275270202027,-39.628387517092953,-2.3903280210683268E-2,9.6935733381449826E-2,1.2001000000000002,{"$f":"Snitkræfter!$D$44*0.1*$Q$6*C297*$B$6^2/B297+$R$6","v":5.8725312564122612E-5},9.6865257133841629E-2,1.2,1.8158319762530386,0.14051982020078269,0.14051982020078269,-1.2000999999999999,8.4311892120469585E-3,6.7449513696375696E-2,6.6369375501306963E-2,6.6369375498737615E-2]
[null,0.57838719706551944,4.2599701807458968E-4,7.5249857729320177E-2,-0.15144380933294024,4.3234094672707997,2.8425825023897904,0.65748630193572721,1.0502539670873412,208.79595457422798,0.12594275270201524,-39.62838751702693,-2.3903280210643443E-2,9.6935733381416686E-2,1.2000999999999997,{"$f":"Snitkræfter!$D$44*0.1*$Q$6*C298*$B$6^2/B298+$R$6","v":5.8725312564142663E-5},9.6865257133808461E-2,1.2,1.8158319762537358,0.14051982020078269,0.14051982020078269,-1.2000999999999999,8.4311892120469585E-3,6.7449513696375696E-2,6.6369375498737615E-2,6.6369375498418787E-2]
[null,null,null,null,null,null,null,null,null,null,null,null,null,null,null,{"$f":"$Q$6*C298/B298","v":2.0138996078238221E-3},null,null,null,null,null,null,null,null,null,null,{"$f":"(N298-$O$2*R298)/($Q$6*C298/B298)","v":48.133349351094722}]
[]
[]
[null,"Tilstand:",{"$f":"C202","v":1},null,"Navier:","a=",{"$f":"J306*Q306/G306","v":24.323781741718612},"A=",{"$f":"C306*D306+G302*H306+G302*L306","v":0.25614351898648502},"Sy=",{"$f":"-(0.5*C306-I306)*G302*H306+(0.5*C306-M306)*G302*L306","v":0},"Iy=",{"$f":"D306*C306^3/12+(0.5*C306-I306)^2*G302*H306+(0.5*C306-M306)^2*G302*L306","v":6.8052891873039908E-3},"h=",{"$f":"K302/I302","v":0},"Io=",{"$f":"M302-I302*O302^2","v":6.8052891873039908E-3},"EIo=",{"$f":"Q302*G306/Q306","v":55.955848145372805},null,null,null,null,"EImax",{"$f":"M302*V309/Q306","v":53.411302588760996},"MNm2"]
[]
[null,"L","h","b","fck","fcd","Ecd","Ac","ac","Esc","fyd_c","At","at","Est","fyd_t","Modenhed","1+f","uterm","g","Ac","ac","Esc","fyd_c","At","at","Est","fyd_t","   emax",null,{"$f":"IF($C$2=1,0.0035,Firsidig!$G$21)","v":3.5000000000000001E-3}]
[null,"(m)","(m)","(m)","(Mpa)","(Mpa)","(Mpa)","(m2)","(m)","(Mpa)","(Mpa)","(m2)","(m)","(Mpa)","(Mpa)","(døgn)",null,"(m)",null,"(m2)","(m)","(Mpa)","(Mpa)","(m2)","(m)","(Mpa)","(Mpa)","e1",null,{"$f":"IF($C$2=1,0.7*(E306+8)^0.31/1000,Firsidig!$F$21)","v":2.0693662482105194E-3}]
[null,{"$f":"B206","v":0.54},{"$f":"C206","v":0.54},{"$f":"D206","v":0.42},{"$f":"E206","v":25},{"$f":"F206","v":17.857142857142858},{"$f":"IF($C$2=1,Kold!AU$23,1.4*F306/AD305)","v":22482.71872144239},{"$f":"IF($W308<0,X306,T306)","v":6.0318578948924026E-4},{"$f":"IF($W308<0,Y306,U306)","v":0.06},{"$f":"IF($W308<0,Z306,V306)","v":200000},{"$f":"IF($W308<0,AA306,W306)","v":458.33333333333337},{"$f":"IF($W308<0,T306,X306)","v":6.0318578948924026E-4},{"$f":"IF($W308<0,U306,Y306)","v":0.06},{"$f":"IF($W308<0,V306,Z306)","v":200000},{"$f":"IF($W308<0,W306,AA306)","v":458.33333333333337},{"$f":"P206","v":28},{"$f":"Q206","v":2.7343237157040781},{"$f":"R206","v":0},{"$f":"S206","v":1.4},{"$f":"T$6","v":6.0318578948924026E-4},{"$f":"U$6","v":0.06},200000,458.33333333333337,6.0318578948924026E-4,0.06,200000,458.33333333333337,"k",null,{"$f":"1.05*G306*AD305/F306","v":2.7356687822616226}]
[]
[null,"Initialt","elasttisk","e_o","sc_o/fcd","sc_u/fcd","sc_o","sc_u","hc","elasttisk","e_o","sc_o/fcd","sc_u/fcd","sc_o","sc_u","hc","At","Ac","Ic","Wt","u_skøn","E",{"$f":"Snitkræfter!D24","v":0},{"$f":"-Snitkræfter!C30","v":0},{"$f":"0.5*(MAX(R311-H306*K306,0)+L306*O306)/(D306*F306)","v":3.3333333333333333E-2},{"$f":"(0.5*C306-Y308)*R311+(C306-M306-Y308)*L306*O306","v":0.24181886857043616},"M_rev"]
[null,"beregning","skøn_1",{"$f":"IF(C302=1,AD305*0.5*(-((AD306-2)*E309-AD306)-(((AD306-2)*E309-AD306)^2-4*E309)^0.5),G309/(1.4*F306/AD305))","v":1.8191986055933606E-4},{"$f":"MIN(0.9999,G309/F306)","v":0.21862743286100766},{"$f":"H309/F306","v":0},{"$f":"R311/Q309+(Q311+$O$2*R311+R311*R306)/T309","v":3.9040613010894227},{"$f":"R311/Q309-(Q311+$O$2*R311+R311*R306)/T309","v":0},{"$f":"IF(G309=H309,100*C306,C306*G309/(G309-H309))","v":0.54},"skøn_2",{"$f":"IF(C302=1,AD305*0.5*(-((AD306-2)*L309-AD306)-(((AD306-2)*L309-AD306)^2-4*L309)^0.5),G309/(1.4*F306/AD305))","v":1.8194696558558701E-4},{"$f":"MIN(0.9999,N309/F306)","v":0.21865694643385161},{"$f":"O309/F306","v":-2.9513572843923084E-5},{"$f":"R311/Q309+(Q311+$O$2*R311+R311*U309)/T309","v":3.9045883291759216},{"$f":"R311/Q309-(Q311+$O$2*R311+R311*U309)/T309","v":-5.2702808649862654E-4},{"$f":"IF(N309=O309,100*C306,C306*N309/(N309-O309))","v":0.53992712246869234},{"$f":"R309+Q306*(H306+L306)*N306/G306","v":0.25614351898648502},{"$f":"C306*D306","v":0.2268},{"$f":"D306*C306^3/12","v":5.5112400000000006E-3},{"$f":"(S309+((0.5*C306-I306)^2*H306+(0.5*C306-M306)^2*L306)*Q306)/(0.5*C306)","v":2.0950773034997532E-2},{"$f":"Q311/(10*AA331/B306^2-R311)+R306","v":2.2083291646603862E-5},{"$f":"G309/D309","v":21460.335826368177},null,null,null,null,{"$f":"R311*T309/Q309+IF(SIGN(W308)=1,-R311*$O$2,+R311*$O$2)","v":4.089655111692083E-2}]
[null,"hc","e0","a'","b'","N'","tN'","t'","Nc","sac","Nac","sat","Nat","Mtot","N","u","Mo","N","A","B1","B2","B3","C1","C2","gættet x","beregnet x","EIt"]
[null,{"$f":"I309","v":0.54},null,null,null,null,null,null,null,null,null,null,null,null,null,null,{"$f":"MAX(MIN(ABS(W308),Z308,0.9*$Q$433),MIN($C$6*$D$6*0.025*$C$6*$F$6,$C$6*0.15*L306*K306),(0.01-$O$2)*R311,AA309)","v":4.089655111692083E-2},{"$f":"Snitkræfter!D3","v":0.5}]
[null,{"$f":"0.5*(-(T312+U312+V312)+SQRT((T312+U312+V312)^2+4*S312*(W312+X312)))/S312","v":0.52238681786442787},{"$f":"MIN(D309,AD305)","v":1.8191986055933606E-4},{"$f":"IF($C$2=1,C312/($AD$6*$AD$5),2^(1/3)*$AD$5/C312)","v":3.2135069130532878E-2},{"$f":"IF($C$2=1,-($AD$6-2)*C312/$AD$5,3*($AD$5/C312)^2)","v":-6.4673308749779099E-2},{"$f":"IF($C$2=1,0.5*($AD$6*C312*$F$6/$AD$5)*(1-Y312^2+(D312-E312)*(E312^2*(1-Y312^2)+2*E312*(1-Y312)+2*LN((1-E312)/(1-E312*Y312)))/(E312^3)),$F$6*E312*(LN((1-D312+D312^2)/(1+D312)^2)/(6*D312)+ATAN((2-D312)/(D312*3^0.5))/(D312*3^0.5)-LN((Y312^2-D312*Y312+D312^2)/(Y312+D312)^2)/(6*D312)-ATAN((2*Y312-D312)/(D312*3^0.5))/(D312*3^0.5)))","v":2.0150868034450218},{"$f":"IF($C$2=1,($AD$6*C312*$F$6/$AD$5)*(1-Y312^3-(D312-E312)*(-2*E312^3*(1-Y312^3)-3*E312^2*(1-Y312^2)-6*E312*(1-Y312)-6*LN((1-E312)/(1-E312*Y312)))/(2*E312^4))/3,$F$6*E312*(LN((1+D312^3)/(D312^3+Y312^3)))/3)","v":1.332684283650694},{"$f":"G312/F312","v":0.6613532882912625},{"$f":"F312*B312*$D$6","v":0.44211500884834365},{"$f":"MAX(MIN($K$306,$Q$306*$J$306*C312*(B312-$I$306)/B312),-$K$306)","v":88.058903726789467},{"$f":"J312*$H$306","v":5.3115879366000505E-2},{"$f":"MIN($O$306,$Q$306*$N$306*C312*(C$306-B312-$M$306)/B312)","v":-8.0723250953555343},{"$f":"L312*$L$306","v":-4.8691117856558344E-3},{"$f":"(0.5*$C$6-B312+H312*B312)*I312+(0.5*$C$6-$I$306)*K312+(0.5*$C$6-$M$306)*M312","v":5.1290704464607435E-2},{"$f":"I312+K312-M312","v":0.50009999999999999},0,{"$f":"N312-P312*O312","v":5.1290704464607435E-2},{"$f":"$R$311","v":0.5},{"$f":"F312*$D$306","v":0.84633645744690911},{"$f":"IF(ABS(J311)<$K$306,$Q$306*C312*$H$306*$J$306,IF(J311>0,1,-1)*$H$306*$K$306)","v":6.0008274734621177E-2},{"$f":"IF(L311<$O$306,$Q$306*C312*$L$306*$N$306,-$L$306*$O$306)","v":6.0008274734621177E-2},{"$f":"-(R312+0.0001)","v":-0.50009999999999999},{"$f":"IF(ABS(J311)<$K$306,$I$306*$Q$306*C312*$H$306*$J$306,0)","v":3.6004964840772704E-3},{"$f":"IF(L311<$O$306,($C$306-$M$306)*$Q$306*C312*$L$306*$N$306,0)","v":2.8803971872618163E-2},{"$f":"IF(B311<$C$6,0,(B311-$C$6)/B311)","v":0},{"$f":"IF(AND(B312<=$C$6,B312>0),0,(B312-$C$6)/B312)","v":0}]
[null,{"$f":"0.5*(-(T313+U313+V313)+SQRT((T313+U313+V313)^2+4*S313*(W313+X313)))/S313","v":0.54830280060685577},{"$f":"0.95*C312","v":1.7282386753136926E-4},3.0528315674006233E-2,-6.1439643312290147E-2,1.9203365624424082,1.2705256117395696,0.66161611281494992,0.44222888442386415,84.169044232122189,5.0769571395707411E-2,-11.773394373965314,-7.1015441804284469E-3,4.652233782200127E-2,0.50009999999999999,0,4.652233782200127E-2,{"$f":"$R$311","v":0.5},0.80654135622581147,{"$f":"IF(ABS(J312)<$K$306,$Q$306*C313*$H$306*$J$306,IF(J312>0,1,-1)*$H$306*$K$306)","v":5.7007860997890111E-2},5.7007860997890111E-2,{"$f":"-(R313+0.0001)","v":-0.50009999999999999},{"$f":"IF(ABS(J312)<$K$306,$I$306*$Q$306*C313*$H$306*$J$306,0)","v":3.4204716598734068E-3},2.7363773278987254E-2,{"$f":"Z312","v":0},{"$f":"IF(AND(B313<=$C$6,B313>0),0,(B313-$C$6)/B313)","v":1.514272879450238E-2}]
[null,0.58364924605547475,{"$f":"IF(ABS($Q$311-Q313)<0.00001*$Q$311,C313,MAX(0.9*C313,MIN($AD$4,1.05*C313,IF(C313=$AD$4,0.5*(C313+C312),C313+(C313-C312)*(Q313-$Q$311)/(Q312-Q313)))))","v":1.6209228573792905E-4},2.8632645120214843E-2,-5.7624518891203139E-2,1.805688941743576,1.1965649029704748,0.66266391475769348,0.44263337557292537,79.529971192425364,4.7971348461759628E-2,-15.741876103141063,-9.495275965314947E-3,4.0442693172420857E-2,0.50009999999999999,0,4.0442693172420857E-2,0.5,0.75838935553230191,5.3467930246966014E-2,5.3467930246966014E-2,-0.50009999999999999,3.2080758148179604E-3,2.5664606518543687E-2,{"$f":"Z313+IF(C312=C313,0,(C314-C313)*(Z313-Z312)/(C313-C312))","v":3.3008335346138978E-2},7.4786777076254349E-2]
[null,0.5830106235716187,1.6289342033291566E-4,2.8774160815717254E-2,-5.7909325755348677E-2,1.8067293287969781,1.2017063948686448,0.66512807187826439,0.4424038048949645,79.913013727073761,4.820239427542948E-2,-15.739430528768127,-9.4938008296060524E-3,4.120561544330939E-2,0.5001000000000001,0,4.120561544330939E-2,0.5,0.75882631809473078,5.3732193339118529E-2,5.3732193339118529E-2,-0.50009999999999999,3.2239316003471125E-3,2.57914528027769E-2,{"$f":"Z314+IF(C313=C314,0,(C315-C314)*(Z314-Z313)/(C314-C313))","v":7.0334226521892348E-2},7.3773310181088181E-2]
[null,0.58444359076422703,1.625688759679206E-4,2.871683197007624E-2,-5.7793948809391309E-2,1.8022716829815548,1.1993868687402467,0.665486163970608,0.44239697625245916,79.776230156507992,4.8119888369428612E-2,-15.887535059847751,-9.5831353781122494E-3,4.1049316455211989E-2,0.50009999999999999,0,4.1049316455211989E-2,0.5,0.75695410685225295,5.3625138796759508E-2,5.3625138796759508E-2,-0.50009999999999999,3.2175083278055709E-3,2.5740066622444567E-2,7.4183871617323149E-2,7.6044277782415071E-2]
[null,0.58589414167996945,1.6225166898972787E-4,2.8660799230486568E-2,-5.7681180336640908E-2,1.7977696562282597,1.1971040939858419,0.66588291210642603,0.44238713806314295,79.643121844423135,4.8039599327116128E-2,-16.036953751731897,-9.6732626097408379E-3,4.0900970868290545E-2,0.50009999999999999,0,4.0900970868290545E-2,0.5,0.75506325561586907,5.3520504572455448E-2,5.3520504572455448E-2,-0.50009999999999999,3.2112302743473268E-3,2.5689842194778621E-2,7.8263902733849519E-2,7.8331798212513931E-2]
[null,0.58593901188483999,1.6224221824700309E-4,2.8659129812590896E-2,-5.7677820556129446E-2,1.7976302972502218,1.1970355910044421,0.66589642644291747,0.44238672244411936,79.639178632630262,4.8037220837797719E-2,-16.041586003337702,-9.6760567180827987E-3,4.0896724620921872E-2,0.50009999999999988,0,4.0896724620921872E-2,0.5,0.75500472484509318,5.3517387140614145E-2,5.3517387140614145E-2,-0.50009999999999999,3.2110432284368482E-3,2.5688345827494789E-2,7.8399951716531135E-2,7.8402377983101026E-2]
[null,0.58593922409847177,1.6224221824700309E-4,2.8659129812590896E-2,-5.7677820556129446E-2,1.7976295736037429,1.1970355342637826,0.6658966629393297,0.44238670458101437,79.639181923141237,4.8037222822587176E-2,-16.041612327425447,-9.6760725963984471E-3,4.0896750314037007E-2,0.50009999999999999,0,4.0896750314037007E-2,0.5,0.75500442091357201,5.3517387140614145E-2,5.3517387140614145E-2,-0.50009999999999999,3.2110432284368482E-3,2.5688345827494789E-2,7.8402377983101026E-2,7.8402711764439373E-2]
[null,0.58593925329324104,1.6224221824700309E-4,2.8659129812590896E-2,-5.7677820556129446E-2,1.7976294740499006,1.1970355264591874,0.66589669547549868,0.44238670212354253,79.639182375825015,4.8037223095639604E-2,-16.041615948895682,-9.6760747808178303E-3,4.0896753848903691E-2,0.50009999999999999,0,4.0896753848903691E-2,0.5,0.75500437910095819,5.3517387140614145E-2,5.3517387140614145E-2,-0.50009999999999999,3.2110432284368482E-3,2.5688345827494789E-2,7.8402711764439373E-2,7.8402757683568428E-2]
[null,0.58593925730967111,1.6224221824700309E-4,2.8659129812590896E-2,-5.7677820556129446E-2,1.7976294603539191,1.1970355253872291,0.66589669995258949,0.4423867017854593,79.639182438102353,4.8037223133204403E-2,-16.041616447114421,-9.6760750813362929E-3,4.0896754335460188E-2,0.50009999999999999,0,4.0896754335460188E-2,0.5,0.75500437334864601,5.3517387140614145E-2,5.3517387140614145E-2,-0.50009999999999999,3.2110432284368482E-3,2.5688345827494789E-2,7.8402757683568428E-2,7.8402764000828851E-2]
[null,0.58593925786215229,1.6224221824700309E-4,2.8659129812590896E-2,-5.7677820556129446E-2,1.7976294584699644,1.1970355252349074,0.66589670056572903,0.44238670173895406,79.63918244666894,4.8037223138371651E-2,-16.041616515647043,-9.6760751226741964E-3,4.0896754401686657E-2,0.50009999999999988,0,4.0896754401686657E-2,0.5,0.75500437255738495,5.3517387140614145E-2,5.3517387140614145E-2,-0.50009999999999999,3.2110432284368482E-3,2.5688345827494789E-2,7.8402764000828851E-2,7.8402764869801383E-2]
[null,0.58593925793825352,1.6224221824700309E-4,2.8659129812590896E-2,-5.7677820556129446E-2,1.7976294582104602,1.197035525220254,0.66589670065370576,0.44238670173254829,79.639182447848953,4.8037223139083415E-2,-16.041616525087033,-9.6760751283682649E-3,4.0896754411721463E-2,0.50009999999999999,0,4.0896754411721463E-2,0.5,0.75500437244839325,5.3517387140614145E-2,5.3517387140614145E-2,-0.50009999999999999,3.2110432284368482E-3,2.5688345827494789E-2,7.8402764869801383E-2,7.8402764989497567E-2]
[null,0.58593925794871682,1.6224221824700309E-4,2.8659129812590896E-2,-5.7677820556129446E-2,1.79762945817478,1.1970355252171596,0.66589670066520135,0.4423867017316675,79.639182448011184,4.8037223139181275E-2,-16.041616526384953,-9.6760751291511526E-3,4.0896754412945498E-2,0.50009999999999999,0,4.0896754412945498E-2,0.5,0.75500437243340757,5.3517387140614145E-2,5.3517387140614145E-2,-0.50009999999999999,3.2110432284368482E-3,2.5688345827494789E-2,7.8402764989497567E-2,7.8402765005954805E-2]
[null,0.58593925795013446,1.6224221824700309E-4,2.8659129812590896E-2,-5.7677820556129446E-2,1.7976294581699459,1.1970355252153899,0.66589670066600759,0.44238670173154809,79.639182448033168,4.8037223139194535E-2,-16.041616526560805,-9.676075129257224E-3,4.0896754412916604E-2,0.50009999999999988,0,4.0896754412916604E-2,0.5,0.7550043724313773,5.3517387140614145E-2,5.3517387140614145E-2,-0.50009999999999999,3.2110432284368482E-3,2.5688345827494789E-2,7.8402765005954805E-2,7.840276500818455E-2]
[null,0.58593925795034141,1.6224221824700309E-4,2.8659129812590896E-2,-5.7677820556129446E-2,1.7976294581692405,1.1970355252164431,0.6658967006668548,0.44238670173153077,79.639182448036379,4.8037223139196471E-2,-16.041616526586473,-9.6760751292727064E-3,4.0896754413101491E-2,0.50009999999999988,0,4.0896754413101491E-2,0.5,0.75500437243108098,5.3517387140614145E-2,5.3517387140614145E-2,-0.50009999999999999,3.2110432284368482E-3,2.5688345827494789E-2,7.840276500818455E-2,7.8402765008510053E-2]
[null,0.58593925795033153,1.6224221824700309E-4,2.8659129812590896E-2,-5.7677820556129446E-2,1.797629458169274,1.1970355252139477,0.66589670066545426,0.44238670173153161,79.639182448036209,4.8037223139196367E-2,-16.041616526585251,-9.6760751292719691E-3,4.0896754412740099E-2,0.50009999999999988,0,4.0896754412740099E-2,0.5,0.75500437243109508,5.3517387140614145E-2,5.3517387140614145E-2,-0.50009999999999999,3.2110432284368482E-3,2.5688345827494789E-2,7.8402765008510053E-2,7.840276500849451E-2]
[null,0.58593925795030566,1.6224221824700309E-4,2.8659129812590896E-2,-5.7677820556129446E-2,1.7976294581693626,1.1970355252125657,0.66589670066465267,0.44238670173153383,79.639182448035825,4.8037223139196138E-2,-16.041616526582043,-9.6760751292700332E-3,4.0896754412536672E-2,0.50009999999999999,0,4.0896754412536672E-2,0.5,0.75500437243113228,5.3517387140614145E-2,5.3517387140614145E-2,-0.50009999999999999,3.2110432284368482E-3,2.5688345827494789E-2,7.840276500849451E-2,7.840276500845382E-2]
[null,0.58593925795039659,1.6224221824700309E-4,2.8659129812590896E-2,-5.7677820556129446E-2,1.7976294581690522,1.1970355252180955,0.66589670066784379,0.44238670173152611,79.639182448037218,4.8037223139196977E-2,-16.041616526593319,-9.676075129276835E-3,4.0896754413348578E-2,0.50009999999999988,0,4.0896754413348578E-2,0.5,0.75500437243100194,5.3517387140614145E-2,5.3517387140614145E-2,-0.50009999999999999,3.2110432284368482E-3,2.5688345827494789E-2,7.840276500845382E-2,7.8402765008596845E-2]
[null,0.58593925795030055,1.6224221824700309E-4,2.8659129812590896E-2,-5.7677820556129446E-2,1.7976294581693797,1.1970355252117342,0.66589670066418372,0.44238670173153422,79.639182448035754,4.8037223139196096E-2,-16.041616526581407,-9.6760751292696498E-3,4.089675441241597E-2,0.50009999999999999,0,4.089675441241597E-2,0.5,0.75500437243113949,5.3517387140614145E-2,5.3517387140614145E-2,-0.50009999999999999,3.2110432284368482E-3,2.5688345827494789E-2,7.8402765008596845E-2,7.8402765008445785E-2]
[null,null,null,null,null,null,null,null,null,null,null,null,null,null,null,null,null,null,null,null,null,null,null,null,null,null,{"$f":"N330/($Q$6*C330/B330)","v":54.016648607050712}]
[null,{"$f":"IF(B330<0,P309,0.5*(P309+B330))","v":0.5629331902094965}]
[null,{"$f":"0.5*(-(T333+U333+V333)+SQRT((T333+U333+V333)^2+4*S333*(W333+X333)))/S333","v":0.55137375522297061},{"$f":"0.5*(K309+C330)","v":1.7209459191629505E-4},{"$f":"IF($C$2=1,C333/($AD$6*$AD$5),2^(1/3)*$AD$5/C333)","v":3.0399493442977873E-2},{"$f":"IF($C$2=1,-($AD$6-2)*C333/$AD$5,3*($AD$5/C333)^2)","v":-6.1180382630843029E-2},{"$f":"IF($C$2=1,0.5*($AD$6*C333*$F$6/$AD$5)*(1-Y333^2+(D333-E333)*(E333^2*(1-Y333^2)+2*E333*(1-Y333)+2*LN((1-E333)/(1-E333*Y333)))/(E333^3)),$F$6*E333*(LN((1-D333+D333^2)/(1+D333)^2)/(6*D333)+ATAN((2-D333)/(D333*3^0.5))/(D333*3^0.5)-LN((Y333^2-D333*Y333+D333^2)/(Y333+D333)^2)/(6*D333)-ATAN((2*Y333-D333)/(D333*3^0.5))/(D333*3^0.5)))","v":1.9093508616020083},{"$f":"IF($C$2=1,($AD$6*C333*$F$6/$AD$5)*(1-Y333^3-(D333-E333)*(-2*E333^3*(1-Y333^3)-3*E333^2*(1-Y333^2)-6*E333*(1-Y333)-6*LN((1-E333)/(1-E333*Y333)))/(2*E333^4))/3,$F$6*E333*(LN((1+D333^3)/(D333^3+Y333^3)))/3)","v":1.2654312522350912},{"$f":"G333/F333","v":0.66275469725525082},{"$f":"F333*B333*$D$6","v":0.44216170093187973},{"$f":"MAX(MIN($K$306,$Q$306*$J$306*C333*(B333-$I$306)/B333),-$K$306)","v":83.871230369756063},{"$f":"J333*$H$306","v":5.0589934306015258E-2},{"$f":"MIN($O$306,$Q$306*$N$306*C333*(C$306-B333-$M$306)/B333)","v":-12.182589328451179},{"$f":"L333*$L$306","v":-7.3483647621050176E-3},{"$f":"(0.5*$C$6-B333+H333*B333)*I333+(0.5*$C$6-$I$306)*K333+(0.5*$C$6-$M$306)*M333","v":4.6245212476640568E-2},{"$f":"I333+K333-M333","v":0.50009999999999999},{"$f":"Snitkræfter!$D$44*0.1*$Q$6*C333*$B$6^2/B333+$R$6","v":2.4886199675767266E-5},{"$f":"N333-P333*O333","v":4.6232766888182716E-2},{"$f":"$R$311","v":0.5},{"$f":"F333*$D$306","v":0.80192736187284341},{"$f":"IF(ABS(J332)<$K$306,$Q$306*C333*$H$306*$J$306,IF(J332>0,1,-1)*$H$306*$K$306)","v":5.6767301383716703E-2},{"$f":"IF(L332<$O$306,$Q$306*C333*$L$306*$N$306,-$L$306*$O$306)","v":5.6767301383716703E-2},{"$f":"-(R333+0.0001)","v":-0.50009999999999999},{"$f":"IF(ABS(J332)<$K$306,$I$306*$Q$306*C333*$H$306*$J$306,0)","v":3.4060380830230027E-3},{"$f":"IF(L332<$O$306,($C$306-$M$306)*$Q$306*C333*$L$306*$N$306,0)","v":2.7248304664184028E-2},{"$f":"IF(ABS(B332)<$C$6,0,(B332-$C$6)/B332)","v":4.073874237360537E-2},{"$f":"IF(AND(B333<=$C$6,B333>0),0,(B333-$C$6)/B333)","v":2.0628031557960402E-2}]
[null,0.57846949342710607,{"$f":"0.95*C333","v":1.634898623204803E-4},2.887951877082898E-2,-5.8121363499300874E-2,1.8216570411196418,1.2062610493721897,0.66217790843373436,0.44258467082524799,80.133387121225184,4.8335320375163131E-2,-15.219206021683922,-9.1800087995888152E-3,4.1230680126894029E-2,0.50009999999999999,{"$f":"Snitkræfter!$D$44*0.1*$Q$6*C334*$B$6^2/B334+$R$6","v":2.2534494295983604E-5},4.121941062629661E-2,0.5,0.76509595727024948,5.3928936314530877E-2,5.3928936314530877E-2,-0.50009999999999999,3.235736178871853E-3,2.5885889430974824E-2,{"$f":"Z333","v":2.0628031557960402E-2},6.6502199103354517E-2]
[null,0.58279653523870623,{"$f":"IF(OR(C334=C333,ABS($Q$311-Q334)<0.00005*$Q$311),C334,MAX(IF(Z334>0,0.98*C334,0.9*C334),MIN($AD$4,IF(Z334>0,1.005*C334,1.05*C334),IF(C334=$AD$4,0.5*(C334+C333),C334+(C334-C333)*(Q334-$Q$311)/(Q333-Q334)))))","v":1.6293571882249343E-4},2.878163259412847E-2,-5.7924363054012502E-2,1.8074065267889707,1.20201506126948,0.66504964071639927,0.44240710986378312,79.93039613592633,4.8212879097436441E-2,-15.716568931121266,-9.4800110387804459E-3,4.1222455170941287E-2,0.50009999999999999,{"$f":"Snitkræfter!$D$44*0.1*$Q$6*C335*$B$6^2/B335+$R$6","v":2.2291371443953751E-5},4.1211307256082165E-2,0.5,0.75911074125136768,5.3746145962958708E-2,5.3746145962958708E-2,-0.50009999999999999,3.2247687577775228E-3,2.5798150062220183E-2,{"$f":"Z334+IF(C333=C334,0,(C335-C334)*(Z334-Z333)/(C334-C333))","v":6.9456489692939688E-2},{"$f":"IF(AND(B335<=$C$6,B335>0),0,(B335-$C$6)/B335)","v":7.3433063944309929E-2}]
[null,0.59898569806153179,{"$f":"IF(OR(C335=C334,ABS($Q$311-Q335)<0.00005*$Q$311),C335,MAX(IF(Z335>0,0.98*C335,0.9*C335),MIN($AD$4,IF(Z335>0,1.005*C335,1.05*C335),IF(C335=$AD$4,0.5*(C335+C334),C335+(C335-C334)*(Q335-$Q$311)/(Q334-Q335)))))","v":1.5967700444604355E-4},2.8205999942245898E-2,-5.6765875792932248E-2,1.757900017954503,1.1780308342714982,0.67013528769529107,0.44224192713828003,78.574764856964634,4.7395181574179622E-2,-17.34605070255374,-1.0462891287540268E-2,3.9781064021735639E-2,0.50009999999999988,{"$f":"Snitkræfter!$D$44*0.1*$Q$6*C336*$B$6^2/B336+$R$6","v":2.1255110770745501E-5},3.9770434340839191E-2,0.5,0.73831800754089127,5.2671223043699526E-2,5.2671223043699526E-2,-0.50009999999999999,3.1602733826219718E-3,2.5282187060975781E-2,{"$f":"MIN(Z335+IF(C334=C335,Y335-Z335,IF(ABS(Y335-Z335)<0.001,Y335-Z335,(C336-C335)*(Z335-Z334)/(C335-C334))),0.995)","v":0.11419093438852387},9.8475970715868999E-2]
[null,0.59352647156380056,1.6047538946827375E-4,2.8347029941957126E-2,-5.7049705171896906E-2,1.7746694289669576,1.1844310529378401,0.66740939670511046,0.44239157943409929,78.88678232234524,4.7583386075369653E-2,-16.785930084832721,-1.0125034490531015E-2,3.9983295335998308E-2,0.50009999999999999,{"$f":"Snitkræfter!$D$44*0.1*$Q$6*C337*$B$6^2/B337+$R$6","v":2.1557867276736488E-5},3.9972514246573214E-2,0.5,0.74536116016612219,5.2934579158918027E-2,5.2934579158918027E-2,-0.50009999999999999,3.1760747495350817E-3,2.5408597996280657E-2,{"$f":"MIN(Z336+IF(C335=C336,Y336-Z336,IF(ABS(Y336-Z336)<0.001,Y336-Z336,(C337-C336)*(Z336-Z335)/(C336-C335))),0.995)","v":9.234045855683716E-2},9.0183798243692576E-2]
[null,0.58963774312564343,1.6127776641561509E-4,2.8488765091666906E-2,-5.7334953697756381E-2,1.7864974287695417,1.1902825903348282,0.66626605287343788,0.44242225103976374,79.222414799223728,4.7785834815913836E-2,-16.399448257391239,-9.8919141443224792E-3,4.0350937588636296E-2,0.50009999999999999,{"$f":"Snitkræfter!$D$44*0.1*$Q$6*C338*$B$6^2/B338+$R$6","v":2.1808544099521852E-5},4.0340031135732125E-2,0.5,0.75032892008320751,5.3199252054712605E-2,5.3199252054712605E-2,-0.50009999999999999,3.1919551232827562E-3,2.5535640986262056E-2,8.1850164909155448E-2,8.4183456205696616E-2]
[null,0.5864696827112782,1.6208415524769315E-4,2.8631208917125235E-2,-5.7621628466245155E-2,1.7960509612013216,1.1959486755057733,0.66587680491306389,0.44239836368659058,79.569803836261173,4.7995374946479173E-2,-16.091661203008687,-9.7062613669301728E-3,4.0798930537697509E-2,0.50009999999999988,{"$f":"Snitkræfter!$D$44*0.1*$Q$6*C339*$B$6^2/B339+$R$6","v":2.2035983799829072E-5},4.0787910342199217E-2,0.5,0.75434140370455505,5.3465248314986169E-2,5.3465248314986169E-2,-0.50009999999999999,3.20791489889917E-3,2.566331919119336E-2,7.8153112457510582E-2,7.9236291459170632E-2]
[null,0.58577629899287087,1.6227975867419482E-4,2.866576110737799E-2,-5.7691166342735176E-2,1.7981310505978076,1.1973035482298413,0.66586000382551935,0.44238707180780545,79.655081694301444,4.8046813338607143E-2,-16.025103744191838,-9.6661148535873345E-3,4.0915463690955299E-2,0.50009999999999999,{"$f":"Snitkræfter!$D$44*0.1*$Q$6*C340*$B$6^2/B340+$R$6","v":2.208869234553805E-5},4.0904417135913293E-2,0.5,0.75521504125107919,5.3529770265038544E-2,5.3529770265038544E-2,-0.50009999999999999,3.2117862159023124E-3,2.5694289727218503E-2,7.8036271893677581E-2,7.8146382964920796E-2]
[null,0.58582236834427348,1.6226655240339461E-4,2.8663428297624197E-2,-5.7686471455512478E-2,1.7979929625251945,1.1972122627287629,0.66586037191565861,0.44238788814059526,79.649314174750387,4.8043334452773347E-2,-16.029517895006432,-9.6687774066313587E-3,4.0907520063377278E-2,0.50009999999999999,{"$f":"Snitkræfter!$D$44*0.1*$Q$6*C341*$B$6^2/B341+$R$6","v":2.2085157851396833E-5},4.0896475275935797E-2,0.5,0.75515704426058161,5.3525414030793639E-2,5.3525414030793639E-2,-0.50009999999999999,3.2115248418476175E-3,2.5692198734780947E-2,7.8036271893677581E-2,7.8218877974534362E-2]
[null,0.58582236834427348,1.6226655240339461E-4,2.8663428297624197E-2,-5.7686471455512478E-2,1.7979929625251945,1.1972122627287629,0.66586037191565861,0.44238788814059526,79.649314174750387,4.8043334452773347E-2,-16.029517895006432,-9.6687774066313587E-3,4.0907520063377278E-2,0.50009999999999999,{"$f":"Snitkræfter!$D$44*0.1*$Q$6*C342*$B$6^2/B342+$R$6","v":2.2085157851396833E-5},4.0896475275935797E-2,0.5,0.75515704426058161,5.3525414030793639E-2,5.3525414030793639E-2,-0.50009999999999999,3.2115248418476175E-3,2.5692198734780947E-2,7.8036271893677581E-2,7.8218877974534362E-2]
[null,0.58582236834427348,1.6226655240339461E-4,2.8663428297624197E-2,-5.7686471455512478E-2,1.7979929625251945,1.1972122627287629,0.66586037191565861,0.44238788814059526,79.649314174750387,4.8043334452773347E-2,-16.029517895006432,-9.6687774066313587E-3,4.0907520063377278E-2,0.50009999999999999,{"$f":"Snitkræfter!$D$44*0.1*$Q$6*C343*$B$6^2/B343+$R$6","v":2.2085157851396833E-5},4.0896475275935797E-2,0.5,0.75515704426058161,5.3525414030793639E-2,5.3525414030793639E-2,-0.50009999999999999,3.2115248418476175E-3,2.5692198734780947E-2,7.8036271893677581E-2,7.8218877974534362E-2]
[null,0.58582236834427348,1.6226655240339461E-4,2.8663428297624197E-2,-5.7686471455512478E-2,1.7979929625251945,1.1972122627287629,0.66586037191565861,0.44238788814059526,79.649314174750387,4.8043334452773347E-2,-16.029517895006432,-9.6687774066313587E-3,4.0907520063377278E-2,0.50009999999999999,{"$f":"Snitkræfter!$D$44*0.1*$Q$6*C344*$B$6^2/B344+$R$6","v":2.2085157851396833E-5},4.0896475275935797E-2,0.5,0.75515704426058161,5.3525414030793639E-2,5.3525414030793639E-2,-0.50009999999999999,3.2115248418476175E-3,2.5692198734780947E-2,7.8036271893677581E-2,7.8218877974534362E-2]
[null,0.58582236834427348,1.6226655240339461E-4,2.8663428297624197E-2,-5.7686471455512478E-2,1.7979929625251945,1.1972122627287629,0.66586037191565861,0.44238788814059526,79.649314174750387,4.8043334452773347E-2,-16.029517895006432,-9.6687774066313587E-3,4.0907520063377278E-2,0.50009999999999999,{"$f":"Snitkræfter!$D$44*0.1*$Q$6*C345*$B$6^2/B345+$R$6","v":2.2085157851396833E-5},4.0896475275935797E-2,0.5,0.75515704426058161,5.3525414030793639E-2,5.3525414030793639E-2,-0.50009999999999999,3.2115248418476175E-3,2.5692198734780947E-2,7.8036271893677581E-2,7.8218877974534362E-2]
[null,0.58582236834427348,1.6226655240339461E-4,2.8663428297624197E-2,-5.7686471455512478E-2,1.7979929625251945,1.1972122627287629,0.66586037191565861,0.44238788814059526,79.649314174750387,4.8043334452773347E-2,-16.029517895006432,-9.6687774066313587E-3,4.0907520063377278E-2,0.50009999999999999,{"$f":"Snitkræfter!$D$44*0.1*$Q$6*C346*$B$6^2/B346+$R$6","v":2.2085157851396833E-5},4.0896475275935797E-2,0.5,0.75515704426058161,5.3525414030793639E-2,5.3525414030793639E-2,-0.50009999999999999,3.2115248418476175E-3,2.5692198734780947E-2,7.8036271893677581E-2,7.8218877974534362E-2]
[null,0.58582236834427348,1.6226655240339461E-4,2.8663428297624197E-2,-5.7686471455512478E-2,1.7979929625251945,1.1972122627287629,0.66586037191565861,0.44238788814059526,79.649314174750387,4.8043334452773347E-2,-16.029517895006432,-9.6687774066313587E-3,4.0907520063377278E-2,0.50009999999999999,{"$f":"Snitkræfter!$D$44*0.1*$Q$6*C347*$B$6^2/B347+$R$6","v":2.2085157851396833E-5},4.0896475275935797E-2,0.5,0.75515704426058161,5.3525414030793639E-2,5.3525414030793639E-2,-0.50009999999999999,3.2115248418476175E-3,2.5692198734780947E-2,7.8036271893677581E-2,7.8218877974534362E-2]
[null,0.58582236834427348,1.6226655240339461E-4,2.8663428297624197E-2,-5.7686471455512478E-2,1.7979929625251945,1.1972122627287629,0.66586037191565861,0.44238788814059526,79.649314174750387,4.8043334452773347E-2,-16.029517895006432,-9.6687774066313587E-3,4.0907520063377278E-2,0.50009999999999999,{"$f":"Snitkræfter!$D$44*0.1*$Q$6*C348*$B$6^2/B348+$R$6","v":2.2085157851396833E-5},4.0896475275935797E-2,0.5,0.75515704426058161,5.3525414030793639E-2,5.3525414030793639E-2,-0.50009999999999999,3.2115248418476175E-3,2.5692198734780947E-2,7.8036271893677581E-2,7.8218877974534362E-2]
[null,0.58582236834427348,1.6226655240339461E-4,2.8663428297624197E-2,-5.7686471455512478E-2,1.7979929625251945,1.1972122627287629,0.66586037191565861,0.44238788814059526,79.649314174750387,4.8043334452773347E-2,-16.029517895006432,-9.6687774066313587E-3,4.0907520063377278E-2,0.50009999999999999,{"$f":"Snitkræfter!$D$44*0.1*$Q$6*C349*$B$6^2/B349+$R$6","v":2.2085157851396833E-5},4.0896475275935797E-2,0.5,0.75515704426058161,5.3525414030793639E-2,5.3525414030793639E-2,-0.50009999999999999,3.2115248418476175E-3,2.5692198734780947E-2,{"$f":"MIN(Z348+IF(C347=C348,Y348-Z348,IF(ABS(Y348-Z348)<0.001,Y348-Z348,(C349-C348)*(Z348-Z347)/(C348-C347))),0.995)","v":7.8036271893677581E-2},7.8218877974534362E-2]
[null,0.58582236834427348,1.6226655240339461E-4,2.8663428297624197E-2,-5.7686471455512478E-2,1.7979929625251945,1.1972122627287629,0.66586037191565861,0.44238788814059526,79.649314174750387,4.8043334452773347E-2,-16.029517895006432,-9.6687774066313587E-3,4.0907520063377278E-2,0.50009999999999999,{"$f":"Snitkræfter!$D$44*0.1*$Q$6*C350*$B$6^2/B350+$R$6","v":2.2085157851396833E-5},4.0896475275935797E-2,0.5,0.75515704426058161,5.3525414030793639E-2,5.3525414030793639E-2,-0.50009999999999999,3.2115248418476175E-3,2.5692198734780947E-2,{"$f":"MIN(Z349+IF(C348=C349,Y349-Z349,IF(ABS(Y349-Z349)<0.001,Y349-Z349,(C350-C349)*(Z349-Z348)/(C349-C348))),0.995)","v":7.8036271893677581E-2},7.8218877974534362E-2]
[null,0.58582236834427348,1.6226655240339461E-4,2.8663428297624197E-2,-5.7686471455512478E-2,1.7979929625251945,1.1972122627287629,0.66586037191565861,0.44238788814059526,79.649314174750387,4.8043334452773347E-2,-16.029517895006432,-9.6687774066313587E-3,4.0907520063377278E-2,0.50009999999999999,{"$f":"Snitkræfter!$D$44*0.1*$Q$6*C351*$B$6^2/B351+$R$6","v":2.2085157851396833E-5},4.0896475275935797E-2,0.5,0.75515704426058161,5.3525414030793639E-2,5.3525414030793639E-2,-0.50009999999999999,3.2115248418476175E-3,2.5692198734780947E-2,7.8036271893677581E-2,7.8218877974534362E-2]
[null,0.58582236834427348,1.6226655240339461E-4,2.8663428297624197E-2,-5.7686471455512478E-2,1.7979929625251945,1.1972122627287629,0.66586037191565861,0.44238788814059526,79.649314174750387,4.8043334452773347E-2,-16.029517895006432,-9.6687774066313587E-3,4.0907520063377278E-2,0.50009999999999999,{"$f":"Snitkræfter!$D$44*0.1*$Q$6*C352*$B$6^2/B352+$R$6","v":2.2085157851396833E-5},4.0896475275935797E-2,0.5,0.75515704426058161,5.3525414030793639E-2,5.3525414030793639E-2,-0.50009999999999999,3.2115248418476175E-3,2.5692198734780947E-2,7.8036271893677581E-2,7.8218877974534362E-2]
[null,0.58582236834427348,1.6226655240339461E-4,2.8663428297624197E-2,-5.7686471455512478E-2,1.7979929625251945,1.1972122627287629,0.66586037191565861,0.44238788814059526,79.649314174750387,4.8043334452773347E-2,-16.029517895006432,-9.6687774066313587E-3,4.0907520063377278E-2,0.50009999999999999,{"$f":"Snitkræfter!$D$44*0.1*$Q$6*C353*$B$6^2/B353+$R$6","v":2.2085157851396833E-5},4.0896475275935797E-2,0.5,0.75515704426058161,5.3525414030793639E-2,5.3525414030793639E-2,-0.50009999999999999,3.2115248418476175E-3,2.5692198734780947E-2,7.8036271893677581E-2,7.8218877974534362E-2]
[null,0.58582236834427348,1.6226655240339461E-4,2.8663428297624197E-2,-5.7686471455512478E-2,1.7979929625251945,1.1972122627287629,0.66586037191565861,0.44238788814059526,79.649314174750387,4.8043334452773347E-2,-16.029517895006432,-9.6687774066313587E-3,4.0907520063377278E-2,0.50009999999999999,{"$f":"Snitkræfter!$D$44*0.1*$Q$6*C354*$B$6^2/B354+$R$6","v":2.2085157851396833E-5},4.0896475275935797E-2,0.5,0.75515704426058161,5.3525414030793639E-2,5.3525414030793639E-2,-0.50009999999999999,3.2115248418476175E-3,2.5692198734780947E-2,7.8036271893677581E-2,7.8218877974534362E-2]
[null,0.58582236834427348,1.6226655240339461E-4,2.8663428297624197E-2,-5.7686471455512478E-2,1.7979929625251945,1.1972122627287629,0.66586037191565861,0.44238788814059526,79.649314174750387,4.8043334452773347E-2,-16.029517895006432,-9.6687774066313587E-3,4.0907520063377278E-2,0.50009999999999999,{"$f":"Snitkræfter!$D$44*0.1*$Q$6*C355*$B$6^2/B355+$R$6","v":2.2085157851396833E-5},4.0896475275935797E-2,0.5,0.75515704426058161,5.3525414030793639E-2,5.3525414030793639E-2,-0.50009999999999999,3.2115248418476175E-3,2.5692198734780947E-2,7.8036271893677581E-2,7.8218877974534362E-2]
[null,0.58582236834427348,1.6226655240339461E-4,2.8663428297624197E-2,-5.7686471455512478E-2,1.7979929625251945,1.1972122627287629,0.66586037191565861,0.44238788814059526,79.649314174750387,4.8043334452773347E-2,-16.029517895006432,-9.6687774066313587E-3,4.0907520063377278E-2,0.50009999999999999,{"$f":"Snitkræfter!$D$44*0.1*$Q$6*C356*$B$6^2/B356+$R$6","v":2.2085157851396833E-5},4.0896475275935797E-2,0.5,0.75515704426058161,5.3525414030793639E-2,5.3525414030793639E-2,-0.50009999999999999,3.2115248418476175E-3,2.5692198734780947E-2,7.8036271893677581E-2,7.8218877974534362E-2]
[null,0.58582236834427348,1.6226655240339461E-4,2.8663428297624197E-2,-5.7686471455512478E-2,1.7979929625251945,1.1972122627287629,0.66586037191565861,0.44238788814059526,79.649314174750387,4.8043334452773347E-2,-16.029517895006432,-9.6687774066313587E-3,4.0907520063377278E-2,0.50009999999999999,{"$f":"Snitkræfter!$D$44*0.1*$Q$6*C357*$B$6^2/B357+$R$6","v":2.2085157851396833E-5},4.0896475275935797E-2,0.5,0.75515704426058161,5.3525414030793639E-2,5.3525414030793639E-2,-0.50009999999999999,3.2115248418476175E-3,2.5692198734780947E-2,7.8036271893677581E-2,7.8218877974534362E-2]
[null,{"$f":"0.5*(-(T358+U358+V358)+SQRT((T358+U358+V358)^2+4*S358*(W358+X358)))/S358","v":0.58582236834427348},1.6226655240339461E-4,2.8663428297624197E-2,-5.7686471455512478E-2,1.7979929625251945,1.1972122627287629,0.66586037191565861,0.44238788814059526,79.649314174750387,4.8043334452773347E-2,-16.029517895006432,-9.6687774066313587E-3,4.0907520063377278E-2,0.50009999999999999,{"$f":"Snitkræfter!$D$44*0.1*$Q$6*C358*$B$6^2/B358+$R$6","v":2.2085157851396833E-5},4.0896475275935797E-2,0.5,0.75515704426058161,5.3525414030793639E-2,5.3525414030793639E-2,-0.50009999999999999,3.2115248418476175E-3,2.5692198734780947E-2,7.8036271893677581E-2,7.8218877974534362E-2]
[null,{"$f":"0.5*(-(T359+U359+V359)+SQRT((T359+U359+V359)^2+4*S359*(W359+X359)))/S359","v":0.58582236834427348},1.6226655240339461E-4,2.8663428297624197E-2,-5.7686471455512478E-2,1.7979929625251945,1.1972122627287629,0.66586037191565861,0.44238788814059526,79.649314174750387,4.8043334452773347E-2,-16.029517895006432,-9.6687774066313587E-3,4.0907520063377278E-2,0.50009999999999999,{"$f":"Snitkræfter!$D$44*0.1*$Q$6*C359*$B$6^2/B359+$R$6","v":2.2085157851396833E-5},4.0896475275935797E-2,0.5,0.75515704426058161,5.3525414030793639E-2,5.3525414030793639E-2,-0.50009999999999999,3.2115248418476175E-3,2.5692198734780947E-2,7.8036271893677581E-2,7.8218877974534362E-2]
[null,0.58582236834427348,1.6226655240339461E-4,2.8663428297624197E-2,-5.7686471455512478E-2,1.7979929625251945,1.1972122627287629,0.66586037191565861,0.44238788814059526,79.649314174750387,4.8043334452773347E-2,-16.029517895006432,-9.6687774066313587E-3,4.0907520063377278E-2,0.50009999999999999,{"$f":"Snitkræfter!$D$44*0.1*$Q$6*C360*$B$6^2/B360+$R$6","v":2.2085157851396833E-5},4.0896475275935797E-2,0.5,0.75515704426058161,5.3525414030793639E-2,5.3525414030793639E-2,-0.50009999999999999,3.2115248418476175E-3,2.5692198734780947E-2,7.8036271893677581E-2,7.8218877974534362E-2]
[null,0.58582236834427348,1.6226655240339461E-4,2.8663428297624197E-2,-5.7686471455512478E-2,1.7979929625251945,1.1972122627287629,0.66586037191565861,0.44238788814059526,79.649314174750387,4.8043334452773347E-2,-16.029517895006432,-9.6687774066313587E-3,4.0907520063377278E-2,0.50009999999999999,{"$f":"Snitkræfter!$D$44*0.1*$Q$6*C361*$B$6^2/B361+$R$6","v":2.2085157851396833E-5},4.0896475275935797E-2,0.5,0.75515704426058161,5.3525414030793639E-2,5.3525414030793639E-2,-0.50009999999999999,3.2115248418476175E-3,2.5692198734780947E-2,7.8036271893677581E-2,7.8218877974534362E-2]
[null,0.58582236834427348,1.6226655240339461E-4,2.8663428297624197E-2,-5.7686471455512478E-2,1.7979929625251945,1.1972122627287629,0.66586037191565861,0.44238788814059526,79.649314174750387,4.8043334452773347E-2,-16.029517895006432,-9.6687774066313587E-3,4.0907520063377278E-2,0.50009999999999999,{"$f":"Snitkræfter!$D$44*0.1*$Q$6*C362*$B$6^2/B362+$R$6","v":2.2085157851396833E-5},4.0896475275935797E-2,0.5,0.75515704426058161,5.3525414030793639E-2,5.3525414030793639E-2,-0.50009999999999999,3.2115248418476175E-3,2.5692198734780947E-2,7.8036271893677581E-2,7.8218877974534362E-2]
[null,0.58582236834427348,1.6226655240339461E-4,2.8663428297624197E-2,-5.7686471455512478E-2,1.7979929625251945,1.1972122627287629,0.66586037191565861,0.44238788814059526,79.649314174750387,4.8043334452773347E-2,-16.029517895006432,-9.6687774066313587E-3,4.0907520063377278E-2,0.50009999999999999,{"$f":"Snitkræfter!$D$44*0.1*$Q$6*C363*$B$6^2/B363+$R$6","v":2.2085157851396833E-5},4.0896475275935797E-2,0.5,0.75515704426058161,5.3525414030793639E-2,5.3525414030793639E-2,-0.50009999999999999,3.2115248418476175E-3,2.5692198734780947E-2,7.8036271893677581E-2,7.8218877974534362E-2]
[null,0.58582236834427348,1.6226655240339461E-4,2.8663428297624197E-2,-5.7686471455512478E-2,1.7979929625251945,1.1972122627287629,0.66586037191565861,0.44238788814059526,79.649314174750387,4.8043334452773347E-2,-16.029517895006432,-9.6687774066313587E-3,4.0907520063377278E-2,0.50009999999999999,{"$f":"Snitkræfter!$D$44*0.1*$Q$6*C364*$B$6^2/B364+$R$6","v":2.2085157851396833E-5},4.0896475275935797E-2,0.5,0.75515704426058161,5.3525414030793639E-2,5.3525414030793639E-2,-0.50009999999999999,3.2115248418476175E-3,2.5692198734780947E-2,7.8036271893677581E-2,7.8218877974534362E-2]
[null,0.58582236834427348,1.6226655240339461E-4,2.8663428297624197E-2,-5.7686471455512478E-2,1.7979929625251945,1.1972122627287629,0.66586037191565861,0.44238788814059526,{"$f":"MAX(MIN($K$306,$Q$306*$J$306*C365*(B365-$I$306)/B365),-$K$306)","v":79.649314174750387},{"$f":"J365*$H$306","v":4.8043334452773347E-2},{"$f":"MIN($O$306,$Q$306*$N$306*C365*(C$306-B365-$M$306)/B365)","v":-16.029517895006432},{"$f":"L365*$L$306","v":-9.6687774066313587E-3},{"$f":"(0.5*$C$6-B365+H365*B365)*I365+(0.5*$C$6-$I$306)*K365+(0.5*$C$6-$M$306)*M365","v":4.0907520063377278E-2},0.50009999999999999,{"$f":"Snitkræfter!$D$44*0.1*$Q$6*C365*$B$6^2/B365+$R$6","v":2.2085157851396833E-5},4.0896475275935797E-2,0.5,{"$f":"F365*$D$306","v":0.75515704426058161},5.3525414030793639E-2,5.3525414030793639E-2,-0.50009999999999999,3.2115248418476175E-3,2.5692198734780947E-2,7.8036271893677581E-2,7.8218877974534362E-2]
[null,0.58582236834427348,1.6226655240339461E-4,2.8663428297624197E-2,-5.7686471455512478E-2,1.7979929625251945,1.1972122627287629,0.66586037191565861,0.44238788814059526,79.649314174750387,4.8043334452773347E-2,-16.029517895006432,-9.6687774066313587E-3,4.0907520063377278E-2,0.50009999999999999,{"$f":"Snitkræfter!$D$44*0.1*$Q$6*C366*$B$6^2/B366+$R$6","v":2.2085157851396833E-5},4.0896475275935797E-2,0.5,0.75515704426058161,5.3525414030793639E-2,5.3525414030793639E-2,-0.50009999999999999,3.2115248418476175E-3,2.5692198734780947E-2,7.8036271893677581E-2,7.8218877974534362E-2]
[null,0.58582236834427348,1.6226655240339461E-4,2.8663428297624197E-2,-5.7686471455512478E-2,1.7979929625251945,1.1972122627287629,0.66586037191565861,0.44238788814059526,79.649314174750387,4.8043334452773347E-2,-16.029517895006432,-9.6687774066313587E-3,4.0907520063377278E-2,0.50009999999999999,{"$f":"Snitkræfter!$D$44*0.1*$Q$6*C367*$B$6^2/B367+$R$6","v":2.2085157851396833E-5},4.0896475275935797E-2,0.5,0.75515704426058161,5.3525414030793639E-2,5.3525414030793639E-2,-0.50009999999999999,3.2115248418476175E-3,2.5692198734780947E-2,7.8036271893677581E-2,7.8218877974534362E-2]
[null,0.58582236834427348,1.6226655240339461E-4,2.8663428297624197E-2,-5.7686471455512478E-2,1.7979929625251945,1.1972122627287629,0.66586037191565861,0.44238788814059526,79.649314174750387,4.8043334452773347E-2,-16.029517895006432,-9.6687774066313587E-3,4.0907520063377278E-2,0.50009999999999999,{"$f":"Snitkræfter!$D$44*0.1*$Q$6*C368*$B$6^2/B368+$R$6","v":2.2085157851396833E-5},4.0896475275935797E-2,0.5,0.75515704426058161,5.3525414030793639E-2,5.3525414030793639E-2,-0.50009999999999999,3.2115248418476175E-3,2.5692198734780947E-2,7.8036271893677581E-2,7.8218877974534362E-2]
[null,0.58582236834427348,1.6226655240339461E-4,2.8663428297624197E-2,-5.7686471455512478E-2,1.7979929625251945,1.1972122627287629,0.66586037191565861,0.44238788814059526,79.649314174750387,4.8043334452773347E-2,-16.029517895006432,-9.6687774066313587E-3,4.0907520063377278E-2,0.50009999999999999,{"$f":"Snitkræfter!$D$44*0.1*$Q$6*C369*$B$6^2/B369+$R$6","v":2.2085157851396833E-5},4.0896475275935797E-2,0.5,0.75515704426058161,5.3525414030793639E-2,5.3525414030793639E-2,-0.50009999999999999,3.2115248418476175E-3,2.5692198734780947E-2,7.8036271893677581E-2,7.8218877974534362E-2]
[null,0.58582236834427348,1.6226655240339461E-4,2.8663428297624197E-2,-5.7686471455512478E-2,1.7979929625251945,1.1972122627287629,0.66586037191565861,0.44238788814059526,79.649314174750387,4.8043334452773347E-2,-16.029517895006432,-9.6687774066313587E-3,4.0907520063377278E-2,0.50009999999999999,{"$f":"Snitkræfter!$D$44*0.1*$Q$6*C370*$B$6^2/B370+$R$6","v":2.2085157851396833E-5},4.0896475275935797E-2,0.5,0.75515704426058161,5.3525414030793639E-2,5.3525414030793639E-2,-0.50009999999999999,3.2115248418476175E-3,2.5692198734780947E-2,7.8036271893677581E-2,7.8218877974534362E-2]
[null,0.58582236834427348,1.6226655240339461E-4,2.8663428297624197E-2,-5.7686471455512478E-2,1.7979929625251945,1.1972122627287629,0.66586037191565861,0.44238788814059526,79.649314174750387,4.8043334452773347E-2,-16.029517895006432,-9.6687774066313587E-3,4.0907520063377278E-2,0.50009999999999999,{"$f":"Snitkræfter!$D$44*0.1*$Q$6*C371*$B$6^2/B371+$R$6","v":2.2085157851396833E-5},4.0896475275935797E-2,0.5,0.75515704426058161,5.3525414030793639E-2,5.3525414030793639E-2,-0.50009999999999999,3.2115248418476175E-3,2.5692198734780947E-2,7.8036271893677581E-2,7.8218877974534362E-2]
[null,0.58582236834427348,1.6226655240339461E-4,2.8663428297624197E-2,-5.7686471455512478E-2,1.7979929625251945,1.1972122627287629,0.66586037191565861,0.44238788814059526,79.649314174750387,4.8043334452773347E-2,-16.029517895006432,-9.6687774066313587E-3,4.0907520063377278E-2,0.50009999999999999,{"$f":"Snitkræfter!$D$44*0.1*$Q$6*C372*$B$6^2/B372+$R$6","v":2.2085157851396833E-5},4.0896475275935797E-2,0.5,0.75515704426058161,5.3525414030793639E-2,5.3525414030793639E-2,-0.50009999999999999,3.2115248418476175E-3,2.5692198734780947E-2,7.8036271893677581E-2,7.8218877974534362E-2]
[null,0.58582236834427348,1.6226655240339461E-4,2.8663428297624197E-2,-5.7686471455512478E-2,1.7979929625251945,1.1972122627287629,0.66586037191565861,0.44238788814059526,79.649314174750387,4.8043334452773347E-2,-16.029517895006432,-9.6687774066313587E-3,4.0907520063377278E-2,0.50009999999999999,{"$f":"Snitkræfter!$D$44*0.1*$Q$6*C373*$B$6^2/B373+$R$6","v":2.2085157851396833E-5},4.0896475275935797E-2,0.5,0.75515704426058161,5.3525414030793639E-2,5.3525414030793639E-2,-0.50009999999999999,3.2115248418476175E-3,2.5692198734780947E-2,7.8036271893677581E-2,7.8218877974534362E-2]
[null,0.58582236834427348,1.6226655240339461E-4,2.8663428297624197E-2,-5.7686471455512478E-2,1.7979929625251945,1.1972122627287629,0.66586037191565861,0.44238788814059526,79.649314174750387,4.8043334452773347E-2,-16.029517895006432,-9.6687774066313587E-3,4.0907520063377278E-2,0.50009999999999999,{"$f":"Snitkræfter!$D$44*0.1*$Q$6*C374*$B$6^2/B374+$R$6","v":2.2085157851396833E-5},4.0896475275935797E-2,0.5,0.75515704426058161,5.3525414030793639E-2,5.3525414030793639E-2,-0.50009999999999999,3.2115248418476175E-3,2.5692198734780947E-2,7.8036271893677581E-2,7.8218877974534362E-2]
[null,0.58582236834427348,1.6226655240339461E-4,2.8663428297624197E-2,-5.7686471455512478E-2,1.7979929625251945,1.1972122627287629,0.66586037191565861,0.44238788814059526,79.649314174750387,4.8043334452773347E-2,-16.029517895006432,-9.6687774066313587E-3,4.0907520063377278E-2,0.50009999999999999,{"$f":"Snitkræfter!$D$44*0.1*$Q$6*C375*$B$6^2/B375+$R$6","v":2.2085157851396833E-5},4.0896475275935797E-2,0.5,0.75515704426058161,5.3525414030793639E-2,5.3525414030793639E-2,-0.50009999999999999,3.2115248418476175E-3,2.5692198734780947E-2,7.8036271893677581E-2,7.8218877974534362E-2]
[null,0.58582236834427348,1.6226655240339461E-4,2.8663428297624197E-2,-5.7686471455512478E-2,1.7979929625251945,1.1972122627287629,0.66586037191565861,0.44238788814059526,79.649314174750387,4.8043334452773347E-2,-16.029517895006432,-9.6687774066313587E-3,4.0907520063377278E-2,0.50009999999999999,{"$f":"Snitkræfter!$D$44*0.1*$Q$6*C376*$B$6^2/B376+$R$6","v":2.2085157851396833E-5},4.0896475275935797E-2,0.5,0.75515704426058161,5.3525414030793639E-2,5.3525414030793639E-2,-0.50009999999999999,3.2115248418476175E-3,2.5692198734780947E-2,7.8036271893677581E-2,7.8218877974534362E-2]
[null,0.58582236834427348,1.6226655240339461E-4,2.8663428297624197E-2,-5.7686471455512478E-2,1.7979929625251945,1.1972122627287629,0.66586037191565861,0.44238788814059526,79.649314174750387,4.8043334452773347E-2,-16.029517895006432,-9.6687774066313587E-3,4.0907520063377278E-2,0.50009999999999999,{"$f":"Snitkræfter!$D$44*0.1*$Q$6*C377*$B$6^2/B377+$R$6","v":2.2085157851396833E-5},4.0896475275935797E-2,0.5,0.75515704426058161,5.3525414030793639E-2,5.3525414030793639E-2,-0.50009999999999999,3.2115248418476175E-3,2.5692198734780947E-2,7.8036271893677581E-2,7.8218877974534362E-2]
[null,0.58582236834427348,1.6226655240339461E-4,2.8663428297624197E-2,-5.7686471455512478E-2,1.7979929625251945,1.1972122627287629,0.66586037191565861,0.44238788814059526,79.649314174750387,4.8043334452773347E-2,-16.029517895006432,-9.6687774066313587E-3,4.0907520063377278E-2,0.50009999999999999,{"$f":"Snitkræfter!$D$44*0.1*$Q$6*C378*$B$6^2/B378+$R$6","v":2.2085157851396833E-5},4.0896475275935797E-2,0.5,0.75515704426058161,5.3525414030793639E-2,5.3525414030793639E-2,-0.50009999999999999,3.2115248418476175E-3,2.5692198734780947E-2,7.8036271893677581E-2,7.8218877974534362E-2]
[null,null,null,null,null,null,null,null,null,null,null,null,null,null,null,{"$f":"$Q$6*C378/B378","v":7.5737852713980897E-4},null,null,null,null,null,null,null,null,null,null,{"$f":"(N378-$O$2*R378)/($Q$6*C378/B378)","v":54.011988190187914}]
[null,{"$f":"IF(L378=O306,B311,B378)","v":0.58582236834427348},null,null,null,null,null,null,null,null,null,null,null,null,null,null,{"$f":"0.9*Q378","v":3.6806827748342215E-2}]
[null,{"$f":"0.5*(-(T381+U381+V381)+SQRT((T381+U381+V381)^2+4*S381*(W381+X381)))/S381","v":0.58583828055802778},{"$f":"IF(L378=O306,C312,C378)","v":1.6226655240339461E-4},{"$f":"IF($C$2=1,C381/($AD$306*$AD$5),2^(1/3)*$AD$5/C381)","v":2.8663428297624197E-2},{"$f":"IF($C$2=1,-($AD$306-2)*C381/$AD$5,3*($AD$5/C381)^2)","v":-5.7686471455512478E-2},{"$f":"IF($C$2=1,0.5*($AD$306*C381*$F$306/$AD$5)*(1-Y381^2+(D381-E381)*(E381^2*(1-Y381^2)+2*E381*(1-Y381)+2*LN((1-E381)/(1-E381*Y381)))/(E381^3)),$F$306*E381*(LN((1-D381+D381^2)/(1+D381)^2)/(6*D381)+ATAN((2-D381)/(D381*3^0.5))/(D381*3^0.5)-LN((Y381^2-D381*Y381+D381^2)/(Y381+D381)^2)/(6*D381)-ATAN((2*Y381-D381)/(D381*3^0.5))/(D381*3^0.5)))","v":1.7979386799878967},{"$f":"IF($C$2=1,($AD$306*C381*$F$306/$AD$5)*(1-Y381^3-(D381-E381)*(-2*E381^3*(1-Y381^3)-3*E381^2*(1-Y381^2)-6*E381*(1-Y381)-6*LN((1-E381)/(1-E381*Y381)))/(2*E381^4))/3,$F$306*E381*(LN((1+D381^3)/(D381^3+Y381^3)))/3)","v":1.197208021771041},{"$f":"G381/F381","v":0.66587811647675343},{"$f":"F381*B381*$D$306","v":0.44238654802980942},{"$f":"MAX(MIN($K$306,$Q$306*$J$306*C381*(B381-$I$306)/B381),-$K$306)","v":79.649561032685412},{"$f":"J381*$H$306","v":4.804348335397178E-2},{"$f":"MIN($O$306,$Q$306*$N$306*C381*(C$306-B381-$M$306)/B381)","v":-16.031492758486689},{"$f":"L381*$L$306","v":-9.6699686162188322E-3},{"$f":"(0.5*$C$306-B381+H381*B381)*I381+(0.5*$C$306-$I$306)*K381+(0.5*$C$306-$M$306)*M381","v":4.0909448349310269E-2},{"$f":"I381+K381-M381","v":0.5001000000000001},{"$f":"Snitkræfter!$D$44*0.1*$Q$6*C381*$B$6^2/B381+$R$6","v":2.2084557986614705E-5},{"$f":"N381-P381*O381","v":4.0898403861861166E-2},{"$f":"R378","v":0.5},{"$f":"F381*$D$306","v":0.7551342455949166},{"$f":"IF(ABS(J380)<$K$306,$Q$306*C381*$H$306*$J$306,IF(J380>0,1,-1)*$H$306*$K$306)","v":5.3525414030793639E-2},{"$f":"IF(L378<$O$306,$Q$306*C381*$L$306*$N$306,-$L$306*$O$306)","v":5.3525414030793639E-2},{"$f":"-(R381+0.0001)","v":-0.50009999999999999},{"$f":"IF(ABS(J380)<$K$306,$I$306*$Q$306*C381*$H$306*$J$306,0)","v":3.2115248418476175E-3},{"$f":"IF(L378<$O$306,($C$306-$M$306)*$Q$306*C381*$L$306*$N$306,0)","v":2.5692198734780947E-2},{"$f":"IF(B380<$C$306,0,(B380-$C$306)/B380)","v":7.8218877974534362E-2},{"$f":"IF(B381<=$C$306,0,(B381-$C$306)/B381)","v":7.8243914881023932E-2}]
[null,{"$f":"0.5*(-(T382+U382+V382)+SQRT((T382+U382+V382)^2+4*S382*(W382+X382)))/S382","v":0.64936146819959073},{"$f":"0.9*C381","v":1.4603989716305515E-4},2.5797085467861778E-2,-5.1917824309961232E-2,1.6272914309898547,1.0843183150269948,{"$f":"G382/F382","v":0.6663332052129235},0.44381414818279774,72.48475365081552,4.3721773356800248E-2,-20.829533253827133,-1.2564078460402103E-2,3.0211564787632799E-2,{"$f":"I382+K382-M382","v":0.5001000000000001},{"$f":"Snitkræfter!$D$44*0.1*$Q$6*C382*$B$6^2/B382+$R$6","v":1.7931740794954542E-5},{"$f":"N382-P382*O382","v":3.0202597124061242E-2},{"$f":"R381","v":0.5},0.68346240101573896,4.8172872627714261E-2,{"$f":"IF(L381<$O$306,$Q$306*C382*$L$306*$N$306,-$L$306*$O$306)","v":4.8172872627714261E-2},{"$f":"-(R382+0.0001)","v":-0.50009999999999999},2.8903723576628559E-3,{"$f":"IF(L381<$O$306,($C$306-$M$306)*$Q$306*C382*$L$306*$N$306,0)","v":2.3122978861302854E-2},7.8243914881023932E-2,0.16841385507952075]
[null,{"$f":"0.5*(-(T383+U383+V383)+SQRT((T383+U383+V383)^2+4*S383*(W383+X383)))/S383","v":0.6324355331746927},{"$f":"IF(ABS(Q381-Q382)<=0.00001*Q$380,C382,MAX(0.9*C382,MIN($AD$4,1.05*C382,IF(C382=$AD$4,0.5*(C382+C381),C382+(C382-C381)*(Q382-Q$380)/(Q381-Q382)))))","v":1.5334189202120791E-4},2.7086939741254867E-2,-5.4513715525459291E-2,1.6644858143248296,1.1301688681621083,{"$f":"G383/F383","v":0.67898978677721089},0.4421255888465791,75.901623263820255,4.5782780551902304E-2,-20.212065360230177,-1.2191630601518564E-2,3.6668480361874867E-2,{"$f":"I383+K383-M383","v":0.50009999999999999},{"$f":"Snitkræfter!$D$44*0.1*$Q$6*C383*$B$6^2/B383+$R$6","v":1.9332232243674847E-5},{"$f":"N383-P383*O383","v":3.6658812312529807E-2},{"$f":"R382","v":0.5},0.69908404201642838,5.0581516259099978E-2,5.0581516259099978E-2,{"$f":"-(R383+0.0001)","v":-0.50009999999999999},3.0348909755459987E-3,2.4279127804367993E-2,0.16841385507952075,0.14615803244116571]
[null,0.62746601050588635,1.5350929783400669E-4,2.7116510989553991E-2,-5.4573229026538043E-2,1.6787277132202474,1.1333016693050253,0.67509558600843644,0.44240472399479092,75.921408846820356,4.5794714934404727E-2,-19.729511666515513,-1.1900561070804337E-2,3.6375555547376294E-2,0.50009999999999999,{"$f":"Snitkræfter!$D$44*0.1*$Q$6*C384*$B$6^2/B384+$R$6","v":1.9506615735448677E-5},3.6365800288846999E-2,0.5,0.7050656395525039,5.0636736914919059E-2,5.0636736914919059E-2,-0.50009999999999999,3.0382042148951439E-3,2.4305633719161151E-2,0.14615803244116571,0.13939561512721299]
[null,0.6273004392357765,1.5325732673945769E-4,2.7072001783591908E-2,-5.4483652196698325E-2,1.6795738303455956,1.1320458527981441,0.67400779432554625,0.44251090863197717,75.794675686638612,4.5718271293126035E-2,-19.680205140357671,-1.1870820074896846E-2,3.6094618015570533E-2,0.5001000000000001,{"$f":"Snitkræfter!$D$44*0.1*$Q$6*C385*$B$6^2/B385+$R$6","v":1.9479737632494664E-5},3.6084876198780522E-2,0.5,0.70542100874515012,5.0553621467158756E-2,5.0553621467158756E-2,-0.50009999999999999,3.0332172880295255E-3,2.4265738304236208E-2,0.13939561512721299,0.13916846502153302]
[null,0.62467689907105006,1.5390487149829758E-4,2.7186386741487406E-2,-5.4713857200093731E-2,1.6863998944658241,1.1365575268108492,0.67395493236250448,0.44245112380083595,76.081114676220324,4.5891047221197377E-2,-19.492881269505485,-1.175782897796669E-2,3.6514510360135553E-2,0.50009999999999999,{"$f":"Snitkræfter!$D$44*0.1*$Q$6*C386*$B$6^2/B386+$R$6","v":1.9644201025473872E-5},3.6504686295202711E-2,0.5,0.70828795567564606,5.0767221255944635E-2,5.0767221255944635E-2,-0.50009999999999999,3.0460332753566776E-3,2.4368266202853425E-2,0.13916846502153302,0.13555311425309963]
[null,0.62223241011764929,1.5437091582661691E-4,2.7268710720091984E-2,-5.4879538003958735E-2,1.6930187795578093,1.1400376622070461,0.67337567425259537,0.44244948534305273,76.279643434381342,4.6010796946925052E-2,-19.297068851503408,-1.1639717710022309E-2,3.6757517266197609E-2,0.5001000000000001,{"$f":"Snitkræfter!$D$44*0.1*$Q$6*C387*$B$6^2/B387+$R$6","v":1.9781093748056199E-5},3.6747624741214208E-2,0.5,0.71106788741427984,5.0920951123625442E-2,5.0920951123625442E-2,-0.50009999999999999,3.0552570674175264E-3,2.4442056539340212E-2,0.13555311425309963,0.13215706668526164]
[null,0.62123836497379292,1.544844887342585E-4,2.7288772703578539E-2,-5.4919913671018561E-2,1.695836431425404,1.1410453402028589,0.67285105984176452,0.44247783380711803,76.322728460491902,4.6036785222414715E-2,-19.206985927631667,-1.1585380970467235E-2,3.6775733357937213E-2,0.50009999999999999,{"$f":"Snitkræfter!$D$44*0.1*$Q$6*C388*$B$6^2/B388+$R$6","v":1.9827322050692912E-5},3.6765817714179659E-2,0.5,0.71225130119866964,5.0958414401264349E-2,5.0958414401264349E-2,-0.50009999999999999,3.0575048640758612E-3,2.4460038912606893E-2,0.13215706668526164,0.13076842892215768]
[null,0.62001440671670371,1.547405012524526E-4,2.7333995803162908E-2,-5.501092724469913E-2,1.6991537899455724,1.1429088683014166,0.67263415181390174,0.44246992817728792,76.433076904829591,4.6103345835931453E-2,-19.109743942311862,-1.1526725986780607E-2,3.6919167102402048E-2,0.50009999999999999,{"$f":"Snitkræfter!$D$44*0.1*$Q$6*C389*$B$6^2/B389+$R$6","v":1.9899385585559728E-5},3.690921541967071E-2,0.5,0.71364459177714035,5.104286295723872E-2,5.104286295723872E-2,-0.50009999999999999,3.0625717774343231E-3,2.4500574219474585E-2,0.13076842892215768,0.12905249595799115]
[null,0.62046405652226322,1.5455770526224429E-4,2.7301705970903433E-2,-5.4945942468014417E-2,1.698060175769057,1.1417446879201159,0.67238175902866104,0.44250582804816208,76.348713584961317,4.6052459080232776E-2,-19.134590158992818,-1.1541712871605131E-2,3.6773306396511524E-2,0.50009999999999999,{"$f":"Snitkræfter!$D$44*0.1*$Q$6*C390*$B$6^2/B390+$R$6","v":1.9861474275014784E-5},3.6763373673226588E-2,0.5,0.7131852738230039,5.0982565681465294E-2,5.0982565681465294E-2,-0.50009999999999999,3.058953940887918E-3,2.4471631527103351E-2,0.12905249595799115,0.12968367091764971]
[null,0.62034820325598417,1.5461216998776368E-4,2.731132684305208E-2,-5.4965304916944714E-2,1.69833121637049,1.142084616088465,0.67247460629571321,0.44249382181577307,76.374091203545703,4.6067766499133952E-2,-19.129117240748165,-1.153841168509292E-2,3.6818694827343415E-2,0.50009999999999999,{"$f":"Snitkræfter!$D$44*0.1*$Q$6*C391*$B$6^2/B391+$R$6","v":1.9872183818514008E-5},3.6808756748215779E-2,0.5,0.71329911087560582,5.1000531472568403E-2,5.1000531472568403E-2,-0.50009999999999999,3.0600318883541038E-3,2.4480255106832837E-2,0.12968367091764971,0.12952113479859434]
[null,0.62033203365028888,1.5460985497388097E-4,2.7310917909519863E-2,-5.4964481919350411E-2,1.6983832372317904,1.1420784058252578,0.67245035206938408,0.44249584153721416,76.372734490239665,4.6066948148947344E-2,-19.127125530606122,-1.1537210313838458E-2,3.6814596010719E-2,0.50009999999999999,{"$f":"Snitkræfter!$D$44*0.1*$Q$6*C392*$B$6^2/B392+$R$6","v":1.9872404253129932E-5},3.6804657821352012E-2,0.5,0.71332095963735198,5.0999767839677176E-2,5.0999767839677176E-2,-0.50009999999999999,3.0599860703806304E-3,2.4479888563045053E-2,0.12952113479859434,0.12949844485312506]
[null,0.62032370306671747,1.5461108051687642E-4,2.7311134394453172E-2,-5.4964917605263355E-2,1.6984065813367617,1.142088287099545,0.67244692740217937,0.44249598113603572,76.37323004667617,4.6067247061547731E-2,-19.126398538310319,-1.1536771802416561E-2,3.6815027586778855E-2,0.50009999999999999,{"$f":"Snitkræfter!$D$44*0.1*$Q$6*C393*$B$6^2/B393+$R$6","v":1.9872828652189867E-5},3.6805089185169892E-2,0.5,0.71333076416143992,5.1000172098566478E-2,5.1000172098566478E-2,-0.50009999999999999,3.0600103259139891E-3,2.4480082607311913E-2,0.12949844485312506,0.12948675452770569]
[null,0.6203025110566166,1.5461601992957096E-4,2.7312006912538416E-2,-5.4966673588151944E-2,1.698463364006769,1.1421232811773774,0.67244504967304408,0.44249565764504811,76.37539056208071,4.6068550253737725E-2,-19.124774326965234,-1.1535792101214078E-2,3.6818041567486137E-2,0.50009999999999988,{"$f":"Snitkræfter!$D$44*0.1*$Q$6*C394*$B$6^2/B394+$R$6","v":1.9874142493047228E-5},3.6808102508825366E-2,0.5,0.71335461288284296,5.1001801418383952E-2,5.1001801418383952E-2,-0.50009999999999999,3.0601080851030368E-3,2.4480864680824294E-2,0.12948675452770569,0.12945701432004544]
[null,0.62030609284144578,1.5461393035379588E-4,2.73116378013167E-2,-5.4965930734794194E-2,1.6984555608315266,1.1421105771051103,0.67244065929282126,0.44249617977777689,76.374405602937841,4.6067956140379514E-2,-19.12489366105887,-1.1535864081843561E-2,3.6816212339547481E-2,0.50009999999999999,{"$f":"Snitkræfter!$D$44*0.1*$Q$6*C395*$B$6^2/B395+$R$6","v":1.9873759145537984E-5},3.6806273472598801E-2,0.5,0.71335133554924113,5.1001112148741791E-2,5.1001112148741791E-2,-0.50009999999999999,3.0600667289245069E-3,2.4480533831396062E-2,0.12945701432004544,0.12946204102814204]
[null,0.62030438874449378,1.5461456358410009E-4,2.7311749657710712E-2,-5.4966155850946156E-2,1.698459789445264,1.1421146683375729,0.67244139392349134,0.44249606582955731,76.37469593070935,4.6068131261965586E-2,-19.124792243937339,-1.1535802908477043E-2,3.681670298950257E-2,0.50009999999999988,{"$f":"Snitkræfter!$D$44*0.1*$Q$6*C396*$B$6^2/B396+$R$6","v":1.9873895136979426E-5},3.6806764054544569E-2,0.5,0.71335311156701087,5.1001321026749653E-2,5.1001321026749653E-2,-0.50009999999999999,3.0600792616049793E-3,2.4480634092839841E-2,0.12946204102814204,0.12945964949084293]
[null,0.62030369510732353,1.5461464579838297E-4,2.7311764180378308E-2,-5.4966185078484497E-2,1.6984617616962627,1.1421153837567479,0.6724410343015973,0.44249608484704822,76.374727396513293,4.6068150241691377E-2,-19.124729249720218,-1.1535764911260455E-2,3.6816718053703582E-2,0.50009999999999999,{"$f":"Snitkræfter!$D$44*0.1*$Q$6*C397*$B$6^2/B397+$R$6","v":1.9873927928101031E-5},3.680677910234674E-2,0.5,0.71335393991243035,5.1001348146038662E-2,5.1001348146038662E-2,-0.50009999999999999,3.06008088876232E-3,2.4480647110098563E-2,0.12945964949084293,0.12945867603356695]
[null,0.6203035440494109,1.5461464579838297E-4,2.7311764180378308E-2,-5.4966185078484497E-2,1.6984622168108574,1.142115442675234,0.6724408888057245,0.44249609565915343,76.374725404846643,4.6068149040346361E-2,-19.124713316386931,-1.1535755300500238E-2,3.681670250096946E-2,0.50009999999999999,{"$f":"Snitkræfter!$D$44*0.1*$Q$6*C398*$B$6^2/B398+$R$6","v":1.9873932767851017E-5},3.6806763547192256E-2,0.5,0.71335413106056011,5.1001348146038662E-2,5.1001348146038662E-2,-0.50009999999999999,3.06008088876232E-3,2.4480647110098563E-2,0.12945867603356695,0.12945846403710731]
[null,null,null,null,null,null,null,null,null,null,null,null,null,null,null,{"$f":"$Q$6*C398/B398","v":6.8154776295785359E-4},null,null,null,null,null,null,null,null,null,null,{"$f":"(N398-$O$2*R398)/($Q$6*C398/B398)","v":54.01925514535975}]
[]
[]
[]
[null,"BEREGNING AF MAXIMALE MOMENTKAPACITETER"]
[]
[null,"Tilstand:",{"$f":"$C$2","v":1},null,"Navier:","a=",{"$f":"J409*Q409/G409","v":24.323781741718612},"A=",{"$f":"C409*D409+G405*H409+G405*L409","v":0.25614351898648502},"Sy=",{"$f":"-(0.5*C409-I409)*G405*H409+(0.5*C409-M409)*G405*L409","v":0},"Iy=",{"$f":"D409*C409^3/12+(0.5*C409-I409)^2*G405*H409+(0.5*C409-M409)^2*G405*L409","v":6.8052891873039908E-3},"h=",{"$f":"K405/I405","v":0},"Io=",{"$f":"M405-I405*O405^2","v":6.8052891873039908E-3},"EIo=",{"$f":"Q405*G409/Q409","v":55.955848145372805},null,null,null,null,"EImax",{"$f":"M405*V412/Q409","v":47.691756182630002},"MNm2"]
[]
[null,"L","h","b","fck","fcd","Ecd","Ac","ac","Esc","fyd_c","At","at","Est","fyd_t","Modenhed","1+f","uterm","g","Ac","ac","Esc","fyd_c","At","at","Est","fyd_t","   emax",null,{"$f":"IF($C$2=1,0.0035,Firsidig!$G$21)","v":3.5000000000000001E-3}]
[null,"(m)","(m)","(m)","(Mpa)","(Mpa)","(Mpa)","(m2)","(m)","(Mpa)","(Mpa)","(m2)","(m)","(Mpa)","(Mpa)","(døgn)",null,"(m)",null,"(m2)","(m)","(Mpa)","(Mpa)","(m2)","(m)","(Mpa)","(Mpa)","e1",null,{"$f":"IF($C$2=1,0.7*(E409+8)^0.31/1000,Firsidig!$F$21)","v":2.0693662482105194E-3}]
[null,{"$f":"B306","v":0.54},{"$f":"C306","v":0.54},{"$f":"D306","v":0.42},{"$f":"E306","v":25},{"$f":"F306","v":17.857142857142858},{"$f":"IF($C$2=1,Kold!AU$23,1.4*F409/AD408)","v":22482.71872144239},{"$f":"IF($W411<0,X409,T409)","v":6.0318578948924026E-4},{"$f":"IF($W411<0,Y409,U409)","v":0.06},{"$f":"IF($W411<0,Z409,V409)","v":200000},{"$f":"IF($W411<0,AA409,W409)","v":458.33333333333337},{"$f":"IF($W411<0,T409,X409)","v":6.0318578948924026E-4},{"$f":"IF($W411<0,U409,Y409)","v":0.06},{"$f":"IF($W411<0,V409,Z409)","v":200000},{"$f":"IF($W411<0,W409,AA409)","v":458.33333333333337},{"$f":"P306","v":28},{"$f":"Q306","v":2.7343237157040781},0,{"$f":"S306","v":1.4},{"$f":"T$6","v":6.0318578948924026E-4},{"$f":"U$6","v":0.06},200000,458.33333333333337,6.0318578948924026E-4,0.06,200000,458.33333333333337,"k",null,{"$f":"1.05*G409*AD408/F409","v":2.7356687822616226}]
[]
[null,"Initialt","elasttisk","e_o","sc_o/fcd","sc_u/fcd","sc_o","sc_u","hc","elasttisk","e_o","sc_o/fcd","sc_u/fcd","sc_o","sc_u","hc","At","Ac","Ic","Wt","u_skøn","E",{"$f":"-0.33*D409*C409^2*F409","v":-0.72171000000000007}]
[null,"beregning","skøn_1",{"$f":"IF(C405=1,AD408*0.5*(-((AD409-2)*E412-AD409)-(((AD409-2)*E412-AD409)^2-4*E412)^0.5),G412/(1.4*F409/AD408))","v":2.042179439643878E-3},{"$f":"MIN(0.9999,G412/F409)","v":0.99990000000000001},{"$f":"H412/F409","v":-1.6667291212383639},{"$f":"R414/Q412+(Q414+$O$2*R414+R414*R409)/T412","v":39.132767144728255},{"$f":"R414/Q412-(Q414+$O$2*R414+R414*R409)/T412","v":-29.763020022113643},{"$f":"IF(G412=H412,100*C409,IF(H412>0,C409*G412/(G412-H412),2*(R414+L409*O409)/(D409*F409)))","v":0.39372270760424044},"skøn_2",{"$f":"IF(C405=1,AD408*0.5*(-((AD409-2)*L412-AD409)-(((AD409-2)*L412-AD409)^2-4*L412)^0.5),G412/(1.4*F409/AD408))","v":2.042179439643878E-3},{"$f":"MIN(0.9999,N412/F409)","v":0.99990000000000001},{"$f":"O412/F409","v":-1.6743530306365992},{"$f":"R414/Q412+(Q414+$O$2*R414+R414*U412)/T412","v":39.268908383982456},{"$f":"R414/Q412-(Q414+$O$2*R414+R414*U412)/T412","v":-29.899161261367844},{"$f":"IF(N412=O412,100*C409,C409*N412/(N412-O412))","v":0.30657513844288714},{"$f":"R412+Q409*(H409+L409)*N409/G409","v":0.25614351898648502},{"$f":"C409*D409","v":0.2268},{"$f":"D409*C409^3/12","v":5.5112400000000006E-3},{"$f":"(S412+((0.5*C409-I409)^2*H409+(0.5*C409-M409)^2*L409)*Q409)/(0.5*C409)","v":2.0950773034997532E-2},{"$f":"Q414/(10*AA434/B409^2-R414)+R409","v":2.3768868369317829E-3},{"$f":"G412/D412","v":19162.256942295116}]
[null,"hc","e0","a'","b'","N'","tN'","t'","Nc","sac","Nac","sat","Nat","Mtot","N","u","Mo","N","A","B1","B2","B3","C1","C2","gættet x","beregnet x","EIt"]
[null,{"$f":"I412","v":0.39372270760424044},null,null,null,null,null,null,null,null,null,null,null,null,null,null,{"$f":"ABS(W411)","v":0.72171000000000007},{"$f":"$R$211","v":1.2}]
[null,{"$f":"0.5*(-(T415+U415+V415)+SQRT((T415+U415+V415)^2+4*S415*(W415+X415)))/S415","v":0.3461105204066528},{"$f":"MIN(D412,AD408,0.99*K409/(J409*Q409))","v":8.2972984762918079E-4},{"$f":"IF($C$2=1,C415/($AD$409*$AD$5),2^(1/3)*$AD$5/C415)","v":0.14656687802667664},{"$f":"IF($C$2=1,-($AD$409-2)*C415/$AD$5,3*($AD$5/C415)^2)","v":-0.29497260194483643},{"$f":"IF($C$2=1,0.5*($AD$409*C415*$F$409/$AD$5)*(1-Y415^2+(D415-E415)*(E415^2*(1-Y415^2)+2*E415*(1-Y415)+2*LN((1-E415)/(1-E415*Y415)))/(E415^3)),$F$409*E415*(LN((1-D415+D415^2)/(1+D415)^2)/(6*D415)+ATAN((2-D415)/(D415*3^0.5))/(D415*3^0.5)-LN((Y415^2-D415*Y415+D415^2)/(Y415+D415)^2)/(6*D415)-ATAN((2*Y415-D415)/(D415*3^0.5))/(D415*3^0.5)))","v":7.427626096706283},{"$f":"IF($C$2=1,($AD$409*C415*$F$409/$AD$5)*(1-Y415^3-(D415-E415)*(-2*E415^3*(1-Y415^3)-3*E415^2*(1-Y415^2)-6*E415*(1-Y415)-6*LN((1-E415)/(1-E415*Y415)))/(2*E415^4))/3,$F$409*E415*(LN((1+D415^3)/(D415^3+Y415^3)))/3)","v":4.7769842602688906},{"$f":"G415/F415","v":0.6431374167295798},{"$f":"F415*B415*$D$409","v":1.0797274041611598},{"$f":"MAX(MIN($K$409,$Q$409*$J$409*C415*(B415-$I$409)/B415),-$K$409)","v":375.09015467656764},{"$f":"J415*$H$409","v":0.22624905107822671},{"$f":"MIN($O$409,$Q$409*$N$409*C415*(C$409-B415-$M$409)/B415)","v":175.52876258745923},{"$f":"L415*$L$409","v":0.10587645523938602},{"$f":"(0.5*$C$409-B415+H415*B415)*I415+(0.5*$C$409-$I$409)*K415+(0.5*$C$409-$M$409)*M415","v":0.22791141886172819},{"$f":"I415+K415-M415","v":1.2001000000000004},0,{"$f":"N415-P415*O415","v":0.22791141886172819},{"$f":"$R$211","v":1.2},{"$f":"F415*$D$409","v":3.1196029606166387},{"$f":"IF(ABS(J414)<$K$409,$Q$409*C415*$H$409*$J$409,IF(J414>0,1,-1)*$H$409*$K$409)","v":0.27369555198074275},{"$f":"IF(L414<$O$409,$Q$409*C415*$L$409*$N$409,-$L$409*$O$409)","v":0.27369555198074275},{"$f":"-(R415+0.0001)","v":-1.2000999999999999},{"$f":"IF(ABS(J414)<$K$409,$I$409*$Q$409*C415*$H$409*$J$409,0)","v":1.6421733118844567E-2},{"$f":"IF(L414<$O$409,($C$409-$M$409)*$Q$409*C415*$L$409*$N$409,0)","v":0.13137386495075659},{"$f":"IF(B414<$C$409,0,(B414-$C$409)/B414)","v":0},{"$f":"IF(AND(B415<=$C$409,B415>0),0,(B415-$C$409)/B415)","v":0}]
[null,{"$f":"0.5*(-(T416+U416+V416)+SQRT((T416+U416+V416)^2+4*S416*(W416+X416)))/S416","v":0.35733453246859997},{"$f":"0.95*C415","v":7.8824335524772175E-4},{"$f":"IF($C$2=1,C416/($AD$409*$AD$5),2^(1/3)*$AD$5/C416)","v":0.13923853412534282},{"$f":"IF($C$2=1,-($AD$409-2)*C416/$AD$5,3*($AD$5/C416)^2)","v":-0.28022397184759462},{"$f":"IF($C$2=1,0.5*($AD$409*C416*$F$409/$AD$5)*(1-Y416^2+(D416-E416)*(E416^2*(1-Y416^2)+2*E416*(1-Y416)+2*LN((1-E416)/(1-E416*Y416)))/(E416^3)),$F$409*E416*(LN((1-D416+D416^2)/(1+D416)^2)/(6*D416)+ATAN((2-D416)/(D416*3^0.5))/(D416*3^0.5)-LN((Y416^2-D416*Y416+D416^2)/(Y416+D416)^2)/(6*D416)-ATAN((2*Y416-D416)/(D416*3^0.5))/(D416*3^0.5)))","v":7.1495220005454003},{"$f":"IF($C$2=1,($AD$409*C416*$F$409/$AD$5)*(1-Y416^3-(D416-E416)*(-2*E416^3*(1-Y416^3)-3*E416^2*(1-Y416^2)-6*E416*(1-Y416)-6*LN((1-E416)/(1-E416*Y416)))/(2*E416^4))/3,$F$409*E416*(LN((1+D416^3)/(D416^3+Y416^3)))/3)","v":4.6063276778079265},{"$f":"G416/F416","v":0.64428470567074747},{"$f":"F416*B416*$D$409","v":1.0730038626043212},{"$f":"MAX(MIN($K$409,$Q$409*$J$409*C416*(B416-$I$409)/B416),-$K$409)","v":358.68284550278821},{"$f":"J416*$H$409","v":0.21635239534084649},{"$f":"MIN($O$409,$Q$409*$N$409*C416*(C$409-B416-$M$409)/B416)","v":147.97473597769496},{"$f":"L416*$L$409","v":8.9256257945167825E-2},{"$f":"(0.5*$C$409-B416+H416*B416)*I416+(0.5*$C$409-$I$409)*K416+(0.5*$C$409-$M$409)*M416","v":0.21750002756645051},{"$f":"I416+K416-M416","v":1.2000999999999997},0,{"$f":"N416-P416*O416","v":0.21750002756645051},{"$f":"$R$211","v":1.2},{"$f":"F416*$D$409","v":3.0027992402290682},0.26001077438170567,{"$f":"IF(L415<$O$409,$Q$409*C416*$L$409*$N$409,-$L$409*$O$409)","v":0.26001077438170567},{"$f":"-(R416+0.0001)","v":-1.2000999999999999},{"$f":"IF(ABS(J415)<$K$409,$I$409*$Q$409*C416*$H$409*$J$409,0)","v":1.5600646462902339E-2},{"$f":"IF(L415<$O$409,($C$409-$M$409)*$Q$409*C416*$L$409*$N$409,0)","v":0.12480517170321873},{"$f":"Z415","v":0},{"$f":"IF(AND(B416<=$C$409,B416>0),0,(B416-$C$409)/B416)","v":0}]
[null,0.32104942397580527,{"$f":"IF(ABS($Q$414-Q416)<0.00001*$Q$414,C416,MAX(0.9*C416,MIN($AD$4,1.2*C416,IF(C416=$AD$4,0.5*(C416+C415),C416+(C416-C415)*(Q416-$Q$414)/(Q415-Q416)))))","v":9.4589202629726606E-4},{"$f":"IF($C$2=1,C417/($AD$409*$AD$5),2^(1/3)*$AD$5/C417)","v":0.16708624095041139},{"$f":"IF($C$2=1,-($AD$409-2)*C417/$AD$5,3*($AD$5/C417)^2)","v":-0.33626876621711349},{"$f":"IF($C$2=1,0.5*($AD$409*C417*$F$409/$AD$5)*(1-Y417^2+(D417-E417)*(E417^2*(1-Y417^2)+2*E417*(1-Y417)+2*LN((1-E417)/(1-E417*Y417)))/(E417^3)),$F$409*E417*(LN((1-D417+D417^2)/(1+D417)^2)/(6*D417)+ATAN((2-D417)/(D417*3^0.5))/(D417*3^0.5)-LN((Y417^2-D417*Y417+D417^2)/(Y417+D417)^2)/(6*D417)-ATAN((2*Y417-D417)/(D417*3^0.5))/(D417*3^0.5)))","v":8.1642592162153722},{"$f":"IF($C$2=1,($AD$409*C417*$F$409/$AD$5)*(1-Y417^3-(D417-E417)*(-2*E417^3*(1-Y417^3)-3*E417^2*(1-Y417^2)-6*E417*(1-Y417)-6*LN((1-E417)/(1-E417*Y417)))/(2*E417^4))/3,$F$409*E417*(LN((1+D417^3)/(D417^3+Y417^3)))/3)","v":5.224558544921126},{"$f":"G417/F417","v":0.63993050766252191},{"$f":"F417*B417*$D$409","v":1.1008749017931438},{"$f":"MAX(MIN($K$409,$Q$409*$J$409*C417*(B417-$I$409)/B417),-$K$409)","v":420.6029685861111},{"$f":"J417*$H$409","v":0.25370173366813153},{"$f":"MIN($O$409,$Q$409*$N$409*C417*(C$409-B417-$M$409)/B417)","v":256.10125131111175},{"$f":"L417*$L$409","v":0.15447663546127527},{"$f":"(0.5*$C$409-B417+H417*B417)*I417+(0.5*$C$409-$I$409)*K417+(0.5*$C$409-$M$409)*M417","v":0.25569242884700033},{"$f":"I417+K417-M417","v":1.2001000000000002},0,{"$f":"N417-P417*O417","v":0.25569242884700033},1.2,{"$f":"F417*$D$409","v":3.4289888708104561},0.3120129292580468,{"$f":"IF(L416<$O$409,$Q$409*C417*$L$409*$N$409,-$L$409*$O$409)","v":0.3120129292580468},{"$f":"-(R417+0.0001)","v":-1.2000999999999999},1.8720775755482807E-2,{"$f":"IF(L416<$O$409,($C$409-$M$409)*$Q$409*C417*$L$409*$N$409,0)","v":0.14976620604386245},{"$f":"Z416","v":0},{"$f":"IF(AND(B417<=$C$409,B417>0),0,(B417-$C$409)/B417)","v":0}]
[null,0.29367638962843667,{"$f":"IF(ABS($Q$414-Q417)<0.00001*$Q$414,C417,MAX(0.9*C417,MIN($AD$4,1.2*C417,IF(C417=$AD$4,0.5*(C417+C416),C417+(C417-C416)*(Q417-$Q$414)/(Q416-Q417)))))","v":1.1350704315567191E-3},0.20050348914049362,-0.40352251946053613,9.2402383722524259,5.8649095084463312,0.63471409201499684,1.1397287346770788,458.33333333333337,0.27646015351590181,393.823469473562,0.2375487203538022,0.29340325692396296,1.1786401678391782,0,0.29340325692396296,1.2,3.8809001163460186,0.37441551510965609,0.37441551510965609,-1.2000999999999999,2.2464930906579361E-2,0.17971944725263495,0,0]
[null,0.28389688675029651,1.3620845178680628E-3,0.24060418696859234,-0.48422702335264334,10.349121234767585,6.5037801550684611,0.62843791347415978,1.2339949856437986,458.33333333333337,0.27646015351590181,458.33333333333337,0.27646015351590181,0.3191235551561441,1.2339949856437986,0,0.3191235551561441,1.2,4.3466309186023855,0.27646015351590181,0.44929861813158728,-1.2000999999999999,0,0.21566333670316193,0,0]
[null,0.24957529323943853,1.6345014214416754E-3,0.28872502436231079,-0.58107242802317205,11.448973635541829,7.1079228427144798,0.6208349384829458,1.2001000000000002,458.33333333333337,0.27646015351590181,458.33333333333337,0.27646015351590181,0.32657452375641516,1.2000999999999999,0,0.32657452375641516,1.2,4.8085689269275678,0.27646015351590181,-0.27646015351590181,-1.2000999999999999,0,0,0,0]
[null,0.22892871653106006,1.9614017057300102E-3,0.34647002923477294,-0.69728691362780626,12.481531350363706,7.6328007584000579,0.61152758777292515,1.2000999999999999,458.33333333333337,0.27646015351590181,458.33333333333337,0.27646015351590181,0.33341238234096193,1.2000999999999999,0,0.33341238234096193,1.2,5.2422431671527567,0.27646015351590181,-0.27646015351590181,-1.2000999999999999,0,0,0,0]
[null,0.2137232446903678,2.3536820468760124E-3,0.41576403508172755,-0.83674429635336756,13.369537583619376,8.0210974736792391,0.59995324621450241,1.2000999999999999,458.33333333333337,0.27646015351590181,458.33333333333337,0.27646015351590181,0.33753256625139183,1.2000999999999999,0,0.33753256625139183,1.2,5.6152057851201373,0.27646015351590181,-0.27646015351590181,-1.2000999999999999,0,0,0,0]
[null,0.20389085343010049,2.8244184562512147E-3,0.49891684209807302,-1.0040931556240411,14.014267458841857,8.2014481477838039,0.58522132333141397,1.2000999999999997,458.33333333333337,0.27646015351590181,458.33333333333337,0.27646015351590181,0.33864831347416285,1.2000999999999995,0,0.33864831347416285,1.2,5.8859923327135801,0.27646015351590181,-0.27646015351590181,-1.2000999999999999,0,0,0,0]
[null,0.19991063524608135,3.3893021475014575E-3,0.59870021051768763,-1.2049117867488492,14.293291344223084,8.087399787302898,0.56581787864917343,1.2001000000000002,458.33333333333337,0.27646015351590181,458.33333333333337,0.27646015351590181,0.33597443628422774,1.2000999999999999,0,0.33597443628422774,1.2,6.0031823645736946,0.27646015351590181,-0.27646015351590181,-1.2000999999999999,0,0,0,0]
[null,0.20144232789786035,3.050371932751312E-3,0.53883018946591887,-1.0844206080739645,14.184610464935471,8.1947617895564768,0.57772201850830007,1.2000999999999999,458.33333333333337,0.27646015351590181,458.33333333333337,0.27646015351590181,0.33805416647668046,1.2000999999999999,0,0.33805416647668046,1.2,5.9575363952728972,0.27646015351590181,-0.27646015351590181,-1.2000999999999999,0,0,0,0]
[null,0.20505810297883115,{"$f":"IF(ABS($Q$414-Q425)<0.00001*$Q$414,C425,MAX(0.9*C425,MIN($AD$4,1.05*C425,IF(C425=$AD$4,0.5*(C425+C424),C425+(C425-C424)*(Q425-$Q$414)/(Q424-Q425)))))","v":2.7453347394761807E-3},0.48494717051932695,-0.97597854726656785,13.934494228086804,8.1903405724038496,0.58777451397519276,1.2000999999999997,458.33333333333337,0.27646015351590181,458.33333333333337,0.27646015351590181,0.33869560006253402,1.2000999999999995,0,0.33869560006253402,1.2,5.8524875757964576,0.27646015351590181,-0.27646015351590181,-1.2000999999999999,0,0,0,0]
[null,0.2031390577761194,{"$f":"IF(ABS($Q$414-Q426)<0.00001*$Q$414,C426,MAX(1.05*C426,MIN($AD$4,1.05*C426,IF(C426=$AD$4,0.5*(C426+C425),C426+(C426-C425)*(Q426-$Q$414)/(Q425-Q426)))))","v":2.88260147644999E-3},0.50919452904529339,-1.0247774746298965,14.066132745038557,8.2050580266371771,0.58332010477658025,1.2000999999999999,458.33333333333337,0.27646015351590181,458.33333333333337,0.27646015351590181,0.33855904650862262,1.2000999999999999,0,0.33855904650862262,1.2,5.9077757529161934,0.27646015351590181,-0.27646015351590181,-1.2000999999999999,0,0,0,0]
[null,0.20779024340699812,2.5943413288049911E-3,0.45827507614076401,-0.92229972716690678,13.751275832447094,8.1484076218844397,0.59255648138899986,1.2000999999999999,458.33333333333337,0.27646015351590181,458.33333333333337,0.27646015351590181,0.33853645270974791,1.2000999999999999,0,0.33853645270974791,1.2,5.7755358496277793,0.27646015351590181,-0.27646015351590181,-1.2000999999999999,0,0,0,0]
[null,0.20540195656189658,2.7240583952452407E-3,0.48118882994780227,-0.96841471352525221,13.911167158331809,8.1861033246598609,0.58845553586472155,1.2000999999999999,458.33333333333337,0.27646015351590181,458.33333333333337,0.27646015351590181,0.33869336549814011,1.2000999999999999,0,0.33869336549814011,1.2,5.8426902064993591,0.27646015351590181,-0.27646015351590181,-1.2000999999999999,0,0,0,0]
[null,0.20341730986837686,2.8602613150075029E-3,0.50524827144519235,-1.0168354492015148,14.046891851189303,8.2041215937963177,0.5840524495176278,1.2000999999999999,458.33333333333337,0.27646015351590181,458.33333333333337,0.27646015351590181,0.33859868526494424,1.2000999999999999,0,0.33859868526494424,1.2,5.8996945774995071,0.27646015351590181,-0.27646015351590181,-1.2000999999999999,0,0,0,0]
[null,0.2082076459522646,2.5742351835067526E-3,0.45472344430067313,-0.91515190428136339,13.723708076676775,8.1406920851775517,0.59318458536818697,1.2000999999999999,458.33333333333337,0.27646015351590181,458.33333333333337,0.27646015351590181,0.3384892984875959,1.2000999999999999,0,0.3384892984875959,1.2,5.7639573922042455,0.27646015351590181,-0.27646015351590181,-1.2000999999999999,0,0,0,0]
[null,0.20575606565414314,2.7029469426820903E-3,0.47745961651570684,-0.96090949949543147,13.887225843363202,8.1813658827385698,0.58912888542447794,1.2000999999999999,458.33333333333337,0.27646015351590181,458.33333333333337,0.27646015351590181,0.33868474172308571,1.2000999999999999,0,0.33868474172308571,1.2,5.8326348542125448,0.27646015351590181,-0.27646015351590181,-1.2000999999999999,0,0,0,0]
[null,0.20370618747613753,2.8380942898161951E-3,0.50133259734149216,-1.0089549744702031,14.026971825368193,8.2026395497009563,0.58477621911710409,1.2000999999999999,458.33333333333337,0.27646015351590181,458.33333333333337,0.27646015351590181,0.3386314220876453,1.2000999999999999,0,0.3386314220876453,1.2,5.8913281666546409,0.27646015351590181,-0.27646015351590181,-1.2000999999999999,0,0,0,0]
[null,null,null,null,null,null,null,null,null,null,null,null,null,null,null,null,null,null,null,null,null,null,null,null,null,null,{"$f":"(N433-R414*$O$2)/($Q$6*C433/B433)","v":8.8890372464982033}]
[]
[]
[null,"Tilstand:",{"$f":"$C$2","v":1},null,"Navier:","a=",{"$f":"J441*Q441/G441","v":24.323781741718612},"A=",{"$f":"C441*D441+G437*H441+G437*L441","v":0.25614351898648502},"Sy=",{"$f":"-(0.5*C441-I441)*G437*H441+(0.5*C441-M441)*G437*L441","v":0},"Iy=",{"$f":"D441*C441^3/12+(0.5*C441-I441)^2*G437*H441+(0.5*C441-M441)^2*G437*L441","v":6.8052891873039908E-3},"h=",{"$f":"K437/I437","v":0},"Io=",{"$f":"M437-I437*O437^2","v":6.8052891873039908E-3},"EIo=",{"$f":"Q437*G441/Q441","v":55.955848145372805},null,null,null,null,"EImax",{"$f":"M437*V444/Q441","v":47.691756182630002},"MNm2"]
[]
[null,"L","h","b","fck","fcd","Ecd","Ac","ac","Esc","fyd_c","At","at","Est","fyd_t","Modenhed","1+f","uterm","g","Ac","ac","Esc","fyd_c","At","at","Est","fyd_t","   emax",null,{"$f":"IF($C$2=1,0.0035,Firsidig!$G$21)","v":3.5000000000000001E-3}]
[null,"(m)","(m)","(m)","(Mpa)","(Mpa)","(Mpa)","(m2)","(m)","(Mpa)","(Mpa)","(m2)","(m)","(Mpa)","(Mpa)","(døgn)",null,"(m)",null,"(m2)","(m)","(Mpa)","(Mpa)","(m2)","(m)","(Mpa)","(Mpa)","e1",null,{"$f":"IF($C$2=1,0.7*(E441+8)^0.31/1000,Firsidig!$F$21)","v":2.0693662482105194E-3}]
[null,{"$f":"B6","v":0.54},{"$f":"C6","v":0.54},{"$f":"D6","v":0.42},{"$f":"E6","v":25},{"$f":"F6","v":17.857142857142858},{"$f":"IF($C$2=1,Kold!AU$23,1.4*F441/AD440)","v":22482.71872144239},{"$f":"IF($W443<0,X441,T441)","v":6.0318578948924026E-4},{"$f":"IF($W443<0,Y441,U441)","v":0.06},{"$f":"IF($W443<0,Z441,V441)","v":200000},{"$f":"IF($W443<0,AA441,W441)","v":458.33333333333337},{"$f":"IF($W443<0,T441,X441)","v":6.0318578948924026E-4},{"$f":"IF($W443<0,U441,Y441)","v":0.06},{"$f":"IF($W443<0,V441,Z441)","v":200000},{"$f":"IF($W443<0,W441,AA441)","v":458.33333333333337},{"$f":"P6","v":28},{"$f":"Q6","v":2.7343237157040781},0,{"$f":"S6","v":1.4},{"$f":"T$6","v":6.0318578948924026E-4},{"$f":"U$6","v":0.06},200000,458.33333333333337,6.0318578948924026E-4,0.06,200000,458.33333333333337,"k",null,{"$f":"1.05*G441*AD440/F441","v":2.7356687822616226}]
[]
[null,"Initialt","elasttisk","e_o","sc_o/fcd","sc_u/fcd","sc_o","sc_u","hc","elasttisk","e_o","sc_o/fcd","sc_u/fcd","sc_o","sc_u","hc","At","Ac","Ic","Wt","u_skøn","E",{"$f":"0.33*D441*C441^2*F441","v":0.72171000000000007}]
[null,"beregning","skøn_1",{"$f":"IF(C437=1,AD440*0.5*(-((AD441-2)*E444-AD441)-(((AD441-2)*E444-AD441)^2-4*E444)^0.5),G444/(1.4*F441/AD440))","v":2.042179439643878E-3},{"$f":"MIN(0.9999,G444/F441)","v":0.99990000000000001},{"$f":"H444/F441","v":-1.6667291212383639},{"$f":"R446/Q444+(Q446+$O$2*R446+R446*R441)/T444","v":39.132767144728255},{"$f":"R446/Q444-(Q446+$O$2*R446+R446*R441)/T444","v":-29.763020022113643},{"$f":"IF(G444=H444,100*C441,C441*G444/(G444-H444))","v":0.30671968674919942},"skøn_2",{"$f":"IF(C437=1,AD440*0.5*(-((AD441-2)*L444-AD441)-(((AD441-2)*L444-AD441)^2-4*L444)^0.5),G444/(1.4*F441/AD440))","v":2.042179439643878E-3},{"$f":"MIN(0.9999,N444/F441)","v":0.99990000000000001},{"$f":"O444/F441","v":-1.6743530306365992},{"$f":"R446/Q444+(Q446+$O$2*R446+R446*U444)/T444","v":39.268908383982456},{"$f":"R446/Q444-(Q446+$O$2*R446+R446*U444)/T444","v":-29.899161261367844},{"$f":"IF(N444=O444,100*C441,C441*N444/(N444-O444))","v":0.30657513844288714},{"$f":"R444+Q441*(H441+L441)*N441/G441","v":0.25614351898648502},{"$f":"C441*D441","v":0.2268},{"$f":"D441*C441^3/12","v":5.5112400000000006E-3},{"$f":"(S444+((0.5*C441-I441)^2*H441+(0.5*C441-M441)^2*L441)*Q441)/(0.5*C441)","v":2.0950773034997532E-2},{"$f":"Q446/(10*AA466/B441^2-R446)+R441","v":2.3768868369317829E-3},{"$f":"G444/D444","v":19162.256942295116}]
[null,"hc","e0","a'","b'","N'","tN'","t'","Nc","sac","Nac","sat","Nat","Mtot","N","u","Mo","N","A","B1","B2","B3","C1","C2","gættet x","beregnet x","EIt"]
[null,{"$f":"I444","v":0.30671968674919942},null,null,null,null,null,null,null,null,null,null,null,null,null,null,{"$f":"W443","v":0.72171000000000007},{"$f":"$R$11","v":1.2}]
[null,{"$f":"0.5*(-(T447+U447+V447)+SQRT((T447+U447+V447)^2+4*S447*(W447+X447)))/S447","v":0.3461105204066528},{"$f":"MIN(D444,AD440,0.99*K441/(J441*Q441))","v":8.2972984762918079E-4},{"$f":"IF($C$2=1,C447/($AD$441*$AD$5),2^(1/3)*$AD$5/C447)","v":0.14656687802667664},{"$f":"IF($C$2=1,-($AD$441-2)*C447/$AD$5,3*($AD$5/C447)^2)","v":-0.29497260194483643},{"$f":"IF($C$2=1,0.5*($AD$441*C447*$F$441/$AD$5)*(1-Y447^2+(D447-E447)*(E447^2*(1-Y447^2)+2*E447*(1-Y447)+2*LN((1-E447)/(1-E447*Y447)))/(E447^3)),$F$441*E447*(LN((1-D447+D447^2)/(1+D447)^2)/(6*D447)+ATAN((2-D447)/(D447*3^0.5))/(D447*3^0.5)-LN((Y447^2-D447*Y447+D447^2)/(Y447+D447)^2)/(6*D447)-ATAN((2*Y447-D447)/(D447*3^0.5))/(D447*3^0.5)))","v":7.427626096706283},{"$f":"IF($C$2=1,($AD$441*C447*$F$441/$AD$5)*(1-Y447^3-(D447-E447)*(-2*E447^3*(1-Y447^3)-3*E447^2*(1-Y447^2)-6*E447*(1-Y447)-6*LN((1-E447)/(1-E447*Y447)))/(2*E447^4))/3,$F$441*E447*(LN((1+D447^3)/(D447^3+Y447^3)))/3)","v":4.7769842602688906},{"$f":"G447/F447","v":0.6431374167295798},{"$f":"F447*B447*$D$441","v":1.0797274041611598},{"$f":"MAX(MIN($K$441,$Q$441*$J$441*C447*(B447-$I$441)/B447),-$K$441)","v":375.09015467656764},{"$f":"J447*$H$441","v":0.22624905107822671},{"$f":"MIN($O$441,$Q$441*$N$441*C447*(C$441-B447-$M$441)/B447)","v":175.52876258745923},{"$f":"L447*$L$441","v":0.10587645523938602},{"$f":"(0.5*$C$441-B447+H447*B447)*I447+(0.5*$C$441-$I$441)*K447+(0.5*$C$441-$M$441)*M447","v":0.22791141886172819},{"$f":"I447+K447-M447","v":1.2001000000000004},0,{"$f":"N447-P447*O447","v":0.22791141886172819},{"$f":"$R$11","v":1.2},{"$f":"F447*$D$441","v":3.1196029606166387},{"$f":"IF(ABS(J446)<$K$441,$Q$441*C447*$H$441*$J$441,IF(J446>0,1,-1)*$H$441*$K$441)","v":0.27369555198074275},{"$f":"IF(L446<$O$441,$Q$441*C447*$L$441*$N$441,-$L$441*$O$441)","v":0.27369555198074275},{"$f":"-(R447+0.0001)","v":-1.2000999999999999},{"$f":"IF(ABS(J446)<$K$441,$I$441*$Q$441*C447*$H$441*$J$441,0)","v":1.6421733118844567E-2},{"$f":"IF(L446<$O$441,($C$441-$M$441)*$Q$441*C447*$L$441*$N$441,0)","v":0.13137386495075659},{"$f":"IF(B446<$C$441,0,(B446-$C$441)/B446)","v":0},{"$f":"IF(AND(B447<=$C$441,B447>0),0,(B447-$C$441)/B447)","v":0}]
[null,0.35733453246859997,{"$f":"0.95*C447","v":7.8824335524772175E-4},{"$f":"IF($C$2=1,C448/($AD$441*$AD$5),2^(1/3)*$AD$5/C448)","v":0.13923853412534282},{"$f":"IF($C$2=1,-($AD$441-2)*C448/$AD$5,3*($AD$5/C448)^2)","v":-0.28022397184759462},{"$f":"IF($C$2=1,0.5*($AD$441*C448*$F$441/$AD$5)*(1-Y448^2+(D448-E448)*(E448^2*(1-Y448^2)+2*E448*(1-Y448)+2*LN((1-E448)/(1-E448*Y448)))/(E448^3)),$F$441*E448*(LN((1-D448+D448^2)/(1+D448)^2)/(6*D448)+ATAN((2-D448)/(D448*3^0.5))/(D448*3^0.5)-LN((Y448^2-D448*Y448+D448^2)/(Y448+D448)^2)/(6*D448)-ATAN((2*Y448-D448)/(D448*3^0.5))/(D448*3^0.5)))","v":7.1495220005454003},{"$f":"IF($C$2=1,($AD$441*C448*$F$441/$AD$5)*(1-Y448^3-(D448-E448)*(-2*E448^3*(1-Y448^3)-3*E448^2*(1-Y448^2)-6*E448*(1-Y448)-6*LN((1-E448)/(1-E448*Y448)))/(2*E448^4))/3,$F$441*E448*(LN((1+D448^3)/(D448^3+Y448^3)))/3)","v":4.6063276778079265},{"$f":"G448/F448","v":0.64428470567074747},{"$f":"F448*B448*$D$441","v":1.0730038626043212},{"$f":"MAX(MIN($K$441,$Q$441*$J$441*C448*(B448-$I$441)/B448),-$K$441)","v":358.68284550278821},{"$f":"J448*$H$441","v":0.21635239534084649},{"$f":"MIN($O$441,$Q$441*$N$441*C448*(C$441-B448-$M$441)/B448)","v":147.97473597769496},{"$f":"L448*$L$441","v":8.9256257945167825E-2},{"$f":"(0.5*$C$441-B448+H448*B448)*I448+(0.5*$C$441-$I$441)*K448+(0.5*$C$441-$M$441)*M448","v":0.21750002756645051},{"$f":"I448+K448-M448","v":1.2000999999999997},0,{"$f":"N448-P448*O448","v":0.21750002756645051},1.2,{"$f":"F448*$D$441","v":3.0027992402290682},{"$f":"IF(ABS(J447)<$K$441,$Q$441*C448*$H$441*$J$441,IF(J447>0,1,-1)*$H$441*$K$441)","v":0.26001077438170567},{"$f":"IF(L447<$O$441,$Q$441*C448*$L$441*$N$441,-$L$441*$O$441)","v":0.26001077438170567},{"$f":"-(R448+0.0001)","v":-1.2000999999999999},{"$f":"IF(ABS(J447)<$K$441,$I$441*$Q$441*C448*$H$441*$J$441,0)","v":1.5600646462902339E-2},{"$f":"IF(L447<$O$441,($C$441-$M$441)*$Q$441*C448*$L$441*$N$441,0)","v":0.12480517170321873},{"$f":"Z447","v":0},{"$f":"IF(AND(B448<=$C$441,B448>0),0,(B448-$C$441)/B448)","v":0}]
[null,0.32104942397580527,{"$f":"IF(ABS($Q$414-Q448)<0.00001*$Q$414,C448,MAX(0.9*C448,MIN($AD$4,1.2*C448,IF(C448=$AD$4,0.5*(C448+C447),C448+(C448-C447)*(Q448-$Q$414)/(Q447-Q448)))))","v":9.4589202629726606E-4},{"$f":"IF($C$2=1,C449/($AD$441*$AD$5),2^(1/3)*$AD$5/C449)","v":0.16708624095041139},{"$f":"IF($C$2=1,-($AD$441-2)*C449/$AD$5,3*($AD$5/C449)^2)","v":-0.33626876621711349},{"$f":"IF($C$2=1,0.5*($AD$441*C449*$F$441/$AD$5)*(1-Y449^2+(D449-E449)*(E449^2*(1-Y449^2)+2*E449*(1-Y449)+2*LN((1-E449)/(1-E449*Y449)))/(E449^3)),$F$441*E449*(LN((1-D449+D449^2)/(1+D449)^2)/(6*D449)+ATAN((2-D449)/(D449*3^0.5))/(D449*3^0.5)-LN((Y449^2-D449*Y449+D449^2)/(Y449+D449)^2)/(6*D449)-ATAN((2*Y449-D449)/(D449*3^0.5))/(D449*3^0.5)))","v":8.1642592162153722},{"$f":"IF($C$2=1,($AD$441*C449*$F$441/$AD$5)*(1-Y449^3-(D449-E449)*(-2*E449^3*(1-Y449^3)-3*E449^2*(1-Y449^2)-6*E449*(1-Y449)-6*LN((1-E449)/(1-E449*Y449)))/(2*E449^4))/3,$F$441*E449*(LN((1+D449^3)/(D449^3+Y449^3)))/3)","v":5.224558544921126},{"$f":"G449/F449","v":0.63993050766252191},{"$f":"F449*B449*$D$441","v":1.1008749017931438},{"$f":"MAX(MIN($K$441,$Q$441*$J$441*C449*(B449-$I$441)/B449),-$K$441)","v":420.6029685861111},{"$f":"J449*$H$441","v":0.25370173366813153},{"$f":"MIN($O$441,$Q$441*$N$441*C449*(C$441-B449-$M$441)/B449)","v":256.10125131111175},{"$f":"L449*$L$441","v":0.15447663546127527},{"$f":"(0.5*$C$441-B449+H449*B449)*I449+(0.5*$C$441-$I$441)*K449+(0.5*$C$441-$M$441)*M449","v":0.25569242884700033},{"$f":"I449+K449-M449","v":1.2001000000000002},0,{"$f":"N449-P449*O449","v":0.25569242884700033},1.2,{"$f":"F449*$D$441","v":3.4289888708104561},0.3120129292580468,{"$f":"IF(L448<$O$441,$Q$441*C449*$L$441*$N$441,-$L$441*$O$441)","v":0.3120129292580468},{"$f":"-(R449+0.0001)","v":-1.2000999999999999},1.8720775755482807E-2,{"$f":"IF(L448<$O$441,($C$441-$M$441)*$Q$441*C449*$L$441*$N$441,0)","v":0.14976620604386245},{"$f":"Z448","v":0},{"$f":"IF(AND(B449<=$C$441,B449>0),0,(B449-$C$441)/B449)","v":0}]
[null,0.29367638962843667,{"$f":"IF(ABS($Q$414-Q449)<0.00001*$Q$414,C449,MAX(0.9*C449,MIN($AD$4,1.2*C449,IF(C449=$AD$4,0.5*(C449+C448),C449+(C449-C448)*(Q449-$Q$414)/(Q448-Q449)))))","v":1.1350704315567191E-3},0.20050348914049362,-0.40352251946053613,9.2402383722524259,5.8649095084463312,0.63471409201499684,1.1397287346770788,458.33333333333337,0.27646015351590181,393.823469473562,0.2375487203538022,0.29340325692396296,1.1786401678391782,0,0.29340325692396296,1.2,3.8809001163460186,0.37441551510965609,0.37441551510965609,-1.2000999999999999,2.2464930906579361E-2,0.17971944725263495,0,0]
[null,0.28389688675029651,1.3620845178680628E-3,0.24060418696859234,-0.48422702335264334,10.349121234767585,6.5037801550684611,0.62843791347415978,1.2339949856437986,458.33333333333337,0.27646015351590181,458.33333333333337,0.27646015351590181,0.3191235551561441,1.2339949856437986,0,0.3191235551561441,1.2,4.3466309186023855,0.27646015351590181,0.44929861813158728,-1.2000999999999999,0,0.21566333670316193,0,0]
[null,0.24957529323943853,1.6345014214416754E-3,0.28872502436231079,-0.58107242802317205,11.448973635541829,7.1079228427144798,0.6208349384829458,1.2001000000000002,458.33333333333337,0.27646015351590181,458.33333333333337,0.27646015351590181,0.32657452375641516,1.2000999999999999,0,0.32657452375641516,1.2,4.8085689269275678,0.27646015351590181,-0.27646015351590181,-1.2000999999999999,0,0,0,0]
[null,0.22892871653106006,1.9614017057300102E-3,0.34647002923477294,-0.69728691362780626,12.481531350363706,7.6328007584000579,0.61152758777292515,1.2000999999999999,458.33333333333337,0.27646015351590181,458.33333333333337,0.27646015351590181,0.33341238234096193,1.2000999999999999,0,0.33341238234096193,1.2,5.2422431671527567,0.27646015351590181,-0.27646015351590181,-1.2000999999999999,0,0,0,0]
[null,0.2137232446903678,2.3536820468760124E-3,0.41576403508172755,-0.83674429635336756,13.369537583619376,8.0210974736792391,0.59995324621450241,1.2000999999999999,458.33333333333337,0.27646015351590181,458.33333333333337,0.27646015351590181,0.33753256625139183,1.2000999999999999,0,0.33753256625139183,1.2,5.6152057851201373,0.27646015351590181,-0.27646015351590181,-1.2000999999999999,0,0,0,0]
[null,0.20389085343010049,2.8244184562512147E-3,0.49891684209807302,-1.0040931556240411,14.014267458841857,8.2014481477838039,0.58522132333141397,1.2000999999999997,458.33333333333337,0.27646015351590181,458.33333333333337,0.27646015351590181,0.33864831347416285,1.2000999999999995,0,0.33864831347416285,1.2,5.8859923327135801,0.27646015351590181,-0.27646015351590181,-1.2000999999999999,0,0,0,0]
[null,0.19991063524608135,3.3893021475014575E-3,0.59870021051768763,-1.2049117867488492,14.293291344223084,8.087399787302898,0.56581787864917343,1.2001000000000002,458.33333333333337,0.27646015351590181,458.33333333333337,0.27646015351590181,0.33597443628422774,1.2000999999999999,0,0.33597443628422774,1.2,6.0031823645736946,0.27646015351590181,-0.27646015351590181,-1.2000999999999999,0,0,0,0]
[null,0.20144232789786035,3.050371932751312E-3,0.53883018946591887,-1.0844206080739645,14.184610464935471,8.1947617895564768,0.57772201850830007,1.2000999999999999,458.33333333333337,0.27646015351590181,{"$f":"MIN($O$441,$Q$441*$N$441*C457*(C$441-B457-$M$441)/B457)","v":458.33333333333337},0.27646015351590181,0.33805416647668046,1.2000999999999999,0,0.33805416647668046,1.2,5.9575363952728972,0.27646015351590181,-0.27646015351590181,-1.2000999999999999,0,0,0,0]
[null,0.20505810297883115,{"$f":"IF(ABS($Q$414-Q457)<0.00001*$Q$414,C457,MAX(0.9*C457,MIN($AD$4,1.05*C457,IF(C457=$AD$4,0.5*(C457+C456),C457+(C457-C456)*(Q457-$Q$414)/(Q456-Q457)))))","v":2.7453347394761807E-3},0.48494717051932695,-0.97597854726656785,13.934494228086804,8.1903405724038496,0.58777451397519276,1.2000999999999997,458.33333333333337,0.27646015351590181,458.33333333333337,0.27646015351590181,0.33869560006253402,1.2000999999999995,0,0.33869560006253402,1.2,5.8524875757964576,0.27646015351590181,-0.27646015351590181,-1.2000999999999999,0,0,0,0]
[null,0.2031390577761194,{"$f":"IF(ABS($Q$414-Q458)<0.00001*$Q$414,C458,MAX(1.05*C458,MIN($AD$4,1.05*C458,IF(C458=$AD$4,0.5*(C458+C457),C458+(C458-C457)*(Q458-$Q$414)/(Q457-Q458)))))","v":2.88260147644999E-3},0.50919452904529339,-1.0247774746298965,14.066132745038557,8.2050580266371771,0.58332010477658025,1.2000999999999999,458.33333333333337,0.27646015351590181,458.33333333333337,0.27646015351590181,0.33855904650862262,1.2000999999999999,0,0.33855904650862262,1.2,5.9077757529161934,0.27646015351590181,-0.27646015351590181,-1.2000999999999999,0,0,0,0]
[null,0.20779024340699812,2.5943413288049911E-3,0.45827507614076401,-0.92229972716690678,13.751275832447094,8.1484076218844397,0.59255648138899986,1.2000999999999999,458.33333333333337,0.27646015351590181,458.33333333333337,0.27646015351590181,0.33853645270974791,1.2000999999999999,0,0.33853645270974791,1.2,5.7755358496277793,0.27646015351590181,-0.27646015351590181,-1.2000999999999999,0,0,0,0]
[null,0.20540195656189658,2.7240583952452407E-3,0.48118882994780227,-0.96841471352525221,13.911167158331809,8.1861033246598609,0.58845553586472155,1.2000999999999999,458.33333333333337,0.27646015351590181,458.33333333333337,0.27646015351590181,0.33869336549814011,1.2000999999999999,0,0.33869336549814011,1.2,5.8426902064993591,0.27646015351590181,-0.27646015351590181,-1.2000999999999999,0,0,0,0]
[null,0.20341730986837686,2.8602613150075029E-3,0.50524827144519235,-1.0168354492015148,14.046891851189303,8.2041215937963177,0.5840524495176278,1.2000999999999999,458.33333333333337,0.27646015351590181,458.33333333333337,0.27646015351590181,0.33859868526494424,1.2000999999999999,0,0.33859868526494424,1.2,5.8996945774995071,0.27646015351590181,-0.27646015351590181,-1.2000999999999999,0,0,0,0]
[null,0.2082076459522646,2.5742351835067526E-3,0.45472344430067313,-0.91515190428136339,13.723708076676775,8.1406920851775517,0.59318458536818697,1.2000999999999999,458.33333333333337,0.27646015351590181,458.33333333333337,0.27646015351590181,0.3384892984875959,1.2000999999999999,0,0.3384892984875959,1.2,5.7639573922042455,0.27646015351590181,-0.27646015351590181,-1.2000999999999999,0,0,0,0]
[null,0.20575606565414314,2.7029469426820903E-3,0.47745961651570684,-0.96090949949543147,13.887225843363202,8.1813658827385698,0.58912888542447794,1.2000999999999999,458.33333333333337,0.27646015351590181,458.33333333333337,0.27646015351590181,0.33868474172308571,1.2000999999999999,0,0.33868474172308571,1.2,5.8326348542125448,0.27646015351590181,-0.27646015351590181,-1.2000999999999999,0,0,0,0]
[null,0.20370618747613753,2.8380942898161951E-3,0.50133259734149216,-1.0089549744702031,14.026971825368193,8.2026395497009563,0.58477621911710409,1.2000999999999999,458.33333333333337,0.27646015351590181,458.33333333333337,0.27646015351590181,0.3386314220876453,1.2000999999999999,0,0.3386314220876453,1.2,5.8913281666546409,0.27646015351590181,-0.27646015351590181,-1.2000999999999999,0,0,0,0]
[null,null,null,null,null,null,null,null,null,null,null,null,null,null,null,null,null,null,null,null,null,null,null,null,null,null,{"$f":"(N465+R446*$O$2)/($Q$441*C465/B465)","v":8.8890372464982033}]
[]
[null,"Tilstand:",{"$f":"$C$2","v":1},null,"Navier:","a=",{"$f":"J472*Q472/G472","v":24.323781741718612},"A=",{"$f":"C472*D472+G468*H472+G468*L472","v":0.25614351898648502},"Sy=",{"$f":"-(0.5*C472-I472)*G468*H472+(0.5*C472-M472)*G468*L472","v":0},"Iy=",{"$f":"D472*C472^3/12+(0.5*C472-I472)^2*G468*H472+(0.5*C472-M472)^2*G468*L472","v":6.8052891873039908E-3},"h=",{"$f":"K468/I468","v":0},"Io=",{"$f":"M468-I468*O468^2","v":6.8052891873039908E-3},"EIo=",{"$f":"Q468*G472/Q472","v":55.955848145372805},null,null,null,null,"EImax",{"$f":"M468*V475/Q472","v":44.361194934469552},"MNm2"]
[]
[null,"L","h","b","fck","fcd","Ecd","Ac","ac","Esc","fyd_c","At","at","Est","fyd_t","Modenhed","1+f","uterm","g","Ac","ac","Esc","fyd_c","At","at","Est","fyd_t","   emax",null,{"$f":"IF($C$2=1,0.0035,Firsidig!$G$21)","v":3.5000000000000001E-3}]
[null,"(m)","(m)","(m)","(Mpa)","(Mpa)","(Mpa)","(m2)","(m)","(Mpa)","(Mpa)","(m2)","(m)","(Mpa)","(Mpa)","(døgn)",null,"(m)",null,"(m2)","(m)","(Mpa)","(Mpa)","(m2)","(m)","(Mpa)","(Mpa)","e1",null,{"$f":"IF($C$2=1,0.7*(E472+8)^0.31/1000,Firsidig!$F$21)","v":2.0693662482105194E-3}]
[null,{"$f":"B409","v":0.54},0.54,0.42,25,17.857142857142858,22482.71872144239,{"$f":"IF($W474<0,X472,T472)","v":6.0318578948924026E-4},{"$f":"IF($W474<0,Y472,U472)","v":0.06},{"$f":"IF($W474<0,Z472,V472)","v":200000},{"$f":"IF($W474<0,AA472,W472)","v":458.33333333333337},{"$f":"IF($W474<0,T472,X472)","v":6.0318578948924026E-4},{"$f":"IF($W474<0,U472,Y472)","v":0.06},{"$f":"IF($W474<0,V472,Z472)","v":200000},{"$f":"IF($W474<0,W472,AA472)","v":458.33333333333337},{"$f":"P409","v":28},{"$f":"Q409","v":2.7343237157040781},{"$f":"R409","v":0},{"$f":"S409","v":1.4},{"$f":"T$6","v":6.0318578948924026E-4},{"$f":"U$6","v":0.06},200000,458.33333333333337,6.0318578948924026E-4,0.06,200000,458.33333333333337,"k",null,{"$f":"1.05*G472*AD471/F472","v":2.7356687822616226}]
[]
[null,"Initialt","elasttisk","e_o","sc_o/fcd","sc_u/fcd","sc_o","sc_u","hc","elasttisk","e_o","sc_o/fcd","sc_u/fcd","sc_o","sc_u","hc","At","Ac","Ic","Wt","u_skøn","E",{"$f":"W411","v":-0.72171000000000007}]
[null,"beregning","skøn_1",{"$f":"IF(C468=1,AD471*0.5*(-((AD472-2)*E475-AD472)-(((AD472-2)*E475-AD472)^2-4*E475)^0.5),G475/(1.4*F472/AD471))","v":2.042179439643878E-3},{"$f":"MIN(0.9999,G475/F472)","v":0.99990000000000001},{"$f":"H475/F472","v":-1.8197683242410692},{"$f":"R477/Q475+(Q477+$O$2*R477+R477*R472)/T475","v":36.399924233965663},{"$f":"R477/Q475-(Q477+$O$2*R477+R477*R472)/T475","v":-32.495862932876236},{"$f":"IF(G475=H475,100*C472,IF(H475>0,C472*G475/(G475-H475),2*(R477+L472*O472)/(D472*F472)))","v":0.20705604093757382},"skøn_2",{"$f":"IF(C468=1,AD471*0.5*(-((AD472-2)*L475-AD472)-(((AD472-2)*L475-AD472)^2-4*L475)^0.5),G475/(1.4*F472/AD471))","v":2.042179439643878E-3},{"$f":"MIN(0.9999,N475/F472)","v":0.99990000000000001},{"$f":"O475/F472","v":-1.8308239880078232},{"$f":"R477/Q475+(Q477+$O$2*R477+R477*U475)/T475","v":36.597346801229129},{"$f":"R477/Q475-(Q477+$O$2*R477+R477*U475)/T475","v":-32.693285500139702},{"$f":"IF(N475=O475,100*C472,C472*N475/(N475-O475))","v":0.28521268483609036},{"$f":"R475+Q472*(H472+L472)*N472/G472","v":0.25614351898648502},{"$f":"C472*D472","v":0.2268},{"$f":"D472*C472^3/12","v":5.5112400000000006E-3},{"$f":"(S475+((0.5*C472-I472)^2*H472+(0.5*C472-M472)^2*L472)*Q472)/(0.5*C472)","v":2.0950773034997532E-2},{"$f":"Q477/(10*AA497/B472^2-R477)+R472","v":8.2723107974468375E-3},{"$f":"G475/D475","v":17824.057733297523}]
[null,"hc","e0","a'","b'","N'","tN'","t'","Nc","sac","Nac","sat","Nat","Mtot","N","u","Mo","N","A","B1","B2","B3","C1","C2","gættet x","beregnet x","EIt"]
[null,{"$f":"I475","v":0.20705604093757382},null,null,null,null,null,null,null,null,null,null,null,null,null,null,{"$f":"ABS(W474)","v":0.72171000000000007},{"$f":"$R$311","v":0.5}]
[null,{"$f":"0.5*(-(T478+U478+V478)+SQRT((T478+U478+V478)^2+4*S478*(W478+X478)))/S478","v":0.21021350149228357},{"$f":"MIN(D475,AD471,0.99*K472/(J472*Q472))","v":8.2972984762918079E-4},{"$f":"IF($C$2=1,C478/($AD$409*$AD$5),2^(1/3)*$AD$5/C478)","v":0.14656687802667664},{"$f":"IF($C$2=1,-($AD$409-2)*C478/$AD$5,3*($AD$5/C478)^2)","v":-0.29497260194483643},{"$f":"IF($C$2=1,0.5*($AD$409*C478*$F$409/$AD$5)*(1-Y478^2+(D478-E478)*(E478^2*(1-Y478^2)+2*E478*(1-Y478)+2*LN((1-E478)/(1-E478*Y478)))/(E478^3)),$F$409*E478*(LN((1-D478+D478^2)/(1+D478)^2)/(6*D478)+ATAN((2-D478)/(D478*3^0.5))/(D478*3^0.5)-LN((Y478^2-D478*Y478+D478^2)/(Y478+D478)^2)/(6*D478)-ATAN((2*Y478-D478)/(D478*3^0.5))/(D478*3^0.5)))","v":7.427626096706283},{"$f":"IF($C$2=1,($AD$409*C478*$F$409/$AD$5)*(1-Y478^3-(D478-E478)*(-2*E478^3*(1-Y478^3)-3*E478^2*(1-Y478^2)-6*E478*(1-Y478)-6*LN((1-E478)/(1-E478*Y478)))/(2*E478^4))/3,$F$409*E478*(LN((1+D478^3)/(D478^3+Y478^3)))/3)","v":4.7769842602688906},{"$f":"G478/F478","v":0.6431374167295798},{"$f":"F478*B478*$D$409","v":0.65578266161691801},{"$f":"MAX(MIN($K$409,$Q$409*$J$409*C478*(B478-$I$409)/B478),-$K$409)","v":324.23881348375545},{"$f":"J478*$H$409","v":0.19557624469425355},{"$f":"MIN($O$409,$Q$409*$N$409*C478*(C$409-B478-$M$409)/B478)","v":458.33333333333337},{"$f":"L478*$L$409","v":0.27646015351590181},{"$f":"(0.5*$C$409-B478+H478*B478)*I478+(0.5*$C$409-$I$409)*K478+(0.5*$C$409-$M$409)*M478","v":0.22699389583995522},{"$f":"I478+K478-M478","v":0.5748987527952697},0,{"$f":"N478-P478*O478","v":0.22699389583995522},{"$f":"$R$311","v":0.5},{"$f":"F478*$D$409","v":3.1196029606166387},{"$f":"IF(ABS(J477)<$K$409,$Q$409*C478*$H$409*$J$409,IF(J477>0,1,-1)*$H$409*$K$409)","v":0.27369555198074275},{"$f":"IF(L477<$O$409,$Q$409*C478*$L$409*$N$409,-$L$409*$O$409)","v":0.27369555198074275},{"$f":"-(R478+0.0001)","v":-0.50009999999999999},{"$f":"IF(ABS(J477)<$K$409,$I$409*$Q$409*C478*$H$409*$J$409,0)","v":1.6421733118844567E-2},{"$f":"IF(L477<$O$409,($C$409-$M$409)*$Q$409*C478*$L$409*$N$409,0)","v":0.13137386495075659},{"$f":"IF(B477<$C$409,0,(B477-$C$409)/B477)","v":0},{"$f":"IF(AND(B478<=$C$409,B478>0),0,(B478-$C$409)/B478)","v":0}]
[null,{"$f":"0.5*(-(T479+U479+V479)+SQRT((T479+U479+V479)^2+4*S479*(W479+X479)))/S479","v":0.19823123848820826},{"$f":"0.95*C478","v":7.8824335524772175E-4},{"$f":"IF($C$2=1,C479/($AD$409*$AD$5),2^(1/3)*$AD$5/C479)","v":0.13923853412534282},{"$f":"IF($C$2=1,-($AD$409-2)*C479/$AD$5,3*($AD$5/C479)^2)","v":-0.28022397184759462},{"$f":"IF($C$2=1,0.5*($AD$409*C479*$F$409/$AD$5)*(1-Y479^2+(D479-E479)*(E479^2*(1-Y479^2)+2*E479*(1-Y479)+2*LN((1-E479)/(1-E479*Y479)))/(E479^3)),$F$409*E479*(LN((1-D479+D479^2)/(1+D479)^2)/(6*D479)+ATAN((2-D479)/(D479*3^0.5))/(D479*3^0.5)-LN((Y479^2-D479*Y479+D479^2)/(Y479+D479)^2)/(6*D479)-ATAN((2*Y479-D479)/(D479*3^0.5))/(D479*3^0.5)))","v":7.1495220005454003},{"$f":"IF($C$2=1,($AD$409*C479*$F$409/$AD$5)*(1-Y479^3-(D479-E479)*(-2*E479^3*(1-Y479^3)-3*E479^2*(1-Y479^2)-6*E479*(1-Y479)-6*LN((1-E479)/(1-E479*Y479)))/(2*E479^4))/3,$F$409*E479*(LN((1+D479^3)/(D479^3+Y479^3)))/3)","v":4.6063276778079265},{"$f":"G479/F479","v":0.64428470567074747},{"$f":"F479*B479*$D$409","v":0.59524861232205895},{"$f":"MAX(MIN($K$409,$Q$409*$J$409*C479*(B479-$I$409)/B479),-$K$409)","v":300.58987521468651},{"$f":"J479*$H$409","v":0.18131154119384291},{"$f":"MIN($O$409,$Q$409*$N$409*C479*(C$409-B479-$M$409)/B479)","v":458.33333333333337},{"$f":"L479*$L$409","v":0.27646015351590181},{"$f":"(0.5*$C$409-B479+H479*B479)*I479+(0.5*$C$409-$I$409)*K479+(0.5*$C$409-$M$409)*M479","v":0.21487589000599605},{"$f":"I479+K479-M479","v":0.5001000000000001},0,{"$f":"N479-P479*O479","v":0.21487589000599605},0.5,{"$f":"F479*$D$409","v":3.0027992402290682},{"$f":"IF(ABS(J478)<$K$409,$Q$409*C479*$H$409*$J$409,IF(J478>0,1,-1)*$H$409*$K$409)","v":0.26001077438170567},{"$f":"IF(L478<$O$409,$Q$409*C479*$L$409*$N$409,-$L$409*$O$409)","v":-0.27646015351590181},{"$f":"-(R479+0.0001)","v":-0.50009999999999999},{"$f":"IF(ABS(J478)<$K$409,$I$409*$Q$409*C479*$H$409*$J$409,0)","v":1.5600646462902339E-2},{"$f":"IF(L478<$O$409,($C$409-$M$409)*$Q$409*C479*$L$409*$N$409,0)","v":0},{"$f":"Z478","v":0},{"$f":"IF(AND(B479<=$C$409,B479>0),0,(B479-$C$409)/B479)","v":0}]
[null,0.16797807699294509,{"$f":"IF(ABS($Q$414-Q479)<0.00001*$Q$414,C479,MAX(0.9*C479,MIN($AD$4,1.2*C479,IF(C479=$AD$4,0.5*(C479+C478),C479+(C479-C478)*(Q479-$Q$414)/(Q478-Q479)))))","v":9.4589202629726606E-4},{"$f":"IF($C$2=1,C480/($AD$409*$AD$5),2^(1/3)*$AD$5/C480)","v":0.16708624095041139},{"$f":"IF($C$2=1,-($AD$409-2)*C480/$AD$5,3*($AD$5/C480)^2)","v":-0.33626876621711349},{"$f":"IF($C$2=1,0.5*($AD$409*C480*$F$409/$AD$5)*(1-Y480^2+(D480-E480)*(E480^2*(1-Y480^2)+2*E480*(1-Y480)+2*LN((1-E480)/(1-E480*Y480)))/(E480^3)),$F$409*E480*(LN((1-D480+D480^2)/(1+D480)^2)/(6*D480)+ATAN((2-D480)/(D480*3^0.5))/(D480*3^0.5)-LN((Y480^2-D480*Y480+D480^2)/(Y480+D480)^2)/(6*D480)-ATAN((2*Y480-D480)/(D480*3^0.5))/(D480*3^0.5)))","v":8.1642592162153722},{"$f":"IF($C$2=1,($AD$409*C480*$F$409/$AD$5)*(1-Y480^3-(D480-E480)*(-2*E480^3*(1-Y480^3)-3*E480^2*(1-Y480^2)-6*E480*(1-Y480)-6*LN((1-E480)/(1-E480*Y480)))/(2*E480^4))/3,$F$409*E480*(LN((1+D480^3)/(D480^3+Y480^3)))/3)","v":5.224558544921126},{"$f":"G480/F480","v":0.63993050766252191},{"$f":"F480*B480*$D$409","v":0.57599495654895072},{"$f":"MAX(MIN($K$409,$Q$409*$J$409*C480*(B480-$I$409)/B480),-$K$409)","v":332.50981780718627},{"$f":"J480*$H$409","v":0.20056519696695108},{"$f":"MIN($O$409,$Q$409*$N$409*C480*(C$409-B480-$M$409)/B480)","v":458.33333333333337},{"$f":"L480*$L$409","v":0.27646015351590181},{"$f":"(0.5*$C$409-B480+H480*B480)*I480+(0.5*$C$409-$I$409)*K480+(0.5*$C$409-$M$409)*M480","v":0.22085560911435898},{"$f":"I480+K480-M480","v":0.50009999999999999},0,{"$f":"N480-P480*O480","v":0.22085560911435898},0.5,{"$f":"F480*$D$409","v":3.4289888708104561},0.3120129292580468,{"$f":"IF(L479<$O$409,$Q$409*C480*$L$409*$N$409,-$L$409*$O$409)","v":-0.27646015351590181},{"$f":"-(R480+0.0001)","v":-0.50009999999999999},1.8720775755482807E-2,{"$f":"IF(L479<$O$409,($C$409-$M$409)*$Q$409*C480*$L$409*$N$409,0)","v":0},{"$f":"Z479","v":0},{"$f":"IF(AND(B480<=$C$409,B480>0),0,(B480-$C$409)/B480)","v":0}]
[null,0.14385932201355006,{"$f":"IF(ABS($Q$414-Q480)<0.00001*$Q$414,C480,MAX(0.9*C480,MIN($AD$4,1.2*C480,IF(C480=$AD$4,0.5*(C480+C479),C480+(C480-C479)*(Q480-$Q$414)/(Q479-Q480)))))","v":1.1350704315567191E-3},0.20050348914049362,-0.40352251946053613,9.2402383722524259,5.8649095084463312,0.63471409201499684,0.55830365953984584,361.83958206453934,0.2182564939760559,458.33333333333337,0.27646015351590181,0.22529374785651013,0.50009999999999988,0,0.22529374785651013,0.5,3.8809001163460186,0.37441551510965609,-0.27646015351590181,-0.50009999999999999,2.2464930906579361E-2,0,0,0]
[null,0.12493347566320523,1.3620845178680628E-3,0.24060418696859234,-0.48422702335264334,10.349121234767585,6.5037801550684611,0.62843791347415978,0.54303970808614654,387.14513753298684,0.23352044542975517,458.33333333333337,0.27646015351590181,0.22850844889930155,0.50009999999999988,0,0.22850844889930155,0.5,4.3466309186023855,0.44929861813158728,-0.27646015351590181,-0.50009999999999999,2.6957917087895234E-2,0,0,0]
[null,0.11034060160130273,1.6345014214416754E-3,0.28872502436231079,-0.58107242802317205,11.448973635541829,7.1079228427144798,0.6208349384829458,0.5305803882385185,407.80099525499691,0.24597976527738324,458.33333333333337,0.27646015351590181,0.23077103636674867,0.50009999999999988,0,0.23077103636674867,0.5,4.8085689269275678,0.53915834175790467,-0.27646015351590181,-0.50009999999999999,3.2349500505474277E-2,0,0,0]
[null,9.9294108139781845E-2,1.9614017057300102E-3,0.34647002923477294,-0.69728691362780626,12.481531350363706,7.6328007584000579,0.61152758777292515,0.52052385993429828,424.47335140041588,0.25603629358160357,458.33333333333337,0.27646015351590181,0.23228751792344005,0.5001000000000001,0,0.23228751792344005,0.5,5.2422431671527567,0.64699001010948554,-0.27646015351590181,-0.50009999999999999,3.8819400606569132E-2,0,0,0]
[null,9.109725370235304E-2,2.3536820468760124E-3,0.41576403508172755,-0.83674429635336756,13.369537583619376,8.0210974736792391,0.59995324621450241,0.51152982599800967,439.384236393089,0.26503032751789235,458.33333333333337,0.27646015351590181,0.23318429042456551,0.50010000000000021,0,0.23318429042456551,0.5,5.6152057851201373,0.77638801213138264,-0.27646015351590181,-0.50009999999999999,4.6583280727882967E-2,0,0,0]
[null,8.5163983595762466E-2,2.8244184562512147E-3,0.49891684209807302,-1.0040931556240411,14.014267458841857,8.2014481477838039,0.58522132333141397,0.50127455446800295,456.3860817759026,0.27528559904789879,458.33333333333337,0.27646015351590181,0.23350361291435451,0.50009999999999988,0,0.23350361291435451,0.5,5.8859923327135801,0.93166561455765928,-0.27646015351590181,-0.50009999999999999,5.5899936873459545E-2,0,0,0]
[null,8.1027790024815735E-2,3.3893021475014575E-3,0.59870021051768763,-1.2049117867488492,14.293291344223084,8.087399787302898,0.56581787864917343,0.48642460011735417,458.33333333333337,0.27646015351590181,458.33333333333337,0.27646015351590181,0.23033509129700119,0.48642460011735411,0,0.23033509129700119,0.5,6.0031823645736946,1.1179987374691909,-0.27646015351590181,-0.50009999999999999,6.7079924248151457E-2,0,0,0]
[null,8.3944094810199127E-2,3.050371932751312E-3,0.53883018946591887,-1.0844206080739645,14.184610464935471,8.1947617895564768,0.57772201850830007,0.50009999999999999,458.33333333333337,0.27646015351590181,458.33333333333337,0.27646015351590181,0.23341284824508796,0.50009999999999999,0,0.23341284824508796,0.5,5.9575363952728972,0.27646015351590181,-0.27646015351590181,-0.50009999999999999,0,0,0,0]
[null,8.5450843512801827E-2,{"$f":"IF(ABS($Q$414-Q488)<0.00001*$Q$414,C488,MAX(0.9*C488,MIN($AD$4,1.05*C488,IF(C488=$AD$4,0.5*(C488+C487),C488+(C488-C487)*(Q488-$Q$414)/(Q487-Q488)))))","v":2.7453347394761807E-3},0.48494717051932695,-0.97597854726656785,13.934494228086804,8.1903405724038496,0.58777451397519276,0.50009999999999999,447.15805363377638,0.26971938360756142,458.33333333333337,0.27646015351590181,0.23210867254523021,0.49335923009165961,0,0.23210867254523021,0.5,5.8524875757964576,0.27646015351590181,-0.27646015351590181,-0.50009999999999999,0,0,0,0]
[null,8.4619580508028563E-2,{"$f":"IF(ABS($Q$414-Q489)<0.00001*$Q$414,C489,MAX(1.05*C489,MIN($AD$4,1.05*C489,IF(C489=$AD$4,0.5*(C489+C488),C489+(C489-C488)*(Q489-$Q$414)/(Q488-Q489)))))","v":2.88260147644999E-3},0.50919452904529339,-1.0247774746298965,14.066132745038557,8.2050580266371771,0.58332010477658025,0.49991350594727091,458.33333333333337,0.27646015351590181,458.33333333333337,0.27646015351590181,0.2334633218303197,0.49991350594727091,0,0.2334633218303197,0.5,5.9077757529161934,0.95085792621754694,-0.27646015351590181,-0.50009999999999999,5.7051475573052818E-2,0,0,0]
[null,8.4026891678152332E-2,3.0267315502724894E-3,0.53465425549755796,-1.0760163483613914,14.170633495227589,8.1980194626755232,0.57852173408030538,0.50009999999999999,458.33333333333337,0.27646015351590181,458.33333333333337,0.27646015351590181,0.23342896862825446,0.50009999999999999,0,0.23342896862825446,0.5,5.9516660679955873,0.27646015351590181,-0.27646015351590181,-0.50009999999999999,0,0,0,0]
[null,8.5594132552791011E-2,2.7240583952452407E-3,0.48118882994780227,-0.96841471352525221,13.911167158331809,8.1861033246598609,0.58845553586472155,0.50009999999999999,445.44363543215235,0.26868527091110012,458.33333333333337,0.27646015351590181,0.23189112084324776,0.49232511739519824,0,0.23189112084324776,0.5,5.8426902064993591,0.27646015351590181,-0.27646015351590181,-0.50009999999999999,0,0,0,0]
[null,8.4824698614404295E-2,2.8602613150075029E-3,0.50524827144519235,-1.0168354492015148,14.046891851189303,8.2041215937963177,0.5840524495176278,0.500439814453431,457.76996718752486,0.2761203390624708,458.33333333333337,0.27646015351590181,0.23350382273065334,0.50009999999999999,0,0.23350382273065334,0.5,5.8996945774995071,0.9434887772893612,-0.27646015351590181,-0.50009999999999999,5.6609326637361672E-2,0,0,0]
[null,8.3590129434189933E-2,3.0032743807578781E-3,0.53051068501745202,-1.0676772216615904,14.155897928115104,8.2006762456030149,0.57931162595596342,0.49698320282869557,458.33333333333337,0.27646015351590181,458.33333333333337,0.27646015351590181,0.23282211828761457,0.49698320282869557,0,0.23282211828761457,0.5,5.945477129808344,0.99066321615382924,-0.27646015351590181,-0.50009999999999999,5.9439792969229757E-2,0,0,0]
[null,8.5741695220095809E-2,2.7029469426820903E-3,0.47745961651570684,-0.96090949949543147,13.887225843363202,8.1813658827385698,0.58912888542447794,0.50009999999999999,443.77468452666119,0.26767858344155265,458.33333333333337,0.27646015351590181,0.23167821894213964,0.49131842992565089,0,0.23167821894213964,0.5,5.8326348542125448,0.27646015351590181,-0.27646015351590181,-0.50009999999999999,0,0,0,0]
[null,8.5033021049054872E-2,2.8380942898161951E-3,0.50133259734149216,-1.0089549744702031,14.026971825368193,8.2026395497009563,0.58477621911710409,0.50095743200203391,456.91182769282415,0.27560272151386783,458.33333333333337,0.27646015351590181,0.23350403939384445,0.50009999999999988,0,0.23350403939384445,0.5,5.8913281666546409,0.93617673926536871,-0.27646015351590181,-0.50009999999999999,5.6170604355922117E-2,0,0,0]
[null,null,null,null,null,null,null,null,null,null,null,null,null,null,null,null,null,null,null,null,null,null,null,null,null,null,{"$f":"(N496-R477*$O$2)/($Q$6*C496/B496)","v":2.5586168616826321}]
[]
[]
[null,"Tilstand:",{"$f":"$C$2","v":1},null,"Navier:","a=",{"$f":"J504*Q504/G504","v":24.323781741718612},"A=",{"$f":"C504*D504+G500*H504+G500*L504","v":0.25614351898648502},"Sy=",{"$f":"-(0.5*C504-I504)*G500*H504+(0.5*C504-M504)*G500*L504","v":0},"Iy=",{"$f":"D504*C504^3/12+(0.5*C504-I504)^2*G500*H504+(0.5*C504-M504)^2*G500*L504","v":6.8052891873039908E-3},"h=",{"$f":"K500/I500","v":0},"Io=",{"$f":"M500-I500*O500^2","v":6.8052891873039908E-3},"EIo=",{"$f":"Q500*G504/Q504","v":55.955848145372805},null,null,null,null,"EImax",{"$f":"M500*V507/Q504","v":44.361194934469552},"MNm2"]
[]
[null,"L","h","b","fck","fcd","Ecd","Ac","ac","Esc","fyd_c","At","at","Est","fyd_t","Modenhed","1+f","uterm","g","Ac","ac","Esc","fyd_c","At","at","Est","fyd_t","   emax",null,{"$f":"IF($C$2=1,0.0035,Firsidig!$G$21)","v":3.5000000000000001E-3}]
[null,"(m)","(m)","(m)","(Mpa)","(Mpa)","(Mpa)","(m2)","(m)","(Mpa)","(Mpa)","(m2)","(m)","(Mpa)","(Mpa)","(døgn)",null,"(m)",null,"(m2)","(m)","(Mpa)","(Mpa)","(m2)","(m)","(Mpa)","(Mpa)","e1",null,{"$f":"IF($C$2=1,0.7*(E504+8)^0.31/1000,Firsidig!$F$21)","v":2.0693662482105194E-3}]
[null,{"$f":"B441","v":0.54},0.54,0.42,25,17.857142857142858,22482.71872144239,{"$f":"IF($W506<0,X504,T504)","v":6.0318578948924026E-4},{"$f":"IF($W506<0,Y504,U504)","v":0.06},{"$f":"IF($W506<0,Z504,V504)","v":200000},{"$f":"IF($W506<0,AA504,W504)","v":458.33333333333337},{"$f":"IF($W506<0,T504,X504)","v":6.0318578948924026E-4},{"$f":"IF($W506<0,U504,Y504)","v":0.06},{"$f":"IF($W506<0,V504,Z504)","v":200000},{"$f":"IF($W506<0,W504,AA504)","v":458.33333333333337},{"$f":"P441","v":28},{"$f":"Q441","v":2.7343237157040781},{"$f":"R441","v":0},{"$f":"S441","v":1.4},{"$f":"T$6","v":6.0318578948924026E-4},{"$f":"U$6","v":0.06},200000,458.33333333333337,6.0318578948924026E-4,0.06,200000,458.33333333333337,"k",null,{"$f":"1.05*G504*AD503/F504","v":2.7356687822616226}]
[]
[null,"Initialt","elasttisk","e_o","sc_o/fcd","sc_u/fcd","sc_o","sc_u","hc","elasttisk","e_o","sc_o/fcd","sc_u/fcd","sc_o","sc_u","hc","At","Ac","Ic","Wt","u_skøn","E",{"$f":"W443","v":0.72171000000000007}]
[null,"beregning","skøn_1",{"$f":"IF(C500=1,AD503*0.5*(-((AD504-2)*E507-AD504)-(((AD504-2)*E507-AD504)^2-4*E507)^0.5),G507/(1.4*F504/AD503))","v":2.042179439643878E-3},{"$f":"MIN(0.9999,G507/F504)","v":0.99990000000000001},{"$f":"H507/F504","v":-1.8197683242410692},{"$f":"R509/Q507+(Q509+$O$2*R509+R509*R504)/T507","v":36.399924233965663},{"$f":"R509/Q507-(Q509+$O$2*R509+R509*R504)/T507","v":-32.495862932876236},{"$f":"IF(G507=H507,100*C504,C504*G507/(G507-H507))","v":0.28529986947883307},"skøn_2",{"$f":"IF(C500=1,AD503*0.5*(-((AD504-2)*L507-AD504)-(((AD504-2)*L507-AD504)^2-4*L507)^0.5),G507/(1.4*F504/AD503))","v":2.042179439643878E-3},{"$f":"MIN(0.9999,N507/F504)","v":0.99990000000000001},{"$f":"O507/F504","v":-1.8308239880078232},{"$f":"R509/Q507+(Q509+$O$2*R509+R509*U507)/T507","v":36.597346801229129},{"$f":"R509/Q507-(Q509+$O$2*R509+R509*U507)/T507","v":-32.693285500139702},{"$f":"IF(N507=O507,100*C504,C504*N507/(N507-O507))","v":0.28521268483609036},{"$f":"R507+Q504*(H504+L504)*N504/G504","v":0.25614351898648502},{"$f":"C504*D504","v":0.2268},{"$f":"D504*C504^3/12","v":5.5112400000000006E-3},{"$f":"(S507+((0.5*C504-I504)^2*H504+(0.5*C504-M504)^2*L504)*Q504)/(0.5*C504)","v":2.0950773034997532E-2},{"$f":"Q509/(10*AA529/B504^2-R509)+R504","v":8.2723107974468375E-3},{"$f":"G507/D507","v":17824.057733297523}]
[null,"hc","e0","a'","b'","N'","tN'","t'","Nc","sac","Nac","sat","Nat","Mtot","N","u","Mo","N","A","B1","B2","B3","C1","C2","gættet x","beregnet x","EIt"]
[null,{"$f":"I507","v":0.28529986947883307},null,null,null,null,null,null,null,null,null,null,null,null,null,null,{"$f":"W506","v":0.72171000000000007},{"$f":"$R$111","v":0.5}]
[null,{"$f":"0.5*(-(T510+U510+V510)+SQRT((T510+U510+V510)^2+4*S510*(W510+X510)))/S510","v":0.21021350149228357},{"$f":"MIN(D507,AD503,0.99*K504/(J504*Q504))","v":8.2972984762918079E-4},{"$f":"IF($C$2=1,C510/($AD$441*$AD$5),2^(1/3)*$AD$5/C510)","v":0.14656687802667664},{"$f":"IF($C$2=1,-($AD$441-2)*C510/$AD$5,3*($AD$5/C510)^2)","v":-0.29497260194483643},{"$f":"IF($C$2=1,0.5*($AD$441*C510*$F$441/$AD$5)*(1-Y510^2+(D510-E510)*(E510^2*(1-Y510^2)+2*E510*(1-Y510)+2*LN((1-E510)/(1-E510*Y510)))/(E510^3)),$F$441*E510*(LN((1-D510+D510^2)/(1+D510)^2)/(6*D510)+ATAN((2-D510)/(D510*3^0.5))/(D510*3^0.5)-LN((Y510^2-D510*Y510+D510^2)/(Y510+D510)^2)/(6*D510)-ATAN((2*Y510-D510)/(D510*3^0.5))/(D510*3^0.5)))","v":7.427626096706283},{"$f":"IF($C$2=1,($AD$441*C510*$F$441/$AD$5)*(1-Y510^3-(D510-E510)*(-2*E510^3*(1-Y510^3)-3*E510^2*(1-Y510^2)-6*E510*(1-Y510)-6*LN((1-E510)/(1-E510*Y510)))/(2*E510^4))/3,$F$441*E510*(LN((1+D510^3)/(D510^3+Y510^3)))/3)","v":4.7769842602688906},{"$f":"G510/F510","v":0.6431374167295798},{"$f":"F510*B510*$D$441","v":0.65578266161691801},{"$f":"MAX(MIN($K$441,$Q$441*$J$441*C510*(B510-$I$441)/B510),-$K$441)","v":324.23881348375545},{"$f":"J510*$H$441","v":0.19557624469425355},{"$f":"MIN($O$441,$Q$441*$N$441*C510*(C$441-B510-$M$441)/B510)","v":458.33333333333337},{"$f":"L510*$L$441","v":0.27646015351590181},{"$f":"(0.5*$C$441-B510+H510*B510)*I510+(0.5*$C$441-$I$441)*K510+(0.5*$C$441-$M$441)*M510","v":0.22699389583995522},{"$f":"I510+K510-M510","v":0.5748987527952697},0,{"$f":"N510-P510*O510","v":0.22699389583995522},{"$f":"$R$111","v":0.5},{"$f":"F510*$D$441","v":3.1196029606166387},{"$f":"IF(ABS(J509)<$K$441,$Q$441*C510*$H$441*$J$441,IF(J509>0,1,-1)*$H$441*$K$441)","v":0.27369555198074275},{"$f":"IF(L509<$O$441,$Q$441*C510*$L$441*$N$441,-$L$441*$O$441)","v":0.27369555198074275},{"$f":"-(R510+0.0001)","v":-0.50009999999999999},{"$f":"IF(ABS(J509)<$K$441,$I$441*$Q$441*C510*$H$441*$J$441,0)","v":1.6421733118844567E-2},{"$f":"IF(L509<$O$441,($C$441-$M$441)*$Q$441*C510*$L$441*$N$441,0)","v":0.13137386495075659},{"$f":"IF(B509<$C$441,0,(B509-$C$441)/B509)","v":0},{"$f":"IF(AND(B510<=$C$441,B510>0),0,(B510-$C$441)/B510)","v":0}]
[null,0.19823123848820826,{"$f":"0.95*C510","v":7.8824335524772175E-4},{"$f":"IF($C$2=1,C511/($AD$441*$AD$5),2^(1/3)*$AD$5/C511)","v":0.13923853412534282},{"$f":"IF($C$2=1,-($AD$441-2)*C511/$AD$5,3*($AD$5/C511)^2)","v":-0.28022397184759462},{"$f":"IF($C$2=1,0.5*($AD$441*C511*$F$441/$AD$5)*(1-Y511^2+(D511-E511)*(E511^2*(1-Y511^2)+2*E511*(1-Y511)+2*LN((1-E511)/(1-E511*Y511)))/(E511^3)),$F$441*E511*(LN((1-D511+D511^2)/(1+D511)^2)/(6*D511)+ATAN((2-D511)/(D511*3^0.5))/(D511*3^0.5)-LN((Y511^2-D511*Y511+D511^2)/(Y511+D511)^2)/(6*D511)-ATAN((2*Y511-D511)/(D511*3^0.5))/(D511*3^0.5)))","v":7.1495220005454003},{"$f":"IF($C$2=1,($AD$441*C511*$F$441/$AD$5)*(1-Y511^3-(D511-E511)*(-2*E511^3*(1-Y511^3)-3*E511^2*(1-Y511^2)-6*E511*(1-Y511)-6*LN((1-E511)/(1-E511*Y511)))/(2*E511^4))/3,$F$441*E511*(LN((1+D511^3)/(D511^3+Y511^3)))/3)","v":4.6063276778079265},{"$f":"G511/F511","v":0.64428470567074747},{"$f":"F511*B511*$D$441","v":0.59524861232205895},{"$f":"MAX(MIN($K$441,$Q$441*$J$441*C511*(B511-$I$441)/B511),-$K$441)","v":300.58987521468651},{"$f":"J511*$H$441","v":0.18131154119384291},{"$f":"MIN($O$441,$Q$441*$N$441*C511*(C$441-B511-$M$441)/B511)","v":458.33333333333337},{"$f":"L511*$L$441","v":0.27646015351590181},{"$f":"(0.5*$C$441-B511+H511*B511)*I511+(0.5*$C$441-$I$441)*K511+(0.5*$C$441-$M$441)*M511","v":0.21487589000599605},{"$f":"I511+K511-M511","v":0.5001000000000001},0,{"$f":"N511-P511*O511","v":0.21487589000599605},0.5,{"$f":"F511*$D$441","v":3.0027992402290682},{"$f":"IF(ABS(J510)<$K$441,$Q$441*C511*$H$441*$J$441,IF(J510>0,1,-1)*$H$441*$K$441)","v":0.26001077438170567},{"$f":"IF(L510<$O$441,$Q$441*C511*$L$441*$N$441,-$L$441*$O$441)","v":-0.27646015351590181},{"$f":"-(R511+0.0001)","v":-0.50009999999999999},{"$f":"IF(ABS(J510)<$K$441,$I$441*$Q$441*C511*$H$441*$J$441,0)","v":1.5600646462902339E-2},{"$f":"IF(L510<$O$441,($C$441-$M$441)*$Q$441*C511*$L$441*$N$441,0)","v":0},{"$f":"Z510","v":0},{"$f":"IF(AND(B511<=$C$441,B511>0),0,(B511-$C$441)/B511)","v":0}]
[null,0.16797807699294509,{"$f":"IF(ABS($Q$414-Q511)<0.00001*$Q$414,C511,MAX(0.9*C511,MIN($AD$4,1.2*C511,IF(C511=$AD$4,0.5*(C511+C510),C511+(C511-C510)*(Q511-$Q$414)/(Q510-Q511)))))","v":9.4589202629726606E-4},{"$f":"IF($C$2=1,C512/($AD$441*$AD$5),2^(1/3)*$AD$5/C512)","v":0.16708624095041139},{"$f":"IF($C$2=1,-($AD$441-2)*C512/$AD$5,3*($AD$5/C512)^2)","v":-0.33626876621711349},{"$f":"IF($C$2=1,0.5*($AD$441*C512*$F$441/$AD$5)*(1-Y512^2+(D512-E512)*(E512^2*(1-Y512^2)+2*E512*(1-Y512)+2*LN((1-E512)/(1-E512*Y512)))/(E512^3)),$F$441*E512*(LN((1-D512+D512^2)/(1+D512)^2)/(6*D512)+ATAN((2-D512)/(D512*3^0.5))/(D512*3^0.5)-LN((Y512^2-D512*Y512+D512^2)/(Y512+D512)^2)/(6*D512)-ATAN((2*Y512-D512)/(D512*3^0.5))/(D512*3^0.5)))","v":8.1642592162153722},{"$f":"IF($C$2=1,($AD$441*C512*$F$441/$AD$5)*(1-Y512^3-(D512-E512)*(-2*E512^3*(1-Y512^3)-3*E512^2*(1-Y512^2)-6*E512*(1-Y512)-6*LN((1-E512)/(1-E512*Y512)))/(2*E512^4))/3,$F$441*E512*(LN((1+D512^3)/(D512^3+Y512^3)))/3)","v":5.224558544921126},{"$f":"G512/F512","v":0.63993050766252191},{"$f":"F512*B512*$D$441","v":0.57599495654895072},{"$f":"MAX(MIN($K$441,$Q$441*$J$441*C512*(B512-$I$441)/B512),-$K$441)","v":332.50981780718627},{"$f":"J512*$H$441","v":0.20056519696695108},{"$f":"MIN($O$441,$Q$441*$N$441*C512*(C$441-B512-$M$441)/B512)","v":458.33333333333337},{"$f":"L512*$L$441","v":0.27646015351590181},{"$f":"(0.5*$C$441-B512+H512*B512)*I512+(0.5*$C$441-$I$441)*K512+(0.5*$C$441-$M$441)*M512","v":0.22085560911435898},{"$f":"I512+K512-M512","v":0.50009999999999999},0,{"$f":"N512-P512*O512","v":0.22085560911435898},0.5,{"$f":"F512*$D$441","v":3.4289888708104561},0.3120129292580468,-0.27646015351590181,{"$f":"-(R512+0.0001)","v":-0.50009999999999999},1.8720775755482807E-2,0,{"$f":"Z511","v":0},{"$f":"IF(AND(B512<=$C$441,B512>0),0,(B512-$C$441)/B512)","v":0}]
[null,0.14385932201355006,{"$f":"IF(ABS($Q$414-Q512)<0.00001*$Q$414,C512,MAX(0.9*C512,MIN($AD$4,1.2*C512,IF(C512=$AD$4,0.5*(C512+C511),C512+(C512-C511)*(Q512-$Q$414)/(Q511-Q512)))))","v":1.1350704315567191E-3},0.20050348914049362,-0.40352251946053613,9.2402383722524259,5.8649095084463312,0.63471409201499684,0.55830365953984584,361.83958206453934,0.2182564939760559,458.33333333333337,0.27646015351590181,0.22529374785651013,0.50009999999999988,0,0.22529374785651013,0.5,3.8809001163460186,0.37441551510965609,-0.27646015351590181,-0.50009999999999999,2.2464930906579361E-2,0,0,0]
[null,0.12493347566320523,1.3620845178680628E-3,0.24060418696859234,-0.48422702335264334,10.349121234767585,6.5037801550684611,0.62843791347415978,0.54303970808614654,387.14513753298684,0.23352044542975517,458.33333333333337,0.27646015351590181,0.22850844889930155,0.50009999999999988,0,0.22850844889930155,0.5,4.3466309186023855,{"$f":"IF(ABS(J513)<$K$441,$Q$441*C514*$H$441*$J$441,IF(J513>0,1,-1)*$H$441*$K$441)","v":0.44929861813158728},-0.27646015351590181,-0.50009999999999999,2.6957917087895234E-2,0,0,0]
[null,0.11034060160130273,1.6345014214416754E-3,0.28872502436231079,-0.58107242802317205,11.448973635541829,7.1079228427144798,0.6208349384829458,0.5305803882385185,407.80099525499691,0.24597976527738324,458.33333333333337,0.27646015351590181,0.23077103636674867,0.50009999999999988,0,0.23077103636674867,0.5,4.8085689269275678,0.53915834175790467,-0.27646015351590181,-0.50009999999999999,3.2349500505474277E-2,0,0,0]
[null,9.9294108139781845E-2,1.9614017057300102E-3,0.34647002923477294,-0.69728691362780626,12.481531350363706,7.6328007584000579,0.61152758777292515,0.52052385993429828,424.47335140041588,0.25603629358160357,458.33333333333337,0.27646015351590181,0.23228751792344005,0.5001000000000001,0,0.23228751792344005,0.5,5.2422431671527567,0.64699001010948554,-0.27646015351590181,-0.50009999999999999,3.8819400606569132E-2,0,0,0]
[null,9.109725370235304E-2,2.3536820468760124E-3,0.41576403508172755,-0.83674429635336756,13.369537583619376,8.0210974736792391,0.59995324621450241,0.51152982599800967,439.384236393089,0.26503032751789235,458.33333333333337,0.27646015351590181,0.23318429042456551,0.50010000000000021,0,0.23318429042456551,0.5,5.6152057851201373,0.77638801213138264,-0.27646015351590181,-0.50009999999999999,4.6583280727882967E-2,0,0,0]
[null,8.5163983595762466E-2,2.8244184562512147E-3,0.49891684209807302,-1.0040931556240411,14.014267458841857,8.2014481477838039,0.58522132333141397,0.50127455446800295,456.3860817759026,0.27528559904789879,458.33333333333337,0.27646015351590181,0.23350361291435451,0.50009999999999988,0,0.23350361291435451,0.5,5.8859923327135801,0.93166561455765928,-0.27646015351590181,-0.50009999999999999,5.5899936873459545E-2,0,0,0]
[null,8.1027790024815735E-2,3.3893021475014575E-3,0.59870021051768763,-1.2049117867488492,14.293291344223084,8.087399787302898,0.56581787864917343,0.48642460011735417,458.33333333333337,0.27646015351590181,458.33333333333337,0.27646015351590181,0.23033509129700119,0.48642460011735411,0,0.23033509129700119,0.5,6.0031823645736946,1.1179987374691909,-0.27646015351590181,-0.50009999999999999,6.7079924248151457E-2,0,0,0]
[null,8.3944094810199127E-2,3.050371932751312E-3,0.53883018946591887,-1.0844206080739645,14.184610464935471,8.1947617895564768,0.57772201850830007,0.50009999999999999,458.33333333333337,0.27646015351590181,{"$f":"MIN($O$441,$Q$441*$N$441*C520*(C$441-B520-$M$441)/B520)","v":458.33333333333337},0.27646015351590181,0.23341284824508796,0.50009999999999999,0,0.23341284824508796,0.5,5.9575363952728972,0.27646015351590181,-0.27646015351590181,-0.50009999999999999,0,0,0,0]
[null,8.5450843512801827E-2,{"$f":"IF(ABS($Q$414-Q520)<0.00001*$Q$414,C520,MAX(0.9*C520,MIN($AD$4,1.05*C520,IF(C520=$AD$4,0.5*(C520+C519),C520+(C520-C519)*(Q520-$Q$414)/(Q519-Q520)))))","v":2.7453347394761807E-3},0.48494717051932695,-0.97597854726656785,13.934494228086804,8.1903405724038496,0.58777451397519276,0.50009999999999999,447.15805363377638,0.26971938360756142,{"$f":"MIN($O$441,$Q$441*$N$441*C521*(C$441-B521-$M$441)/B521)","v":458.33333333333337},0.27646015351590181,0.23210867254523021,0.49335923009165961,0,0.23210867254523021,0.5,5.8524875757964576,0.27646015351590181,-0.27646015351590181,-0.50009999999999999,0,0,0,0]
[null,8.4619580508028563E-2,{"$f":"IF(ABS($Q$414-Q521)<0.00001*$Q$414,C521,MAX(1.05*C521,MIN($AD$4,1.05*C521,IF(C521=$AD$4,0.5*(C521+C520),C521+(C521-C520)*(Q521-$Q$414)/(Q520-Q521)))))","v":2.88260147644999E-3},0.50919452904529339,-1.0247774746298965,14.066132745038557,8.2050580266371771,0.58332010477658025,0.49991350594727091,458.33333333333337,0.27646015351590181,458.33333333333337,0.27646015351590181,0.2334633218303197,0.49991350594727091,0,0.2334633218303197,0.5,5.9077757529161934,0.95085792621754694,-0.27646015351590181,-0.50009999999999999,5.7051475573052818E-2,0,0,0]
[null,8.4026891678152332E-2,3.0267315502724894E-3,0.53465425549755796,-1.0760163483613914,14.170633495227589,8.1980194626755232,0.57852173408030538,0.50009999999999999,458.33333333333337,0.27646015351590181,458.33333333333337,0.27646015351590181,0.23342896862825446,0.50009999999999999,0,0.23342896862825446,0.5,5.9516660679955873,0.27646015351590181,-0.27646015351590181,-0.50009999999999999,0,0,0,0]
[null,8.5594132552791011E-2,2.7240583952452407E-3,0.48118882994780227,-0.96841471352525221,13.911167158331809,8.1861033246598609,0.58845553586472155,0.50009999999999999,445.44363543215235,0.26868527091110012,458.33333333333337,0.27646015351590181,0.23189112084324776,0.49232511739519824,0,0.23189112084324776,0.5,5.8426902064993591,0.27646015351590181,-0.27646015351590181,-0.50009999999999999,0,0,0,0]
[null,8.4824698614404295E-2,2.8602613150075029E-3,0.50524827144519235,-1.0168354492015148,14.046891851189303,8.2041215937963177,0.5840524495176278,0.500439814453431,457.76996718752486,0.2761203390624708,458.33333333333337,0.27646015351590181,0.23350382273065334,0.50009999999999999,0,0.23350382273065334,0.5,5.8996945774995071,0.9434887772893612,-0.27646015351590181,-0.50009999999999999,5.6609326637361672E-2,0,0,0]
[null,8.3590129434189933E-2,3.0032743807578781E-3,0.53051068501745202,-1.0676772216615904,14.155897928115104,8.2006762456030149,0.57931162595596342,0.49698320282869557,458.33333333333337,0.27646015351590181,458.33333333333337,0.27646015351590181,0.23282211828761457,0.49698320282869557,0,0.23282211828761457,0.5,5.945477129808344,0.99066321615382924,-0.27646015351590181,-0.50009999999999999,5.9439792969229757E-2,0,0,0]
[null,8.5741695220095809E-2,2.7029469426820903E-3,0.47745961651570684,-0.96090949949543147,13.887225843363202,8.1813658827385698,0.58912888542447794,0.50009999999999999,443.77468452666119,0.26767858344155265,458.33333333333337,0.27646015351590181,0.23167821894213964,0.49131842992565089,0,0.23167821894213964,0.5,5.8326348542125448,0.27646015351590181,-0.27646015351590181,-0.50009999999999999,0,0,0,0]
[null,8.5033021049054872E-2,2.8380942898161951E-3,0.50133259734149216,-1.0089549744702031,14.026971825368193,8.2026395497009563,0.58477621911710409,0.50095743200203391,456.91182769282415,0.27560272151386783,458.33333333333337,0.27646015351590181,0.23350403939384445,0.50009999999999988,0,0.23350403939384445,0.5,5.8913281666546409,0.93617673926536871,-0.27646015351590181,-0.50009999999999999,5.6170604355922117E-2,0,0,0]
[null,null,null,null,null,null,null,null,null,null,null,null,null,null,null,null,null,null,null,null,null,null,null,null,null,null,{"$f":"(N528+R509*$O$2)/($Q$441*C528/B528)","v":2.5586168616826321}]
[]
[]
[]
[]
[]
[]
[]
[]
[null,"KRYBETILLÆG:",null,null,"Du  =",{"$f":"(P568-P600)*SIGN(W546)","v":4.746128981043797E-3},null,null,null,null,null,null,null,null,null,null,null,null,null,"e_NL",{"$f":"0.5*(Brand!C26+Brand!D26)/1000","v":6.7500000000000004E-2},{"$f":"U538*Brand!D24/1000","v":2.3625E-2}]
[null,null,null,null,null,null,null,null,null,null,null,null,null,null,null,null,null,null,null,"e_NA",{"$f":"0.5*(Brand!E26+Brand!C26)/1000","v":6.7500000000000004E-2},{"$f":"U539*Brand!E24/1000","v":3.3750000000000002E-2}]
[null,"Tilstand:",1,null,"Navier:","a=",{"$f":"J544*Q544/G544","v":20.129140607186056},"A=",{"$f":"C544*D544+G540*H544+G540*L544","v":0.25108322313777087},"Sy=",{"$f":"-(0.5*C544-I544)*G540*H544+(0.5*C544-M544)*G540*L544","v":0},"Iy=",{"$f":"D544*C544^3/12+(0.5*C544-I544)^2*G540*H544+(0.5*C544-M544)^2*G540*L544","v":6.5821301403756974E-3},"h=",{"$f":"K540/I540","v":0},"Io=",{"$f":"M540-I540*O540^2","v":6.5821301403756974E-3},"EIo=",{"$f":"Q540*G544/Q544","v":65.399017959325022},"Tværlast",null,{"$f":"MAX(Snitkræfter!$Y$112:$AM$112)","v":4.6051985480839865E-2},null,"EImax",{"$f":"M540*V547/Q544","v":57.237741290678159},"MNm2"]
[]
[null,"L","h","b","fck","fcd","Ecd","Ac","ac","Esc","fyd_c","At","at","Est","fyd_t","Modenhed","1+f","uterm","g","Ac","ac","Esc","fyd_c","At","at","Est","fyd_t","   emax",null,{"$f":"0.0035","v":3.5000000000000001E-3}]
[null,"(m)","(m)","(m)","(Mpa)","(Mpa)","(Mpa)","(m2)","(m)","(Mpa)","(Mpa)","(m2)","(m)","(Mpa)","(Mpa)","(døgn)",null,"(m)",null,"(m2)","(m)","(Mpa)","(Mpa)","(m2)","(m)","(Mpa)","(Mpa)","e1",null,{"$f":"0.7*(E544+8)^0.31/1000","v":2.0693662482105194E-3}]
[null,{"$f":"IF(Snitkræfter!$D$36=1,0.7,1)*Snitkræfter!$D$2","v":6.3},{"$f":"Kold!AQ$23","v":0.54},{"$f":"Kold!AR$23","v":0.42},{"$f":"Kold!AS$23","v":25},{"$f":"E544","v":25},{"$f":"1000*22*((E544+8)/10)^0.3","v":31475.806210019346},{"$f":"IF($W546<0,X544,T544)","v":6.0318578948924026E-4},{"$f":"IF($W546<0,Y544,U544)","v":0.06},{"$f":"IF($W546<0,Z544,V544)","v":200000},{"$f":"IF($W546<0,AA544,W544)","v":550},{"$f":"IF($W546<0,T544,X544)","v":6.0318578948924026E-4},{"$f":"IF($W546<0,U544,Y544)","v":0.06},{"$f":"IF($W546<0,V544,Z544)","v":200000},{"$f":"IF($W546<0,W544,AA544)","v":550},{"$f":"P$6","v":28},{"$f":"1+Kold!$O$17","v":3.1679046446300974},{"$f":"R$6","v":0},{"$f":"S$6","v":1.4},{"$f":"Kold!BH$23","v":6.0318578948924026E-4},{"$f":"Kold!BI$23","v":0.06},{"$f":"Kold!AX$23","v":200000},{"$f":"Kold!O13","v":550},{"$f":"Kold!BJ$23","v":6.0318578948924026E-4},{"$f":"Kold!BK$23","v":0.06},{"$f":"Kold!BB$23","v":200000},{"$f":"Kold!O13","v":550},"k",null,{"$f":"1.05*G544*AD543/F544","v":2.7356687822616226}]
[]
[null,"Initialt","elasttisk","e_o","sc_o/fcd","sc_u/fcd","sc_o","sc_u","hc","elasttisk","e_o","sc_o/fcd","sc_u/fcd","sc_o","sc_u","hc","At","Ac","Ic","Wt","u_skøn","E",{"$f":"SUM(V538:V540)","v":0.10342698548083987},{"$f":"IF(W546>0,1,0)","v":1}]
[null,"beregning","skøn_1",{"$f":"IF(C540=1,AD543*0.5*(-((AD544-2)*E547-AD544)-(((AD544-2)*E547-AD544)^2-4*E547)^0.5),G547/(1.4*F544/AD543))","v":3.519657762223604E-4},{"$f":"MIN(0.9999,G547/F544)","v":0.38783638572128204},{"$f":"H547/F544","v":-5.4930383630070875E-3},{"$f":"R549/Q547+(Q549+$O$2*R549+R549*R544)/T547","v":9.6959096430320511},{"$f":"R549/Q547-(Q549+$O$2*R549+R549*R544)/T547","v":-0.1373259590751772},{"$f":"IF(G547=H547,100*C544,C544*G547/(G547-H547))","v":0.53245863509212532},"skøn_2",{"$f":"IF(C540=1,AD543*0.5*(-((AD544-2)*L547-AD544)-(((AD544-2)*L547-AD544)^2-4*L547)^0.5),G547/(1.4*F544/AD543))","v":3.6785227900168184E-4},{"$f":"MIN(0.9999,N547/F544)","v":0.40211060963996031},{"$f":"O547/F544","v":-1.9767262281685339E-2},{"$f":"R549/Q547+(Q549+$O$2*R549+R549*U547)/T547","v":10.052765240999008},{"$f":"R549/Q547-(Q549+$O$2*R549+R549*U547)/T547","v":-0.49418155704213351},{"$f":"IF(N547=O547,100*C544,C544*N547/(N547-O547))","v":0.51469807652274169},{"$f":"R547+Q544*(H544+L544)*N544/G544","v":0.25108322313777087},{"$f":"C544*D544","v":0.2268},{"$f":"D544*C544^3/12","v":5.5112400000000006E-3},{"$f":"(S547+((0.5*C544-I544)^2*H544+(0.5*C544-M544)^2*L544)*Q544)/(0.5*C544)","v":2.1036206120938629E-2},{"$f":"Q549/(10*AA569/B544^2-R549)+R544","v":6.2557399285363994E-3},{"$f":"G547/D547","v":27547.876236996675},null,{"$f":"IF(W546<0,1,0)","v":0}]
[null,"hc","e0","a'","b'","N'","tN'","t'","Nc","sac","Nac","sat","Nat","Mtot","N","u","Mo","N","A","B1","B2","B3","C1","C2","gættet x","beregnet x","EIt"]
[null,{"$f":"I547","v":0.53245863509212532},null,null,null,null,null,null,null,null,null,null,null,null,null,null,{"$f":"ABS(W546)","v":0.10342698548083987},{"$f":"$R$11","v":1.2}]
[null,{"$f":"0.5*(-(T550+U550+V550)+SQRT((T550+U550+V550)^2+4*S550*(W550+X550)))/S550","v":0.49774079467274179},{"$f":"MIN(D547,AD543,0.99*K544/(J544*Q544))","v":3.519657762223604E-4},{"$f":"IF($C$540=1,C550/($AD$544*$AD$543),2^(1/3)*$AD$543/C550)","v":6.2172676010809357E-2},{"$f":"IF($C$540=1,-($AD$544-2)*C550/$AD$543,3*($AD$543/C550)^2)","v":-0.12512537798235573},{"$f":"IF($C$540=1,0.5*($AD$544*C550*$F$544/$AD$543)*(1-Y550^2+(D550-E550)*(E550^2*(1-Y550^2)+2*E550*(1-Y550)+2*LN((1-E550)/(1-E550*Y550)))/(E550^3)),$F$544*E550*(LN((1-D550+D550^2)/(1+D550)^2)/(6*D550)+ATAN((2-D550)/(D550*3^0.5))/(D550*3^0.5)-LN((Y550^2-D550*Y550+D550^2)/(Y550+D550)^2)/(6*D550)-ATAN((2*Y550-D550)/(D550*3^0.5))/(D550*3^0.5)))","v":5.1518995332300941},{"$f":"IF($C$540=1,($AD$544*C550*$F$544/$AD$543)*(1-Y550^3-(D550-E550)*(-2*E550^3*(1-Y550^3)-3*E550^2*(1-Y550^2)-6*E550*(1-Y550)-6*LN((1-E550)/(1-E550*Y550)))/(2*E550^4))/3,$F$544*E550*(LN((1+D550^3)/(D550^3+Y550^3)))/3)","v":3.3821512186982088},{"$f":"G550/F550","v":0.65648625266915805},{"$f":"F550*B550*$D$544","v":1.0770104384525114},{"$f":"MAX(MIN($K$544,$Q$544*$J$544*C550*(B550-$I$544)/B550),-$K$544)","v":196.11748620499159},{"$f":"J550*$H$544","v":0.11829528074920304},{"$f":"MIN($O$544,$Q$544*$N$544*C550*($C$544-B550-$M$545)/B550)","v":18.933051748120647},{"$f":"L550*$L$544","v":1.1420147766130793E-2},{"$f":"(0.5*$C$544-B550+H550*B550)*I550+(0.5*$C$544-$I$544)*K550+(0.5*$C$544-$M$544)*M550","v":0.13388494598844933},{"$f":"I550+K550-M550","v":1.1838855714355836},{"$f":"0.1*($Q$544*C550/B550)*$B$544^2","v":8.8909956784989832E-3},{"$f":"N550-P550*O550","v":0.12335902448897826},{"$f":"$R$11","v":1.2},{"$f":"F550*$D$544","v":2.1637978039566392},{"$f":"IF(ABS(J549)<$K$544,$Q$544*C550*$H$544*$J$544,IF(J549>0,1,-1)*$H$544*$K$544)","v":0.13450970931361975},{"$f":"IF(L549<$O$544,$Q$544*C550*$L$544*$N$544,-$L$544*$O$544)","v":0.13450970931361975},{"$f":"-(R550+0.0001)","v":-1.2000999999999999},{"$f":"IF(ABS(J549)<$K$544,$I$544*$Q$544*C550*$H$544*$J$544,0)","v":8.070582558817185E-3},{"$f":"IF(L549<$O$544,($C$544-$M$544)*$Q$544*C550*$L$544*$N$544,0)","v":6.4564660470537494E-2},{"$f":"IF(B549<$C$544,0,(B549-$C$544)/B549)","v":0},{"$f":"IF(AND(B550<=$C$544,B550>0),0,(B550-$C$544)/B550)","v":0}]
[null,0.52085313855045623,{"$f":"0.95*C550","v":3.3436748741124235E-4},{"$f":"IF($C$540=1,C551/($AD$544*$AD$543),2^(1/3)*$AD$543/C551)","v":5.9064042210268883E-2},{"$f":"IF($C$540=1,-($AD$544-2)*C551/$AD$543,3*($AD$543/C551)^2)","v":-0.11886910908323796},{"$f":"IF($C$540=1,0.5*($AD$544*C551*$F$544/$AD$543)*(1-Y551^2+(D551-E551)*(E551^2*(1-Y551^2)+2*E551*(1-Y551)+2*LN((1-E551)/(1-E551*Y551)))/(E551^3)),$F$544*E551*(LN((1-D551+D551^2)/(1+D551)^2)/(6*D551)+ATAN((2-D551)/(D551*3^0.5))/(D551*3^0.5)-LN((Y551^2-D551*Y551+D551^2)/(Y551+D551)^2)/(6*D551)-ATAN((2*Y551-D551)/(D551*3^0.5))/(D551*3^0.5)))","v":4.9233016908599687},{"$f":"IF($C$540=1,($AD$544*C551*$F$544/$AD$543)*(1-Y551^3-(D551-E551)*(-2*E551^3*(1-Y551^3)-3*E551^2*(1-Y551^2)-6*E551*(1-Y551)-6*LN((1-E551)/(1-E551*Y551)))/(2*E551^4))/3,$F$544*E551*(LN((1+D551^3)/(D551^3+Y551^3)))/3)","v":3.234541266460409},{"$f":"G551/F551","v":0.65698619941680259},{"$f":"F551*B551*$D$544","v":1.0770131978403767},{"$f":"MAX(MIN($K$544,$Q$544*$J$544*C551*(B551-$I$544)/B551),-$K$544)","v":187.44480221643892},{"$f":"J551*$H$544","v":0.1130640410105772},{"$f":"MIN($O$544,$Q$544*$N$544*C551*($C$544-B551-$M$545)/B551)","v":7.7876862654421526},{"$f":"L551*$L$544","v":4.6974216883152375E-3},{"$f":"(0.5*$C$544-B551+H551*B551)*I551+(0.5*$C$544-$I$544)*K551+(0.5*$C$544-$M$544)*M551","v":0.123104492335885},{"$f":"I551+K551-M551","v":1.1853798171626386},{"$f":"0.1*($Q$544*C551/B551)*$B$544^2","v":8.0716431956727713E-3},{"$f":"N551-P551*O551","v":0.11353652940039635},{"$f":"$R$11","v":1.2},{"$f":"F551*$D$544","v":2.0677867101611866},{"$f":"IF(ABS(J550)<$K$544,$Q$544*C551*$H$544*$J$544,IF(J550>0,1,-1)*$H$544*$K$544)","v":0.12778422384793875},{"$f":"IF(L550<$O$544,$Q$544*C551*$L$544*$N$544,-$L$544*$O$544)","v":0.12778422384793875},{"$f":"-(R551+0.0001)","v":-1.2000999999999999},{"$f":"IF(ABS(J550)<$K$544,$I$544*$Q$544*C551*$H$544*$J$544,0)","v":7.6670534308763243E-3},{"$f":"IF(L550<$O$544,($C$544-$M$544)*$Q$544*C551*$L$544*$N$544,0)","v":6.1336427447010608E-2},{"$f":"IF(B550<$C$544,0,(B550-$C$544)/B550)","v":0},{"$f":"IF(AND(B551<=$C$544,B551>0),0,(B551-$C$544)/B551)","v":0}]
[null,0.54761349114802804,{"$f":"IF(ABS($Q$549-Q551)<0.00001*$Q$549,C551,MAX(0.9*C551,MIN($AD$4,1.05*C551,IF(C551=$AD$4,0.5*(C551+C550),C551+(C551-C550)*(Q551-$Q$549)/(Q550-Q551)))))","v":3.16254912954285E-4},5.5864562887249038E-2,-0.11243000938017889,4.6850799417071096,3.0804475349512273,0.65750159512300654,1.0775574529380485,178.41893853023183,0.10761976829719011,-2.7857945561397464,-1.6803516886999806E-3,0.11108461897898959,1.1868575729239386,7.261332796178869E-3,0.10246645116032374,1.2,1.967733575516986,0.12086219537325138,0.12086219537325138,-1.2000999999999999,7.2517317223950812E-3,5.8013853779160657E-2,0,1.3903037947562119E-2]
[null,0.54526464862803592,3.1782651425840523E-4,5.6142176977311879E-2,-0.112988720540469,4.7048557646055649,3.0938966098351273,0.65759648427702788,1.0774644406399618,179.21053386788026,0.10809724735588558,-1.9442596816491136,-1.1727498110476195E-3,0.11220635843552534,1.1867344378068951,7.3288525233869938E-3,0.10350895675641403,1.2,1.9760394211343373,0.12146280954899033,0.12146280954899033,-1.2000999999999999,7.287768572939419E-3,5.8302148583515359E-2,1.3903037947562119E-2,9.6552172257682485E-3]
[null,0.54540202429357387,3.1770294066409946E-4,5.6120348431580182E-2,-0.11294478958541393,4.703746644615296,3.092845237281876,0.65752802413847478,1.0774818355296609,179.14643437121936,0.10805858345038631,-1.9937151930688188,-1.2025806727479086E-3,0.11210250968690527,1.1867429996527949,7.3241577335216614E-3,0.10341061676829556,1.2,1.9755735907384242,0.12141558379759113,0.12141558379759113,-1.2000999999999999,7.2849350278554664E-3,5.8279480222843745E-2,9.6552172257682485E-3,9.9046649131358678E-3]
[null,0.54537271310752711,3.1772350951591606E-4,5.6123981797794459E-2,-0.11295210190249726,4.7039929990973768,3.0930210350527498,0.65753096053634696,1.077480358229751,179.15684252544278,0.10806486150110869,-1.9831323231521865,-1.1961972360021828E-3,0.11211758720413573,1.1867414169668618,7.3250255811759509E-3,0.10342467596661246,1.2,1.9756770596208981,0.12142344453424699,0.12142344453424699,-1.2000999999999999,7.2854066720548193E-3,5.8283253376438561E-2,9.9046649131358678E-3,9.8514520041045276E-3]
[null,0.5453668856356475,3.1772688837542433E-4,5.6124578653374418E-2,-0.11295330310187994,4.7040431788801245,3.0930500087181634,0.65753010571950476,1.0774803389118153,179.15851113579075,0.10806586798315879,-1.9810235687163318,-1.1949252652929529E-3,0.11211971212061431,1.186741132160267,7.3251817516012318E-3,0.10342661763543934,1.2,1.9756981351296523,0.121424735822892,0.121424735822892,-1.2000999999999999,7.2854841493735206E-3,5.8283873194988178E-2,9.8514520041045276E-3,9.8408718552688464E-3]
[null,0.54536677173372938,3.1772688837542433E-4,5.6124578653374418E-2,-0.11295330310187994,4.7040442709641352,3.0930500194719595,0.65752995535435543,1.077480364022267,179.15850651026699,0.10806586519310858,-1.9809819390024981,-1.1949001548411478E-3,0.11211967257026008,1.1867411293702168,7.3251832814932158E-3,0.10342657628993698,1.2,1.9756985938049367,0.121424735822892,0.121424735822892,-1.2000999999999999,7.2854841493735206E-3,5.8283873194988178E-2,9.8408718552688464E-3,9.8406650567805908E-3]
[null,0.54536676950863872,3.1772688837542433E-4,5.6124578653374418E-2,-0.11295330310187994,4.7040442922981605,3.0930500196822526,0.6575299524169963,1.0774803645128033,179.1585064199067,0.10806586513860454,-1.9809811257597629,-1.1948996643046865E-3,0.11211967179766558,1.1867411293157126,7.3251833113798862E-3,0.10342657548227399,1.2,1.9756986027652272,0.121424735822892,0.121424735822892,-1.2000999999999999,7.2854841493735206E-3,5.8283873194988178E-2,9.8406650567805908E-3,9.8406610169409475E-3]
[null,0.54536676946517237,3.1772688837542433E-4,5.6124578653374418E-2,-0.11295330310187994,4.7040442927149133,3.0930500196865629,0.65752995235965905,1.0774803645223858,179.15850641814154,0.10806586513753982,-1.9809811098733601,-1.194899654722234E-3,0.11211967178259853,1.1867411293146479,7.3251833119637117E-3,0.1034265754665219,1.2,1.9756986029402634,0.121424735822892,0.121424735822892,-1.2000999999999999,7.2854841493735206E-3,5.8283873194988178E-2,9.8406610169409475E-3,9.8406609380241403E-3]
[null,0.54536676946432361,3.1772688837542433E-4,5.6124578653374418E-2,-0.11295330310187994,4.7040442927230508,3.0930500196866428,0.65752995235853862,1.077480364522573,179.15850641810707,0.10806586513751903,-1.9809811095631469,-1.1948996545351179E-3,0.11211967178230381,1.1867411293146271,7.3251833119751123E-3,0.10342657546621381,1.2,1.9756986029436812,0.121424735822892,0.121424735822892,-1.2000999999999999,7.2854841493735206E-3,5.8283873194988178E-2,9.8406609380241403E-3,9.8406609364831352E-3]
[null,0.54536676946432128,3.1772688837542433E-4,5.6124578653374418E-2,-0.11295330310187994,4.7040442927230739,3.0930500196876536,0.65752995235875022,1.0774803645225735,179.15850641810695,0.10806586513751897,-1.9809811095622947,-1.194899654534604E-3,0.11211967178242918,1.1867411293146271,7.3251833119751418E-3,0.10342657546633914,1.2,1.9756986029436909,0.121424735822892,0.121424735822892,-1.2000999999999999,7.2854841493735206E-3,5.8283873194988178E-2,9.8406609364831352E-3,9.8406609364789024E-3]
[null,0.5453667694643104,3.1772688837542433E-4,5.6124578653374418E-2,-0.11295330310187994,4.7040442927231769,3.0930500196868458,0.65752995235856404,1.0774803645225757,179.15850641810653,0.1080658651375187,-1.9809811095583181,-1.1948996545322053E-3,0.1121196717823244,1.1867411293146266,7.3251833119752884E-3,0.1034265754662342,1.2,1.9756986029437342,0.121424735822892,0.121424735822892,-1.2000999999999999,7.2854841493735206E-3,5.8283873194988178E-2,9.8406609364789024E-3,9.8406609364591491E-3]
[null,0.54536676946430851,3.1772688837542433E-4,5.6124578653374418E-2,-0.11295330310187994,4.7040442927231956,3.0930500196866437,0.65752995235851852,1.0774803645225761,179.15850641810644,0.10806586513751865,-1.9809811095576282,-1.1948996545317891E-3,0.11211967178229845,1.1867411293146266,7.3251833119753144E-3,0.1034265754662082,1.2,1.975698602943742,0.121424735822892,0.121424735822892,-1.2000999999999999,7.2854841493735206E-3,5.8283873194988178E-2,9.8406609364591491E-3,9.8406609364557213E-3]
[null,0.54536676946428353,3.1772688837542433E-4,5.6124578653374418E-2,-0.11295330310187994,4.7040442927234354,3.0930500196844242,0.65752995235801315,1.0774803645225817,179.15850641810545,0.10806586513751805,-1.9809811095484984,-1.194899654526282E-3,0.11211967178201218,1.1867411293146262,7.32518331197565E-3,0.10342657546592154,1.2,1.9756986029438428,0.121424735822892,0.121424735822892,-1.2000999999999999,7.2854841493735206E-3,5.8283873194988178E-2,9.8406609364557213E-3,9.8406609364103687E-3]
[null,0.54536676946431684,3.1772688837542433E-4,5.6124578653374418E-2,-0.11295330310187994,4.7040442927231156,3.0930500196874515,0.65752995235870138,1.0774803645225743,179.15850641810678,0.10806586513751885,-1.9809811095606715,-1.1948996545336249E-3,0.11211967178240234,1.1867411293146268,7.3251833119752025E-3,0.10342657546631223,1.2,1.9756986029437085,0.121424735822892,0.121424735822892,-1.2000999999999999,7.2854841493735206E-3,5.8283873194988178E-2,9.8406609364103687E-3,9.8406609364708394E-3]
[null,0.54536676946429619,3.1772688837542433E-4,5.6124578653374418E-2,-0.11295330310187994,4.7040442927233137,3.0930500196856348,0.65752995235828748,1.077480364522579,179.15850641810596,0.10806586513751835,-1.9809811095531245,-1.1948996545290726E-3,0.11211967178216797,1.1867411293146264,7.32518331197548E-3,0.10342657546607753,1.2,1.9756986029437917,0.121424735822892,0.121424735822892,-1.2000999999999999,7.2854841493735206E-3,5.8283873194988178E-2,9.8406609364708394E-3,9.8406609364333469E-3]
[null,0.54536676946429041,3.1772688837542433E-4,5.6124578653374418E-2,-0.11295330310187994,4.7040442927233697,3.0930500196852311,0.65752995235819389,1.0774803645225803,179.1585064181057,0.1080658651375182,-1.9809811095510144,-1.1948996545277997E-3,0.11211967178211552,1.1867411293146264,7.3251833119755572E-3,0.10342657546602499,1.2,1.9756986029438153,0.121424735822892,0.121424735822892,-1.2000999999999999,7.2854841493735206E-3,5.8283873194988178E-2,9.8406609364333469E-3,9.8406609364228657E-3]
[null,0.54536676946429385,3.1772688837542433E-4,5.6124578653374418E-2,-0.11295330310187994,4.7040442927233368,3.0930500196854331,0.65752995235824141,1.0774803645225797,179.15850641810587,0.10806586513751831,-1.9809811095522722,-1.1948996545285584E-3,0.11211967178214192,1.1867411293146266,{"$f":"0.1*($Q$544*C568/B568)*$B$544^2","v":7.3251833119755113E-3},0.10342657546605145,1.2,1.9756986029438013,0.121424735822892,0.121424735822892,-1.2000999999999999,7.2854841493735206E-3,5.8283873194988178E-2,9.8406609364228657E-3,9.8406609364291141E-3]
[null,null,null,null,null,null,null,null,null,null,null,null,null,null,null,null,null,null,null,null,null,null,null,null,null,null,{"$f":"(N568+R549*$O$2)/($Q$6*C568/B568)","v":70.382808194537418}]
[]
[]
[null,"Tilstand:",1,null,"Navier:","a=",{"$f":"J576*Q576/G576","v":6.3540866488222374},"A=",{"$f":"C576*D576+G572*H576+G572*L576","v":0.23446538954350576},"Sy=",{"$f":"-(0.5*C576-I576)*G572*H576+(0.5*C576-M576)*G572*L576","v":0},"Iy=",{"$f":"D576*C576^3/12+(0.5*C576-I576)^2*G572*H576+(0.5*C576-M576)^2*G572*L576","v":5.849283678868604E-3},"h=",{"$f":"K572/I572","v":0},"Io=",{"$f":"M572-I572*O572^2","v":5.849283678868604E-3},"EIo=",{"$f":"Q572*G576/Q576","v":184.1109195434972},null,null,null,null,"EImax",{"$f":"M572*V579/Q576","v":159.54780905100452},"MNm2"]
[]
[null,"L","h","b","fck","fcd","Ecd","Ac","ac","Esc","fyd_c","At","at","Est","fyd_t","Modenhed","1+f","uterm","g","Ac","ac","Esc","fyd_c","At","at","Est","fyd_t","   emax",null,{"$f":"0.0035","v":3.5000000000000001E-3}]
[null,"(m)","(m)","(m)","(Mpa)","(Mpa)","(Mpa)","(m2)","(m)","(Mpa)","(Mpa)","(m2)","(m)","(Mpa)","(Mpa)","(døgn)",null,"(m)",null,"(m2)","(m)","(Mpa)","(Mpa)","(m2)","(m)","(Mpa)","(Mpa)","e1",null,{"$f":"0.7*(E576+8)^0.31/1000","v":2.0693662482105194E-3}]
[null,{"$f":"B544","v":6.3},{"$f":"C544","v":0.54},0.42,25,25,31475.806210019346,6.0318578948924026E-4,0.06,200000,550,6.0318578948924026E-4,0.06,200000,550,28,1,0,1.4,6.0318578948924026E-4,0.06,200000,550,6.0318578948924026E-4,0.06,200000,550,"k",null,{"$f":"1.05*G576*AD575/F576","v":2.7356687822616226}]
[]
[null,"Initialt","elasttisk","e_o","sc_o/fcd","sc_u/fcd","sc_o","sc_u","hc","elasttisk","e_o","sc_o/fcd","sc_u/fcd","sc_o","sc_u","hc","At","Ac","Ic","Wt","u_skøn","E",{"$f":"W546","v":0.10342698548083987}]
[null,"beregning","skøn_1",{"$f":"IF(C572=1,AD575*0.5*(-((AD576-2)*E579-AD576)-(((AD576-2)*E579-AD576)^2-4*E579)^0.5),G579/(1.4*F576/AD575))","v":3.7162254719373493E-4},{"$f":"MIN(0.9999,G579/F576)","v":0.40546204597949947},{"$f":"H579/F576","v":3.980047742341313E-3},{"$f":"R581/Q579+(Q581+$O$2*R581+R581*R576)/T579","v":10.136551149487486},{"$f":"R581/Q579-(Q581+$O$2*R581+R581*R576)/T579","v":9.9501193558532819E-2},{"$f":"IF(G579=H579,100*C576,C576*G579/(G579-H579))","v":0.54535323075580289},"skøn_2",{"$f":"IF(C572=1,AD575*0.5*(-((AD576-2)*L579-AD576)-(((AD576-2)*L579-AD576)^2-4*L579)^0.5),G579/(1.4*F576/AD575))","v":3.9136518642576167E-4},{"$f":"MIN(0.9999,N579/F576)","v":0.42278757366222885},{"$f":"O579/F576","v":-1.3345479940388073E-2},{"$f":"R581/Q579+(Q581+$O$2*R581+R581*U579)/T579","v":10.569689341555721},{"$f":"R581/Q579-(Q581+$O$2*R581+R581*U579)/T579","v":-0.33363699850970185},{"$f":"IF(N579=O579,100*C576,C576*N579/(N579-O579))","v":0.52347623710635838},{"$f":"R579+Q576*(H576+L576)*N576/G576","v":0.23446538954350576},{"$f":"C576*D576","v":0.2268},{"$f":"D576*C576^3/12","v":5.5112400000000006E-3},{"$f":"(S579+((0.5*C576-I576)^2*H576+(0.5*C576-M576)^2*L576)*Q576)/(0.5*C576)","v":2.0609040691233153E-2},{"$f":"Q581/(10*AA601/B576^2-R581)+R576","v":7.4388021877178408E-3},{"$f":"G579/D579","v":27276.469703015842}]
[null,"hc","e0","a'","b'","N'","tN'","t'","Nc","sac","Nac","sat","Nat","Mtot","N","u","Mo","N","A","B1","B2","B3","C1","C2","gættet x","beregnet x","EIt"]
[null,{"$f":"I579","v":0.54535323075580289},null,null,null,null,null,null,null,null,null,null,null,null,null,null,{"$f":"W578","v":0.10342698548083987},{"$f":"$R$211","v":1.2}]
[null,{"$f":"0.5*(-(T582+U582+V582)+SQRT((T582+U582+V582)^2+4*S582*(W582+X582)))/S582","v":0.51021444107474134},{"$f":"MIN(D579,AD575,0.99*K576/(J576*Q576))","v":3.7162254719373493E-4},{"$f":"IF($C$540=1,C582/($AD$544*$AD$543),2^(1/3)*$AD$543/C582)","v":6.5644928529616356E-2},{"$f":"IF($C$540=1,-($AD$544-2)*C582/$AD$543,3*($AD$543/C582)^2)","v":-0.13211344632270475},{"$f":"IF($C$540=1,0.5*($AD$544*C582*$F$544/$AD$543)*(1-Y582^2+(D582-E582)*(E582^2*(1-Y582^2)+2*E582*(1-Y582)+2*LN((1-E582)/(1-E582*Y582)))/(E582^3)),$F$544*E582*(LN((1-D582+D582^2)/(1+D582)^2)/(6*D582)+ATAN((2-D582)/(D582*3^0.5))/(D582*3^0.5)-LN((Y582^2-D582*Y582+D582^2)/(Y582+D582)^2)/(6*D582)-ATAN((2*Y582-D582)/(D582*3^0.5))/(D582*3^0.5)))","v":5.4033569228183209},{"$f":"IF($C$540=1,($AD$544*C582*$F$544/$AD$543)*(1-Y582^3-(D582-E582)*(-2*E582^3*(1-Y582^3)-3*E582^2*(1-Y582^2)-6*E582*(1-Y582)-6*LN((1-E582)/(1-E582*Y582)))/(2*E582^4))/3,$F$544*E582*(LN((1+D582^3)/(D582^3+Y582^3)))/3)","v":3.5446008914215614},{"$f":"G582/F582","v":0.65599976867209131},{"$f":"F582*B582*$D$544","v":1.1578857075672953},{"$f":"MAX(MIN($K$544,$Q$576*$J$544*C582*(B582-$I$544)/B582),-$K$544)","v":65.584124597951089},{"$f":"J582*$H$544","v":3.9559411973575827E-2},{"$f":"MIN($O$544,$Q$576*$N$544*C582*($C$544-B582-$M$545)/B582)","v":4.3389541284160655},{"$f":"L582*$L$544","v":2.617195471506243E-3},{"$f":"(0.5*$C$544-B582+H582*B582)*I582+(0.5*$C$544-$I$544)*K582+(0.5*$C$544-$M$544)*M582","v":0.11826120880952791},{"$f":"I582+K582-M582","v":1.1948279240693649},{"$f":"0.1*($Q$576*C582/B582)*$B$544^2","v":2.8908822860932424E-3},{"$f":"N582-P582*O582","v":0.11480710192890622},{"$f":"$R$11","v":1.2},{"$f":"F582*$D$544","v":2.2694099075836949},{"$f":"IF(ABS(J581)<$K$544,$Q$576*C582*$H$544*$J$544,IF(J581>0,1,-1)*$H$544*$K$544)","v":4.4831487904211091E-2},{"$f":"IF(L581<$O$544,$Q$576*C582*$L$544*$N$544,-$L$544*$O$544)","v":4.4831487904211091E-2},{"$f":"-(R582+0.0001)","v":-1.2000999999999999},{"$f":"IF(ABS(J581)<$K$544,$I$544*$Q$576*C582*$H$544*$J$544,0)","v":2.6898892742526653E-3},{"$f":"IF(L581<$O$544,($C$544-$M$544)*$Q$576*C582*$L$544*$N$544,0)","v":2.1519114194021322E-2},{"$f":"IF(B581<$C$544,0,(B581-$C$544)/B581)","v":9.8160796597534222E-3},{"$f":"IF(AND(B582<=$C$544,B582>0),0,(B582-$C$544)/B582)","v":0}]
[null,0.53373656874061848,{"$f":"0.95*C582","v":3.5304141983404818E-4},{"$f":"IF($C$540=1,C583/($AD$544*$AD$543),2^(1/3)*$AD$543/C583)","v":6.2362682103135531E-2},{"$f":"IF($C$540=1,-($AD$544-2)*C583/$AD$543,3*($AD$543/C583)^2)","v":-0.12550777400656951},{"$f":"IF($C$540=1,0.5*($AD$544*C583*$F$544/$AD$543)*(1-Y583^2+(D583-E583)*(E583^2*(1-Y583^2)+2*E583*(1-Y583)+2*LN((1-E583)/(1-E583*Y583)))/(E583^3)),$F$544*E583*(LN((1-D583+D583^2)/(1+D583)^2)/(6*D583)+ATAN((2-D583)/(D583*3^0.5))/(D583*3^0.5)-LN((Y583^2-D583*Y583+D583^2)/(Y583+D583)^2)/(6*D583)-ATAN((2*Y583-D583)/(D583*3^0.5))/(D583*3^0.5)))","v":5.1657812983952818},{"$f":"IF($C$540=1,($AD$544*C583*$F$544/$AD$543)*(1-Y583^3-(D583-E583)*(-2*E583^3*(1-Y583^3)-3*E583^2*(1-Y583^2)-6*E583*(1-Y583)-6*LN((1-E583)/(1-E583*Y583)))/(2*E583^4))/3,$F$544*E583*(LN((1+D583^3)/(D583^3+Y583^3)))/3)","v":3.3911066836723696},{"$f":"G583/F583","v":0.65645572040105449},{"$f":"F583*B583*$D$544","v":1.1580098817293809},{"$f":"MAX(MIN($K$544,$Q$576*$J$544*C583*(B583-$I$544)/B583),-$K$544)","v":62.670853245124526},{"$f":"J583*$H$544","v":3.7802168092624752E-2},{"$f":"MIN($O$544,$Q$576*$N$544*C583*($C$544-B583-$M$545)/B583)","v":0.82859252835629993},{"$f":"L583*$L$544","v":4.997952383814805E-4},{"$f":"(0.5*$C$544-B583+H583*B583)*I583+(0.5*$C$544-$I$544)*K583+(0.5*$C$544-$M$544)*M583","v":0.10837090451716953},{"$f":"I583+K583-M583","v":1.1953122545836243},{"$f":"0.1*($Q$576*C583/B583)*$B$544^2","v":2.6253052111973475E-3},{"$f":"N583-P583*O583","v":0.1052328450262031},{"$f":"$R$11","v":1.2},{"$f":"F583*$D$544","v":2.1696281453260182},{"$f":"IF(ABS(J582)<$K$544,$Q$576*C583*$H$544*$J$544,IF(J582>0,1,-1)*$H$544*$K$544)","v":4.2589913509000536E-2},{"$f":"IF(L582<$O$544,$Q$576*C583*$L$544*$N$544,-$L$544*$O$544)","v":4.2589913509000536E-2},{"$f":"-(R583+0.0001)","v":-1.2000999999999999},{"$f":"IF(ABS(J582)<$K$544,$I$544*$Q$576*C583*$H$544*$J$544,0)","v":2.5553948105400317E-3},{"$f":"IF(L582<$O$544,($C$544-$M$544)*$Q$576*C583*$L$544*$N$544,0)","v":2.0443158484320257E-2},{"$f":"IF(B582<$C$544,0,(B582-$C$544)/B582)","v":0},{"$f":"IF(AND(B583<=$C$544,B583>0),0,(B583-$C$544)/B583)","v":0}]
[null,0.53847484354971453,{"$f":"IF(ABS($Q$581-Q583)<0.00001*$Q$581,C583,MAX(0.9*C583,MIN($AD$4,1.05*C583,IF(C583=$AD$4,0.5*(C583+C582),C583+(C583-C582)*(Q583-$Q$581)/(Q582-Q583)))))","v":3.4953671899438021E-4},6.1743597395076219E-2,-0.1242618374783501,5.1205129685109432,3.361899479918629,0.65655521245487192,1.15805231623755,62.117860820837322,3.7468610920599506E-2,0.19800300347241465,1.1943259797074921E-4,0.10640161334408497,1.1954014945601787,2.5763714949863055E-3,0.1033218150084361,1.2,2.1506154467745962,4.2167116360420788E-2,4.2167116360420788E-2,-1.2000999999999999,2.5300269816252471E-3,2.024021585300198E-2,0,0]
[null,0.53821152360350566,3.4972959458477645E-4,6.1777667729188829E-2,-0.12433040559713406,5.1230071108880644,3.3635089675331096,0.65654973626418622,1.1580498142847166,62.148324567955406,3.7486986219955727E-2,0.23243022404373731,1.4019860819098267E-4,0.10651093625137374,1.1953966018964814,2.5790543309317142E-3,0.10342794346807156,1.2,2.1516629865729868,4.2190384323474064E-2,4.2190384323474064E-2,-1.2000999999999999,2.5314230594084435E-3,2.0251384475267552E-2,0,0]
[null,0.53821152360350566,3.4972959458477645E-4,6.1777667729188829E-2,-0.12433040559713406,5.1230071108880644,3.3635089675331096,0.65654973626418622,1.1580498142847166,62.148324567955406,3.7486986219955727E-2,0.23243022404373731,1.4019860819098267E-4,0.10651093625137374,1.1953966018964814,2.5790543309317142E-3,0.10342794346807156,1.2,2.1516629865729868,4.2190384323474064E-2,4.2190384323474064E-2,-1.2000999999999999,2.5314230594084435E-3,2.0251384475267552E-2,0,0]
[null,0.53821152360350566,3.4972959458477645E-4,6.1777667729188829E-2,-0.12433040559713406,5.1230071108880644,3.3635089675331096,0.65654973626418622,1.1580498142847166,62.148324567955406,3.7486986219955727E-2,0.23243022404373731,1.4019860819098267E-4,0.10651093625137374,1.1953966018964814,2.5790543309317142E-3,0.10342794346807156,1.2,2.1516629865729868,4.2190384323474064E-2,4.2190384323474064E-2,-1.2000999999999999,2.5314230594084435E-3,2.0251384475267552E-2,0,0]
[null,0.53821152360350566,3.4972959458477645E-4,6.1777667729188829E-2,-0.12433040559713406,5.1230071108880644,3.3635089675331096,0.65654973626418622,1.1580498142847166,62.148324567955406,3.7486986219955727E-2,0.23243022404373731,1.4019860819098267E-4,0.10651093625137374,1.1953966018964814,2.5790543309317142E-3,0.10342794346807156,1.2,2.1516629865729868,4.2190384323474064E-2,4.2190384323474064E-2,-1.2000999999999999,2.5314230594084435E-3,2.0251384475267552E-2,0,0]
[null,0.53821152360350566,3.4972959458477645E-4,6.1777667729188829E-2,-0.12433040559713406,5.1230071108880644,3.3635089675331096,0.65654973626418622,1.1580498142847166,62.148324567955406,3.7486986219955727E-2,0.23243022404373731,1.4019860819098267E-4,0.10651093625137374,1.1953966018964814,2.5790543309317142E-3,0.10342794346807156,1.2,2.1516629865729868,4.2190384323474064E-2,4.2190384323474064E-2,-1.2000999999999999,2.5314230594084435E-3,2.0251384475267552E-2,0,0]
[null,0.53821152360350566,3.4972959458477645E-4,6.1777667729188829E-2,-0.12433040559713406,5.1230071108880644,3.3635089675331096,0.65654973626418622,1.1580498142847166,62.148324567955406,3.7486986219955727E-2,0.23243022404373731,1.4019860819098267E-4,0.10651093625137374,1.1953966018964814,2.5790543309317142E-3,0.10342794346807156,1.2,2.1516629865729868,4.2190384323474064E-2,4.2190384323474064E-2,-1.2000999999999999,2.5314230594084435E-3,2.0251384475267552E-2,0,0]
[null,0.53821152360350566,3.4972959458477645E-4,6.1777667729188829E-2,-0.12433040559713406,5.1230071108880644,3.3635089675331096,0.65654973626418622,1.1580498142847166,62.148324567955406,3.7486986219955727E-2,0.23243022404373731,1.4019860819098267E-4,0.10651093625137374,1.1953966018964814,2.5790543309317142E-3,0.10342794346807156,1.2,2.1516629865729868,4.2190384323474064E-2,4.2190384323474064E-2,-1.2000999999999999,2.5314230594084435E-3,2.0251384475267552E-2,0,0]
[null,0.53821152360350566,3.4972959458477645E-4,6.1777667729188829E-2,-0.12433040559713406,5.1230071108880644,3.3635089675331096,0.65654973626418622,1.1580498142847166,62.148324567955406,3.7486986219955727E-2,0.23243022404373731,1.4019860819098267E-4,0.10651093625137374,1.1953966018964814,2.5790543309317142E-3,0.10342794346807156,1.2,2.1516629865729868,4.2190384323474064E-2,4.2190384323474064E-2,-1.2000999999999999,2.5314230594084435E-3,2.0251384475267552E-2,0,0]
[null,0.53821152360350566,3.4972959458477645E-4,6.1777667729188829E-2,-0.12433040559713406,5.1230071108880644,3.3635089675331096,0.65654973626418622,1.1580498142847166,62.148324567955406,3.7486986219955727E-2,0.23243022404373731,1.4019860819098267E-4,0.10651093625137374,1.1953966018964814,2.5790543309317142E-3,0.10342794346807156,1.2,2.1516629865729868,4.2190384323474064E-2,4.2190384323474064E-2,-1.2000999999999999,2.5314230594084435E-3,2.0251384475267552E-2,0,0]
[null,0.53821152360350566,3.4972959458477645E-4,6.1777667729188829E-2,-0.12433040559713406,5.1230071108880644,3.3635089675331096,0.65654973626418622,1.1580498142847166,62.148324567955406,3.7486986219955727E-2,0.23243022404373731,1.4019860819098267E-4,0.10651093625137374,1.1953966018964814,2.5790543309317142E-3,0.10342794346807156,1.2,2.1516629865729868,4.2190384323474064E-2,4.2190384323474064E-2,-1.2000999999999999,2.5314230594084435E-3,2.0251384475267552E-2,0,0]
[null,0.53821152360350566,3.4972959458477645E-4,6.1777667729188829E-2,-0.12433040559713406,5.1230071108880644,3.3635089675331096,0.65654973626418622,1.1580498142847166,62.148324567955406,3.7486986219955727E-2,0.23243022404373731,1.4019860819098267E-4,0.10651093625137374,1.1953966018964814,2.5790543309317142E-3,0.10342794346807156,1.2,2.1516629865729868,4.2190384323474064E-2,4.2190384323474064E-2,-1.2000999999999999,2.5314230594084435E-3,2.0251384475267552E-2,0,0]
[null,0.53821152360350566,3.4972959458477645E-4,6.1777667729188829E-2,-0.12433040559713406,5.1230071108880644,3.3635089675331096,0.65654973626418622,1.1580498142847166,62.148324567955406,3.7486986219955727E-2,0.23243022404373731,1.4019860819098267E-4,0.10651093625137374,1.1953966018964814,2.5790543309317142E-3,0.10342794346807156,1.2,2.1516629865729868,4.2190384323474064E-2,4.2190384323474064E-2,-1.2000999999999999,2.5314230594084435E-3,2.0251384475267552E-2,0,0]
[null,0.53821152360350566,3.4972959458477645E-4,6.1777667729188829E-2,-0.12433040559713406,5.1230071108880644,3.3635089675331096,0.65654973626418622,1.1580498142847166,62.148324567955406,3.7486986219955727E-2,0.23243022404373731,1.4019860819098267E-4,0.10651093625137374,1.1953966018964814,2.5790543309317142E-3,0.10342794346807156,1.2,2.1516629865729868,4.2190384323474064E-2,4.2190384323474064E-2,-1.2000999999999999,2.5314230594084435E-3,2.0251384475267552E-2,0,0]
[null,0.53821152360350566,3.4972959458477645E-4,6.1777667729188829E-2,-0.12433040559713406,5.1230071108880644,3.3635089675331096,0.65654973626418622,1.1580498142847166,62.148324567955406,3.7486986219955727E-2,0.23243022404373731,1.4019860819098267E-4,0.10651093625137374,1.1953966018964814,2.5790543309317142E-3,0.10342794346807156,1.2,2.1516629865729868,4.2190384323474064E-2,4.2190384323474064E-2,-1.2000999999999999,2.5314230594084435E-3,2.0251384475267552E-2,0,0]
[null,0.53821152360350566,3.4972959458477645E-4,6.1777667729188829E-2,-0.12433040559713406,5.1230071108880644,3.3635089675331096,0.65654973626418622,1.1580498142847166,62.148324567955406,3.7486986219955727E-2,0.23243022404373731,1.4019860819098267E-4,0.10651093625137374,1.1953966018964814,2.5790543309317142E-3,0.10342794346807156,1.2,2.1516629865729868,4.2190384323474064E-2,4.2190384323474064E-2,-1.2000999999999999,2.5314230594084435E-3,2.0251384475267552E-2,0,0]
[null,0.53821152360350566,3.4972959458477645E-4,6.1777667729188829E-2,-0.12433040559713406,5.1230071108880644,3.3635089675331096,0.65654973626418622,1.1580498142847166,62.148324567955406,3.7486986219955727E-2,0.23243022404373731,1.4019860819098267E-4,0.10651093625137374,1.1953966018964814,2.5790543309317142E-3,0.10342794346807156,1.2,2.1516629865729868,4.2190384323474064E-2,4.2190384323474064E-2,-1.2000999999999999,2.5314230594084435E-3,2.0251384475267552E-2,0,0]
[null,null,null,null,null,null,null,null,null,null,null,null,null,null,null,null,null,null,null,null,null,null,null,null,null,null,{"$f":"(N600+R581*$O$2)/($Q$6*C600/B600)","v":59.946644793081092}]

{"sheet":"A0","index":4,"n_rows":1599,"n_cols":27,"rows_kept":1599,"cut":false,"hidden":false,"merged":[]}
[]
[null,"Tilstand:",{"$f":"Stivheder!$C$2","v":1}]
[]
[null,"L","h","b","fck","fcd","Ecd","Ac","ac","Esc","fyd_c","At","at","Est","fyd_t","Modenhed","1+f","uterm","g","EI","sc/fcd","sc","e","   emax",null,{"$f":"Stivheder!$AD$4","v":3.5000000000000001E-3}]
[null,"(m)","(m)","(m)","(Mpa)","(Mpa)","(Mpa)","(m2)","(m)","(Mpa)","(Mpa)","(m2)","(m)","(Mpa)","(Mpa)","(døgn)",null,"(m)",null,"(Mnm2)",null,"(MPa)",null,"e1",null,{"$f":"Stivheder!$AD$5","v":2.0693662482105194E-3}]
[null,{"$f":"Stivheder!$B$6","v":0.54},{"$f":"Stivheder!$C$6","v":0.54},{"$f":"Stivheder!$D$6","v":0.42},{"$f":"Stivheder!$E$6","v":25},{"$f":"Stivheder!$F$6","v":17.857142857142858},{"$f":"IF(C2=1,1000*22*((E6+8)/10)^0.3/S6,1.4*F6/Z5)","v":22482.71872144239},{"$f":"IF(P8<0,Stivheder!$X$6,Stivheder!$T$6)","v":6.0318578948924026E-4},{"$f":"IF(P8<0,Stivheder!$Y$6,Stivheder!$U$6)","v":0.06},{"$f":"IF(P8<0,Stivheder!$Z$6,Stivheder!$V$6)","v":200000},{"$f":"IF(P8<0,Stivheder!$AA$6,Stivheder!$W$6)","v":458.33333333333337},{"$f":"IF(P8<0,Stivheder!$T$6,Stivheder!$X$6)","v":6.0318578948924026E-4},{"$f":"IF(P8<0,Stivheder!$U$6,Stivheder!$Y$6)","v":0.06},{"$f":"IF(P8<0,Stivheder!$V$6,Stivheder!$Z$6)","v":200000},{"$f":"IF(P8<0,Stivheder!$W$6,Stivheder!$AA$6)","v":458.33333333333337},{"$f":"Stivheder!$P$6","v":28},{"$f":"Stivheder!$Q$6","v":2.7343237157040781},{"$f":"Stivheder!$R$6","v":0},{"$f":"Stivheder!$S$6","v":1.4},{"$f":"AA79","v":48.118577971489657},0.99999990000000005,{"$f":"U6*F6","v":17.857141071428572},{"$f":"Z4","v":3.5000000000000001E-3},"k",null,{"$f":"Stivheder!$AD$6","v":2.7356687822616226}]
[]
[null,"punkt","elasttisk","e_o","sc_o/fcd","sc_u/fcd","sc_o","sc_u","hc","At","Ac","Ic","Wt","E",null,{"$f":"SIGN(Q8)","v":-1},{"$f":"INDEX(Snitkræfter!$G$199:$U$199,B9+1)","v":-0.10463922945654142},{"$f":"INDEX(Snitkræfter!$G$59:$U$59,B9+1)*P8","v":0}]
[null,0,"skøn",{"$f":"IF(C2=1,Z5*0.5*(-((Z6-2)*E9-Z6)-(((Z6-2)*E9-Z6)^2-4*E9)^0.5),G9/(1.4*F6/Z5))","v":9.9290503901664049E-4},{"$f":"MIN(0.9999,G9/F6)","v":0.8},{"$f":"H9/F6","v":-1.7340667041033767E-2},{"$f":"IF(H9>0,R11/J9+MAX(Q11+Stivheder!$O$2*R11+R11*R6,D6*C6^2*0.003*E6)/M9,MIN(0.8*F6,2*(R11+Q11/(C6-M6-0.333*I9))/(((R11+L6*O6)/(F6*D6*0.5))*D6)))","v":14.285714285714286},{"$f":"R11/J9-(Q11+Stivheder!$O$2*R11+R11*R6)/M9","v":-0.30965476858988872},{"$f":"IF(H9>0,C6*G9/(G9-H9),(R11+L6*O6)/(F6*D6*0.5))","v":0.39372270760424044},{"$f":"K9+Q6*(H6+L6)*N6/G6","v":0.25614351898648502},{"$f":"C6*D6","v":0.2268},{"$f":"D6*C6^3/12","v":5.5112400000000006E-3},{"$f":"(L9+((0.5*C6-I6)^2*H6+(0.5*C6-M6)^2*L6)*Q6)/(0.5*C6)","v":2.0950773034997532E-2},{"$f":"G9/D9","v":14387.79513080391}]
[null,"hc","e0","a'","b'","N'","tN'","t'","Nc","sac","Nac","sat","Nat","Mtot","N",null,"Mo","N","A","B1","B2","B3","C1","C2","gættet x","beregnet x","EIt"]
[null,{"$f":"I9","v":0.39372270760424044},null,null,null,null,null,null,null,null,null,null,null,null,null,null,{"$f":"MAX(ABS(Q8),0.0000001)","v":0.10463922945654142},{"$f":"INDEX(Snitkræfter!$G$52:$U$52,B9+1)","v":1.2}]
[null,{"$f":"MIN(0.5*(-(T12+U12+V12)+SQRT((T12+U12+V12)^2+4*S12*(W12+X12)))/S12,1000*$C$6)","v":0.31297486811509417},{"$f":"D9","v":9.9290503901664049E-4},{"$f":"IF($C$2=1,C12/($Z$6*$Z$5),2^(1/3)*$Z$5/C12)","v":0.17539081203532025},{"$f":"IF($C$2=1,-($Z$6-2)*C12/$Z$5,3*($Z$5/C12)^2)","v":-0.35298209854657453},{"$f":"IF($C$2=1,0.5*($Z$6*C12*$F$6/$Z$5)*(1-Y12^2+(D12-E12)*(E12^2*(1-Y12^2)+2*E12*(1-Y12)+2*LN((1-E12)/(1-E12*Y12)))/(E12^3)),$F$6*E12*(LN((1-D12+D12^2)/(1+D12)^2)/(6*D12)+ATAN((2-D12)/(D12*3^0.5))/(D12*3^0.5)-LN((Y12^2-D12*Y12+D12^2)/(Y12+D12)^2)/(6*D12)-ATAN((2*Y12-D12)/(D12*3^0.5))/(D12*3^0.5)))","v":8.4454952734287918},{"$f":"IF($C$2=1,($Z$6*C12*$F$6/$Z$5)*(1-Y12^3-(D12-E12)*(-2*E12^3*(1-Y12^3)-3*E12^2*(1-Y12^2)-6*E12*(1-Y12)-6*LN((1-E12)/(1-E12*Y12)))/(2*E12^4))/3,$F$6*E12*(LN((1+D12^3)/(D12^3+Y12^3)))/3)","v":5.3935807407263683},{"$f":"G12/F12","v":0.63863403697538568},{"$f":"F12*B12*$D$6","v":1.1101556631345715},{"$f":"MAX(MIN($K$6,$Q$6*$J$6*C12*(B12-$I$6)/B12),-$K$6)","v":438.88986567973785},{"$f":"J12*$H$6","v":0.26473213012885927},{"$f":"MIN($O$6,$Q$6*$N$6*C12*(C$6-B12-$M$6)/B12)","v":289.77438843749292},{"$f":"L12*$L$6","v":0.17478779326343094},{"$f":"(0.5*$C$6-B12+H12*B12)*I12+(0.5*$C$6-$I$6)*K12+(0.5*$C$6-$M$6)*M12","v":0.26648431197020445},{"$f":"I12+K12-M12","v":1.2000999999999997},null,{"$f":"N12-P12*O12","v":0.26648431197020445},{"$f":"R11","v":1.2},{"$f":"F12*$D$6","v":3.5471080148400924},{"$f":"IF(ABS(J11)<$K$6,$Q$6*C12*$H$6*$J$6,IF(J11>0,1,-1)*$H$6*$K$6)","v":0.32752069061347222},{"$f":"IF(L11<$O$6,$Q$6*C12*$L$6*$N$6,-$L$6*$O$6)","v":0.32752069061347222},{"$f":"-(R12+0.0001)","v":-1.2000999999999999},{"$f":"IF(ABS(J11)<$K$6,$I$6*$Q$6*C12*$H$6*$J$6,0)","v":1.9651241436808336E-2},{"$f":"IF(L11<$O$6,($C$6-$M$6)*$Q$6*C12*$L$6*$N$6,0)","v":0.15720993149446671},{"$f":"IF(B11<$C$6,0,(B11-$C$6)/B11)","v":0},{"$f":"IF(B12<=$C$6,0,(B12-$C$6)/B12)","v":0}]
[null,{"$f":"MIN(0.5*(-(T13+U13+V13)+SQRT((T13+U13+V13)^2+4*S13*(W13+X13)))/S13,1000*$C$6)","v":0.31626375671892965},{"$f":"0.98*C12","v":9.7304693823630764E-4},0.17188299579461386,-0.34592245657564302,8.3278555205213731,5.3230120424851508,0.63918160315921269,1.1061955263796779,{"$f":"MAX(MIN($K$6,$Q$6*$J$6*C13*(B13-$I$6)/B13),-$K$6)","v":431.17292144040977},0.26007737902541572,275.49207607461022,0.16617290540509361,{"$f":"(0.5*$C$6-B13+H13*B13)*I13+(0.5*$C$6-$I$6)*K13+(0.5*$C$6-$M$6)*M13","v":0.26195319706226228},1.2000999999999999,null,{"$f":"N13-P13*O13","v":0.26195319706226228},{"$f":"R11","v":1.2},{"$f":"F13*$D$6","v":3.4976993186189764},{"$f":"IF(ABS(J12)<$K$6,$Q$6*C13*$H$6*$J$6,IF(J12>0,1,-1)*$H$6*$K$6)","v":0.32097027680120277},0.32097027680120277,-1.2000999999999999,{"$f":"IF(ABS(J12)<$K$6,$I$6*$Q$6*C13*$H$6*$J$6,0)","v":1.9258216608072164E-2},0.15406573286457734,{"$f":"Z12","v":0},0]
[null,{"$f":"MIN(0.5*(-(T14+U14+V14)+SQRT((T14+U14+V14)^2+4*S14*(W14+X14)))/S14,1000*$C$6)","v":0.33518443537510195},{"$f":"IF(ABS($Q$11-Q13)<=0.001*$Q$11,C13,MAX(0.9*C13,MIN($W$6,1.05*C13,IF(C13=$W$6,0.5*(C13+C12),C13+IF(C13=C12,0,(C13-C12)*(Q13-$Q$11)/(Q12-Q13))))))","v":8.7574224441267694E-4},0.15469469621515247,-0.31133021091807878,7.7266892651338628,4.9595017191416986,0.64186633485069711,1.0877437110341572,{"$f":"MAX(MIN($K$6,$Q$6*$J$6*C14*(B14-$I$6)/B14),-$K$6)","v":393.18437204726024},0.23716322586815783,206.91292646001779,0.12480693690231494,0.23913087788931817,1.2000999999999999,null,0.23913087788931817,{"$f":"R11","v":1.2},3.2452094913562224,0.28887324912108253,0.28887324912108253,-1.2000999999999999,1.7332394947264951E-2,0.13865915957811964,0,0]
[null,0.35735624231371232,{"$f":"IF(ABS($Q$11-Q14)<=0.001*$Q$11,C14,MAX(0.9*C14,MIN($W$6,1.05*C14,IF(C14=$W$6,0.5*(C14+C13),C14+IF(C14=C13,0,(C14-C13)*(Q14-$Q$11)/(Q13-Q14))))))","v":7.881680199714093E-4},0.13922522659363723,-0.28019718982627084,7.149009562026742,4.6060124242075666,0.64428679025318902,1.0729921412072834,358.65296161793901,0.21633436980617074,147.92541961077762,8.9226511013454052E-2,0.21748083357627104,1.2001000000000002,null,0.21748083357627104,{"$f":"R11","v":1.2},3.0025840160512316,0.25998592420897426,0.25998592420897426,-1.2000999999999999,1.5599155452538456E-2,0.12479324362030769,0,0]
[null,0.38319671913362724,7.093512179742684E-4,0.12530270393427353,-0.25217747084364384,6.5977537355369504,4.2652536276487449,0.6464705714423914,1.0618597857459449,327.17974161725255,0.19735017075228811,97.996268360840659,5.9109956498233127E-2,0.19670722508052305,1.2000999999999997,null,0.19670722508052305,{"$f":"R11","v":1.2},2.7710565689255189,0.23398733178807685,0.23398733178807685,-1.2000999999999999,1.4039239907284611E-2,0.11231391925827693,0,0]
[null,0.41315943516572462,6.384160961768416E-4,0.11277243354084618,-0.22695972375927945,6.074919997772164,3.9392321221681477,0.64844181052800198,1.0541624162817351,298.42616067577637,0.18000641933146103,56.481495762764339,3.4068835613196187E-2,0.17646300456565084,1.2000999999999999,null,0.17646300456565084,{"$f":"R11","v":1.2},2.5514663990643087,0.21058859860926918,0.21058859860926918,-1.2000999999999999,1.2635315916556152E-2,0.10108252733244921,0,0]
[null,0.44773249652293856,5.7457448655915744E-4,0.10149519018676156,-0.20426375138335151,5.5817131775386901,3.6293514297152396,0.65022177139450166,1.0496280378588403,272.10708340798783,0.16413112593106169,22.645035788174802,1.3659163789902317E-2,0.15635634946885296,1.2000999999999995,null,0.15635634946885296,{"$f":"R11","v":1.2},2.34431953456625,0.18952973874834228,0.18952973874834228,-1.2000999999999999,1.1371784324900536E-2,9.0974274599204291E-2,0,0]
[null,0.48743839662925637,5.1711703790324173E-4,9.134567116808541E-2,-0.18383737624501637,5.1186781815956959,3.3365044821321743,0.65182931291297808,1.0479169199932288,247.98337567329466,0.14958004823570309,-4.3154726394872158,-2.6030317710683116E-3,0.13595891549261621,1.2001000000000002,null,0.13595891549261621,{"$f":"R11","v":1.2},2.1498448362701921,0.17057676487350806,0.17057676487350806,-1.2000999999999999,1.0234605892410485E-2,8.1876847139283879E-2,0,0]
[null,0.53283599143066318,4.6540533411291757E-4,8.2211104051276865E-2,-0.16545363862051474,4.6858204243348673,3.0611586248596581,0.65328125016531691,1.0486449840159382,225.85424407321185,0.13623207052079586,-25.237573113511633,-1.5222945463265938E-2,0.11481495307284151,1.2000999999999999,null,0.11481495307284151,{"$f":"R11","v":1.2},1.9680445782206442,0.15351908838615727,0.15351908838615727,-1.2000999999999999,9.2111453031694362E-3,7.3689162425355489E-2,0,0]
[null,0.55897225275496665,4.4051860781954371E-4,7.7815010807739157E-2,-0.1566062982125242,4.4718893343294086,2.9245347597972207,0.65398191707169684,1.0498580632180274,215.04548489531081,0.12971238058267454,-34.035211964595156,-2.0529556199297964E-2,0.10333229014832276,1.2000999999999999,null,0.10333229014832276,{"$f":"R11","v":1.2},1.8781935204183515,0.14530992692315692,0.14530992692315692,-1.2000999999999999,8.7185956153894139E-3,6.9748764923115311E-2,0,3.3941314012385093E-2]
[null,0.55648673516096991,4.4335117732537132E-4,7.8315367484612944E-2,-0.157613289102042,4.4904292764905618,2.9400866743568295,0.65474512420216024,1.049523017569097,216.3120056601085,0.13047632791009356,-33.324151316346352,-2.010065452080928E-2,0.1049055021120233,1.2000999999999999,null,0.1049055021120233,{"$f":"R11","v":1.2},1.8859802961260359,0.14624428125141989,0.14624428125141989,-1.2000999999999999,8.7746568750851923E-3,7.0197255000681566E-2,3.3941314012385093E-2,2.962646568062563E-2]
[null,0.55685999197146052,4.4287175317811299E-4,7.8230680040000652E-2,-0.15744285171382938,4.487709326143313,2.9374794357727265,0.65456098474567725,1.0495908273170937,216.09559671772712,0.13034579311133071,-33.42814091931654,-2.0163379571575525E-2,0.1046273135296502,1.2000999999999999,null,{"$f":"N23-P23*O23","v":0.1046273135296502},{"$f":"R11","v":1.2},1.8848379169801914,0.14608613790272429,0.14608613790272429,-1.2000999999999999,8.7651682741634561E-3,7.0121346193307663E-2,2.962646568062563E-2,3.0276895834751533E-2]
[null,0.55688210418095307,4.4287175317811299E-4,7.8230680040000652E-2,-0.15744285171382938,4.4875070820404144,2.9374733779861191,0.65458913474304448,1.0495852022769099,216.09663289012332,0.13034641811579556,-33.436430298486258,-2.0168379607294385E-2,0.10463439441785669,1.2000999999999999,null,0.10463439441785669,{"$f":"R11","v":1.2},1.884752974456974,0.14608613790272429,0.14608613790272429,-1.2000999999999999,8.7651682741634561E-3,7.0121346193307663E-2,3.0276895834751533E-2,3.0315400789872347E-2]
[null,0.55688342821669168,4.4287175317811299E-4,7.8230680040000652E-2,-0.15744285171382938,4.4874949726304179,2.9374730111170568,0.65459081938429664,1.0495848654747104,216.0966949314832,0.13034645553826221,-33.43692662936526,-2.0168678987027486E-2,0.10463481790868111,1.2001000000000002,null,0.10463481790868111,{"$f":"R11","v":1.2},1.8847478885047755,0.14608613790272429,0.14608613790272429,-1.2000999999999999,8.7651682741634561E-3,7.0121346193307663E-2,3.0315400789872347E-2,3.0317706294039778E-2]
[null,0.55688350754725224,4.4287175317811299E-4,7.8230680040000652E-2,-0.15744285171382938,4.4874942470883905,2.9374729891208173,0.65459092031744226,1.0495848452950136,216.09669864872686,0.13034645778045076,-33.436956367314536,-2.0168696924535899E-2,0.10463484328063002,1.2001000000000002,null,0.10463484328063002,{"$f":"R11","v":1.2},1.8847475837771239,0.14608613790272429,0.14608613790272429,-1.2000999999999999,8.7651682741634561E-3,7.0121346193307663E-2,3.0317706294039778E-2,3.031784442964424E-2]
[null,0.55688351230057853,4.4287175317811299E-4,7.8230680040000652E-2,-0.15744285171382938,4.4874942036153902,2.9374729878027961,0.65459092636514038,1.0495848440858868,216.09669887145651,0.1303464579147981,-33.436958149151877,-2.0168697999314859E-2,0.10463484480085962,1.2000999999999997,null,0.10463484480085962,{"$f":"R11","v":1.2},1.8847475655184638,0.14608613790272429,0.14608613790272429,-1.2000999999999999,8.7651682741634561E-3,7.0121346193307663E-2,3.031784442964424E-2,3.0317852706448239E-2]
[null,0.5568835125853997,4.4287175317811299E-4,7.8230680040000652E-2,-0.15744285171382938,4.4874942010104704,2.9374729877244454,0.65459092672766028,1.0495848440134354,216.09669888480258,0.13034645792284827,-33.43695825592026,-2.0168698063716031E-2,0.1046348448920339,1.2000999999999999,null,0.1046348448920339,{"$f":"R11","v":1.2},1.8847475644243974,0.14608613790272429,0.14608613790272429,-1.2000999999999999,8.7651682741634561E-3,7.0121346193307663E-2,3.0317852706448239E-2,3.0317853202397559E-2]
[null,0.55688351260245772,4.4287175317811299E-4,7.8230680040000652E-2,-0.15744285171382938,4.4874942008544627,2.937472987719234,0.6545909267492559,1.0495848440090967,216.09669888560185,0.13034645792333038,-33.436958262314654,-2.016869806757304E-2,0.10463484489742671,1.2001000000000002,null,0.10463484489742671,{"$f":"R11","v":1.2},1.8847475643588742,0.14608613790272429,0.14608613790272429,-1.2000999999999999,8.7651682741634561E-3,7.0121346193307663E-2,3.0317853202397559E-2,3.0317853232100109E-2]
[null,0.55688351260347757,4.4287175317811299E-4,7.8230680040000652E-2,-0.15744285171382938,4.4874942008451351,2.937472987718726,0.65459092675050323,1.0495848440088371,216.09669888564966,0.13034645792335922,-33.436958262696955,-2.0168698067803636E-2,0.1046348448977235,1.2000999999999999,null,0.1046348448977235,{"$f":"R11","v":1.2},1.8847475643549567,0.14608613790272429,0.14608613790272429,-1.2000999999999999,8.7651682741634561E-3,7.0121346193307663E-2,3.0317853232100109E-2,3.0317853233875938E-2]
[null,0.55688351260353142,4.4287175317811299E-4,7.8230680040000652E-2,-0.15744285171382938,4.487494200844643,2.9374729877183374,0.65459092675048847,1.0495848440088236,216.09669888565219,0.13034645792336075,-33.436958262717134,-2.0168698067815811E-2,0.10463484489769206,1.2001000000000002,null,0.10463484489769206,{"$f":"R11","v":1.2},1.88474756435475,0.14608613790272429,0.14608613790272429,-1.2000999999999999,8.7651682741634561E-3,7.0121346193307663E-2,3.0317853233875938E-2,3.03178532339697E-2]
[null,0.55688351260355184,4.4287175317811299E-4,7.8230680040000652E-2,-0.15744285171382938,4.4874942008444556,2.9374729877193015,0.65459092675073061,1.0495848440088182,216.09669888565313,0.1303464579233613,-33.436958262724794,-2.0168698067820429E-2,0.10463484489782492,1.2000999999999999,null,0.10463484489782492,{"$f":"R11","v":1.2},1.8847475643546714,0.14608613790272429,0.14608613790272429,-1.2000999999999999,8.7651682741634561E-3,7.0121346193307663E-2,3.03178532339697E-2,3.0317853234005269E-2]
[null,0.55688351260355118,4.4287175317811299E-4,7.8230680040000652E-2,-0.15744285171382938,4.4874942008444609,2.9374729877193011,0.65459092675072972,1.0495848440088182,216.09669888565313,0.1303464579233613,-33.436958262724545,-2.0168698067820279E-2,0.10463484489782467,1.2000999999999997,null,0.10463484489782467,{"$f":"R11","v":1.2},1.8847475643546736,0.14608613790272429,0.14608613790272429,-1.2000999999999999,8.7651682741634561E-3,7.0121346193307663E-2,3.0317853234005269E-2,3.031785323400411E-2]
[null,0.55688351260353963,4.4287175317811299E-4,7.8230680040000652E-2,-0.15744285171382938,4.4874942008445675,2.937472987718559,0.65459092675054886,1.0495848440088213,216.09669888565256,0.13034645792336097,-33.436958262720218,-2.016869806781767E-2,0.10463484489772389,1.2000999999999999,null,0.10463484489772389,{"$f":"R11","v":1.2},1.8847475643547182,0.14608613790272429,0.14608613790272429,-1.2000999999999999,8.7651682741634561E-3,7.0121346193307663E-2,3.031785323400411E-2,3.0317853233984005E-2]
[null,0.55688351260354851,4.4287175317811299E-4,7.8230680040000652E-2,-0.15744285171382938,4.4874942008444858,2.9374729877190049,0.65459092675066011,1.0495848440088191,216.09669888565298,0.13034645792336122,-33.436958262723543,-2.0168698067819676E-2,0.10463484489778517,1.2001000000000002,null,0.10463484489778517,{"$f":"R11","v":1.2},1.884747564354684,0.14608613790272429,0.14608613790272429,-1.2000999999999999,8.7651682741634561E-3,7.0121346193307663E-2,3.0317853233984005E-2,3.0317853233999471E-2]
[null,0.55688351260355484,4.4287175317811299E-4,7.8230680040000652E-2,-0.15744285171382938,4.4874942008444281,2.937472987719524,0.65459092675078423,1.0495848440088174,216.09669888565327,0.13034645792336139,-33.436958262725916,-2.0168698067821109E-2,0.10463484489785503,1.2000999999999997,null,0.10463484489785503,{"$f":"R11","v":1.2},1.8847475643546596,0.14608613790272429,0.14608613790272429,-1.2000999999999999,8.7651682741634561E-3,7.0121346193307663E-2,3.0317853233999471E-2,3.031785323401049E-2]
[null,0.55688351260355518,4.4287175317811299E-4,7.8230680040000652E-2,-0.15744285171382938,4.4874942008444245,2.9374729877194494,0.65459092675076813,1.0495848440088171,216.0966988856533,0.13034645792336141,-33.436958262726044,-2.0168698067821185E-2,0.10463484489784544,1.2000999999999999,null,0.10463484489784544,{"$f":"R11","v":1.2},1.8847475643546583,0.14608613790272429,0.14608613790272429,-1.2000999999999999,8.7651682741634561E-3,7.0121346193307663E-2,3.031785323401049E-2,3.031785323401107E-2]
[null,0.55688351260353419,4.4287175317811299E-4,7.8230680040000652E-2,-0.15744285171382938,4.4874942008446173,2.9374729877181882,0.65459092675045893,1.0495848440088229,216.0966988856523,0.1303464579233608,-33.436958262718179,-2.0168698067816439E-2,0.10463484489767366,1.2001000000000002,null,0.10463484489767366,{"$f":"R11","v":1.2},1.8847475643547391,0.14608613790272429,0.14608613790272429,-1.2000999999999999,8.7651682741634561E-3,7.0121346193307663E-2,3.031785323401107E-2,3.0317853233974533E-2]
[null,0.55688351260353863,4.4287175317811299E-4,7.8230680040000652E-2,-0.15744285171382938,4.4874942008445764,2.9374729877184858,0.65459092675053121,1.0495848440088216,216.09669888565253,0.13034645792336094,-33.436958262719841,-2.0168698067817441E-2,0.10463484489771399,1.2000999999999999,null,0.10463484489771399,{"$f":"R11","v":1.2},1.884747564354722,0.14608613790272429,0.14608613790272429,-1.2000999999999999,8.7651682741634561E-3,7.0121346193307663E-2,3.0317853233974533E-2,3.0317853233982266E-2]
[null,0.55688351260354274,4.4287175317811299E-4,7.8230680040000652E-2,-0.15744285171382938,4.4874942008445391,2.9374729877187082,0.65459092675058628,1.0495848440088207,216.0966988856527,0.13034645792336105,-33.436958262721383,-2.0168698067818375E-2,0.10463484489774444,1.2001000000000002,null,0.10463484489774444,{"$f":"R11","v":1.2},1.8847475643547063,0.14608613790272429,0.14608613790272429,-1.2000999999999999,8.7651682741634561E-3,7.0121346193307663E-2,3.0317853233982266E-2,3.0317853233989417E-2]
[null,0.55688351260355251,4.4287175317811299E-4,7.8230680040000652E-2,-0.15744285171382938,4.4874942008444494,2.9374729877193015,0.65459092675073149,1.049584844008818,216.09669888565318,0.13034645792336133,-33.436958262725042,-2.0168698067820581E-2,0.10463484489782518,1.2000999999999999,null,0.10463484489782518,{"$f":"R11","v":1.2},1.8847475643546687,0.14608613790272429,0.14608613790272429,-1.2000999999999999,8.7651682741634561E-3,7.0121346193307663E-2,3.0317853233989417E-2,3.0317853234006431E-2]
[null,0.55688351260355118,4.4287175317811299E-4,7.8230680040000652E-2,-0.15744285171382938,4.4874942008444609,2.9374729877192269,0.65459092675071318,1.0495848440088182,216.09669888565313,0.1303464579233613,-33.436958262724545,-2.0168698067820279E-2,0.10463484489781505,1.2000999999999997,null,0.10463484489781505,{"$f":"R11","v":1.2},1.8847475643546736,0.14608613790272429,0.14608613790272429,-1.2000999999999999,8.7651682741634561E-3,7.0121346193307663E-2,3.0317853234006431E-2,3.031785323400411E-2]
[null,0.55688351260353963,4.4287175317811299E-4,7.8230680040000652E-2,-0.15744285171382938,4.4874942008445675,2.937472987718559,0.65459092675054886,1.0495848440088213,216.09669888565256,0.13034645792336097,-33.436958262720218,-2.016869806781767E-2,0.10463484489772389,1.2000999999999999,null,0.10463484489772389,{"$f":"R11","v":1.2},1.8847475643547182,0.14608613790272429,0.14608613790272429,-1.2000999999999999,8.7651682741634561E-3,7.0121346193307663E-2,3.031785323400411E-2,3.0317853233984005E-2]
[null,0.55688351260354851,4.4287175317811299E-4,{"$f":"IF($C$2=1,C44/($Z$6*$Z$5),2^(1/3)*$Z$5/C44)","v":7.8230680040000652E-2},{"$f":"IF($C$2=1,-($Z$6-2)*C44/$Z$5,3*($Z$5/C44)^2)","v":-0.15744285171382938},{"$f":"IF($C$2=1,0.5*($Z$6*C44*$F$6/$Z$5)*(1-Y44^2+(D44-E44)*(E44^2*(1-Y44^2)+2*E44*(1-Y44)+2*LN((1-E44)/(1-E44*Y44)))/(E44^3)),$F$6*E44*(LN((1-D44+D44^2)/(1+D44)^2)/(6*D44)+ATAN((2-D44)/(D44*3^0.5))/(D44*3^0.5)-LN((Y44^2-D44*Y44+D44^2)/(Y44+D44)^2)/(6*D44)-ATAN((2*Y44-D44)/(D44*3^0.5))/(D44*3^0.5)))","v":4.4874942008444858},{"$f":"IF($C$2=1,($Z$6*C44*$F$6/$Z$5)*(1-Y44^3-(D44-E44)*(-2*E44^3*(1-Y44^3)-3*E44^2*(1-Y44^2)-6*E44*(1-Y44)-6*LN((1-E44)/(1-E44*Y44)))/(2*E44^4))/3,$F$6*E44*(LN((1+D44^3)/(D44^3+Y44^3)))/3)","v":2.9374729877190049},{"$f":"G44/F44","v":0.65459092675066011},{"$f":"F44*B44*$D$6","v":1.0495848440088191},{"$f":"MAX(MIN($K$6,$Q$6*$J$6*C44*(B44-$I$6)/B44),-$K$6)","v":216.09669888565298},{"$f":"J44*$H$6","v":0.13034645792336122},{"$f":"MIN($O$6,$Q$6*$N$6*C44*(C$6-B44-$M$6)/B44)","v":-33.436958262723543},{"$f":"L44*$L$6","v":-2.0168698067819676E-2},{"$f":"(0.5*$C$6-B44+H44*B44)*I44+(0.5*$C$6-$I$6)*K44+(0.5*$C$6-$M$6)*M44","v":0.10463484489778517},{"$f":"I44+K44-M44","v":1.2001000000000002},null,{"$f":"N44-P44*O44","v":0.10463484489778517},{"$f":"R11","v":1.2},{"$f":"F44*$D$6","v":1.884747564354684},0.14608613790272429,{"$f":"IF(L43<$O$6,$Q$6*C44*$L$6*$N$6,-$L$6*$O$6)","v":0.14608613790272429},{"$f":"-(R44+0.0001)","v":-1.2000999999999999},8.7651682741634561E-3,{"$f":"IF(L43<$O$6,($C$6-$M$6)*$Q$6*C44*$L$6*$N$6,0)","v":7.0121346193307663E-2},3.0317853233984005E-2,{"$f":"IF(B44<=$C$6,0,(B44-$C$6)/B44)","v":3.0317853233999471E-2}]
[null,0.55688351260355484,4.4287175317811299E-4,7.8230680040000652E-2,-0.15744285171382938,4.4874942008444281,2.937472987719524,0.65459092675078423,1.0495848440088174,216.09669888565327,0.13034645792336139,-33.436958262725916,-2.0168698067821109E-2,0.10463484489785503,1.2000999999999997,null,0.10463484489785503,{"$f":"R11","v":1.2},1.8847475643546596,0.14608613790272429,0.14608613790272429,-1.2000999999999999,8.7651682741634561E-3,7.0121346193307663E-2,{"$f":"Z44","v":3.0317853233999471E-2},3.031785323401049E-2]
[null,0.55688351260355518,4.4287175317811299E-4,7.8230680040000652E-2,-0.15744285171382938,4.4874942008444245,2.9374729877194494,0.65459092675076813,1.0495848440088171,216.0966988856533,0.13034645792336141,-33.436958262726044,-2.0168698067821185E-2,0.10463484489784544,1.2000999999999999,null,0.10463484489784544,{"$f":"R11","v":1.2},1.8847475643546583,0.14608613790272429,0.14608613790272429,-1.2000999999999999,8.7651682741634561E-3,7.0121346193307663E-2,3.031785323401049E-2,3.031785323401107E-2]
[null,0.55688351260353419,4.4287175317811299E-4,7.8230680040000652E-2,-0.15744285171382938,4.4874942008446173,2.9374729877181882,0.65459092675045893,1.0495848440088229,216.0966988856523,0.1303464579233608,-33.436958262718179,-2.0168698067816439E-2,0.10463484489767366,1.2001000000000002,null,0.10463484489767366,{"$f":"R11","v":1.2},1.8847475643547391,0.14608613790272429,0.14608613790272429,-1.2000999999999999,8.7651682741634561E-3,7.0121346193307663E-2,3.031785323401107E-2,3.0317853233974533E-2]
[null,0.55688351260353863,4.4287175317811299E-4,7.8230680040000652E-2,-0.15744285171382938,4.4874942008445764,2.9374729877184858,0.65459092675053121,1.0495848440088216,216.09669888565253,0.13034645792336094,-33.436958262719841,-2.0168698067817441E-2,0.10463484489771399,1.2000999999999999,null,0.10463484489771399,{"$f":"R11","v":1.2},1.884747564354722,0.14608613790272429,0.14608613790272429,-1.2000999999999999,8.7651682741634561E-3,7.0121346193307663E-2,3.0317853233974533E-2,3.0317853233982266E-2]
[null,0.55688351260354274,4.4287175317811299E-4,7.8230680040000652E-2,-0.15744285171382938,4.4874942008445391,2.9374729877187082,0.65459092675058628,1.0495848440088207,216.0966988856527,0.13034645792336105,-33.436958262721383,-2.0168698067818375E-2,0.10463484489774444,1.2001000000000002,null,0.10463484489774444,{"$f":"R11","v":1.2},1.8847475643547063,0.14608613790272429,0.14608613790272429,-1.2000999999999999,8.7651682741634561E-3,7.0121346193307663E-2,3.0317853233982266E-2,3.0317853233989417E-2]
[null,0.55688351260355251,4.4287175317811299E-4,7.8230680040000652E-2,-0.15744285171382938,4.4874942008444494,2.9374729877193015,0.65459092675073149,1.049584844008818,216.09669888565318,0.13034645792336133,-33.436958262725042,-2.0168698067820581E-2,0.10463484489782518,1.2000999999999999,null,0.10463484489782518,{"$f":"R11","v":1.2},1.8847475643546687,0.14608613790272429,0.14608613790272429,-1.2000999999999999,8.7651682741634561E-3,7.0121346193307663E-2,3.0317853233989417E-2,3.0317853234006431E-2]
[null,0.55688351260355118,4.4287175317811299E-4,7.8230680040000652E-2,-0.15744285171382938,4.4874942008444609,2.9374729877192269,0.65459092675071318,1.0495848440088182,216.09669888565313,0.1303464579233613,-33.436958262724545,-2.0168698067820279E-2,0.10463484489781505,1.2000999999999997,null,0.10463484489781505,{"$f":"R11","v":1.2},1.8847475643546736,0.14608613790272429,0.14608613790272429,-1.2000999999999999,8.7651682741634561E-3,7.0121346193307663E-2,3.0317853234006431E-2,3.031785323400411E-2]
[null,0.55688351260353963,4.4287175317811299E-4,7.8230680040000652E-2,-0.15744285171382938,4.4874942008445675,2.937472987718559,0.65459092675054886,1.0495848440088213,216.09669888565256,0.13034645792336097,-33.436958262720218,-2.016869806781767E-2,0.10463484489772389,1.2000999999999999,null,0.10463484489772389,{"$f":"R11","v":1.2},1.8847475643547182,0.14608613790272429,0.14608613790272429,-1.2000999999999999,8.7651682741634561E-3,7.0121346193307663E-2,3.031785323400411E-2,3.0317853233984005E-2]
[null,0.55688351260354851,4.4287175317811299E-4,7.8230680040000652E-2,-0.15744285171382938,4.4874942008444858,2.9374729877190049,0.65459092675066011,1.0495848440088191,216.09669888565298,0.13034645792336122,-33.436958262723543,-2.0168698067819676E-2,0.10463484489778517,1.2001000000000002,null,0.10463484489778517,{"$f":"R11","v":1.2},1.884747564354684,0.14608613790272429,0.14608613790272429,-1.2000999999999999,8.7651682741634561E-3,7.0121346193307663E-2,3.0317853233984005E-2,3.0317853233999471E-2]
[null,0.55688351260355484,4.4287175317811299E-4,7.8230680040000652E-2,-0.15744285171382938,4.4874942008444281,2.937472987719524,0.65459092675078423,1.0495848440088174,216.09669888565327,0.13034645792336139,-33.436958262725916,-2.0168698067821109E-2,0.10463484489785503,1.2000999999999997,null,0.10463484489785503,{"$f":"R11","v":1.2},1.8847475643546596,0.14608613790272429,0.14608613790272429,-1.2000999999999999,8.7651682741634561E-3,7.0121346193307663E-2,3.0317853233999471E-2,3.031785323401049E-2]
[null,0.55688351260355518,4.4287175317811299E-4,7.8230680040000652E-2,-0.15744285171382938,4.4874942008444245,2.9374729877194494,0.65459092675076813,1.0495848440088171,216.0966988856533,0.13034645792336141,-33.436958262726044,-2.0168698067821185E-2,0.10463484489784544,1.2000999999999999,null,0.10463484489784544,{"$f":"R11","v":1.2},1.8847475643546583,0.14608613790272429,0.14608613790272429,-1.2000999999999999,8.7651682741634561E-3,7.0121346193307663E-2,3.031785323401049E-2,3.031785323401107E-2]
[null,0.55688351260353419,4.4287175317811299E-4,7.8230680040000652E-2,-0.15744285171382938,4.4874942008446173,2.9374729877181882,0.65459092675045893,1.0495848440088229,216.0966988856523,0.1303464579233608,-33.436958262718179,-2.0168698067816439E-2,0.10463484489767366,1.2001000000000002,null,0.10463484489767366,{"$f":"R11","v":1.2},1.8847475643547391,0.14608613790272429,0.14608613790272429,-1.2000999999999999,8.7651682741634561E-3,7.0121346193307663E-2,3.031785323401107E-2,3.0317853233974533E-2]
[null,0.55688351260353863,4.4287175317811299E-4,7.8230680040000652E-2,-0.15744285171382938,4.4874942008445764,2.9374729877184858,0.65459092675053121,1.0495848440088216,216.09669888565253,0.13034645792336094,-33.436958262719841,-2.0168698067817441E-2,0.10463484489771399,1.2000999999999999,null,0.10463484489771399,{"$f":"R11","v":1.2},1.884747564354722,0.14608613790272429,0.14608613790272429,-1.2000999999999999,8.7651682741634561E-3,7.0121346193307663E-2,3.0317853233974533E-2,3.0317853233982266E-2]
[null,0.55688351260354274,4.4287175317811299E-4,7.8230680040000652E-2,-0.15744285171382938,4.4874942008445391,2.9374729877187082,0.65459092675058628,1.0495848440088207,216.0966988856527,0.13034645792336105,-33.436958262721383,-2.0168698067818375E-2,0.10463484489774444,1.2001000000000002,null,0.10463484489774444,{"$f":"R11","v":1.2},1.8847475643547063,0.14608613790272429,0.14608613790272429,-1.2000999999999999,8.7651682741634561E-3,7.0121346193307663E-2,3.0317853233982266E-2,3.0317853233989417E-2]
[null,0.55688351260355251,4.4287175317811299E-4,7.8230680040000652E-2,-0.15744285171382938,4.4874942008444494,2.9374729877193015,0.65459092675073149,1.049584844008818,216.09669888565318,0.13034645792336133,-33.436958262725042,-2.0168698067820581E-2,0.10463484489782518,1.2000999999999999,null,0.10463484489782518,{"$f":"R11","v":1.2},1.8847475643546687,0.14608613790272429,0.14608613790272429,-1.2000999999999999,8.7651682741634561E-3,7.0121346193307663E-2,3.0317853233989417E-2,3.0317853234006431E-2]
[null,0.55688351260355118,4.4287175317811299E-4,7.8230680040000652E-2,-0.15744285171382938,4.4874942008444609,2.9374729877192269,0.65459092675071318,1.0495848440088182,216.09669888565313,0.1303464579233613,-33.436958262724545,-2.0168698067820279E-2,0.10463484489781505,1.2000999999999997,null,0.10463484489781505,{"$f":"R11","v":1.2},1.8847475643546736,0.14608613790272429,0.14608613790272429,-1.2000999999999999,8.7651682741634561E-3,7.0121346193307663E-2,3.0317853234006431E-2,3.031785323400411E-2]
[null,0.55688351260353963,4.4287175317811299E-4,7.8230680040000652E-2,-0.15744285171382938,4.4874942008445675,2.937472987718559,0.65459092675054886,1.0495848440088213,216.09669888565256,0.13034645792336097,-33.436958262720218,-2.016869806781767E-2,0.10463484489772389,1.2000999999999999,null,0.10463484489772389,{"$f":"R11","v":1.2},1.8847475643547182,0.14608613790272429,0.14608613790272429,-1.2000999999999999,8.7651682741634561E-3,7.0121346193307663E-2,3.031785323400411E-2,3.0317853233984005E-2]
[null,0.55688351260354851,4.4287175317811299E-4,7.8230680040000652E-2,-0.15744285171382938,4.4874942008444858,2.9374729877190049,0.65459092675066011,1.0495848440088191,216.09669888565298,0.13034645792336122,-33.436958262723543,-2.0168698067819676E-2,0.10463484489778517,1.2001000000000002,null,0.10463484489778517,{"$f":"R11","v":1.2},1.884747564354684,0.14608613790272429,0.14608613790272429,-1.2000999999999999,8.7651682741634561E-3,7.0121346193307663E-2,3.0317853233984005E-2,3.0317853233999471E-2]
[null,0.55688351260355484,4.4287175317811299E-4,7.8230680040000652E-2,-0.15744285171382938,4.4874942008444281,2.937472987719524,0.65459092675078423,1.0495848440088174,216.09669888565327,0.13034645792336139,-33.436958262725916,-2.0168698067821109E-2,0.10463484489785503,1.2000999999999997,null,0.10463484489785503,{"$f":"R11","v":1.2},1.8847475643546596,0.14608613790272429,0.14608613790272429,-1.2000999999999999,8.7651682741634561E-3,7.0121346193307663E-2,3.0317853233999471E-2,3.031785323401049E-2]
[null,0.55688351260355518,4.4287175317811299E-4,7.8230680040000652E-2,-0.15744285171382938,4.4874942008444245,2.9374729877194494,0.65459092675076813,1.0495848440088171,216.0966988856533,0.13034645792336141,-33.436958262726044,-2.0168698067821185E-2,0.10463484489784544,1.2000999999999999,null,0.10463484489784544,{"$f":"R11","v":1.2},1.8847475643546583,0.14608613790272429,0.14608613790272429,-1.2000999999999999,8.7651682741634561E-3,7.0121346193307663E-2,3.031785323401049E-2,3.031785323401107E-2]
[null,0.55688351260353419,4.4287175317811299E-4,7.8230680040000652E-2,-0.15744285171382938,4.4874942008446173,2.9374729877181882,0.65459092675045893,1.0495848440088229,216.0966988856523,0.1303464579233608,-33.436958262718179,-2.0168698067816439E-2,0.10463484489767366,1.2001000000000002,null,0.10463484489767366,{"$f":"R11","v":1.2},1.8847475643547391,0.14608613790272429,0.14608613790272429,-1.2000999999999999,8.7651682741634561E-3,7.0121346193307663E-2,3.031785323401107E-2,3.0317853233974533E-2]
[null,0.55688351260353863,4.4287175317811299E-4,7.8230680040000652E-2,-0.15744285171382938,4.4874942008445764,2.9374729877184858,0.65459092675053121,1.0495848440088216,216.09669888565253,0.13034645792336094,-33.436958262719841,-2.0168698067817441E-2,0.10463484489771399,1.2000999999999999,null,0.10463484489771399,{"$f":"R11","v":1.2},1.884747564354722,0.14608613790272429,0.14608613790272429,-1.2000999999999999,8.7651682741634561E-3,7.0121346193307663E-2,3.0317853233974533E-2,3.0317853233982266E-2]
[null,0.55688351260354274,4.4287175317811299E-4,7.8230680040000652E-2,-0.15744285171382938,4.4874942008445391,2.9374729877187082,0.65459092675058628,1.0495848440088207,216.0966988856527,0.13034645792336105,-33.436958262721383,-2.0168698067818375E-2,0.10463484489774444,1.2001000000000002,null,0.10463484489774444,{"$f":"R11","v":1.2},1.8847475643547063,0.14608613790272429,0.14608613790272429,-1.2000999999999999,8.7651682741634561E-3,7.0121346193307663E-2,3.0317853233982266E-2,3.0317853233989417E-2]
[null,0.55688351260355251,4.4287175317811299E-4,7.8230680040000652E-2,-0.15744285171382938,4.4874942008444494,2.9374729877193015,0.65459092675073149,1.049584844008818,216.09669888565318,0.13034645792336133,-33.436958262725042,-2.0168698067820581E-2,0.10463484489782518,1.2000999999999999,null,0.10463484489782518,{"$f":"R11","v":1.2},1.8847475643546687,0.14608613790272429,0.14608613790272429,-1.2000999999999999,8.7651682741634561E-3,7.0121346193307663E-2,3.0317853233989417E-2,3.0317853234006431E-2]
[null,0.55688351260355118,4.4287175317811299E-4,7.8230680040000652E-2,-0.15744285171382938,4.4874942008444609,2.9374729877192269,0.65459092675071318,1.0495848440088182,216.09669888565313,0.1303464579233613,-33.436958262724545,-2.0168698067820279E-2,0.10463484489781505,1.2000999999999997,null,0.10463484489781505,{"$f":"R11","v":1.2},1.8847475643546736,0.14608613790272429,0.14608613790272429,-1.2000999999999999,8.7651682741634561E-3,7.0121346193307663E-2,3.0317853234006431E-2,3.031785323400411E-2]
[null,0.55688351260353963,4.4287175317811299E-4,7.8230680040000652E-2,-0.15744285171382938,4.4874942008445675,2.937472987718559,0.65459092675054886,1.0495848440088213,216.09669888565256,0.13034645792336097,-33.436958262720218,-2.016869806781767E-2,0.10463484489772389,1.2000999999999999,null,0.10463484489772389,{"$f":"R11","v":1.2},1.8847475643547182,0.14608613790272429,0.14608613790272429,-1.2000999999999999,8.7651682741634561E-3,7.0121346193307663E-2,3.031785323400411E-2,3.0317853233984005E-2]
[null,0.55688351260354851,4.4287175317811299E-4,7.8230680040000652E-2,-0.15744285171382938,4.4874942008444858,2.9374729877190049,0.65459092675066011,1.0495848440088191,216.09669888565298,0.13034645792336122,-33.436958262723543,-2.0168698067819676E-2,0.10463484489778517,1.2001000000000002,null,0.10463484489778517,{"$f":"R11","v":1.2},1.884747564354684,0.14608613790272429,0.14608613790272429,-1.2000999999999999,8.7651682741634561E-3,7.0121346193307663E-2,3.0317853233984005E-2,3.0317853233999471E-2]
[null,0.55688351260355484,4.4287175317811299E-4,7.8230680040000652E-2,-0.15744285171382938,4.4874942008444281,2.937472987719524,0.65459092675078423,1.0495848440088174,216.09669888565327,0.13034645792336139,-33.436958262725916,-2.0168698067821109E-2,0.10463484489785503,1.2000999999999997,null,0.10463484489785503,{"$f":"R11","v":1.2},1.8847475643546596,0.14608613790272429,0.14608613790272429,-1.2000999999999999,8.7651682741634561E-3,7.0121346193307663E-2,3.0317853233999471E-2,3.031785323401049E-2]
[null,0.55688351260355518,4.4287175317811299E-4,7.8230680040000652E-2,-0.15744285171382938,4.4874942008444245,2.9374729877194494,0.65459092675076813,1.0495848440088171,216.0966988856533,0.13034645792336141,-33.436958262726044,-2.0168698067821185E-2,0.10463484489784544,1.2000999999999999,null,0.10463484489784544,{"$f":"R11","v":1.2},1.8847475643546583,0.14608613790272429,0.14608613790272429,-1.2000999999999999,8.7651682741634561E-3,7.0121346193307663E-2,3.031785323401049E-2,3.031785323401107E-2]
[null,0.55688351260353419,4.4287175317811299E-4,7.8230680040000652E-2,-0.15744285171382938,4.4874942008446173,2.9374729877181882,0.65459092675045893,1.0495848440088229,216.0966988856523,0.1303464579233608,-33.436958262718179,-2.0168698067816439E-2,0.10463484489767366,1.2001000000000002,null,0.10463484489767366,{"$f":"R11","v":1.2},1.8847475643547391,0.14608613790272429,0.14608613790272429,-1.2000999999999999,8.7651682741634561E-3,7.0121346193307663E-2,3.031785323401107E-2,3.0317853233974533E-2]
[null,0.55688351260353863,4.4287175317811299E-4,7.8230680040000652E-2,-0.15744285171382938,4.4874942008445764,2.9374729877184858,0.65459092675053121,1.0495848440088216,216.09669888565253,0.13034645792336094,-33.436958262719841,-2.0168698067817441E-2,0.10463484489771399,1.2000999999999999,null,0.10463484489771399,{"$f":"R11","v":1.2},1.884747564354722,0.14608613790272429,0.14608613790272429,-1.2000999999999999,8.7651682741634561E-3,7.0121346193307663E-2,3.0317853233974533E-2,3.0317853233982266E-2]
[null,0.55688351260354274,4.4287175317811299E-4,{"$f":"IF($C$2=1,C76/($Z$6*$Z$5),2^(1/3)*$Z$5/C76)","v":7.8230680040000652E-2},-0.15744285171382938,{"$f":"IF($C$2=1,0.5*($Z$6*C76*$F$6/$Z$5)*(1-Y76^2+(D76-E76)*(E76^2*(1-Y76^2)+2*E76*(1-Y76)+2*LN((1-E76)/(1-E76*Y76)))/(E76^3)),$F$6*E76*(LN((1-D76+D76^2)/(1+D76)^2)/(6*D76)+ATAN((2-D76)/(D76*3^0.5))/(D76*3^0.5)-LN((Y76^2-D76*Y76+D76^2)/(Y76+D76)^2)/(6*D76)-ATAN((2*Y76-D76)/(D76*3^0.5))/(D76*3^0.5)))","v":4.4874942008445391},2.9374729877187082,{"$f":"G76/F76","v":0.65459092675058628},1.0495848440088207,216.0966988856527,{"$f":"J76*$H$6","v":0.13034645792336105},-33.436958262721383,{"$f":"L76*$L$6","v":-2.0168698067818375E-2},{"$f":"(0.5*$C$6-B76+H76*B76)*I76+(0.5*$C$6-$I$6)*K76+(0.5*$C$6-$M$6)*M76","v":0.10463484489774444},1.2001000000000002,null,{"$f":"N76-P76*O76","v":0.10463484489774444},{"$f":"R11","v":1.2},1.8847475643547063,0.14608613790272429,0.14608613790272429,-1.2000999999999999,8.7651682741634561E-3,7.0121346193307663E-2,3.0317853233982266E-2,3.0317853233989417E-2]
[null,{"$f":"MIN(0.5*(-(T77+U77+V77)+SQRT((T77+U77+V77)^2+4*S77*(W77+X77)))/S77,1000*$C$6)","v":0.55688351260355251},4.4287175317811299E-4,{"$f":"IF($C$2=1,C77/($Z$6*$Z$5),2^(1/3)*$Z$5/C77)","v":7.8230680040000652E-2},-0.15744285171382938,{"$f":"IF($C$2=1,0.5*($Z$6*C77*$F$6/$Z$5)*(1-Y77^2+(D77-E77)*(E77^2*(1-Y77^2)+2*E77*(1-Y77)+2*LN((1-E77)/(1-E77*Y77)))/(E77^3)),$F$6*E77*(LN((1-D77+D77^2)/(1+D77)^2)/(6*D77)+ATAN((2-D77)/(D77*3^0.5))/(D77*3^0.5)-LN((Y77^2-D77*Y77+D77^2)/(Y77+D77)^2)/(6*D77)-ATAN((2*Y77-D77)/(D77*3^0.5))/(D77*3^0.5)))","v":4.4874942008444494},2.9374729877193015,{"$f":"G77/F77","v":0.65459092675073149},1.049584844008818,216.09669888565318,{"$f":"J77*$H$6","v":0.13034645792336133},-33.436958262725042,{"$f":"L77*$L$6","v":-2.0168698067820581E-2},{"$f":"(0.5*$C$6-B77+H77*B77)*I77+(0.5*$C$6-$I$6)*K77+(0.5*$C$6-$M$6)*M77","v":0.10463484489782518},1.2000999999999999,null,{"$f":"N77-P77*O77","v":0.10463484489782518},{"$f":"R11","v":1.2},1.8847475643546687,{"$f":"IF(ABS(J76)<$K$6,$Q$6*C77*$H$6*$J$6,IF(J76>0,1,-1)*$H$6*$K$6)","v":0.14608613790272429},0.14608613790272429,-1.2000999999999999,{"$f":"IF(ABS(J76)<$K$6,$I$6*$Q$6*C77*$H$6*$J$6,0)","v":8.7651682741634561E-3},7.0121346193307663E-2,3.0317853233989417E-2,3.0317853234006431E-2]
[null,{"$f":"MIN(0.5*(-(T78+U78+V78)+SQRT((T78+U78+V78)^2+4*S78*(W78+X78)))/S78,1000*$C$6)","v":0.55688351260355118},4.4287175317811299E-4,{"$f":"IF($C$2=1,C78/($Z$6*$Z$5),2^(1/3)*$Z$5/C78)","v":7.8230680040000652E-2},-0.15744285171382938,{"$f":"IF($C$2=1,0.5*($Z$6*C78*$F$6/$Z$5)*(1-Y78^2+(D78-E78)*(E78^2*(1-Y78^2)+2*E78*(1-Y78)+2*LN((1-E78)/(1-E78*Y78)))/(E78^3)),$F$6*E78*(LN((1-D78+D78^2)/(1+D78)^2)/(6*D78)+ATAN((2-D78)/(D78*3^0.5))/(D78*3^0.5)-LN((Y78^2-D78*Y78+D78^2)/(Y78+D78)^2)/(6*D78)-ATAN((2*Y78-D78)/(D78*3^0.5))/(D78*3^0.5)))","v":4.4874942008444609},2.9374729877192269,{"$f":"G78/F78","v":0.65459092675071318},1.0495848440088182,216.09669888565313,{"$f":"J78*$H$6","v":0.1303464579233613},-33.436958262724545,{"$f":"L78*$L$6","v":-2.0168698067820279E-2},{"$f":"(0.5*$C$6-B78+H78*B78)*I78+(0.5*$C$6-$I$6)*K78+(0.5*$C$6-$M$6)*M78","v":0.10463484489781505},1.2000999999999997,null,{"$f":"N78-P78*O78","v":0.10463484489781505},{"$f":"R11","v":1.2},1.8847475643546736,{"$f":"IF(ABS(J77)<$K$6,$Q$6*C78*$H$6*$J$6,IF(J77>0,1,-1)*$H$6*$K$6)","v":0.14608613790272429},0.14608613790272429,-1.2000999999999999,{"$f":"IF(ABS(J77)<$K$6,$I$6*$Q$6*C78*$H$6*$J$6,0)","v":8.7651682741634561E-3},7.0121346193307663E-2,3.0317853234006431E-2,3.031785323400411E-2]
[null,null,{"$f":"IF(C6*J79/(J79-L79)<=0,B78,C6*J79/(J79-L79))","v":0.52327093617470521},null,null,null,null,null,null,{"$f":"$R78/($J9*N9)+($Q78-R8)/($M9*N9)","v":6.7273633827264314E-4},null,{"$f":"$R78/($J9*$N$9)-($Q78-R8)/($M9*N9)","v":-2.1507499007742824E-5},null,null,{"$f":"SIGN(J79-L79)","v":1},{"$f":"IF(Q11=0.0001,ABS(Q8)*($Q$6*C78/B78)/Q11,IF(B78>10*$C$6,(L79-J79)/$C$6,$Q$6*C78/B78))*IF(B78>10*C6,O79*P8,P8)","v":-2.1745207217015302E-3},null,null,null,null,null,null,null,null,null,null,{"$f":"(N78-R8)/($Q$6*C78/B78)","v":48.118577971489657}]
[null,{"$f":"IF(AND(B78<>1000*$C$6,C80<C6,B78<C6),B78,IF(AND(B78<>1000*$C$6,C80>C6,B78>C6),B78*C80/C79,IF(C6*J80/(J80-L80)<=0,B78,C6*J80/(J80-L80))))","v":0.52159933444592987},{"$f":"IF(C6*J80/(J80-L80)<=0,B78,C6*J80/(J80-L80))","v":0.52159933444592987},null,null,null,null,null,null,{"$f":"$R78/($J9*N9)+($Q80-R8)/($M9*N9)","v":6.7504258284428547E-4},null,{"$f":"$R78/($J9*N9)-($Q80-R8)/($M9*N9)","v":-2.381374357938521E-5},null,null,{"$f":"SIGN(J80-L80)","v":1},{"$f":"SIGN(INDEX(Snitkræfter!$G$286:$U$286,B9+1))","v":-1},{"$f":"MAX(ABS(INDEX(Snitkræfter!$G$286:$U$286,B9+1)),0.0000001)","v":0.10533002872255173}]
[null,{"$f":"MIN(0.5*(-(T81+U81+V81)+SQRT((T81+U81+V81)^2+4*S81*(W81+X81)))/S81,1000*$C$6)","v":0.55315951061470248},{"$f":"MIN(MAX(IF(Q8=0,0.001*Z5,IF(OR(AND(B78<>1000*$C$6,C80<C6,B78<C6),AND(B78<>1000*$C$6,C80>C6,B78>C6)),C78*J80/J79,IF(B80>C6,J80,C78*MIN(Q80/Q11,2)))),0.0001*$Z$5),0.9*K6/(J6*Q6))","v":4.4579547006346338E-4},{"$f":"IF($C$2=1,C81/($Z$6*$Z$5),2^(1/3)*$Z$5/C81)","v":7.8747137363241598E-2},{"$f":"IF($C$2=1,-($Z$6-2)*C81/$Z$5,3*($Z$5/C81)^2)","v":-0.15848224589675058},{"$f":"IF($C$2=1,0.5*($Z$6*C81*$F$6/$Z$5)*(1-Y81^2+(D81-E81)*(E81^2*(1-Y81^2)+2*E81*(1-Y81)+2*LN((1-E81)/(1-E81*Y81)))/(E81^3)),$F$6*E81*(LN((1-D81+D81^2)/(1+D81)^2)/(6*D81)+ATAN((2-D81)/(D81*3^0.5))/(D81*3^0.5)-LN((Y81^2-D81*Y81+D81^2)/(Y81+D81)^2)/(6*D81)-ATAN((2*Y81-D81)/(D81*3^0.5))/(D81*3^0.5)))","v":4.5175600555782376},{"$f":"IF($C$2=1,($Z$6*C81*$F$6/$Z$5)*(1-Y81^3-(D81-E81)*(-2*E81^3*(1-Y81^3)-3*E81^2*(1-Y81^2)-6*E81*(1-Y81)-6*LN((1-E81)/(1-E81*Y81)))/(2*E81^4))/3,$F$6*E81*(LN((1+D81^3)/(D81^3+Y81^3)))/3)","v":2.9537309388669826},{"$f":"G81/F81","v":0.65383324239812712},{"$f":"F81*B81*$D$6","v":1.049551149996798},{"$f":"MAX(MIN($K$6,$Q$6*$J$6*C81*(B81-$I$6)/B81),-$K$6)","v":217.34647709386309},{"$f":"J81*$H$6","v":0.13110030637856687},{"$f":"MIN($O$6,$Q$6*$N$6*C81*(C$6-B81-$M$6)/B81)","v":-32.24304014373925},{"$f":"L81*$L$6","v":-1.9448543624634627E-2},{"$f":"(0.5*$C$6-B81+H81*B81)*I81+(0.5*$C$6-$I$6)*K81+(0.5*$C$6-$M$6)*M81","v":0.10585192297778993},{"$f":"I81+K81-M81","v":1.2000999999999995},null,{"$f":"N81-P81*O81","v":0.10585192297778993},{"$f":"R78","v":1.2},{"$f":"F81*$D$6","v":1.8973752233428598},{"$f":"IF(ABS(J80)<$K$6,$Q$6*C81*$H$6*$J$6,IF(J80>0,1,-1)*$H$6*$K$6)","v":0.14705055820055721},{"$f":"IF(L78<$O$6,$Q$6*C81*$L$6*$N$6,-$L$6*$O$6)","v":0.14705055820055721},{"$f":"-(R81+0.0001)","v":-1.2000999999999999},{"$f":"IF(ABS(J80)<$K$6,$I$6*$Q$6*C81*$H$6*$J$6,0)","v":8.8230334920334323E-3},{"$f":"IF(L78<$O$6,($C$6-$M$6)*$Q$6*C81*$L$6*$N$6,0)","v":7.0584267936267472E-2},{"$f":"IF(B80<$C$406,0,IF(C78*J80/J79=C81,Y78,(B80-$C$6)/B80))","v":0},{"$f":"IF(B81<=$C$6,0,(B81-$C$6)/B81)","v":2.3789721341098954E-2}]
[null,{"$f":"MIN(0.5*(-(T82+U82+V82)+SQRT((T82+U82+V82)^2+4*S82*(W82+X82)))/S82,1000*$C$6)","v":0.56339751603678556},{"$f":"0.98*C81","v":4.3687956066219412E-4},7.7172194615976769E-2,{"$f":"IF($C$2=1,-($Z$6-2)*C82/$Z$5,3*($Z$5/C82)^2)","v":-0.15531260097881558},{"$f":"IF($C$2=1,0.5*($Z$6*C82*$F$6/$Z$5)*(1-Y82^2+(D82-E82)*(E82^2*(1-Y82^2)+2*E82*(1-Y82)+2*LN((1-E82)/(1-E82*Y82)))/(E82^3)),$F$6*E82*(LN((1-D82+D82^2)/(1+D82)^2)/(6*D82)+ATAN((2-D82)/(D82*3^0.5))/(D82*3^0.5)-LN((Y82^2-D82*Y82+D82^2)/(Y82+D82)^2)/(6*D82)-ATAN((2*Y82-D82)/(D82*3^0.5))/(D82*3^0.5)))","v":4.4373882666510225},{"$f":"IF($C$2=1,($Z$6*C82*$F$6/$Z$5)*(1-Y82^3-(D82-E82)*(-2*E82^3*(1-Y82^3)-3*E82^2*(1-Y82^2)-6*E82*(1-Y82)-6*LN((1-E82)/(1-E82*Y82)))/(2*E82^4))/3,$F$6*E82*(LN((1+D82^3)/(D82^3+Y82^3)))/3)","v":2.9042825860495345},{"$f":"G82/F82","v":0.65450269652455928},{"$f":"F82*B82*$D$6","v":1.0500056813912246},{"$f":"MAX(MIN($K$6,$Q$6*$J$6*C82*(B82-$I$6)/B82),-$K$6)","v":213.47046300902613},0.1287623497627331,{"$f":"MIN($O$6,$Q$6*$N$6*C82*(C$6-B82-$M$6)/B82)","v":-35.365502997186709},-2.133196884604216E-2,{"$f":"(0.5*$C$6-B82+H82*B82)*I82+(0.5*$C$6-$I$6)*K82+(0.5*$C$6-$M$6)*M82","v":0.10167586936789412},{"$f":"I82+K82-M82","v":1.2000999999999999},null,{"$f":"N82-P82*O82","v":0.10167586936789412},{"$f":"R81","v":1.2},1.8637030719934293,0.14410954703654605,{"$f":"IF(L81<$O$6,$Q$6*C82*$L$6*$N$6,-$L$6*$O$6)","v":0.14410954703654605},{"$f":"-(R82+0.0001)","v":-1.2000999999999999},8.6465728221927635E-3,{"$f":"IF(L81<$O$6,($C$6-$M$6)*$Q$6*C82*$L$6*$N$6,0)","v":6.9172582577542122E-2},{"$f":"IF(B81<$C$6,0,IF(MIN(ABS($Q$80-Q81),ABS(Q81-Q80))<=0.001*Q$80,Y81,(B81-$C$6)/B81))","v":2.3789721341098954E-2},4.1529320543290872E-2]
[null,0.56909534150428764,{"$f":"IF(Z82>0,0.99*C82,0.98*C82)","v":4.3251076505557216E-4},7.6400472669817004E-2,-0.15375947496902739,4.3935124560689758,2.879751005997369,{"$f":"G83/F83","v":0.65545529568703664},1.0501375380677644,211.58795384828193,0.12762684698838886,-37.029411721983628,-2.2335614943846824E-2,9.9738600237567893E-2,{"$f":"I83+K83-M83","v":1.2000999999999999},null,{"$f":"N83-P83*O83","v":9.9738600237567893E-2},{"$f":"R82","v":1.2},1.8452752315489698,0.1426684515661806,0.1426684515661806,{"$f":"-(R83+0.0001)","v":-1.2000999999999999},8.5601070939708354E-3,6.8480856751766697E-2,{"$f":"IF(B82<$C$6,0,IF(MIN(ABS($Q$80-Q82),ABS(Q82-Q81))<=0.001*Q$80,Y82,(B82-$C$6)/B82))","v":4.1529320543290872E-2},5.1125601252296315E-2]
[null,0.55537098412371833,{"$f":"IF(MIN(ABS($Q$80-Q83),10*ABS(Q83-Q82))<=0.001*Q$80,C83,MAX(0.9*C83,MIN($W$6,1.05*C83,IF(C83=$W$6,0.5*(C83+C82),C83+IF(C83=C82,0,(C83-C82)*(Q83-Q$80)/(Q82-Q83))))))","v":4.4512016858012259E-4},7.862784934386656E-2,-0.15824217325598997,4.4981020378016359,2.9495375950769471,0.65572936547221572,1.0492084492775748,217.1223727801214,0.13096512984115466,-33.035295639414159,-1.9926420881270484E-2,0.10599793588137367,1.2000999999999999,null,0.10599793588137367,1.2,1.8892028558766869,0.14682780254970954,0.14682780254970954,-1.2000999999999999,8.8096681529825725E-3,7.047734522386058E-2,5.1125601252296315E-2,2.767696650189802E-2]
[null,0.55580198281651294,{"$f":"IF(MIN(ABS($Q$80-Q84),10*ABS(Q84-Q83))<=0.001*Q$80,C84,MAX(0.9*C84,MIN($W$6,1.05*C84,IF(C84=$W$6,0.5*(C84+C83),C84+IF(C84=C83,0,(C84-C83)*(Q84-Q$80)/(Q83-Q84))))))","v":4.4377467261029772E-4},7.8390175425954375E-2,-0.1577638435342624,4.4960950462471763,2.9424909801224159,0.65445479907691662,1.0495541874869865,216.48639310422317,0.13058151593824888,-33.09808838777527,-1.9964296574764881E-2,0.10503742386268079,1.2001000000000002,null,0.10503742386268079,1.2,1.8883599194238139,0.14638397584731802,0.14638397584731802,-1.2000999999999999,8.7830385508390809E-3,7.0264308406712661E-2,2.767696650189802E-2,2.843095797614241E-2]
[null,0.55537590180832241,4.4418455676796114E-4,7.8462579042038544E-2,-0.1579095591510109,4.4994165126971382,2.9447510762068436,0.65447398965996972,1.0495243514071808,216.6662289402804,0.1306899903589995,-32.96771671404646,-1.9885658233819735E-2,0.10524009950806409,1.2001000000000002,null,0.10524009950806409,1.2,1.889754935332798,0.14651918066259662,0.14651918066259662,-1.2000999999999999,8.7911508397557972E-3,7.0329206718046391E-2,2.843095797614241E-2,2.7685576126472055E-2]
[null,0.55537590180832241,4.4418455676796114E-4,7.8462579042038544E-2,-0.1579095591510109,4.4994165126971382,2.9447510762068436,0.65447398965996972,1.0495243514071808,216.6662289402804,0.1306899903589995,-32.96771671404646,-1.9885658233819735E-2,0.10524009950806409,1.2001000000000002,null,0.10524009950806409,1.2,1.889754935332798,0.14651918066259662,0.14651918066259662,-1.2000999999999999,8.7911508397557972E-3,7.0329206718046391E-2,2.843095797614241E-2,2.7685576126472055E-2]
[null,0.55537590180832241,4.4418455676796114E-4,7.8462579042038544E-2,-0.1579095591510109,4.4994165126971382,2.9447510762068436,0.65447398965996972,1.0495243514071808,216.6662289402804,0.1306899903589995,-32.96771671404646,-1.9885658233819735E-2,0.10524009950806409,1.2001000000000002,null,0.10524009950806409,1.2,1.889754935332798,0.14651918066259662,0.14651918066259662,-1.2000999999999999,8.7911508397557972E-3,7.0329206718046391E-2,2.843095797614241E-2,2.7685576126472055E-2]
[null,0.55537590180832241,4.4418455676796114E-4,7.8462579042038544E-2,-0.1579095591510109,4.4994165126971382,2.9447510762068436,0.65447398965996972,1.0495243514071808,216.6662289402804,0.1306899903589995,-32.96771671404646,-1.9885658233819735E-2,0.10524009950806409,1.2001000000000002,null,0.10524009950806409,1.2,1.889754935332798,0.14651918066259662,0.14651918066259662,-1.2000999999999999,8.7911508397557972E-3,7.0329206718046391E-2,2.843095797614241E-2,2.7685576126472055E-2]
[null,0.55537590180832241,4.4418455676796114E-4,7.8462579042038544E-2,-0.1579095591510109,4.4994165126971382,2.9447510762068436,0.65447398965996972,1.0495243514071808,216.6662289402804,0.1306899903589995,-32.96771671404646,-1.9885658233819735E-2,0.10524009950806409,1.2001000000000002,null,0.10524009950806409,1.2,1.889754935332798,0.14651918066259662,0.14651918066259662,-1.2000999999999999,8.7911508397557972E-3,7.0329206718046391E-2,2.843095797614241E-2,2.7685576126472055E-2]
[null,0.55537590180832241,4.4418455676796114E-4,7.8462579042038544E-2,-0.1579095591510109,4.4994165126971382,2.9447510762068436,0.65447398965996972,1.0495243514071808,216.6662289402804,0.1306899903589995,-32.96771671404646,-1.9885658233819735E-2,0.10524009950806409,1.2001000000000002,null,0.10524009950806409,1.2,1.889754935332798,0.14651918066259662,0.14651918066259662,-1.2000999999999999,8.7911508397557972E-3,7.0329206718046391E-2,2.843095797614241E-2,2.7685576126472055E-2]
[null,0.55537590180832241,4.4418455676796114E-4,7.8462579042038544E-2,-0.1579095591510109,4.4994165126971382,2.9447510762068436,0.65447398965996972,1.0495243514071808,216.6662289402804,0.1306899903589995,-32.96771671404646,-1.9885658233819735E-2,0.10524009950806409,1.2001000000000002,null,0.10524009950806409,1.2,1.889754935332798,0.14651918066259662,0.14651918066259662,-1.2000999999999999,8.7911508397557972E-3,7.0329206718046391E-2,2.843095797614241E-2,2.7685576126472055E-2]
[null,0.55537590180832241,4.4418455676796114E-4,7.8462579042038544E-2,-0.1579095591510109,4.4994165126971382,2.9447510762068436,0.65447398965996972,1.0495243514071808,216.6662289402804,0.1306899903589995,-32.96771671404646,-1.9885658233819735E-2,0.10524009950806409,1.2001000000000002,null,0.10524009950806409,1.2,1.889754935332798,0.14651918066259662,0.14651918066259662,-1.2000999999999999,8.7911508397557972E-3,7.0329206718046391E-2,2.843095797614241E-2,2.7685576126472055E-2]
[null,0.55537590180832241,4.4418455676796114E-4,7.8462579042038544E-2,-0.1579095591510109,4.4994165126971382,2.9447510762068436,0.65447398965996972,1.0495243514071808,216.6662289402804,0.1306899903589995,-32.96771671404646,-1.9885658233819735E-2,0.10524009950806409,1.2001000000000002,null,0.10524009950806409,1.2,1.889754935332798,0.14651918066259662,0.14651918066259662,-1.2000999999999999,8.7911508397557972E-3,7.0329206718046391E-2,2.843095797614241E-2,2.7685576126472055E-2]
[null,0.55537590180832241,4.4418455676796114E-4,7.8462579042038544E-2,-0.1579095591510109,4.4994165126971382,2.9447510762068436,0.65447398965996972,1.0495243514071808,216.6662289402804,0.1306899903589995,-32.96771671404646,-1.9885658233819735E-2,0.10524009950806409,1.2001000000000002,null,0.10524009950806409,1.2,1.889754935332798,0.14651918066259662,0.14651918066259662,-1.2000999999999999,8.7911508397557972E-3,7.0329206718046391E-2,2.843095797614241E-2,2.7685576126472055E-2]
[null,0.55537590180832241,4.4418455676796114E-4,7.8462579042038544E-2,-0.1579095591510109,4.4994165126971382,2.9447510762068436,0.65447398965996972,1.0495243514071808,216.6662289402804,0.1306899903589995,-32.96771671404646,-1.9885658233819735E-2,0.10524009950806409,1.2001000000000002,null,0.10524009950806409,1.2,1.889754935332798,0.14651918066259662,0.14651918066259662,-1.2000999999999999,8.7911508397557972E-3,7.0329206718046391E-2,2.843095797614241E-2,2.7685576126472055E-2]
[null,0.55537590180832241,4.4418455676796114E-4,7.8462579042038544E-2,-0.1579095591510109,4.4994165126971382,2.9447510762068436,0.65447398965996972,1.0495243514071808,216.6662289402804,0.1306899903589995,-32.96771671404646,-1.9885658233819735E-2,0.10524009950806409,1.2001000000000002,null,0.10524009950806409,1.2,1.889754935332798,0.14651918066259662,0.14651918066259662,-1.2000999999999999,8.7911508397557972E-3,7.0329206718046391E-2,2.843095797614241E-2,2.7685576126472055E-2]
[null,0.55537590180832241,4.4418455676796114E-4,7.8462579042038544E-2,-0.1579095591510109,4.4994165126971382,2.9447510762068436,0.65447398965996972,1.0495243514071808,216.6662289402804,0.1306899903589995,-32.96771671404646,-1.9885658233819735E-2,0.10524009950806409,1.2001000000000002,null,{"$f":"IF(B98>10*B6,Q80,IF(Q80<0.000001,0,N98-P98*O98))","v":0.10524009950806409},1.2,1.889754935332798,0.14651918066259662,0.14651918066259662,-1.2000999999999999,8.7911508397557972E-3,7.0329206718046391E-2,2.843095797614241E-2,2.7685576126472055E-2]
[null,null,null,null,null,null,null,null,null,{"$f":"MAX(J78,J98)/K6","v":0.47272631768788448},null,{"$f":"MAX(L78,L98)/O6","v":-7.1929563739737731E-2},-4.3386890691970334E-5,null,null,{"$f":"IF(Q80=0.0001,ABS(INDEX(Snitkræfter!$G$286:$U$286,B9+1))*($Q$6*C98/B98)/Q80,IF(B98>10*$C$6,(J80-L80)/$C$6,$Q$6*C98/B98))*IF(AND(B98>10*$C$6,O80=O79),P8,P8)","v":-2.1868870503123083E-3},null,null,null,null,null,null,null,null,null,null,{"$f":"(Q78-Q98)/(P79-P99)","v":-48.943759243266747}]
[]
[]
[null,"Tilstand:",{"$f":"C2","v":1}]
[]
[null,"L","h","b","fck","fcd","Ecd","Ac","ac","Esc","fyd_c","At","at","Est","fyd_t","Modenhed","1+f","uterm","g","EI","sc/fcd","sc","e","   emax",null,{"$f":"Stivheder!$AD$4","v":3.5000000000000001E-3}]
[null,"(m)","(m)","(m)","(Mpa)","(Mpa)","(Mpa)","(m2)","(m)","(Mpa)","(Mpa)","(m2)","(m)","(Mpa)","(Mpa)","(døgn)",null,"(m)",null,"(Mnm2)",null,"(MPa)",null,"e1",null,{"$f":"Stivheder!$AD$5","v":2.0693662482105194E-3}]
[null,{"$f":"Stivheder!$B$6","v":0.54},{"$f":"Stivheder!$C$6","v":0.54},{"$f":"Stivheder!$D$6","v":0.42},{"$f":"Stivheder!$E$6","v":25},{"$f":"Stivheder!$F$6","v":17.857142857142858},{"$f":"IF(C102=1,1000*22*((E106+8)/10)^0.3/S106,1.4*F106/Z105)","v":22482.71872144239},{"$f":"IF(P108<0,Stivheder!$X$6,Stivheder!$T$6)","v":6.0318578948924026E-4},{"$f":"IF(P108<0,Stivheder!$Y$6,Stivheder!$U$6)","v":0.06},{"$f":"IF(P108<0,Stivheder!$Z$6,Stivheder!$V$6)","v":200000},{"$f":"IF(P108<0,Stivheder!$AA$6,Stivheder!$W$6)","v":458.33333333333337},{"$f":"IF(P108<0,Stivheder!$T$6,Stivheder!$X$6)","v":6.0318578948924026E-4},{"$f":"IF(P108<0,Stivheder!$U$6,Stivheder!$Y$6)","v":0.06},{"$f":"IF(P108<0,Stivheder!$V$6,Stivheder!$Z$6)","v":200000},{"$f":"IF(P108<0,Stivheder!$W$6,Stivheder!$AA$6)","v":458.33333333333337},{"$f":"Stivheder!$P$6","v":28},{"$f":"Stivheder!$Q$6","v":2.7343237157040781},{"$f":"Stivheder!$R$6","v":0},{"$f":"Stivheder!$S$6","v":1.4},{"$f":"AA179","v":48.189846216611784},{"$f":"U6","v":0.99999990000000005},{"$f":"U106*F106","v":17.857141071428572},{"$f":"Z104","v":3.5000000000000001E-3},"k",null,{"$f":"Stivheder!$AD$6","v":2.7356687822616226}]
[]
[null,"punkt","elasttisk","e_o","sc_o/fcd","sc_u/fcd","sc_o","sc_u","hc","At","Ac","Ic","Wt","E",null,{"$f":"SIGN(Q108)","v":-1},{"$f":"INDEX(Snitkræfter!$G$199:$U$199,B109+1)","v":-5.8334210778038423E-2},{"$f":"INDEX(Snitkræfter!$G$59:$U$59,B109+1)*P108","v":0}]
[null,{"$f":"(ROW()-9)/100","v":1},"skøn",{"$f":"IF(C102=1,Z105*0.5*(-((Z106-2)*E109-Z106)-(((Z106-2)*E109-Z106)^2-4*E109)^0.5),G109/(1.4*F106/Z105))","v":3.8618332271486114E-4},{"$f":"MIN(0.9999,G109/F106)","v":0.41827632131022907},{"$f":"H109/F106","v":0.10642951755618929},{"$f":"IF(H109>0,R111/J109+MAX(Q111+Stivheder!$O$2*R111+R111*R106,D106*C106^2*0.003*E106)/M109,MIN(0.8*F106,2*(R111+Q111/(C106-M106-0.333*I109))/(((R111+L106*O106)/(F106*D106*0.5))*D106)))","v":7.4692200233969483},{"$f":"R111/J109-(Q111+Stivheder!$O$2*R111+R111*R106)/M109","v":1.9005270992176659},{"$f":"IF(H109>0,C106*G109/(G109-H109),(R111+L106*O106)/(F106*D106*0.5))","v":0.72429542579397921},{"$f":"K109+Q106*(H106+L106)*N106/G106","v":0.25614351898648502},{"$f":"C106*D106","v":0.2268},{"$f":"D106*C106^3/12","v":5.5112400000000006E-3},{"$f":"(L109+((0.5*C106-I106)^2*H106+(0.5*C106-M106)^2*L106)*Q106)/(0.5*C106)","v":2.0950773034997532E-2},{"$f":"G109/D109","v":19341.125274101632}]
[null,"hc","e0","a'","b'","N'","tN'","t'","Nc","sac","Nac","sat","Nat","Mtot","N",null,"Mo","N","A","B1","B2","B3","C1","C2","gættet x","beregnet x","EIt"]
[null,{"$f":"I109","v":0.72429542579397921},null,null,null,null,null,null,null,null,null,null,null,null,null,null,{"$f":"MAX(ABS(Q108),0.0000001)","v":5.8334210778038423E-2},{"$f":"INDEX(Snitkræfter!$G$52:$U$52,B109+1)","v":1.2}]
[null,{"$f":"MIN(0.5*(-(T112+U112+V112)+SQRT((T112+U112+V112)^2+4*S112*(W112+X112)))/S112,1000*$C$6)","v":0.67289282808533191},{"$f":"D109","v":3.8618332271486114E-4},{"$f":"IF($C$2=1,C112/($Z$106*$Z$5),2^(1/3)*$Z$5/C112)","v":6.8217003544004048E-2},{"$f":"IF($C$2=1,-($Z$106-2)*C112/$Z$5,3*($Z$5/C112)^2)","v":-0.13728986591767728},{"$f":"IF($C$2=1,0.5*($Z$106*C112*$F$106/$Z$5)*(1-Y112^2+(D112-E112)*(E112^2*(1-Y112^2)+2*E112*(1-Y112)+2*LN((1-E112)/(1-E112*Y112)))/(E112^3)),$F$106*E112*(LN((1-D112+D112^2)/(1+D112)^2)/(6*D112)+ATAN((2-D112)/(D112*3^0.5))/(D112*3^0.5)-LN((Y112^2-D112*Y112+D112^2)/(Y112+D112)^2)/(6*D112)-ATAN((2*Y112-D112)/(D112*3^0.5))/(D112*3^0.5)))","v":3.7066503056880871},{"$f":"IF($C$2=1,($Z$106*C112*$F$106/$Z$5)*(1-Y112^3-(D112-E112)*(-2*E112^3*(1-Y112^3)-3*E112^2*(1-Y112^2)-6*E112*(1-Y112)-6*LN((1-E112)/(1-E112*Y112)))/(2*E112^4))/3,$F$106*E112*(LN((1+D112^3)/(D112^3+Y112^3)))/3)","v":2.5685023462138581},{"$f":"G112/F112","v":0.69294433906331288},{"$f":"F112*B112*$D$106","v":1.047554930905483},{"$f":"MAX(MIN($K$106,$Q$106*$J$106*C112*(B112-$I$106)/B112),-$K$106)","v":192.35880911760316},{"$f":"J112*$H$106","v":0.11602810014281154},{"$f":"MIN($O$106,$Q$106*$N$106*C112*(C$106-B112-$M$106)/B112)","v":-60.540167868720744},{"$f":"L112*$L$106","v":-3.6516968951705461E-2},{"$f":"(0.5*$C$106-B112+H112*B112)*I112+(0.5*$C$106-$I$106)*K112+(0.5*$C$106-$M$106)*M112","v":8.3096028524755977E-2},{"$f":"I112+K112-M112","v":1.2001000000000002},null,{"$f":"N112-P112*O112","v":8.3096028524755977E-2},{"$f":"R111","v":1.2},{"$f":"F112*$D$106","v":1.5567931283889964},{"$f":"IF(ABS(J111)<$K$106,$Q$106*C112*$H$106*$J$106,IF(J111>0,1,-1)*$H$106*$K$106)","v":0.1273868331701124},{"$f":"IF(L111<$O$106,$Q$106*C112*$L$106*$N$106,-$L$106*$O$106)","v":0.1273868331701124},{"$f":"-(R112+0.0001)","v":-1.2000999999999999},{"$f":"IF(ABS(J111)<$K$106,$I$106*$Q$106*C112*$H$106*$J$106,0)","v":7.6432099902067454E-3},{"$f":"IF(L111<$O$106,($C$106-$M$106)*$Q$106*C112*$L$106*$N$106,0)","v":6.114567992165397E-2},{"$f":"IF(B111<$C$106,0,(B111-$C$106)/B111)","v":0.25444786647927931},{"$f":"IF(B112<=$C$106,0,(B112-$C$106)/B112)","v":0.19749479046086557}]
[null,{"$f":"MIN(0.5*(-(T113+U113+V113)+SQRT((T113+U113+V113)^2+4*S113*(W113+X113)))/S113,1000*$C$6)","v":0.68665561373695339},{"$f":"0.95*C112","v":3.6687415657911805E-4},{"$f":"IF($C$2=1,C113/($Z$106*$Z$5),2^(1/3)*$Z$5/C113)","v":6.4806153366803843E-2},{"$f":"IF($C$2=1,-($Z$106-2)*C113/$Z$5,3*($Z$5/C113)^2)","v":-0.13042537262179341},{"$f":"IF($C$2=1,0.5*($Z$106*C113*$F$106/$Z$5)*(1-Y113^2+(D113-E113)*(E113^2*(1-Y113^2)+2*E113*(1-Y113)+2*LN((1-E113)/(1-E113*Y113)))/(E113^3)),$F$106*E113*(LN((1-D113+D113^2)/(1+D113)^2)/(6*D113)+ATAN((2-D113)/(D113*3^0.5))/(D113*3^0.5)-LN((Y113^2-D113*Y113+D113^2)/(Y113+D113)^2)/(6*D113)-ATAN((2*Y113-D113)/(D113*3^0.5))/(D113*3^0.5)))","v":3.6520547775213514},{"$f":"IF($C$2=1,($Z$106*C113*$F$106/$Z$5)*(1-Y113^3-(D113-E113)*(-2*E113^3*(1-Y113^3)-3*E113^2*(1-Y113^2)-6*E113*(1-Y113)-6*LN((1-E113)/(1-E113*Y113)))/(2*E113^4))/3,$F$106*E113*(LN((1+D113^3)/(D113^3+Y113^3)))/3)","v":2.482387476381096},{"$f":"G113/F113","v":0.67972350569886353},{"$f":"F113*B113*$D$106","v":1.0532356441571564},{"$f":"MAX(MIN($K$106,$Q$106*$J$106*C113*(B113-$I$106)/B113),-$K$106)","v":183.09943520714307},{"$f":"J113*$H$106","v":0.1104429773804546},{"$f":"MIN($O$106,$Q$106*$N$106*C113*(C$106-B113-$M$106)/B113)","v":-60.381691838644997},{"$f":"L113*$L$106","v":-3.6421378462389097E-2},{"$f":"(0.5*$C$106-B113+H113*B113)*I113+(0.5*$C$106-$I$106)*K113+(0.5*$C$106-$M$106)*M113","v":6.8290942557869647E-2},{"$f":"I113+K113-M113","v":1.2000999999999999},null,{"$f":"N113-P113*O113","v":6.8290942557869647E-2},{"$f":"R112","v":1.2},{"$f":"F113*$D$106","v":1.5338630065589676},{"$f":"IF(ABS(J112)<$K$106,$Q$106*C113*$H$106*$J$106,IF(J112>0,1,-1)*$H$106*$K$106)","v":0.12101749151160679},0.12101749151160679,{"$f":"-(R113+0.0001)","v":-1.2000999999999999},{"$f":"IF(ABS(J112)<$K$106,$I$106*$Q$106*C113*$H$106*$J$106,0)","v":7.2610494906964066E-3},5.8088395925571266E-2,{"$f":"IF(B112<$C$106,0,(B112-$C$106)/B112)","v":0.19749479046086557},{"$f":"IF(B113<=$C$106,0,(B113-$C$106)/B113)","v":0.2135795743936563}]
[null,0.7150675077718639,{"$f":"IF(ABS($Q$111-Q113)<=0.001*$Q$111,C113,MAX(0.9*C113,MIN($W$6,1.05*C113,IF(C113=$W$6,0.5*(C113+C112),C113+IF(C113=C112,0,(C113-C112)*(Q113-Q$111)/(Q112-Q113))))))","v":3.5388833612959129E-4},6.251228486570018E-2,-0.12580885646616721,3.5121107860006266,2.4009221964366723,0.68361231826934854,1.0547864488409431,177.29038689671702,0.10693904198914912,-63.61971690745915,-3.8374509169907714E-2,6.0557535210476965E-2,1.2000999999999999,null,6.0557535210476965E-2,1.2,1.4750865301202631,0.11673397524904074,0.11673397524904074,-1.2000999999999999,7.0040385149424435E-3,5.6032308119539562E-2,0.2135795743936563,0.24482654556262909]
[null,0.73327454687615923,{"$f":"IF(ABS($Q$111-Q114)<=0.001*$Q$111,C114,MAX(0.9*C114,MIN($W$6,1.05*C114,IF(C114=$W$6,0.5*(C114+C113),C114+IF(C114=C113,0,(C114-C113)*(Q114-Q$111)/(Q113-Q114))))))","v":3.5015496342804506E-4},6.185280662354805E-2,-0.12448162608756683,3.4228512815571261,2.365957197386606,0.6912240710353863,1.0541536834534788,175.81899685515896,0.1060515204252853,-66.14014589935492,-3.9894796121235934E-2,5.9835534023170649E-2,1.2000999999999999,null,5.9835534023170649E-2,1.2,1.4375975382539929,0.11550248104014953,0.11550248104014953,-1.2000999999999999,6.9301488624089712E-3,5.5441190899271776E-2,0.24482654556262909,0.26357732952757301]
[null,0.75661797914268514,3.4239181938047791E-4,6.0481493068932128E-2,-0.12172179431156588,3.3193555705998343,2.3110417766119626,0.69623206295863593,1.0548233236309696,172.39367454786486,0.10398541468510501,-68.455295869767625,-4.1291261683925315E-2,5.5531397952028924E-2,1.2000999999999999,null,5.5531397952028924E-2,1.2,1.3941293396519303,0.1129417222567021,0.1129417222567021,-1.2000999999999999,6.7765033354021259E-3,5.4212026683217014E-2,0.26357732952757301,0.28629768934136668]
[null,0.7564073362445789,3.4744710558589492E-4,6.1374479525640187E-2,-0.12351897074175996,3.3135999375155776,2.3272082965936187,0.70232023795198373,1.0527011468888716,174.93480620874124,0.10551818919216684,-69.43244461117807,-4.1880663918961392E-2,6.0559466746935527E-2,1.2000999999999999,null,6.0559466746935527E-2,1.2,1.3917119737565424,0.11460926423119619,0.11460926423119619,-1.2000999999999999,6.8765558538717714E-3,5.5012446830974178E-2,0.28629768934136668,0.28609893885879117]
[null,0.76093386775249561,3.4520980409660687E-4,6.0979273428828862E-2,-0.12272360024434319,3.2953452016516516,2.3143455061524478,0.70230745628484703,1.0531667033464158,173.89743527358547,0.10489246178565172,-69.697986259808147,-4.20408348679326E-2,5.8985960550115513E-2,1.2001000000000002,null,5.8985960550115513E-2,1.2,1.3840449846936935,0.11387126563104014,0.11387126563104014,-1.2000999999999999,6.832275937862408E-3,5.4658207502899271E-2,0.28609893885879117,0.29034568852224801]
[null,0.76490746813416499,3.4428310883562977E-4,6.0815578183115303E-2,-0.12239415601243878,3.2781508557988941,2.3062372724024764,0.70351773723983801,1.053142469933811,173.50773937814955,0.10465740275930248,-70.12785785736979,-4.2300127306886821E-2,5.861026888912E-2,1.2001000000000004,null,5.861026888912E-2,1.2,1.3768233594355355,0.11356558496679045,0.11356558496679045,-1.2000999999999999,6.813935098007427E-3,5.4511480784059436E-2,0.29034568852224801,0.2940322555390662]
[null,0.7681469330046965,3.4360217345735783E-4,6.0695294969468835E-2,-0.12215208049730684,3.2641810695989482,2.2998599981350902,0.70457488389811085,1.0530956845014572,173.22672904797642,0.10448790132144237,-70.486432071123474,-4.2516414177100316E-2,5.8370952041525551E-2,1.2000999999999999,null,5.8370952041525551E-2,1.2,1.3709560492315582,0.11334097091349123,0.11334097091349123,-1.2000999999999999,6.8004582548094727E-3,5.4403666038475795E-2,0.2940322555390662,0.29700949545196137]
[null,0.76962988002005983,3.4360217345735783E-4,6.0695294969468835E-2,-0.12215208049730684,3.2574165919428189,2.2978609377670014,0.70542433640533819,1.0529421591495676,173.25500950936896,0.10450495969387455,-70.712675762264084,-4.2652881156557923E-2,5.8566345848704029E-2,1.2000999999999999,null,5.8566345848704029E-2,1.2,1.3681149686159839,0.11334097091349123,0.11334097091349123,-1.2000999999999999,6.8004582548094727E-3,5.4403666038475795E-2,0.29700949545196137,0.29836403962652108]
[null,0.77031130066449671,3.4360217345735783E-4,6.0695294969468835E-2,-0.12215208049730684,3.2543176310180981,2.2969384165995721,0.70581260867304629,1.0528718117924811,173.26796799271827,0.10451277606688418,-70.816343629058395,-4.2715412140634915E-2,5.8655371819990497E-2,1.2001000000000004,null,5.8655371819990497E-2,1.2,1.3668134050276011,0.11334097091349123,0.11334097091349123,-1.2000999999999999,6.8004582548094727E-3,5.4403666038475795E-2,0.29836403962652108,0.29898470977359715]
[null,0.77062495038136536,3.4360217345735783E-4,6.0695294969468835E-2,-0.12215208049730684,3.2528931876619711,2.2965129717257935,0.70599089463998677,1.0528394735619129,173.27392492471566,0.10451636920361396,-70.86399908503752,-4.2744157234473154E-2,5.8696190873160761E-2,1.2000999999999999,null,5.8696190873160761E-2,1.2,1.3662151388180279,0.11334097091349123,0.11334097091349123,-1.2000999999999999,6.8004582548094727E-3,5.4403666038475795E-2,0.29898470977359715,0.29927002787443374]
[null,0.77076943198142811,3.4360217345735783E-4,6.0695294969468835E-2,-0.12215208049730684,3.2522374403799041,2.2963168197531334,0.70607293035925855,1.0528245859279479,173.27666733274398,0.10451802338516562,-70.88593834926391,-4.2757390686886367E-2,5.8714960587256781E-2,1.2000999999999999,null,5.8714960587256781E-2,1.2,1.3659397249595597,0.11334097091349123,0.11334097091349123,-1.2000999999999999,6.8004582548094727E-3,5.4403666038475795E-2,0.29927002787443374,0.29940138049868659]
[null,0.7708360106887282,3.4360217345735783E-4,6.0695294969468835E-2,-0.12215208049730684,3.2519353533739523,2.2962263943242407,0.7061107140219921,1.0528177274212152,173.27793071844852,0.10451878544146924,-70.896045434900358,-4.2763487137315419E-2,5.8723602797489838E-2,1.2000999999999999,null,5.8723602797489838E-2,1.2,1.36581284841706,0.11334097091349123,0.11334097091349123,-1.2000999999999999,6.8004582548094727E-3,5.4403666038475795E-2,0.29940138049868659,0.29946189265662398]
[null,0.77086669593172275,3.4360217345735783E-4,6.0695294969468835E-2,-0.12215208049730684,3.2517961442791767,2.2961847107177284,0.70612812391618174,1.0528145668252817,173.27851292269153,0.10451913661879521,-70.900703068844436,-4.2766296555923129E-2,5.8727584375891061E-2,1.2001000000000002,null,5.8727584375891061E-2,1.2,1.3657543805972541,0.11334097091349123,0.11334097091349123,-1.2000999999999999,6.8004582548094727E-3,5.4403666038475795E-2,0.29946189265662398,0.29948977838857244]
[null,0.77088083942387375,3.4360217345735783E-4,6.0695294969468835E-2,-0.12215208049730684,3.2517319837895915,2.2961654962012079,0.70613614764315247,1.052813110122975,173.27878125761364,0.10451929847460706,-70.902849748221442,-4.2767591402417933E-2,5.8729419252445916E-2,1.2000999999999999,null,5.8729419252445916E-2,1.2,1.3657274331916285,0.11334097091349123,0.11334097091349123,-1.2000999999999999,6.8004582548094727E-3,5.4403666038475795E-2,0.29948977838857244,0.29950263077809153]
[null,0.77088735869272107,3.4360217345735783E-4,6.0695294969468835E-2,-0.12215208049730684,3.2517024106488983,2.2961566391579429,0.70613984589682366,1.0528124386919508,173.27890493998223,0.1045193730780542,-70.903839207170051,-4.2768188229995015E-2,5.8730264948569151E-2,1.2001000000000002,null,5.8730264948569151E-2,1.2,1.3657150124725372,0.11334097091349123,0.11334097091349123,-1.2000999999999999,6.8004582548094727E-3,5.4403666038475795E-2,0.29950263077809153,0.29950855477026145]
[null,0.77089036371787989,3.4360217345735783E-4,6.0695294969468835E-2,-0.12215208049730684,3.2516887792342497,2.2961525564736207,0.7061415505497266,1.0528121292029204,173.27896195006204,0.10451940746572419,-70.904295287808594,-4.2768463331355047E-2,5.8730654753815406E-2,1.2000999999999997,null,5.8730654753815406E-2,1.2,1.3657092872783849,0.11334097091349123,0.11334097091349123,-1.2000999999999999,6.8004582548094727E-3,5.4403666038475795E-2,0.29950855477026145,0.29951128537180421]
[null,0.77089174887977829,3.4360217345735783E-4,6.0695294969468835E-2,-0.12215208049730684,3.2516824958921409,2.2961506745488176,0.70614233629807055,1.052811986545223,173.27898822862429,0.10451942331657951,-70.904505516306529,-4.2768590138197546E-2,5.873083443046298E-2,1.2001000000000002,null,5.873083443046298E-2,1.2,1.3657066482746991,0.11334097091349123,0.11334097091349123,-1.2000999999999999,6.8004582548094727E-3,5.4403666038475795E-2,0.29951128537180421,0.29951254403137495]
[null,0.77089238737034838,3.4360217345735783E-4,6.0695294969468835E-2,-0.12215208049730684,3.2516795995928556,2.2961498070744271,0.70614269848786115,1.0528119207873099,173.2790003416994,0.10451943062301429,-70.904602420907551,-4.2768648589675815E-2,5.8730917252400615E-2,1.2001000000000002,null,5.8730917252400615E-2,1.2,1.3657054318289994,0.11334097091349123,0.11334097091349123,-1.2000999999999999,6.8004582548094727E-3,5.4403666038475795E-2,0.29951254403137495,0.29951312420915649]
[null,0.77089268168310254,3.4360217345735783E-4,6.0695294969468835E-2,-0.12215208049730684,3.2516782645430431,2.2961494072095614,0.70614286543882232,1.0528118904761821,173.27900592522462,0.10451943399091736,-70.904647089109162,-4.2768675532900272E-2,5.8730955428823284E-2,1.2000999999999997,null,5.8730955428823284E-2,1.2,1.3657048711080781,0.11334097091349123,0.11334097091349123,-1.2000999999999999,6.8004582548094727E-3,5.4403666038475795E-2,0.29951312420915649,0.29951339164225915]
[null,0.77089281734689652,3.4360217345735783E-4,6.0695294969468835E-2,-0.12215208049730684,3.2516776491507033,2.2961492228908873,0.70614294239486264,1.052811876504242,173.27900849895539,0.10451943554335519,-70.904667678955278,-4.2768687952402858E-2,5.8730973026167595E-2,1.2001000000000002,null,5.8730973026167595E-2,1.2,1.3657046126432955,0.11334097091349123,0.11334097091349123,-1.2000999999999999,6.8004582548094727E-3,5.4403666038475795E-2,0.29951339164225915,0.29951351491577888]
[null,0.77089287988132704,3.4360217345735783E-4,6.0695294969468835E-2,-0.12215208049730684,3.2516773654847539,2.2961491379300667,0.70614297786821201,1.0528118700638567,173.27900968532015,0.10451943625895355,-70.904677169873466,-4.2768693677189835E-2,5.8730981137978693E-2,1.2001000000000002,null,5.8730981137978693E-2,1.2,1.3657044935035967,0.11334097091349123,0.11334097091349123,-1.2000999999999999,6.8004582548094727E-3,5.4403666038475795E-2,0.29951351491577888,0.29951357173887916]
[null,0.77089290870662908,3.4360217345735783E-4,6.0695294969468835E-2,-0.12215208049730684,3.2516772347286955,2.2961490987656403,0.70614299421917259,1.0528118670951554,173.27901023217601,0.10451943658880923,-70.904681544720248,-4.2768696316035248E-2,5.8730984876711557E-2,1.2000999999999997,null,5.8730984876711557E-2,1.2,1.3657044385860522,0.11334097091349123,0.11334097091349123,-1.2000999999999999,6.8004582548094727E-3,5.4403666038475795E-2,0.29951357173887916,0.29951359793153531]
[null,0.77089292199368131,3.4360217345735783E-4,6.0695294969468835E-2,-0.12215208049730684,3.2516771744565607,2.29614908071281,0.70614300175618017,1.0528118657267296,173.27901048424974,0.10451943674085652,-70.904683561310179,-4.2768697532413635E-2,5.8730986600097436E-2,1.2000999999999999,null,5.8730986600097436E-2,1.2,1.3657044132717555,0.11334097091349123,0.11334097091349123,-1.2000999999999999,6.8004582548094727E-3,5.4403666038475795E-2,0.29951359793153531,0.29951361000506604]
[null,0.77089292811838839,3.4360217345735783E-4,6.0695294969468835E-2,-0.12215208049730684,3.2516771466739383,2.2961490723924891,0.70614300523075124,1.0528118650959497,173.27901060044391,0.10451943681094319,-70.904684490863417,-4.276869809310694E-2,5.8730987394793273E-2,1.2000999999999999,null,5.8730987394793273E-2,1.2,1.365704401603054,0.11334097091349123,0.11334097091349123,-1.2000999999999999,6.8004582548094727E-3,5.4403666038475795E-2,0.29951361000506604,0.29951361557039657]
[null,0.7708929309415784,3.4360217345735783E-4,6.0695294969468835E-2,-0.12215208049730684,3.2516771338675103,2.2961490685566974,0.706143006832195,1.0528118648051912,173.27901065400371,0.1045194368432497,-70.904684919341946,-4.2768698351559102E-2,5.8730987760976586E-2,1.2000999999999999,null,5.8730987760976586E-2,1.2,1.3657043962243542,0.11334097091349123,0.11334097091349123,-1.2000999999999999,6.8004582548094727E-3,5.4403666038475795E-2,0.29951361557039657,0.2995136181357414]
[null,0.77089293224295397,3.4360217345735783E-4,6.0695294969468835E-2,-0.12215208049730684,3.2516771279642689,2.2961490667893552,0.70614300757064175,1.0528118646711633,173.2790106786926,0.10451943685814169,-70.904685116853074,-4.2768698470695005E-2,5.8730987929972209E-2,1.2000999999999999,null,5.8730987929972209E-2,1.2,1.3657043937449929,0.11334097091349123,0.11334097091349123,-1.2000999999999999,6.8004582548094727E-3,5.4403666038475795E-2,0.2995136181357414,0.29951361931826082]
[null,0.77089293284279636,3.4360217345735783E-4,6.0695294969468835E-2,-0.12215208049730684,3.2516771252432903,2.2961490659734465,0.70614300791061746,1.0528118646093858,173.27901069007245,0.10451943686500585,-70.904685207891774,-4.2768698525608252E-2,5.8730988007545747E-2,1.2000999999999997,null,5.8730988007545747E-2,1.2,1.3657043926021819,0.11334097091349123,0.11334097091349123,-1.2000999999999999,6.8004582548094727E-3,5.4403666038475795E-2,0.29951361931826082,0.29951361986331887]
[null,0.77089293311933993,3.4360217345735783E-4,6.0695294969468835E-2,-0.12215208049730684,3.2516771239888462,2.2961490655992645,0.70614300806796237,1.0528118645809048,173.27901069531885,0.1045194368681704,-70.904685249863093,-4.2768698550924758E-2,5.8730988043801738E-2,1.2000999999999999,null,5.8730988043801738E-2,1.2,1.3657043920753154,0.11334097091349123,0.11334097091349123,-1.2000999999999999,6.8004582548094727E-3,5.4403666038475795E-2,0.29951361986331887,0.29951362011460542]
[null,0.77089293324677111,3.4360217345735783E-4,6.0695294969468835E-2,-0.12215208049730684,3.251677123410798,2.2961490654246108,0.70614300813978104,1.0528118645677806,173.2790106977364,0.10451943686962864,-70.904685269203455,-4.2768698562590593E-2,5.8730988059951944E-2,1.2000999999999999,null,5.8730988059951944E-2,1.2,1.3657043918325351,0.11334097091349123,0.11334097091349123,-1.2000999999999999,6.8004582548094727E-3,5.4403666038475795E-2,0.29951362011460542,0.29951362023039813]
[null,0.77089293330550113,3.4360217345735783E-4,6.0695294969468835E-2,-0.12215208049730684,3.2516771231443902,2.2961490653442977,0.70614300817293585,1.0528118645617321,173.27901069885064,0.10451943687030073,-70.904685278116972,-4.2768698567967098E-2,5.8730988067440058E-2,1.2000999999999999,null,5.8730988067440058E-2,1.2,1.3657043917206437,0.11334097091349123,0.11334097091349123,-1.2000999999999999,6.8004582548094727E-3,5.4403666038475795E-2,0.29951362023039813,0.29951362028376427]
[null,0.77089293333255926,3.4360217345735783E-4,6.0695294969468835E-2,-0.12215208049730684,3.2516771230216501,2.296149065307191,0.70614300818817888,1.0528118645589457,173.27901069936391,0.10451943687061033,-70.90468528222361,-4.2768698570444165E-2,5.8730988070863951E-2,1.2001000000000002,null,5.8730988070863951E-2,1.2,1.365704391669093,0.11334097091349123,{"$f":"IF(L143<$O$106,$Q$106*C144*$L$106*$N$106,-$L$106*$O$106)","v":0.11334097091349123},-1.2000999999999999,6.8004582548094727E-3,{"$f":"IF(L143<$O$106,($C$106-$M$106)*$Q$106*C144*$L$106*$N$106,0)","v":5.4403666038475795E-2},0.29951362028376427,0.29951362030835116]
[null,0.77089293334508757,3.4360217345735783E-4,6.0695294969468835E-2,-0.12215208049730684,3.2516771229648196,2.2961490652923207,0.70614300819594722,1.0528118645576552,173.2790106996016,0.1045194368707537,-70.904685284125051,-4.2768698571591088E-2,5.8730988073025986E-2,1.2000999999999999,null,5.8730988073025986E-2,1.2,1.3657043916452243,0.11334097091349123,0.11334097091349123,-1.2000999999999999,6.8004582548094727E-3,5.4403666038475795E-2,0.29951362030835116,0.29951362031973527]
[null,0.77089293335083853,3.4360217345735783E-4,6.0695294969468835E-2,-0.12215208049730684,3.251677122938732,2.2961490652836054,0.70614300819893228,1.0528118645570628,173.27901069971068,0.10451943687081949,-70.904685284997882,-4.2768698572117562E-2,5.8730988073546944E-2,1.2000999999999999,null,5.8730988073546944E-2,1.2,1.3657043916342675,0.11334097091349123,0.11334097091349123,-1.2000999999999999,6.8004582548094727E-3,5.4403666038475795E-2,0.29951362031973527,0.29951362032496098]
[null,0.77089293335349784,3.4360217345735783E-4,6.0695294969468835E-2,-0.12215208049730684,3.2516771229266692,2.2961490652802343,0.70614300820051512,1.052811864556789,173.27901069976116,0.10451943687084994,-70.904685285401484,-4.2768698572361014E-2,5.8730988073952266E-2,1.2000999999999999,null,5.8730988073952266E-2,1.2,1.3657043916292011,0.11334097091349123,0.11334097091349123,-1.2000999999999999,6.8004582548094727E-3,5.4403666038475795E-2,0.29951362032496098,0.29951362032737738]
[null,0.77089293335473497,3.4360217345735783E-4,6.0695294969468835E-2,-0.12215208049730684,3.2516771229210577,2.2961490652790304,0.70614300820136344,1.0528118645566618,173.27901069978464,0.10451943687086411,-70.904685285589238,-4.2768698572474263E-2,5.8730988074231681E-2,1.2001000000000002,null,5.8730988074231681E-2,1.2,1.3657043916268441,0.11334097091349123,0.11334097091349123,-1.2000999999999999,6.8004582548094727E-3,5.4403666038475795E-2,0.29951362032737738,0.29951362032850154]
[null,0.77089293335526243,3.4360217345735783E-4,6.0695294969468835E-2,-0.12215208049730684,3.2516771229186654,2.2961490652766718,0.70614300820115761,1.0528118645566074,173.27901069979467,0.10451943687087016,-70.904685285669302,-4.2768698572522558E-2,5.8730988073890253E-2,1.2001000000000002,null,5.8730988073890253E-2,1.2,1.3657043916258393,0.11334097091349123,0.11334097091349123,-1.2000999999999999,6.8004582548094727E-3,5.4403666038475795E-2,0.29951362032850154,0.29951362032898082]
[null,0.77089293335555376,3.4360217345735783E-4,6.0695294969468835E-2,-0.12215208049730684,3.2516771229173429,2.2961490652781107,0.70614300820188736,1.0528118645565772,173.27901069980018,0.10451943687087348,-70.904685285713512,-4.2768698572549224E-2,5.8730988074386183E-2,1.2000999999999999,null,5.8730988074386183E-2,1.2,1.365704391625284,0.11334097091349123,0.11334097091349123,-1.2000999999999999,6.8004582548094727E-3,5.4403666038475795E-2,0.29951362032898082,0.29951362032924556]
[null,0.77089293335565823,3.4360217345735783E-4,6.0695294969468835E-2,-0.12215208049730684,3.2516771229168695,2.2961490652767469,0.70614300820157072,1.0528118645565665,173.27901069980214,0.10451943687087467,-70.904685285729371,-4.2768698572558786E-2,5.8730988074094666E-2,1.2000999999999999,null,5.8730988074094666E-2,1.2,1.3657043916250851,0.11334097091349123,0.11334097091349123,-1.2000999999999999,6.8004582548094727E-3,5.4403666038475795E-2,0.29951362032924556,0.29951362032934048]
[null,0.77089293335572406,3.4360217345735783E-4,6.0695294969468835E-2,-0.12215208049730684,3.2516771229165711,2.2961490652774792,0.70614300820186071,1.0528118645565598,173.27901069980342,0.10451943687087543,-70.904685285739362,-4.2768698572564816E-2,5.8730988074308217E-2,1.2001000000000002,null,5.8730988074308217E-2,1.2,1.3657043916249598,0.11334097091349123,0.11334097091349123,-1.2000999999999999,6.8004582548094727E-3,5.4403666038475795E-2,0.29951362032934048,0.29951362032940032]
[null,0.77089293335573106,3.4360217345735783E-4,6.0695294969468835E-2,-0.12215208049730684,3.2516771229165387,2.2961490652765111,0.70614300820157005,1.052811864556559,173.27901069980351,0.10451943687087549,-70.904685285740428,-4.2768698572565454E-2,5.8730988074069956E-2,1.2000999999999999,null,5.8730988074069956E-2,1.2,1.3657043916249463,0.11334097091349123,0.11334097091349123,-1.2000999999999999,6.8004582548094727E-3,5.4403666038475795E-2,0.29951362032940032,0.29951362032940665]
[null,0.77089293335572195,3.4360217345735783E-4,6.0695294969468835E-2,-0.12215208049730684,3.25167712291658,2.2961490652759515,0.70614300820138898,1.0528118645565598,173.27901069980334,0.10451943687087539,-70.904685285739035,-4.2768698572564615E-2,5.8730988073926037E-2,1.2000999999999997,null,5.8730988073926037E-2,1.2,1.3657043916249636,0.11334097091349123,0.11334097091349123,-1.2000999999999999,6.8004582548094727E-3,5.4403666038475795E-2,0.29951362032940665,0.29951362032939838]
[null,0.77089293335572528,3.4360217345735783E-4,6.0695294969468835E-2,-0.12215208049730684,3.2516771229165653,2.2961490652763272,0.70614300820150777,1.0528118645565596,173.27901069980342,0.10451943687087543,-70.904685285739546,-4.2768698572564927E-2,5.8730988074021356E-2,1.2000999999999999,null,5.8730988074021356E-2,1.2,1.3657043916249574,0.11334097091349123,0.11334097091349123,-1.2000999999999999,6.8004582548094727E-3,5.4403666038475795E-2,0.29951362032939838,0.29951362032940143]
[null,0.7708929333557194,3.4360217345735783E-4,6.0695294969468835E-2,-0.12215208049730684,3.2516771229165924,2.296149065276079,0.7061430082014255,1.0528118645565605,173.27901069980334,0.10451943687087539,-70.904685285738651,-4.2768698572564386E-2,5.8730988073956505E-2,1.2001000000000004,null,5.8730988073956505E-2,1.2,1.3657043916249687,0.11334097091349123,0.11334097091349123,-1.2000999999999999,6.8004582548094727E-3,5.4403666038475795E-2,0.29951362032940143,0.29951362032939605]
[null,0.77089293335571152,3.4360217345735783E-4,6.0695294969468835E-2,-0.12215208049730684,3.2516771229166279,2.2961490652758361,0.70614300820134313,1.0528118645565612,173.27901069980314,0.10451943687087527,-70.904685285737457,-4.2768698572563664E-2,5.8730988073892251E-2,1.2001000000000002,null,5.8730988073892251E-2,1.2,1.3657043916249836,0.11334097091349123,0.11334097091349123,-1.2000999999999999,6.8004582548094727E-3,5.4403666038475795E-2,0.29951362032939605,0.29951362032938889]
[null,0.77089293335573994,3.4360217345735783E-4,6.0695294969468835E-2,-0.12215208049730684,3.2516771229164987,2.2961490652771355,0.70614300820177078,1.0528118645565581,173.27901069980371,0.10451943687087561,-70.904685285741763,-4.2768698572566266E-2,5.8730988074229905E-2,1.2000999999999999,null,5.8730988074229905E-2,1.2,1.3657043916249294,0.11334097091349123,0.11334097091349123,-1.2000999999999999,6.8004582548094727E-3,5.4403666038475795E-2,0.29951362032938889,0.29951362032941475]
[null,0.77089293335574882,3.4360217345735783E-4,6.0695294969468835E-2,-0.12215208049730684,3.2516771229164583,2.2961490652768703,0.70614300820169795,1.052811864556557,173.27901069980385,0.1045194368708757,-70.904685285743113,-4.2768698572567078E-2,5.8730988074167878E-2,1.2000999999999997,null,5.8730988074167878E-2,1.2,1.3657043916249125,0.11334097091349123,0.11334097091349123,-1.2000999999999999,6.8004582548094727E-3,5.4403666038475795E-2,0.29951362032941475,0.2995136203294228]
[null,0.77089293335577802,3.4360217345735783E-4,6.0695294969468835E-2,-0.12215208049730684,3.2516771229163259,2.2961490652778505,0.70614300820202813,1.0528118645565541,173.27901069980442,0.10451943687087603,-70.904685285747547,-4.2768698572569749E-2,5.8730988074426282E-2,1.2000999999999997,null,5.8730988074426282E-2,1.2,1.3657043916248568,0.11334097091349123,0.11334097091349123,-1.2000999999999999,6.8004582548094727E-3,5.4403666038475795E-2,0.2995136203294228,0.29951362032944934]
[null,0.77089293335576248,3.4360217345735783E-4,6.0695294969468835E-2,-0.12215208049730684,3.2516771229163965,2.2961490652766603,0.70614300820164677,1.0528118645565558,173.27901069980413,0.10451943687087586,-70.904685285745188,-4.2768698572568327E-2,5.8730988074121901E-2,1.2001000000000002,null,5.8730988074121901E-2,1.2,1.3657043916248865,0.11334097091349123,0.11334097091349123,-1.2000999999999999,6.8004582548094727E-3,5.4403666038475795E-2,0.29951362032944934,0.29951362032943518]
[null,0.77089293335575237,3.4360217345735783E-4,6.0695294969468835E-2,-0.12215208049730684,3.2516771229164427,2.2961490652766088,0.7061430082016209,1.052811864556557,173.27901069980393,0.10451943687087574,-70.904685285743653,-4.2768698572567404E-2,5.8730988074104234E-2,1.2001000000000002,null,5.8730988074104234E-2,1.2,1.3657043916249059,0.11334097091349123,0.11334097091349123,-1.2000999999999999,6.8004582548094727E-3,5.4403666038475795E-2,0.29951362032943518,0.29951362032942602]
[null,0.77089293335576992,3.4360217345735783E-4,6.0695294969468835E-2,-0.12215208049730684,3.2516771229163628,2.2961490652774779,0.70614300820190556,1.052811864556555,173.27901069980425,0.10451943687087593,-70.904685285746311,-4.2768698572569007E-2,5.8730988074329443E-2,1.2000999999999999,null,5.8730988074329443E-2,1.2,1.3657043916248723,0.11334097091349123,0.11334097091349123,-1.2000999999999999,6.8004582548094727E-3,5.4403666038475795E-2,0.29951362032942602,0.29951362032944195]
[null,0.77089293335575104,3.4360217345735783E-4,6.0695294969468835E-2,-0.12215208049730684,3.2516771229164485,2.2961490652764804,0.70614300820158016,1.052811864556557,173.27901069980388,0.10451943687087571,-70.904685285743454,-4.2768698572567286E-2,5.8730988074071525E-2,1.2000999999999999,null,5.8730988074071525E-2,1.2,1.3657043916249083,0.11334097091349123,0.11334097091349123,-1.2000999999999999,6.8004582548094727E-3,5.4403666038475795E-2,0.29951362032944195,0.2995136203294248]
[null,0.77089293335574682,3.4360217345735783E-4,6.0695294969468835E-2,-0.12215208049730684,3.2516771229164676,2.2961490652766776,0.70614300820163667,1.0528118645565574,173.27901069980379,0.10451943687087566,-70.904685285742815,-4.2768698572566897E-2,5.8730988074118834E-2,1.2000999999999999,null,5.8730988074118834E-2,1.2,1.3657043916249163,0.11334097091349123,0.11334097091349123,-1.2000999999999999,6.8004582548094727E-3,5.4403666038475795E-2,0.2995136203294248,0.29951362032942097]
[null,0.77089293335577469,3.4360217345735783E-4,6.0695294969468835E-2,-0.12215208049730684,3.251677122916341,2.296149065277667,0.70614300820196851,1.0528118645565545,173.27901069980436,0.104519436870876,-70.904685285747036,-4.2768698572569444E-2,5.8730988074378911E-2,1.2000999999999999,null,5.8730988074378911E-2,1.2,1.3657043916248632,0.11334097091349123,0.11334097091349123,-1.2000999999999999,6.8004582548094727E-3,5.4403666038475795E-2,0.29951362032942097,0.29951362032944628]
[null,0.7708929333557708,3.4360217345735783E-4,6.0695294969468835E-2,-0.12215208049730684,3.2516771229163592,2.296149065277032,0.70614300820176923,1.052811864556555,173.27901069980427,0.10451943687087595,-70.904685285746453,-4.276869857256909E-2,5.8730988074218504E-2,1.2000999999999999,null,5.8730988074218504E-2,1.2,1.3657043916248708,0.11334097091349123,0.11334097091349123,-1.2000999999999999,6.8004582548094727E-3,5.4403666038475795E-2,0.29951362032944628,0.29951362032944279]
[null,0.77089293335576892,3.4360217345735783E-4,6.0695294969468835E-2,-0.12215208049730684,3.2516771229163677,2.2961490652770347,0.70614300820176823,1.0528118645565552,173.27901069980425,0.10451943687087593,-70.904685285746169,-4.2768698572568924E-2,5.873098807421831E-2,1.2000999999999999,null,5.873098807421831E-2,1.2,1.3657043916248743,0.11334097091349123,0.11334097091349123,-1.2000999999999999,6.8004582548094727E-3,5.4403666038475795E-2,0.29951362032944279,0.29951362032944107]
[null,0.77089293335576792,3.4360217345735783E-4,6.0695294969468835E-2,-0.12215208049730684,3.2516771229163717,2.296149065277036,0.70614300820176779,1.0528118645565552,173.27901069980422,0.10451943687087592,-70.904685285746012,-4.2768698572568827E-2,5.8730988074218324E-2,1.2000999999999999,null,5.8730988074218324E-2,1.2,1.3657043916248761,0.11334097091349123,0.11334097091349123,-1.2000999999999999,6.8004582548094727E-3,5.4403666038475795E-2,0.29951362032944107,0.29951362032944018]
[null,0.77089293335574771,3.4360217345735783E-4,6.0695294969468835E-2,-0.12215208049730684,3.251677122916464,2.2961490652763588,0.70614300820153941,1.0528118645565574,173.27901069980382,0.10451943687087568,-70.904685285742943,-4.2768698572566974E-2,5.8730988074039578E-2,1.2001000000000002,null,5.8730988074039578E-2,1.2,1.3657043916249147,0.11334097091349123,0.11334097091349123,-1.2000999999999999,6.8004582548094727E-3,5.4403666038475795E-2,0.29951362032944018,0.2995136203294218]
[null,0.77089293335575515,3.4360217345735783E-4,6.0695294969468835E-2,-0.12215208049730684,3.2516771229164299,2.296149065276865,0.7061430082017025,1.0528118645565565,173.27901069980399,0.10451943687087578,-70.90468528574408,-4.2768698572567661E-2,5.8730988074169509E-2,1.2000999999999999,null,5.8730988074169509E-2,1.2,1.3657043916249005,0.11334097091349123,0.11334097091349123,-1.2000999999999999,6.8004582548094727E-3,5.4403666038475795E-2,0.2995136203294218,0.29951362032942858]
[null,0.77089293335575626,3.4360217345735783E-4,6.0695294969468835E-2,-0.12215208049730684,3.251677122916425,2.2961490652769219,0.70614300820172105,1.0528118645565565,173.27901069980402,0.1045194368708758,-70.90468528574425,-4.2768698572567765E-2,5.8730988074184226E-2,1.2000999999999999,null,5.8730988074184226E-2,1.2,1.3657043916248985,0.11334097091349123,0.11334097091349123,-1.2000999999999999,6.8004582548094727E-3,5.4403666038475795E-2,0.29951362032942858,0.29951362032942958]
[null,0.77089293335577413,3.4360217345735783E-4,6.0695294969468835E-2,-0.12215208049730684,3.2516771229163433,2.2961490652774756,0.70614300820190912,1.0528118645565545,173.27901069980433,0.10451943687087599,-70.904685285746964,-4.2768698572569402E-2,5.8730988074330873E-2,1.2000999999999999,null,5.8730988074330873E-2,1.2,1.3657043916248641,0.11334097091349123,0.11334097091349123,-1.2000999999999999,6.8004582548094727E-3,5.4403666038475795E-2,0.29951362032942958,0.29951362032944578]
[null,0.77089293335575804,3.4360217345735783E-4,6.0695294969468835E-2,-0.12215208049730684,3.251677122916417,2.2961490652765399,0.70614300820160536,1.0528118645565563,173.27901069980405,0.10451943687087581,-70.90468528574452,-4.2768698572567924E-2,5.8730988074089739E-2,1.2000999999999999,null,5.8730988074089739E-2,1.2,1.365704391624895,0.11334097091349123,0.11334097091349123,-1.2000999999999999,6.8004582548094727E-3,5.4403666038475795E-2,0.29951362032944578,0.29951362032943118]
[null,0.77089293335577525,3.4360217345735783E-4,6.0695294969468835E-2,-0.12215208049730684,3.2516771229163388,2.2961490652774743,0.70614300820190967,1.0528118645565545,173.27901069980436,0.104519436870876,-70.904685285747121,-4.2768698572569493E-2,5.8730988074330963E-2,1.2000999999999999,null,5.8730988074330963E-2,1.2,1.3657043916248623,0.11334097091349123,0.11334097091349123,-1.2000999999999999,6.8004582548094727E-3,5.4403666038475795E-2,0.29951362032943118,0.29951362032944678]
[null,0.77089293335574605,3.4360217345735783E-4,6.0695294969468835E-2,-0.12215208049730684,3.2516771229164707,2.2961490652761074,0.7061430082014607,1.0528118645565574,173.27901069980382,0.10451943687087568,-70.904685285742701,-4.2768698572566828E-2,5.8730988073976254E-2,1.2000999999999999,null,5.8730988073976254E-2,1.2,1.3657043916249176,0.11334097091349123,0.11334097091349123,-1.2000999999999999,6.8004582548094727E-3,5.4403666038475795E-2,0.29951362032944678,0.2995136203294203]
[null,{"$f":"MIN(0.5*(-(T177+U177+V177)+SQRT((T177+U177+V177)^2+4*S177*(W177+X177)))/S177,1000*$C$6)","v":0.77089293335575926},3.4360217345735783E-4,{"$f":"IF($C$2=1,C177/($Z$106*$Z$5),2^(1/3)*$Z$5/C177)","v":6.0695294969468835E-2},{"$f":"IF($C$2=1,-($Z$106-2)*C177/$Z$5,3*($Z$5/C177)^2)","v":-0.12215208049730684},{"$f":"IF($C$2=1,0.5*($Z$106*C177*$F$106/$Z$5)*(1-Y177^2+(D177-E177)*(E177^2*(1-Y177^2)+2*E177*(1-Y177)+2*LN((1-E177)/(1-E177*Y177)))/(E177^3)),$F$106*E177*(LN((1-D177+D177^2)/(1+D177)^2)/(6*D177)+ATAN((2-D177)/(D177*3^0.5))/(D177*3^0.5)-LN((Y177^2-D177*Y177+D177^2)/(Y177+D177)^2)/(6*D177)-ATAN((2*Y177-D177)/(D177*3^0.5))/(D177*3^0.5)))","v":3.2516771229164112},{"$f":"IF($C$2=1,($Z$106*C177*$F$106/$Z$5)*(1-Y177^3-(D177-E177)*(-2*E177^3*(1-Y177^3)-3*E177^2*(1-Y177^2)-6*E177*(1-Y177)-6*LN((1-E177)/(1-E177*Y177)))/(2*E177^4))/3,$F$106*E177*(LN((1+D177^3)/(D177^3+Y177^3)))/3)","v":2.2961490652772358},{"$f":"G177/F177","v":0.70614300820182063},{"$f":"F177*B177*$D$106","v":1.0528118645565561},{"$f":"MAX(MIN($K$106,$Q$106*$J$106*C177*(B177-$I$106)/B177),-$K$106)","v":173.27901069980402},{"$f":"J177*$H$106","v":0.1045194368708758},{"$f":"MIN($O$106,$Q$106*$N$106*C177*(C$106-B177-$M$106)/B177)","v":-70.904685285744705},{"$f":"L177*$L$106","v":-4.2768698572568035E-2},{"$f":"(0.5*$C$106-B177+H177*B177)*I177+(0.5*$C$106-$I$106)*K177+(0.5*$C$106-$M$106)*M177","v":5.8730988074263975E-2},{"$f":"I177+K177-M177","v":1.2000999999999997},null,{"$f":"N177-P177*O177","v":5.8730988074263975E-2},{"$f":"R176","v":1.2},{"$f":"F177*$D$106","v":1.3657043916248925},{"$f":"IF(ABS(J176)<$K$106,$Q$106*C177*$H$106*$J$106,IF(J176>0,1,-1)*$H$106*$K$106)","v":0.11334097091349123},0.11334097091349123,{"$f":"-(R177+0.0001)","v":-1.2000999999999999},{"$f":"IF(ABS(J176)<$K$106,$I$106*$Q$106*C177*$H$106*$J$106,0)","v":6.8004582548094727E-3},5.4403666038475795E-2,{"$f":"IF(B176<$C$106,0,(B176-$C$106)/B176)","v":0.2995136203294203},{"$f":"IF(B177<=$C$106,0,(B177-$C$106)/B177)","v":0.2995136203294323}]
[null,{"$f":"MIN(0.5*(-(T178+U178+V178)+SQRT((T178+U178+V178)^2+4*S178*(W178+X178)))/S178,1000*$C$6)","v":0.77089293335576092},3.4360217345735783E-4,{"$f":"IF($C$2=1,C178/($Z$106*$Z$5),2^(1/3)*$Z$5/C178)","v":6.0695294969468835E-2},{"$f":"IF($C$2=1,-($Z$106-2)*C178/$Z$5,3*($Z$5/C178)^2)","v":-0.12215208049730684},{"$f":"IF($C$2=1,0.5*($Z$106*C178*$F$106/$Z$5)*(1-Y178^2+(D178-E178)*(E178^2*(1-Y178^2)+2*E178*(1-Y178)+2*LN((1-E178)/(1-E178*Y178)))/(E178^3)),$F$106*E178*(LN((1-D178+D178^2)/(1+D178)^2)/(6*D178)+ATAN((2-D178)/(D178*3^0.5))/(D178*3^0.5)-LN((Y178^2-D178*Y178+D178^2)/(Y178+D178)^2)/(6*D178)-ATAN((2*Y178-D178)/(D178*3^0.5))/(D178*3^0.5)))","v":3.2516771229164041},{"$f":"IF($C$2=1,($Z$106*C178*$F$106/$Z$5)*(1-Y178^3-(D178-E178)*(-2*E178^3*(1-Y178^3)-3*E178^2*(1-Y178^2)-6*E178*(1-Y178)-6*LN((1-E178)/(1-E178*Y178)))/(2*E178^4))/3,$F$106*E178*(LN((1+D178^3)/(D178^3+Y178^3)))/3)","v":2.2961490652769805},{"$f":"G178/F178","v":0.70614300820174358},{"$f":"F178*B178*$D$106","v":1.0528118645565561},{"$f":"MAX(MIN($K$106,$Q$106*$J$106*C178*(B178-$I$106)/B178),-$K$106)","v":173.2790106998041},{"$f":"J178*$H$106","v":0.10451943687087585},{"$f":"MIN($O$106,$Q$106*$N$106*C178*(C$106-B178-$M$106)/B178)","v":-70.904685285744947},{"$f":"L178*$L$106","v":-4.2768698572568181E-2},{"$f":"(0.5*$C$106-B178+H178*B178)*I178+(0.5*$C$106-$I$106)*K178+(0.5*$C$106-$M$106)*M178","v":5.8730988074200956E-2},{"$f":"I178+K178-M178","v":1.2001000000000002},null,{"$f":"N178-P178*O178","v":5.8730988074200956E-2},{"$f":"R177","v":1.2},{"$f":"F178*$D$106","v":1.3657043916248897},{"$f":"IF(ABS(J177)<$K$106,$Q$106*C178*$H$106*$J$106,IF(J177>0,1,-1)*$H$106*$K$106)","v":0.11334097091349123},0.11334097091349123,{"$f":"-(R178+0.0001)","v":-1.2000999999999999},{"$f":"IF(ABS(J177)<$K$106,$I$106*$Q$106*C178*$H$106*$J$106,0)","v":6.8004582548094727E-3},5.4403666038475795E-2,{"$f":"IF(B177<$C$106,0,(B177-$C$106)/B177)","v":0.2995136203294323},{"$f":"IF(B178<=$C$106,0,(B178-$C$106)/B178)","v":0.29951362032943379}]
[null,null,{"$f":"IF(C106*J179/(J179-L179)<=0,B178,C106*J179/(J179-L179))","v":0.72122627751951451},null,null,null,null,null,null,{"$f":"$R178/($J109*N109)+($Q178-R108)/($M109*N109)","v":3.8716250832741567E-4},null,{"$f":"$R178/($J109*$N$109)-($Q178-R108)/($M109*N109)","v":9.728433692212098E-5},null,null,{"$f":"SIGN(J179-L179)","v":1},{"$f":"IF(Q111=0.0001,ABS(Q108)*($Q$6*C178/B178)/Q111,IF(B178>10*$C$6,(L179-J179)/$C$6,$Q$6*C178/B178))*IF(B178>10*C106,O179*P108,P108)","v":-1.2187419692149895E-3},null,null,null,null,null,null,null,null,null,null,{"$f":"N178/($Q$6*C178/B178)","v":48.189846216611784}]
[null,{"$f":"IF(AND(B178<>1000*$C$6,C180<C106,B178<C106),B178,IF(AND(B178<>1000*$C$6,C180>C106,B178>C106),B178*C180/C179,IF(C106*J180/(J180-L180)<=0,B178,C106*J180/(J180-L180))))","v":0.76881545568617182},{"$f":"IF(C106*J180/(J180-L180)<=0,B178,C106*J180/(J180-L180))","v":0.71928264641143669},null,null,null,null,null,null,{"$f":"$R178/($J109*N109)+($Q180-R108)/($M109*N109)","v":3.8778952590309574E-4},null,{"$f":"$R178/($J109*N109)-($Q180-R108)/($M109*N109)","v":9.6657319346440886E-5},null,null,{"$f":"SIGN(J180-L180)","v":1},null,{"$f":"MAX(ABS(INDEX(Snitkræfter!$G$286:$U$286,B109+1)),0.0000001)","v":5.8985062822782805E-2}]
[null,{"$f":"MIN(0.5*(-(T181+U181+V181)+SQRT((T181+U181+V181)^2+4*S181*(W181+X181)))/S181,1000*$C$6)","v":0.76971546043717831},{"$f":"MIN(MAX(IF(Q108=0,0.001*Z105,IF(OR(AND(B178<>1000*$C$6,C180<C106,B178<C106),AND(B178<>1000*$C$6,C180>C106,B178>C106)),C178*J180/J179,IF(B180>C106,J180,C178*MIN(Q180/Q111,2)))),0.0001*$Z$5),0.9*K106/(J106*Q106))","v":3.4415864418261058E-4},{"$f":"IF($C$2=1,C181/($Z$106*$Z$5),2^(1/3)*$Z$5/C181)","v":6.0793592237123578E-2},{"$f":"IF($C$2=1,-($Z$106-2)*C181/$Z$5,3*($Z$5/C181)^2)","v":-0.12234990828210086},{"$f":"IF($C$2=1,0.5*($Z$106*C181*$F$106/$Z$5)*(1-Y181^2+(D181-E181)*(E181^2*(1-Y181^2)+2*E181*(1-Y181)+2*LN((1-E181)/(1-E181*Y181)))/(E181^3)),$F$106*E181*(LN((1-D181+D181^2)/(1+D181)^2)/(6*D181)+ATAN((2-D181)/(D181*3^0.5))/(D181*3^0.5)-LN((Y181^2-D181*Y181+D181^2)/(Y181+D181)^2)/(6*D181)-ATAN((2*Y181-D181)/(D181*3^0.5))/(D181*3^0.5)))","v":3.2562898145887718},{"$f":"IF($C$2=1,($Z$106*C181*$F$106/$Z$5)*(1-Y181^3-(D181-E181)*(-2*E181^3*(1-Y181^3)-3*E181^2*(1-Y181^2)-6*E181*(1-Y181)-6*LN((1-E181)/(1-E181*Y181)))/(2*E181^4))/3,$F$106*E181*(LN((1+D181^3)/(D181^3+Y181^3)))/3)","v":2.2993727120263379},{"$f":"G181/F181","v":0.70613269793269906},{"$f":"F181*B181*$D$106","v":1.0526949778602979},{"$f":"MAX(MIN($K$106,$Q$106*$J$106*C181*(B181-$I$106)/B181),-$K$106)","v":173.5372308982835},{"$f":"J181*$H$106","v":0.1046751916251577},{"$f":"MIN($O$106,$Q$106*$N$106*C181*(C$106-B181-$M$106)/B181)","v":-70.840247331964989},{"$f":"L181*$L$106","v":-4.2729830514544348E-2},{"$f":"(0.5*$C$106-B181+H181*B181)*I181+(0.5*$C$106-$I$106)*K181+(0.5*$C$106-$M$106)*M181","v":5.9122665474898979E-2},{"$f":"I181+K181-M181","v":1.2000999999999999},null,{"$f":"N181-P181*O181","v":5.9122665474898979E-2},{"$f":"R178","v":1.2},{"$f":"F181*$D$106","v":1.3676417221272841},{"$f":"IF(ABS(J180)<$K$106,$Q$106*C181*$H$106*$J$106,IF(J180>0,1,-1)*$H$106*$K$106)","v":0.11352452892667389},{"$f":"IF(L178<$O$106,$Q$106*C181*$L$106*$N$106,-$L$106*$O$106)","v":0.11352452892667389},{"$f":"-(R181+0.0001)","v":-1.2000999999999999},{"$f":"IF(ABS(J180)<$K$106,$I$106*$Q$106*C181*$H$106*$J$106,0)","v":6.8114717356004325E-3},{"$f":"IF(L178<$O$106,($C$106-$M$106)*$Q$106*C181*$L$106*$N$106,0)","v":5.4491773884803481E-2},{"$f":"IF(B180<$C$406,0,IF(C178*J180/J179=C181,Y178,(B180-$C$6)/B180))","v":0.2995136203294323},{"$f":"IF(B181<=$C$106,0,(B181-$C$106)/B181)","v":0.29844205065948121}]
[null,{"$f":"MIN(0.5*(-(T182+U182+V182)+SQRT((T182+U182+V182)^2+4*S182*(W182+X182)))/S182,1000*$C$6)","v":0.78401781119640668},{"$f":"0.98*C181","v":3.3727547129895835E-4},5.9577720392381107E-2,{"$f":"IF($C$2=1,-($Z$106-2)*C182/$Z$5,3*($Z$5/C182)^2)","v":-0.11990291011645882},{"$f":"IF($C$2=1,0.5*($Z$106*C182*$F$106/$Z$5)*(1-Y182^2+(D182-E182)*(E182^2*(1-Y182^2)+2*E182*(1-Y182)+2*LN((1-E182)/(1-E182*Y182)))/(E182^3)),$F$106*E182*(LN((1-D182+D182^2)/(1+D182)^2)/(6*D182)+ATAN((2-D182)/(D182*3^0.5))/(D182*3^0.5)-LN((Y182^2-D182*Y182+D182^2)/(Y182+D182)^2)/(6*D182)-ATAN((2*Y182-D182)/(D182*3^0.5))/(D182*3^0.5)))","v":3.2015163079781281},{"$f":"IF($C$2=1,($Z$106*C182*$F$106/$Z$5)*(1-Y182^3-(D182-E182)*(-2*E182^3*(1-Y182^3)-3*E182^2*(1-Y182^2)-6*E182*(1-Y182)-6*LN((1-E182)/(1-E182*Y182)))/(2*E182^4))/3,$F$106*E182*(LN((1+D182^3)/(D182^3+Y182^3)))/3)","v":2.2601187309689652},{"$f":"G182/F182","v":0.70595259044496661},{"$f":"F182*B182*$D$106","v":1.0542192394820573},{"$f":"MAX(MIN($K$106,$Q$106*$J$106*C182*(B182-$I$106)/B182),-$K$106)","v":170.32876751473188},0.10273989210610281,{"$f":"MIN($O$106,$Q$106*$N$106*C182*(C$106-B182-$M$106)/B182)","v":-71.521692260638403},-4.3140868411839658E-2,{"$f":"(0.5*$C$106-B182+H182*B182)*I182+(0.5*$C$106-$I$106)*K182+(0.5*$C$106-$M$106)*M182","v":5.4116966140745924E-2},{"$f":"I182+K182-M182","v":1.2000999999999999},null,{"$f":"N182-P182*O182","v":5.4116966140745924E-2},{"$f":"R181","v":1.2},1.3446368493508138,0.11125403834814039,{"$f":"IF(L181<$O$106,$Q$106*C182*$L$106*$N$106,-$L$106*$O$106)","v":0.11125403834814039},{"$f":"-(R182+0.0001)","v":-1.2000999999999999},6.6752423008884249E-3,{"$f":"IF(L181<$O$106,($C$106-$M$106)*$Q$106*C182*$L$106*$N$106,0)","v":5.3401938407107399E-2},{"$f":"IF(B181<$C$106,0,IF(MIN(ABS($Q$180-Q181),ABS(Q181-Q180))<=0.001*Q$180,Y181,(B181-$C$106)/B181))","v":0.29844205065948121},0.31124013729233635]
[null,0.7983771956504776,{"$f":"IF(Z182>0,0.99*C182,0.98*C182)","v":3.3390271658596875E-4},5.8981943188457293E-2,-0.11870388101529424,3.1442162502692912,2.2315556056488233,{"$f":"G183/F183","v":0.70973350050515716},1.0543136320116357,168.87681479758342,0.10186409486010857,-72.817155002022716,-4.3922273128255453E-2,5.2503551282631622E-2,{"$f":"I183+K183-M183","v":1.2000999999999997},null,{"$f":"N183-P183*O183","v":5.2503551282631622E-2},{"$f":"R182","v":1.2},1.3205708251131023,0.110141497964659,0.110141497964659,{"$f":"-(R183+0.0001)","v":-1.2000999999999999},6.6084898778795403E-3,5.2867919023036322E-2,{"$f":"IF(B182<$C$106,0,IF(MIN(ABS($Q$180-Q182),ABS(Q182-Q181))<=0.001*Q$180,Y182,(B182-$C$106)/B182))","v":0.31124013729233635},0.32362797567128004]
[null,0.77560850918253055,{"$f":"IF(MIN(ABS($Q$180-Q183),10*ABS(Q183-Q182))<=0.001*Q$180,C183,MAX(0.9*C183,MIN($W$6,1.05*C183,IF(C183=$W$6,0.5*(C183+C182),C183+IF(C183=C182,0,(C183-C182)*(Q183-Q$180)/(Q182-Q183))))))","v":3.4745195873184264E-4},6.1375336805214009E-2,-0.12352069605644149,3.2253431534274619,2.300277286802225,0.71318838876347124,1.0506735098294213,175.31037560514494,0.1057447273150446,-72.418421681522773,-4.3681762855534031E-2,6.2989043036177153E-2,1.2000999999999999,null,6.2989043036177153E-2,1.2,1.354644124439534,0.11461086509497469,0.11461086509497469,-1.2000999999999999,6.8766519056984799E-3,5.5013215245587853E-2,0.32362797567128004,0.30377246561007332]
[null,0.77590120137677343,{"$f":"IF(MIN(ABS($Q$180-Q184),10*ABS(Q184-Q183))<=0.001*Q$180,C184,MAX(0.9*C184,MIN($W$6,1.05*C184,IF(C184=$W$6,0.5*(C184+C183),C184+IF(C184=C183,0,(C184-C183)*(Q184-Q$180)/(Q183-Q184))))))","v":3.4227805761840907E-4},6.0461397725426184E-2,-0.1216813515059284,3.2308634951403978,2.2855073693588555,0.70739830785068136,1.0528689642927942,172.7052940916189,0.10417337916562457,-71.383738297351314,-4.3057656541581169E-2,5.8076076447194959E-2,1.2000999999999999,null,5.8076076447194959E-2,1.2,1.356962667958967,0.11290419668334506,0.11290419668334506,-1.2000999999999999,6.7742518010007035E-3,5.4194014408005635E-2,0.30377246561007332,0.30403510261124217]
[null,0.77399138619912211,3.4323532153127524E-4,6.0630492742987971E-2,-0.12202166302772414,3.2381670447445838,2.2908640218431913,0.70745702435616231,1.0526516278765936,173.15249091440168,0.10444312193423189,-71.296855692820728,-4.3005250189174504E-2,5.8770465376925575E-2,1.2000999999999999,null,5.8770465376925575E-2,1.2,1.3600301587927253,0.11321996075495436,0.11321996075495436,-1.2000999999999999,6.7931976452972618E-3,5.4345581162378094E-2,0.30403510261124217,0.3023178169310064]
[null,0.77247544660086931,3.4353115918351441E-4,6.0682750717333873E-2,-0.12212683461132279,3.2446082621348267,2.2937876046159915,0.70695363486092089,1.0526796908617377,173.27315287655554,0.10451590351513498,-71.129669118129343,-4.2904405623127279E-2,5.8865648588730633E-2,1.2001000000000002,null,5.8865648588730633E-2,1.2,1.3627354700966272,0.11331754607113605,0.11331754607113605,-1.2000999999999999,6.7990527642681625E-3,5.4392422114145321E-2,0.3023178169310064,0.30094865490396244]
[null,0.77098706323756894,3.4390230894801581E-4,6.0748312131592673E-2,-0.12225877998132366,3.2508528517471809,2.2968934528628444,0.70655103679281328,1.0526735071381346,173.43215652290056,0.10461181225508727,-70.980917244473602,-4.281468060677824E-2,5.9036753932728864E-2,1.2000999999999999,null,5.9036753932728864E-2,1.2,1.3653581977338158,0.11343997391913137,0.11343997391913137,-1.2000999999999999,6.8063984351478838E-3,5.4451187481183071E-2,0.30094865490396244,0.2995991427762692]
[null,0.77098706323756894,3.4390230894801581E-4,6.0748312131592673E-2,-0.12225877998132366,3.2508528517471809,2.2968934528628444,0.70655103679281328,1.0526735071381346,173.43215652290056,0.10461181225508727,-70.980917244473602,-4.281468060677824E-2,5.9036753932728864E-2,1.2000999999999999,null,5.9036753932728864E-2,1.2,1.3653581977338158,0.11343997391913137,0.11343997391913137,-1.2000999999999999,6.8063984351478838E-3,5.4451187481183071E-2,0.30094865490396244,0.2995991427762692]
[null,0.77098706323756894,3.4390230894801581E-4,6.0748312131592673E-2,-0.12225877998132366,3.2508528517471809,2.2968934528628444,0.70655103679281328,1.0526735071381346,173.43215652290056,0.10461181225508727,-70.980917244473602,-4.281468060677824E-2,5.9036753932728864E-2,1.2000999999999999,null,5.9036753932728864E-2,1.2,1.3653581977338158,0.11343997391913137,0.11343997391913137,-1.2000999999999999,6.8063984351478838E-3,5.4451187481183071E-2,0.30094865490396244,0.2995991427762692]
[null,0.77098706323756894,3.4390230894801581E-4,6.0748312131592673E-2,-0.12225877998132366,3.2508528517471809,2.2968934528628444,0.70655103679281328,1.0526735071381346,173.43215652290056,0.10461181225508727,-70.980917244473602,-4.281468060677824E-2,5.9036753932728864E-2,1.2000999999999999,null,5.9036753932728864E-2,1.2,1.3653581977338158,0.11343997391913137,0.11343997391913137,-1.2000999999999999,6.8063984351478838E-3,5.4451187481183071E-2,0.30094865490396244,0.2995991427762692]
[null,0.77098706323756894,3.4390230894801581E-4,6.0748312131592673E-2,-0.12225877998132366,3.2508528517471809,2.2968934528628444,0.70655103679281328,1.0526735071381346,173.43215652290056,0.10461181225508727,-70.980917244473602,-4.281468060677824E-2,5.9036753932728864E-2,1.2000999999999999,null,5.9036753932728864E-2,1.2,1.3653581977338158,0.11343997391913137,0.11343997391913137,-1.2000999999999999,6.8063984351478838E-3,5.4451187481183071E-2,0.30094865490396244,0.2995991427762692]
[null,0.77098706323756894,3.4390230894801581E-4,6.0748312131592673E-2,-0.12225877998132366,3.2508528517471809,2.2968934528628444,0.70655103679281328,1.0526735071381346,173.43215652290056,0.10461181225508727,-70.980917244473602,-4.281468060677824E-2,5.9036753932728864E-2,1.2000999999999999,null,5.9036753932728864E-2,1.2,1.3653581977338158,0.11343997391913137,0.11343997391913137,-1.2000999999999999,6.8063984351478838E-3,5.4451187481183071E-2,0.30094865490396244,0.2995991427762692]
[null,0.77098706323756894,3.4390230894801581E-4,6.0748312131592673E-2,-0.12225877998132366,3.2508528517471809,2.2968934528628444,0.70655103679281328,1.0526735071381346,173.43215652290056,0.10461181225508727,-70.980917244473602,-4.281468060677824E-2,5.9036753932728864E-2,1.2000999999999999,null,5.9036753932728864E-2,1.2,1.3653581977338158,0.11343997391913137,0.11343997391913137,-1.2000999999999999,6.8063984351478838E-3,5.4451187481183071E-2,0.30094865490396244,0.2995991427762692]
[null,0.77098706323756894,3.4390230894801581E-4,6.0748312131592673E-2,-0.12225877998132366,3.2508528517471809,2.2968934528628444,0.70655103679281328,1.0526735071381346,173.43215652290056,0.10461181225508727,-70.980917244473602,-4.281468060677824E-2,5.9036753932728864E-2,1.2000999999999999,null,5.9036753932728864E-2,1.2,1.3653581977338158,0.11343997391913137,0.11343997391913137,-1.2000999999999999,6.8063984351478838E-3,5.4451187481183071E-2,0.30094865490396244,0.2995991427762692]
[null,0.77098706323756894,3.4390230894801581E-4,6.0748312131592673E-2,-0.12225877998132366,3.2508528517471809,2.2968934528628444,0.70655103679281328,1.0526735071381346,173.43215652290056,0.10461181225508727,-70.980917244473602,-4.281468060677824E-2,5.9036753932728864E-2,1.2000999999999999,null,5.9036753932728864E-2,1.2,1.3653581977338158,0.11343997391913137,0.11343997391913137,-1.2000999999999999,6.8063984351478838E-3,5.4451187481183071E-2,0.30094865490396244,0.2995991427762692]
[null,0.77098706323756894,3.4390230894801581E-4,6.0748312131592673E-2,-0.12225877998132366,3.2508528517471809,2.2968934528628444,0.70655103679281328,1.0526735071381346,173.43215652290056,0.10461181225508727,-70.980917244473602,-4.281468060677824E-2,5.9036753932728864E-2,1.2000999999999999,null,5.9036753932728864E-2,1.2,1.3653581977338158,0.11343997391913137,0.11343997391913137,-1.2000999999999999,6.8063984351478838E-3,5.4451187481183071E-2,0.30094865490396244,0.2995991427762692]
[null,0.77098706323756894,3.4390230894801581E-4,6.0748312131592673E-2,-0.12225877998132366,3.2508528517471809,2.2968934528628444,0.70655103679281328,1.0526735071381346,173.43215652290056,0.10461181225508727,-70.980917244473602,-4.281468060677824E-2,5.9036753932728864E-2,1.2000999999999999,null,{"$f":"IF(B198>10*B106,Q180,IF(Q180<0.000001,0,N198-P198*O198))","v":5.9036753932728864E-2},1.2,1.3653581977338158,0.11343997391913137,0.11343997391913137,-1.2000999999999999,6.8063984351478838E-3,5.4451187481183071E-2,0.30094865490396244,0.2995991427762692]
[null,null,null,null,null,null,null,null,null,{"$f":"MAX(J178,J198)/K106","v":0.37839743241360119},null,{"$f":"MAX(L178,L198)/O106","v":-0.15470113153253442},null,null,null,{"$f":"IF(Q180=0.0001,ABS(INDEX(Snitkræfter!$G$286:$U$286,B109+1))*($Q$6*C198/B198)/Q180,IF(B198>10*$C$6,(J180-L180)/$C$6,$Q$6*C198/B198))*IF(AND(B198>10*$C$6,O180=O179),P108,P108)","v":-1.2196576104574631E-3},null,null,null,null,null,null,null,null,null,null,{"$f":"(Q178-Q198)/(P179-P199)","v":-333.93631079993941}]
[]
[]
[null,"Tilstand:",{"$f":"C102","v":1}]
[]
[null,"L","h","b","fck","fcd","Ecd","Ac","ac","Esc","fyd_c","At","at","Est","fyd_t","Modenhed","1+f","uterm","g","EI","sc/fcd","sc","e","   emax",null,{"$f":"Stivheder!$AD$4","v":3.5000000000000001E-3}]
[null,"(m)","(m)","(m)","(Mpa)","(Mpa)","(Mpa)","(m2)","(m)","(Mpa)","(Mpa)","(m2)","(m)","(Mpa)","(Mpa)","(døgn)",null,"(m)",null,"(Mnm2)",null,"(MPa)",null,"e1",null,{"$f":"Stivheder!$AD$5","v":2.0693662482105194E-3}]
[null,{"$f":"Stivheder!$B$6","v":0.54},{"$f":"Stivheder!$C$6","v":0.54},{"$f":"Stivheder!$D$6","v":0.42},{"$f":"Stivheder!$E$6","v":25},{"$f":"Stivheder!$F$6","v":17.857142857142858},{"$f":"IF(C202=1,1000*22*((E206+8)/10)^0.3/S206,1.4*F206/Z205)","v":22482.71872144239},{"$f":"IF(P208<0,Stivheder!$X$6,Stivheder!$T$6)","v":6.0318578948924026E-4},{"$f":"IF(P208<0,Stivheder!$Y$6,Stivheder!$U$6)","v":0.06},{"$f":"IF(P208<0,Stivheder!$Z$6,Stivheder!$V$6)","v":200000},{"$f":"IF(P208<0,Stivheder!$AA$6,Stivheder!$W$6)","v":458.33333333333337},{"$f":"IF(P208<0,Stivheder!$T$6,Stivheder!$X$6)","v":6.0318578948924026E-4},{"$f":"IF(P208<0,Stivheder!$U$6,Stivheder!$Y$6)","v":0.06},{"$f":"IF(P208<0,Stivheder!$V$6,Stivheder!$Z$6)","v":200000},{"$f":"IF(P208<0,Stivheder!$W$6,Stivheder!$AA$6)","v":458.33333333333337},{"$f":"Stivheder!$P$6","v":28},{"$f":"Stivheder!$Q$6","v":2.7343237157040781},{"$f":"Stivheder!$R$6","v":0},{"$f":"Stivheder!$S$6","v":1.4},{"$f":"AA279","v":48.219872305437285},{"$f":"U106","v":0.99999990000000005},{"$f":"U206*F206","v":17.857141071428572},{"$f":"Z204","v":3.5000000000000001E-3},"k",null,{"$f":"Stivheder!$AD$6","v":2.7356687822616226}]
[]
[null,"punkt","elasttisk","e_o","sc_o/fcd","sc_u/fcd","sc_o","sc_u","hc","At","Ac","Ic","Wt","E",null,{"$f":"SIGN(Q208)","v":-1},{"$f":"INDEX(Snitkræfter!$G$199:$U$199,B209+1)","v":-1.5107572311204454E-2},{"$f":"INDEX(Snitkræfter!$G$59:$U$59,B209+1)*P208","v":0}]
[null,{"$f":"(ROW()-9)/100","v":2},"skøn",{"$f":"IF(C202=1,Z205*0.5*(-((Z206-2)*E209-Z206)-(((Z206-2)*E209-Z206)^2-4*E209)^0.5),G209/(1.4*F206/Z205))","v":2.6255116132444754E-4},{"$f":"MIN(0.9999,G209/F206)","v":0.30273443891290552},{"$f":"H209/F206","v":0.22197139995351287},{"$f":"IF(H209>0,R211/J209+MAX(Q211+Stivheder!$O$2*R211+R211*R206,D206*C206^2*0.003*E206)/M209,MIN(0.8*F206,2*(R211+Q211/(C206-M206-0.333*I209))/(((R211+L206*O206)/(F206*D206*0.5))*D206)))","v":5.4059721234447418},{"$f":"R211/J209-(Q211+Stivheder!$O$2*R211+R211*R206)/M209","v":3.9637749991698725},{"$f":"IF(H209>0,C206*G209/(G209-H209),(R211+L206*O206)/(F206*D206*0.5))","v":2.0241511354614126},{"$f":"K209+Q206*(H206+L206)*N206/G206","v":0.25614351898648502},{"$f":"C206*D206","v":0.2268},{"$f":"D206*C206^3/12","v":5.5112400000000006E-3},{"$f":"(L209+((0.5*C206-I206)^2*H206+(0.5*C206-M206)^2*L206)*Q206)/(0.5*C206)","v":2.0950773034997532E-2},{"$f":"G209/D209","v":20590.166488596533}]
[null,"hc","e0","a'","b'","N'","tN'","t'","Nc","sac","Nac","sat","Nat","Mtot","N",null,"Mo","N","A","B1","B2","B3","C1","C2","gættet x","beregnet x","EIt"]
[null,{"$f":"I209","v":2.0241511354614126},null,null,null,null,null,null,null,null,null,null,null,null,null,null,{"$f":"MAX(ABS(Q208),0.0000001)","v":1.5107572311204454E-2},{"$f":"INDEX(Snitkræfter!$G$52:$U$52,B209+1)","v":1.2}]
[null,{"$f":"MIN(0.5*(-(T212+U212+V212)+SQRT((T212+U212+V212)^2+4*S212*(W212+X212)))/S212,1000*$C$6)","v":1.9676657267538118},{"$f":"D209","v":2.6255116132444754E-4},{"$f":"IF($C$2=1,C212/($Z$206*$Z$5),2^(1/3)*$Z$5/C212)","v":4.6378112282638412E-2},{"$f":"IF($C$2=1,-($Z$206-2)*C212/$Z$5,3*($Z$5/C212)^2)","v":-9.3338090007004715E-2},{"$f":"IF($C$2=1,0.5*($Z$206*C212*$F$206/$Z$5)*(1-Y212^2+(D212-E212)*(E212^2*(1-Y212^2)+2*E212*(1-Y212)+2*LN((1-E212)/(1-E212*Y212)))/(E212^3)),$F$206*E212*(LN((1-D212+D212^2)/(1+D212)^2)/(6*D212)+ATAN((2-D212)/(D212*3^0.5))/(D212*3^0.5)-LN((Y212^2-D212*Y212+D212^2)/(Y212+D212)^2)/(6*D212)-ATAN((2*Y212-D212)/(D212*3^0.5))/(D212*3^0.5)))","v":1.2713359023597426},{"$f":"IF($C$2=1,($Z$206*C212*$F$206/$Z$5)*(1-Y212^3-(D212-E212)*(-2*E212^3*(1-Y212^3)-3*E212^2*(1-Y212^2)-6*E212*(1-Y212)-6*LN((1-E212)/(1-E212*Y212)))/(2*E212^4))/3,$F$206*E212*(LN((1+D212^3)/(D212^3+Y212^3)))/3)","v":1.1094462106735281},{"$f":"G212/F212","v":0.87266174786244222},{"$f":"F212*B212*$D$206","v":1.0506569145512563},{"$f":"MAX(MIN($K$206,$Q$206*$J$206*C212*(B212-$I$206)/B212),-$K$206)","v":139.20179153265207},{"$f":"J212*$H$206","v":8.3964542523939381E-2},{"$f":"MIN($O$206,$Q$206*$N$206*C212*(C$206-B212-$M$206)/B212)","v":-108.55451846809864},{"$f":"L212*$L$206","v":-6.5478542924804387E-2},{"$f":"(0.5*$C$206-B212+H212*B212)*I212+(0.5*$C$206-$I$206)*K212+(0.5*$C$206-$M$206)*M212","v":2.430776075883672E-2},{"$f":"I212+K212-M212","v":1.2001000000000002},null,{"$f":"N212-P212*O212","v":2.430776075883672E-2},{"$f":"R211","v":1.2},{"$f":"F212*$D$206","v":0.53396107899109191},{"$f":"IF(ABS(J211)<$K$206,$Q$206*C212*$H$206*$J$206,IF(J211>0,1,-1)*$H$206*$K$206)","v":8.6605399609530093E-2},{"$f":"IF(L211<$O$206,$Q$206*C212*$L$206*$N$206,-$L$206*$O$206)","v":8.6605399609530093E-2},{"$f":"-(R212+0.0001)","v":-1.2000999999999999},{"$f":"IF(ABS(J211)<$K$206,$I$206*$Q$206*C212*$H$206*$J$206,0)","v":5.1963239765718053E-3},{"$f":"IF(L211<$O$206,($C$206-$M$206)*$Q$206*C212*$L$206*$N$206,0)","v":4.1570591812574449E-2},{"$f":"IF(B211<$C$206,0,(B211-$C$206)/B211)","v":0.73322150182382251},{"$f":"IF(B212<=$C$206,0,(B212-$C$206)/B212)","v":0.7255631418193812}]
[null,{"$f":"MIN(0.5*(-(T213+U213+V213)+SQRT((T213+U213+V213)^2+4*S213*(W213+X213)))/S213,1000*$C$6)","v":2.0227439182947831},{"$f":"0.95*C212","v":2.4942360325822514E-4},4.405920666850649E-2,-8.8671185506654482E-2,1.2447898321696238,1.0820435799892711,{"$f":"G213/F213","v":0.86925804824683395},1.0575142462820417,{"$f":"MAX(MIN($K$206,$Q$206*$J$206*C213*(B213-$I$206)/B213),-$K$206)","v":132.35495663961686},7.9834629013481456E-2,-104.03283001347275,-6.2751124704476482E-2,9.4488215433312511E-3,{"$f":"I213+K213-M213","v":1.2000999999999997},null,{"$f":"N213-P213*O213","v":9.4488215433312511E-3},{"$f":"R212","v":1.2},0.522811729511242,{"$f":"IF(ABS(J212)<$K$206,$Q$206*C213*$H$206*$J$206,IF(J212>0,1,-1)*$H$206*$K$206)","v":8.2275129629053576E-2},8.2275129629053576E-2,{"$f":"-(R213+0.0001)","v":-1.2000999999999999},{"$f":"IF(ABS(J212)<$K$206,$I$206*$Q$206*C213*$H$206*$J$206,0)","v":4.9365077777432141E-3},3.949206222194572E-2,0.7255631418193812,0.73303590478460978]
[null,2.0294939595152766,{"$f":"IF(ABS($Q$211-Q213)<=0.001*Q$211,C213,MAX(0.9*C213,MIN($W$6,1.05*C213,IF(C213=$W$6,0.5*(C213+C212),C213+IF(C213=C212,0,(C213-C212)*(Q213-Q$211)/(Q212-Q213))))))","v":2.5442298970231383E-4},4.4942318762464135E-2,-9.044848932639081E-2,1.2372093913360991,1.0795912815177628,0.87260191288386535,1.0545817742763177,135.02157408704093,8.1443094763771734E-2,-106.22785230760769,-6.4075130959910756E-2,1.5718386329993124E-2,1.2001000000000002,null,1.5718386329993124E-2,1.2,0.51962794436116155,8.3924232450037564E-2,8.3924232450037564E-2,-1.2000999999999999,5.0354539470022549E-3,4.0283631576018039E-2,0.73303590478460978,0.7339238200398619]
[null,2.0391236418612397,{"$f":"IF(ABS($Q$211-Q214)<=0.001*Q$211,C214,MAX(0.9*C214,MIN($W$6,1.05*C214,IF(C214=$W$6,0.5*(C214+C213),C214+IF(C214=C213,0,(C214-C213)*(Q214-Q$211)/(Q213-Q214))))))","v":2.539359231467711E-4},4.4856281331556856E-2,-9.0275335028495815E-2,1.2315691015951407,1.0751639730420541,0.87300336753292285,1.0547551020923525,134.7824773501199,8.1298875009747723E-2,-106.17959509976514,-6.4046022897899707E-2,1.5265659056246184E-2,1.2000999999999997,null,1.5265659056246184E-2,1.2,0.51725902266995905,8.3763568168583158E-2,8.3763568168583158E-2,-1.2000999999999999,5.0258140901149884E-3,4.0206512720919914E-2,0.7339238200398619,0.73518035448448471]
[null,2.0486703193940055,2.5376584555072268E-4,4.4826238128523571E-2,-9.0214871696747204E-2,1.225823148516914,1.0708426631060846,0.87357027349472427,1.054749150500939,134.71123299933677,8.1255901429773944E-2,-106.2607063796393,-6.4094948069287089E-2,1.519251034876992E-2,1.2001000000000002,null,1.519251034876992E-2,1.2,0.51484572237710391,8.37074661955578E-2,8.37074661955578E-2,-1.2000999999999999,5.0224479717334673E-3,4.0179583773867746E-2,0.73518035448448471,0.73641439772518813]
[null,2.05838474153254,2.5356835665801884E-4,4.479135288179989E-2,-9.0144663528748295E-2,1.220048439120865,1.0664778559853723,0.87412747050752204,1.0547582182271318,134.62556288324754,8.1204226433165022E-2,-106.3313434389968,-6.4137555339702834E-2,1.5087094820240983E-2,1.2000999999999995,null,1.5087094820240983E-2,1.2,0.51242034443076334,8.3642322303659616E-2,8.3642322303659616E-2,-1.2000999999999999,5.0185393382195772E-3,4.0148314705756624E-2,0.73641439772518813,0.73765837401323187]
[null,2.0663295793801963,2.5360671985812951E-4,4.479812951456464E-2,-9.0158301814737302E-2,1.2152349042974107,1.0629523968182295,0.87468883016718202,1.0546518480309008,134.66147440424979,8.1225887752312528E-2,-106.47177923599286,-6.4222264216786451E-2,1.5241351775179093E-2,1.2000999999999997,null,1.5241351775179093E-2,1.2,0.5103986598049125,8.3654976828816244E-2,8.3654976828816244E-2,-1.2000999999999999,5.0192986097289758E-3,4.0154388877831806E-2,0.73765837401323187,0.7386670522511829]
[null,2.0733569821410409,2.5357344934303852E-4,4.4792252474536297E-2,-9.0146474000621091E-2,1.2110528389855326,1.0598461782010518,0.8751444561980114,1.0545968409700011,134.65745584021261,8.1223463811591151E-2,-106.56699202552116,-6.4279695218407554E-2,1.5295734546906236E-2,1.2000999999999997,null,1.5295734546906236E-2,1.2,0.50864219237392372,8.3644002182045943E-2,8.3644002182045943E-2,-1.2000999999999999,5.0186401309227566E-3,4.014912104738206E-2,0.7386670522511829,0.73955280993513628]
[null,2.0783866106535576,2.5368856400718033E-4,4.4812586800204543E-2,-9.0187397768882446E-2,1.207986039546028,1.057645351515802,0.87554434976191831,1.0544780443885311,134.72830179946624,8.1266197087455666E-2,-106.69309464088664,-6.4355758524013443E-2,1.5501637038836244E-2,1.2001000000000004,null,1.5501637038836244E-2,1.2,0.50735413660933171,8.3681974025090283E-2,8.3681974025090283E-2,-1.2000999999999999,5.0209184415054156E-3,4.0167347532043332E-2,0.73955280993513628,0.74018308372849129]
[null,2.084479119707507,2.5346825278925255E-4,4.4773670124495943E-2,-9.0109076164114968E-2,1.2045272684506936,1.0549609403330995,0.87582985289326687,1.0545410148855916,134.62299517915901,8.1202677630547213E-2,-106.69400474165039,-6.4356307483861133E-2,1.531687762688678E-2,1.2000999999999999,null,1.531687762688678E-2,1.2,0.50590145274929132,8.3609301937216635E-2,8.3609301937216635E-2,-1.2000999999999999,5.016558116232998E-3,4.0132464929863991E-2,0.74018308372849129,0.74094247579905115]
[null,2.091731001147521,2.5321867249166347E-4,4.4729583238699175E-2,-9.0020349273086081E-2,1.2004290114543106,1.0517845869770925,0.87617391527622579,1.0546093227330586,134.50425609272281,8.1131055900951959E-2,-106.69949870749956,-6.4359621365989286E-2,1.5111250568579367E-2,1.2000999999999999,null,1.5111250568579367E-2,1.2,0.50418018481081039,8.3526975120232355E-2,8.3526975120232355E-2,-1.2000999999999999,5.0116185072139408E-3,4.0092948057711533E-2,0.74094247579905115,0.74184060966550824]
[null,2.0979097866797511,2.5321867249166347E-4,4.4729583238699175E-2,-9.0020349273086081E-2,1.1968214188540607,1.0491099480422612,0.87658019109214214,1.0545458143591893,134.51595478673786,8.1138112386937425E-2,-106.79308825962005,-6.4416073253873038E-2,1.5192173135729967E-2,1.2000999999999997,null,1.5192173135729967E-2,1.2,0.5026649959187055,8.3526975120232355E-2,8.3526975120232355E-2,-1.2000999999999999,5.0116185072139408E-3,4.0092948057711533E-2,0.74184060966550824,0.74260094336342797]
[null,2.1031750690172548,2.5321867249166347E-4,4.4729583238699175E-2,-9.0020349273086081E-2,1.1937642524173633,1.0468408554163608,0.87692427822035746,1.0544919898666523,134.52586964095863,8.1144092886108257E-2,-106.87240709338607,-6.4463917247239558E-2,1.5260644385412915E-2,1.2001000000000002,null,1.5260644385412915E-2,1.2,0.50138098601529257,8.3526975120232355E-2,8.3526975120232355E-2,-1.2000999999999999,5.0116185072139408E-3,4.0092948057711533E-2,0.74260094336342797,0.74324533988874053]
[null,2.1076624811329325,2.5321867249166347E-4,4.4729583238699175E-2,-9.0020349273086081E-2,1.1911710348012532,1.0449142939275051,0.87721600290746571,1.0544463294384145,134.53428061648836,8.1149166267023523E-2,-106.93969489762405,-6.4504504294561837E-2,1.5318649557187036E-2,1.2000999999999999,null,1.5318649557187036E-2,1.2,0.50029183461652638,8.3526975120232355E-2,8.3526975120232355E-2,-1.2000999999999999,5.0116185072139408E-3,4.0092948057711533E-2,0.74324533988874053,0.7437919947648669]
[null,2.1114873569189339,2.5321867249166347E-4,4.4729583238699175E-2,-9.0020349273086081E-2,1.1889695626206593,1.0432774582006243,0.87746355415616473,1.0544075636786818,134.54142154505806,8.1153473573660526E-2,-106.99682232618152,-6.453896274765776E-2,1.5367838228483012E-2,1.2001000000000002,null,1.5367838228483012E-2,1.2,0.49936721630067693,8.3526975120232355E-2,8.3526975120232355E-2,-1.2000999999999999,5.0116185072139408E-3,4.0092948057711533E-2,0.7437919947648669,0.74425610542704657]
[null,2.1147478144329157,2.5321867249166347E-4,4.4729583238699175E-2,-9.0020349273086081E-2,1.1870993630825977,1.0418859847228761,0.87767377957087012,1.0543746291093243,134.54748832690044,8.1157132970255771E-2,-107.04535658092061,-6.4568237920419838E-2,1.5409586255563412E-2,1.2000999999999999,null,1.5409586255563412E-2,1.2,0.49858173249469101,8.3526975120232355E-2,8.3526975120232355E-2,-1.2000999999999999,5.0116185072139408E-3,4.0092948057711533E-2,0.74425610542704657,0.74465040402710869]
[null,2.1175273580121803,2.5321867249166347E-4,4.4729583238699175E-2,-9.0020349273086081E-2,1.1855096536796792,1.0407025203580296,0.87785242163808141,1.0543466324387916,134.55264551267061,8.1160243711426105E-2,-107.08661406708187,-6.4593123849782358E-2,1.5445044961637526E-2,1.2000999999999999,null,1.5445044961637526E-2,1.2,0.49791405454546522,8.3526975120232355E-2,8.3526975120232355E-2,-1.2000999999999999,5.0116185072139408E-3,4.0092948057711533E-2,0.74465040402710869,0.74498558521249869]
[null,2.1198970779809723,2.5321867249166347E-4,4.4729583238699175E-2,-9.0020349273086081E-2,1.184157692644674,1.0396955554348155,0.87800430795055717,1.0543228216525766,134.55703162878754,8.116288935433888E-2,-107.12170299601749,-6.4614288993084718E-2,1.5475180430100792E-2,1.2001000000000002,null,1.5475180430100792E-2,1.2,0.49734623091076302,8.3526975120232355E-2,8.3526975120232355E-2,-1.2000999999999999,5.0116185072139408E-3,4.0092948057711533E-2,0.74498558521249869,0.74527065223642575]
[null,2.1219175127634204,2.5321867249166347E-4,4.4729583238699175E-2,-9.0020349273086081E-2,1.1830074360762464,1.0388384669134758,0.8781335055331988,1.0543025624626068,134.56076351562402,8.1165140375446629E-2,-107.15155809070917,-6.46322971619466E-2,1.5500805251308012E-2,1.2000999999999999,null,1.5500805251308012E-2,1.2,0.49686312315202347,8.3526975120232355E-2,8.3526975120232355E-2,-1.2000999999999999,5.0116185072139408E-3,4.0092948057711533E-2,0.74527065223642575,0.74551319891000567]
[null,2.1236402270392429,2.5321867249166347E-4,4.4729583238699175E-2,-9.0020349273086081E-2,1.1820284380233355,1.038108729666815,0.87824344683517741,1.0542853190061015,134.5639398829143,8.1167056315058328E-2,-107.17696902903143,-6.4647624678840179E-2,1.5522604289609117E-2,1.2000999999999999,null,1.5522604289609117E-2,1.2,0.49645194396980086,8.3526975120232355E-2,8.3526975120232355E-2,-1.2000999999999999,5.0116185072139408E-3,4.0092948057711533E-2,0.74551319891000567,0.74571964067903229]
[null,2.1251091505434978,2.5321867249166347E-4,4.4729583238699175E-2,-9.0020349273086081E-2,1.1811949447096819,1.0374872633586614,0.87833703319282197,1.0542706379428717,134.56664423914447,8.1168687544306076E-2,-107.19860387887286,-6.4660674512822258E-2,1.5541155747634865E-2,1.2000999999999999,null,1.5541155747634865E-2,1.2,0.49610187677806639,8.3526975120232355E-2,8.3526975120232355E-2,-1.2000999999999999,5.0116185072139408E-3,4.0092948057711533E-2,0.74571964067903229,0.74589540501395202]
[null,2.1263617147472642,2.5321867249166347E-4,4.4729583238699175E-2,-9.0020349273086081E-2,1.180485145096235,1.0369578894679841,0.87841672025737316,1.0542581352914113,134.56894731643808,8.1170076727801688E-2,-107.21702849722168,-6.4671787980787029E-2,1.5556948557785092E-2,1.2000999999999999,null,1.5556948557785092E-2,1.2,0.49580376094041867,8.3526975120232355E-2,8.3526975120232355E-2,-1.2000999999999999,5.0116185072139408E-3,4.0092948057711533E-2,0.74589540501395202,0.74604508901055744]
[null,2.1274298185863971,2.5321867249166347E-4,4.4729583238699175E-2,-9.0020349273086081E-2,1.1798805482348957,1.0365068781956919,0.87848458875460633,1.0542474854876929,134.57090908600375,8.1171260039325954E-2,-107.23272265374706,-6.4681254472981162E-2,1.5570396610207761E-2,1.2000999999999999,null,1.5570396610207761E-2,1.2,0.49554983025865618,8.3526975120232355E-2,8.3526975120232355E-2,-1.2000999999999999,5.0116185072139408E-3,4.0092948057711533E-2,0.74604508901055744,0.7461725903800619]
[null,2.1283406494375883,2.5321867249166347E-4,4.4729583238699175E-2,-9.0020349273086081E-2,1.1793654640869988,1.0361225693581158,0.87854240344423351,1.0542384122588579,134.57258043926635,8.1172268175863163E-2,-107.24609347984763,-6.4689319565278749E-2,1.5581850711610487E-2,1.2000999999999997,null,1.5581850711610487E-2,1.2,0.4953334949165395,8.3526975120232355E-2,8.3526975120232355E-2,-1.2000999999999999,5.0116185072139408E-3,4.0092948057711533E-2,0.7461725903800619,0.74628121671091774]
[null,2.1291173813735567,2.5321867249166347E-4,4.4729583238699175E-2,-9.0020349273086081E-2,1.1789265692576942,1.0357950542285284,0.87859166231253238,1.0542306809872544,134.57400459446558,8.1173127206041362E-2,-107.25748672144148,-6.4696191806704384E-2,1.5591608448972371E-2,1.2001000000000002,null,1.5591608448972371E-2,1.2,0.49514915908823154,8.3526975120232355E-2,8.3526975120232355E-2,-1.2000999999999999,5.0116185072139408E-3,4.0092948057711533E-2,0.74628121671091774,0.74637377688794682]
[null,2.1297797692913063,2.5321867249166347E-4,4.4729583238699175E-2,-9.0020349273086081E-2,1.1785525427656782,1.0355159079741252,0.87863363778767745,1.0542240923042507,134.57521827672073,8.1173859281930633E-2,-107.26719617948297,-6.4702048413818644E-2,1.5599922464232776E-2,1.2000999999999999,null,1.5599922464232776E-2,1.2,0.49499206796158485,8.3526975120232355E-2,8.3526975120232355E-2,-1.2000999999999999,5.0116185072139408E-3,4.0092948057711533E-2,0.74637377688794682,0.74645265778832737]
[null,2.13034465461861,2.5321867249166347E-4,4.4729583238699175E-2,-9.0020349273086081E-2,1.1782337598326555,1.0352779641784255,0.87866941134454168,1.0542184767032876,134.57625271034544,8.1174483237593228E-2,-107.27547164848049,-6.4707040059119314E-2,1.5607007382332696E-2,1.2000999999999999,null,1.5607007382332696E-2,1.2,0.4948581791297153,8.3526975120232355E-2,8.3526975120232355E-2,-1.2000999999999999,5.0116185072139408E-3,4.0092948057711533E-2,0.74645265778832737,0.7465198887751453]
[null,2.1308263958883846,2.5321867249166347E-4,4.4729583238699175E-2,-9.0020349273086081E-2,1.1779620339242634,1.0350751245172967,0.87869990263527153,1.0542136900008794,134.57713445496273,8.1175015093416333E-2,-107.28252560541875,-6.4711294905704139E-2,1.5613045652632754E-2,1.2000999999999997,null,1.5613045652632754E-2,1.2,0.49474405424819057,8.3526975120232355E-2,8.3526975120232355E-2,-1.2000999999999999,5.0116185072139408E-3,4.0092948057711533E-2,0.7465198887751453,0.74657719603906858]
[null,2.1312372354338756,2.5321867249166347E-4,4.4729583238699175E-2,-9.0020349273086081E-2,1.1777303990580885,1.0349021978470756,0.87872589403717316,1.0542096095054982,134.57788611122453,8.1175468481792024E-2,-107.28853885551332,-6.4714922012709827E-2,1.5618192437438215E-2,1.2001000000000002,null,1.5618192437438215E-2,1.2,0.49464676760439719,8.3526975120232355E-2,8.3526975120232355E-2,-1.2000999999999999,5.0116185072139408E-3,4.0092948057711533E-2,0.74657719603906858,0.74662604846519243]
[null,2.1315876117491199,2.5321867249166347E-4,4.4729583238699175E-2,-9.0020349273086081E-2,1.1775329258146066,1.0347547640033181,0.87874805138674505,1.0542061307791066,134.57852691735985,8.1175855006946671E-2,-107.29366530459579,-6.471801421394692E-2,1.5622579741673749E-2,1.2001000000000002,null,1.5622579741673749E-2,1.2,0.49456382884213473,8.3526975120232355E-2,8.3526975120232355E-2,-1.2000999999999999,5.0116185072139408E-3,4.0092948057711533E-2,0.74662604846519243,0.74666769640451636]
[null,2.1318864256158867,2.5321867249166347E-4,4.4729583238699175E-2,-9.0020349273086081E-2,1.1773645656296552,1.0346290583947826,0.87876694152202761,1.0542031648961427,134.57907325408939,8.1176184549498209E-2,-107.29803599843214,-6.4720650554359216E-2,1.5626319917849567E-2,1.2001000000000002,null,1.5626319917849567E-2,1.2,0.49449311756445519,8.3526975120232355E-2,8.3526975120232355E-2,-1.2000999999999999,5.0116185072139408E-3,4.0092948057711533E-2,0.74666769640451636,0.74670320448989302]
[null,2.1321412668757165,2.5321867249166347E-4,4.4729583238699175E-2,-9.0020349273086081E-2,1.1772210188735466,1.0345218741217093,0.87878304713894539,1.0542006361209815,134.57953907245383,8.1176465524516114E-2,-107.30176254534757,-6.472289835450247E-2,1.5629508636609397E-2,1.2001000000000002,null,1.5629508636609397E-2,1.2,0.49443282792688953,8.3526975120232355E-2,8.3526975120232355E-2,-1.2000999999999999,5.0116185072139408E-3,4.0092948057711533E-2,0.74670320448989302,0.74673347944187751]
[null,2.1323586076882783,2.5321867249166347E-4,{"$f":"IF($C$2=1,C244/($Z$206*$Z$5),2^(1/3)*$Z$5/C244)","v":4.4729583238699175E-2},{"$f":"IF($C$2=1,-($Z$206-2)*C244/$Z$5,3*($Z$5/C244)^2)","v":-9.0020349273086081E-2},{"$f":"IF($C$2=1,0.5*($Z$206*C244*$F$206/$Z$5)*(1-Y244^2+(D244-E244)*(E244^2*(1-Y244^2)+2*E244*(1-Y244)+2*LN((1-E244)/(1-E244*Y244)))/(E244^3)),$F$206*E244*(LN((1-D244+D244^2)/(1+D244)^2)/(6*D244)+ATAN((2-D244)/(D244*3^0.5))/(D244*3^0.5)-LN((Y244^2-D244*Y244+D244^2)/(Y244+D244)^2)/(6*D244)-ATAN((2*Y244-D244)/(D244*3^0.5))/(D244*3^0.5)))","v":1.1770986229779983},{"$f":"IF($C$2=1,($Z$206*C244*$F$206/$Z$5)*(1-Y244^3-(D244-E244)*(-2*E244^3*(1-Y244^3)-3*E244^2*(1-Y244^2)-6*E244*(1-Y244)-6*LN((1-E244)/(1-E244*Y244)))/(2*E244^4))/3,$F$206*E244*(LN((1+D244^3)/(D244^3+Y244^3)))/3)","v":1.0344304788616612},0.87879677935957978,{"$f":"F244*B244*$D$206","v":1.0541984799381647},{"$f":"MAX(MIN($K$206,$Q$206*$J$206*C244*(B244-$I$206)/B244),-$K$206)","v":134.57993625665927},{"$f":"J244*$H$206","v":8.1176705100384647E-2},{"$f":"MIN($O$206,$Q$206*$N$206*C244*(C$206-B244-$M$206)/B244)","v":-107.30494001899118},{"$f":"L244*$L$206","v":-6.4724814961450758E-2},{"$f":"(0.5*$C$206-B244+H244*B244)*I244+(0.5*$C$206-$I$206)*K244+(0.5*$C$206-$M$206)*M244","v":1.5632227348372912E-2},1.2001000000000002,null,1.5632227348372912E-2,1.2,{"$f":"F244*$D$206","v":0.49438142165075927},8.3526975120232355E-2,{"$f":"IF(L243<$O$206,$Q$206*C244*$L$206*$N$206,-$L$206*$O$206)","v":8.3526975120232355E-2},-1.2000999999999999,5.0116185072139408E-3,{"$f":"IF(L243<$O$206,($C$206-$M$206)*$Q$206*C244*$L$206*$N$206,0)","v":4.0092948057711533E-2},{"$f":"IF(B243<$C$206,0,(B243-$C$206)/B243)","v":0.74673347944187751},{"$f":"IF(B244<=$C$206,0,(B244-$C$206)/B244)","v":0.746759293651164}]
[null,2.1325439672532358,2.5321867249166347E-4,4.4729583238699175E-2,-9.0020349273086081E-2,1.1769942574828163,1.0343525443065493,0.87880848842769355,1.0541966413804063,134.58027493207058,8.1176909384579998E-2,-107.3076494222817,-6.4726449235013597E-2,1.5634545443645856E-2,1.2000999999999999,null,1.5634545443645856E-2,1.2,0.49433758814278284,8.3526975120232355E-2,8.3526975120232355E-2,-1.2000999999999999,5.0116185072139408E-3,4.0092948057711533E-2,0.746759293651164,0.74678130519600394]
[null,2.1327020522180562,2.5321867249166347E-4,4.4729583238699175E-2,-9.0020349273086081E-2,1.1769052633891344,1.0342860861591014,0.87881847276361702,1.0541950736084202,134.58056372681739,8.1177083581467357E-2,-107.30995978025615,-6.4727842810112429E-2,1.5636522028028572E-2,1.2000999999999999,null,1.5636522028028572E-2,1.2,0.49430021062343643,8.3526975120232355E-2,8.3526975120232355E-2,-1.2000999999999999,5.0116185072139408E-3,4.0092948057711533E-2,0.74678130519600394,0.74680007484477806]
[null,2.1328368763747592,2.5321867249166347E-4,4.4729583238699175E-2,-9.0020349273086081E-2,1.1768293746198155,1.034229413135058,0.87882698668120385,1.0541937367038792,134.58080999413934,8.1177232126416379E-2,-107.31192991883174,-6.4729031169704548E-2,1.563820748310784E-2,1.2001000000000002,null,1.563820748310784E-2,1.2,0.49426833734032249,8.3526975120232355E-2,8.3526975120232355E-2,-1.2000999999999999,5.0116185072139408E-3,4.0092948057711533E-2,0.74680007484477806,0.74681608050689152]
[null,2.132951862701479,2.5321867249166347E-4,4.4729583238699175E-2,-9.0020349273086081E-2,1.1767646597427988,1.0341810835378433,0.8788342469121061,1.0541925966430634,134.58102000144748,8.1177358799840338E-2,-107.31360997729691,-6.4730044557096245E-2,1.5639644713091129E-2,1.2000999999999999,null,1.5639644713091129E-2,1.2,0.49424115709197547,8.3526975120232355E-2,8.3526975120232355E-2,-1.2000999999999999,5.0116185072139408E-3,4.0092948057711533E-2,0.74681608050689152,0.74682972952044691]
[null,2.1330499303676476,2.5321867249166347E-4,4.4729583238699175E-2,-9.0020349273086081E-2,1.1767094723933591,1.0341398683635454,0.87884043820958169,1.0541916244236744,134.5811990911715,8.1177466824216907E-2,-107.3150426950891,-6.4730908752108851E-2,1.5640870327634275E-2,1.2001000000000002,null,1.5640870327634275E-2,1.2,0.49421797840521081,8.3526975120232355E-2,8.3526975120232355E-2,-1.2000999999999999,5.0116185072139408E-3,4.0092948057711533E-2,0.74682972952044691,0.74684136910619492]
[null,2.1331335689102167,2.5321867249166347E-4,4.4729583238699175E-2,-9.0020349273086081E-2,1.1766624090875957,1.0341047198137037,0.87884571804717238,1.0541907953217968,134.58135181763228,8.1177558946647729E-2,-107.31626450677533,-6.4731645731555404E-2,1.5641915493224516E-2,1.2000999999999999,null,1.5641915493224516E-2,1.2,0.49419821181679019,8.3526975120232355E-2,8.3526975120232355E-2,-1.2000999999999999,5.0116185072139408E-3,4.0092948057711533E-2,0.74684136910619492,0.74685129526329785]
[null,2.1332049014859007,2.5321867249166347E-4,4.4729583238699175E-2,-9.0020349273086081E-2,1.1766222733076699,1.0340747445519884,0.87885022067875873,1.0541900882593098,134.58148206356967,8.1177637509146292E-2,-107.31730647427437,-6.4732274231543943E-2,1.5642806793874926E-2,1.2000999999999999,null,1.5642806793874926E-2,1.2,0.49418135478922132,8.3526975120232355E-2,8.3526975120232355E-2,-1.2000999999999999,5.0116185072139408E-3,4.0092948057711533E-2,0.74685129526329785,0.74685976034282564]
[null,2.1332657388056897,2.5321867249166347E-4,4.4729583238699175E-2,-9.0020349273086081E-2,1.1765880449204618,1.0340491808959318,0.87885406056954651,1.05418948526522,134.58159313936827,8.1177704508489573E-2,-107.31819508066326,-6.4732810226290169E-2,1.5643566906074241E-2,1.2000999999999997,null,1.5643566906074241E-2,1.2,0.49416697886659394,8.3526975120232355E-2,8.3526975120232355E-2,-1.2000999999999999,5.0116185072139408E-3,4.0092948057711533E-2,0.74685976034282564,0.7468669794967413]
[null,2.1333176251220198,2.5321867249166347E-4,4.4729583238699175E-2,-9.0020349273086081E-2,1.1765588541335423,1.034027379364076,0.87885733529715238,1.0541889710169103,134.58168786756326,8.1177761647190649E-2,-107.31895290622325,-6.4733267335898861E-2,1.564421512731809E-2,1.2000999999999999,null,1.564421512731809E-2,1.2,0.49415471873608774,8.3526975120232355E-2,8.3526975120232355E-2,-1.2000999999999999,5.0116185072139408E-3,4.0092948057711533E-2,0.7468669794967413,0.74687313617018769]
[null,2.1333618774501923,2.5321867249166347E-4,4.4729583238699175E-2,-9.0020349273086081E-2,1.1765339593054489,1.0340087861614122,0.87886012807639269,1.0541885324492679,134.58176865484134,8.1177810376928769E-2,-107.31959920444774,-6.4733657173803652E-2,1.5644767946150911E-2,1.2001000000000004,null,1.5644767946150911E-2,1.2,0.4941442629082885,8.3526975120232355E-2,8.3526975120232355E-2,-1.2000999999999999,5.0116185072139408E-3,4.0092948057711533E-2,0.74687313617018769,0.74687838678105023]
[null,2.133399619010814,2.5321867249166347E-4,4.4729583238699175E-2,-9.0020349273086081E-2,1.1765127280418834,1.0339929290463947,0.87886250985767911,1.0541881584216894,134.58183755338055,8.1177851935548537E-2,-107.32015039276136,-6.4733989642761766E-2,1.5645239410022209E-2,1.2000999999999997,null,1.5645239410022209E-2,1.2,0.49413534577759105,8.3526975120232355E-2,8.3526975120232355E-2,-1.2000999999999999,5.0116185072139408E-3,4.0092948057711533E-2,0.74687838678105023,0.74688286470662257]
[null,2.1334318077493433,2.5321867249166347E-4,4.4729583238699175E-2,-9.0020349273086081E-2,1.1764946210866092,1.0339794053114202,0.87886454113699042,1.0541878394343169,134.58189631312266,8.1177887378589969E-2,-107.32062047069826,-6.4734273187093253E-2,1.5645641488017028E-2,1.2001000000000002,null,1.5645641488017028E-2,1.2,0.49412774085637584,8.3526975120232355E-2,8.3526975120232355E-2,-1.2000999999999999,5.0116185072139408E-3,4.0092948057711533E-2,0.74688286470662257,0.74688668368094169]
[null,2.1334592606591647,2.5321867249166347E-4,4.4729583238699175E-2,-9.0020349273086081E-2,1.1764791785913919,1.0339678715473615,0.87886627350714319,1.0541875673861667,134.5819464263262,8.1177917606162206E-2,-107.32102137632664,-6.4734515007671217E-2,1.5645984399535226E-2,1.2001000000000002,null,1.5645984399535226E-2,1.2,0.49412125500838461,8.3526975120232355E-2,8.3526975120232355E-2,-1.2000999999999999,5.0116185072139408E-3,4.0092948057711533E-2,0.74688668368094169,0.74688994069042647]
[null,2.1334826745225994,2.5321867249166347E-4,4.4729583238699175E-2,-9.0020349273086081E-2,1.176466008414299,1.0339580348954489,0.8788677509595626,1.0541873353689994,134.58198916553806,8.1177943385847454E-2,-107.32136329002154,-6.4734721245153212E-2,1.5646276848821382E-2,1.2001000000000002,null,1.5646276848821382E-2,1.2,0.49411572353400557,8.3526975120232355E-2,8.3526975120232355E-2,-1.2000999999999999,5.0116185072139408E-3,4.0092948057711533E-2,0.74688994069042647,0.74689271844176863]
[null,2.1335026436008504,2.5321867249166347E-4,4.4729583238699175E-2,-9.0020349273086081E-2,1.1764547761439503,1.0339496456117965,0.8788690110135462,1.0541871374915852,134.58202561596471,8.1177965372226837E-2,-107.32165489343471,-6.4734897136188199E-2,1.564652626884476E-2,1.2001000000000004,null,1.564652626884476E-2,1.2,0.49411100598045909,8.3526975120232355E-2,8.3526975120232355E-2,-1.2000999999999999,5.0116185072139408E-3,4.0092948057711533E-2,0.74689271844176863,0.74689508746583644]
[null,2.1335196747186691,2.5321867249166347E-4,4.4729583238699175E-2,-9.0020349273086081E-2,1.1764451965962865,1.03394249070678,0.8788700856599202,1.0541869687299088,134.58205670306535,8.1177984123524172E-2,-107.32190359023963,-6.4735047146566818E-2,1.5646738986703261E-2,1.2000999999999999,null,1.5646738986703261E-2,1.2,0.49410698257044033,8.3526975120232355E-2,8.3526975120232355E-2,-1.2000999999999999,5.0116185072139408E-3,4.0092948057711533E-2,0.74689508746583644,0.74689710791103636]
[null,2.1335342001303785,2.5321867249166347E-4,4.4729583238699175E-2,-9.0020349273086081E-2,1.1764370265644228,1.033936388541087,0.87887100218234049,1.0541868247994524,134.58208321607881,8.1178000115797136E-2,-107.32211569434757,-6.4735175084750629E-2,1.5646920402273917E-2,1.2001000000000002,null,1.5646920402273917E-2,1.2,0.49410355115705756,8.3526975120232355E-2,8.3526975120232355E-2,-1.2000999999999999,5.0116185072139408E-3,4.0092948057711533E-2,0.74689710791103636,0.74689883107240507]
[null,2.133546588492822,2.5321867249166347E-4,4.4729583238699175E-2,-9.0020349273086081E-2,1.1764300586370366,1.0339311842113674,0.87887178385193376,1.0541867020462932,134.58210582808348,8.1178013755037026E-2,-107.32229659038488,-6.4735284198669696E-2,1.5647075127942722E-2,1.2000999999999999,null,1.5647075127942722E-2,1.2,0.49410062462755538,8.3526975120232355E-2,8.3526975120232355E-2,-1.2000999999999999,5.0116185072139408E-3,4.0092948057711533E-2,0.74689883107240507,0.74690030069534763]
[null,2.1335571542217382,2.5321867249166347E-4,4.4729583238699175E-2,-9.0020349273086081E-2,1.1764241159287432,1.0339267456037098,0.87887245050860163,1.0541865973542763,134.58212511309733,8.1178025387483324E-2,-107.32245087049559,-6.4735377258240079E-2,1.5647207083326238E-2,1.2000999999999999,null,1.5647207083326238E-2,1.2,0.49409812869007214,8.3526975120232355E-2,8.3526975120232355E-2,-1.2000999999999999,5.0116185072139408E-3,4.0092948057711533E-2,0.74690030069534763,0.74690155408703973]
[null,2.1335661654741109,2.5321867249166347E-4,4.4729583238699175E-2,-9.0020349273086081E-2,1.1764190475852714,1.0339229600552367,0.87887301908063842,1.0541865080658295,134.5821415606641,8.1178035308421867E-2,-107.32258245102999,-6.4735456625748602E-2,1.5647319629581942E-2,1.2000999999999999,null,1.5647319629581942E-2,1.2,0.49409599998581394,8.3526975120232355E-2,8.3526975120232355E-2,-1.2000999999999999,5.0116185072139408E-3,4.0092948057711533E-2,0.74690155408703973,0.74690262306442046]
[null,2.1335738509521227,2.5321867249166347E-4,4.4729583238699175E-2,-9.0020349273086081E-2,1.17641472495287,1.0339197314680755,0.8788735039928175,1.0541864319144805,134.58215558828408,8.1178043769682906E-2,-107.32269467198975,-6.4735524315836818E-2,1.564741560573623E-2,1.2001000000000002,null,1.564741560573623E-2,1.2,0.49409418448020537,8.3526975120232355E-2,8.3526975120232355E-2,-1.2000999999999999,5.0116185072139408E-3,4.0092948057711533E-2,0.74690262306442046,0.74690353476209825]
[null,2.13358040571145,2.5321867249166347E-4,4.4729583238699175E-2,-9.0020349273086081E-2,1.1764110383087625,1.0339169779047197,0.87887391756465005,1.0541863669672598,134.58216755202389,8.1178050986040751E-2,-107.32279038190816,-6.4735582046699519E-2,1.5647497472033103E-2,1.2000999999999999,null,1.5647497472033103E-2,1.2,0.49409263608968024,8.3526975120232355E-2,8.3526975120232355E-2,-1.2000999999999999,5.0116185072139408E-3,4.0092948057711533E-2,0.74690353476209825,0.74690431232192767]
[null,2.1335859961082737,2.5321867249166347E-4,4.4729583238699175E-2,-9.0020349273086081E-2,1.1764078940767846,1.033914629463754,0.87887427028458043,1.0541863115756502,134.58217775555218,8.1178057140664006E-2,-107.3228720101345,-6.473563128368566E-2,1.5647567285901678E-2,1.2000999999999999,null,1.5647567285901678E-2,1.2,0.4940913155122495,8.3526975120232355E-2,8.3526975120232355E-2,-1.2000999999999999,5.0116185072139408E-3,4.0092948057711533E-2,0.74690431232192767,0.7469049754802588]
[null,2.1335907640247194,2.5321867249166347E-4,4.4729583238699175E-2,-9.0020349273086081E-2,1.1764052124494127,1.033912626546569,0.87887457111299472,1.0541862643336939,134.58218645785644,8.1178062389770281E-2,-107.3229416285687,-6.4735673276535857E-2,1.56476268362555E-2,1.2000999999999999,null,1.56476268362555E-2,1.2,0.49409018922875331,8.3526975120232355E-2,8.3526975120232355E-2,-1.2000999999999999,5.0116185072139408E-3,4.0092948057711533E-2,0.7469049754802588,0.74690554106947582]
[null,2.1335948304670844,2.5321867249166347E-4,4.4729583238699175E-2,-9.0020349273086081E-2,1.1764029253629591,1.0339109183082018,0.87887482767794567,1.0541862240423212,134.58219387981376,8.117806686658946E-2,-107.32300100422704,-6.4735709091089208E-2,1.5647677617765768E-2,1.2000999999999999,null,1.5647677617765768E-2,1.2,0.49408922865244281,8.3526975120232355E-2,8.3526975120232355E-2,-1.2000999999999999,5.0116185072139408E-3,4.0092948057711533E-2,0.74690554106947582,0.74690602344504942]
[null,2.1335982986391073,2.5321867249166347E-4,4.4729583238699175E-2,-9.0020349273086081E-2,1.1764009747683173,1.0339094613955728,0.87887504649440895,1.0541861896788891,134.58220020980235,8.1178070684748624E-2,-107.32305164413572,-6.4735739636362505E-2,1.5647720926076612E-2,1.2001000000000004,null,1.5647720926076612E-2,1.2,0.49408840940269322,8.3526975120232355E-2,8.3526975120232355E-2,-1.2000999999999999,5.0116185072139408E-3,4.0092948057711533E-2,0.74690602344504942,0.74690643485025587]
[null,2.1336012565614331,2.5321867249166347E-4,4.4729583238699175E-2,-9.0020349273086081E-2,1.176399311157146,1.0339082188362672,0.87887523312069959,1.0541861603712142,134.58220560848443,8.1178073941156934E-2,-107.32309483359236,-6.473576568762901E-2,1.5647757870463932E-2,1.2001000000000002,null,1.5647757870463932E-2,1.2,0.49408771068600132,8.3526975120232355E-2,8.3526975120232355E-2,-1.2000999999999999,5.0116185072139408E-3,4.0092948057711533E-2,0.74690643485025587,0.74690678572702096]
[null,2.1336037793037326,2.5321867249166347E-4,4.4729583238699175E-2,-9.0020349273086081E-2,1.1763978923060683,1.0339071590873548,0.87887539228807021,1.0541861353754525,134.58221021288142,8.1178076718463776E-2,-107.32313166876833,-6.4735787906083711E-2,1.5647789376346942E-2,1.2000999999999999,null,1.5647789376346942E-2,1.2,0.49408711476854866,8.3526975120232355E-2,8.3526975120232355E-2,-1.2000999999999999,5.0116185072139408E-3,4.0092948057711533E-2,0.74690678572702096,0.74690708498078284]
[null,2.1336059308914219,2.5321867249166347E-4,4.4729583238699175E-2,-9.0020349273086081E-2,1.1763966822039931,1.0339062552544713,0.87887552803824276,1.0541861140572009,134.58221413985493,8.1178079087158392E-2,-107.32316308455641,-6.4735806855640649E-2,1.5647816247782005E-2,1.2000999999999999,null,1.5647816247782005E-2,1.2,0.4940866065256771,8.3526975120232355E-2,8.3526975120232355E-2,-1.2000999999999999,5.0116185072139408E-3,4.0092948057711533E-2,0.74690708498078284,0.74690734020673266]
[null,2.133607765929884,2.5321867249166347E-4,4.4729583238699175E-2,-9.0020349273086081E-2,1.1763956501384021,1.0339054843960982,0.87887564381461281,1.0541860958754004,134.58221748907187,8.1178081107358455E-2,-107.32318987829204,-6.473582301724122E-2,1.5647839162340818E-2,1.2000999999999999,null,1.5647839162340818E-2,1.2,0.49408617305812885,8.3526975120232355E-2,8.3526975120232355E-2,-1.2000999999999999,5.0116185072139408E-3,4.0092948057711533E-2,0.74690734020673266,0.74690755788252705]
[null,2.1336093309911743,2.5321867249166347E-4,4.4729583238699175E-2,-9.0020349273086081E-2,1.1763947699152817,1.0339048269508047,0.87887574255813927,1.0541860803685934,134.58222034553597,8.1178082830337006E-2,-107.32321273000471,-6.4735836801069577E-2,1.5647858707280384E-2,1.2000999999999999,null,1.5647858707280384E-2,1.2,0.49408580336441832,8.3526975120232355E-2,8.3526975120232355E-2,-1.2000999999999999,5.0116185072139408E-3,4.0092948057711533E-2,0.74690755788252705,0.74690774353281375]
[null,2.1336106657952709,2.5321867249166347E-4,{"$f":"IF($C$2=1,C276/($Z$206*$Z$5),2^(1/3)*$Z$5/C276)","v":4.4729583238699175E-2},-9.0020349273086081E-2,{"$f":"IF($C$2=1,0.5*($Z$206*C276*$F$206/$Z$5)*(1-Y276^2+(D276-E276)*(E276^2*(1-Y276^2)+2*E276*(1-Y276)+2*LN((1-E276)/(1-E276*Y276)))/(E276^3)),$F$206*E276*(LN((1-D276+D276^2)/(1+D276)^2)/(6*D276)+ATAN((2-D276)/(D276*3^0.5))/(D276*3^0.5)-LN((Y276^2-D276*Y276+D276^2)/(Y276+D276)^2)/(6*D276)-ATAN((2*Y276-D276)/(D276*3^0.5))/(D276*3^0.5)))","v":1.1763940191946511},1.0339042662315243,0.878875826773861,1.0541860671432193,134.58222278174392,{"$f":"J276*$H$206","v":8.1178084299823025E-2},-107.32323221966838,{"$f":"L276*$L$206","v":-6.4735848556957742E-2},{"$f":"(0.5*$C$206-B276+H276*B276)*I276+(0.5*$C$206-$I$206)*K276+(0.5*$C$206-$M$206)*M276","v":1.5647875376246172E-2},1.2001000000000002,null,1.5647875376246172E-2,1.2,0.49408548806175345,8.3526975120232355E-2,8.3526975120232355E-2,-1.2000999999999999,5.0116185072139408E-3,4.0092948057711533E-2,0.74690774353281375,0.74690790186937728]
[null,{"$f":"MIN(0.5*(-(T277+U277+V277)+SQRT((T277+U277+V277)^2+4*S277*(W277+X277)))/S277,1000*$C$6)","v":2.1336118042185817},2.5321867249166347E-4,4.4729583238699175E-2,-9.0020349273086081E-2,{"$f":"IF($C$2=1,0.5*($Z$206*C277*$F$206/$Z$5)*(1-Y277^2+(D277-E277)*(E277^2*(1-Y277^2)+2*E277*(1-Y277)+2*LN((1-E277)/(1-E277*Y277)))/(E277^3)),$F$206*E277*(LN((1-D277+D277^2)/(1+D277)^2)/(6*D277)+ATAN((2-D277)/(D277*3^0.5))/(D277*3^0.5)-LN((Y277^2-D277*Y277+D277^2)/(Y277+D277)^2)/(6*D277)-ATAN((2*Y277-D277)/(D277*3^0.5))/(D277*3^0.5)))","v":1.1763933789232752},1.0339037880086122,{"$f":"G277/F277","v":0.87887589860027915},1.0541860558636187,134.58222485952649,8.1178085553111942E-2,-107.32324884192914,-6.4735858583269218E-2,{"$f":"(0.5*$C$206-B277+H277*B277)*I277+(0.5*$C$206-$I$206)*K277+(0.5*$C$206-$M$206)*M277","v":1.5647889594788061E-2},{"$f":"I277+K277-M277","v":1.2000999999999997},null,{"$f":"N277-P277*O277","v":1.5647889594788061E-2},{"$f":"R276","v":1.2},0.49408521914777559,{"$f":"IF(ABS(J276)<$K$206,$Q$206*C277*$H$206*$J$206,IF(J276>0,1,-1)*$H$206*$K$206)","v":8.3526975120232355E-2},8.3526975120232355E-2,{"$f":"-(R277+0.0001)","v":-1.2000999999999999},{"$f":"IF(ABS(J276)<$K$206,$I$206*$Q$206*C277*$H$206*$J$206,0)","v":5.0116185072139408E-3},4.0092948057711533E-2,0.74690790186937728,0.74690803691078622]
[null,{"$f":"MIN(0.5*(-(T278+U278+V278)+SQRT((T278+U278+V278)^2+4*S278*(W278+X278)))/S278,1000*$C$6)","v":2.133612775153332},2.5321867249166347E-4,4.4729583238699175E-2,-9.0020349273086081E-2,{"$f":"IF($C$2=1,0.5*($Z$206*C278*$F$206/$Z$5)*(1-Y278^2+(D278-E278)*(E278^2*(1-Y278^2)+2*E278*(1-Y278)+2*LN((1-E278)/(1-E278*Y278)))/(E278^3)),$F$206*E278*(LN((1-D278+D278^2)/(1+D278)^2)/(6*D278)+ATAN((2-D278)/(D278*3^0.5))/(D278*3^0.5)-LN((Y278^2-D278*Y278+D278^2)/(Y278+D278)^2)/(6*D278)-ATAN((2*Y278-D278)/(D278*3^0.5))/(D278*3^0.5)))","v":1.1763928328512687},1.033903380143719,{"$f":"G278/F278","v":0.87887595985926525},1.0541860462435197,{"$f":"MAX(MIN($K$206,$Q$206*$J$206*C278*(B278-$I$206)/B278),-$K$206)","v":134.58222663161717},8.1178086622011869E-2,-107.32326301865452,-6.4735867134468508E-2,{"$f":"(0.5*$C$206-B278+H278*B278)*I278+(0.5*$C$206-$I$206)*K278+(0.5*$C$206-$M$206)*M278","v":1.5647901721376443E-2},{"$f":"I278+K278-M278","v":1.2000999999999999},null,{"$f":"N278-P278*O278","v":1.5647901721376443E-2},{"$f":"R277","v":1.2},0.49408498979753285,{"$f":"IF(ABS(J277)<$K$206,$Q$206*C278*$H$206*$J$206,IF(J277>0,1,-1)*$H$206*$K$206)","v":8.3526975120232355E-2},8.3526975120232355E-2,{"$f":"-(R278+0.0001)","v":-1.2000999999999999},{"$f":"IF(ABS(J277)<$K$206,$I$206*$Q$206*C278*$H$206*$J$206,0)","v":5.0116185072139408E-3},4.0092948057711533E-2,0.74690803691078622,0.74690815208434769]
[null,null,{"$f":"IF(C206*J279/(J279-L279)<=0,B278,C206*J279/(J279-L279))","v":1.9635794712694292},null,null,null,null,null,null,{"$f":"$R278/($J209*N209)+($Q278-R208)/($M209*N209)","v":2.6380372178006986E-4},null,{"$f":"$R278/($J209*$N$209)-($Q278-R208)/($M209*N209)","v":1.9125559635627785E-4},null,null,{"$f":"SIGN(J279-L279)","v":1},{"$f":"IF(Q211=0.0001,ABS(Q208)*($Q$6*C278/B278)/Q211,IF(B278>10*$C$6,(L279-J279)/$C$6,$Q$6*C278/B278))*IF(B278>10*C206,O279*P208,P208)","v":-3.2451147158288893E-4},null,null,null,null,null,null,null,null,null,null,{"$f":"N278/($Q$6*C278/B278)","v":48.219872305437285}]
[null,{"$f":"IF(AND(B278<>1000*$C$6,C280<C206,B278<C206),B278,IF(AND(B278<>1000*$C$6,C280>C206,B278>C206),B278*C280/C279,IF(C206*J280/(J280-L280)<=0,B278,C206*J280/(J280-L280))))","v":2.1172647203824786},{"$f":"IF(C206*J280/(J280-L280)<=0,B278,C206*J280/(J280-L280))","v":1.9485342366715395},null,null,null,null,null,null,{"$f":"$R278/($J209*N209)+($Q280-R208)/($M209*N209)","v":2.6412885770604375E-4},null,{"$f":"$R278/($J209*N209)-($Q280-R208)/($M209*N209)","v":1.9093046043030401E-4},null,null,{"$f":"SIGN(J280-L280)","v":1},null,{"$f":"MAX(ABS(INDEX(Snitkræfter!$G$286:$U$286,B209+1)),0.0000001)","v":1.5788158826188115E-2}]
[null,{"$f":"MIN(0.5*(-(T281+U281+V281)+SQRT((T281+U281+V281)^2+4*S281*(W281+X281)))/S281,1000*$C$6)","v":2.1309757124465962},{"$f":"MIN(MAX(IF(Q208=0,0.001*Z205,IF(OR(AND(B278<>1000*$C$6,C280<C206,B278<C206),AND(B278<>1000*$C$6,C280>C206,B278>C206)),C278*J280/J279,IF(B280>C206,J280,C278*MIN(Q280/Q211,2)))),0.0001*$Z$5),0.9*K206/(J206*Q206))","v":2.5353076243110373E-4},4.4784712083609346E-2,{"$f":"IF($C$2=1,-($Z$206-2)*C281/$Z$5,3*($Z$5/C281)^2)","v":-9.0131298616104819E-2},{"$f":"IF($C$2=1,0.5*($Z$206*C281*$F$206/$Z$5)*(1-Y281^2+(D281-E281)*(E281^2*(1-Y281^2)+2*E281*(1-Y281)+2*LN((1-E281)/(1-E281*Y281)))/(E281^3)),$F$206*E281*(LN((1-D281+D281^2)/(1+D281)^2)/(6*D281)+ATAN((2-D281)/(D281*3^0.5))/(D281*3^0.5)-LN((Y281^2-D281*Y281+D281^2)/(Y281+D281)^2)/(6*D281)-ATAN((2*Y281-D281)/(D281*3^0.5))/(D281*3^0.5)))","v":1.1776769396190376},{"$f":"IF($C$2=1,($Z$206*C281*$F$206/$Z$5)*(1-Y281^3-(D281-E281)*(-2*E281^3*(1-Y281^3)-3*E281^2*(1-Y281^2)-6*E281*(1-Y281)-6*LN((1-E281)/(1-E281*Y281)))/(2*E281^4))/3,$F$206*E281*(LN((1+D281^3)/(D281^3+Y281^3)))/3)","v":1.0350309819756827},{"$f":"G281/F281","v":0.87887513727703714},{"$f":"F281*B281*$D$206","v":1.0540324012833744},{"$f":"MAX(MIN($K$206,$Q$206*$J$206*C281*(B281-$I$206)/B281),-$K$206)","v":134.74327322480991},8.1275227638471378E-2,{"$f":"MIN($O$206,$Q$206*$N$206*C281*(C$206-B281-$M$206)/B281)","v":-107.4169388722145},-6.4792371078154165E-2,{"$f":"(0.5*$C$206-B281+H281*B281)*I281+(0.5*$C$206-$I$206)*K281+(0.5*$C$206-$M$206)*M281","v":1.598948076435483E-2},{"$f":"I281+K281-M281","v":1.2000999999999999},null,{"$f":"N281-P281*O281","v":1.598948076435483E-2},{"$f":"R278","v":1.2},{"$f":"F281*$D$206","v":0.49462431463999579},{"$f":"IF(ABS(J280)<$K$206,$Q$206*C281*$H$206*$J$206,IF(J280>0,1,-1)*$H$206*$K$206)","v":8.3629921432802401E-2},{"$f":"IF(L278<$O$206,$Q$206*C281*$L$206*$N$206,-$L$206*$O$206)","v":8.3629921432802401E-2},{"$f":"-(R281+0.0001)","v":-1.2000999999999999},{"$f":"IF(ABS(J280)<$K$206,$I$206*$Q$206*C281*$H$206*$J$206,0)","v":5.0177952859681444E-3},{"$f":"IF(L278<$O$206,($C$206-$M$206)*$Q$206*C281*$L$206*$N$206,0)","v":4.0142362287745162E-2},{"$f":"IF(B280<$C$406,0,IF(C278*J280/J279=C281,Y278,(B280-$C$6)/B280))","v":0.74690803691078622},{"$f":"IF(B281<=$C$206,0,(B281-$C$206)/B281)","v":0.74659495326672676}]
[null,{"$f":"MIN(0.5*(-(T282+U282+V282)+SQRT((T282+U282+V282)^2+4*S282*(W282+X282)))/S282,1000*$C$6)","v":2.1723579701675586},{"$f":"0.98*C281","v":2.4846014718248163E-4},4.3889017841937161E-2,{"$f":"IF($C$2=1,-($Z$206-2)*C282/$Z$5,3*($Z$5/C282)^2)","v":-8.8328672643782705E-2},{"$f":"IF($C$2=1,0.5*($Z$206*C282*$F$206/$Z$5)*(1-Y282^2+(D282-E282)*(E282^2*(1-Y282^2)+2*E282*(1-Y282)+2*LN((1-E282)/(1-E282*Y282)))/(E282^3)),$F$206*E282*(LN((1-D282+D282^2)/(1+D282)^2)/(6*D282)+ATAN((2-D282)/(D282*3^0.5))/(D282*3^0.5)-LN((Y282^2-D282*Y282+D282^2)/(Y282+D282)^2)/(6*D282)-ATAN((2*Y282-D282)/(D282*3^0.5))/(D282*3^0.5)))","v":1.1580110741925027},{"$f":"IF($C$2=1,($Z$206*C282*$F$206/$Z$5)*(1-Y282^3-(D282-E282)*(-2*E282^3*(1-Y282^3)-3*E282^2*(1-Y282^2)-6*E282*(1-Y282)-6*LN((1-E282)/(1-E282*Y282)))/(2*E282^4))/3,$F$206*E282*(LN((1+D282^3)/(D282^3+Y282^3)))/3)","v":1.0175982110925261},{"$f":"G282/F282","v":0.87874652822479404},{"$f":"F282*B282*$D$206","v":1.0565581263570392},{"$f":"MAX(MIN($K$206,$Q$206*$J$206*C282*(B282-$I$206)/B282),-$K$206)","v":132.12128504834766},7.9693681630220545E-2,{"$f":"MIN($O$206,$Q$206*$N$206*C282*(C$206-B282-$M$206)/B282)","v":-105.85161839904185},-6.3848192012739849E-2,{"$f":"(0.5*$C$206-B282+H282*B282)*I282+(0.5*$C$206-$I$206)*K282+(0.5*$C$206-$M$206)*M282","v":1.0294554347756094E-2},{"$f":"I282+K282-M282","v":1.2000999999999995},null,{"$f":"N282-P282*O282","v":1.0294554347756094E-2},{"$f":"R281","v":1.2},0.48636465116085115,8.1957323004146362E-2,{"$f":"IF(L281<$O$206,$Q$206*C282*$L$206*$N$206,-$L$206*$O$206)","v":8.1957323004146362E-2},-1.2000999999999999,4.9174393802487804E-3,{"$f":"IF(L281<$O$206,($C$206-$M$206)*$Q$206*C282*$L$206*$N$206,0)","v":3.933951504199025E-2},{"$f":"IF(B281<$C$206,0,IF(MIN(ABS($Q$280-Q281),ABS(Q281-Q280))<=0.001*Q$280,Y281,(B281-$C$206)/B281))","v":0.74659495326672676},0.75142218390537696]
[null,2.230776019700381,{"$f":"IF(Z282>0,0.99*C282,0.98*C282)","v":2.4597554571065679E-4},4.345012766351778E-2,-8.7445385917344881E-2,1.1286541869735029,0.99428165570995519,0.88094446216172817,1.0574653718306666,130.89736546821607,7.8955430732007517E-2,-105.57144837786656,-6.3679197437326016E-2,7.8754085969919962E-3,{"$f":"I283+K283-M283","v":1.2001000000000002},null,7.8754085969919962E-3,1.2,0.47403475852887123,8.1137749774104873E-2,8.1137749774104873E-2,-1.2000999999999999,4.8682649864462933E-3,3.8946119891570347E-2,{"$f":"IF(B282<$C$206,0,IF(MIN(ABS($Q$280-Q282),ABS(Q282-Q281))<=0.001*Q$280,Y282,(B282-$C$206)/B282))","v":0.75142218390537696},0.75793177117237964]
[null,2.2088155387603798,{"$f":"IF(MIN(ABS($Q$280-Q283),10*ABS(Q283-Q282))<=0.001*Q$280,C283,MAX(0.9*C283,MIN($W$6,1.05*C283,IF(C283=$W$6,0.5*(C283+C282),C283+IF(C283=C282,0,(C283-C282)*(Q283-Q$280)/(Q282-Q283))))))","v":2.5410239414855405E-4},4.4885687451010091E-2,-9.0334516200156201E-2,1.1350131377946153,1.0032248634715402,0.88388832698523112,1.0529545552923274,135.18495752283741,8.1541645330482096E-2,-108.76217663009224,-6.560379937719038E-2,1.759419398144272E-2,1.2000999999999997,null,1.759419398144272E-2,1.2,0.47670551787373844,8.3818480466666623E-2,8.3818480466666623E-2,-1.2000999999999999,5.0291088279999976E-3,4.0232870623999988E-2,0.75793177117237964,0.75552508096576676]
[null,2.2032785851424932,{"$f":"IF(MIN(ABS($Q$280-Q284),10*ABS(Q284-Q283))<=0.001*Q$280,C284,MAX(0.9*C284,MIN($W$6,1.05*C284,IF(C284=$W$6,0.5*(C284+C283),C284+IF(C284=C283,0,(C284-C283)*(Q284-Q$280)/(Q283-Q284))))))","v":2.5259218753325509E-4},4.4618918370191725E-2,-8.9797631121161028E-2,1.1388658550609652,1.0053849587040546,0.88279489128263922,1.0538802749184439,134.37208324474517,8.1051331117295525E-2,-108.04033367470927,-6.5168393964260468E-2,1.5733784861149843E-2,1.2000999999999999,null,1.5733784861149843E-2,1.2,0.47832365912560537,8.3320322139157674E-2,8.3320322139157674E-2,-1.2000999999999999,4.9992193283494597E-3,3.9993754626795684E-2,0.75552508096576676,0.75491070278565042]
[null,2.1981514022042892,2.5263632616964699E-4,4.4626715199671582E-2,-8.9813322600092421E-2,1.1415461831804634,1.0074315499350395,0.88251492999453862,1.0539023641604179,134.38678814358119,8.1060200903309287E-2,-107.98900781702633,-6.5137434936272762E-2,1.5727163804582424E-2,1.2000999999999999,null,1.5727163804582424E-2,1.2,0.47944939693579464,8.3334881755743093E-2,8.3334881755743093E-2,-1.2000999999999999,5.0000929053445851E-3,4.0000743242756688E-2,0.75491070278565042,0.75433903258051638]
[null,2.2017120363244489,2.5222970872831326E-4,4.4554888629737083E-2,-8.9668768315334463E-2,1.1399187768104542,1.0059964856171359,0.88251593541775053,1.0541046143610444,134.17658186325019,8.0933407462152246E-2,-107.86391077265922,-6.5061978176803426E-2,1.5280138504141057E-2,1.2000999999999999,null,1.5280138504141057E-2,1.2,0.47876588626039074,8.3200754502916363E-2,8.3200754502916363E-2,-1.2000999999999999,4.9920452701749819E-3,3.9936362161399862E-2,0.75491070278565042,0.75473631833276467]
[null,2.1963256790394929,2.5269180768175582E-4,4.4636515681167131E-2,-8.9833046521117232E-2,1.1424787545945971,1.0081636683071038,0.88243537505854597,1.0538872791187326,134.41316537996838,8.1076111277464044E-2,-107.98763952804461,-6.5136609603803075E-2,1.5772410635690574E-2,1.2000999999999997,null,1.5772410635690574E-2,1.2,0.47984107692973077,8.3353182945129889E-2,8.3353182945129889E-2,-1.2000999999999999,5.0011909767077936E-3,4.0009527813662356E-2,0.75473631833276467,0.75413482383170272]
[null,2.1963256790394929,2.5269180768175582E-4,4.4636515681167131E-2,-8.9833046521117232E-2,1.1424787545945971,1.0081636683071038,0.88243537505854597,1.0538872791187326,134.41316537996838,8.1076111277464044E-2,-107.98763952804461,-6.5136609603803075E-2,1.5772410635690574E-2,1.2000999999999997,null,1.5772410635690574E-2,1.2,0.47984107692973077,8.3353182945129889E-2,8.3353182945129889E-2,-1.2000999999999999,5.0011909767077936E-3,4.0009527813662356E-2,0.75473631833276467,0.75413482383170272]
[null,2.1963256790394929,2.5269180768175582E-4,4.4636515681167131E-2,-8.9833046521117232E-2,1.1424787545945971,1.0081636683071038,0.88243537505854597,1.0538872791187326,134.41316537996838,8.1076111277464044E-2,-107.98763952804461,-6.5136609603803075E-2,1.5772410635690574E-2,1.2000999999999997,null,1.5772410635690574E-2,1.2,0.47984107692973077,8.3353182945129889E-2,8.3353182945129889E-2,-1.2000999999999999,5.0011909767077936E-3,4.0009527813662356E-2,0.75473631833276467,0.75413482383170272]
[null,2.1963256790394929,2.5269180768175582E-4,4.4636515681167131E-2,{"$f":"IF($C$2=1,-($Z$206-2)*C291/$Z$5,3*($Z$5/C291)^2)","v":-8.9833046521117232E-2},{"$f":"IF($C$2=1,0.5*($Z$206*C291*$F$206/$Z$5)*(1-Y291^2+(D291-E291)*(E291^2*(1-Y291^2)+2*E291*(1-Y291)+2*LN((1-E291)/(1-E291*Y291)))/(E291^3)),$F$206*E291*(LN((1-D291+D291^2)/(1+D291)^2)/(6*D291)+ATAN((2-D291)/(D291*3^0.5))/(D291*3^0.5)-LN((Y291^2-D291*Y291+D291^2)/(Y291+D291)^2)/(6*D291)-ATAN((2*Y291-D291)/(D291*3^0.5))/(D291*3^0.5)))","v":1.1424787545945971},{"$f":"IF($C$2=1,($Z$206*C291*$F$206/$Z$5)*(1-Y291^3-(D291-E291)*(-2*E291^3*(1-Y291^3)-3*E291^2*(1-Y291^2)-6*E291*(1-Y291)-6*LN((1-E291)/(1-E291*Y291)))/(2*E291^4))/3,$F$206*E291*(LN((1+D291^3)/(D291^3+Y291^3)))/3)","v":1.0081636683071038},{"$f":"G291/F291","v":0.88243537505854597},{"$f":"F291*B291*$D$206","v":1.0538872791187326},{"$f":"MAX(MIN($K$206,$Q$206*$J$206*C291*(B291-$I$206)/B291),-$K$206)","v":134.41316537996838},8.1076111277464044E-2,{"$f":"MIN($O$206,$Q$206*$N$206*C291*(C$206-B291-$M$206)/B291)","v":-107.98763952804461},-6.5136609603803075E-2,{"$f":"(0.5*$C$206-B291+H291*B291)*I291+(0.5*$C$206-$I$206)*K291+(0.5*$C$206-$M$206)*M291","v":1.5772410635690574E-2},1.2000999999999997,null,{"$f":"N291-P291*O291","v":1.5772410635690574E-2},{"$f":"R290","v":1.2},{"$f":"F291*$D$206","v":0.47984107692973077},8.3353182945129889E-2,8.3353182945129889E-2,{"$f":"-(R291+0.0001)","v":-1.2000999999999999},5.0011909767077936E-3,4.0009527813662356E-2,0.75473631833276467,{"$f":"IF(B291<=$C$206,0,(B291-$C$206)/B291)","v":0.75413482383170272}]
[null,2.1963256790394929,2.5269180768175582E-4,4.4636515681167131E-2,-8.9833046521117232E-2,1.1424787545945971,1.0081636683071038,0.88243537505854597,1.0538872791187326,134.41316537996838,8.1076111277464044E-2,-107.98763952804461,-6.5136609603803075E-2,1.5772410635690574E-2,1.2000999999999997,null,1.5772410635690574E-2,1.2,0.47984107692973077,8.3353182945129889E-2,8.3353182945129889E-2,-1.2000999999999999,5.0011909767077936E-3,4.0009527813662356E-2,0.75473631833276467,0.75413482383170272]
[null,2.1963256790394929,2.5269180768175582E-4,4.4636515681167131E-2,-8.9833046521117232E-2,1.1424787545945971,1.0081636683071038,0.88243537505854597,1.0538872791187326,134.41316537996838,8.1076111277464044E-2,-107.98763952804461,-6.5136609603803075E-2,1.5772410635690574E-2,1.2000999999999997,null,1.5772410635690574E-2,1.2,0.47984107692973077,8.3353182945129889E-2,8.3353182945129889E-2,-1.2000999999999999,5.0011909767077936E-3,4.0009527813662356E-2,0.75473631833276467,0.75413482383170272]
[null,2.1963256790394929,2.5269180768175582E-4,4.4636515681167131E-2,-8.9833046521117232E-2,1.1424787545945971,1.0081636683071038,0.88243537505854597,1.0538872791187326,134.41316537996838,8.1076111277464044E-2,-107.98763952804461,-6.5136609603803075E-2,1.5772410635690574E-2,1.2000999999999997,null,1.5772410635690574E-2,1.2,0.47984107692973077,8.3353182945129889E-2,8.3353182945129889E-2,-1.2000999999999999,5.0011909767077936E-3,4.0009527813662356E-2,0.75473631833276467,0.75413482383170272]
[null,2.1963256790394929,2.5269180768175582E-4,4.4636515681167131E-2,-8.9833046521117232E-2,1.1424787545945971,1.0081636683071038,0.88243537505854597,1.0538872791187326,134.41316537996838,8.1076111277464044E-2,-107.98763952804461,-6.5136609603803075E-2,1.5772410635690574E-2,1.2000999999999997,null,1.5772410635690574E-2,1.2,0.47984107692973077,8.3353182945129889E-2,8.3353182945129889E-2,-1.2000999999999999,5.0011909767077936E-3,4.0009527813662356E-2,0.75473631833276467,0.75413482383170272]
[null,2.1963256790394929,2.5269180768175582E-4,4.4636515681167131E-2,-8.9833046521117232E-2,1.1424787545945971,1.0081636683071038,0.88243537505854597,1.0538872791187326,134.41316537996838,8.1076111277464044E-2,-107.98763952804461,-6.5136609603803075E-2,1.5772410635690574E-2,1.2000999999999997,null,1.5772410635690574E-2,1.2,0.47984107692973077,8.3353182945129889E-2,8.3353182945129889E-2,-1.2000999999999999,5.0011909767077936E-3,4.0009527813662356E-2,0.75473631833276467,0.75413482383170272]
[null,2.1963256790394929,2.5269180768175582E-4,4.4636515681167131E-2,-8.9833046521117232E-2,1.1424787545945971,1.0081636683071038,0.88243537505854597,1.0538872791187326,134.41316537996838,8.1076111277464044E-2,-107.98763952804461,-6.5136609603803075E-2,1.5772410635690574E-2,1.2000999999999997,null,1.5772410635690574E-2,1.2,0.47984107692973077,8.3353182945129889E-2,8.3353182945129889E-2,-1.2000999999999999,5.0011909767077936E-3,4.0009527813662356E-2,0.75473631833276467,0.75413482383170272]
[null,2.1963256790394929,2.5269180768175582E-4,4.4636515681167131E-2,{"$f":"IF($C$2=1,-($Z$206-2)*C298/$Z$5,3*($Z$5/C298)^2)","v":-8.9833046521117232E-2},{"$f":"IF($C$2=1,0.5*($Z$206*C298*$F$206/$Z$5)*(1-Y298^2+(D298-E298)*(E298^2*(1-Y298^2)+2*E298*(1-Y298)+2*LN((1-E298)/(1-E298*Y298)))/(E298^3)),$F$206*E298*(LN((1-D298+D298^2)/(1+D298)^2)/(6*D298)+ATAN((2-D298)/(D298*3^0.5))/(D298*3^0.5)-LN((Y298^2-D298*Y298+D298^2)/(Y298+D298)^2)/(6*D298)-ATAN((2*Y298-D298)/(D298*3^0.5))/(D298*3^0.5)))","v":1.1424787545945971},{"$f":"IF($C$2=1,($Z$206*C298*$F$206/$Z$5)*(1-Y298^3-(D298-E298)*(-2*E298^3*(1-Y298^3)-3*E298^2*(1-Y298^2)-6*E298*(1-Y298)-6*LN((1-E298)/(1-E298*Y298)))/(2*E298^4))/3,$F$206*E298*(LN((1+D298^3)/(D298^3+Y298^3)))/3)","v":1.0081636683071038},{"$f":"G298/F298","v":0.88243537505854597},{"$f":"F298*B298*$D$206","v":1.0538872791187326},{"$f":"MAX(MIN($K$206,$Q$206*$J$206*C298*(B298-$I$206)/B298),-$K$206)","v":134.41316537996838},8.1076111277464044E-2,{"$f":"MIN($O$206,$Q$206*$N$206*C298*(C$206-B298-$M$206)/B298)","v":-107.98763952804461},-6.5136609603803075E-2,{"$f":"(0.5*$C$206-B298+H298*B298)*I298+(0.5*$C$206-$I$206)*K298+(0.5*$C$206-$M$206)*M298","v":1.5772410635690574E-2},1.2000999999999997,null,{"$f":"IF(B298>10*B206,Q280,IF(Q280<0.000001,0,N298-P298*O298))","v":1.5772410635690574E-2},{"$f":"R297","v":1.2},{"$f":"F298*$D$206","v":0.47984107692973077},8.3353182945129889E-2,8.3353182945129889E-2,{"$f":"-(R298+0.0001)","v":-1.2000999999999999},5.0011909767077936E-3,4.0009527813662356E-2,0.75473631833276467,{"$f":"IF(B298<=$C$206,0,(B298-$C$206)/B298)","v":0.75413482383170272}]
[null,null,null,null,null,null,null,null,null,{"$f":"MAX(J278,J298)/K206","v":0.29363394901443746},null,{"$f":"MAX(L278,L298)/O206","v":-0.2341598465861553},null,null,null,{"$f":"IF(Q280=0.0001,ABS(INDEX(Snitkræfter!$G$286:$U$286,B209+1))*($Q$6*C298/B298)/Q280,IF(B298>10*$C$6,(J280-L280)/$C$6,$Q$6*C298/B298))*IF(AND(B298>10*$C$6,O280=O279),P208,P208)","v":-3.1458959347528296E-4},null,null,null,null,null,null,null,null,null,null,{"$f":"(Q278-Q298)/(P279-P299)","v":12.548926016202865}]
[]
[]
[null,"Tilstand:",{"$f":"C202","v":1}]
[]
[null,"L","h","b","fck","fcd","Ecd","Ac","ac","Esc","fyd_c","At","at","Est","fyd_t","Modenhed","1+f","uterm","g","EI","sc/fcd","sc","e","   emax",null,{"$f":"Stivheder!$AD$4","v":3.5000000000000001E-3}]
[null,"(m)","(m)","(m)","(Mpa)","(Mpa)","(Mpa)","(m2)","(m)","(Mpa)","(Mpa)","(m2)","(m)","(Mpa)","(Mpa)","(døgn)",null,"(m)",null,"(Mnm2)",null,"(MPa)",null,"e1",null,{"$f":"Stivheder!$AD$5","v":2.0693662482105194E-3}]
[null,{"$f":"Stivheder!$B$6","v":0.54},{"$f":"Stivheder!$C$6","v":0.54},{"$f":"Stivheder!$D$6","v":0.42},{"$f":"Stivheder!$E$6","v":25},{"$f":"Stivheder!$F$6","v":17.857142857142858},{"$f":"IF(C302=1,1000*22*((E306+8)/10)^0.3/S306,1.4*F306/Z305)","v":22482.71872144239},{"$f":"IF(P308<0,Stivheder!$X$6,Stivheder!$T$6)","v":6.0318578948924026E-4},{"$f":"IF(P308<0,Stivheder!$Y$6,Stivheder!$U$6)","v":0.06},{"$f":"IF(P308<0,Stivheder!$Z$6,Stivheder!$V$6)","v":200000},{"$f":"IF(P308<0,Stivheder!$AA$6,Stivheder!$W$6)","v":458.33333333333337},{"$f":"IF(P308<0,Stivheder!$T$6,Stivheder!$X$6)","v":6.0318578948924026E-4},{"$f":"IF(P308<0,Stivheder!$U$6,Stivheder!$Y$6)","v":0.06},{"$f":"IF(P308<0,Stivheder!$V$6,Stivheder!$Z$6)","v":200000},{"$f":"IF(P308<0,Stivheder!$W$6,Stivheder!$AA$6)","v":458.33333333333337},{"$f":"Stivheder!$P$6","v":28},{"$f":"Stivheder!$Q$6","v":2.7343237157040781},{"$f":"Stivheder!$R$6","v":0},{"$f":"Stivheder!$S$6","v":1.4},{"$f":"AA379","v":47.177105368129311},{"$f":"U206","v":0.99999990000000005},{"$f":"U306*F306","v":17.857141071428572},{"$f":"Z304","v":3.5000000000000001E-3},"k",null,{"$f":"Stivheder!$AD$6","v":2.7356687822616226}]
[]
[null,"punkt","elasttisk","e_o","sc_o/fcd","sc_u/fcd","sc_o","sc_u","hc","At","Ac","Ic","Wt","E",null,{"$f":"SIGN(Q308)","v":-1},{"$f":"INDEX(Snitkræfter!$G$199:$U$199,B309+1)","v":-5.9687307642434361E-3},{"$f":"INDEX(Snitkræfter!$G$59:$U$59,B309+1)*P308","v":0}]
[null,{"$f":"(ROW()-9)/100","v":3},"skøn",{"$f":"IF(C302=1,Z305*0.5*(-((Z306-2)*E309-Z306)-(((Z306-2)*E309-Z306)^2-4*E309)^0.5),G309/(1.4*F306/Z305))","v":2.4683227306262199E-4},{"$f":"MIN(0.9999,G309/F306)","v":0.28690487267812009},{"$f":"H309/F306","v":0.24639890560091376},{"$f":"IF(H309>0,R311/J309+MAX(Q311+Stivheder!$O$2*R311+R311*R306,D306*C306^2*0.003*E306)/M309,MIN(0.8*F306,2*(R311+Q311/(C306-M306-0.333*I309))/(((R311+L306*O306)/(F306*D306*0.5))*D306)))","v":5.1233012978235735},{"$f":"R311/J309-(Q311+Stivheder!$O$2*R311+R311*R306)/M309","v":4.3999804571591747},{"$f":"IF(H309>0,C306*G309/(G309-H309),(R311+L306*O306)/(F306*D306*0.5))","v":3.8248347694275124},{"$f":"K309+Q306*(H306+L306)*N306/G306","v":0.25614351898648502},{"$f":"C306*D306","v":0.2268},{"$f":"D306*C306^3/12","v":5.5112400000000006E-3},{"$f":"(L309+((0.5*C306-I306)^2*H306+(0.5*C306-M306)^2*L306)*Q306)/(0.5*C306)","v":2.0950773034997532E-2},{"$f":"G309/D309","v":20756.205152005299}]
[null,"hc","e0","a'","b'","N'","tN'","t'","Nc","sac","Nac","sat","Nat","Mtot","N",null,"Mo","N","A","B1","B2","B3","C1","C2","gættet x","beregnet x","EIt"]
[null,{"$f":"I309","v":3.8248347694275124},null,null,null,null,null,null,null,null,null,null,null,null,null,null,{"$f":"MAX(ABS(Q308),0.0000001)","v":5.9687307642434361E-3},{"$f":"INDEX(Snitkræfter!$G$52:$U$52,B309+1)","v":1.2}]
[null,{"$f":"MIN(0.5*(-(T312+U312+V312)+SQRT((T312+U312+V312)^2+4*S312*(W312+X312)))/S312,1000*$C$6)","v":3.6837008117784986},{"$f":"D309","v":2.4683227306262199E-4},{"$f":"IF($C$2=1,C312/($Z$306*$Z$5),2^(1/3)*$Z$5/C312)","v":4.3601463491265077E-2},{"$f":"IF($C$2=1,-($Z$306-2)*C312/$Z$5,3*($Z$5/C312)^2)","v":-8.7749956250554609E-2},{"$f":"IF($C$2=1,0.5*($Z$306*C312*$F$306/$Z$5)*(1-Y312^2+(D312-E312)*(E312^2*(1-Y312^2)+2*E312*(1-Y312)+2*LN((1-E312)/(1-E312*Y312)))/(E312^3)),$F$306*E312*(LN((1-D312+D312^2)/(1+D312)^2)/(6*D312)+ATAN((2-D312)/(D312*3^0.5))/(D312*3^0.5)-LN((Y312^2-D312*Y312+D312^2)/(Y312+D312)^2)/(6*D312)-ATAN((2*Y312-D312)/(D312*3^0.5))/(D312*3^0.5)))","v":0.67814491363305729},{"$f":"IF($C$2=1,($Z$306*C312*$F$306/$Z$5)*(1-Y312^3-(D312-E312)*(-2*E312^3*(1-Y312^3)-3*E312^2*(1-Y312^2)-6*E312*(1-Y312)-6*LN((1-E312)/(1-E312*Y312)))/(2*E312^4))/3,$F$306*E312*(LN((1+D312^3)/(D312^3+Y312^3)))/3)","v":0.63134345574012185},{"$f":"G312/F312","v":0.93098605187171013},{"$f":"F312*B312*$D$306","v":1.0491948469184922},{"$f":"MAX(MIN($K$306,$Q$306*$J$306*C312*(B312-$I$306)/B312),-$K$306)","v":132.78525472573622},{"$f":"J312*$H$306","v":8.0094178704273072E-2},{"$f":"MIN($O$306,$Q$306*$N$306*C312*(C$306-B312-$M$306)/B312)","v":-117.39496455510883},{"$f":"L312*$L$306","v":-7.0810974377234701E-2},{"$f":"(0.5*$C$306-B312+H312*B312)*I312+(0.5*$C$306-$I$306)*K312+(0.5*$C$306-$M$306)*M312","v":1.849869943573041E-2},{"$f":"I312+K312-M312","v":1.2000999999999999},null,{"$f":"N312-P312*O312","v":1.849869943573041E-2},{"$f":"R311","v":1.2},{"$f":"F312*$D$306","v":0.28482086372588405},{"$f":"IF(ABS(J311)<$K$306,$Q$306*C312*$H$306*$J$306,IF(J311>0,1,-1)*$H$306*$K$306)","v":8.1420350750992854E-2},{"$f":"IF(L311<$O$306,$Q$306*C312*$L$306*$N$306,-$L$306*$O$306)","v":8.1420350750992854E-2},{"$f":"-(R312+0.0001)","v":-1.2000999999999999},{"$f":"IF(ABS(J311)<$K$306,$I$306*$Q$306*C312*$H$306*$J$306,0)","v":4.885221045059571E-3},{"$f":"IF(L311<$O$306,($C$306-$M$306)*$Q$306*C312*$L$306*$N$306,0)","v":3.9081768360476575E-2},{"$f":"IF(B311<$C$306,0,(B311-$C$306)/B311)","v":0.85881743067274374},{"$f":"IF(B312<=$C$306,0,(B312-$C$306)/B312)","v":0.8534082903059419}]
[null,{"$f":"MIN(0.5*(-(T313+U313+V313)+SQRT((T313+U313+V313)^2+4*S313*(W313+X313)))/S313,1000*$C$6)","v":3.7483024575292387},{"$f":"0.95*C312","v":2.3449065940949089E-4},{"$f":"IF($C$2=1,C313/($Z$306*$Z$5),2^(1/3)*$Z$5/C313)","v":4.1421390316701827E-2},{"$f":"IF($C$2=1,-($Z$306-2)*C313/$Z$5,3*($Z$5/C313)^2)","v":-8.3362458438026879E-2},{"$f":"IF($C$2=1,0.5*($Z$306*C313*$F$306/$Z$5)*(1-Y313^2+(D313-E313)*(E313^2*(1-Y313^2)+2*E313*(1-Y313)+2*LN((1-E313)/(1-E313*Y313)))/(E313^3)),$F$306*E313*(LN((1-D313+D313^2)/(1+D313)^2)/(6*D313)+ATAN((2-D313)/(D313*3^0.5))/(D313*3^0.5)-LN((Y313^2-D313*Y313+D313^2)/(Y313+D313)^2)/(6*D313)-ATAN((2*Y313-D313)/(D313*3^0.5))/(D313*3^0.5)))","v":0.67112582414735145},{"$f":"IF($C$2=1,($Z$306*C313*$F$306/$Z$5)*(1-Y313^3-(D313-E313)*(-2*E313^3*(1-Y313^3)-3*E313^2*(1-Y313^2)-6*E313*(1-Y313)-6*LN((1-E313)/(1-E313*Y313)))/(2*E313^4))/3,$F$306*E313*(LN((1+D313^3)/(D313^3+Y313^3)))/3)","v":0.62308747927438024},{"$f":"G313/F313","v":0.92842125404129294},{"$f":"F313*B313*$D$306","v":1.0565446819043982},{"$f":"MAX(MIN($K$306,$Q$306*$J$306*C313*(B313-$I$306)/B313),-$K$306)","v":126.1819902343931},{"$f":"J313*$H$306","v":7.6111183398856003E-2},{"$f":"MIN($O$306,$Q$306*$N$306*C313*(C$306-B313-$M$306)/B313)","v":-111.81320228690277},{"$f":"L313*$L$306","v":-6.7444134696745567E-2},{"$f":"(0.5*$C$306-B313+H313*B313)*I313+(0.5*$C$306-$I$306)*K313+(0.5*$C$306-$M$306)*M313","v":3.6174852567010876E-3},{"$f":"I313+K313-M313","v":1.2000999999999997},null,{"$f":"N313-P313*O313","v":3.6174852567010876E-3},{"$f":"R312","v":1.2},{"$f":"F313*$D$306","v":0.28187284614188762},{"$f":"IF(ABS(J312)<$K$306,$Q$306*C313*$H$306*$J$306,IF(J312>0,1,-1)*$H$306*$K$306)","v":7.7349333213443214E-2},7.7349333213443214E-2,{"$f":"-(R313+0.0001)","v":-1.2000999999999999},{"$f":"IF(ABS(J312)<$K$306,$I$306*$Q$306*C313*$H$306*$J$306,0)","v":4.6409599928065922E-3},3.7127679942452745E-2,{"$f":"IF(B312<$C$306,0,(B312-$C$306)/B312)","v":0.8534082903059419},{"$f":"IF(B313<=$C$306,0,(B313-$C$306)/B313)","v":0.8559347848476585}]
[null,3.776919562277214,{"$f":"IF(ABS($Q$311-Q313)<=0.001*Q$311,C313,MAX(0.9*C313,MIN($W$6,1.05*C313,IF(C313=$W$6,0.5*(C313+C312),C313+IF(C313=C312,0,(C313-C312)*(Q313-Q$311)/(Q312-Q313))))))","v":2.3644064570151269E-4},4.176584388051309E-2,-8.4055687121987036E-2,0.66523459024524922,0.61841644561583009,0.92962160218974954,1.0552657657083142,127.24698138743857,7.6753570928304787E-2,-112.86848024226413,-6.8080663363380797E-2,6.2391306430789294E-3,1.2000999999999997,null,6.2391306430789294E-3,1.2,0.27939852790300468,7.7992557723293915E-2,7.7992557723293915E-2,-1.2000999999999999,4.6795534633976357E-3,3.7436427707181093E-2,0.8559347848476585,0.85702634353313623]
[null,3.8067596792366309,{"$f":"IF(ABS($Q$311-Q314)<=0.001*Q$311,C314,MAX(0.9*C314,MIN($W$6,1.05*C314,IF(C314=$W$6,0.5*(C314+C313),C314+IF(C314=C313,0,(C314-C313)*(Q314-Q$311)/(Q313-Q314))))))","v":2.3623952160599875E-4},4.1730316496678889E-2,-8.3984186623436735E-2,0.66004243645705418,0.61393286034844097,0.93014149763442766,1.0553016321497244,127.1548285630484,7.6697985654171352E-2,-112.90117138497149,-6.8100382196104051E-2,6.0957937923737798E-3,1.2000999999999999,null,6.0957937923737798E-3,1.2,0.27721782331196276,7.7926214719609532E-2,7.7926214719609532E-2,-1.2000999999999999,4.675572883176572E-3,3.7404583065412583E-2,0.85702634353313623,0.85814707375794042]
[null,3.8374150085831062,2.3606123223742217E-4,4.1698822732519042E-2,-8.3920803970518557E-2,0.65478271776945685,0.6093902276633032,0.93067549146564987,1.055322671982327,127.07511941092638,7.6649906226319106E-2,-112.94599935625476,-6.8127421791353754E-2,5.9826142007835433E-3,1.2000999999999997,null,5.9826142007835433E-3,1.2,0.27500874146317189,7.786740400274271E-2,7.786740400274271E-2,-1.2000999999999999,4.6720442401645629E-3,3.737635392131651E-2,0.85814707375794042,0.85928027101781079]
[null,3.8662793183155819,2.3603936195940094E-4,4.1694959477050646E-2,-8.3913028990708419E-2,0.64985222289412314,0.60515248266378729,0.93121553076903374,1.0552542879215214,127.07841395360738,7.6651893447647154E-2,-113.0560762855104,-6.8193818630831363E-2,6.0605589244213318E-3,1.2000999999999999,null,6.0605589244213318E-3,1.2,0.2729379336155317,7.7860189850049402E-2,7.7860189850049402E-2,-1.2000999999999999,4.6716113910029635E-3,3.7372891128023722E-2,0.85928027101781079,0.86033083604645999]
[null,3.892689300384514,2.3606512774956015E-4,4.1699510851735212E-2,-8.3922188842178322E-2,0.64538849254751252,0.60131902219611177,0.93171636795467594,1.0551646894030169,127.10587783949131,7.6668459273336501E-2,-113.17715455706126,-6.8266851323646766E-2,6.1886813518459011E-3,1.2001000000000002,null,6.1886813518459011E-3,1.2,0.27106316686995524,7.786868898043503E-2,7.786868898043503E-2,-1.2000999999999999,4.6721213388261022E-3,3.7376970710608824E-2,0.86033083604645999,0.86127842261989429]
[null,3.9179915969587751,2.3602089505119907E-4,4.1691697406763928E-2,-8.3906463923804131E-2,0.64119470768900966,0.59770140846157671,0.9321683433972946,1.0551221002307907,127.09490916531649,7.6661843124944715E-2,-113.25873028625624,-6.8316056644264392E-2,6.2222594856056555E-3,1.2000999999999997,null,6.2222594856056555E-3,1.2,0.26930177722938403,7.7854098336470459E-2,7.7854098336470459E-2,-1.2000999999999999,4.671245900188227E-3,3.736996720150583E-2,0.86127842261989429,0.86217428326820322]
[null,3.9358770905321188,2.3635487011777431E-4,4.1750692130150764E-2,-8.4025193525558095E-2,0.63812733781281983,0.59511468682904922,0.93259550494859478,1.0548681232906858,127.28374622602924,7.6775746956495555E-2,-113.49095244897146,-6.8456129752818673E-2,6.7094219347388143E-3,1.2000999999999999,null,6.7094219347388143E-3,1.2,0.2680134818813843,7.7964263699877953E-2,7.7964263699877953E-2,-1.2000999999999999,4.6778558219926778E-3,3.7422846575941422E-2,0.86217428326820322,0.86280059372306428]
[null,3.9611207339283725,2.3584708799413557E-4,4.1660995416464806E-2,-8.384467475229862E-2,0.63420730486908705,0.59164870338243702,0.93289481032478017,1.0551121160688248,127.02282135656979,7.6618360783113279E-2,-113.34737047760224,-6.8369523148061911E-2,6.1513205961411018E-3,1.2000999999999999,null,6.1513205961411018E-3,1.2,0.26636706804501653,7.7796766159549183E-2,7.7796766159549183E-2,-1.2000999999999999,4.6678059695729503E-3,3.7342447756583609E-2,0.86280059372306428,0.86367494548330404]
[null,3.9874696882511511,2.3568096072264615E-4,4.1631650014938196E-2,-8.3785615778265987E-2,0.63003566637931041,0.58802006477765145,0.93331234429454724,1.0551442113259384,126.94624873383668,7.6572173265216745E-2,-113.37073352929977,-6.8383615408844967E-2,6.0298552324284677E-3,1.2000999999999999,null,6.0298552324284677E-3,1.2,0.26461497987931037,7.7741967244698437E-2,7.7741967244698437E-2,-1.2000999999999999,4.6645180346819061E-3,3.7316144277455256E-2,0.86367494548330404,0.8645757730545065]
[null,4.0134622579792962,2.3559736124366344E-4,4.1616882660631051E-2,-8.3755895796627122E-2,0.62594540556581391,0.58447189060188043,0.93374260024092015,1.0551274695334538,126.91377455180258,7.6552585300088488E-2,-113.43096332623094,-6.8419945166457663E-2,6.0111145298345631E-3,1.2000999999999999,null,6.0111145298345631E-3,1.2,0.26289707033764181,7.7714391033464308E-2,7.7714391033464308E-2,-1.2000999999999999,4.6628634620078588E-3,3.7302907696062877E-2,0.8645757730545065,0.86545282718769601]
[null,4.0409789285898343,2.3540829358715542E-4,4.158348497555394E-2,-8.3688681415050842E-2,0.62170971874991987,0.5807774234319264,0.93416172518535401,1.0551726667305341,126.8250310125359,7.6499056458293843E-2,-113.44477605998495,-6.8428276811172084E-2,5.8616548849612475E-3,1.2001000000000002,null,5.8616548849612475E-3,1.2,0.26111808187496632,7.7652024979311229E-2,7.7652024979311229E-2,-1.2000999999999999,4.6591214987586737E-3,3.7272971990069396E-2,0.86545282718769601,0.86636901366163721]
[null,4.0642767574194245,2.35543745438266E-4,4.1607411745209072E-2,-8.3736835142525501E-2,0.61806214691030037,0.57764054445065771,0.93459945304576453,1.055029759697879,126.90896849206842,7.6549686353153415E-2,-113.59775900388625,-6.8520553948967583E-2,6.1109939507553029E-3,1.2000999999999999,null,6.1109939507553029E-3,1.2,0.25958610170232616,7.7696705268037097E-2,7.7696705268037097E-2,-1.2000999999999999,4.6618023160822242E-3,3.7294418528657808E-2,0.86636901366163721,0.86713503232420908]
[null,4.0873605906575117,2.3546646187302701E-4,4.1593760059769266E-2,-8.3709360495938717E-2,0.61456534737351765,0.57459751740605503,0.93496569544919172,1.0550190761200693,126.87806474979811,7.6531045654973914E-2,-113.64637466509794,-6.8549878224957089E-2,6.0874455219814758E-3,1.2001000000000004,null,6.0874455219814758E-3,1.2,0.25811744589687741,7.7671212430690612E-2,7.7671212430690612E-2,-1.2000999999999999,4.6602727458414364E-3,3.7282181966731498E-2,0.86713503232420908,0.86788540232190936]
[null,4.1158025728976497,2.35076852026332E-4,4.1524937780997806E-2,-8.3570852485709446E-2,0.61041635002034378,0.57093754228393101,0.93532478654102724,1.0551883372600597,126.6811692864476,7.641228110946599E-2,-113.56265817945966,-6.8499381630474102E-2,5.6815438735513847E-3,1.2000999999999999,null,5.6815438735513847E-3,1.2,0.25637486700854439,7.7542695320750532E-2,7.7542695320750532E-2,-1.2000999999999999,4.652561719245032E-3,3.7220493753960256E-2,0.86788540232190936,0.86879837153611972]
[null,4.1374561792420277,2.3535251200674378E-4,4.1573631488764605E-2,-8.3668850818427565E-2,0.60709323812657245,0.56809435019429433,0.93576128758636035,1.0549651011743924,126.83953996850236,7.6507808054353144E-2,-113.77438256522304,-6.8627090771254909E-2,6.1017787343366752E-3,1.2001000000000004,null,6.1017787343366752E-3,1.2,0.2549791600131604,7.7633624809081439E-2,7.7633624809081439E-2,-1.2000999999999999,4.6580174885448872E-3,3.7264139908359098E-2,0.86879837153611972,0.86948502253408111]
[null,4.1592318701238007,2.3526523699876089E-4,4.1558214873963585E-2,-8.3637824170099767E-2,0.60391524988163003,0.56531896325684061,0.93608989567268841,1.0549658927478109,126.80227266907684,7.6485328948927025E-2,-113.81033754358128,-6.8648778303261992E-2,6.0586583711493298E-3,1.2000999999999999,null,6.0586583711493298E-3,1.2,0.25364440495028462,7.7604836184022016E-2,7.7604836184022016E-2,-1.2000999999999999,4.6562901710413213E-3,3.7250321368330577E-2,0.86948502253408111,0.87016833471611021]
[null,4.1828491956843648,2.3508322478850896E-4,4.1526063491805182E-2,-8.3573118030629015E-2,0.60053696199583007,0.56235305463817153,0.936417057110427,1.0550213303544556,126.71464373173981,7.6432472419177291E-2,-113.80605846914047,-6.8646197226367126E-2,5.899660101972147E-3,1.2001000000000002,null,5.899660101972147E-3,1.2,0.25222552403824861,7.7544797446721589E-2,7.7544797446721589E-2,-1.2000999999999999,4.6526878468032959E-3,3.7221502774426374E-2,0.87016833471611021,0.87090139406480571]
[null,4.2034858388874721,2.3516229296936792E-4,4.1540030419056094E-2,-8.3601227115900151E-2,0.59753319176165198,0.55974993727156663,0.93676794023995147,1.0549233701308411,126.7663195017562,7.6463642509312091E-2,-113.91678742635925,-6.8712987359846461E-2,6.06351886585281E-3,1.2000999999999997,null,6.06351886585281E-3,1.2,0.25096394053989385,7.7570878959235742E-2,7.7570878959235742E-2,-1.2000999999999999,4.6542527375541447E-3,3.7234021900433165E-2,0.87090139406480571,0.8715351922910437]
[null,4.2235998683385123,2.3511655405016805E-4,4.1531950909067882E-2,-8.3584966729407989E-2,0.59467673262695897,0.55725459993952653,0.93707146986881129,1.0549041592434243,126.75040372646477,7.6454042339827596E-2,-113.96455224012615,-6.8741798416748254E-2,6.0660644349500425E-3,1.2001000000000002,null,6.0660644349500425E-3,1.2,0.24976422770332277,7.7555791471696056E-2,7.7555791471696056E-2,-1.2000999999999999,4.6533474883017631E-3,3.7226779906414112E-2,0.8715351922910437,0.87214697963033461]
[null,4.2106019126211311,2.3686545055614616E-4,4.1840883149610264E-2,-8.4206707111985066E-2,0.59591919348696154,0.55859279105207715,0.93736331562594477,1.0538549682628138,127.68754648375419,7.701931353374733E-2,-114.76682542879041,-6.9225718203438757E-2,8.2357441023421848E-3,1.2000999999999999,null,8.2357441023421848E-3,1.2,0.25028606126452385,7.8132684295219981E-2,7.8132684295219981E-2,-1.2000999999999999,4.6879610577131988E-3,3.7503688461705598E-2,0.87214697963033461,0.87175230259090297]
[null,4.2316830007885544,2.3503809706908871E-4,4.1518091946648905E-2,-8.3557074928340636E-2,0.59355742082216778,0.5562674754613034,0.93717550475704248,1.0549336760277275,126.71159569185892,7.6430633884835342E-2,-113.95442546091832,-6.8735690087436796E-2,5.9903804519123565E-3,1.2000999999999995,null,5.9903804519123565E-3,1.2,0.24929411674531046,7.7529911570177995E-2,7.7529911570177995E-2,-1.2000999999999999,4.6517946942106784E-3,3.7214357553685434E-2,0.87175230259090297,0.87239119756858596]
[null,4.2517138914620336,2.3502047781518839E-4,4.1514979609489154E-2,-8.3550811206260317E-2,0.59074101692566705,0.55380880701503588,0.93748155477194783,1.0548979509260921,126.71068234944231,7.6430082969668703E-2,-114.01456616289512,-6.8771966104239107E-2,6.0276551500390955E-3,1.2000999999999999,null,6.0276551500390955E-3,1.2,0.24811122710878014,7.7524099664730062E-2,7.7524099664730062E-2,-1.2000999999999999,4.651445979883804E-3,3.7211567839070432E-2,0.87239119756858596,0.87299239464715939]
[null,4.2699280933366834,2.3504833058842143E-4,4.1519899637410068E-2,-8.3560712989371289E-2,0.5881880789804973,0.55158489057802884,0.93776958474589878,1.0548387370939158,126.73343683587188,7.6443808152530143E-2,-114.08998015657288,-6.8817454753554164E-2,6.1168786485865535E-3,1.2000999999999999,null,6.1168786485865535E-3,1.2,0.24703899317180886,7.7533287209526708E-2,7.7533287209526708E-2,-1.2000999999999999,4.6519972325716032E-3,3.7215977860572833E-2,0.87299239464715939,0.87353417008528034]
[null,4.2878125054638438,2.3500208347309039E-4,4.1511730357576181E-2,-8.3544271936924389E-2,0.5857279190158251,0.54942992075431984,0.93802925030021567,1.0548264283012547,126.71603348989343,7.6433310701546381E-2,-114.12778980667071,-6.8840260997198741E-2,6.1102992795833422E-3,1.2000999999999999,null,6.1102992795833422E-3,1.2,0.24600572598664652,7.7518032087881744E-2,7.7518032087881744E-2,-1.2000999999999999,4.6510819252729048E-3,3.7208655402183245E-2,0.87353417008528034,0.87406165747408671]
[null,4.3231189985604805,2.3400698265825951E-4,4.133595167470934E-2,-8.3190509230440093E-2,0.58123940492189941,0.54536690269227883,0.93828274214402119,1.0553621879345376,126.19408732721379,7.6118480193339583E-2,-113.76151936574549,-6.8619331872122685E-2,4.940318421747452E-3,1.2000999999999999,null,4.940318421747452E-3,1.2,0.24412055006719774,7.7189787096370546E-2,7.7189787096370546E-2,-1.2000999999999999,4.631387225782233E-3,3.7051097806257871E-2,0.87406165747408671,0.87509018368918134]
[null,4.3398105822898971,2.3488167556724677E-4,4.1490461012017921E-2,-8.3501466398009636E-2,0.57868662986492247,0.54325672234793698,0.93877531346239051,1.0547839512493362,126.67264385714799,7.6407138691663171E-2,-114.24160061421635,-6.8908910059000572E-2,6.106462395960785E-3,1.2000999999999999,null,6.106462395960785E-3,1.2,0.24304838454326744,7.7478314210614976E-2,7.7478314210614976E-2,-1.2000999999999999,4.6486988526368983E-3,3.7189590821095193E-2,0.87509018368918134,0.87557060619104954]
[null,4.3573746039500012,2.3477836681269295E-4,4.147221213056447E-2,-8.3464739682414787E-2,0.57636771761443883,0.54121262563663708,0.9390057928238813,1.0548090232133083,126.62408415549197,7.6377848169682419E-2,-114.24859440963098,-6.8913128617009267E-2,6.0245713036948621E-3,1.2000999999999999,null,6.0245713036948621E-3,1.2,0.24207444139806431,7.7444236677207151E-2,7.7444236677207151E-2,-1.2000999999999999,4.6466542006324283E-3,3.7173233605059433E-2,0.87557060619104954,0.87607216521836684]
[null,4.37514999420564,2.3470792182991501E-4,4.1459768440334561E-2,-8.3439696181902737E-2,0.57402855734803659,0.53915427451439268,0.93924643227723692,1.0548136365291563,126.59327133414665,7.6359262313712858E-2,-114.27175898075524,-6.8927101157131035E-2,5.9846723280877583E-3,1.2001000000000002,null,5.9846723280877583E-3,1.2,0.24109199408617535,7.7420999621795952E-2,7.7420999621795952E-2,-1.2000999999999999,4.6452599773077578E-3,3.7162079818462063E-2,0.87607216521836684,0.87657566009961596]
[null,4.3923308890082531,2.3467977566392004E-4,4.1454796586314735E-2,-8.3429690096377393E-2,0.5717723919559432,0.53717331182749162,0.9394880189823549,1.0547936862414937,126.58497464999729,7.6354257871734083E-2,-114.31313052842108,-6.8952055886772251E-2,5.9965747913068509E-3,1.2000999999999999,null,5.9965747913068509E-3,1.2,0.24014440462149614,7.7411715298157185E-2,7.7411715298157185E-2,-1.2000999999999999,4.6447029178894299E-3,3.7157623343115453E-2,0.87657566009961596,0.87705844262522603]
[null,4.4071671447186818,2.3474561939670625E-4,4.1466427492903996E-2,-8.3453097832325671E-2,0.56980824313735012,0.53546000421698747,0.93971965247248423,1.0547208705368176,126.62639374409191,7.6379241280705473E-2,-114.39242996905507,-6.8999888182477112E-2,6.1212809969548466E-3,1.2001000000000002,null,6.1212809969548466E-3,1.2,0.23931946211768704,7.7433434580452362E-2,7.7433434580452362E-2,-1.2000999999999999,4.6460060748271413E-3,3.7168048598617137E-2,0.87705844262522603,0.87747231219784627]
[null,4.4226003495884845,2.3466507427301388E-4,4.1452199672422918E-2,-8.3424463687395978E-2,0.56782886380760522,0.53371276398599155,0.93991834160587318,1.0547376552644177,126.58904287585469,7.6356711767759697E-2,-114.40195404181235,-6.9005632967822361E-2,6.0609955626603641E-3,1.2000999999999997,null,6.0609955626603641E-3,1.2,0.23848812279919418,7.7406865882036449E-2,{"$f":"IF(L343<$O$306,$Q$306*C344*$L$306*$N$306,-$L$306*$O$306)","v":7.7406865882036449E-2},-1.2000999999999999,4.6444119529221867E-3,{"$f":"IF(L343<$O$306,($C$306-$M$306)*$Q$306*C344*$L$306*$N$306,0)","v":3.71552956233775E-2},0.87747231219784627,0.87789988755139359]
[null,4.4394253011008384,2.3454180271184966E-4,4.1430424479062158E-2,-8.3380640106448134E-2,0.56569860525318549,0.5318266473003963,0.9401236671997284,1.0547782144025479,126.52913936151893,7.6320578819171897E-2,-114.3946160215547,-6.9001206778279964E-2,5.9497256469950872E-3,1.2000999999999997,null,5.9497256469950872E-3,1.2,0.23759341420633789,7.7366203396442151E-2,7.7366203396442151E-2,-1.2000999999999999,4.6419722037865305E-3,3.7135777630292251E-2,0.87789988755139359,0.87836263404046988]
[null,4.4547885819758894,2.3456285773340967E-4,4.143414372429078E-2,-8.3388125259008711E-2,0.56372335387982364,0.53009490167004747,0.94034582392528443,1.0547327113079366,126.54647688204284,7.6331036565176896E-2,-114.45271644304532,-6.9036252126886438E-2,6.0179546051052288E-3,1.2000999999999997,null,6.0179546051052288E-3,1.2,0.23676380862952592,7.7373148627789809E-2,7.7373148627789809E-2,-1.2000999999999999,4.642388917667389E-3,3.7139111341339112E-2,0.87836263404046988,0.87878212623044683]
[null,4.4694810693937601,2.3454766756988792E-4,4.1431460471602621E-2,-8.3382725089217569E-2,0.56185882245988328,0.52845478132619672,0.94054726953037815,1.0547112956756535,126.54396082109713,7.6329518912968963E-2,-114.49073670958779,-6.9059185411377455E-2,6.0379249121816202E-3,1.2000999999999999,null,6.0379249121816202E-3,1.2,0.23598070543315097,7.7368137984624885E-2,7.7368137984624885E-2,-1.2000999999999999,4.6420882790774928E-3,3.713670623261995E-2,0.87878212623044683,0.87918060472437676]
[null,4.482230722064215,2.3460029923037809E-4,4.1440757543638108E-2,-8.3401435875485916E-2,0.56022916422734215,0.52702920690861477,0.9407386129843559,1.0546520759443836,126.57725582737126,7.6349601987614465E-2,-114.55561996331558,-6.9098322068001886E-2,6.1387599555136653E-3,1.2000999999999999,null,6.1387599555136653E-3,1.2,0.23529624897548368,7.7385499118987691E-2,7.7385499118987691E-2,-1.2000999999999999,4.6431299471392613E-3,3.7145039577114097E-2,0.87918060472437676,0.87952427407589762]
[null,4.4959058045282845,2.3451155112879911E-4,4.1425080715551961E-2,-8.3369885535920327E-2,0.55853925611646338,0.52553167604538897,0.94090374184157277,1.0546787511249853,126.5345940189512,7.6323868991021573E-2,-114.55405795037456,-6.9097379883992852E-2,6.0619518837658447E-3,1.2000999999999997,null,6.0619518837658447E-3,1.2,0.23458648756891462,7.735622457773994E-2,7.735622457773994E-2,-1.2000999999999999,4.6413734746643962E-3,3.7130987797315176E-2,0.87952427407589762,0.87989072203067265]
[null,4.5108303218222909,2.3440383852520917E-4,4.1406053920171021E-2,-8.3331593232667686E-2,0.55671031191367859,0.52390885472153126,0.94107984621410534,1.0547148172895739,126.48213597754956,7.6292227045903674E-2,-114.54672319622809,-6.909295566452231E-2,5.9639920231140467E-3,1.2000999999999999,null,5.9639920231140467E-3,1.2,0.23381833100374499,7.7320694386100994E-2,7.7320694386100994E-2,-1.2000999999999999,4.6392416631660591E-3,3.711393330532848E-2,0.87989072203067265,0.88028811516416117]
[null,4.5248288092678672,2.3440383852520917E-4,4.1406053920171021E-2,-8.3331593232667686E-2,0.55497294602952896,0.52237981736499095,0.9412707792375814,1.0546861813146429,126.48741092773535,7.6295408820895999E-2,-114.58892279771447,-6.9118409864461008E-2,6.000480905223475E-3,1.2000999999999999,null,6.000480905223475E-3,1.2,0.23308863733240215,7.7320694386100994E-2,7.7320694386100994E-2,-1.2000999999999999,4.6392416631660591E-3,3.711393330532848E-2,0.88028811516416117,0.88065846847200968]
[null,4.5379590573518493,2.3440383852520917E-4,4.1406053920171021E-2,-8.3331593232667686E-2,0.55335316451404148,0.52095364298295865,0.94144874628206687,1.054659482024737,126.49232912676953,7.6298375408663299E-2,-114.62826838998802,-6.9142142566599452E-2,6.0344780608440236E-3,1.2000999999999997,null,6.0344780608440236E-3,1.2,0.23240832909589743,7.7320694386100994E-2,7.7320694386100994E-2,-1.2000999999999999,4.6392416631660591E-3,3.711393330532848E-2,0.88065846847200968,0.88100377434539479]
[null,4.5502752072940442,2.3440383852520917E-4,4.1406053920171021E-2,-8.3331593232667686E-2,0.55184238218156278,0.51962289887327029,0.94161469950727361,1.0546345781894368,126.49691659029963,7.6301142501474462E-2,-114.66496809822877,-6.9164279309088667E-2,6.0661682021512196E-3,1.2001000000000002,null,6.0661682021512196E-3,1.2,0.23177380051625637,7.7320694386100994E-2,7.7320694386100994E-2,-1.2000999999999999,4.6392416631660591E-3,3.711393330532848E-2,0.88100377434539479,0.88132585933826912]
[null,4.5618279871283871,2.3440383852520917E-4,4.1406053920171021E-2,-8.3331593232667686E-2,0.55043271872614519,0.51838075301917352,0.94176951221005023,1.0546113401527606,126.50119720187921,7.6303724505549578E-2,-114.69921299086538,-6.9184935341689652E-2,6.0957204896723675E-3,1.2000999999999997,null,6.0957204896723675E-3,1.2,0.23118174186498097,7.7320694386100994E-2,7.7320694386100994E-2,-1.2000999999999999,4.6392416631660591E-3,3.711393330532848E-2,0.88132585933826912,0.88162640031065198]
[null,4.5726649317493084,2.3440383852520917E-4,4.1406053920171021E-2,-8.3331593232667686E-2,0.54911693127414984,0.51722091777744128,0.94191398647516067,1.0545896487281821,126.50519291651392,7.6306134663836095E-2,-114.73117870794303,-6.9204216607981733E-2,6.1232901694914209E-3,1.2000999999999999,null,6.1232901694914209E-3,1.2,0.23062911113514292,7.7320694386100994E-2,7.7320694386100994E-2,-1.2000999999999999,4.6392416631660591E-3,3.711393330532848E-2,0.88162640031065198,0.88190693871955783]
[null,4.5828305881081546,2.3440383852520917E-4,4.1406053920171021E-2,-8.3331593232667686E-2,0.5478883545374641,0.51613759975466589,0.94204885991854548,1.0545693942178651,126.50892394132514,7.6308385164982451E-2,-114.76102690643268,-6.9222220617152538E-2,6.1490198513306383E-3,1.2000999999999999,null,6.1490198513306383E-3,1.2,0.23011310890573491,7.7320694386100994E-2,7.7320694386100994E-2,-1.2000999999999999,4.6392416631660591E-3,3.711393330532848E-2,0.88190693871955783,0.88216889330335946]
[null,4.5923667066514202,2.3440383852520917E-4,4.1406053920171021E-2,-8.3331593232667686E-2,0.54674084757532393,0.51512545509643337,0.94217481166973727,1.0545504755399446,126.512408896311,7.6310487240306937E-2,-114.78890654631958,-6.9239037219748389E-2,6.1730406028033379E-3,1.2000999999999999,null,6.1730406028033379E-3,1.2,0.22963115598163605,7.7320694386100994E-2,7.7320694386100994E-2,-1.2000999999999999,4.6392416631660591E-3,3.711393330532848E-2,0.88216889330335946,0.88241357136879262]
[null,4.6013124200253799,2.3440383852520917E-4,4.1406053920171021E-2,-8.3331593232667686E-2,0.54566874631586593,0.51417954954900058,0.94229246776644693,1.0545327994500062,126.5156649577557,7.631245125030009E-2,-114.81495503787743,-6.9254749299693719E-2,6.1954732439431781E-3,1.2001000000000002,null,6.1954732439431781E-3,1.2,0.22918087345266369,7.7320694386100994E-2,7.7320694386100994E-2,-1.2000999999999999,4.6392416631660591E-3,3.711393330532848E-2,0.88241357136879262,0.88264217885969554]
[null,4.6097044099325517,2.3440383852520917E-4,4.1406053920171021E-2,-8.3331593232667686E-2,0.54466682111766318,0.51329532263088062,0.94240240589208679,1.0545162798450152,126.51870798645041,7.6314286761965736E-2,-114.83929926743495,-6.9269433393018887E-2,6.2164291236247674E-3,1.2000999999999997,null,6.2164291236247674E-3,1.2,0.22876006486941852,7.7320694386100994E-2,7.7320694386100994E-2,-1.2000999999999999,4.6392416631660591E-3,3.711393330532848E-2,0.88264217885969554,0.88285582935937079]
[null,4.6175770629905966,2.3440383852520917E-4,4.1406053920171021E-2,-8.3331593232667686E-2,0.54373023874941406,0.51246855547185699,0.94250515963677262,1.0545008371395519,126.52155264259532,7.6316002618128334E-2,-114.86205651659427,-6.9283160242319647E-2,6.2360109179720319E-3,1.2000999999999999,null,6.2360109179720319E-3,1.2,0.22836670027475389,7.7320694386100994E-2,7.7320694386100994E-2,-1.2000999999999999,4.6392416631660591E-3,3.711393330532848E-2,0.88285582935937079,0.88305555215785259]
[null,4.6249626163883946,2.3440383852520917E-4,4.1406053920171021E-2,-8.3331593232667686E-2,0.54285452825121094,0.51169534190315913,0.94260122237824895,1.0544863977055834,126.52421248899756,7.631760699968039E-2,-114.88333528781222,-6.929599529473611E-2,6.254313634956845E-3,1.2000999999999999,null,6.254313634956845E-3,1.2,0.22799890186550859,7.7320694386100994E-2,7.7320694386100994E-2,-1.2000999999999999,4.6392416631660591E-3,3.711393330532848E-2,0.88305555215785259,0.88324229949739941]
[null,4.6318912940079855,2.3440383852520917E-4,4.1406053920171021E-2,-8.3331593232667686E-2,0.54203555022177941,0.51097206233136605,0.94269105065580405,1.0544728933683369,126.526700083935,7.6319107481596649E-2,-114.90323604731175,-6.9307999150066274E-2,6.2714249637124009E-3,1.2000999999999997,null,6.2714249637124009E-3,1.2,0.22765493109314733,7.7320694386100994E-2,7.7320694386100994E-2,-1.2000999999999999,4.6392416631660591E-3,3.711393330532848E-2,0.88324229949739941,0.88341695309245116]
[null,4.6383914337179553,2.3440383852520917E-4,4.1406053920171021E-2,-8.3331593232667686E-2,0.54126946912716889,0.5102953602031427,0.94277506733573224,1.0544602609516607,126.52902706490403,7.6320511083449588E-2,-114.9218518950639,-6.9319227964889651E-2,6.2874262056484744E-3,1.2000999999999999,null,6.2874262056484744E-3,1.2,0.22733317703341094,7.7320694386100994E-2,7.7320694386100994E-2,-1.2000999999999999,4.6392416631660591E-3,3.711393330532848E-2,0.88341695309245116,0.8835803300095445]
[null,4.6444896064024421,2.3440383852520917E-4,4.1406053920171021E-2,-8.3331593232667686E-2,0.54055272829001988,0.50966212064773619,0.94285366435943674,1.0544484418673017,126.53120422427732,7.6321824315045E-2,-114.93926917005014,-6.9329733817652991E-2,6.3023925878059033E-3,1.2000999999999997,null,6.3023925878059033E-3,1.2,0.22703214588180834,7.7320694386100994E-2,7.7320694386100994E-2,-1.2000999999999999,4.6392416631660591E-3,3.711393330532848E-2,0.8835803300095445,0.88373318797923273]
[null,4.6502107273071793,2.3440383852520917E-4,4.1406053920171021E-2,-8.3331593232667686E-2,0.53988202725607248,0.50906945114057389,0.94292720527834162,1.0544373817431447,126.53324157778523,7.6323053217729142E-2,-114.95556799811354,-6.9339565039126153E-2,6.316393791433738E-3,1.2001000000000002,null,6.316393791433738E-3,1.2,0.22675045144755043,7.7320694386100994E-2,7.7320694386100994E-2,-1.2000999999999999,4.6392416631660591E-3,3.711393330532848E-2,0.88373318797923273,0.8838762302041524]
[null,4.6555781602361561,2.3440383852520917E-4,4.1406053920171021E-2,-8.3331593232667686E-2,0.53925430127386487,0.50851466396314626,0.94299602759198542,1.0544270300860856,126.53514842661639,7.6324203401846799E-2,-114.9708227887628,-6.9348766512067422E-2,6.3294946370511303E-3,1.2000999999999997,null,6.3294946370511303E-3,1.2,0.22648680653502323,7.7320694386100994E-2,7.7320694386100994E-2,-1.2000999999999999,4.6392416631660591E-3,3.711393330532848E-2,0.8838762302041524,0.88401010971908844]
[null,4.6606138150349983,2.3440383852520917E-4,4.1406053920171021E-2,-8.3331593232667686E-2,0.53866670266354422,0.50799526018614782,0.9430604447504638,1.0544173399758867,126.53693341381228,7.6325280080757785E-2,-114.98510268632988,-6.9357379943355252E-2,6.3417551248733609E-3,1.2000999999999997,null,6.3417551248733609E-3,1.2,0.22624001511868858,7.7320694386100994E-2,7.7320694386100994E-2,-1.2000999999999999,4.6392416631660591E-3,3.711393330532848E-2,0.88401010971908844,0.88413543335043632]
[null,4.665338238850417,2.3440383852520917E-4,4.1406053920171021E-2,-8.3331593232667686E-2,0.53811658386875305,0.50750891513536167,0.94312074808522051,1.0544082677866295,126.53860457557734,7.6326288101786405E-2,-114.9984719804503,-6.9365444111584199E-2,6.3532310142352232E-3,1.2001000000000002,null,6.3532310142352232E-3,1.2,0.22600896522487626,7.7320694386100994E-2,7.7320694386100994E-2,-1.2000999999999999,4.6392416631660591E-3,3.711393330532848E-2,0.88413543335043632,0.88425276531867048]
[null,4.669770701569651,2.3440383852520917E-4,4.1406053920171021E-2,-8.3331593232667686E-2,0.53760148201632207,0.5070534651170443,0.94317720854357634,1.0543997729329027,126.54016938803269,7.6327231974422691E-2,-115.01099048009331,-6.9372995092674583E-2,6.3639742387429764E-3,1.2000999999999999,null,6.3639742387429764E-3,1.2,0.22579262244685527,7.7320694386100994E-2,7.7320694386100994E-2,-1.2000999999999999,4.6392416631660591E-3,3.711393330532848E-2,0.88425276531867048,0.88436263052091835]
[null,4.673929275801421,2.3440383852520917E-4,4.1406053920171021E-2,-8.3331593232667686E-2,0.5371191048311259,0.50662689525752269,0.94323007820920801,1.0543918176382296,126.54163480987407,7.6328115896053012E-2,-115.02271385482415,-6.938006646571708E-2,6.3740329864698225E-3,1.2000999999999997,null,6.3740329864698225E-3,1.2,0.22559002402907288,7.7320694386100994E-2,7.7320694386100994E-2,-1.2000999999999999,4.6392416631660591E-3,3.711393330532848E-2,0.88436263052091835,0.88446551752595604]
[null,4.6778309117885977,2.3440383852520917E-4,4.1406053920171021E-2,-8.3331593232667686E-2,0.53666731776527954,0.50622732841986828,0.94327959177360476,1.0543843667234214,126.5430073213582,7.6328943775476166E-2,-115.03369394669743,-6.9386689501102328E-2,6.3834521819082311E-3,1.2000999999999999,null,6.3834521819082311E-3,1.2,0.22540027346141739,7.7320694386100994E-2,7.7320694386100994E-2,-1.2000999999999999,4.6392416631660591E-3,3.711393330532848E-2,0.88446551752595604,0.8845618813114543]
[null,4.6814915075536847,2.3440383852520917E-4,4.1406053920171021E-2,-8.3331593232667686E-2,0.53624413222421985,0.50585301500742008,0.94332596779988198,1.0543773874129359,126.54429295997301,7.6329719254419032E-2,-115.04397905561572,-6.9392893332645186E-2,6.3922735262499988E-3,1.2000999999999999,null,6.3922735262499988E-3,1.2,0.22522253553417232,7.7320694386100994E-2,7.7320694386100994E-2,-1.2000999999999999,4.6392416631660591E-3,3.711393330532848E-2,0.8845618813114543,0.88465214576835205]
[null,4.6849259746238987,2.3440383852520917E-4,4.1406053920171021E-2,-8.3331593232667686E-2,0.53584769477807281,0.5055023236604147,0.94336940997716523,1.0543708491574155,126.54549735312719,7.6330445727254587E-2,-115.05361420084914,-6.9398705115329654E-2,6.4005360130584034E-3,1.2000999999999999,null,6.4005360130584034E-3,1.2,0.22505603180679057,7.7320694386100994E-2,7.7320694386100994E-2,-1.2000999999999999,4.6392416631660591E-3,3.711393330532848E-2,0.88465214576835205,0.88473670599601084]
[null,4.688148299586155,2.3440383852520917E-4,4.1406053920171021E-2,-8.3331593232667686E-2,0.53547627726748293,0.50517373266065679,0.94341010817237514,1.0543647234709153,126.54662574813453,7.6331126359087953E-2,-115.06264136090796,-6.9404150169996584E-2,6.4082759183455122E-3,1.2000999999999999,null,6.4082759183455122E-3,1.2,0.22490003645234283,7.7320694386100994E-2,7.7320694386100994E-2,-1.2000999999999999,4.6392416631660591E-3,3.711393330532848E-2,0.88473670599601084,0.8848159304073917]
[null,4.6911716017591472,2.3440383852520917E-4,4.1406053920171021E-2,-8.3331593232667686E-2,0.53512826771705979,0.50486582205274877,0.94344823944095624,1.0543589837813916,126.54768303975438,7.6331764102368388E-2,-115.0710996938667,-6.9409252116240064E-2,6.4155270151083962E-3,1.2001000000000002,null,6.4155270151083962E-3,1.2,0.2247538724411651,7.7320694386100994E-2,7.7320694386100994E-2,-1.2000999999999999,4.6392416631660591E-3,3.711393330532848E-2,0.8848159304073917,0.8848901626626694]
[null,4.6940081872377863,2.3440383852520917E-4,4.1406053920171021E-2,-8.3331593232667686E-2,0.53480216198042951,0.50457726639821321,0.94348396896846809,1.0543536052932141,126.54867379551806,7.6332361712165883E-2,-115.07902573997602,-6.941403299462004E-2,6.4223208338436595E-3,1.2000999999999999,null,6.4223208338436595E-3,1.2,0.22461690803178039,7.7320694386100994E-2,7.7320694386100994E-2,-1.2000999999999999,4.6392416631660591E-3,3.711393330532848E-2,0.8848901626626694,0.8849597234474007]
[null,{"$f":"MIN(0.5*(-(T377+U377+V377)+SQRT((T377+U377+V377)^2+4*S377*(W377+X377)))/S377,1000*$C$6)","v":4.6966695995345011},2.3440383852520917E-4,{"$f":"IF($C$2=1,C377/($Z$306*$Z$5),2^(1/3)*$Z$5/C377)","v":4.1406053920171021E-2},{"$f":"IF($C$2=1,-($Z$306-2)*C377/$Z$5,3*($Z$5/C377)^2)","v":-8.3331593232667686E-2},{"$f":"IF($C$2=1,0.5*($Z$306*C377*$F$306/$Z$5)*(1-Y377^2+(D377-E377)*(E377^2*(1-Y377^2)+2*E377*(1-Y377)+2*LN((1-E377)/(1-E377*Y377)))/(E377^3)),$F$306*E377*(LN((1-D377+D377^2)/(1+D377)^2)/(6*D377)+ATAN((2-D377)/(D377*3^0.5))/(D377*3^0.5)-LN((Y377^2-D377*Y377+D377^2)/(Y377+D377)^2)/(6*D377)-ATAN((2*Y377-D377)/(D377*3^0.5))/(D377*3^0.5)))","v":0.53449655605056834},{"$f":"IF($C$2=1,($Z$306*C377*$F$306/$Z$5)*(1-Y377^3-(D377-E377)*(-2*E377^3*(1-Y377^3)-3*E377^2*(1-Y377^2)-6*E377*(1-Y377)-6*LN((1-E377)/(1-E377*Y377)))/(2*E377^4))/3,$F$306*E377*(LN((1+D377^3)/(D377^3+Y377^3)))/3)","v":0.50430682808728122},{"$f":"G377/F377","v":0.94351745091425643},{"$f":"F377*B377*$D$306","v":1.0543485648606088},{"$f":"MAX(MIN($K$306,$Q$306*$J$306*C377*(B377-$I$306)/B377),-$K$306)","v":126.54960227904166},{"$f":"J377*$H$306","v":7.6332921760233111E-2},{"$f":"MIN($O$306,$Q$306*$N$306*C377*(C$306-B377-$M$306)/B377)","v":-115.08645360816514},{"$f":"L377*$L$306","v":-6.9418513379157915E-2},{"$f":"(0.5*$C$306-B377+H377*B377)*I377+(0.5*$C$306-$I$306)*K377+(0.5*$C$306-$M$306)*M377","v":6.4286867912962623E-3},{"$f":"I377+K377-M377","v":1.2000999999999997},null,{"$f":"N377-P377*O377","v":6.4286867912962623E-3},{"$f":"R376","v":1.2},{"$f":"F377*$D$306","v":0.2244885535412387},{"$f":"IF(ABS(J376)<$K$306,$Q$306*C377*$H$306*$J$306,IF(J376>0,1,-1)*$H$306*$K$306)","v":7.7320694386100994E-2},7.7320694386100994E-2,{"$f":"-(R377+0.0001)","v":-1.2000999999999999},{"$f":"IF(ABS(J376)<$K$306,$I$306*$Q$306*C377*$H$306*$J$306,0)","v":4.6392416631660591E-3},3.711393330532848E-2,{"$f":"IF(B376<$C$306,0,(B376-$C$306)/B376)","v":0.8849597234474007},{"$f":"IF(B377<=$C$306,0,(B377-$C$306)/B377)","v":0.88502491210931233}]
[null,{"$f":"MIN(0.5*(-(T378+U378+V378)+SQRT((T378+U378+V378)^2+4*S378*(W378+X378)))/S378,1000*$C$6)","v":4.6991666670416317},2.3440383852520917E-4,{"$f":"IF($C$2=1,C378/($Z$306*$Z$5),2^(1/3)*$Z$5/C378)","v":4.1406053920171021E-2},{"$f":"IF($C$2=1,-($Z$306-2)*C378/$Z$5,3*($Z$5/C378)^2)","v":-8.3331593232667686E-2},{"$f":"IF($C$2=1,0.5*($Z$306*C378*$F$306/$Z$5)*(1-Y378^2+(D378-E378)*(E378^2*(1-Y378^2)+2*E378*(1-Y378)+2*LN((1-E378)/(1-E378*Y378)))/(E378^3)),$F$306*E378*(LN((1-D378+D378^2)/(1+D378)^2)/(6*D378)+ATAN((2-D378)/(D378*3^0.5))/(D378*3^0.5)-LN((Y378^2-D378*Y378+D378^2)/(Y378+D378)^2)/(6*D378)-ATAN((2*Y378-D378)/(D378*3^0.5))/(D378*3^0.5)))","v":0.53421013897443903},{"$f":"IF($C$2=1,($Z$306*C378*$F$306/$Z$5)*(1-Y378^3-(D378-E378)*(-2*E378^3*(1-Y378^3)-3*E378^2*(1-Y378^2)-6*E378*(1-Y378)-6*LN((1-E378)/(1-E378*Y378)))/(2*E378^4))/3,$F$306*E378*(LN((1+D378^3)/(D378^3+Y378^3)))/3)","v":0.50405335117840377},{"$f":"G378/F378","v":0.94354882920431016},{"$f":"F378*B378*$D$306","v":1.0543438408710317},{"$f":"MAX(MIN($K$306,$Q$306*$J$306*C378*(B378-$I$306)/B378),-$K$306)","v":126.55047247150965},{"$f":"J378*$H$306","v":7.6333446647963918E-2},{"$f":"MIN($O$306,$Q$306*$N$306*C378*(C$306-B378-$M$306)/B378)","v":-115.09341514790881},{"$f":"L378*$L$306","v":-6.9422712481004262E-2},{"$f":"(0.5*$C$306-B378+H378*B378)*I378+(0.5*$C$306-$I$306)*K378+(0.5*$C$306-$M$306)*M378","v":6.4346523876691961E-3},{"$f":"I378+K378-M378","v":1.2000999999999999},null,{"$f":"N378-P378*O378","v":6.4346523876691961E-3},{"$f":"R377","v":1.2},{"$f":"F378*$D$306","v":0.22436825836926438},{"$f":"IF(ABS(J377)<$K$306,$Q$306*C378*$H$306*$J$306,IF(J377>0,1,-1)*$H$306*$K$306)","v":7.7320694386100994E-2},7.7320694386100994E-2,{"$f":"-(R378+0.0001)","v":-1.2000999999999999},{"$f":"IF(ABS(J377)<$K$306,$I$306*$Q$306*C378*$H$306*$J$306,0)","v":4.6392416631660591E-3},3.711393330532848E-2,{"$f":"IF(B377<$C$306,0,(B377-$C$306)/B377)","v":0.88502491210931233},{"$f":"IF(B378<=$C$306,0,(B378-$C$306)/B378)","v":0.88508600816664418}]
[null,null,{"$f":"IF(C306*J379/(J379-L379)<=0,B378,C306*J379/(J379-L379))","v":4.3884765745153258},null,null,null,null,null,null,{"$f":"$R378/($J309*N309)+($Q378-R308)/($M309*N309)","v":2.4050665831893702E-4},null,{"$f":"$R378/($J309*$N$309)-($Q378-R308)/($M309*N309)","v":2.109124259499128E-4},null,null,{"$f":"SIGN(J379-L379)","v":1},{"$f":"IF(Q311=0.0001,ABS(Q308)*($Q$6*C378/B378)/Q311,IF(B378>10*$C$6,(L379-J379)/$C$6,$Q$6*C378/B378))*IF(B378>10*C306,O379*P308,P308)","v":-1.3639353956667618E-4},null,null,null,null,null,null,null,null,null,null,{"$f":"N378/($Q$6*C378/B378)","v":47.177105368129311}]
[null,{"$f":"IF(AND(B378<>1000*$C$6,C380<C306,B378<C306),B378,IF(AND(B378<>1000*$C$6,C380>C306,B378>C306),B378*C380/C379,IF(C306*J380/(J380-L380)<=0,B378,C306*J380/(J380-L380))))","v":4.5503165334974751},{"$f":"IF(C306*J380/(J380-L380)<=0,B378,C306*J380/(J380-L380))","v":4.2494678160574679},null,null,null,null,null,null,{"$f":"$R378/($J309*N309)+($Q380-R308)/($M309*N309)","v":2.4102354370277298E-4},null,{"$f":"$R378/($J309*N309)-($Q380-R308)/($M309*N309)","v":2.1039554056607684E-4},null,null,{"$f":"SIGN(J380-L380)","v":1},null,{"$f":"MAX(ABS(INDEX(Snitkræfter!$G$286:$U$286,B309+1)),0.0000001)","v":6.6594244126893546E-3}]
[null,{"$f":"MIN(0.5*(-(T381+U381+V381)+SQRT((T381+U381+V381)^2+4*S381*(W381+X381)))/S381,1000*$C$6)","v":4.6889265061223346},{"$f":"MIN(MAX(IF(Q308=0,0.001*Z305,IF(OR(AND(B378<>1000*$C$6,C380<C306,B378<C306),AND(B378<>1000*$C$6,C380>C306,B378>C306)),C378*J380/J379,IF(B380>C306,J380,C378*MIN(Q380/Q311,2)))),0.0001*$Z$5),0.9*K306/(J306*Q306))","v":2.349076080212206E-4},{"$f":"IF($C$2=1,C381/($Z$306*$Z$5),2^(1/3)*$Z$5/C381)","v":4.1495041826881185E-2},{"$f":"IF($C$2=1,-($Z$306-2)*C381/$Z$5,3*($Z$5/C381)^2)","v":-8.3510685499197004E-2},{"$f":"IF($C$2=1,0.5*($Z$306*C381*$F$306/$Z$5)*(1-Y381^2+(D381-E381)*(E381^2*(1-Y381^2)+2*E381*(1-Y381)+2*LN((1-E381)/(1-E381*Y381)))/(E381^3)),$F$306*E381*(LN((1-D381+D381^2)/(1+D381)^2)/(6*D381)+ATAN((2-D381)/(D381*3^0.5))/(D381*3^0.5)-LN((Y381^2-D381*Y381+D381^2)/(Y381+D381)^2)/(6*D381)-ATAN((2*Y381-D381)/(D381*3^0.5))/(D381*3^0.5)))","v":0.53522761275255626},{"$f":"IF($C$2=1,($Z$306*C381*$F$306/$Z$5)*(1-Y381^3-(D381-E381)*(-2*E381^3*(1-Y381^3)-3*E381^2*(1-Y381^2)-6*E381*(1-Y381)-6*LN((1-E381)/(1-E381*Y381)))/(2*E381^4))/3,$F$306*E381*(LN((1+D381^3)/(D381^3+Y381^3)))/3)","v":0.50501323994420588},{"$f":"G381/F381","v":0.94354855375834479},{"$f":"F381*B381*$D$306","v":1.0540500349024975},{"$f":"MAX(MIN($K$306,$Q$306*$J$306*C381*(B381-$I$306)/B381),-$K$306)","v":126.81886655681058},{"$f":"J381*$H$306","v":7.6495338146200395E-2},{"$f":"MIN($O$306,$Q$306*$N$306*C381*(C$306-B381-$M$306)/B381)","v":-115.31211139804704},{"$f":"L381*$L$306","v":-6.9554626951302226E-2},{"$f":"(0.5*$C$306-B381+H381*B381)*I381+(0.5*$C$306-$I$306)*K381+(0.5*$C$306-$M$306)*M381","v":7.0475112505235162E-3},{"$f":"I381+K381-M381","v":1.2001000000000002},null,{"$f":"N381-P381*O381","v":7.0475112505235162E-3},{"$f":"R378","v":1.2},{"$f":"F381*$D$306","v":0.22479559735607363},{"$f":"IF(ABS(J380)<$K$306,$Q$306*C381*$H$306*$J$306,IF(J380>0,1,-1)*$H$306*$K$306)","v":7.7486868316900132E-2},{"$f":"IF(L378<$O$306,$Q$306*C381*$L$306*$N$306,-$L$306*$O$306)","v":7.7486868316900132E-2},{"$f":"-(R381+0.0001)","v":-1.2000999999999999},{"$f":"IF(ABS(J380)<$K$306,$I$306*$Q$306*C381*$H$306*$J$306,0)","v":4.6492120990140069E-3},{"$f":"IF(L378<$O$306,($C$306-$M$306)*$Q$306*C381*$L$306*$N$306,0)","v":3.7193696792112069E-2},{"$f":"IF(B380<$C$406,0,IF(C378*J380/J379=C381,Y378,(B380-$C$6)/B380))","v":0.88502491210931233},{"$f":"IF(B381<=$C$306,0,(B381-$C$306)/B381)","v":0.8848350471488684}]
[null,{"$f":"MIN(0.5*(-(T382+U382+V382)+SQRT((T382+U382+V382)^2+4*S382*(W382+X382)))/S382,1000*$C$6)","v":4.7787628998185916},{"$f":"0.98*C381","v":2.3020945586079618E-4},4.066514099034356E-2,{"$f":"IF($C$2=1,-($Z$306-2)*C382/$Z$5,3*($Z$5/C382)^2)","v":-8.1840471789213054E-2},{"$f":"IF($C$2=1,0.5*($Z$306*C382*$F$306/$Z$5)*(1-Y382^2+(D382-E382)*(E382^2*(1-Y382^2)+2*E382*(1-Y382)+2*LN((1-E382)/(1-E382*Y382)))/(E382^3)),$F$306*E382*(LN((1-D382+D382^2)/(1+D382)^2)/(6*D382)+ATAN((2-D382)/(D382*3^0.5))/(D382*3^0.5)-LN((Y382^2-D382*Y382+D382^2)/(Y382+D382)^2)/(6*D382)-ATAN((2*Y382-D382)/(D382*3^0.5))/(D382*3^0.5)))","v":0.52653925630411258},{"$f":"IF($C$2=1,($Z$306*C382*$F$306/$Z$5)*(1-Y382^3-(D382-E382)*(-2*E382^3*(1-Y382^3)-3*E382^2*(1-Y382^2)-6*E382*(1-Y382)-6*LN((1-E382)/(1-E382*Y382)))/(2*E382^4))/3,$F$306*E382*(LN((1+D382^3)/(D382^3+Y382^3)))/3)","v":0.49676859134659268},{"$f":"G382/F382","v":0.94345974283762557},{"$f":"F382*B382*$D$306","v":1.0568066305961494},{"$f":"MAX(MIN($K$306,$Q$306*$J$306*C382*(B382-$I$306)/B382),-$K$306)","v":124.31277353924237},7.4983698450865041E-2,{"$f":"MIN($O$306,$Q$306*$N$306*C382*(C$306-B382-$M$306)/B382)","v":-113.24814367863016},-6.8309670952985443E-2,{"$f":"(0.5*$C$306-B382+H382*B382)*I382+(0.5*$C$306-$I$306)*K382+(0.5*$C$306-$M$306)*M382","v":1.1981281745683074E-3},{"$f":"I382+K382-M382","v":1.2000999999999997},null,{"$f":"N382-P382*O382","v":1.1981281745683074E-3},{"$f":"R381","v":1.2},0.22114648764772726,7.5937130950562121E-2,{"$f":"IF(L381<$O$306,$Q$306*C382*$L$306*$N$306,-$L$306*$O$306)","v":7.5937130950562121E-2},{"$f":"-(R382+0.0001)","v":-1.2000999999999999},4.5562278570337265E-3,{"$f":"IF(L381<$O$306,($C$306-$M$306)*$Q$306*C382*$L$306*$N$306,0)","v":3.6449822856269819E-2},{"$f":"IF(B381<$C$306,0,IF(MIN(ABS($Q$380-Q381),ABS(Q381-Q380))<=0.001*Q$380,IF(Q381<0,1.1,1)*Y381,(B381-$C$306)/B381))","v":0.8848350471488684},0.88700004345884176]
[null,4.9145551395724576,{"$f":"IF(Z382>0,0.99*C382,0.98*C382)","v":2.2790736130218821E-4},4.0258489580440128E-2,-8.1022067071320925E-2,0.51257114242326873,0.48412515832707831,{"$f":"G383/F383","v":0.94450334452753792},1.0580048398049766,123.11288372293106,7.4259941964713208E-2,-112.46156559449282,-6.7835218230310135E-2,-1.5511943208717897E-3,{"$f":"I383+K383-M383","v":1.2000999999999999},null,{"$f":"N383-P383*O383","v":-1.5511943208717897E-3},{"$f":"R382","v":1.2},0.21527987981777286,7.5177759641056496E-2,7.5177759641056496E-2,{"$f":"-(R383+0.0001)","v":-1.2000999999999999},4.5106655784633897E-3,3.6085324627707124E-2,{"$f":"IF(B382<$C$306,0,IF(MIN(ABS($Q$380-Q382),ABS(Q382-Q381))<=0.001*Q$380,IF(Q382<0,1.1,1)*Y382,(B382-$C$306)/B382))","v":0.88700004345884176},0.89012230310494034]
[null,4.8955934115416619,{"$f":"IF(MIN(ABS($Q$380-Q383),10*ABS(Q383-Q382))<=0.001*Q$380,C383,MAX(0.9*C383,MIN($W$6,1.05*C383,IF(C383=$W$6,0.5*(C383+C382),C383+IF(C383=C382,0,(C383-C382)*(Q383-Q$380)/(Q382-Q383))))))","v":2.3478237168772325E-4},4.1472919568089774E-2,-8.3466163433062707E-2,0.51248779348048223,0.48481580844732647,0.94600459682127114,1.0537513834086005,126.82061235792203,7.6496391188622101E-2,-115.80548915438833,-6.9852225402777371E-2,7.3599923124623347E-3,1.2000999999999999,null,7.3599923124623347E-3,1.2,0.21524487326180253,7.7445557729457062E-2,7.7445557729457062E-2,-1.2000999999999999,4.6467334637674239E-3,3.7173867710139391E-2,0.89012230310494034,0.88969672221412077]
[null,4.8892684896753495,{"$f":"IF(MIN(ABS($Q$380-Q384),10*ABS(Q384-Q383))<=0.001*Q$380,C384,MAX(0.9*C384,MIN($W$6,1.05*C384,IF(C384=$W$6,0.5*(C384+C383),C384+IF(C384=C383,0,(C384-C383)*(Q384-Q$380)/(Q383-Q384))))))","v":2.3424188120257339E-4},4.1377445115485842E-2,-8.3274016693751562E-2,0.51332019978498888,0.48549806152163694,0.94579964264993732,1.0540993167274926,126.52662875205304,7.6319064455219118E-2,-115.52264663975701,-6.9681618817288363E-2,6.6642554736102127E-3,1.2001000000000002,null,6.6642554736102127E-3,1.2,0.21559448390969532,7.7267270974923502E-2,7.7267270974923502E-2,-1.2000999999999999,4.6360362584954105E-3,3.7088290067963284E-2,0.88969672221412077,0.88955403019075019]
[null,4.8892684896753495,2.3424188120257339E-4,4.1377445115485842E-2,-8.3274016693751562E-2,0.51332019978498888,0.48549806152163694,0.94579964264993732,1.0540993167274926,126.52662875205304,7.6319064455219118E-2,-115.52264663975701,-6.9681618817288363E-2,6.6642554736102127E-3,1.2001000000000002,null,6.6642554736102127E-3,1.2,0.21559448390969532,7.7267270974923502E-2,7.7267270974923502E-2,-1.2000999999999999,4.6360362584954105E-3,3.7088290067963284E-2,0.88969672221412077,0.88955403019075019]
[null,4.8892684896753495,2.3424188120257339E-4,4.1377445115485842E-2,-8.3274016693751562E-2,0.51332019978498888,0.48549806152163694,0.94579964264993732,1.0540993167274926,126.52662875205304,7.6319064455219118E-2,-115.52264663975701,-6.9681618817288363E-2,6.6642554736102127E-3,1.2001000000000002,null,6.6642554736102127E-3,1.2,0.21559448390969532,7.7267270974923502E-2,7.7267270974923502E-2,-1.2000999999999999,4.6360362584954105E-3,3.7088290067963284E-2,0.88969672221412077,0.88955403019075019]
[null,4.8892684896753495,2.3424188120257339E-4,4.1377445115485842E-2,-8.3274016693751562E-2,0.51332019978498888,0.48549806152163694,0.94579964264993732,1.0540993167274926,126.52662875205304,7.6319064455219118E-2,-115.52264663975701,-6.9681618817288363E-2,6.6642554736102127E-3,1.2001000000000002,null,6.6642554736102127E-3,1.2,0.21559448390969532,7.7267270974923502E-2,7.7267270974923502E-2,-1.2000999999999999,4.6360362584954105E-3,3.7088290067963284E-2,0.88969672221412077,0.88955403019075019]
[null,4.8892684896753495,2.3424188120257339E-4,4.1377445115485842E-2,-8.3274016693751562E-2,0.51332019978498888,0.48549806152163694,0.94579964264993732,1.0540993167274926,126.52662875205304,7.6319064455219118E-2,-115.52264663975701,-6.9681618817288363E-2,6.6642554736102127E-3,1.2001000000000002,null,6.6642554736102127E-3,1.2,0.21559448390969532,7.7267270974923502E-2,7.7267270974923502E-2,-1.2000999999999999,4.6360362584954105E-3,3.7088290067963284E-2,0.88969672221412077,0.88955403019075019]
[null,4.8892684896753495,2.3424188120257339E-4,4.1377445115485842E-2,-8.3274016693751562E-2,0.51332019978498888,0.48549806152163694,0.94579964264993732,1.0540993167274926,126.52662875205304,7.6319064455219118E-2,-115.52264663975701,-6.9681618817288363E-2,6.6642554736102127E-3,1.2001000000000002,null,6.6642554736102127E-3,1.2,0.21559448390969532,7.7267270974923502E-2,7.7267270974923502E-2,-1.2000999999999999,4.6360362584954105E-3,3.7088290067963284E-2,0.88969672221412077,0.88955403019075019]
[null,4.8892684896753495,2.3424188120257339E-4,4.1377445115485842E-2,-8.3274016693751562E-2,0.51332019978498888,0.48549806152163694,0.94579964264993732,1.0540993167274926,126.52662875205304,7.6319064455219118E-2,-115.52264663975701,-6.9681618817288363E-2,6.6642554736102127E-3,1.2001000000000002,null,6.6642554736102127E-3,1.2,0.21559448390969532,7.7267270974923502E-2,7.7267270974923502E-2,-1.2000999999999999,4.6360362584954105E-3,3.7088290067963284E-2,0.88969672221412077,0.88955403019075019]
[null,4.8892684896753495,2.3424188120257339E-4,4.1377445115485842E-2,-8.3274016693751562E-2,0.51332019978498888,0.48549806152163694,0.94579964264993732,1.0540993167274926,126.52662875205304,7.6319064455219118E-2,-115.52264663975701,-6.9681618817288363E-2,6.6642554736102127E-3,1.2001000000000002,null,6.6642554736102127E-3,1.2,0.21559448390969532,7.7267270974923502E-2,7.7267270974923502E-2,-1.2000999999999999,4.6360362584954105E-3,3.7088290067963284E-2,0.88969672221412077,0.88955403019075019]
[null,4.8892684896753495,2.3424188120257339E-4,4.1377445115485842E-2,-8.3274016693751562E-2,0.51332019978498888,0.48549806152163694,0.94579964264993732,1.0540993167274926,126.52662875205304,7.6319064455219118E-2,-115.52264663975701,-6.9681618817288363E-2,6.6642554736102127E-3,1.2001000000000002,null,6.6642554736102127E-3,1.2,0.21559448390969532,7.7267270974923502E-2,7.7267270974923502E-2,-1.2000999999999999,4.6360362584954105E-3,3.7088290067963284E-2,0.88969672221412077,0.88955403019075019]
[null,4.8892684896753495,2.3424188120257339E-4,4.1377445115485842E-2,-8.3274016693751562E-2,0.51332019978498888,0.48549806152163694,0.94579964264993732,1.0540993167274926,126.52662875205304,7.6319064455219118E-2,-115.52264663975701,-6.9681618817288363E-2,6.6642554736102127E-3,1.2001000000000002,null,6.6642554736102127E-3,1.2,0.21559448390969532,7.7267270974923502E-2,7.7267270974923502E-2,-1.2000999999999999,4.6360362584954105E-3,3.7088290067963284E-2,0.88969672221412077,0.88955403019075019]
[null,4.8892684896753495,2.3424188120257339E-4,4.1377445115485842E-2,-8.3274016693751562E-2,0.51332019978498888,0.48549806152163694,0.94579964264993732,1.0540993167274926,126.52662875205304,7.6319064455219118E-2,-115.52264663975701,-6.9681618817288363E-2,6.6642554736102127E-3,1.2001000000000002,null,6.6642554736102127E-3,1.2,0.21559448390969532,7.7267270974923502E-2,7.7267270974923502E-2,-1.2000999999999999,4.6360362584954105E-3,3.7088290067963284E-2,0.88969672221412077,0.88955403019075019]
[null,4.8892684896753495,2.3424188120257339E-4,4.1377445115485842E-2,-8.3274016693751562E-2,0.51332019978498888,0.48549806152163694,0.94579964264993732,1.0540993167274926,126.52662875205304,7.6319064455219118E-2,-115.52264663975701,-6.9681618817288363E-2,6.6642554736102127E-3,1.2001000000000002,null,6.6642554736102127E-3,1.2,0.21559448390969532,7.7267270974923502E-2,7.7267270974923502E-2,-1.2000999999999999,4.6360362584954105E-3,3.7088290067963284E-2,0.88969672221412077,0.88955403019075019]
[null,4.8892684896753495,2.3424188120257339E-4,4.1377445115485842E-2,-8.3274016693751562E-2,0.51332019978498888,0.48549806152163694,0.94579964264993732,1.0540993167274926,126.52662875205304,7.6319064455219118E-2,-115.52264663975701,-6.9681618817288363E-2,6.6642554736102127E-3,1.2001000000000002,null,6.6642554736102127E-3,1.2,0.21559448390969532,7.7267270974923502E-2,7.7267270974923502E-2,-1.2000999999999999,4.6360362584954105E-3,3.7088290067963284E-2,0.88969672221412077,0.88955403019075019]
[null,4.8892684896753495,2.3424188120257339E-4,4.1377445115485842E-2,-8.3274016693751562E-2,0.51332019978498888,0.48549806152163694,0.94579964264993732,1.0540993167274926,126.52662875205304,7.6319064455219118E-2,-115.52264663975701,-6.9681618817288363E-2,6.6642554736102127E-3,1.2001000000000002,null,{"$f":"IF(B398>10*B306,Q380,IF(Q380<0.000001,0,N398-P398*O398))","v":6.6642554736102127E-3},1.2,0.21559448390969532,7.7267270974923502E-2,7.7267270974923502E-2,-1.2000999999999999,4.6360362584954105E-3,3.7088290067963284E-2,0.88969672221412077,0.88955403019075019]
[null,null,null,null,null,null,null,null,null,{"$f":"MAX(J378,J398)/K306","v":0.27611012175602101},null,{"$f":"MAX(L378,L398)/O306","v":-0.25111290577725559},null,null,null,{"$f":"IF(Q380=0.0001,ABS(INDEX(Snitkræfter!$G$286:$U$286,B309+1))*($Q$6*C398/B398)/Q380,IF(B398>10*$C$6,(J380-L380)/$C$6,$Q$6*C398/B398))*IF(AND(B398>10*$C$6,O380=O379),P308,P308)","v":-1.3099978705114287E-4},null,null,null,null,null,null,null,null,null,null,{"$f":"(Q378-Q398)/(P379-P399)","v":42.568339070023981}]
[]
[]
[null,"Tilstand:",{"$f":"C302","v":1}]
[]
[null,"L","h","b","fck","fcd","Ecd","Ac","ac","Esc","fyd_c","At","at","Est","fyd_t","Modenhed","1+f","uterm","g","EI","sc/fcd","sc","e","   emax",null,{"$f":"Stivheder!$AD$4","v":3.5000000000000001E-3}]
[null,"(m)","(m)","(m)","(Mpa)","(Mpa)","(Mpa)","(m2)","(m)","(Mpa)","(Mpa)","(m2)","(m)","(Mpa)","(Mpa)","(døgn)",null,"(m)",null,"(Mnm2)",null,"(MPa)",null,"e1",null,{"$f":"Stivheder!$AD$5","v":2.0693662482105194E-3}]
[null,{"$f":"Stivheder!$B$6","v":0.54},{"$f":"Stivheder!$C$6","v":0.54},{"$f":"Stivheder!$D$6","v":0.42},{"$f":"Stivheder!$E$6","v":25},{"$f":"Stivheder!$F$6","v":17.857142857142858},{"$f":"IF(C402=1,1000*22*((E406+8)/10)^0.3/S406,1.4*F406/Z405)","v":22482.71872144239},{"$f":"IF(P408<0,Stivheder!$X$6,Stivheder!$T$6)","v":6.0318578948924026E-4},{"$f":"IF(P408<0,Stivheder!$Y$6,Stivheder!$U$6)","v":0.06},{"$f":"IF(P408<0,Stivheder!$Z$6,Stivheder!$V$6)","v":200000},{"$f":"IF(P408<0,Stivheder!$AA$6,Stivheder!$W$6)","v":458.33333333333337},{"$f":"IF(P408<0,Stivheder!$T$6,Stivheder!$X$6)","v":6.0318578948924026E-4},{"$f":"IF(P408<0,Stivheder!$U$6,Stivheder!$Y$6)","v":0.06},{"$f":"IF(P408<0,Stivheder!$V$6,Stivheder!$Z$6)","v":200000},{"$f":"IF(P408<0,Stivheder!$W$6,Stivheder!$AA$6)","v":458.33333333333337},{"$f":"Stivheder!$P$6","v":28},{"$f":"Stivheder!$Q$6","v":2.7343237157040781},{"$f":"Stivheder!$R$6","v":0},{"$f":"Stivheder!$S$6","v":1.4},{"$f":"AA479","v":48.216915840192762},{"$f":"U306","v":0.99999990000000005},{"$f":"U406*F406","v":17.857141071428572},{"$f":"Z404","v":3.5000000000000001E-3},"k",null,{"$f":"Stivheder!$AD$6","v":2.7356687822616226}]
[]
[null,"punkt","elasttisk","e_o","sc_o/fcd","sc_u/fcd","sc_o","sc_u","hc","At","Ac","Ic","Wt","E",null,{"$f":"SIGN(Q408)","v":1},{"$f":"INDEX(Snitkræfter!$G$199:$U$199,B409+1)","v":2.3879127849222716E-2},{"$f":"INDEX(Snitkræfter!$G$59:$U$59,B409+1)*P408","v":0}]
[null,{"$f":"(ROW()-9)/100","v":4},"skøn",{"$f":"IF(C402=1,Z405*0.5*(-((Z406-2)*E409-Z406)-(((Z406-2)*E409-Z406)^2-4*E409)^0.5),G409/(1.4*F406/Z405))","v":2.8633385234982212E-4},{"$f":"MIN(0.9999,G409/F406)","v":0.32618021388781832},{"$f":"H409/F406","v":0.19852562497860005},{"$f":"IF(H409>0,R411/J409+MAX(Q411+Stivheder!$O$2*R411+R411*R406,D406*C406^2*0.003*E406)/M409,MIN(0.8*F406,2*(R411+Q411/(C406-M406-0.333*I409))/(((R411+L406*O406)/(F406*D406*0.5))*D406)))","v":5.8246466765681841},{"$f":"R411/J409-(Q411+Stivheder!$O$2*R411+R411*R406)/M409","v":3.5451004460464297},{"$f":"IF(H409>0,C406*G409/(G409-H409),(R411+L406*O406)/(F406*D406*0.5))","v":1.3797961906773459},{"$f":"K409+Q406*(H406+L406)*N406/G406","v":0.25614351898648502},{"$f":"C406*D406","v":0.2268},{"$f":"D406*C406^3/12","v":5.5112400000000006E-3},{"$f":"(L409+((0.5*C406-I406)^2*H406+(0.5*C406-M406)^2*L406)*Q406)/(0.5*C406)","v":2.0950773034997532E-2},{"$f":"G409/D409","v":20342.151753164169}]
[null,"hc","e0","a'","b'","N'","tN'","t'","Nc","sac","Nac","sat","Nat","Mtot","N",null,"Mo","N","A","B1","B2","B3","C1","C2","gættet x","beregnet x","EIt"]
[null,{"$f":"I409","v":1.3797961906773459},null,null,null,null,null,null,null,null,null,null,null,null,null,null,{"$f":"MAX(ABS(Q408),0.0000001)","v":2.3879127849222716E-2},{"$f":"INDEX(Snitkræfter!$G$52:$U$52,B409+1)","v":1.2}]
[null,{"$f":"MIN(0.5*(-(T412+U412+V412)+SQRT((T412+U412+V412)^2+4*S412*(W412+X412)))/S412,1000*$C$6)","v":1.3274429905506049},{"$f":"D409","v":2.8633385234982212E-4},{"$f":"IF($C$2=1,C412/($Z$406*$Z$5),2^(1/3)*$Z$5/C412)","v":5.0579184215415324E-2},{"$f":"IF($C$2=1,-($Z$406-2)*C412/$Z$5,3*($Z$5/C412)^2)","v":-0.10179294103237133},{"$f":"IF($C$2=1,0.5*($Z$406*C412*$F$406/$Z$5)*(1-Y412^2+(D412-E412)*(E412^2*(1-Y412^2)+2*E412*(1-Y412)+2*LN((1-E412)/(1-E412*Y412)))/(E412^3)),$F$406*E412*(LN((1-D412+D412^2)/(1+D412)^2)/(6*D412)+ATAN((2-D412)/(D412*3^0.5))/(D412*3^0.5)-LN((Y412^2-D412*Y412+D412^2)/(Y412+D412)^2)/(6*D412)-ATAN((2*Y412-D412)/(D412*3^0.5))/(D412*3^0.5)))","v":1.8826409415376468},{"$f":"IF($C$2=1,($Z$406*C412*$F$406/$Z$5)*(1-Y412^3-(D412-E412)*(-2*E412^3*(1-Y412^3)-3*E412^2*(1-Y412^2)-6*E412*(1-Y412)-6*LN((1-E412)/(1-E412*Y412)))/(2*E412^4))/3,$F$406*E412*(LN((1+D412^3)/(D412^3+Y412^3)))/3)","v":1.5406570778371178},{"$f":"G412/F412","v":0.81834886506759286},{"$f":"F412*B412*$D$406","v":1.049621379058451},{"$f":"MAX(MIN($K$406,$Q$406*$J$406*C412*(B412-$I$406)/B412),-$K$406)","v":149.50825636998209},{"$f":"J412*$H$406","v":9.0181255653687384E-2},{"$f":"MIN($O$406,$Q$406*$N$406*C412*(C$406-B412-$M$406)/B412)","v":-99.964830635216998},{"$f":"L412*$L$406","v":-6.029736528786156E-2},{"$f":"(0.5*$C$406-B412+H412*B412)*I412+(0.5*$C$406-$I$406)*K412+(0.5*$C$406-$M$406)*M412","v":3.6576584686772239E-2},{"$f":"I412+K412-M412","v":1.2000999999999999},null,{"$f":"N412-P412*O412","v":3.6576584686772239E-2},{"$f":"R411","v":1.2},{"$f":"F412*$D$406","v":0.79070919544581164},{"$f":"IF(ABS(J411)<$K$406,$Q$406*C412*$H$406*$J$406,IF(J411>0,1,-1)*$H$406*$K$406)","v":9.4450382848805373E-2},{"$f":"IF(L411<$O$406,$Q$406*C412*$L$406*$N$406,-$L$406*$O$406)","v":9.4450382848805373E-2},{"$f":"-(R412+0.0001)","v":-1.2000999999999999},{"$f":"IF(ABS(J411)<$K$406,$I$406*$Q$406*C412*$H$406*$J$406,0)","v":5.667022970928322E-3},{"$f":"IF(L411<$O$406,($C$406-$M$406)*$Q$406*C412*$L$406*$N$406,0)","v":4.5336183767426583E-2},{"$f":"IF(B411<$C$406,0,(B411-$C$406)/B411)","v":0.60863785271438353},{"$f":"IF(B412<=$C$406,0,(B412-$C$406)/B412)","v":0.59320286909194075}]
[null,{"$f":"MIN(0.5*(-(T413+U413+V413)+SQRT((T413+U413+V413)^2+4*S413*(W413+X413)))/S413,1000*$C$6)","v":1.3566421451437298},{"$f":"0.95*C412","v":2.7201715973233098E-4},{"$f":"IF($C$2=1,C413/($Z$406*$Z$5),2^(1/3)*$Z$5/C413)","v":4.8050225004644551E-2},{"$f":"IF($C$2=1,-($Z$406-2)*C413/$Z$5,3*($Z$5/C413)^2)","v":-9.6703293980752739E-2},{"$f":"IF($C$2=1,0.5*($Z$406*C413*$F$406/$Z$5)*(1-Y413^2+(D413-E413)*(E413^2*(1-Y413^2)+2*E413*(1-Y413)+2*LN((1-E413)/(1-E413*Y413)))/(E413^3)),$F$406*E413*(LN((1-D413+D413^2)/(1+D413)^2)/(6*D413)+ATAN((2-D413)/(D413*3^0.5))/(D413*3^0.5)-LN((Y413^2-D413*Y413+D413^2)/(Y413+D413)^2)/(6*D413)-ATAN((2*Y413-D413)/(D413*3^0.5))/(D413*3^0.5)))","v":1.8539466272808161},{"$f":"IF($C$2=1,($Z$406*C413*$F$406/$Z$5)*(1-Y413^3-(D413-E413)*(-2*E413^3*(1-Y413^3)-3*E413^2*(1-Y413^2)-6*E413*(1-Y413)-6*LN((1-E413)/(1-E413*Y413)))/(2*E413^4))/3,$F$406*E413*(LN((1+D413^3)/(D413^3+Y413^3)))/3)","v":1.5054516692355142},{"$f":"G413/F413","v":0.81202535557539779},{"$f":"F413*B413*$D$406","v":1.0563596943548164},{"$f":"MAX(MIN($K$406,$Q$406*$J$406*C413*(B413-$I$406)/B413),-$K$406)","v":142.17755955853937},{"$f":"J413*$H$406","v":8.5759483509971049E-2},{"$f":"MIN($O$406,$Q$406*$N$406*C413*(C$406-B413-$M$406)/B413)","v":-96.12431715990725},{"$f":"L413*$L$406","v":-5.798082213521278E-2},{"$f":"(0.5*$C$406-B413+H413*B413)*I413+(0.5*$C$406-$I$406)*K413+(0.5*$C$406-$M$406)*M413","v":2.166378211532341E-2},{"$f":"I413+K413-M413","v":1.2001000000000002},null,{"$f":"N413-P413*O413","v":2.166378211532341E-2},{"$f":"R412","v":1.2},{"$f":"F413*$D$406","v":0.77865758345794267},{"$f":"IF(ABS(J412)<$K$406,$Q$406*C413*$H$406*$J$406,IF(J412>0,1,-1)*$H$406*$K$406)","v":8.9727863706365096E-2},8.9727863706365096E-2,{"$f":"-(R413+0.0001)","v":-1.2000999999999999},{"$f":"IF(ABS(J412)<$K$406,$I$406*$Q$406*C413*$H$406*$J$406,0)","v":5.3836718223819061E-3},4.3069374579055249E-2,{"$f":"IF(B412<$C$406,0,(B412-$C$406)/B412)","v":0.59320286909194075},{"$f":"IF(B413<=$C$406,0,(B413-$C$406)/B413)","v":0.60195840743043583}]
[null,1.3682610972781097,{"$f":"IF(ABS($Q$411-Q413)<=0.001*Q$411,C413,MAX(0.9*C413,MIN($W$6,1.05*C413,IF(C413=$W$6,0.5*(C413+C412),C413+IF(C413=C412,0,(C413-C412)*(Q413-Q$411)/(Q412-Q413))))))","v":2.7414395137741242E-4},4.842591019003771E-2,-9.7459377743602485E-2,1.8357158223378669,1.4972838438054887,0.81564032165862699,1.0549301890523748,143.34549255099657,8.6463964094096873E-2,-97.326309532654349,-5.8705846853528282E-2,2.4551920178919676E-2,1.2000999999999999,null,2.4551920178919676E-2,1.2,0.77100064538190405,9.0429409414178111E-2,9.0429409414178111E-2,-1.2000999999999999,5.4257645648506866E-3,4.34061165188055E-2,0.60195840743043583,0.60533848322207995]
[null,1.3795148201565994,{"$f":"IF(ABS($Q$411-Q414)<=0.001*Q$411,C414,MAX(0.9*C414,MIN($W$6,1.05*C414,IF(C414=$W$6,0.5*(C414+C413),C414+IF(C414=C413,0,(C414-C413)*(Q414-Q$411)/(Q413-Q414))))))","v":2.7364851484558243E-4},4.8338394252244017E-2,-9.7283247882407303E-2,1.820691750833483,1.487597660308267,0.81705080479837899,1.0549019263488957,143.13997014169891,8.6339995897386931E-2,-97.578687660325429,-5.8858077753717382E-2,2.4357386810121895E-2,1.2000999999999999,null,2.4357386810121895E-2,1.2,0.76469053535006282,9.026598420362543E-2,9.026598420362543E-2,-1.2000999999999999,5.415959052217526E-3,4.3327672417740215E-2,0.60533848322207995,0.60855802916368784]
[null,1.394196059796925,2.7243048750986705E-4,4.8123236915844643E-2,-9.6850233819477674E-2,1.8019905180689635,1.4747527616615956,0.81840206531272974,1.0551777936349307,142.57107859922363,8.5996848603205223E-2,-97.69022876311476,-5.8925357761863861E-2,2.342980612630937E-2,1.2000999999999997,null,2.342980612630937E-2,1.2,0.75683601758896468,8.9864204437682574E-2,8.9864204437682574E-2,-1.2000999999999999,5.3918522662609542E-3,4.313481813008764E-2,0.60855802916368784,0.61268001282498596]
[null,1.402390423713586,2.7302050210438163E-4,4.822745950992785E-2,-9.7059986596995176E-2,1.7905823233249996,1.4684979945269276,0.82012313837658046,1.0546601113027574,142.91739572753463,8.6205742173659144E-2,-98.20215853185303,-5.9234146523583303E-2,2.4376249102583458E-2,1.2000999999999997,null,2.4376249102583458E-2,1.2,0.75204457579649975,9.0058827266527142E-2,9.0058827266527142E-2,-1.2000999999999999,5.403529635991629E-3,4.3228237087933032E-2,0.61268001282498596,0.61494317782771335]
[null,1.4102224965421803,2.7271059564189096E-4,4.8172716363327379E-2,-9.6949813489613776E-2,1.7805917470991777,1.4619978265901237,0.82107413390627804,1.054632826344974,142.79060643008344,8.6129264671177264E-2,-98.374182578296754,-5.9337908983848595E-2,2.426652293788787E-2,1.2000999999999999,null,2.426652293788787E-2,1.2,0.74784853378165461,8.995660119793851E-2,8.995660119793851E-2,-1.2000999999999999,5.3973960718763101E-3,4.3179168575010488E-2,0.61494317782771335,0.61708170070746815]
[null,1.4218576259377171,2.7161645148905791E-4,4.7979442259653636E-2,-9.6560840441836743E-2,1.766528274928969,1.4520489587252403,0.82197889461102813,1.054935713639789,142.26942998931094,8.5814898448286714E-2,-98.393213079803147,-5.9349387911924102E-2,2.3364369181402049E-2,1.2000999999999997,null,2.3364369181402049E-2,1.2,0.74194187547016699,8.9595685667767072E-2,8.9595685667767072E-2,-1.2000999999999999,5.3757411400660246E-3,4.3005929120528204E-2,0.61708170070746815,0.62021513958272068]
[null,1.4275366815888111,2.722407576923708E-4,4.8089722263939018E-2,-9.6782784036764297E-2,1.7587178419065896,1.4479412642462546,0.82329366868568943,1.0544663773922747,142.62142699206879,8.6027218038293052E-2,-98.819311741254751,-5.9606404569432093E-2,2.4260119412184512E-2,1.2000999999999997,null,2.4260119412184512E-2,1.2,0.7386614936007676,8.9801619962416063E-2,8.9801619962416063E-2,-1.2000999999999999,5.3880971977449633E-3,4.3104777581959706E-2,0.62021513958272068,0.62172600748935281]
[null,1.4332752983519628,2.7197522005923042E-4,4.8042816609045219E-2,-9.6688384242921158E-2,1.7516864543246942,1.4432705171273541,0.82393199625657898,1.0544725486853535,142.50734661969534,8.5958406378817742E-2,-98.923160949057845,-5.9669044935828641E-2,2.4128072226904013E-2,1.2000999999999997,null,2.4128072226904013E-2,1.2,0.73570831081637156,8.9714029442101911E-2,8.9714029442101911E-2,-1.2000999999999999,5.3828417665261145E-3,4.3062734132208923E-2,0.62172600748935281,0.62324055914386189]
[null,1.4403091014076608,2.7147461036662189E-4,4.7954386862947528E-2,-9.6510415300367774E-2,1.7433027683112627,1.4374819301554931,0.82457388141933696,1.0545758343573104,142.27539171602737,8.5818494477122878E-2,-98.983882256449292,-5.9705671165566368E-2,2.3761775033364557E-2,1.2000999999999997,null,2.3761775033364557E-2,1.2,0.73218716269073036,8.9548897807345262E-2,8.9548897807345262E-2,-1.2000999999999999,5.372933868440715E-3,4.2983470947525727E-2,0.62324055914386189,0.62508047788336507]
[null,1.4448752436536765,2.7163499367861463E-4,4.7982717627947147E-2,-9.6567432271593062E-2,1.7374769110667314,1.4340267339710897,0.82535009520826541,1.0543836975924759,142.37900199099377,8.5880990722627684E-2,-99.19880860516146,-5.9835311684896357E-2,2.4082286665293794E-2,1.2000999999999999,null,2.4082286665293794E-2,1.2,0.72974030264802714,8.9601802013732162E-2,8.9601802013732162E-2,-1.2000999999999999,5.3761081208239291E-3,4.300886496659144E-2,0.62508047788336507,0.62626531088283144]
[null,1.448926505884113,2.7153333345621996E-4,4.7964759949965019E-2,-9.6531291616415077E-2,1.7325546602196016,1.4308331109997596,0.82585164200152927,1.0543446354357939,142.34295743578301,8.5859249159136092E-2,-99.299612903327954,-5.9896115405069825E-2,2.4084455285916715E-2,1.2000999999999999,null,2.4084455285916715E-2,1.2,0.72767295729223269,8.9568268266859846E-2,8.9568268266859846E-2,-1.2000999999999999,5.3740960960115911E-3,4.2992768768092736E-2,0.62626531088283144,0.62731028950947365]
[null,1.402779060805615,2.8115863751236293E-4,4.9665013074035917E-2,-9.995312944720211E-2,1.782711201946908,1.4729461711624345,0.82623936482466842,1.0503149771329876,147.17926870318408,8.8776443389179116E-2,-101.14392703033246,-6.1008579477833197E-2,3.340435062312809E-2,1.2000999999999999,null,3.340435062312809E-2,1.2,0.74873870481770133,9.2743281090799976E-2,9.2743281090799976E-2,-1.2000999999999999,5.5645968654479986E-3,4.4516774923583996E-2,0.62731028950947365,0.61504985703887083]
[null,1.4176757457703233,2.7132127753308558E-4,4.7927301523334138E-2,-9.6455904805173451E-2,1.7721725419854979,1.4551792435821147,0.82112729381969107,1.0551937326390517,142.09635198763809,8.5710500257204461E-2,-98.138530673723238,-5.9195767103743774E-2,2.2890684900259105E-2,1.2000999999999999,null,2.2890684900259105E-2,1.2,0.74431246763390913,8.9498319279127408E-2,8.9498319279127408E-2,-1.2000999999999999,5.3698991567476453E-3,4.2959193253981162E-2,0.61504985703887083,0.61909484477596111]
[null,1.4243050574830507,2.7224613755472225E-4,4.8090672584855304E-2,-9.6784696601438749E-2,1.7628322527425306,1.4504969882196443,0.82282190263028721,1.0545405750916788,142.61004751487744,8.6020354099359417E-2,-98.707681524423265,-5.9539070808961744E-2,2.4167741774123487E-2,1.2000999999999999,null,2.4167741774123487E-2,1.2,0.74038954615186281,8.9803394569416231E-2,8.9803394569416231E-2,-1.2000999999999999,5.3882036741649741E-3,4.31056293933198E-2,0.61909484477596111,0.6208677367513834]
[null,1.4304729131446392,2.7203711986233033E-4,4.8053750843744317E-2,-9.6710389894558768E-2,1.7551731913051576,1.4455076811383336,0.82356982678355817,1.0545056373766579,142.52757986298997,8.5970610783648344E-2,-98.848071155955779,-5.9623751839693782E-2,2.4114723049563067E-2,1.2001000000000002,null,2.4114723049563067E-2,1.2,0.73717274034816616,8.9734447775641837E-2,8.9734447775641837E-2,-1.2000999999999999,5.3840668665385101E-3,4.3072534932308094E-2,0.6208677367513834,0.6225024640187653]
[null,1.4400802234204526,2.7110832412984091E-4,4.7889684562141398E-2,-9.6380198935814204E-2,1.743913280480311,1.4374458673350874,0.82426453392176935,1.0547775111635918,142.08244550309254,8.5702112063344826E-2,-98.842475754523448,-5.9620376773063317E-2,2.33312048183403E-2,1.2000999999999999,null,2.33312048183403E-2,1.2,0.73244357780173064,8.9428074247670783E-2,8.9428074247670783E-2,-1.2000999999999999,5.3656844548602457E-3,4.2925475638881973E-2,0.6225024640187653,0.62502089035192654]
[null,1.4440515227935229,2.7175784133637998E-4,4.8004417941275641E-2,-9.6611105153022375E-2,1.7383908612763774,1.4347360595504399,0.82532420729421851,1.0543369075833284,142.43987297332126,8.5917707234159882E-2,-99.215509094116342,-5.9845385182511465E-2,2.4199320772669061E-2,1.2000999999999997,null,2.4199320772669061E-2,1.2,0.73012416173607853,8.9642324670109658E-2,8.9642324670109658E-2,-1.2000999999999999,5.3785394802065793E-3,4.3028315841652641E-2,0.62502089035192654,0.62605212384986919]
[null,1.4483720018144026,2.7151827562841961E-4,4.7962100073600605E-2,-9.6525938492553615E-2,1.7332522572542439,1.4312530865810282,0.825761559282991,1.0543654974252377,142.33270982389456,8.5853067945268785E-2,-99.275274174146389,-5.9881434629493274E-2,2.4050858161233816E-2,1.2000999999999997,null,2.4050858161233816E-2,1.2,0.72796594804678239,8.9563301276093854E-2,8.9563301276093854E-2,-1.2000999999999999,5.3737980765656314E-3,4.2990384612525058E-2,0.62605212384986919,0.62716760657929593]
[null,1.4531700655971316,2.7124116414979567E-4,4.7913149967245723E-2,-9.6427424145851454E-2,1.7275926573886529,1.4273976468900165,0.82623507386724082,1.0544040928102885,142.20773389254683,8.5777684239451646E-2,-99.336264206417894,-5.9918222950259933E-2,2.3872025939793352E-2,1.2001000000000002,null,2.3872025939793352E-2,1.2,0.72558891610323417,8.9471892995050456E-2,8.9471892995050456E-2,-1.2000999999999999,5.3683135797030273E-3,4.2946508637624232E-2,0.62716760657929593,0.62839862120466605]
[null,1.4568701191636324,2.7124116414979567E-4,4.7913149967245723E-2,-9.6427424145851454E-2,1.7230670416557641,1.4245565409242273,0.8267563051727308,1.0543196522476634,142.22328844455984,8.5787066524187772E-2,-99.460700622522126,-5.9993281228148981E-2,2.3979508156514923E-2,1.2001000000000002,null,2.3979508156514923E-2,1.2,0.72368815749542093,8.9471892995050456E-2,8.9471892995050456E-2,-1.2000999999999999,5.3683135797030273E-3,4.2946508637624232E-2,0.62839862120466605,0.62934238756299976]
[null,1.4597244788118695,2.7124116414979567E-4,4.7913149967245723E-2,-9.6427424145851454E-2,1.7195919657898926,1.422371167834271,0.82715620689755109,1.0542548041333262,142.23523392829472,8.5794271870225217E-2,-99.556264492401212,-6.0050923996448645E-2,2.4061863131303596E-2,1.2000999999999999,null,2.4061863131303596E-2,1.2,0.72222862563175483,8.9471892995050456E-2,8.9471892995050456E-2,-1.2000999999999999,5.3683135797030273E-3,4.2946508637624232E-2,0.62934238756299976,0.63006717511545163]
[null,1.4619270529763024,2.7124116414979567E-4,4.7913149967245723E-2,-9.6427424145851454E-2,1.7169199719445749,1.4206886003657175,0.82746349485157,1.0542049370080571,142.24441980732755,8.5799812661921798E-2,-99.629751524663746,-6.0095250330021138E-2,2.4125081769265082E-2,1.2000999999999999,null,2.4125081769265082E-2,1.2,0.72110638821672146,8.9471892995050456E-2,8.9471892995050456E-2,-1.2000999999999999,5.3683135797030273E-3,4.2946508637624232E-2,0.63006717511545163,0.63062452473218356]
[null,1.4636270382164662,2.7124116414979567E-4,4.7913149967245723E-2,-9.6427424145851454E-2,1.7148633461481702,1.4193922147552291,0.82769989687130952,1.0541665513129066,142.25149072529888,8.5804077739160739E-2,-99.686318868434441,-6.0129370947932775E-2,2.4173679389497063E-2,1.2000999999999999,null,2.4173679389497063E-2,1.2,0.72024260538223139,8.9471892995050456E-2,8.9471892995050456E-2,-1.2000999999999999,5.3683135797030273E-3,4.2946508637624232E-2,0.63062452473218356,0.6310535499138985]
[null,1.4649393315488051,2.7124116414979567E-4,4.7913149967245723E-2,-9.6427424145851454E-2,1.7132791098216662,1.4183928166007247,0.8278819303110303,1.054136980637447,142.2569378539678,8.5807363369767353E-2,-99.729895897785681,-6.0155655992785599E-2,2.4211078101453901E-2,1.2000999999999999,null,2.4211078101453901E-2,1.2,0.71957722612509978,8.9471892995050456E-2,8.9471892995050456E-2,-1.2000999999999999,5.3683135797030273E-3,4.2946508637624232E-2,0.6310535499138985,0.63138405231492711]
[null,1.4659524759990648,2.7124116414979567E-4,4.7913149967245723E-2,-9.6427424145851454E-2,1.7120580132034815,1.4176220374395951,0.82802219697394563,1.0541141870740669,142.26113659040601,8.5809895987920701E-2,-99.763485789291565,-6.0175916938012435E-2,2.4239882644650976E-2,1.2001000000000002,null,2.4239882644650976E-2,1.2,0.71906436554546216,8.9471892995050456E-2,8.9471892995050456E-2,-1.2000999999999999,5.3683135797030273E-3,4.2946508637624232E-2,0.63138405231492711,0.63163880900573988]
[null,1.4667347409596192,2.7124116414979567E-4,4.7913149967245723E-2,-9.6427424145851454E-2,1.7111163741367283,1.4170273815981993,0.8281303381911127,1.0540966093439028,142.264374533281,8.5811849069050067E-2,-99.789389332291208,-6.0191541587047245E-2,2.4262082212452359E-2,1.2001000000000002,null,2.4262082212452359E-2,1.2,0.71866887713742589,8.9471892995050456E-2,8.9471892995050456E-2,-1.2000999999999999,5.3683135797030273E-3,4.2946508637624232E-2,0.63163880900573988,0.63183526992297045]
[null,1.4673387852316764,2.7124116414979567E-4,4.7913149967245723E-2,-9.6427424145851454E-2,1.7103899731674972,1.4165684871957671,0.82821374623262223,1.0540830491100146,142.26687242477723,8.5813355761704277E-2,-99.80937246426133,-6.0203595128281107E-2,2.4279199816755109E-2,1.2000999999999999,null,2.4279199816755109E-2,1.2,0.71836378873034878,8.9471892995050456E-2,8.9471892995050456E-2,-1.2000999999999999,5.3683135797030273E-3,4.2946508637624232E-2,0.63183526992297045,0.63198682851231247]
[null,1.4678052390114931,2.7124116414979567E-4,4.7913149967245723E-2,-9.6427424145851454E-2,1.7098294548520223,1.4162142894792469,0.82827809841526767,1.0540725852921446,142.26879993442731,8.581451840813431E-2,-99.824792541461733,-6.0212896299721215E-2,2.4292403869913708E-2,1.2001000000000002,null,2.4292403869913708E-2,1.2,0.71812837103784932,8.9471892995050456E-2,8.9471892995050456E-2,-1.2000999999999999,5.3683135797030273E-3,4.2946508637624232E-2,0.63198682851231247,0.63210377940627327]
[null,1.4681654589106514,2.7124116414979567E-4,4.7913149967245723E-2,-9.6427424145851454E-2,1.7093968445282741,1.4159408601564245,0.82832776057169344,1.0540645091370546,142.27028761961682,8.5815415758699859E-2,-99.836694022977952,-6.0220075104245673E-2,2.430259211140863E-2,1.2001000000000002,null,2.430259211140863E-2,1.2,0.71794667470187512,8.9471892995050456E-2,8.9471892995050456E-2,-1.2000999999999999,5.3683135797030273E-3,4.2946508637624232E-2,0.63210377940627327,0.63219404412315428]
[null,1.4684436489787085,2.7124116414979567E-4,4.7913149967245723E-2,-9.6427424145851454E-2,1.7090628985403635,1.4157297565609246,0.82836609335445643,1.0540582748080307,142.27143602734949,8.5816108461924751E-2,-99.845881284839479,-6.0225616730044861E-2,2.4310455135070588E-2,1.2001000000000002,null,2.4310455135070588E-2,1.2,0.71780641738695261,8.9471892995050456E-2,8.9471892995050456E-2,-1.2000999999999999,5.3683135797030273E-3,4.2946508637624232E-2,0.63219404412315428,0.63226372331306957]
[null,1.4686584948384185,2.7124116414979567E-4,4.7913149967245723E-2,-9.6427424145851454E-2,1.7088050816505818,1.4155667572778807,0.82839568566272404,1.0540534616594575,142.27232264353839,8.581664325621062E-2,-99.852974214350596,-6.0229895084331818E-2,2.431652468338432E-2,1.2000999999999999,null,2.431652468338432E-2,1.2,0.71769813429324436,8.9471892995050456E-2,{"$f":"IF(L443<$O$406,$Q$406*C444*$L$406*$N$406,-$L$406*$O$406)","v":8.9471892995050456E-2},-1.2000999999999999,5.3683135797030273E-3,{"$f":"IF(L443<$O$406,($C$406-$M$406)*$Q$406*C444*$L$406*$N$406,0)","v":4.2946508637624232E-2},0.63226372331306957,0.63231751840347972]
[null,1.4688244234161381,2.7124116414979567E-4,4.7913149967245723E-2,-9.6427424145851454E-2,1.7086060191026073,1.4154408918961181,0.82841853304457791,1.0540497453585667,142.27300721258564,8.5817056178531845E-2,-99.858450766728481,-6.0233198462901552E-2,2.4321210459885868E-2,1.2001000000000002,null,2.4321210459885868E-2,1.2,0.71761452802309511,8.9471892995050456E-2,8.9471892995050456E-2,-1.2000999999999999,5.3683135797030273E-3,4.2946508637624232E-2,0.63231751840347972,0.63235905436261208]
[null,1.4689525744784089,2.7124116414979567E-4,4.7913149967245723E-2,-9.6427424145851454E-2,1.7084523095020177,1.415343695429468,0.8284361744004517,1.0540468757349604,142.27353581765712,8.5817375025599218E-2,-99.862679607300194,-6.0235749239440424E-2,2.4324828321784283E-2,1.2001000000000002,null,2.4324828321784283E-2,1.2,0.71754996999084741,8.9471892995050456E-2,8.9471892995050456E-2,-1.2000999999999999,5.3683135797030273E-3,4.2946508637624232E-2,0.63235905436261208,0.63239112726852909]
[null,1.4690515501585053,2.7124116414979567E-4,4.7913149967245723E-2,-9.6427424145851454E-2,1.7083336129521092,1.4152686346884422,0.82844979690048248,1.0540446597639739,142.27394401526854,8.5817621244597728E-2,-99.865945188191631,-6.0237718991428567E-2,2.432762188006762E-2,1.2001000000000002,null,2.432762188006762E-2,1.2,0.71750011743988584,8.9471892995050456E-2,8.9471892995050456E-2,-1.2000999999999999,5.3683135797030273E-3,4.2946508637624232E-2,0.63239112726852909,0.63241589449891256]
[null,1.4691279933556303,2.7124116414979567E-4,4.7913149967245723E-2,-9.6427424145851454E-2,1.7082419497519996,1.4152106665588908,0.82846031662221464,1.0540429484781271,142.27425924628884,8.5817811387469578E-2,-99.868467036353977,-6.0239240134403342E-2,2.4329779079137397E-2,1.2001000000000002,null,2.4329779079137397E-2,1.2,0.71746161889583981,8.9471892995050456E-2,8.9471892995050456E-2,-1.2000999999999999,5.3683135797030273E-3,4.2946508637624232E-2,0.63241589449891256,0.63243502101774818]
[null,1.4691870341685127,2.7124116414979567E-4,4.7913149967245723E-2,-9.6427424145851454E-2,1.7081711605139296,1.4151658976426065,0.82846844060804303,1.0540416268904116,142.27450269214259,8.5817958230549066E-2,-99.870414603184017,-6.0240414879039299E-2,2.4331444958818959E-2,1.2000999999999999,null,2.4331444958818959E-2,1.2,0.7174318874158504,8.9471892995050456E-2,8.9471892995050456E-2,-1.2000999999999999,5.3683135797030273E-3,4.2946508637624232E-2,0.63243502101774818,0.63244979199968687]
[null,1.4692326345247766,2.7124116414979567E-4,4.7913149967245723E-2,-9.6427424145851454E-2,1.7081164902365753,1.415131321838879,0.82847471465068656,1.0540406062307093,142.27469070491668,8.5818071637182636E-2,-99.871918705376828,-6.0241322132107943E-2,2.4332731466968738E-2,1.2000999999999997,null,2.4332731466968738E-2,1.2,0.71740892589936156,8.9471892995050456E-2,8.9471892995050456E-2,-1.2000999999999999,5.3683135797030273E-3,4.2946508637624232E-2,0.63244979199968687,0.63246119960120328]
[null,1.4692678542542295,2.7124116414979567E-4,4.7913149967245723E-2,-9.6427424145851454E-2,1.7080742676879728,1.4151046179557192,0.82847956012544255,1.0540398179609642,142.27483590980842,8.5818159222709897E-2,-99.87308034451064,-6.0242022816325971E-2,2.4333725029000344E-2,1.2001000000000002,null,2.4333725029000344E-2,1.2,0.71739119242894855,8.9471892995050456E-2,8.9471892995050456E-2,-1.2000999999999999,5.3683135797030273E-3,4.2946508637624232E-2,0.63246119960120328,0.63247000985120372]
[null,1.4692950565303358,2.7124116414979567E-4,4.7913149967245723E-2,-9.6427424145851454E-2,1.7080416581486235,1.4150839935469683,0.82848330238081125,1.0540392091595732,142.27494805535324,8.5818226867308889E-2,-99.873977508869189,-6.0242563973117884E-2,2.4334492369851513E-2,1.2000999999999999,null,2.4334492369851513E-2,1.2,0.71737749642242188,8.9471892995050456E-2,8.9471892995050456E-2,-1.2000999999999999,5.3683135797030273E-3,4.2946508637624232E-2,0.63247000985120372,0.6324768142382633]
[null,1.4693160665075395,2.7124116414979567E-4,4.7913149967245723E-2,-9.6427424145851454E-2,1.7080164726636033,1.4150680643946227,0.82848619263481937,1.0540387389605506,142.27503466935636,8.5818279111644746E-2,-99.874670420894134,-6.0242981927804702E-2,2.4335085000089754E-2,1.2001000000000002,null,2.4335085000089754E-2,1.2,0.71736691851871337,8.9471892995050456E-2,8.9471892995050456E-2,-1.2000999999999999,5.3683135797030273E-3,4.2946508637624232E-2,0.6324768142382633,0.63248206950901864]
[null,1.4693322938271152,2.7124116414979567E-4,4.7913149967245723E-2,-9.6427424145851454E-2,1.7079970208460558,1.4150557615224555,0.82848842489286545,1.054038375805638,142.27510156507333,8.5818319462190595E-2,-99.87520558662986,-6.0243304732171515E-2,2.4335542712286572E-2,1.2001000000000002,null,2.4335542712286572E-2,1.2,0.71735874875534344,8.9471892995050456E-2,8.9471892995050456E-2,-1.2000999999999999,5.3683135797030273E-3,4.2946508637624232E-2,0.63248206950901864,0.63248612838047535]
[null,1.4693448272199841,2.7124116414979567E-4,4.7913149967245723E-2,-9.6427424145851454E-2,1.7079819972709183,1.4150462593484576,0.82849014896496276,1.0540380953234498,142.27515323188661,8.5818350626878162E-2,-99.875618921136152,-6.0243554049672014E-2,2.4335896218960332E-2,1.2000999999999999,null,2.4335896218960332E-2,1.2,0.71735243885378563,8.9471892995050456E-2,8.9471892995050456E-2,-1.2000999999999999,5.3683135797030273E-3,4.2946508637624232E-2,0.63248612838047535,0.63248926324415911]
[null,1.4693545075695211,2.7124116414979567E-4,4.7913149967245723E-2,-9.6427424145851454E-2,1.7079703937733681,1.415038920279952,0.82849148055414978,1.0540378786921991,142.27519313690323,8.5818374697017114E-2,-99.875938161269133,-6.0243746610783661E-2,2.4336169250793332E-2,1.2000999999999999,null,2.4336169250793332E-2,1.2,0.71734756538481459,8.9471892995050456E-2,8.9471892995050456E-2,-1.2000999999999999,5.3683135797030273E-3,4.2946508637624232E-2,0.63248926324415911,0.63249168446543158]
[null,1.469361984335833,2.7124116414979567E-4,4.7913149967245723E-2,-9.6427424145851454E-2,1.7079614317420304,1.4150332518778173,0.82849250901090787,1.0540377113756869,142.27522395779445,8.5818393287740713E-2,-99.876184728398968,-6.0243895336572532E-2,2.4336380124337136E-2,1.2001000000000002,null,2.4336380124337136E-2,1.2,0.71734380133165276,8.9471892995050456E-2,8.9471892995050456E-2,-1.2000999999999999,5.3683135797030273E-3,4.2946508637624232E-2,0.63249168446543158,0.63249355451094935]
[null,1.4693677591351948,2.7124116414979567E-4,4.7913149967245723E-2,-9.6427424145851454E-2,1.7079545098389202,1.4150288738263548,0.82849330334905014,1.0540375821472829,142.27524776258525,8.5818407646452252E-2,-99.876375166725254,-6.0244010206264721E-2,2.4336542996610051E-2,1.2000999999999999,null,2.4336542996610051E-2,1.2,0.71734089413234647,8.9471892995050456E-2,8.9471892995050456E-2,-1.2000999999999999,5.3683135797030273E-3,4.2946508637624232E-2,0.63249355451094935,0.63249499885731786]
[null,1.4693722193958174,2.7124116414979567E-4,4.7913149967245723E-2,-9.6427424145851454E-2,1.7079491636323456,1.4150254923830363,0.82849391686439899,1.0540374823363097,142.27526614847619,8.581841873656039E-2,-99.876522253852983,-6.0244098927129987E-2,2.4336668793118112E-2,1.2001000000000002,null,2.4336668793118112E-2,1.2,0.71733864872558517,8.9471892995050456E-2,8.9471892995050456E-2,-1.2000999999999999,5.3683135797030273E-3,4.2946508637624232E-2,0.63249499885731786,0.6324961144140594]
[null,1.4693756643521105,2.7124116414979567E-4,4.7913149967245723E-2,-9.6427424145851454E-2,1.7079450344238847,1.4150228806744423,0.82849439071776132,1.054037405246063,142.27528034904773,8.5818427302143355E-2,-99.876635858425232,-6.024416745179359E-2,2.4336765949785427E-2,1.2000999999999999,null,2.4336765949785427E-2,1.2,0.71733691445803149,8.9471892995050456E-2,8.9471892995050456E-2,-1.2000999999999999,5.3683135797030273E-3,4.2946508637624232E-2,0.6324961144140594,0.63249697602818178]
[null,1.4693783251224528,2.7124116414979567E-4,4.7913149967245723E-2,-9.6427424145851454E-2,1.7079418451734441,1.4150208634867243,0.82849475670702755,1.0540373457043528,142.2752913170541,8.5818433917888931E-2,-99.87672360247619,-6.0244220377758236E-2,2.4336840993695145E-2,1.2000999999999999,null,2.4336840993695145E-2,1.2,0.7173355749728465,8.9471892995050456E-2,8.9471892995050456E-2,-1.2000999999999999,5.3683135797030273E-3,4.2946508637624232E-2,0.63249697602818178,0.63249764150767751]
[null,1.469380380213815,2.7124116414979567E-4,4.7913149967245723E-2,-9.6427424145851454E-2,1.7079393819096078,1.415019305478072,0.82849503938247004,1.0540372997164447,142.27529978835372,8.5818439027656471E-2,-99.876791372873214,-6.0244261255898671E-2,2.4336898952521058E-2,1.2000999999999997,null,2.4336898952521058E-2,1.2,0.71733454040203526,8.9471892995050456E-2,8.9471892995050456E-2,-1.2000999999999999,5.3683135797030273E-3,4.2946508637624232E-2,0.63249764150767751,0.6324981555004684]
[null,1.4693819674989703,2.7124116414979567E-4,4.7913149967245723E-2,-9.6427424145851454E-2,1.7079374793702817,1.4150181021249546,0.82849525771088128,1.0540372641969813,142.27530633129146,8.581844297426354E-2,-99.876843716375063,-6.024429282875516E-2,2.4336943717584929E-2,1.2000999999999999,null,2.4336943717584929E-2,1.2,0.7173337413355183,8.9471892995050456E-2,8.9471892995050456E-2,-1.2000999999999999,5.3683135797030273E-3,4.2946508637624232E-2,0.6324981555004684,0.63249855249065556]
[null,1.469383193466302,2.7124116414979567E-4,4.7913149967245723E-2,-9.6427424145851454E-2,1.7079360099137995,1.4150171726976526,0.82849542634156959,1.0540372367629576,142.27531138483369,8.5818446022488407E-2,-99.876884144712861,-6.0244317214554012E-2,2.4336978294621125E-2,1.2000999999999999,null,2.4336978294621125E-2,1.2,0.7173331241637958,8.9471892995050456E-2,8.9471892995050456E-2,-1.2000999999999999,5.3683135797030273E-3,4.2946508637624232E-2,0.63249855249065556,0.63249885911235304]
[null,1.4693841403634251,2.7124116414979567E-4,4.7913149967245723E-2,-9.6427424145851454E-2,1.7079348749553387,1.4150164548361401,0.82849555658446394,1.0540372155738451,142.27531528801887,8.5818448376834236E-2,-99.876915370194283,-6.0244336049320675E-2,2.4337004998090474E-2,1.2001000000000002,null,2.4337004998090474E-2,1.2,0.71733264748124226,8.9471892995050456E-2,8.9471892995050456E-2,-1.2000999999999999,5.3683135797030273E-3,4.2946508637624232E-2,0.63249885911235304,0.63249909593658671]
[null,1.4693848717159717,2.7124116414979567E-4,4.7913149967245723E-2,-9.6427424145851454E-2,1.7079339983513622,1.4150159003848328,0.82849565718038409,1.0540371992080824,142.27531830270871,8.5818450195252305E-2,-99.876939487713187,-6.0244350596665358E-2,2.4337025624004603E-2,1.2001000000000002,null,2.4337025624004603E-2,1.2,0.71733227930757204,8.9471892995050456E-2,8.9471892995050456E-2,-1.2000999999999999,5.3683135797030273E-3,4.2946508637624232E-2,0.63249909593658671,0.63249927885171486]
[null,1.4693854365891026,2.7124116414979567E-4,4.7913149967245723E-2,-9.6427424145851454E-2,1.7079333212913241,1.4150154721468289,0.82849573487855621,1.0540371865677058,142.27532063115595,8.5818451599738596E-2,-99.876958115290904,-6.0244361832555528E-2,2.4337041556647586E-2,1.2000999999999999,null,2.4337041556647586E-2,1.2,0.71733199494235611,8.9471892995050456E-2,8.9471892995050456E-2,-1.2000999999999999,5.3683135797030273E-3,4.2946508637624232E-2,0.63249927885171486,0.63249942012933869]
[null,1.4693858728787825,2.7124116414979567E-4,4.7913149967245723E-2,-9.6427424145851454E-2,1.7079327983524839,1.4150151413880308,0.82849579488899738,1.0540371768046959,142.27532242957179,8.5818452684517474E-2,-99.876972502617804,-6.0244370510786661E-2,2.4337053860855287E-2,1.2000999999999999,null,2.4337053860855287E-2,1.2,0.71733177530804326,8.9471892995050456E-2,8.9471892995050456E-2,-1.2000999999999999,5.3683135797030273E-3,4.2946508637624232E-2,0.63249942012933869,0.63249952924751751]
[null,1.4693862098548998,2.7124116414979567E-4,4.7913149967245723E-2,-9.6427424145851454E-2,1.7079323944515612,1.4150148859220639,0.82849584123992404,1.0540371692640649,142.27532381860965,8.5818453522365376E-2,-99.876983614920519,-6.0244377213569747E-2,2.433706336549419E-2,1.2000999999999999,null,2.433706336549419E-2,1.2,0.7173316056696557,8.9471892995050456E-2,8.9471892995050456E-2,-1.2000999999999999,5.3683135797030273E-3,4.2946508637624232E-2,0.63249952924751751,0.63249961352684503]
[null,1.4693864701242101,2.7124116414979567E-4,4.7913149967245723E-2,-9.6427424145851454E-2,1.7079320824918549,1.4150146886058017,0.82849587703821936,1.054037163439931,142.27532489145653,8.5818454169491368E-2,-99.8769921976955,-6.0244382390577653E-2,2.4337070704046431E-2,1.2000999999999999,null,2.4337070704046431E-2,1.2,0.71733147464657898,8.9471892995050456E-2,8.9471892995050456E-2,-1.2000999999999999,5.3683135797030273E-3,4.2946508637624232E-2,0.63249961352684503,0.63249967862140943]
[null,1.4693866711478458,2.7124116414979567E-4,4.7913149967245723E-2,-9.6427424145851454E-2,1.7079318415442992,1.4150145362069992,0.82849590468876888,1.0540371589415589,142.27532572008866,8.5818454669310484E-2,-99.876998826752498,-6.0244386389130627E-2,2.4337076373823294E-2,1.2001000000000002,null,2.4337076373823294E-2,1.2,0.71733137344860565,8.9471892995050456E-2,8.9471892995050456E-2,-1.2000999999999999,5.3683135797030273E-3,4.2946508637624232E-2,0.63249967862140943,0.63249972889833939]
[null,1.4693868264120349,2.7124116414979567E-4,4.7913149967245723E-2,-9.6427424145851454E-2,1.7079316554442054,1.4150144184991691,0.82849592604520628,1.0540371554671619,142.2753263600973,8.5818455055354598E-2,-99.877003946821603,-6.0244389477483555E-2,2.4337080753050577E-2,1.2001000000000002,null,2.4337080753050577E-2,1.2,0.71733129528656625,8.9471892995050456E-2,8.9471892995050456E-2,-1.2000999999999999,5.3683135797030273E-3,4.2946508637624232E-2,0.63249972889833939,0.63249976773061312]
[null,1.4693869463331928,2.7124116414979567E-4,4.7913149967245723E-2,-9.6427424145851454E-2,1.7079315117063956,1.4150143275864362,0.82849594254086589,1.0540371527836476,142.27532685441966,8.5818455353522824E-2,-99.877007901400617,-6.024439186282942E-2,2.4337084136394946E-2,1.2000999999999999,null,2.4337084136394946E-2,1.2,0.71733123491668616,8.9471892995050456E-2,8.9471892995050456E-2,-1.2000999999999999,5.3683135797030273E-3,4.2946508637624232E-2,0.63249976773061312,0.6324997977234299]
[null,1.4693870389562471,2.7124116414979567E-4,4.7913149967245723E-2,-9.6427424145851454E-2,1.7079314006881801,1.4150142573651625,0.8284959552795903,1.054037150710992,142.27532723621752,8.5818455583817871E-2,-99.87701095578349,-6.0244393705189761E-2,2.4337086746533679E-2,1.2000999999999997,null,2.4337086746533679E-2,1.2,0.71733118828903564,8.9471892995050456E-2,8.9471892995050456E-2,-1.2000999999999999,5.3683135797030273E-3,4.2946508637624232E-2,0.6324997977234299,0.63249982088886569]
[null,1.4693871104952458,2.7124116414979567E-4,4.7913149967245723E-2,-9.6427424145851454E-2,1.7079313149413742,1.4150142031296087,0.82849596511917101,1.0540371491101417,142.27532753110557,8.5818455761690157E-2,-99.877013314888046,-6.0244395128168107E-2,2.4337088763463965E-2,1.2000999999999999,null,2.4337088763463965E-2,1.2,0.71733115227537714,8.9471892995050456E-2,8.9471892995050456E-2,-1.2000999999999999,5.3683135797030273E-3,4.2946508637624232E-2,0.63249982088886569,0.63249983878108396]
[null,1.4693871657497977,2.7124116414979567E-4,4.7913149967245723E-2,-9.6427424145851454E-2,1.7079312487131495,1.4150141612420433,0.82849597272032682,1.0540371478736934,142.27532775886817,8.5818455899073318E-2,-99.877015136988661,-6.0244396227233307E-2,2.4337090323390737E-2,1.2000999999999999,null,2.4337090323390737E-2,1.2,0.71733112445952274,8.9471892995050456E-2,8.9471892995050456E-2,-1.2000999999999999,5.3683135797030273E-3,4.2946508637624232E-2,0.63249983878108396,0.63249985260048924]
[null,{"$f":"MIN(0.5*(-(T477+U477+V477)+SQRT((T477+U477+V477)^2+4*S477*(W477+X477)))/S477,1000*$C$6)","v":1.4693872084266331},2.7124116414979567E-4,{"$f":"IF($C$2=1,C477/($Z$406*$Z$5),2^(1/3)*$Z$5/C477)","v":4.7913149967245723E-2},{"$f":"IF($C$2=1,-($Z$406-2)*C477/$Z$5,3*($Z$5/C477)^2)","v":-9.6427424145851454E-2},{"$f":"IF($C$2=1,0.5*($Z$406*C477*$F$406/$Z$5)*(1-Y477^2+(D477-E477)*(E477^2*(1-Y477^2)+2*E477*(1-Y477)+2*LN((1-E477)/(1-E477*Y477)))/(E477^3)),$F$406*E477*(LN((1-D477+D477^2)/(1+D477)^2)/(6*D477)+ATAN((2-D477)/(D477*3^0.5))/(D477*3^0.5)-LN((Y477^2-D477*Y477+D477^2)/(Y477+D477)^2)/(6*D477)-ATAN((2*Y477-D477)/(D477*3^0.5))/(D477*3^0.5)))","v":1.7079311975606057},{"$f":"IF($C$2=1,($Z$406*C477*$F$406/$Z$5)*(1-Y477^3-(D477-E477)*(-2*E477^3*(1-Y477^3)-3*E477^2*(1-Y477^2)-6*E477*(1-Y477)-6*LN((1-E477)/(1-E477*Y477)))/(2*E477^4))/3,$F$406*E477*(LN((1+D477^3)/(D477^3+Y477^3)))/3)","v":1.4150141288880491},{"$f":"G477/F477","v":0.82849597859040069},{"$f":"F477*B477*$D$406","v":1.0540371469187004},{"$f":"MAX(MIN($K$406,$Q$406*$J$406*C477*(B477-$I$406)/B477),-$K$406)","v":142.27532793478463},{"$f":"J477*$H$406","v":8.5818456005183619E-2},{"$f":"MIN($O$406,$Q$406*$N$406*C477*(C$406-B477-$M$406)/B477)","v":-99.877016544320369},{"$f":"L477*$L$406","v":-6.0244397076115792E-2},{"$f":"(0.5*$C$406-B477+H477*B477)*I477+(0.5*$C$406-$I$406)*K477+(0.5*$C$406-$M$406)*M477","v":2.4337091526967822E-2},{"$f":"I477+K477-M477","v":1.2000999999999997},null,{"$f":"N477-P477*O477","v":2.4337091526967822E-2},{"$f":"R476","v":1.2},{"$f":"F477*$D$406","v":0.71733110297545444},{"$f":"IF(ABS(J476)<$K$406,$Q$406*C477*$H$406*$J$406,IF(J476>0,1,-1)*$H$406*$K$406)","v":8.9471892995050456E-2},8.9471892995050456E-2,{"$f":"-(R477+0.0001)","v":-1.2000999999999999},{"$f":"IF(ABS(J476)<$K$406,$I$406*$Q$406*C477*$H$406*$J$406,0)","v":5.3683135797030273E-3},4.2946508637624232E-2,{"$f":"IF(B476<$C$406,0,(B476-$C$406)/B476)","v":0.63249985260048924},{"$f":"IF(B477<=$C$406,0,(B477-$C$406)/B477)","v":0.63249986327415186}]
[null,{"$f":"MIN(0.5*(-(T478+U478+V478)+SQRT((T478+U478+V478)^2+4*S478*(W478+X478)))/S478,1000*$C$6)","v":1.469387241388707},2.7124116414979567E-4,{"$f":"IF($C$2=1,C478/($Z$406*$Z$5),2^(1/3)*$Z$5/C478)","v":4.7913149967245723E-2},{"$f":"IF($C$2=1,-($Z$406-2)*C478/$Z$5,3*($Z$5/C478)^2)","v":-9.6427424145851454E-2},{"$f":"IF($C$2=1,0.5*($Z$406*C478*$F$406/$Z$5)*(1-Y478^2+(D478-E478)*(E478^2*(1-Y478^2)+2*E478*(1-Y478)+2*LN((1-E478)/(1-E478*Y478)))/(E478^3)),$F$406*E478*(LN((1-D478+D478^2)/(1+D478)^2)/(6*D478)+ATAN((2-D478)/(D478*3^0.5))/(D478*3^0.5)-LN((Y478^2-D478*Y478+D478^2)/(Y478+D478)^2)/(6*D478)-ATAN((2*Y478-D478)/(D478*3^0.5))/(D478*3^0.5)))","v":1.7079311580521974},{"$f":"IF($C$2=1,($Z$406*C478*$F$406/$Z$5)*(1-Y478^3-(D478-E478)*(-2*E478^3*(1-Y478^3)-3*E478^2*(1-Y478^2)-6*E478*(1-Y478)-6*LN((1-E478)/(1-E478*Y478)))/(2*E478^4))/3,$F$406*E478*(LN((1+D478^3)/(D478^3+Y478^3)))/3)","v":1.4150141038972579},{"$f":"G478/F478","v":0.82849598312323347},{"$f":"F478*B478*$D$406","v":1.054037146181098},{"$f":"MAX(MIN($K$406,$Q$406*$J$406*C478*(B478-$I$406)/B478),-$K$406)","v":142.27532807065626},{"$f":"J478*$H$406","v":8.5818456087139464E-2},{"$f":"MIN($O$406,$Q$406*$N$406*C478*(C$406-B478-$M$406)/B478)","v":-99.877017631293413},{"$f":"L478*$L$406","v":-6.0244397731762489E-2},{"$f":"(0.5*$C$406-B478+H478*B478)*I478+(0.5*$C$406-$I$406)*K478+(0.5*$C$406-$M$406)*M478","v":2.4337092455013389E-2},{"$f":"I478+K478-M478","v":1.2000999999999999},null,{"$f":"N478-P478*O478","v":2.4337092455013389E-2},{"$f":"R477","v":1.2},{"$f":"F478*$D$406","v":0.71733108638192289},{"$f":"IF(ABS(J477)<$K$406,$Q$406*C478*$H$406*$J$406,IF(J477>0,1,-1)*$H$406*$K$406)","v":8.9471892995050456E-2},8.9471892995050456E-2,{"$f":"-(R478+0.0001)","v":-1.2000999999999999},{"$f":"IF(ABS(J477)<$K$406,$I$406*$Q$406*C478*$H$406*$J$406,0)","v":5.3683135797030273E-3},4.2946508637624232E-2,{"$f":"IF(B477<$C$406,0,(B477-$C$406)/B477)","v":0.63249986327415186},{"$f":"IF(B478<=$C$406,0,(B478-$C$406)/B478)","v":0.63249987151810982}]
[null,null,{"$f":"IF(C406*J479/(J479-L479)<=0,B478,C406*J479/(J479-L479))","v":1.3589125384534402},null,null,null,null,null,null,{"$f":"$R478/($J409*N409)+($Q478-R408)/($M409*N409)","v":2.8740842299524962E-4},null,{"$f":"$R478/($J409*$N$409)-($Q478-R408)/($M409*N409)","v":1.7319905040820554E-4},null,null,{"$f":"SIGN(J479-L479)","v":1},{"$f":"IF(Q411=0.0001,ABS(Q408)*($Q$6*C478/B478)/Q411,IF(B478>10*$C$6,(L479-J479)/$C$6,$Q$6*C478/B478))*IF(B478>10*C406,O479*P408,P408)","v":5.0474179094479584E-4},null,null,null,null,null,null,null,null,null,{"$f":"IF(B479<=$C$406,0,(B479-$C$406)/B479)","v":0},{"$f":"N478/($Q$6*C478/B478)","v":48.216915840192762}]
[null,{"$f":"IF(AND(B478<>1000*$C$6,C480<C406,B478<C406),B478,IF(AND(B478<>1000*$C$6,C480>C406,B478>C406),B478*C480/C479,IF(C406*J480/(J480-L480)<=0,B478,C406*J480/(J480-L480))))","v":1.5291912425907757},{"$f":"IF(C406*J480/(J480-L480)<=0,B478,C406*J480/(J480-L480))","v":1.4142202237211914},null,null,null,null,null,null,{"$f":"$R478/($J409*N409)+($Q480-R408)/($M409*N409)","v":2.8464817811287512E-4},null,{"$f":"$R478/($J409*N409)-($Q480-R408)/($M409*N409)","v":1.7595929529057999E-4},null,null,{"$f":"SIGN(J480-L480)","v":1},null,{"$f":"MAX(ABS(INDEX(Snitkræfter!$G$286:$U$286,B409+1)),0.0000001)","v":2.3160720789901112E-2}]
[null,{"$f":"MIN(0.5*(-(T481+U481+V481)+SQRT((T481+U481+V481)^2+4*S481*(W481+X481)))/S481,1000*$C$6)","v":1.483530061228878},{"$f":"MIN(MAX(IF(Q408=0,0.001*Z405,IF(OR(AND(B478<>1000*$C$6,C480<C406,B478<C406),AND(B478<>1000*$C$6,C480>C406,B478>C406)),C478*J480/J479,IF(B480>C406,J480,C478*MIN(Q480/Q411,2)))),0.0001*$Z$5),0.9*K406/(J406*Q406))","v":2.6863618818064619E-4},{"$f":"IF($C$2=1,C481/($Z$406*$Z$5),2^(1/3)*$Z$5/C481)","v":4.7452996344685687E-2},{"$f":"IF($C$2=1,-($Z$406-2)*C481/$Z$5,3*($Z$5/C481)^2)","v":-9.5501343757373972E-2},{"$f":"IF($C$2=1,0.5*($Z$406*C481*$F$406/$Z$5)*(1-Y481^2+(D481-E481)*(E481^2*(1-Y481^2)+2*E481*(1-Y481)+2*LN((1-E481)/(1-E481*Y481)))/(E481^3)),$F$406*E481*(LN((1-D481+D481^2)/(1+D481)^2)/(6*D481)+ATAN((2-D481)/(D481*3^0.5))/(D481*3^0.5)-LN((Y481^2-D481*Y481+D481^2)/(Y481+D481)^2)/(6*D481)-ATAN((2*Y481-D481)/(D481*3^0.5))/(D481*3^0.5)))","v":1.6934021693553145},{"$f":"IF($C$2=1,($Z$406*C481*$F$406/$Z$5)*(1-Y481^3-(D481-E481)*(-2*E481^3*(1-Y481^3)-3*E481^2*(1-Y481^2)-6*E481*(1-Y481)-6*LN((1-E481)/(1-E481*Y481)))/(2*E481^4))/3,$F$406*E481*(LN((1+D481^3)/(D481^3+Y481^3)))/3)","v":1.4030011986241882},{"$f":"G481/F481","v":0.82851033500111593},{"$f":"F481*B481*$D$406","v":1.055129470075298},{"$f":"MAX(MIN($K$406,$Q$406*$J$406*C481*(B481-$I$406)/B481),-$K$406)","v":140.96611573176745},{"$f":"J481*$H$406","v":8.5028757808897765E-2},{"$f":"MIN($O$406,$Q$406*$N$406*C481*(C$406-B481-$M$406)/B481)","v":-99.375305519981495},{"$f":"L481*$L$406","v":-5.9941772115804495E-2},{"$f":"(0.5*$C$406-B481+H481*B481)*I481+(0.5*$C$406-$I$406)*K481+(0.5*$C$406-$M$406)*M481","v":2.1717658181754702E-2},{"$f":"I481+K481-M481","v":1.2001000000000002},null,{"$f":"N481-P481*O481","v":2.1717658181754702E-2},{"$f":"R478","v":1.2},{"$f":"F481*$D$406","v":0.71122891112923203},{"$f":"IF(ABS(J480)<$K$406,$Q$406*C481*$H$406*$J$406,IF(J480>0,1,-1)*$H$406*$K$406)","v":8.8612612907911101E-2},{"$f":"IF(L478<$O$406,$Q$406*C481*$L$406*$N$406,-$L$406*$O$406)","v":8.8612612907911101E-2},{"$f":"-(R481+0.0001)","v":-1.2000999999999999},{"$f":"IF(ABS(J480)<$K$406,$I$406*$Q$406*C481*$H$406*$J$406,0)","v":5.3167567744746656E-3},{"$f":"IF(L478<$O$406,($C$406-$M$406)*$Q$406*C481*$L$406*$N$406,0)","v":4.2534054195797331E-2},{"$f":"IF(B480<$C$406,0,IF(C478*J480/J479=C481,Y478,(B480-$C$6)/B480))","v":0.63249986327415186},{"$f":"IF(B481<=$C$406,0,(B481-$C$406)/B481)","v":0.63600333143725274}]
[null,{"$f":"MIN(0.5*(-(T482+U482+V482)+SQRT((T482+U482+V482)^2+4*S482*(W482+X482)))/S482,1000*$C$6)","v":1.5248735272500062},{"$f":"0.98*C481","v":2.6326346441703328E-4},4.6503936417791977E-2,{"$f":"IF($C$2=1,-($Z$406-2)*C482/$Z$5,3*($Z$5/C482)^2)","v":-9.359131688222648E-2},{"$f":"IF($C$2=1,0.5*($Z$406*C482*$F$406/$Z$5)*(1-Y482^2+(D482-E482)*(E482^2*(1-Y482^2)+2*E482*(1-Y482)+2*LN((1-E482)/(1-E482*Y482)))/(E482^3)),$F$406*E482*(LN((1-D482+D482^2)/(1+D482)^2)/(6*D482)+ATAN((2-D482)/(D482*3^0.5))/(D482*3^0.5)-LN((Y482^2-D482*Y482+D482^2)/(Y482+D482)^2)/(6*D482)-ATAN((2*Y482-D482)/(D482*3^0.5))/(D482*3^0.5)))","v":1.650678438877357},{"$f":"IF($C$2=1,($Z$406*C482*$F$406/$Z$5)*(1-Y482^3-(D482-E482)*(-2*E482^3*(1-Y482^3)-3*E482^2*(1-Y482^2)-6*E482*(1-Y482)-6*LN((1-E482)/(1-E482*Y482)))/(2*E482^4))/3,$F$406*E482*(LN((1+D482^3)/(D482^3+Y482^3)))/3)","v":1.3701110702681618},{"$f":"G482/F482","v":0.83002905835493201},{"$f":"F482*B482*$D$406","v":1.0571718584475087},{"$f":"MAX(MIN($K$406,$Q$406*$J$406*C482*(B482-$I$406)/B482),-$K$406)","v":138.30466300469303},8.3423407344529077E-2,{"$f":"MIN($O$406,$Q$406*$N$406*C482*(C$406-B482-$M$406)/B482)","v":-98.650756110069125},-5.950473420796254E-2,{"$f":"(0.5*$C$406-B482+H482*B482)*I482+(0.5*$C$406-$I$406)*K482+(0.5*$C$406-$M$406)*M482","v":1.6457092039761596E-2},{"$f":"I482+K482-M482","v":1.2001000000000004},null,{"$f":"N482-P482*O482","v":1.6457092039761596E-2},{"$f":"R481","v":1.2},0.69328494432848986,8.6840360649752882E-2,{"$f":"IF(L481<$O$406,$Q$406*C482*$L$406*$N$406,-$L$406*$O$406)","v":8.6840360649752882E-2},{"$f":"-(R482+0.0001)","v":-1.2000999999999999},5.2104216389851719E-3,{"$f":"IF(L481<$O$406,($C$406-$M$406)*$Q$406*C482*$L$406*$N$406,0)","v":4.1683373111881389E-2},{"$f":"IF(B481<$C$406,0,IF(MIN(ABS($Q$480-Q481),ABS(Q481-Q480))<=0.001*Q$480,Y481,(B481-$C$406)/B481))","v":0.63600333143725274},0.64587227048668816]
[null,1.5735497000238741,{"$f":"IF(Z482>0,0.99*C482,0.98*C482)","v":2.6063082977286292E-4},4.6038897053614053E-2,-9.2655403713404208E-2,1.6003539985515778,1.3351047648298635,{"$f":"G483/F483","v":0.83425589965608749},1.0576593528281939,137.09510024262588,8.2693816274954826E-2,-99.052119492806668,-5.9746830896851157E-2,1.4542374235917331E-2,{"$f":"I483+K483-M483","v":1.2000999999999999},null,{"$f":"N483-P483*O483","v":1.4542374235917331E-2},{"$f":"R482","v":1.2},0.67214867939166267,8.5971957043255345E-2,8.5971957043255345E-2,{"$f":"-(R483+0.0001)","v":-1.2000999999999999},5.1583174225953198E-3,4.1266539380762572E-2,{"$f":"IF(B482<$C$406,0,IF(MIN(ABS($Q$480-Q482),ABS(Q482-Q481))<=0.001*Q$480,Y482,(B482-$C$406)/B482))","v":0.64587227048668816},0.65682685460026646]
[null,1.5431454825610127,{"$f":"IF(MIN(ABS($Q$480-Q483),10*ABS(Q483-Q482))<=0.001*Q$480,C483,MAX(0.9*C483,MIN($W$6,1.05*C483,IF(C483=$W$6,0.5*(C483+C482),C483+IF(C483=C482,0,(C483-C482)*(Q483-Q$480)/(Q482-Q483))))))","v":2.7248059565895344E-4},4.8132088224491998E-2,-9.6868047486368028E-2,1.622830838097389,1.3614035713950716,0.83890664352372335,1.051790912243689,143.21627919470444,8.6386024433769248E-2,-102.66001686640558,-6.1923063322541577E-2,2.7655554812530118E-2,1.2000999999999999,null,2.7655554812530118E-2,1.2,0.68158895200090341,8.988073316394464E-2,8.988073316394464E-2,-1.2000999999999999,5.3928439898366784E-3,4.3142751918693434E-2,0.65682685460026646,0.65006539817372688]
[null,1.5424725767279259,{"$f":"IF(MIN(ABS($Q$480-Q484),10*ABS(Q484-Q483))<=0.001*Q$480,C484,MAX(0.9*C484,MIN($W$6,1.05*C484,IF(C484=$W$6,0.5*(C484+C483),C484+IF(C484=C483,0,(C484-C483)*(Q484-Q$480)/(Q483-Q484))))))","v":2.6841882509506891E-4},4.7414600439148073E-2,-9.542407022659441E-2,1.6269722286917017,1.3601732117942344,0.83601501476641149,1.0540152192590433,141.07891560387424,8.5096797088808782E-2,-101.10978195257313,-6.0987983652147762E-2,2.3041881201890442E-2,1.2000999999999999,null,2.3041881201890442E-2,1.2,0.68332833605051468,8.854091329404605E-2,8.854091329404605E-2,-1.2000999999999999,5.3124547976427629E-3,4.249963838114211E-2,0.65006539817372688,0.64991273871104305]
[null,1.5413470029690877,2.6852344869464318E-4,4.7433081580210229E-2,-9.5461264375363966E-2,1.6281073527259415,1.3610145634820638,0.83594890791649334,1.0539809232271473,141.12973369961338,8.5127449842007541E-2,-101.1158220131329,-6.0991626930845068E-2,2.3134115119932974E-2,1.2000999999999999,null,2.3134115119932974E-2,1.2,0.68380508814489538,8.8575424543602191E-2,8.8575424543602191E-2,-1.2000999999999999,5.3145254726161308E-3,4.2516203780929046E-2,0.64991273871104305,0.64965708632786701]
[null,1.5402916781040397,2.6855362827521645E-4,4.7438412624907993E-2,-9.5471993348695147E-2,1.6292303276520221,1.3617741519096229,0.83583894112267987,1.0539857644667936,141.14167846885442,8.5134654757072464E-2,-101.09585112701315,-6.0979580776134128E-2,2.3142189328987726E-2,1.2001000000000002,null,2.3142189328987726E-2,1.2,0.68427673761384922,8.8585379611492224E-2,8.8585379611492224E-2,-1.2000999999999999,5.3151227766895333E-3,4.2520982213516273E-2,0.64965708632786701,0.64941705024032115]
[null,1.5402916781040397,2.6855362827521645E-4,4.7438412624907993E-2,-9.5471993348695147E-2,1.6292303276520221,1.3617741519096229,0.83583894112267987,1.0539857644667936,141.14167846885442,8.5134654757072464E-2,-101.09585112701315,-6.0979580776134128E-2,2.3142189328987726E-2,1.2001000000000002,null,2.3142189328987726E-2,1.2,0.68427673761384922,8.8585379611492224E-2,8.8585379611492224E-2,-1.2000999999999999,5.3151227766895333E-3,4.2520982213516273E-2,0.64965708632786701,0.64941705024032115]
[null,1.5402916781040397,2.6855362827521645E-4,4.7438412624907993E-2,-9.5471993348695147E-2,1.6292303276520221,1.3617741519096229,0.83583894112267987,1.0539857644667936,141.14167846885442,8.5134654757072464E-2,-101.09585112701315,-6.0979580776134128E-2,2.3142189328987726E-2,1.2001000000000002,null,2.3142189328987726E-2,1.2,0.68427673761384922,8.8585379611492224E-2,8.8585379611492224E-2,-1.2000999999999999,5.3151227766895333E-3,4.2520982213516273E-2,0.64965708632786701,0.64941705024032115]
[null,1.5402916781040397,2.6855362827521645E-4,4.7438412624907993E-2,-9.5471993348695147E-2,1.6292303276520221,1.3617741519096229,0.83583894112267987,1.0539857644667936,141.14167846885442,8.5134654757072464E-2,-101.09585112701315,-6.0979580776134128E-2,2.3142189328987726E-2,1.2001000000000002,null,2.3142189328987726E-2,1.2,0.68427673761384922,8.8585379611492224E-2,8.8585379611492224E-2,-1.2000999999999999,5.3151227766895333E-3,4.2520982213516273E-2,0.64965708632786701,0.64941705024032115]
[null,1.5402916781040397,2.6855362827521645E-4,4.7438412624907993E-2,-9.5471993348695147E-2,1.6292303276520221,1.3617741519096229,0.83583894112267987,1.0539857644667936,141.14167846885442,8.5134654757072464E-2,-101.09585112701315,-6.0979580776134128E-2,2.3142189328987726E-2,1.2001000000000002,null,2.3142189328987726E-2,1.2,0.68427673761384922,8.8585379611492224E-2,8.8585379611492224E-2,-1.2000999999999999,5.3151227766895333E-3,4.2520982213516273E-2,0.64965708632786701,0.64941705024032115]
[null,1.5402916781040397,2.6855362827521645E-4,4.7438412624907993E-2,-9.5471993348695147E-2,1.6292303276520221,1.3617741519096229,0.83583894112267987,1.0539857644667936,141.14167846885442,8.5134654757072464E-2,-101.09585112701315,-6.0979580776134128E-2,2.3142189328987726E-2,1.2001000000000002,null,2.3142189328987726E-2,1.2,0.68427673761384922,8.8585379611492224E-2,8.8585379611492224E-2,-1.2000999999999999,5.3151227766895333E-3,4.2520982213516273E-2,0.64965708632786701,0.64941705024032115]
[null,1.5402916781040397,2.6855362827521645E-4,4.7438412624907993E-2,-9.5471993348695147E-2,1.6292303276520221,1.3617741519096229,0.83583894112267987,1.0539857644667936,141.14167846885442,8.5134654757072464E-2,-101.09585112701315,-6.0979580776134128E-2,2.3142189328987726E-2,1.2001000000000002,null,2.3142189328987726E-2,1.2,0.68427673761384922,8.8585379611492224E-2,8.8585379611492224E-2,-1.2000999999999999,5.3151227766895333E-3,4.2520982213516273E-2,0.64965708632786701,0.64941705024032115]
[null,1.5402916781040397,2.6855362827521645E-4,4.7438412624907993E-2,-9.5471993348695147E-2,1.6292303276520221,1.3617741519096229,0.83583894112267987,1.0539857644667936,141.14167846885442,8.5134654757072464E-2,-101.09585112701315,-6.0979580776134128E-2,2.3142189328987726E-2,1.2001000000000002,null,2.3142189328987726E-2,1.2,0.68427673761384922,8.8585379611492224E-2,8.8585379611492224E-2,-1.2000999999999999,5.3151227766895333E-3,4.2520982213516273E-2,0.64965708632786701,0.64941705024032115]
[null,1.5402916781040397,2.6855362827521645E-4,4.7438412624907993E-2,-9.5471993348695147E-2,1.6292303276520221,1.3617741519096229,0.83583894112267987,1.0539857644667936,141.14167846885442,8.5134654757072464E-2,-101.09585112701315,-6.0979580776134128E-2,2.3142189328987726E-2,1.2001000000000002,null,2.3142189328987726E-2,1.2,0.68427673761384922,8.8585379611492224E-2,8.8585379611492224E-2,-1.2000999999999999,5.3151227766895333E-3,4.2520982213516273E-2,0.64965708632786701,0.64941705024032115]
[null,1.5402916781040397,2.6855362827521645E-4,4.7438412624907993E-2,-9.5471993348695147E-2,1.6292303276520221,1.3617741519096229,0.83583894112267987,1.0539857644667936,141.14167846885442,8.5134654757072464E-2,-101.09585112701315,-6.0979580776134128E-2,2.3142189328987726E-2,1.2001000000000002,null,2.3142189328987726E-2,1.2,0.68427673761384922,8.8585379611492224E-2,8.8585379611492224E-2,-1.2000999999999999,5.3151227766895333E-3,4.2520982213516273E-2,0.64965708632786701,0.64941705024032115]
[null,1.5402916781040397,2.6855362827521645E-4,4.7438412624907993E-2,-9.5471993348695147E-2,1.6292303276520221,1.3617741519096229,0.83583894112267987,1.0539857644667936,141.14167846885442,8.5134654757072464E-2,-101.09585112701315,-6.0979580776134128E-2,2.3142189328987726E-2,1.2001000000000002,null,2.3142189328987726E-2,1.2,0.68427673761384922,8.8585379611492224E-2,8.8585379611492224E-2,-1.2000999999999999,5.3151227766895333E-3,4.2520982213516273E-2,0.64965708632786701,0.64941705024032115]
[null,1.5402916781040397,2.6855362827521645E-4,4.7438412624907993E-2,-9.5471993348695147E-2,1.6292303276520221,1.3617741519096229,0.83583894112267987,1.0539857644667936,141.14167846885442,8.5134654757072464E-2,-101.09585112701315,-6.0979580776134128E-2,2.3142189328987726E-2,1.2001000000000002,null,{"$f":"IF(B498>10*B406,Q480,IF(Q480<0.000001,0,N498-P498*O498))","v":2.3142189328987726E-2},1.2,0.68427673761384922,8.8585379611492224E-2,8.8585379611492224E-2,-1.2000999999999999,5.3151227766895333E-3,4.2520982213516273E-2,0.64965708632786701,0.64941705024032115]
[null,null,null,null,null,null,null,null,null,{"$f":"MAX(J478,J498)/K406","v":0.31041889760870456},null,{"$f":"MAX(L478,L498)/O406","v":-0.21791349301373106},null,null,null,{"$f":"IF(Q480=0.0001,ABS(INDEX(Snitkræfter!$G$286:$U$286,B409+1))*($Q$6*C498/B498)/Q480,IF(B498>10*$C$6,(J480-L480)/$C$6,$Q$6*C498/B498))*IF(AND(B498>10*$C$6,O480=O479),P408,P408)","v":4.7673603978382468E-4},null,null,null,null,null,null,null,null,null,null,{"$f":"(Q478-Q498)/(P479-P499)","v":42.666348035359292}]
[]
[]
[null,"Tilstand:",{"$f":"C402","v":1}]
[]
[null,"L","h","b","fck","fcd","Ecd","Ac","ac","Esc","fyd_c","At","at","Est","fyd_t","Modenhed","1+f","uterm","g","EI","sc/fcd","sc","e","   emax",null,{"$f":"Stivheder!$AD$4","v":3.5000000000000001E-3}]
[null,"(m)","(m)","(m)","(Mpa)","(Mpa)","(Mpa)","(m2)","(m)","(Mpa)","(Mpa)","(m2)","(m)","(Mpa)","(Mpa)","(døgn)",null,"(m)",null,"(Mnm2)",null,"(MPa)",null,"e1",null,{"$f":"Stivheder!$AD$5","v":2.0693662482105194E-3}]
[null,{"$f":"Stivheder!$B$6","v":0.54},{"$f":"Stivheder!$C$6","v":0.54},{"$f":"Stivheder!$D$6","v":0.42},{"$f":"Stivheder!$E$6","v":25},{"$f":"Stivheder!$F$6","v":17.857142857142858},{"$f":"IF(C502=1,1000*22*((E506+8)/10)^0.3/S506,1.4*F506/Z505)","v":22482.71872144239},{"$f":"IF(P508<0,Stivheder!$X$6,Stivheder!$T$6)","v":6.0318578948924026E-4},{"$f":"IF(P508<0,Stivheder!$Y$6,Stivheder!$U$6)","v":0.06},{"$f":"IF(P508<0,Stivheder!$Z$6,Stivheder!$V$6)","v":200000},{"$f":"IF(P508<0,Stivheder!$AA$6,Stivheder!$W$6)","v":458.33333333333337},{"$f":"IF(P508<0,Stivheder!$T$6,Stivheder!$X$6)","v":6.0318578948924026E-4},{"$f":"IF(P508<0,Stivheder!$U$6,Stivheder!$Y$6)","v":0.06},{"$f":"IF(P508<0,Stivheder!$V$6,Stivheder!$Z$6)","v":200000},{"$f":"IF(P508<0,Stivheder!$W$6,Stivheder!$AA$6)","v":458.33333333333337},{"$f":"Stivheder!$P$6","v":28},{"$f":"Stivheder!$Q$6","v":2.7343237157040781},{"$f":"Stivheder!$R$6","v":0},{"$f":"Stivheder!$S$6","v":1.4},{"$f":"AA579","v":48.189371859851491},{"$f":"U406","v":0.99999990000000005},{"$f":"U506*F506","v":17.857141071428572},{"$f":"Z504","v":3.5000000000000001E-3},"k",null,{"$f":"Stivheder!$AD$6","v":2.7356687822616226}]
[]
[null,"punkt","elasttisk","e_o","sc_o/fcd","sc_u/fcd","sc_o","sc_u","hc","At","Ac","Ic","Wt","E",null,{"$f":"SIGN(Q508)","v":1},{"$f":"INDEX(Snitkræfter!$G$199:$U$199,B509+1)","v":5.8774933538561051E-2},{"$f":"INDEX(Snitkræfter!$G$59:$U$59,B509+1)*P508","v":0}]
[null,{"$f":"(ROW()-9)/100","v":5},"skøn",{"$f":"IF(C502=1,Z505*0.5*(-((Z506-2)*E509-Z506)-(((Z506-2)*E509-Z506)^2-4*E509)^0.5),G509/(1.4*F506/Z505))","v":3.8753362510988363E-4},{"$f":"MIN(0.9999,G509/F506)","v":0.4194543434551895},{"$f":"H509/F506","v":0.10525149541122884},{"$f":"IF(H509>0,R511/J509+MAX(Q511+Stivheder!$O$2*R511+R511*R506,D506*C506^2*0.003*E506)/M509,MIN(0.8*F506,2*(R511+Q511/(C506-M506-0.333*I509))/(((R511+L506*O506)/(F506*D506*0.5))*D506)))","v":7.4902561331283843},{"$f":"R511/J509-(Q511+Stivheder!$O$2*R511+R511*R506)/M509","v":1.8794909894862295},{"$f":"IF(H509>0,C506*G509/(G509-H509),(R511+L506*O506)/(F506*D506*0.5))","v":0.72088889988072791},{"$f":"K509+Q506*(H506+L506)*N506/G506","v":0.25614351898648502},{"$f":"C506*D506","v":0.2268},{"$f":"D506*C506^3/12","v":5.5112400000000006E-3},{"$f":"(L509+((0.5*C506-I506)^2*H506+(0.5*C506-M506)^2*L506)*Q506)/(0.5*C506)","v":2.0950773034997532E-2},{"$f":"G509/D509","v":19328.016068294852}]
[null,"hc","e0","a'","b'","N'","tN'","t'","Nc","sac","Nac","sat","Nat","Mtot","N",null,"Mo","N","A","B1","B2","B3","C1","C2","gættet x","beregnet x","EIt"]
[null,{"$f":"I509","v":0.72088889988072791},null,null,null,null,null,null,null,null,null,null,null,null,null,null,{"$f":"MAX(ABS(Q508),0.0000001)","v":5.8774933538561051E-2},{"$f":"INDEX(Snitkræfter!$G$52:$U$52,B509+1)","v":1.2}]
[null,{"$f":"MIN(0.5*(-(T512+U512+V512)+SQRT((T512+U512+V512)^2+4*S512*(W512+X512)))/S512,1000*$C$6)","v":0.66946911890135885},{"$f":"D509","v":3.8753362510988363E-4},{"$f":"IF($C$2=1,C512/($Z$506*$Z$5),2^(1/3)*$Z$5/C512)","v":6.8455526488545429E-2},{"$f":"IF($C$2=1,-($Z$506-2)*C512/$Z$5,3*($Z$5/C512)^2)","v":-0.13776990434465472},{"$f":"IF($C$2=1,0.5*($Z$506*C512*$F$506/$Z$5)*(1-Y512^2+(D512-E512)*(E512^2*(1-Y512^2)+2*E512*(1-Y512)+2*LN((1-E512)/(1-E512*Y512)))/(E512^3)),$F$506*E512*(LN((1-D512+D512^2)/(1+D512)^2)/(6*D512)+ATAN((2-D512)/(D512*3^0.5))/(D512*3^0.5)-LN((Y512^2-D512*Y512+D512^2)/(Y512+D512)^2)/(6*D512)-ATAN((2*Y512-D512)/(D512*3^0.5))/(D512*3^0.5)))","v":3.725575251226978},{"$f":"IF($C$2=1,($Z$506*C512*$F$506/$Z$5)*(1-Y512^3-(D512-E512)*(-2*E512^3*(1-Y512^3)-3*E512^2*(1-Y512^2)-6*E512*(1-Y512)-6*LN((1-E512)/(1-E512*Y512)))/(2*E512^4))/3,$F$506*E512*(LN((1+D512^3)/(D512^3+Y512^3)))/3)","v":2.5781085747838048},{"$f":"G512/F512","v":0.69200281860760504},{"$f":"F512*B512*$D$506","v":1.0475461839526461},{"$f":"MAX(MIN($K$506,$Q$506*$J$506*C512*(B512-$I$506)/B512),-$K$506)","v":192.93475696927541},{"$f":"J512*$H$506","v":0.11637550370242709},{"$f":"MIN($O$506,$Q$506*$N$506*C512*(C$506-B512-$M$506)/B512)","v":-59.978721275183723},{"$f":"L512*$L$506","v":-3.6178312344926786E-2},{"$f":"(0.5*$C$506-B512+H512*B512)*I512+(0.5*$C$506-$I$506)*K512+(0.5*$C$506-$M$506)*M512","v":8.3680511741286073E-2},{"$f":"I512+K512-M512","v":1.2000999999999999},null,{"$f":"N512-P512*O512","v":8.3680511741286073E-2},{"$f":"R511","v":1.2},{"$f":"F512*$D$506","v":1.5647416055153307},{"$f":"IF(ABS(J511)<$K$506,$Q$506*C512*$H$506*$J$506,IF(J511>0,1,-1)*$H$506*$K$506)","v":0.12783224532492712},{"$f":"IF(L511<$O$506,$Q$506*C512*$L$506*$N$506,-$L$506*$O$506)","v":0.12783224532492712},{"$f":"-(R512+0.0001)","v":-1.2000999999999999},{"$f":"IF(ABS(J511)<$K$506,$I$506*$Q$506*C512*$H$506*$J$506,0)","v":7.6699347194956269E-3},{"$f":"IF(L511<$O$506,($C$506-$M$506)*$Q$506*C512*$L$506*$N$506,0)","v":6.1359477755965029E-2},{"$f":"IF(B511<$C$506,0,(B511-$C$506)/B511)","v":0.25092479563862918},{"$f":"IF(B512<=$C$506,0,(B512-$C$506)/B512)","v":0.19339072594390286}]
[null,{"$f":"MIN(0.5*(-(T513+U513+V513)+SQRT((T513+U513+V513)^2+4*S513*(W513+X513)))/S513,1000*$C$6)","v":0.68328767094324783},{"$f":"0.95*C512","v":3.6815694385438941E-4},{"$f":"IF($C$2=1,C513/($Z$506*$Z$5),2^(1/3)*$Z$5/C513)","v":6.503275016411815E-2},{"$f":"IF($C$2=1,-($Z$506-2)*C513/$Z$5,3*($Z$5/C513)^2)","v":-0.13088140912742197},{"$f":"IF($C$2=1,0.5*($Z$506*C513*$F$506/$Z$5)*(1-Y513^2+(D513-E513)*(E513^2*(1-Y513^2)+2*E513*(1-Y513)+2*LN((1-E513)/(1-E513*Y513)))/(E513^3)),$F$506*E513*(LN((1-D513+D513^2)/(1+D513)^2)/(6*D513)+ATAN((2-D513)/(D513*3^0.5))/(D513*3^0.5)-LN((Y513^2-D513*Y513+D513^2)/(Y513+D513)^2)/(6*D513)-ATAN((2*Y513-D513)/(D513*3^0.5))/(D513*3^0.5)))","v":3.6699067915210617},{"$f":"IF($C$2=1,($Z$506*C513*$F$506/$Z$5)*(1-Y513^3-(D513-E513)*(-2*E513^3*(1-Y513^3)-3*E513^2*(1-Y513^2)-6*E513*(1-Y513)-6*LN((1-E513)/(1-E513*Y513)))/(2*E513^4))/3,$F$506*E513*(LN((1+D513^3)/(D513^3+Y513^3)))/3)","v":2.4911638643240193},{"$f":"G513/F513","v":0.67880848365947455},{"$f":"F513*B513*$D$506","v":1.0531928669460382},{"$f":"MAX(MIN($K$506,$Q$506*$J$506*C513*(B513-$I$506)/B513),-$K$506)","v":183.65293484430947},{"$f":"J513*$H$506","v":0.11077684049608082},{"$f":"MIN($O$506,$Q$506*$N$506*C513*(C$506-B513-$M$506)/B513)","v":-59.899110999407391},{"$f":"L513*$L$506","v":-3.613029255788118E-2},{"$f":"(0.5*$C$506-B513+H513*B513)*I513+(0.5*$C$506-$I$506)*K513+(0.5*$C$506-$M$506)*M513","v":6.8897609473315219E-2},{"$f":"I513+K513-M513","v":1.2001000000000002},null,{"$f":"N513-P513*O513","v":6.8897609473315219E-2},{"$f":"R512","v":1.2},{"$f":"F513*$D$506","v":1.5413608524388458},{"$f":"IF(ABS(J512)<$K$506,$Q$506*C513*$H$506*$J$506,IF(J512>0,1,-1)*$H$506*$K$506)","v":0.12144063305868076},0.12144063305868076,{"$f":"-(R513+0.0001)","v":-1.2000999999999999},{"$f":"IF(ABS(J512)<$K$506,$I$506*$Q$506*C513*$H$506*$J$506,0)","v":7.2864379835208453E-3},5.8291503868166776E-2,{"$f":"IF(B512<$C$506,0,(B512-$C$506)/B512)","v":0.19339072594390286},{"$f":"IF(B513<=$C$506,0,(B513-$C$506)/B513)","v":0.2097032875559508}]
[null,0.71194923319846715,{"$f":"IF(ABS($Q$511-Q513)<=0.001*Q$511,C513,MAX(0.9*C513,MIN($W$6,1.05*C513,IF(C513=$W$6,0.5*(C513+C512),C513+IF(C513=C512,0,(C513-C512)*(Q513-Q$511)/(Q512-Q513))))))","v":3.5488865177717225E-4},6.2688984717978721E-2,-0.12616447306857848,3.5274147640326938,2.4081879043163967,0.68270619289557311,1.0547628992989317,177.72019839176289,0.1071982981751199,-63.228947350107525,-3.8138802525948215E-2,6.1020615040424067E-2,1.2000999999999997,null,6.1020615040424067E-2,1.2,1.4815142008937314,0.11706394041071587,0.11706394041071587,-1.2000999999999999,7.0238364246429513E-3,5.6190691397143618E-2,0.2097032875559508,0.24151895272922294]
[null,0.73015547846334794,{"$f":"IF(ABS($Q$511-Q514)<=0.001*Q$511,C514,MAX(0.9*C514,MIN($W$6,1.05*C514,IF(C514=$W$6,0.5*(C514+C513),C514+IF(C514=C513,0,(C514-C513)*(Q514-Q$511)/(Q513-Q514))))))","v":3.5110594527242923E-4},6.2020791950808118E-2,-0.12481970430644954,3.4373685104134477,2.373068139786958,0.69037350304390976,1.054121648737826,176.2293877769315,0.10629906239743389,-65.782864179110433,-3.9679288864740189E-2,6.0291936690395453E-2,1.2000999999999999,null,6.0291936690395453E-2,1.2,1.4436947743736479,0.11581617290210446,0.11581617290210446,-1.2000999999999999,6.9489703741262661E-3,5.5591762993010149E-2,0.24151895272922294,0.26043148900771174]
[null,0.75353289784673327,3.4323089630200991E-4,6.0629711052369244E-2,-0.12202008983930103,3.3328659229277244,2.3176264009305307,0.6953854293948416,1.0547981291561093,172.75520789328868,0.10420348646149116,-68.135531536975492,-4.1098384382399593E-2,5.5932262536125307E-2,1.2000999999999999,null,5.5932262536125307E-2,1.2,1.3998036876296442,0.11321850104421853,0.11321850104421853,-1.2000999999999999,6.7931100626531125E-3,5.43448805012249E-2,0.26043148900771174,0.2833756806861607]
[null,0.75316226418655263,3.4836572348377208E-4,6.1536747952858989E-2,-0.12384554343563635,3.3277623088730457,2.3343847186604783,0.70148781733483334,1.0526648979947071,175.3322077555971,0.10575789615795132,-69.095138800654695,-4.1677205847341539E-2,6.1007806488084661E-2,1.2000999999999999,null,6.1007806488084661E-2,1.2,1.3976601697266791,0.11491228048803843,0.11491228048803843,-1.2000999999999999,6.8947368292823046E-3,5.5157894634258457E-2,0.2833756806861607,0.28302302747041758]
[null,0.75762822312705147,3.4610677019262598E-4,6.1137717193103389E-2,-0.12304247562764424,3.3096344055202653,2.3214880171111081,0.70143337077926482,1.0531384222188791,174.28415974012916,0.10512572848831866,-69.358148056219335,-4.1835849292802277E-2,5.9415699642567585E-2,1.2001000000000002,null,5.9415699642567585E-2,1.2,1.3900464503185115,0.11416713980196387,0.11416713980196387,-1.2000999999999999,6.8500283881178323E-3,5.4800227104942666E-2,0.28302302747041758,0.28724936120886296]
[null,0.76150669500931001,3.4519762222710089E-4,6.0977121573514599E-2,-0.122719269536276,3.2926925077427254,2.3135434651304543,0.70262967455666925,1.0531111034862934,173.90249573596404,0.10489551418464671,-69.785102803405408,-4.2093382329059882E-2,5.90519694132806E-2,1.2000999999999999,null,5.90519694132806E-2,1.2,1.3829308532519446,0.11386724730687339,0.11386724730687339,-1.2000999999999999,6.8320348384124036E-3,5.4656278707299229E-2,0.28724936120886296,0.2908795109235407]
[null,0.76470132014323644,3.4450516781556499E-4,6.0854803590661977E-2,-0.12247309895426964,3.2788067933167784,2.3071790859410188,0.70366423866260219,1.0530693110044598,173.61566617189715,0.10472250266759617,-70.14121861817965,-4.2308186327944093E-2,5.8801423611241008E-2,1.2001000000000002,null,5.8801423611241008E-2,1.2,1.3770988531930468,0.11363883357326077,0.11363883357326077,-1.2000999999999999,6.8183300143956453E-3,5.4546640115165169E-2,0.2908795109235407,0.29384194093080357]
[null,0.76615172389758956,3.4450516781556499E-4,6.0854803590661977E-2,-0.12247309895426964,3.2721275707760173,2.3052263277623797,0.70450380613237296,1.0529173952484085,173.64365013429193,0.1047393821960463,-70.365090317337604,-4.2443222555544981E-2,5.8994742528854116E-2,1.2000999999999997,null,5.8994742528854116E-2,1.2,1.3742935797259273,0.11363883357326077,0.11363883357326077,-1.2000999999999999,6.8183300143956453E-3,5.4546640115165169E-2,0.29384194093080357,0.29517877052746661]
[null,0.76681274072541927,3.4450516781556499E-4,6.0854803590661977E-2,-0.12247309895426964,3.2690925103582447,2.3043324695874721,0.70488444798857985,1.0528483507721536,173.65636861772848,0.10474705380451908,-70.466838184830095,-4.2504595423327282E-2,5.9082110313081269E-2,1.2000999999999997,null,5.9082110313081269E-2,1.2,1.3730188543504627,0.11363883357326077,0.11363883357326077,-1.2000999999999999,6.8183300143956453E-3,5.4546640115165169E-2,0.29517877052746661,0.29578634871252935]
[null,0.767114511952252,3.4450516781556499E-4,6.0854803590661977E-2,-0.12247309895426964,3.2677087888177909,2.3039236038674296,0.70505781046081384,1.0528168697491385,173.6621676459998,0.10475055169596519,-70.513230411000606,-4.253257855489611E-2,5.9121844450156065E-2,1.2000999999999997,null,5.9121844450156065E-2,1.2,1.3724376913034722,0.11363883357326077,0.11363883357326077,-1.2000999999999999,6.8183300143956453E-3,5.4546640115165169E-2,0.29578634871252935,0.29606337569375613]
[null,0.76725238495466974,3.4450516781556499E-4,6.0854803590661977E-2,-0.12247309895426964,3.2670769830307798,2.3037366368143437,0.70513693089571128,1.0528024949655665,173.6648155833393,0.10475214889413983,-70.534413909716903,-4.2545356140293443E-2,5.9139966715990255E-2,1.2000999999999999,null,5.9139966715990255E-2,1.2,1.3721723328729274,0.11363883357326077,0.11363883357326077,-1.2000999999999999,6.8183300143956453E-3,5.4546640115165169E-2,0.29606337569375613,0.29618987103975708]
[null,0.76731539846455965,3.4450516781556499E-4,6.0854803590661977E-2,-0.12247309895426964,3.2667883032992306,2.303651151058868,0.70517307434103993,1.0527959268310729,173.66602548041291,0.10475287868686138,-70.544093086305537,-4.2551194482065659E-2,5.9148242772092081E-2,1.2000999999999999,null,5.9148242772092081E-2,1.2,1.3720510873856768,0.11363883357326077,0.11363883357326077,-1.2000999999999999,6.8183300143956453E-3,5.4546640115165169E-2,0.29618987103975708,0.29624766936702984]
[null,0.76734420280544724,3.4450516781556499E-4,6.0854803590661977E-2,-0.12247309895426964,3.2666563607333483,2.3036120671933609,0.70518959229498246,1.0527929248058352,173.6665784748063,0.10475321224522113,-70.548517041452669,-4.2553862948943748E-2,5.9152024504203239E-2,1.2000999999999999,null,5.9152024504203239E-2,1.2,1.3719956715080062,0.11363883357326077,0.11363883357326077,-1.2000999999999999,6.8183300143956453E-3,5.4546640115165169E-2,0.29624766936702984,0.29627408661493226]
[null,0.76735737063249843,3.4450516781556499E-4,6.0854803590661977E-2,-0.12247309895426964,3.266596047075911,2.3035941986170791,0.7051971426583763,1.0527915525131273,173.66683126088017,0.10475336472218867,-70.550539330043577,-4.2555082764684032E-2,5.9153753027734464E-2,1.2001000000000002,null,5.9153753027734464E-2,1.2,1.3719703397718825,0.11363883357326077,0.11363883357326077,-1.2000999999999999,6.8183300143956453E-3,5.4546640115165169E-2,0.29627408661493226,0.29628616252828571]
[null,0.76736339047131197,3.4450516781556499E-4,6.0854803590661977E-2,-0.12247309895426964,3.2665684746620998,2.3035860294588955,0.7052005942404691,1.0527909251678325,173.66694682234393,0.10475343442722143,-70.551463821753671,-4.2555640404946062E-2,5.9154543184414876E-2,1.2000999999999999,null,5.9154543184414876E-2,1.2,1.3719587593580818,0.11363883357326077,0.11363883357326077,-1.2000999999999999,6.8183300143956453E-3,5.4546640115165169E-2,0.29628616252828571,0.2962916830468888]
[null,0.76736614255902447,3.4450516781556499E-4,6.0854803590661977E-2,-0.12247309895426964,3.2665558695450949,2.3035822947011684,0.7052021721648889,1.0527906383678709,173.66699965293603,0.10475346629388384,-70.551886466490544,-4.2555895338245345E-2,5.9154904407323017E-2,1.2001000000000002,null,5.9154904407323017E-2,1.2,1.3719534652089398,0.11363883357326077,0.11363883357326077,-1.2000999999999999,6.8183300143956453E-3,5.4546640115165169E-2,0.2962916830468888,0.29629420683169616]
[null,0.76736740073890908,3.4450516781556499E-4,6.0854803590661977E-2,-0.12247309895426964,3.2665501068596048,2.3035805872590482,0.7052028935425283,1.0527905072513895,173.66702380552408,0.10475348086238173,-70.552079687195274,-4.2556011886228672E-2,5.9155069546403406E-2,1.2000999999999999,null,5.9155069546403406E-2,1.2,1.3719510448810339,0.11363883357326077,0.11363883357326077,-1.2000999999999999,6.8183300143956453E-3,5.4546640115165169E-2,0.29629420683169616,0.29629536063165274]
[null,0.76736797594647432,3.4450516781556499E-4,6.0854803590661977E-2,-0.12247309895426964,3.266547472314377,2.3035798066569777,0.70520322333624974,1.0527904473084413,173.66703484744141,0.10475348752270935,-70.552168022533436,-4.2556065168849362E-2,5.9155145043088941E-2,1.2001000000000002,null,5.9155145043088941E-2,1.2,1.3719499383720384,0.11363883357326077,0.11363883357326077,-1.2000999999999999,6.8183300143956453E-3,5.4546640115165169E-2,0.29629536063165274,0.2962958881181324]
[null,0.76736823891701744,3.4450516781556499E-4,6.0854803590661977E-2,-0.12247309895426964,3.2665462678674588,2.3035794497852931,0.7052033741096122,1.0527904199040512,173.66703989552488,0.10475349056764156,-70.55220840720132,-4.2556089528307139E-2,5.9155179558347565E-2,1.2000999999999999,null,5.9155179558347565E-2,1.2,1.3719494325043327,0.11363883357326077,0.11363883357326077,-1.2000999999999999,6.8183300143956453E-3,5.4546640115165169E-2,0.2962958881181324,0.29629612927152282]
[null,0.76736835914066237,3.4450516781556499E-4,6.0854803590661977E-2,-0.12247309895426964,3.2665457172243353,2.3035792866320901,0.705203443039364,1.0527904073754464,173.66704220338292,0.10475349195970873,-70.552226870065979,-4.2556100664844741E-2,5.9155195337811807E-2,1.2000999999999999,null,5.9155195337811807E-2,1.2,1.3719492012342207,0.11363883357326077,0.11363883357326077,-1.2000999999999999,6.8183300143956453E-3,5.4546640115165169E-2,0.29629612927152282,0.29629623952084871]
[null,0.76736841410393219,3.4450516781556499E-4,6.0854803590661977E-2,-0.12247309895426964,3.2665454654840129,2.3035792120411984,0.70520347455193644,1.0527904016476803,173.6670432584782,0.10475349259612722,-70.552235310828024,-4.255610575619246E-2,5.9155202551473614E-2,1.2001000000000002,null,5.9155202551473614E-2,1.2,1.3719490955032854,0.11363883357326077,0.11363883357326077,-1.2000999999999999,6.8183300143956453E-3,5.4546640115165169E-2,0.29629623952084871,0.29629628992409562]
[null,0.76736843923182585,3.4450516781556499E-4,6.0854803590661977E-2,-0.12247309895426964,3.2665453503943649,2.3035791779417516,0.70520348895925911,1.0527903990290826,173.6670437408425,0.10475349288708251,-70.55223916974235,-4.255610808383474E-2,5.9155205849814749E-2,1.2000999999999999,null,5.9155205849814749E-2,1.2,1.3719490471656333,0.11363883357326077,0.11363883357326077,-1.2000999999999999,6.8183300143956453E-3,5.4546640115165169E-2,0.29629628992409562,0.29629631296725334]
[null,0.76736845071967941,3.4450516781556499E-4,6.0854803590661977E-2,-0.12247309895426964,3.2665452977782188,2.3035791623515842,0.7052034955457045,1.0527903978319246,173.66704396136754,0.10475349302010008,-70.55224093394277,-4.2556109147975363E-2,5.9155207357551594E-2,1.2001000000000002,null,5.9155207357551594E-2,1.2,1.3719490250668518,0.11363883357326077,0.11363883357326077,-1.2000999999999999,6.8183300143956453E-3,5.4546640115165169E-2,0.29629631296725334,0.29629632350201657]
[null,0.76736845597165615,3.4450516781556499E-4,6.0854803590661977E-2,-0.12247309895426964,3.2665452737233522,2.3035791552246185,0.70520349855702369,1.0527903972846118,173.66704406218645,0.10475349308091261,-70.552241740493727,-4.2556109634475439E-2,5.9155208046975535E-2,1.2000999999999999,null,5.9155208046975535E-2,1.2,1.3719490149638078,0.11363883357326077,0.11363883357326077,-1.2000999999999999,6.8183300143956453E-3,5.4546640115165169E-2,0.29629632350201657,0.29629632831826264]
[null,0.76736845837271195,3.4450516781556499E-4,6.0854803590661977E-2,-0.12247309895426964,3.2665452627261451,2.3035791519654878,0.70520349993344367,1.0527903970343957,173.66704410827799,0.10475349310871437,-70.5522421092261,-4.2556109856889568E-2,5.9155208361942373E-2,1.2000999999999997,null,5.9155208361942373E-2,1.2,1.371949010344981,0.11363883357326077,0.11363883357326077,-1.2000999999999999,6.8183300143956453E-3,5.4546640115165169E-2,0.29629632831826264,0.29629633052011467]
[null,0.76736845947042431,3.4450516781556499E-4,6.0854803590661977E-2,-0.12247309895426964,3.2665452576984535,2.3035791504759922,0.70520350056287018,1.0527903969200025,173.66704412935007,0.10475349312142475,-70.552242277802819,-4.2556109958572647E-2,5.9155208506064892E-2,1.2000999999999999,null,5.9155208506064892E-2,1.2,1.3719490082333503,0.11363883357326077,0.11363883357326077,-1.2000999999999999,6.8183300143956453E-3,5.4546640115165169E-2,0.29629633052011467,0.29629633152675522]
[null,0.767368459972254,3.4450516781556499E-4,6.0854803590661977E-2,-0.12247309895426964,3.2665452553999961,2.303579149794301,0.70520350085038774,1.0527903968677066,173.66704413898336,0.10475349312723541,-70.552242354869264,-4.2556110005058032E-2,5.9155208571765289E-2,1.2000999999999999,null,5.9155208571765289E-2,1.2,1.3719490072679983,0.11363883357326077,0.11363883357326077,-1.2000999999999999,6.8183300143956453E-3,5.4546640115165169E-2,0.29629633152675522,0.2962963319869506]
[null,0.76736846020165561,3.4450516781556499E-4,6.0854803590661977E-2,-0.12247309895426964,3.266545254349301,2.3035791494821005,0.70520350098164364,1.0527903968438004,173.66704414338707,0.10475349312989167,-70.552242390098684,-4.2556110026307915E-2,5.9155208601655906E-2,1.2000999999999999,null,5.9155208601655906E-2,1.2,1.3719490068267064,0.11363883357326077,0.11363883357326077,-1.2000999999999999,6.8183300143956453E-3,5.4546640115165169E-2,0.2962963319869506,0.29629633219731988]
[null,0.76736846030657702,3.4450516781556499E-4,6.0854803590661977E-2,-0.12247309895426964,3.2665452538687449,2.303579149341588,0.70520350104237361,1.0527903968328665,173.66704414540118,0.10475349313110655,-70.552242406211562,-4.2556110036026974E-2,5.9155208615890423E-2,1.2000999999999999,null,5.9155208615890423E-2,1.2,1.3719490066248727,0.11363883357326077,0.11363883357326077,-1.2000999999999999,6.8183300143956453E-3,5.4546640115165169E-2,0.29629633219731988,0.29629633229353647]
[null,0.76736846035454198,3.4450516781556499E-4,6.0854803590661977E-2,-0.12247309895426964,3.2665452536490576,2.3035791492763242,0.70520350106982177,1.0527903968278678,173.66704414632193,0.10475349313166193,-70.552242413577588,-4.2556110040470059E-2,5.9155208622143657E-2,1.2000999999999997,null,5.9155208622143657E-2,1.2,1.3719490065326041,0.11363883357326077,0.11363883357326077,-1.2000999999999999,6.8183300143956453E-3,5.4546640115165169E-2,0.29629633229353647,0.29629633233752201]
[null,0.76736846037645889,3.4450516781556499E-4,6.0854803590661977E-2,-0.12247309895426964,3.2665452535486752,2.3035791492460231,0.70520350108221674,1.0527903968255841,173.66704414674265,0.1047534931319157,-70.552242416943386,-4.2556110042500261E-2,5.9155208624882091E-2,1.2000999999999999,null,5.9155208624882091E-2,1.2,1.3719490064904436,0.11363883357326077,{"$f":"IF(L543<$O$506,$Q$506*C544*$L$506*$N$506,-$L$506*$O$506)","v":0.11363883357326077},-1.2000999999999999,6.8183300143956453E-3,{"$f":"IF(L543<$O$506,($C$506-$M$506)*$Q$506*C544*$L$506*$N$506,0)","v":5.4546640115165169E-2},0.29629633233752201,0.2962963323576206]
[null,0.76736846038648465,3.4450516781556499E-4,6.0854803590661977E-2,-0.12247309895426964,3.2665452535027559,2.3035791492327156,0.70520350108805618,1.0527903968245393,173.6670441469351,0.10475349313203179,-70.552242418483061,-4.255611004342897E-2,5.9155208626271681E-2,1.2001000000000002,null,5.9155208626271681E-2,1.2,1.3719490064711575,0.11363883357326077,0.11363883357326077,-1.2000999999999999,6.8183300143956453E-3,5.4546640115165169E-2,0.2962963323576206,0.29629633236681452]
[null,0.767368460391051,3.4450516781556499E-4,6.0854803590661977E-2,-0.12247309895426964,3.2665452534818402,2.3035791492258446,0.70520350109046814,1.0527903968240631,173.66704414702278,0.10475349313208468,-70.55224241918431,-4.2556110043851958E-2,5.9155208626704453E-2,1.2000999999999995,null,5.9155208626704453E-2,1.2,1.3719490064623729,0.11363883357326077,0.11363883357326077,-1.2000999999999999,6.8183300143956453E-3,5.4546640115165169E-2,0.29629633236681452,0.29629633237100206]
[null,0.7673684603931461,3.4450516781556499E-4,6.0854803590661977E-2,-0.12247309895426964,3.2665452534722452,2.303579149223284,0.70520350109175578,1.052790396823845,173.66704414706297,0.10475349313210892,-70.552242419506058,-4.2556110044046025E-2,5.9155208627049274E-2,1.2000999999999999,null,5.9155208627049274E-2,1.2,1.3719490064583428,0.11363883357326077,0.11363883357326077,-1.2000999999999999,6.8183300143956453E-3,5.4546640115165169E-2,0.29629633237100206,0.2962963323729233]
[null,0.76736846039408779,3.4450516781556499E-4,6.0854803590661977E-2,-0.12247309895426964,3.2665452534679309,2.3035791492214828,0.7052035010921357,1.0527903968237464,173.66704414708104,0.10475349313211982,-70.552242419650668,-4.2556110044133254E-2,5.9155208627043543E-2,1.2000999999999995,null,5.9155208627043543E-2,1.2,1.371949006456531,0.11363883357326077,0.11363883357326077,-1.2000999999999999,6.8183300143956453E-3,5.4546640115165169E-2,0.2962963323729233,0.29629633237378689]
[null,0.76736846039451512,3.4450516781556499E-4,6.0854803590661977E-2,-0.12247309895426964,3.2665452534659742,2.3035791492207438,0.70520350109233187,1.0527903968237022,173.66704414708926,0.10475349313212477,-70.552242419716308,-4.2556110044172847E-2,5.9155208627060279E-2,1.2000999999999999,null,5.9155208627060279E-2,1.2,1.3719490064557092,0.11363883357326077,0.11363883357326077,-1.2000999999999999,6.8183300143956453E-3,5.4546640115165169E-2,0.29629633237378689,0.29629633237417874]
[null,0.7673684603947436,3.4450516781556499E-4,6.0854803590661977E-2,-0.12247309895426964,3.266545253464928,2.3035791492218132,0.70520350109288521,1.0527903968236785,173.66704414709366,0.10475349313212744,-70.552242419751394,-4.2556110044194011E-2,5.9155208627431496E-2,1.2000999999999999,null,5.9155208627431496E-2,1.2,1.3719490064552697,0.11363883357326077,0.11363883357326077,-1.2000999999999999,6.8183300143956453E-3,5.4546640115165169E-2,0.29629633237417874,0.29629633237438829]
[null,0.76736846039480455,3.4450516781556499E-4,6.0854803590661977E-2,-0.12247309895426964,3.2665452534646482,2.3035791492198849,0.7052035010923553,1.0527903968236718,173.6670441470948,0.10475349313212812,-70.552242419760745,-4.2556110044199652E-2,5.9155208626983084E-2,1.2000999999999995,null,5.9155208626983084E-2,1.2,1.3719490064551523,0.11363883357326077,0.11363883357326077,-1.2000999999999999,6.8183300143956453E-3,5.4546640115165169E-2,0.29629633237438829,0.29629633237444419]
[null,0.76736846039484141,3.4450516781556499E-4,6.0854803590661977E-2,-0.12247309895426964,3.2665452534644799,2.3035791492202748,0.70520350109251095,1.0527903968236683,173.66704414709548,0.10475349313212853,-70.552242419766401,-4.2556110044203066E-2,5.9155208627096612E-2,1.2000999999999999,null,5.9155208627096612E-2,1.2,1.3719490064550814,0.11363883357326077,0.11363883357326077,-1.2000999999999999,6.8183300143956453E-3,5.4546640115165169E-2,0.29629633237444419,0.296296332374478]
[null,0.76736846039487638,3.4450516781556499E-4,6.0854803590661977E-2,-0.12247309895426964,3.26654525346432,2.303579149220925,0.70520350109274454,1.0527903968236647,173.66704414709619,0.10475349313212896,-70.552242419771773,-4.2556110044206306E-2,5.9155208627273762E-2,1.2000999999999999,null,5.9155208627273762E-2,1.2,1.3719490064550144,0.11363883357326077,0.11363883357326077,-1.2000999999999999,6.8183300143956453E-3,5.4546640115165169E-2,0.296296332374478,0.29629633237451003]
[null,0.76736846039487128,3.4450516781556499E-4,6.0854803590661977E-2,-0.12247309895426964,3.266545253464344,2.3035791492201665,0.70520350109250718,1.0527903968236654,173.66704414709611,0.10475349313212891,-70.552242419770991,-4.2556110044205835E-2,5.9155208627083705E-2,1.2001000000000002,null,5.9155208627083705E-2,1.2,1.3719490064550244,0.11363883357326077,0.11363883357326077,-1.2000999999999999,6.8183300143956453E-3,5.4546640115165169E-2,0.29629633237451003,0.29629633237450537]
[null,0.76736846039491813,3.4450516781556499E-4,6.0854803590661977E-2,-0.12247309895426964,3.2665452534641295,2.303579149221886,0.70520350109307983,1.0527903968236605,173.66704414709699,0.10475349313212944,-70.552242419778182,-4.2556110044210171E-2,5.9155208627530695E-2,1.2001000000000002,null,5.9155208627530695E-2,1.2,1.3719490064549342,0.11363883357326077,0.11363883357326077,-1.2000999999999999,6.8183300143956453E-3,5.4546640115165169E-2,0.29629633237450537,0.29629633237454833]
[null,0.7673684603948937,3.4450516781556499E-4,6.0854803590661977E-2,-0.12247309895426964,3.2665452534642401,2.303579149220139,0.70520350109252117,1.0527903968236627,173.66704414709653,0.10475349313212917,-70.552242419774444,-4.2556110044207916E-2,5.9155208627087529E-2,1.2000999999999999,null,5.9155208627087529E-2,1.2,1.3719490064549809,0.11363883357326077,0.11363883357326077,-1.2000999999999999,6.8183300143956453E-3,5.4546640115165169E-2,0.29629633237454833,0.29629633237452596]
[null,0.76736846039488704,3.4450516781556499E-4,6.0854803590661977E-2,-0.12247309895426964,3.2665452534642716,2.3035791492203388,0.70520350109257546,1.0527903968236636,173.66704414709639,0.10475349313212907,-70.552242419773421,-4.2556110044207299E-2,5.9155208627133624E-2,1.2000999999999999,null,5.9155208627133624E-2,1.2,1.371949006454994,0.11363883357326077,0.11363883357326077,-1.2000999999999999,6.8183300143956453E-3,5.4546640115165169E-2,0.29629633237452596,0.29629633237451986]
[null,0.76736846039490103,3.4450516781556499E-4,6.0854803590661977E-2,-0.12247309895426964,3.2665452534642077,2.3035791492210174,0.70520350109279706,1.0527903968236623,173.66704414709668,0.10475349313212926,-70.552242419775567,-4.2556110044208589E-2,5.9155208627307942E-2,1.2001000000000002,null,5.9155208627307942E-2,1.2,1.3719490064549671,0.11363883357326077,0.11363883357326077,-1.2000999999999999,6.8183300143956453E-3,5.4546640115165169E-2,0.29629633237451986,0.29629633237453268]
[null,0.76736846039492235,3.4450516781556499E-4,6.0854803590661977E-2,-0.12247309895426964,3.2665452534641091,2.3035791492214988,0.7052035010929657,1.0527903968236598,173.66704414709707,0.10475349313212949,-70.552242419778835,-4.2556110044210567E-2,5.9155208627437096E-2,1.2000999999999999,null,5.9155208627437096E-2,1.2,1.3719490064549258,0.11363883357326077,0.11363883357326077,-1.2000999999999999,6.8183300143956453E-3,5.4546640115165169E-2,0.29629633237453268,0.29629633237455222]
[null,0.7673684603949058,3.4450516781556499E-4,6.0854803590661977E-2,-0.12247309895426964,3.2665452534641854,2.303579149220504,0.70520350109264462,1.0527903968236616,173.66704414709673,0.10475349313212928,-70.552242419776306,-4.255611004420904E-2,5.915520862718323E-2,1.2000999999999999,null,5.915520862718323E-2,1.2,1.3719490064549578,0.11363883357326077,0.11363883357326077,-1.2000999999999999,6.8183300143956453E-3,5.4546640115165169E-2,0.29629633237455222,0.29629633237453701]
[null,0.76736846039490736,3.4450516781556499E-4,6.0854803590661977E-2,-0.12247309895426964,3.2665452534641779,2.3035791492208828,0.70520350109276231,1.0527903968236614,173.66704414709676,0.1047534931321293,-70.552242419776533,-4.2556110044209172E-2,5.9155208627277751E-2,1.2000999999999997,null,5.9155208627277751E-2,1.2,1.3719490064549547,0.11363883357326077,0.11363883357326077,-1.2000999999999999,6.8183300143956453E-3,5.4546640115165169E-2,0.29629633237453701,0.29629633237453845]
[null,0.76736846039490092,3.4450516781556499E-4,6.0854803590661977E-2,-0.12247309895426964,3.2665452534642081,2.3035791492206976,0.70520350109269903,1.0527903968236623,173.66704414709665,0.10475349313212923,-70.552242419775553,-4.2556110044208582E-2,5.9155208627228818E-2,1.2001000000000002,null,5.9155208627228818E-2,1.2,1.3719490064549673,0.11363883357326077,0.11363883357326077,-1.2000999999999999,6.8183300143956453E-3,5.4546640115165169E-2,0.29629633237453845,0.29629633237453257]
[null,0.76736846039491979,3.4450516781556499E-4,6.0854803590661977E-2,-0.12247309895426964,3.2665452534641206,2.3035791492214988,0.70520350109296326,1.05279039682366,173.66704414709702,0.10475349313212946,-70.552242419778437,-4.2556110044210324E-2,5.9155208627435979E-2,1.2000999999999997,null,5.9155208627435979E-2,1.2,1.3719490064549307,0.11363883357326077,0.11363883357326077,-1.2000999999999999,6.8183300143956453E-3,5.4546640115165169E-2,0.29629633237453257,0.29629633237454989]
[null,0.76736846039489459,3.4450516781556499E-4,6.0854803590661977E-2,-0.12247309895426964,3.2665452534642365,2.3035791492200768,0.70520350109250285,1.0527903968236627,173.66704414709653,0.10475349313212917,-70.552242419774572,-4.2556110044207993E-2,5.9155208627072436E-2,1.2000999999999999,null,5.9155208627072436E-2,1.2,1.3719490064549793,0.11363883357326077,0.11363883357326077,-1.2000999999999999,6.8183300143956453E-3,5.4546640115165169E-2,0.29629633237454989,0.29629633237452674]
[null,0.76736846039490214,3.4450516781556499E-4,6.0854803590661977E-2,-0.12247309895426964,3.2665452534642023,2.3035791492208899,0.7052035010927592,1.052790396823662,173.6670441470967,0.10475349313212927,-70.552242419775737,-4.2556110044208693E-2,5.9155208627277057E-2,1.2000999999999999,null,5.9155208627277057E-2,1.2,1.3719490064549649,0.11363883357326077,0.11363883357326077,-1.2000999999999999,6.8183300143956453E-3,5.4546640115165169E-2,0.29629633237452674,0.29629633237453368]
[null,0.76736846039490825,3.4450516781556499E-4,6.0854803590661977E-2,-0.12247309895426964,3.2665452534641743,2.3035791492209463,0.70520350109278251,1.0527903968236614,173.66704414709676,0.1047534931321293,-70.552242419776675,-4.2556110044209262E-2,5.915520862729387E-2,1.2000999999999999,null,5.915520862729387E-2,1.2,1.3719490064549531,0.11363883357326077,0.11363883357326077,-1.2000999999999999,6.8183300143956453E-3,5.4546640115165169E-2,0.29629633237453368,0.29629633237453928]
[null,0.76736846039491846,3.4450516781556499E-4,6.0854803590661977E-2,-0.12247309895426964,3.2665452534641273,2.3035791492213717,0.70520350109292285,1.0527903968236603,173.66704414709699,0.10475349313212944,-70.552242419778239,-4.2556110044210206E-2,5.9155208627403755E-2,1.2000999999999999,null,5.9155208627403755E-2,1.2,1.3719490064549333,0.11363883357326077,0.11363883357326077,-1.2000999999999999,6.8183300143956453E-3,5.4546640115165169E-2,0.29629633237453928,0.29629633237454867]
[null,0.76736846039490136,3.4450516781556499E-4,6.0854803590661977E-2,-0.12247309895426964,3.2665452534642054,2.3035791492203841,0.70520350109260366,1.052790396823662,173.66704414709668,0.10475349313212926,-70.552242419775624,-4.2556110044208624E-2,5.9155208627151651E-2,1.2000999999999999,null,5.9155208627151651E-2,1.2,1.3719490064549662,0.11363883357326077,0.11363883357326077,-1.2000999999999999,6.8183300143956453E-3,5.4546640115165169E-2,0.29629633237454867,0.29629633237453296]
[null,0.76736846039492768,3.4450516781556499E-4,6.0854803590661977E-2,-0.12247309895426964,3.2665452534640855,2.3035791492216826,0.7052035010930271,1.0527903968236594,173.66704414709719,0.10475349313212956,-70.552242419779645,-4.2556110044211053E-2,5.9155208627484912E-2,1.2001000000000002,null,5.9155208627484912E-2,1.2,1.3719490064549158,0.11363883357326077,0.11363883357326077,-1.2000999999999999,6.8183300143956453E-3,5.4546640115165169E-2,0.29629633237453296,0.2962963323745571]
[null,0.76736846039490103,3.4450516781556499E-4,6.0854803590661977E-2,-0.12247309895426964,3.2665452534642077,2.3035791492202553,0.7052035010925638,1.0527903968236623,173.66704414709668,0.10475349313212926,-70.552242419775567,-4.2556110044208589E-2,5.9155208627119524E-2,1.2001000000000002,null,5.9155208627119524E-2,1.2,1.3719490064549671,0.11363883357326077,0.11363883357326077,-1.2000999999999999,6.8183300143956453E-3,5.4546640115165169E-2,0.2962963323745571,0.29629633237453268]
[null,0.76736846039492235,3.4450516781556499E-4,6.0854803590661977E-2,-0.12247309895426964,3.2665452534641091,2.3035791492214988,0.7052035010929657,1.0527903968236598,173.66704414709707,0.10475349313212949,-70.552242419778835,-4.2556110044210567E-2,5.9155208627437096E-2,1.2000999999999999,null,5.9155208627437096E-2,1.2,1.3719490064549258,0.11363883357326077,0.11363883357326077,-1.2000999999999999,6.8183300143956453E-3,5.4546640115165169E-2,0.29629633237453268,0.29629633237455222]
[null,0.7673684603949058,3.4450516781556499E-4,6.0854803590661977E-2,-0.12247309895426964,3.2665452534641854,2.303579149220504,0.70520350109264462,1.0527903968236616,173.66704414709673,0.10475349313212928,-70.552242419776306,-4.255611004420904E-2,5.915520862718323E-2,1.2000999999999999,null,5.915520862718323E-2,1.2,1.3719490064549578,0.11363883357326077,0.11363883357326077,-1.2000999999999999,6.8183300143956453E-3,5.4546640115165169E-2,0.29629633237455222,0.29629633237453701]
[null,0.76736846039490736,3.4450516781556499E-4,6.0854803590661977E-2,-0.12247309895426964,3.2665452534641779,2.3035791492208828,0.70520350109276231,1.0527903968236614,173.66704414709676,0.1047534931321293,-70.552242419776533,-4.2556110044209172E-2,5.9155208627277751E-2,1.2000999999999997,null,5.9155208627277751E-2,1.2,1.3719490064549547,0.11363883357326077,0.11363883357326077,-1.2000999999999999,6.8183300143956453E-3,5.4546640115165169E-2,0.29629633237453701,0.29629633237453845]
[null,0.76736846039490092,3.4450516781556499E-4,6.0854803590661977E-2,-0.12247309895426964,3.2665452534642081,2.3035791492206976,0.70520350109269903,1.0527903968236623,173.66704414709665,0.10475349313212923,-70.552242419775553,-4.2556110044208582E-2,5.9155208627228818E-2,1.2001000000000002,null,5.9155208627228818E-2,1.2,1.3719490064549673,0.11363883357326077,0.11363883357326077,-1.2000999999999999,6.8183300143956453E-3,5.4546640115165169E-2,0.29629633237453845,0.29629633237453257]
[null,0.76736846039491979,3.4450516781556499E-4,6.0854803590661977E-2,-0.12247309895426964,3.2665452534641206,2.3035791492214988,0.70520350109296326,1.05279039682366,173.66704414709702,0.10475349313212946,-70.552242419778437,-4.2556110044210324E-2,5.9155208627435979E-2,1.2000999999999997,null,5.9155208627435979E-2,1.2,1.3719490064549307,0.11363883357326077,0.11363883357326077,-1.2000999999999999,6.8183300143956453E-3,5.4546640115165169E-2,0.29629633237453257,0.29629633237454989]
[null,0.76736846039489459,3.4450516781556499E-4,6.0854803590661977E-2,-0.12247309895426964,3.2665452534642365,2.3035791492200768,0.70520350109250285,1.0527903968236627,173.66704414709653,0.10475349313212917,-70.552242419774572,-4.2556110044207993E-2,5.9155208627072436E-2,1.2000999999999999,null,5.9155208627072436E-2,1.2,1.3719490064549793,0.11363883357326077,0.11363883357326077,-1.2000999999999999,6.8183300143956453E-3,5.4546640115165169E-2,0.29629633237454989,0.29629633237452674]
[null,{"$f":"MIN(0.5*(-(T577+U577+V577)+SQRT((T577+U577+V577)^2+4*S577*(W577+X577)))/S577,1000*$C$6)","v":0.76736846039490214},3.4450516781556499E-4,{"$f":"IF($C$2=1,C577/($Z$506*$Z$5),2^(1/3)*$Z$5/C577)","v":6.0854803590661977E-2},{"$f":"IF($C$2=1,-($Z$506-2)*C577/$Z$5,3*($Z$5/C577)^2)","v":-0.12247309895426964},{"$f":"IF($C$2=1,0.5*($Z$506*C577*$F$506/$Z$5)*(1-Y577^2+(D577-E577)*(E577^2*(1-Y577^2)+2*E577*(1-Y577)+2*LN((1-E577)/(1-E577*Y577)))/(E577^3)),$F$506*E577*(LN((1-D577+D577^2)/(1+D577)^2)/(6*D577)+ATAN((2-D577)/(D577*3^0.5))/(D577*3^0.5)-LN((Y577^2-D577*Y577+D577^2)/(Y577+D577)^2)/(6*D577)-ATAN((2*Y577-D577)/(D577*3^0.5))/(D577*3^0.5)))","v":3.2665452534642023},{"$f":"IF($C$2=1,($Z$506*C577*$F$506/$Z$5)*(1-Y577^3-(D577-E577)*(-2*E577^3*(1-Y577^3)-3*E577^2*(1-Y577^2)-6*E577*(1-Y577)-6*LN((1-E577)/(1-E577*Y577)))/(2*E577^4))/3,$F$506*E577*(LN((1+D577^3)/(D577^3+Y577^3)))/3)","v":2.3035791492208899},{"$f":"G577/F577","v":0.7052035010927592},{"$f":"F577*B577*$D$506","v":1.052790396823662},{"$f":"MAX(MIN($K$506,$Q$506*$J$506*C577*(B577-$I$506)/B577),-$K$506)","v":173.6670441470967},{"$f":"J577*$H$506","v":0.10475349313212927},{"$f":"MIN($O$506,$Q$506*$N$506*C577*(C$506-B577-$M$506)/B577)","v":-70.552242419775737},{"$f":"L577*$L$506","v":-4.2556110044208693E-2},{"$f":"(0.5*$C$506-B577+H577*B577)*I577+(0.5*$C$506-$I$506)*K577+(0.5*$C$506-$M$506)*M577","v":5.9155208627277057E-2},{"$f":"I577+K577-M577","v":1.2000999999999999},null,{"$f":"N577-P577*O577","v":5.9155208627277057E-2},{"$f":"R576","v":1.2},{"$f":"F577*$D$506","v":1.3719490064549649},{"$f":"IF(ABS(J576)<$K$506,$Q$506*C577*$H$506*$J$506,IF(J576>0,1,-1)*$H$506*$K$506)","v":0.11363883357326077},0.11363883357326077,{"$f":"-(R577+0.0001)","v":-1.2000999999999999},{"$f":"IF(ABS(J576)<$K$506,$I$506*$Q$506*C577*$H$506*$J$506,0)","v":6.8183300143956453E-3},5.4546640115165169E-2,{"$f":"IF(B576<$C$506,0,(B576-$C$506)/B576)","v":0.29629633237452674},{"$f":"IF(B577<=$C$506,0,(B577-$C$506)/B577)","v":0.29629633237453368}]
[null,{"$f":"MIN(0.5*(-(T578+U578+V578)+SQRT((T578+U578+V578)^2+4*S578*(W578+X578)))/S578,1000*$C$6)","v":0.76736846039490825},3.4450516781556499E-4,{"$f":"IF($C$2=1,C578/($Z$506*$Z$5),2^(1/3)*$Z$5/C578)","v":6.0854803590661977E-2},{"$f":"IF($C$2=1,-($Z$506-2)*C578/$Z$5,3*($Z$5/C578)^2)","v":-0.12247309895426964},{"$f":"IF($C$2=1,0.5*($Z$506*C578*$F$506/$Z$5)*(1-Y578^2+(D578-E578)*(E578^2*(1-Y578^2)+2*E578*(1-Y578)+2*LN((1-E578)/(1-E578*Y578)))/(E578^3)),$F$506*E578*(LN((1-D578+D578^2)/(1+D578)^2)/(6*D578)+ATAN((2-D578)/(D578*3^0.5))/(D578*3^0.5)-LN((Y578^2-D578*Y578+D578^2)/(Y578+D578)^2)/(6*D578)-ATAN((2*Y578-D578)/(D578*3^0.5))/(D578*3^0.5)))","v":3.2665452534641743},{"$f":"IF($C$2=1,($Z$506*C578*$F$506/$Z$5)*(1-Y578^3-(D578-E578)*(-2*E578^3*(1-Y578^3)-3*E578^2*(1-Y578^2)-6*E578*(1-Y578)-6*LN((1-E578)/(1-E578*Y578)))/(2*E578^4))/3,$F$506*E578*(LN((1+D578^3)/(D578^3+Y578^3)))/3)","v":2.3035791492209463},{"$f":"G578/F578","v":0.70520350109278251},{"$f":"F578*B578*$D$506","v":1.0527903968236614},{"$f":"MAX(MIN($K$506,$Q$506*$J$506*C578*(B578-$I$506)/B578),-$K$506)","v":173.66704414709676},{"$f":"J578*$H$506","v":0.1047534931321293},{"$f":"MIN($O$506,$Q$506*$N$506*C578*(C$506-B578-$M$506)/B578)","v":-70.552242419776675},{"$f":"L578*$L$506","v":-4.2556110044209262E-2},{"$f":"(0.5*$C$506-B578+H578*B578)*I578+(0.5*$C$506-$I$506)*K578+(0.5*$C$506-$M$506)*M578","v":5.915520862729387E-2},{"$f":"I578+K578-M578","v":1.2000999999999999},null,{"$f":"N578-P578*O578","v":5.915520862729387E-2},{"$f":"R577","v":1.2},{"$f":"F578*$D$506","v":1.3719490064549531},{"$f":"IF(ABS(J577)<$K$506,$Q$506*C578*$H$506*$J$506,IF(J577>0,1,-1)*$H$506*$K$506)","v":0.11363883357326077},0.11363883357326077,{"$f":"-(R578+0.0001)","v":-1.2000999999999999},{"$f":"IF(ABS(J577)<$K$506,$I$506*$Q$506*C578*$H$506*$J$506,0)","v":6.8183300143956453E-3},5.4546640115165169E-2,{"$f":"IF(B577<$C$506,0,(B577-$C$506)/B577)","v":0.29629633237453368},{"$f":"IF(B578<=$C$506,0,(B578-$C$506)/B578)","v":0.29629633237453928}]
[null,null,{"$f":"IF(C506*J579/(J579-L579)<=0,B578,C506*J579/(J579-L579))","v":0.7179903923715909},null,null,null,{"$f":"C585+(C585-C584)*(Q585-Q$580)/(Q584-Q585)","v":3.4164964413623022E-4},null,null,{"$f":"$R578/($J509*N509)+($Q578-R508)/($M509*N509)","v":3.8847272231125259E-4},null,{"$f":"$R578/($J509*$N$509)-($Q578-R508)/($M509*N509)","v":9.6302698482425802E-5},null,null,{"$f":"SIGN(J579-L579)","v":1},{"$f":"IF(Q511=0.0001,ABS(Q508)*($Q$6*C578/B578)/Q511,IF(B578>10*$C$6,(L579-J579)/$C$6,$Q$6*C578/B578))*IF(B578>10*C506,O579*P508,P508)","v":1.2275571634204775E-3},null,null,null,null,null,null,null,null,null,null,{"$f":"N578/($Q$6*C578/B578)","v":48.189371859851491}]
[null,{"$f":"IF(AND(B578<>1000*$C$6,C580<C506,B578<C506),B578,IF(AND(B578<>1000*$C$6,C580>C506,B578>C506),B578*C580/C579,IF(C506*J580/(J580-L580)<=0,B578,C506*J580/(J580-L580))))","v":0.77641427828725174},{"$f":"IF(C506*J580/(J580-L580)<=0,B578,C506*J580/(J580-L580))","v":0.72645413654802371},null,null,null,null,null,null,{"$f":"$R578/($J509*N509)+($Q580-R508)/($M509*N509)","v":3.8576395910843591E-4},null,{"$f":"$R578/($J509*N509)-($Q580-R508)/($M509*N509)","v":9.9011461685242477E-5},null,null,{"$f":"SIGN(J580-L580)","v":1},{"$f":"SIGN(INDEX(Snitkræfter!$G$286:$U$286,B509+1))","v":1},{"$f":"MAX(ABS(INDEX(Snitkræfter!$G$286:$U$286,B509+1)),0.0000001)","v":5.8058330513073388E-2}]
[null,{"$f":"MIN(0.5*(-(T581+U581+V581)+SQRT((T581+U581+V581)^2+4*S581*(W581+X581)))/S581,1000*$C$6)","v":0.772458091163164},{"$f":"MIN(MAX(IF(Q508=0,0.001*Z505,IF(OR(AND(B578<>1000*$C$6,C580<C506,B578<C506),AND(B578<>1000*$C$6,C580>C506,B578>C506)),C578*J580/J579,IF(B580>C506,J580,C578*MIN(Q580/Q511,2)))),0.0001*$Z$5),0.9*K506/(J506*Q506))","v":3.4210298390878528E-4},{"$f":"IF($C$2=1,C581/($Z$506*$Z$5),2^(1/3)*$Z$5/C581)","v":6.0430471988431878E-2},{"$f":"IF($C$2=1,-($Z$506-2)*C581/$Z$5,3*($Z$5/C581)^2)","v":-0.12161911203387923},{"$f":"IF($C$2=1,0.5*($Z$506*C581*$F$506/$Z$5)*(1-Y581^2+(D581-E581)*(E581^2*(1-Y581^2)+2*E581*(1-Y581)+2*LN((1-E581)/(1-E581*Y581)))/(E581^3)),$F$506*E581*(LN((1-D581+D581^2)/(1+D581)^2)/(6*D581)+ATAN((2-D581)/(D581*3^0.5))/(D581*3^0.5)-LN((Y581^2-D581*Y581+D581^2)/(Y581+D581)^2)/(6*D581)-ATAN((2*Y581-D581)/(D581*3^0.5))/(D581*3^0.5)))","v":3.2465756962353103},{"$f":"IF($C$2=1,($Z$506*C581*$F$506/$Z$5)*(1-Y581^3-(D581-E581)*(-2*E581^3*(1-Y581^3)-3*E581^2*(1-Y581^2)-6*E581*(1-Y581)-6*LN((1-E581)/(1-E581*Y581)))/(2*E581^4))/3,$F$506*E581*(LN((1+D581^3)/(D581^3+Y581^3)))/3)","v":2.2896422002459897},{"$f":"G581/F581","v":0.70524836457718543},{"$f":"F581*B581*$D$506","v":1.0532943393548719},{"$f":"MAX(MIN($K$506,$Q$506*$J$506*C581*(B581-$I$506)/B581),-$K$506)","v":172.55247126132977},{"$f":"J581*$H$506","v":0.10408119860608464},{"$f":"MIN($O$506,$Q$506*$N$506*C581*(C$506-B581-$M$506)/B581)","v":-70.8313471297473},{"$f":"L581*$L$506","v":-4.2724462039043058E-2},{"$f":"(0.5*$C$506-B581+H581*B581)*I581+(0.5*$C$506-$I$506)*K581+(0.5*$C$506-$M$506)*M581","v":5.7456870347253733E-2},{"$f":"I581+K581-M581","v":1.2000999999999995},null,{"$f":"N581-P581*O581","v":5.7456870347253733E-2},{"$f":"R578","v":1.2},{"$f":"F581*$D$506","v":1.3635617924188304},{"$f":"IF(ABS(J580)<$K$506,$Q$506*C581*$H$506*$J$506,IF(J580>0,1,-1)*$H$506*$K$506)","v":0.11284644668709061},{"$f":"IF(L578<$O$506,$Q$506*C581*$L$506*$N$506,-$L$506*$O$506)","v":0.11284644668709061},{"$f":"-(R581+0.0001)","v":-1.2000999999999999},{"$f":"IF(ABS(J580)<$K$506,$I$506*$Q$506*C581*$H$506*$J$506,0)","v":6.7707868012254358E-3},{"$f":"IF(L578<$O$506,($C$506-$M$506)*$Q$506*C581*$L$506*$N$506,0)","v":5.4166294409803493E-2},{"$f":"IF(B580<$C$406,0,IF(C578*J580/J579=C581,Y578,(B580-$C$6)/B580))","v":0.29629633237453368},{"$f":"IF(B581<=$C$506,0,(B581-$C$506)/B581)","v":0.30093294875470794}]
[null,{"$f":"MIN(0.5*(-(T582+U582+V582)+SQRT((T582+U582+V582)^2+4*S582*(W582+X582)))/S582,1000*$C$6)","v":0.78978121306058702},{"$f":"0.98*C581","v":3.3526092423060956E-4},5.922186254866324E-2,{"$f":"IF($C$2=1,-($Z$506-2)*C582/$Z$5,3*($Z$5/C582)^2)","v":-0.11918672979320166},{"$f":"IF($C$2=1,0.5*($Z$506*C582*$F$506/$Z$5)*(1-Y582^2+(D582-E582)*(E582^2*(1-Y582^2)+2*E582*(1-Y582)+2*LN((1-E582)/(1-E582*Y582)))/(E582^3)),$F$506*E582*(LN((1-D582+D582^2)/(1+D582)^2)/(6*D582)+ATAN((2-D582)/(D582*3^0.5))/(D582*3^0.5)-LN((Y582^2-D582*Y582+D582^2)/(Y582+D582)^2)/(6*D582)-ATAN((2*Y582-D582)/(D582*3^0.5))/(D582*3^0.5)))","v":3.1791044902204746},{"$f":"IF($C$2=1,($Z$506*C582*$F$506/$Z$5)*(1-Y582^3-(D582-E582)*(-2*E582^3*(1-Y582^3)-3*E582^2*(1-Y582^2)-6*E582*(1-Y582)-6*LN((1-E582)/(1-E582*Y582)))/(2*E582^4))/3,$F$506*E582*(LN((1+D582^3)/(D582^3+Y582^3)))/3)","v":2.2466926860305354},{"$f":"G582/F582","v":0.70670614726310066},{"$f":"F582*B582*$D$506","v":1.0545347403077279},{"$f":"MAX(MIN($K$506,$Q$506*$J$506*C582*(B582-$I$506)/B582),-$K$506)","v":169.41378409101983},0.1021879871073015,{"$f":"MIN($O$506,$Q$506*$N$506*C582*(C$506-B582-$M$506)/B582)","v":-71.913618226485454},-4.3377272584970449E-2,{"$f":"(0.5*$C$506-B582+H582*B582)*I582+(0.5*$C$506-$I$506)*K582+(0.5*$C$506-$M$506)*M582","v":5.2804338334010631E-2},{"$f":"I582+K582-M582","v":1.2000999999999997},null,{"$f":"N582-P582*O582","v":5.2804338334010631E-2},{"$f":"R581","v":1.2},1.3352238858925993,0.11058951775334878,{"$f":"IF(L581<$O$506,$Q$506*C582*$L$506*$N$506,-$L$506*$O$506)","v":0.11058951775334878},{"$f":"-(R582+0.0001)","v":-1.2000999999999999},6.6353710652009273E-3,{"$f":"IF(L581<$O$506,($C$506-$M$506)*$Q$506*C582*$L$506*$N$506,0)","v":5.3082968521607425E-2},{"$f":"IF(B581<$C$506,0,IF(MIN(ABS($Q$580-Q581),ABS(Q581-Q580))<=0.001*Q$580,Y581,(B581-$C$506)/B581))","v":0.30093294875470794},0.31626633924682296]
[null,0.80575348609464614,{"$f":"IF(Z582>0,0.99*C582,0.98*C582)","v":3.3190831498830346E-4},5.8629643923176607E-2,-0.11799486249526965,3.1160023763334754,2.2162749544058378,{"$f":"G583/F583","v":0.71125586143283848},1.0545065065121577,167.99298867412827,0.10133098350206106,-73.38122143636943,-4.4262509985781254E-2,5.1363241678769572E-2,{"$f":"I583+K583-M583","v":1.2000999999999999},null,{"$f":"N583-P583*O583","v":5.1363241678769572E-2},{"$f":"R582","v":1.2},1.3087209980600596,0.10948362257581529,0.10948362257581529,{"$f":"-(R583+0.0001)","v":-1.2000999999999999},6.569017354548917E-3,5.255213883639135E-2,{"$f":"IF(B582<$C$506,0,IF(MIN(ABS($Q$580-Q582),ABS(Q582-Q581))<=0.001*Q$580,Y582,(B582-$C$506)/B582))","v":0.31626633924682296},0.32981984028726863]
[null,0.77905092064024695,{"$f":"IF(MIN(ABS($Q$580-Q583),10*ABS(Q583-Q582))<=0.001*Q$580,C583,MAX(0.9*C583,MIN($W$6,1.05*C583,IF(C583=$W$6,0.5*(C583+C582),C583+IF(C583=C582,0,(C583-C582)*(Q583-Q$580)/(Q582-Q583))))))","v":3.4748396470084318E-4},6.1380990470642618E-2,-0.12353207431887334,3.209971480398409,2.2953533500392225,0.71506970203807929,1.050307119553993,175.39148069361514,0.10579364875186509,-72.944741837169275,-4.3999231694141765E-2,6.3417605441106042E-2,1.2000999999999999,null,6.3417605441106042E-2,1.2,1.3481880217673317,0.11462142261725415,0.11462142261725415,-1.2000999999999999,6.8772853570352481E-3,5.5018282856281991E-2,0.32981984028726863,0.30684890333456999]
[null,0.78122245500333809,{"$f":"IF(MIN(ABS($Q$580-Q584),10*ABS(Q584-Q583))<=0.001*Q$580,C584,MAX(0.9*C584,MIN($W$6,1.05*C584,IF(C584=$W$6,0.5*(C584+C583),C584+IF(C584=C583,0,(C584-C583)*(Q584-Q$580)/(Q583-Q584))))))","v":3.4055915384910451E-4},6.0157763524709994E-2,-0.12107027367285621,3.2094870679471525,2.2733613730264799,0.70832545042175976,1.0530758139397187,171.93607368505405,0.10370939634739952,-71.810030122824031,-4.3314789712881739E-2,5.7056630796656856E-2,1.2001000000000002,null,5.7056630796656856E-2,1.2,1.347984568537804,0.11233719729518778,0.11233719729518778,-1.2000999999999999,6.740231837711266E-3,5.3921854701690128E-2,0.30684890333456999,0.3087756290905736]
[null,0.77988340719543325,3.4164964413623022E-4,6.0350392194582624E-2,-0.12145794775533998,3.2139687723008685,2.2782844090917638,0.70886949142967193,1.0527387850399244,172.4619851197325,0.10402661865132745,-71.842866764885713,-4.3334596308747891E-2,5.7962715779195956E-2,1.2000999999999997,null,5.7962715779195956E-2,1.2,1.3498668843663648,0.11269690755741023,0.11269690755741023,-1.2000999999999999,6.761814453444614E-3,5.4094515627556926E-2,0.3087756290905736,0.30758880748352702]
[null,0.7790052958757091,3.4176471826350167E-4,6.0370719359652089E-2,-0.12149885711256606,3.2177088561420906,2.2798104227984091,0.70851979614209537,1.0527771405987607,172.50386529545875,0.10405188017818684,-71.737398289328326,-4.3270979223052577E-2,5.7965373210049381E-2,1.2001000000000002,null,5.7965373210049381E-2,1.2,1.3514377195796781,0.11273486602892027,0.11273486602892027,-1.2000999999999999,6.7640919617352165E-3,5.4112735693881746E-2,0.30758880748352702,0.30680830687682842]
[null,0.7790052958757091,3.4176471826350167E-4,6.0370719359652089E-2,-0.12149885711256606,3.2177088561420906,2.2798104227984091,0.70851979614209537,1.0527771405987607,172.50386529545875,0.10405188017818684,-71.737398289328326,-4.3270979223052577E-2,5.7965373210049381E-2,1.2001000000000002,null,5.7965373210049381E-2,1.2,1.3514377195796781,0.11273486602892027,0.11273486602892027,-1.2000999999999999,6.7640919617352165E-3,5.4112735693881746E-2,0.30758880748352702,0.30680830687682842]
[null,0.7790052958757091,3.4176471826350167E-4,6.0370719359652089E-2,-0.12149885711256606,3.2177088561420906,2.2798104227984091,0.70851979614209537,1.0527771405987607,172.50386529545875,0.10405188017818684,-71.737398289328326,-4.3270979223052577E-2,5.7965373210049381E-2,1.2001000000000002,null,5.7965373210049381E-2,1.2,1.3514377195796781,0.11273486602892027,0.11273486602892027,-1.2000999999999999,6.7640919617352165E-3,5.4112735693881746E-2,0.30758880748352702,0.30680830687682842]
[null,0.7790052958757091,3.4176471826350167E-4,6.0370719359652089E-2,-0.12149885711256606,3.2177088561420906,2.2798104227984091,0.70851979614209537,1.0527771405987607,172.50386529545875,0.10405188017818684,-71.737398289328326,-4.3270979223052577E-2,5.7965373210049381E-2,1.2001000000000002,null,5.7965373210049381E-2,1.2,1.3514377195796781,0.11273486602892027,0.11273486602892027,-1.2000999999999999,6.7640919617352165E-3,5.4112735693881746E-2,0.30758880748352702,0.30680830687682842]
[null,0.7790052958757091,3.4176471826350167E-4,6.0370719359652089E-2,-0.12149885711256606,3.2177088561420906,2.2798104227984091,0.70851979614209537,1.0527771405987607,172.50386529545875,0.10405188017818684,-71.737398289328326,-4.3270979223052577E-2,5.7965373210049381E-2,1.2001000000000002,null,5.7965373210049381E-2,1.2,1.3514377195796781,0.11273486602892027,0.11273486602892027,-1.2000999999999999,6.7640919617352165E-3,5.4112735693881746E-2,0.30758880748352702,0.30680830687682842]
[null,0.7790052958757091,3.4176471826350167E-4,6.0370719359652089E-2,-0.12149885711256606,3.2177088561420906,2.2798104227984091,0.70851979614209537,1.0527771405987607,172.50386529545875,0.10405188017818684,-71.737398289328326,-4.3270979223052577E-2,5.7965373210049381E-2,1.2001000000000002,null,5.7965373210049381E-2,1.2,1.3514377195796781,0.11273486602892027,0.11273486602892027,-1.2000999999999999,6.7640919617352165E-3,5.4112735693881746E-2,0.30758880748352702,0.30680830687682842]
[null,0.7790052958757091,3.4176471826350167E-4,6.0370719359652089E-2,-0.12149885711256606,3.2177088561420906,2.2798104227984091,0.70851979614209537,1.0527771405987607,172.50386529545875,0.10405188017818684,-71.737398289328326,-4.3270979223052577E-2,5.7965373210049381E-2,1.2001000000000002,null,5.7965373210049381E-2,1.2,1.3514377195796781,0.11273486602892027,0.11273486602892027,-1.2000999999999999,6.7640919617352165E-3,5.4112735693881746E-2,0.30758880748352702,0.30680830687682842]
[null,0.7790052958757091,3.4176471826350167E-4,6.0370719359652089E-2,-0.12149885711256606,3.2177088561420906,2.2798104227984091,0.70851979614209537,1.0527771405987607,172.50386529545875,0.10405188017818684,-71.737398289328326,-4.3270979223052577E-2,5.7965373210049381E-2,1.2001000000000002,null,5.7965373210049381E-2,1.2,1.3514377195796781,0.11273486602892027,0.11273486602892027,-1.2000999999999999,6.7640919617352165E-3,5.4112735693881746E-2,0.30758880748352702,0.30680830687682842]
[null,0.7790052958757091,3.4176471826350167E-4,6.0370719359652089E-2,-0.12149885711256606,3.2177088561420906,2.2798104227984091,0.70851979614209537,1.0527771405987607,172.50386529545875,0.10405188017818684,-71.737398289328326,-4.3270979223052577E-2,5.7965373210049381E-2,1.2001000000000002,null,5.7965373210049381E-2,1.2,1.3514377195796781,0.11273486602892027,0.11273486602892027,-1.2000999999999999,6.7640919617352165E-3,5.4112735693881746E-2,0.30758880748352702,0.30680830687682842]
[null,0.7790052958757091,3.4176471826350167E-4,6.0370719359652089E-2,-0.12149885711256606,3.2177088561420906,2.2798104227984091,0.70851979614209537,1.0527771405987607,172.50386529545875,0.10405188017818684,-71.737398289328326,-4.3270979223052577E-2,5.7965373210049381E-2,1.2001000000000002,null,5.7965373210049381E-2,1.2,1.3514377195796781,0.11273486602892027,0.11273486602892027,-1.2000999999999999,6.7640919617352165E-3,5.4112735693881746E-2,0.30758880748352702,0.30680830687682842]
[null,0.7790052958757091,3.4176471826350167E-4,6.0370719359652089E-2,-0.12149885711256606,3.2177088561420906,2.2798104227984091,0.70851979614209537,1.0527771405987607,172.50386529545875,0.10405188017818684,-71.737398289328326,-4.3270979223052577E-2,5.7965373210049381E-2,1.2001000000000002,null,5.7965373210049381E-2,1.2,1.3514377195796781,0.11273486602892027,0.11273486602892027,-1.2000999999999999,6.7640919617352165E-3,5.4112735693881746E-2,0.30758880748352702,0.30680830687682842]
[null,0.7790052958757091,3.4176471826350167E-4,6.0370719359652089E-2,-0.12149885711256606,3.2177088561420906,2.2798104227984091,0.70851979614209537,1.0527771405987607,172.50386529545875,0.10405188017818684,-71.737398289328326,-4.3270979223052577E-2,5.7965373210049381E-2,1.2001000000000002,null,{"$f":"IF(B598>10*B506,Q580,IF(Q580<0.000001,0,N598-P598*O598))","v":5.7965373210049381E-2},1.2,1.3514377195796781,0.11273486602892027,0.11273486602892027,-1.2000999999999999,6.7640919617352165E-3,5.4112735693881746E-2,0.30758880748352702,0.30680830687682842]
[null,null,null,null,null,null,null,null,null,{"$f":"MAX(J578,J598)/K506","v":0.37890991450275652},null,{"$f":"MAX(L578,L598)/O506","v":-0.15393216527951273},null,null,null,{"$f":"IF(Q580=0.0001,ABS(INDEX(Snitkræfter!$G$286:$U$286,B509+1))*($Q$6*C598/B598)/Q580,IF(B598>10*$C$6,(J580-L580)/$C$6,$Q$6*C598/B598))*IF(AND(B598>10*$C$6,O580=O579),P508,P508)","v":1.1996007976920284E-3},null,null,null,null,null,null,null,null,null,null,{"$f":"(Q578-Q598)/(P579-P599)","v":42.560446833534073}]
[]
[null,null,null,null,{"$f":"C597+(C597-C596)*(Q597-Q$580)/(Q596-Q597)","v":{"$error":"#DIV/0!"}},null,null,null,null,null,null,null,null,null,null,null,{"$f":"Q598/Q580","v":0.99839889810467297}]
[null,"Tilstand:",{"$f":"C502","v":1}]
[]
[null,"L","h","b","fck","fcd","Ecd","Ac","ac","Esc","fyd_c","At","at","Est","fyd_t","Modenhed","1+f","uterm","g","EI","sc/fcd","sc","e","   emax",null,{"$f":"Stivheder!$AD$4","v":3.5000000000000001E-3}]
[null,"(m)","(m)","(m)","(Mpa)","(Mpa)","(Mpa)","(m2)","(m)","(Mpa)","(Mpa)","(m2)","(m)","(Mpa)","(Mpa)","(døgn)",null,"(m)",null,"(Mnm2)",null,"(MPa)",null,"e1",null,{"$f":"Stivheder!$AD$5","v":2.0693662482105194E-3}]
[null,{"$f":"Stivheder!$B$6","v":0.54},{"$f":"Stivheder!$C$6","v":0.54},{"$f":"Stivheder!$D$6","v":0.42},{"$f":"Stivheder!$E$6","v":25},{"$f":"Stivheder!$F$6","v":17.857142857142858},{"$f":"IF(C602=1,1000*22*((E606+8)/10)^0.3/S606,1.4*F606/Z605)","v":22482.71872144239},{"$f":"IF(P608<0,Stivheder!$X$6,Stivheder!$T$6)","v":6.0318578948924026E-4},{"$f":"IF(P608<0,Stivheder!$Y$6,Stivheder!$U$6)","v":0.06},{"$f":"IF(P608<0,Stivheder!$Z$6,Stivheder!$V$6)","v":200000},{"$f":"IF(P608<0,Stivheder!$AA$6,Stivheder!$W$6)","v":458.33333333333337},{"$f":"IF(P608<0,Stivheder!$T$6,Stivheder!$X$6)","v":6.0318578948924026E-4},{"$f":"IF(P608<0,Stivheder!$U$6,Stivheder!$Y$6)","v":0.06},{"$f":"IF(P608<0,Stivheder!$V$6,Stivheder!$Z$6)","v":200000},{"$f":"IF(P608<0,Stivheder!$W$6,Stivheder!$AA$6)","v":458.33333333333337},{"$f":"Stivheder!$P$6","v":28},{"$f":"Stivheder!$Q$6","v":2.7343237157040781},{"$f":"Stivheder!$R$6","v":0},{"$f":"Stivheder!$S$6","v":1.4},{"$f":"AA679","v":48.146486393876799},{"$f":"U506","v":0.99999990000000005},{"$f":"U606*F606","v":17.857141071428572},{"$f":"Z604","v":3.5000000000000001E-3},"k",null,{"$f":"Stivheder!$AD$6","v":2.7356687822616226}]
[]
[null,"punkt","elasttisk","e_o","sc_o/fcd","sc_u/fcd","sc_o","sc_u","hc","At","Ac","Ic","Wt","E",null,{"$f":"SIGN(Q608)","v":1},{"$f":"INDEX(Snitkræfter!$G$199:$U$199,B609+1)","v":8.9510337039598903E-2},{"$f":"INDEX(Snitkræfter!$G$59:$U$59,B609+1)*P608","v":0}]
[null,{"$f":"(ROW()-9)/100","v":6},"skøn",{"$f":"IF(C602=1,Z605*0.5*(-((Z606-2)*E609-Z606)-(((Z606-2)*E609-Z606)^2-4*E609)^0.5),G609/(1.4*F606/Z605))","v":4.8703212037649136E-4},{"$f":"MIN(0.9999,G609/F606)","v":0.50160799922640831},{"$f":"H609/F606","v":2.3097839640010092E-2},{"$f":"IF(H609>0,R611/J609+MAX(Q611+Stivheder!$O$2*R611+R611*R606,D606*C606^2*0.003*E606)/M609,MIN(0.8*F606,2*(R611+Q611/(C606-M606-0.333*I609))/(((R611+L606*O606)/(F606*D606*0.5))*D606)))","v":8.9572857004715765},{"$f":"R611/J609-(Q611+Stivheder!$O$2*R611+R611*R606)/M609","v":0.41246142214303738},{"$f":"IF(H609>0,C606*G609/(G609-H609),(R611+L606*O606)/(F606*D606*0.5))","v":0.56606597405661441},{"$f":"K609+Q606*(H606+L606)*N606/G606","v":0.25614351898648502},{"$f":"C606*D606","v":0.2268},{"$f":"D606*C606^3/12","v":5.5112400000000006E-3},{"$f":"(L609+((0.5*C606-I606)^2*H606+(0.5*C606-M606)^2*L606)*Q606)/(0.5*C606)","v":2.0950773034997532E-2},{"$f":"G609/D609","v":18391.570752145279}]
[null,"hc","e0","a'","b'","N'","tN'","t'","Nc","sac","Nac","sat","Nat","Mtot","N",null,"Mo","N","A","B1","B2","B3","C1","C2","gættet x","beregnet x","EIt"]
[null,{"$f":"I609","v":0.56606597405661441},null,null,null,null,null,null,null,null,null,null,null,null,null,null,{"$f":"MAX(ABS(Q608),0.0000001)","v":8.9510337039598903E-2},{"$f":"INDEX(Snitkræfter!$G$52:$U$52,B609+1)","v":1.2}]
[null,{"$f":"MIN(0.5*(-(T612+U612+V612)+SQRT((T612+U612+V612)^2+4*S612*(W612+X612)))/S612,1000*$C$6)","v":0.51362817318113763},{"$f":"D609","v":4.8703212037649136E-4},{"$f":"IF($C$2=1,C612/($Z$606*$Z$5),2^(1/3)*$Z$5/C612)","v":8.6031348138505187E-2},{"$f":"IF($C$2=1,-($Z$606-2)*C612/$Z$5,3*($Z$5/C612)^2)","v":-0.17314205604228045},{"$f":"IF($C$2=1,0.5*($Z$606*C612*$F$606/$Z$5)*(1-Y612^2+(D612-E612)*(E612^2*(1-Y612^2)+2*E612*(1-Y612)+2*LN((1-E612)/(1-E612*Y612)))/(E612^3)),$F$606*E612*(LN((1-D612+D612^2)/(1+D612)^2)/(6*D612)+ATAN((2-D612)/(D612*3^0.5))/(D612*3^0.5)-LN((Y612^2-D612*Y612+D612^2)/(Y612+D612)^2)/(6*D612)-ATAN((2*Y612-D612)/(D612*3^0.5))/(D612*3^0.5)))","v":4.8566524134480593},{"$f":"IF($C$2=1,($Z$606*C612*$F$606/$Z$5)*(1-Y612^3-(D612-E612)*(-2*E612^3*(1-Y612^3)-3*E612^2*(1-Y612^2)-6*E612*(1-Y612)-6*LN((1-E612)/(1-E612*Y612)))/(2*E612^4))/3,$F$606*E612*(LN((1+D612^3)/(D612^3+Y612^3)))/3)","v":3.1773296659225916},{"$f":"G612/F612","v":0.65422216692398516},{"$f":"F612*B612*$D$606","v":1.0476956728959377},{"$f":"MAX(MIN($K$606,$Q$606*$J$606*C612*(B612-$I$606)/B612),-$K$606)","v":235.22783486505659},{"$f":"J612*$H$606","v":0.14188608728292379},{"$f":"MIN($O$606,$Q$606*$N$606*C612*(C$606-B612-$M$606)/B612)","v":-17.437811043335515},{"$f":"L612*$L$606","v":-1.0518239821138526E-2},{"$f":"(0.5*$C$606-B612+H612*B612)*I612+(0.5*$C$606-$I$606)*K612+(0.5*$C$606-$M$606)*M612","v":0.12439303242655443},{"$f":"I612+K612-M612","v":1.2000999999999999},null,{"$f":"N612-P612*O612","v":0.12439303242655443},{"$f":"R611","v":1.2},{"$f":"F612*$D$606","v":2.0397940136481849},{"$f":"IF(ABS(J611)<$K$606,$Q$606*C612*$H$606*$J$606,IF(J611>0,1,-1)*$H$606*$K$606)","v":0.1606529226346074},{"$f":"IF(L611<$O$606,$Q$606*C612*$L$606*$N$606,-$L$606*$O$606)","v":0.1606529226346074},{"$f":"-(R612+0.0001)","v":-1.2000999999999999},{"$f":"IF(ABS(J611)<$K$606,$I$606*$Q$606*C612*$H$606*$J$606,0)","v":9.6391753580764433E-3},{"$f":"IF(L611<$O$606,($C$606-$M$606)*$Q$606*C612*$L$606*$N$606,0)","v":7.711340286461156E-2},{"$f":"IF(B611<$C$606,0,(B611-$C$606)/B611)","v":4.6047590300856721E-2},{"$f":"IF(B612<=$C$606,0,(B612-$C$606)/B612)","v":0}]
[null,{"$f":"MIN(0.5*(-(T613+U613+V613)+SQRT((T613+U613+V613)^2+4*S613*(W613+X613)))/S613,1000*$C$6)","v":0.53554540148075425},{"$f":"0.95*C612","v":4.6268051435766679E-4},{"$f":"IF($C$2=1,C613/($Z$606*$Z$5),2^(1/3)*$Z$5/C613)","v":8.1729780731579924E-2},{"$f":"IF($C$2=1,-($Z$606-2)*C613/$Z$5,3*($Z$5/C613)^2)","v":-0.16448495324016643},{"$f":"IF($C$2=1,0.5*($Z$606*C613*$F$606/$Z$5)*(1-Y613^2+(D613-E613)*(E613^2*(1-Y613^2)+2*E613*(1-Y613)+2*LN((1-E613)/(1-E613*Y613)))/(E613^3)),$F$606*E613*(LN((1-D613+D613^2)/(1+D613)^2)/(6*D613)+ATAN((2-D613)/(D613*3^0.5))/(D613*3^0.5)-LN((Y613^2-D613*Y613+D613^2)/(Y613+D613)^2)/(6*D613)-ATAN((2*Y613-D613)/(D613*3^0.5))/(D613*3^0.5)))","v":4.6625774337068089},{"$f":"IF($C$2=1,($Z$606*C613*$F$606/$Z$5)*(1-Y613^3-(D613-E613)*(-2*E613^3*(1-Y613^3)-3*E613^2*(1-Y613^2)-6*E613*(1-Y613)-6*LN((1-E613)/(1-E613*Y613)))/(2*E613^4))/3,$F$606*E613*(LN((1+D613^3)/(D613^3+Y613^3)))/3)","v":3.0463318132999841},{"$f":"G613/F613","v":0.65335790270792593},{"$f":"F613*B613*$D$606","v":1.0487491995412395},{"$f":"MAX(MIN($K$606,$Q$606*$J$606*C613*(B613-$I$606)/B613),-$K$606)","v":224.67607405592582},{"$f":"J613*$H$606","v":0.13552141510876664},{"$f":"MIN($O$606,$Q$606*$N$606*C613*(C$606-B613-$M$606)/B613)","v":-26.242967964145336},{"$f":"L613*$L$606","v":-1.5829385349993844E-2},{"$f":"(0.5*$C$606-B613+H613*B613)*I613+(0.5*$C$606-$I$606)*K613+(0.5*$C$606-$M$606)*M613","v":0.11360510172852772},{"$f":"I613+K613-M613","v":1.2000999999999999},null,{"$f":"N613-P613*O613","v":0.11360510172852772},{"$f":"R612","v":1.2},{"$f":"F613*$D$606","v":1.9582825221568596},{"$f":"IF(ABS(J612)<$K$606,$Q$606*C613*$H$606*$J$606,IF(J612>0,1,-1)*$H$606*$K$606)","v":0.15262027650287704},0.15262027650287704,{"$f":"-(R613+0.0001)","v":-1.2000999999999999},{"$f":"IF(ABS(J612)<$K$606,$I$606*$Q$606*C613*$H$606*$J$606,0)","v":9.1572165901726219E-3},7.3257732721380989E-2,{"$f":"IF(B612<$C$606,0,(B612-$C$606)/B612)","v":0},{"$f":"IF(B613<=$C$606,0,(B613-$C$606)/B613)","v":0}]
[null,0.58760363574396002,{"$f":"IF(ABS($Q$611-Q613)<=0.001*Q$611,C613,MAX(0.9*C613,MIN($W$6,1.05*C613,IF(C613=$W$6,0.5*(C613+C612),C613+IF(C613=C612,0,(C613-C612)*(Q613-Q$611)/(Q612-Q613))))))","v":4.164124629219001E-4},7.3556802658421933E-2,-0.14803645791614978,4.2611082070343178,2.789585070599669,0.65466187082378458,1.0516139233957527,204.46875350375183,0.1233326465080414,-41.700965995079635,-2.5153430096206072E-2,9.1157857018223917E-2,1.2000999999999999,null,9.1157857018223917E-2,1.2,1.7896654469544133,0.13735824885258932,0.13735824885258932,-1.2000999999999999,8.2414949311553597E-3,6.5931959449242891E-2,0,8.1013174269572746E-2]
[null,0.59591847540988196,{"$f":"IF(ABS($Q$611-Q614)<=0.001*Q$611,C614,MAX(0.9*C614,MIN($W$6,1.05*C614,IF(C614=$W$6,0.5*(C614+C613),C614+IF(C614=C613,0,(C614-C613)*(Q614-Q$611)/(Q613-Q614))))))","v":4.1301661010805852E-4},7.2956945311376961E-2,-0.14682921733877063,4.1995114088471057,2.7686602410313257,0.65928151432059268,1.0510779032151607,203.12310276131947,0.12252096910259057,-43.935265293118803,-2.6501127682249083E-2,9.0543880066172228E-2,1.2001000000000004,null,9.0543880066172228E-2,1.2,1.7637947917157843,0.13623808930549644,0.13623808930549644,-1.2000999999999999,8.1742853583297876E-3,6.5394282866638315E-2,8.1013174269572746E-2,9.3835780760816875E-2]
[null,0.60482350177194677,4.0730017403780048E-4,7.1947170635136504E-2,-0.14479699923029432,4.1387437017777495,2.7352860478748702,0.66089766483968548,1.0513479726312394,200.64192945436815,0.1210243606225775,-45.96870024020631,-2.7727666746183072E-2,8.7827878197168002E-2,1.2000999999999999,null,8.7827878197168002E-2,1.2,1.7382723547466548,0.13435245974777668,0.13435245974777668,-1.2000999999999999,8.0611475848666025E-3,6.4489180678932834E-2,9.3835780760816875E-2,0.10717755110711442]
[null,0.60177147206798032,4.1084128662809583E-4,7.257268726393265E-2,-0.14605588029564787,4.1570454275518136,2.7541151972095803,0.66251746467720141,1.0506683654843549,202.2732920773021,0.12200837537423516,-45.464033833806134,-2.7423259141409882E-2,9.016586632419081E-2,1.2000999999999999,null,9.016586632419081E-2,1.2,1.7459590795717617,0.13552053483606735,0.13552053483606735,-1.2000999999999999,8.1312320901640416E-3,6.5049856721312332E-2,0.10717755110711442,0.10264938591339894]
[null,0.60249857081660552,4.0984842315879683E-4,7.2397303794942483E-2,-0.14570291297531829,4.1528772153554714,2.7489569633054529,0.66194034178064476,1.0508830865519767,201.81143513187931,0.12172978982797922,-45.569912453208232,-2.748712362004397E-2,8.948504182244707E-2,1.2000999999999999,null,8.948504182244707E-2,1.2,1.744208430449298,0.13519302785768425,0.13519302785768425,-1.2000999999999999,8.1115816714610548E-3,6.4892653371688452E-2,0.10264938591339894,0.10373231380764456]
[null,0.60263612949971346,4.0984842315879683E-4,7.2397303794942483E-2,-0.14570291297531829,4.1518199980842585,2.7488478671782488,0.66208262122313299,1.050855428290502,201.8165299802948,0.12173286296814305,-45.610671240532092,-2.7511708741354536E-2,8.9519925265684114E-2,1.2000999999999997,null,8.9519925265684114E-2,1.2,1.7437643991953886,0.13519302785768425,0.13519302785768425,-1.2000999999999999,8.1115816714610548E-3,6.4892653371688452E-2,0.10373231380764456,0.10393689729773031]
[null,0.60266228299446112,4.0984842315879683E-4,7.2397303794942483E-2,-0.14570291297531829,4.1516190537428725,2.7488270021953896,0.66210964122953375,1.0508501711618332,201.81749838077414,0.12173344709355072,-45.618418444366775,-2.7516381744615893E-2,8.9526542604527359E-2,1.2000999999999997,null,8.9526542604527359E-2,1.2,1.7436800025720065,0.13519302785768425,0.13519302785768425,-1.2000999999999999,8.1115816714610548E-3,6.4892653371688452E-2,0.10393689729773031,0.10397578339083979]
[null,0.60266726008606286,4.0984842315879683E-4,7.2397303794942483E-2,-0.14570291297531829,4.1515808155875824,2.7488230270966039,0.66211478210320152,1.0508491707655327,201.81768266088557,0.12173355824869522,-45.6198926852583,-2.7517270985771943E-2,8.9527801368040477E-2,1.2000999999999997,null,8.9527801368040477E-2,1.2,1.7436639425467846,0.13519302785768425,0.13519302785768425,-1.2000999999999999,8.1115816714610548E-3,6.4892653371688452E-2,0.10397578339083979,0.10398318315336018]
[null,0.60266820740955329,4.0984842315879683E-4,7.2397303794942483E-2,-0.14570291297531829,4.1515735375399316,2.7488222703283021,0.66211576055982668,1.0508489803552139,201.81771773582011,0.12173357940539731,-45.620173284734861,-2.7517440239388746E-2,8.9528040937489201E-2,1.2000999999999999,null,8.9528040937489201E-2,1.2,1.7436608857667713,0.13519302785768425,0.13519302785768425,-1.2000999999999999,8.1115816714610548E-3,6.4892653371688452E-2,0.10398318315336018,0.10398459158633869]
[null,0.60266838772611631,4.0984842315879683E-4,7.2397303794942483E-2,-0.14570291297531829,4.1515721522160778,2.7488221262777106,0.66211594680111974,1.0508489441119766,201.81772441208213,0.12173358343242367,-45.620226694830819,-2.7517472455599643E-2,8.9528086537332435E-2,1.2000999999999997,null,8.9528086537332435E-2,1.2,1.7436603039307526,0.13519302785768425,0.13519302785768425,-1.2000999999999999,8.1115816714610548E-3,6.4892653371688452E-2,0.10398459158633869,0.10398485967144509]
[null,0.60266842204836502,4.0984842315879683E-4,7.2397303794942483E-2,-0.14570291297531829,4.1515718885275383,2.7488220988582976,0.66211598225105961,1.0508489372132819,201.81772568287082,0.12173358419894535,-45.620236861140079,-2.7517478587772919E-2,8.9528095216985154E-2,1.2001000000000002,null,8.9528095216985154E-2,1.2,1.7436601931815661,0.13519302785768425,0.13519302785768425,-1.2000999999999999,8.1115816714610548E-3,6.4892653371688452E-2,0.10398485967144509,0.10398491069992671]
[null,0.60266842858140701,4.0984842315879683E-4,7.2397303794942483E-2,-0.14570291297531829,4.1515718383359497,2.7488220936384624,0.66211598899858048,1.0508489359001549,201.81772592475807,0.12173358434484831,-45.620238796238247,-2.7517479754996636E-2,8.9528096868999166E-2,1.2000999999999999,null,8.9528096868999166E-2,1.2,1.7436601721010987,0.13519302785768425,0.13519302785768425,-1.2000999999999999,8.1115816714610548E-3,6.4892653371688452E-2,0.10398491069992671,0.10398492041290308]
[null,0.60266842982495072,4.0984842315879683E-4,7.2397303794942483E-2,-0.14570291297531829,4.1515718287821413,2.7488220926457991,0.66211599028317014,1.0508489356502055,201.81772597080052,0.12173358437262047,-45.620239164578017,-2.751747997717395E-2,8.9528097183594488E-2,1.2000999999999999,null,8.9528097183594488E-2,1.2,1.7436601680884993,0.13519302785768425,0.13519302785768425,-1.2000999999999999,8.1115816714610548E-3,6.4892653371688452E-2,0.10398492041290308,0.10398492226173714]
[null,0.60266843006164317,4.0984842315879683E-4,7.2397303794942483E-2,-0.14570291297531829,4.1515718269636981,2.7488220924561051,0.66211599052749359,1.0508489356026312,201.8177259795641,0.12173358437790653,-45.620239234686714,-2.7517480019462519E-2,8.9528097243358626E-2,1.2001000000000002,null,8.9528097243358626E-2,1.2,1.7436601673247532,0.13519302785768425,0.13519302785768425,-1.2000999999999999,8.1115816714610548E-3,6.4892653371688452E-2,0.10398492226173714,0.10398492261363877]
[null,0.60266843010670046,4.0984842315879683E-4,7.2397303794942483E-2,-0.14570291297531829,4.1515718266175341,2.7488220924204163,0.66211599057410531,1.0508489355935744,201.81772598123237,0.12173358437891281,-45.620239248032767,-2.751748002751267E-2,8.952809725479989E-2,1.2000999999999999,null,8.952809725479989E-2,1.2,1.7436601671793643,0.13519302785768425,0.13519302785768425,-1.2000999999999999,8.1115816714610548E-3,6.4892653371688452E-2,0.10398492261363877,0.10398492268062753]
[null,0.60266843011527194,4.0984842315879683E-4,7.2397303794942483E-2,-0.14570291297531829,4.1515718265516819,2.7488220924133215,0.66211599058289883,1.0508489355918516,201.81772598154976,0.12173358437910425,-45.62023925057165,-2.7517480029044087E-2,8.9528097256929784E-2,1.2000999999999999,null,8.9528097256929784E-2,1.2,1.7436601671517062,0.13519302785768425,0.13519302785768425,-1.2000999999999999,8.1115816714610548E-3,6.4892653371688452E-2,0.10398492268062753,0.10398492269337115]
[null,0.6026684301169003,4.0984842315879683E-4,7.2397303794942483E-2,-0.14570291297531829,4.1515718265391728,2.7488220924118152,0.66211599058453108,1.0508489355915245,201.81772598161001,0.12173358437914059,-45.620239251053974,-2.7517480029335017E-2,8.9528097257310174E-2,1.2000999999999999,null,8.9528097257310174E-2,1.2,1.7436601671464524,0.13519302785768425,0.13519302785768425,-1.2000999999999999,8.1115816714610548E-3,6.4892653371688452E-2,0.10398492269337115,0.10398492269579211]
[null,0.6026684301172307,4.0984842315879683E-4,7.2397303794942483E-2,-0.14570291297531829,4.1515718265366335,2.7488220924126012,0.66211599058512538,1.0508489355914579,201.81772598162223,0.12173358437914797,-45.620239251151837,-2.7517480029394047E-2,8.9528097257553979E-2,1.2000999999999999,null,8.9528097257553979E-2,1.2,1.743660167145386,0.13519302785768425,0.13519302785768425,-1.2000999999999999,8.1115816714610548E-3,6.4892653371688452E-2,0.10398492269579211,0.10398492269628333]
[null,0.60266843011728399,4.0984842315879683E-4,7.2397303794942483E-2,-0.14570291297531829,4.151571826536224,2.7488220924121172,0.66211599058507409,1.0508489355914472,201.81772598162422,0.12173358437914916,-45.620239251167625,-2.751748002940357E-2,8.9528097257500133E-2,1.2000999999999999,null,8.9528097257500133E-2,1.2,1.7436601671452141,0.13519302785768425,0.13519302785768425,-1.2000999999999999,8.1115816714610548E-3,6.4892653371688452E-2,0.10398492269628333,0.10398492269636256]
[null,0.60266843011728821,4.0984842315879683E-4,7.2397303794942483E-2,-0.14570291297531829,4.1515718265361912,2.7488220924117619,0.66211599058499371,1.0508489355914461,201.81772598162436,0.12173358437914925,-45.620239251168876,-2.7517480029404327E-2,8.9528097257447495E-2,1.2000999999999995,null,8.9528097257447495E-2,1.2,1.7436601671452003,0.13519302785768425,0.13519302785768425,-1.2000999999999999,8.1115816714610548E-3,6.4892653371688452E-2,0.10398492269636256,0.10398492269636883]
[null,0.60266843011728177,4.0984842315879683E-4,7.2397303794942483E-2,-0.14570291297531829,4.1515718265362418,2.7488220924114146,0.662115990584902,1.0508489355914479,201.81772598162414,0.12173358437914911,-45.620239251166964,-2.7517480029403171E-2,8.9528097257392039E-2,1.2001000000000002,null,8.9528097257392039E-2,1.2,1.7436601671452214,0.13519302785768425,0.13519302785768425,-1.2000999999999999,8.1115816714610548E-3,6.4892653371688452E-2,0.10398492269636883,0.10398492269635926]
[null,0.60266843011728155,4.0984842315879683E-4,7.2397303794942483E-2,-0.14570291297531829,4.1515718265362427,2.7488220924115025,0.66211599058492299,1.0508489355914477,201.81772598162411,0.12173358437914909,-45.6202392511669,-2.7517480029403133E-2,8.952809725740539E-2,1.2000999999999999,null,8.952809725740539E-2,1.2,1.7436601671452219,0.13519302785768425,0.13519302785768425,-1.2000999999999999,8.1115816714610548E-3,6.4892653371688452E-2,0.10398492269635926,0.10398492269635892]
[null,0.60266843011729632,4.0984842315879683E-4,7.2397303794942483E-2,-0.14570291297531829,4.151571826536129,2.7488220924121087,0.66211599058508719,1.0508489355914445,201.8177259816247,0.12173358437914945,-45.620239251171277,-2.7517480029405773E-2,8.9528097257503478E-2,1.2000999999999997,null,8.9528097257503478E-2,1.2,1.7436601671451741,0.13519302785768425,0.13519302785768425,-1.2000999999999999,8.1115816714610548E-3,6.4892653371688452E-2,0.10398492269635892,0.10398492269638088]
[null,0.60266843011728211,4.0984842315879683E-4,7.2397303794942483E-2,-0.14570291297531829,4.1515718265362391,2.7488220924112401,0.66211599058486037,1.0508489355914477,201.81772598162419,0.12173358437914915,-45.620239251167064,-2.7517480029403234E-2,8.9528097257365533E-2,1.2000999999999999,null,8.9528097257365533E-2,1.2,1.7436601671452203,0.13519302785768425,0.13519302785768425,-1.2000999999999999,8.1115816714610548E-3,6.4892653371688452E-2,0.10398492269638088,0.10398492269635976]
[null,0.60266843011728921,4.0984842315879683E-4,7.2397303794942483E-2,-0.14570291297531829,4.151571826536185,2.7488220924117623,0.66211599058499482,1.0508489355914463,201.81772598162445,0.1217335843791493,-45.620239251169167,-2.75174800294045E-2,8.9528097257447814E-2,1.2001000000000002,null,8.9528097257447814E-2,1.2,1.7436601671451977,0.13519302785768425,0.13519302785768425,-1.2000999999999999,8.1115816714610548E-3,6.4892653371688452E-2,0.10398492269635976,0.10398492269637032]
[null,0.60266843011728299,4.0984842315879683E-4,7.2397303794942483E-2,-0.14570291297531829,4.151571826536232,2.7488220924114146,0.66211599058490356,1.0508489355914474,201.81772598162422,0.12173358437914916,-45.620239251167327,-2.751748002940339E-2,8.9528097257392497E-2,1.2000999999999999,null,8.9528097257392497E-2,1.2,1.7436601671452174,0.13519302785768425,0.13519302785768425,-1.2000999999999999,8.1115816714610548E-3,6.4892653371688452E-2,0.10398492269637032,0.10398492269636107]
[null,0.60266843011728921,4.0984842315879683E-4,7.2397303794942483E-2,-0.14570291297531829,4.1515718265361841,2.7488220924117619,0.66211599058499482,1.0508489355914461,201.81772598162445,0.1217335843791493,-45.620239251169167,-2.75174800294045E-2,8.95280972574478E-2,1.2000999999999999,null,8.95280972574478E-2,1.2,1.7436601671451972,0.13519302785768425,0.13519302785768425,-1.2000999999999999,8.1115816714610548E-3,6.4892653371688452E-2,0.10398492269636107,0.10398492269637032]
[null,0.60266843011728299,4.0984842315879683E-4,7.2397303794942483E-2,-0.14570291297531829,4.151571826536232,2.7488220924114146,0.66211599058490356,1.0508489355914474,201.81772598162422,0.12173358437914916,-45.620239251167327,-2.751748002940339E-2,8.9528097257392497E-2,1.2000999999999999,null,8.9528097257392497E-2,1.2,1.7436601671452174,0.13519302785768425,0.13519302785768425,-1.2000999999999999,8.1115816714610548E-3,6.4892653371688452E-2,0.10398492269637032,0.10398492269636107]
[null,0.60266843011728921,4.0984842315879683E-4,7.2397303794942483E-2,-0.14570291297531829,4.1515718265361841,2.7488220924117619,0.66211599058499482,1.0508489355914461,201.81772598162445,0.1217335843791493,-45.620239251169167,-2.75174800294045E-2,8.95280972574478E-2,1.2000999999999999,null,8.95280972574478E-2,1.2,1.7436601671451972,0.13519302785768425,0.13519302785768425,-1.2000999999999999,8.1115816714610548E-3,6.4892653371688452E-2,0.10398492269636107,0.10398492269637032]
[null,0.60266843011728299,4.0984842315879683E-4,7.2397303794942483E-2,-0.14570291297531829,4.151571826536232,2.7488220924114146,0.66211599058490356,1.0508489355914474,201.81772598162422,0.12173358437914916,-45.620239251167327,-2.751748002940339E-2,8.9528097257392497E-2,1.2000999999999999,null,8.9528097257392497E-2,1.2,1.7436601671452174,0.13519302785768425,0.13519302785768425,-1.2000999999999999,8.1115816714610548E-3,6.4892653371688452E-2,0.10398492269637032,0.10398492269636107]
[null,0.60266843011728921,4.0984842315879683E-4,7.2397303794942483E-2,-0.14570291297531829,4.1515718265361841,2.7488220924117619,0.66211599058499482,1.0508489355914461,201.81772598162445,0.1217335843791493,-45.620239251169167,-2.75174800294045E-2,8.95280972574478E-2,1.2000999999999999,null,8.95280972574478E-2,1.2,1.7436601671451972,0.13519302785768425,{"$f":"IF(L643<$O$606,$Q$606*C644*$L$606*$N$606,-$L$606*$O$606)","v":0.13519302785768425},-1.2000999999999999,8.1115816714610548E-3,{"$f":"IF(L643<$O$606,($C$606-$M$606)*$Q$606*C644*$L$606*$N$606,0)","v":6.4892653371688452E-2},0.10398492269636107,0.10398492269637032]
[null,0.60266843011728299,4.0984842315879683E-4,7.2397303794942483E-2,-0.14570291297531829,4.151571826536232,2.7488220924114146,0.66211599058490356,1.0508489355914474,201.81772598162422,0.12173358437914916,-45.620239251167327,-2.751748002940339E-2,8.9528097257392497E-2,1.2000999999999999,null,8.9528097257392497E-2,1.2,1.7436601671452174,0.13519302785768425,0.13519302785768425,-1.2000999999999999,8.1115816714610548E-3,6.4892653371688452E-2,0.10398492269637032,0.10398492269636107]
[null,0.60266843011728921,4.0984842315879683E-4,7.2397303794942483E-2,-0.14570291297531829,4.1515718265361841,2.7488220924117619,0.66211599058499482,1.0508489355914461,201.81772598162445,0.1217335843791493,-45.620239251169167,-2.75174800294045E-2,8.95280972574478E-2,1.2000999999999999,null,8.95280972574478E-2,1.2,1.7436601671451972,0.13519302785768425,0.13519302785768425,-1.2000999999999999,8.1115816714610548E-3,6.4892653371688452E-2,0.10398492269636107,0.10398492269637032]
[null,0.60266843011728299,4.0984842315879683E-4,7.2397303794942483E-2,-0.14570291297531829,4.151571826536232,2.7488220924114146,0.66211599058490356,1.0508489355914474,201.81772598162422,0.12173358437914916,-45.620239251167327,-2.751748002940339E-2,8.9528097257392497E-2,1.2000999999999999,null,8.9528097257392497E-2,1.2,1.7436601671452174,0.13519302785768425,0.13519302785768425,-1.2000999999999999,8.1115816714610548E-3,6.4892653371688452E-2,0.10398492269637032,0.10398492269636107]
[null,0.60266843011728921,4.0984842315879683E-4,7.2397303794942483E-2,-0.14570291297531829,4.1515718265361841,2.7488220924117619,0.66211599058499482,1.0508489355914461,201.81772598162445,0.1217335843791493,-45.620239251169167,-2.75174800294045E-2,8.95280972574478E-2,1.2000999999999999,null,8.95280972574478E-2,1.2,1.7436601671451972,0.13519302785768425,0.13519302785768425,-1.2000999999999999,8.1115816714610548E-3,6.4892653371688452E-2,0.10398492269636107,0.10398492269637032]
[null,0.60266843011728299,4.0984842315879683E-4,7.2397303794942483E-2,-0.14570291297531829,4.151571826536232,2.7488220924114146,0.66211599058490356,1.0508489355914474,201.81772598162422,0.12173358437914916,-45.620239251167327,-2.751748002940339E-2,8.9528097257392497E-2,1.2000999999999999,null,8.9528097257392497E-2,1.2,1.7436601671452174,0.13519302785768425,0.13519302785768425,-1.2000999999999999,8.1115816714610548E-3,6.4892653371688452E-2,0.10398492269637032,0.10398492269636107]
[null,0.60266843011728921,4.0984842315879683E-4,7.2397303794942483E-2,-0.14570291297531829,4.1515718265361841,2.7488220924117619,0.66211599058499482,1.0508489355914461,201.81772598162445,0.1217335843791493,-45.620239251169167,-2.75174800294045E-2,8.95280972574478E-2,1.2000999999999999,null,8.95280972574478E-2,1.2,1.7436601671451972,0.13519302785768425,0.13519302785768425,-1.2000999999999999,8.1115816714610548E-3,6.4892653371688452E-2,0.10398492269636107,0.10398492269637032]
[null,0.60266843011728299,4.0984842315879683E-4,7.2397303794942483E-2,-0.14570291297531829,4.151571826536232,2.7488220924114146,0.66211599058490356,1.0508489355914474,201.81772598162422,0.12173358437914916,-45.620239251167327,-2.751748002940339E-2,8.9528097257392497E-2,1.2000999999999999,null,8.9528097257392497E-2,1.2,1.7436601671452174,0.13519302785768425,0.13519302785768425,-1.2000999999999999,8.1115816714610548E-3,6.4892653371688452E-2,0.10398492269637032,0.10398492269636107]
[null,0.60266843011728921,4.0984842315879683E-4,7.2397303794942483E-2,-0.14570291297531829,4.1515718265361841,2.7488220924117619,0.66211599058499482,1.0508489355914461,201.81772598162445,0.1217335843791493,-45.620239251169167,-2.75174800294045E-2,8.95280972574478E-2,1.2000999999999999,null,8.95280972574478E-2,1.2,1.7436601671451972,0.13519302785768425,0.13519302785768425,-1.2000999999999999,8.1115816714610548E-3,6.4892653371688452E-2,0.10398492269636107,0.10398492269637032]
[null,0.60266843011728299,4.0984842315879683E-4,7.2397303794942483E-2,-0.14570291297531829,4.151571826536232,2.7488220924114146,0.66211599058490356,1.0508489355914474,201.81772598162422,0.12173358437914916,-45.620239251167327,-2.751748002940339E-2,8.9528097257392497E-2,1.2000999999999999,null,8.9528097257392497E-2,1.2,1.7436601671452174,0.13519302785768425,0.13519302785768425,-1.2000999999999999,8.1115816714610548E-3,6.4892653371688452E-2,0.10398492269637032,0.10398492269636107]
[null,0.60266843011728921,4.0984842315879683E-4,7.2397303794942483E-2,-0.14570291297531829,4.1515718265361841,2.7488220924117619,0.66211599058499482,1.0508489355914461,201.81772598162445,0.1217335843791493,-45.620239251169167,-2.75174800294045E-2,8.95280972574478E-2,1.2000999999999999,null,8.95280972574478E-2,1.2,1.7436601671451972,0.13519302785768425,0.13519302785768425,-1.2000999999999999,8.1115816714610548E-3,6.4892653371688452E-2,0.10398492269636107,0.10398492269637032]
[null,0.60266843011728299,4.0984842315879683E-4,7.2397303794942483E-2,-0.14570291297531829,4.151571826536232,2.7488220924114146,0.66211599058490356,1.0508489355914474,201.81772598162422,0.12173358437914916,-45.620239251167327,-2.751748002940339E-2,8.9528097257392497E-2,1.2000999999999999,null,8.9528097257392497E-2,1.2,1.7436601671452174,0.13519302785768425,0.13519302785768425,-1.2000999999999999,8.1115816714610548E-3,6.4892653371688452E-2,0.10398492269637032,0.10398492269636107]
[null,0.60266843011728921,4.0984842315879683E-4,7.2397303794942483E-2,-0.14570291297531829,4.1515718265361841,2.7488220924117619,0.66211599058499482,1.0508489355914461,201.81772598162445,0.1217335843791493,-45.620239251169167,-2.75174800294045E-2,8.95280972574478E-2,1.2000999999999999,null,8.95280972574478E-2,1.2,1.7436601671451972,0.13519302785768425,0.13519302785768425,-1.2000999999999999,8.1115816714610548E-3,6.4892653371688452E-2,0.10398492269636107,0.10398492269637032]
[null,0.60266843011728299,4.0984842315879683E-4,7.2397303794942483E-2,-0.14570291297531829,4.151571826536232,2.7488220924114146,0.66211599058490356,1.0508489355914474,201.81772598162422,0.12173358437914916,-45.620239251167327,-2.751748002940339E-2,8.9528097257392497E-2,1.2000999999999999,null,8.9528097257392497E-2,1.2,1.7436601671452174,0.13519302785768425,0.13519302785768425,-1.2000999999999999,8.1115816714610548E-3,6.4892653371688452E-2,0.10398492269637032,0.10398492269636107]
[null,0.60266843011728921,4.0984842315879683E-4,7.2397303794942483E-2,-0.14570291297531829,4.1515718265361841,2.7488220924117619,0.66211599058499482,1.0508489355914461,201.81772598162445,0.1217335843791493,-45.620239251169167,-2.75174800294045E-2,8.95280972574478E-2,1.2000999999999999,null,8.95280972574478E-2,1.2,1.7436601671451972,0.13519302785768425,0.13519302785768425,-1.2000999999999999,8.1115816714610548E-3,6.4892653371688452E-2,0.10398492269636107,0.10398492269637032]
[null,0.60266843011728299,4.0984842315879683E-4,7.2397303794942483E-2,-0.14570291297531829,4.151571826536232,2.7488220924114146,0.66211599058490356,1.0508489355914474,201.81772598162422,0.12173358437914916,-45.620239251167327,-2.751748002940339E-2,8.9528097257392497E-2,1.2000999999999999,null,8.9528097257392497E-2,1.2,1.7436601671452174,0.13519302785768425,0.13519302785768425,-1.2000999999999999,8.1115816714610548E-3,6.4892653371688452E-2,0.10398492269637032,0.10398492269636107]
[null,0.60266843011728921,4.0984842315879683E-4,7.2397303794942483E-2,-0.14570291297531829,4.1515718265361841,2.7488220924117619,0.66211599058499482,1.0508489355914461,201.81772598162445,0.1217335843791493,-45.620239251169167,-2.75174800294045E-2,8.95280972574478E-2,1.2000999999999999,null,8.95280972574478E-2,1.2,1.7436601671451972,0.13519302785768425,0.13519302785768425,-1.2000999999999999,8.1115816714610548E-3,6.4892653371688452E-2,0.10398492269636107,0.10398492269637032]
[null,0.60266843011728299,4.0984842315879683E-4,7.2397303794942483E-2,-0.14570291297531829,4.151571826536232,2.7488220924114146,0.66211599058490356,1.0508489355914474,201.81772598162422,0.12173358437914916,-45.620239251167327,-2.751748002940339E-2,8.9528097257392497E-2,1.2000999999999999,null,8.9528097257392497E-2,1.2,1.7436601671452174,0.13519302785768425,0.13519302785768425,-1.2000999999999999,8.1115816714610548E-3,6.4892653371688452E-2,0.10398492269637032,0.10398492269636107]
[null,0.60266843011728921,4.0984842315879683E-4,7.2397303794942483E-2,-0.14570291297531829,4.1515718265361841,2.7488220924117619,0.66211599058499482,1.0508489355914461,201.81772598162445,0.1217335843791493,-45.620239251169167,-2.75174800294045E-2,8.95280972574478E-2,1.2000999999999999,null,8.95280972574478E-2,1.2,1.7436601671451972,0.13519302785768425,0.13519302785768425,-1.2000999999999999,8.1115816714610548E-3,6.4892653371688452E-2,0.10398492269636107,0.10398492269637032]
[null,0.60266843011728299,4.0984842315879683E-4,7.2397303794942483E-2,-0.14570291297531829,4.151571826536232,2.7488220924114146,0.66211599058490356,1.0508489355914474,201.81772598162422,0.12173358437914916,-45.620239251167327,-2.751748002940339E-2,8.9528097257392497E-2,1.2000999999999999,null,8.9528097257392497E-2,1.2,1.7436601671452174,0.13519302785768425,0.13519302785768425,-1.2000999999999999,8.1115816714610548E-3,6.4892653371688452E-2,0.10398492269637032,0.10398492269636107]
[null,0.60266843011728921,4.0984842315879683E-4,7.2397303794942483E-2,-0.14570291297531829,4.1515718265361841,2.7488220924117619,0.66211599058499482,1.0508489355914461,201.81772598162445,0.1217335843791493,-45.620239251169167,-2.75174800294045E-2,8.95280972574478E-2,1.2000999999999999,null,8.95280972574478E-2,1.2,1.7436601671451972,0.13519302785768425,0.13519302785768425,-1.2000999999999999,8.1115816714610548E-3,6.4892653371688452E-2,0.10398492269636107,0.10398492269637032]
[null,0.60266843011728299,4.0984842315879683E-4,7.2397303794942483E-2,-0.14570291297531829,4.151571826536232,2.7488220924114146,0.66211599058490356,1.0508489355914474,201.81772598162422,0.12173358437914916,-45.620239251167327,-2.751748002940339E-2,8.9528097257392497E-2,1.2000999999999999,null,8.9528097257392497E-2,1.2,1.7436601671452174,0.13519302785768425,0.13519302785768425,-1.2000999999999999,8.1115816714610548E-3,6.4892653371688452E-2,0.10398492269637032,0.10398492269636107]
[null,0.60266843011728921,4.0984842315879683E-4,7.2397303794942483E-2,-0.14570291297531829,4.1515718265361841,2.7488220924117619,0.66211599058499482,1.0508489355914461,201.81772598162445,0.1217335843791493,-45.620239251169167,-2.75174800294045E-2,8.95280972574478E-2,1.2000999999999999,null,8.95280972574478E-2,1.2,1.7436601671451972,0.13519302785768425,0.13519302785768425,-1.2000999999999999,8.1115816714610548E-3,6.4892653371688452E-2,0.10398492269636107,0.10398492269637032]
[null,0.60266843011728299,4.0984842315879683E-4,7.2397303794942483E-2,-0.14570291297531829,4.151571826536232,2.7488220924114146,0.66211599058490356,1.0508489355914474,201.81772598162422,0.12173358437914916,-45.620239251167327,-2.751748002940339E-2,8.9528097257392497E-2,1.2000999999999999,null,8.9528097257392497E-2,1.2,1.7436601671452174,0.13519302785768425,0.13519302785768425,-1.2000999999999999,8.1115816714610548E-3,6.4892653371688452E-2,0.10398492269637032,0.10398492269636107]
[null,0.60266843011728921,4.0984842315879683E-4,7.2397303794942483E-2,-0.14570291297531829,4.1515718265361841,2.7488220924117619,0.66211599058499482,1.0508489355914461,201.81772598162445,0.1217335843791493,-45.620239251169167,-2.75174800294045E-2,8.95280972574478E-2,1.2000999999999999,null,8.95280972574478E-2,1.2,1.7436601671451972,0.13519302785768425,0.13519302785768425,-1.2000999999999999,8.1115816714610548E-3,6.4892653371688452E-2,0.10398492269636107,0.10398492269637032]
[null,0.60266843011728299,4.0984842315879683E-4,7.2397303794942483E-2,-0.14570291297531829,4.151571826536232,2.7488220924114146,0.66211599058490356,1.0508489355914474,201.81772598162422,0.12173358437914916,-45.620239251167327,-2.751748002940339E-2,8.9528097257392497E-2,1.2000999999999999,null,8.9528097257392497E-2,1.2,1.7436601671452174,0.13519302785768425,0.13519302785768425,-1.2000999999999999,8.1115816714610548E-3,6.4892653371688452E-2,0.10398492269637032,0.10398492269636107]
[null,0.60266843011728921,4.0984842315879683E-4,7.2397303794942483E-2,-0.14570291297531829,4.1515718265361841,2.7488220924117619,0.66211599058499482,1.0508489355914461,201.81772598162445,0.1217335843791493,-45.620239251169167,-2.75174800294045E-2,8.95280972574478E-2,1.2000999999999999,null,8.95280972574478E-2,1.2,1.7436601671451972,0.13519302785768425,0.13519302785768425,-1.2000999999999999,8.1115816714610548E-3,6.4892653371688452E-2,0.10398492269636107,0.10398492269637032]
[null,0.60266843011728299,4.0984842315879683E-4,7.2397303794942483E-2,-0.14570291297531829,4.151571826536232,2.7488220924114146,0.66211599058490356,1.0508489355914474,201.81772598162422,0.12173358437914916,-45.620239251167327,-2.751748002940339E-2,8.9528097257392497E-2,1.2000999999999999,null,8.9528097257392497E-2,1.2,1.7436601671452174,0.13519302785768425,0.13519302785768425,-1.2000999999999999,8.1115816714610548E-3,6.4892653371688452E-2,0.10398492269637032,0.10398492269636107]
[null,0.60266843011728921,4.0984842315879683E-4,7.2397303794942483E-2,-0.14570291297531829,4.1515718265361841,2.7488220924117619,0.66211599058499482,1.0508489355914461,201.81772598162445,0.1217335843791493,-45.620239251169167,-2.75174800294045E-2,8.95280972574478E-2,1.2000999999999999,null,8.95280972574478E-2,1.2,1.7436601671451972,0.13519302785768425,0.13519302785768425,-1.2000999999999999,8.1115816714610548E-3,6.4892653371688452E-2,0.10398492269636107,0.10398492269637032]
[null,0.60266843011728299,4.0984842315879683E-4,7.2397303794942483E-2,-0.14570291297531829,4.151571826536232,2.7488220924114146,0.66211599058490356,1.0508489355914474,201.81772598162422,0.12173358437914916,-45.620239251167327,-2.751748002940339E-2,8.9528097257392497E-2,1.2000999999999999,null,8.9528097257392497E-2,1.2,1.7436601671452174,0.13519302785768425,0.13519302785768425,-1.2000999999999999,8.1115816714610548E-3,6.4892653371688452E-2,0.10398492269637032,0.10398492269636107]
[null,0.60266843011728921,4.0984842315879683E-4,7.2397303794942483E-2,-0.14570291297531829,4.1515718265361841,2.7488220924117619,0.66211599058499482,1.0508489355914461,201.81772598162445,0.1217335843791493,-45.620239251169167,-2.75174800294045E-2,8.95280972574478E-2,1.2000999999999999,null,8.95280972574478E-2,1.2,1.7436601671451972,0.13519302785768425,0.13519302785768425,-1.2000999999999999,8.1115816714610548E-3,6.4892653371688452E-2,0.10398492269636107,0.10398492269637032]
[null,0.60266843011728299,4.0984842315879683E-4,7.2397303794942483E-2,-0.14570291297531829,4.151571826536232,2.7488220924114146,0.66211599058490356,1.0508489355914474,201.81772598162422,0.12173358437914916,-45.620239251167327,-2.751748002940339E-2,8.9528097257392497E-2,1.2000999999999999,null,8.9528097257392497E-2,1.2,1.7436601671452174,0.13519302785768425,0.13519302785768425,-1.2000999999999999,8.1115816714610548E-3,6.4892653371688452E-2,0.10398492269637032,0.10398492269636107]
[null,0.60266843011728921,4.0984842315879683E-4,7.2397303794942483E-2,-0.14570291297531829,4.1515718265361841,2.7488220924117619,0.66211599058499482,1.0508489355914461,201.81772598162445,0.1217335843791493,-45.620239251169167,-2.75174800294045E-2,8.95280972574478E-2,1.2000999999999999,null,8.95280972574478E-2,1.2,1.7436601671451972,0.13519302785768425,0.13519302785768425,-1.2000999999999999,8.1115816714610548E-3,6.4892653371688452E-2,0.10398492269636107,0.10398492269637032]
[null,{"$f":"MIN(0.5*(-(T677+U677+V677)+SQRT((T677+U677+V677)^2+4*S677*(W677+X677)))/S677,1000*$C$6)","v":0.60266843011728299},4.0984842315879683E-4,{"$f":"IF($C$2=1,C677/($Z$606*$Z$5),2^(1/3)*$Z$5/C677)","v":7.2397303794942483E-2},{"$f":"IF($C$2=1,-($Z$606-2)*C677/$Z$5,3*($Z$5/C677)^2)","v":-0.14570291297531829},{"$f":"IF($C$2=1,0.5*($Z$606*C677*$F$606/$Z$5)*(1-Y677^2+(D677-E677)*(E677^2*(1-Y677^2)+2*E677*(1-Y677)+2*LN((1-E677)/(1-E677*Y677)))/(E677^3)),$F$606*E677*(LN((1-D677+D677^2)/(1+D677)^2)/(6*D677)+ATAN((2-D677)/(D677*3^0.5))/(D677*3^0.5)-LN((Y677^2-D677*Y677+D677^2)/(Y677+D677)^2)/(6*D677)-ATAN((2*Y677-D677)/(D677*3^0.5))/(D677*3^0.5)))","v":4.151571826536232},{"$f":"IF($C$2=1,($Z$606*C677*$F$606/$Z$5)*(1-Y677^3-(D677-E677)*(-2*E677^3*(1-Y677^3)-3*E677^2*(1-Y677^2)-6*E677*(1-Y677)-6*LN((1-E677)/(1-E677*Y677)))/(2*E677^4))/3,$F$606*E677*(LN((1+D677^3)/(D677^3+Y677^3)))/3)","v":2.7488220924114146},{"$f":"G677/F677","v":0.66211599058490356},{"$f":"F677*B677*$D$606","v":1.0508489355914474},{"$f":"MAX(MIN($K$606,$Q$606*$J$606*C677*(B677-$I$606)/B677),-$K$606)","v":201.81772598162422},{"$f":"J677*$H$606","v":0.12173358437914916},{"$f":"MIN($O$606,$Q$606*$N$606*C677*(C$606-B677-$M$606)/B677)","v":-45.620239251167327},{"$f":"L677*$L$606","v":-2.751748002940339E-2},{"$f":"(0.5*$C$606-B677+H677*B677)*I677+(0.5*$C$606-$I$606)*K677+(0.5*$C$606-$M$606)*M677","v":8.9528097257392497E-2},{"$f":"I677+K677-M677","v":1.2000999999999999},null,{"$f":"N677-P677*O677","v":8.9528097257392497E-2},{"$f":"R676","v":1.2},{"$f":"F677*$D$606","v":1.7436601671452174},{"$f":"IF(ABS(J676)<$K$606,$Q$606*C677*$H$606*$J$606,IF(J676>0,1,-1)*$H$606*$K$606)","v":0.13519302785768425},0.13519302785768425,{"$f":"-(R677+0.0001)","v":-1.2000999999999999},{"$f":"IF(ABS(J676)<$K$606,$I$606*$Q$606*C677*$H$606*$J$606,0)","v":8.1115816714610548E-3},6.4892653371688452E-2,{"$f":"IF(B676<$C$606,0,(B676-$C$606)/B676)","v":0.10398492269637032},{"$f":"IF(B677<=$C$606,0,(B677-$C$606)/B677)","v":0.10398492269636107}]
[null,{"$f":"MIN(0.5*(-(T678+U678+V678)+SQRT((T678+U678+V678)^2+4*S678*(W678+X678)))/S678,1000*$C$6)","v":0.60266843011728921},4.0984842315879683E-4,{"$f":"IF($C$2=1,C678/($Z$606*$Z$5),2^(1/3)*$Z$5/C678)","v":7.2397303794942483E-2},{"$f":"IF($C$2=1,-($Z$606-2)*C678/$Z$5,3*($Z$5/C678)^2)","v":-0.14570291297531829},{"$f":"IF($C$2=1,0.5*($Z$606*C678*$F$606/$Z$5)*(1-Y678^2+(D678-E678)*(E678^2*(1-Y678^2)+2*E678*(1-Y678)+2*LN((1-E678)/(1-E678*Y678)))/(E678^3)),$F$606*E678*(LN((1-D678+D678^2)/(1+D678)^2)/(6*D678)+ATAN((2-D678)/(D678*3^0.5))/(D678*3^0.5)-LN((Y678^2-D678*Y678+D678^2)/(Y678+D678)^2)/(6*D678)-ATAN((2*Y678-D678)/(D678*3^0.5))/(D678*3^0.5)))","v":4.1515718265361841},{"$f":"IF($C$2=1,($Z$606*C678*$F$606/$Z$5)*(1-Y678^3-(D678-E678)*(-2*E678^3*(1-Y678^3)-3*E678^2*(1-Y678^2)-6*E678*(1-Y678)-6*LN((1-E678)/(1-E678*Y678)))/(2*E678^4))/3,$F$606*E678*(LN((1+D678^3)/(D678^3+Y678^3)))/3)","v":2.7488220924117619},{"$f":"G678/F678","v":0.66211599058499482},{"$f":"F678*B678*$D$606","v":1.0508489355914461},{"$f":"MAX(MIN($K$606,$Q$606*$J$606*C678*(B678-$I$606)/B678),-$K$606)","v":201.81772598162445},{"$f":"J678*$H$606","v":0.1217335843791493},{"$f":"MIN($O$606,$Q$606*$N$606*C678*(C$606-B678-$M$606)/B678)","v":-45.620239251169167},{"$f":"L678*$L$606","v":-2.75174800294045E-2},{"$f":"(0.5*$C$606-B678+H678*B678)*I678+(0.5*$C$606-$I$606)*K678+(0.5*$C$606-$M$606)*M678","v":8.95280972574478E-2},{"$f":"I678+K678-M678","v":1.2000999999999999},null,{"$f":"N678-P678*O678","v":8.95280972574478E-2},{"$f":"R677","v":1.2},{"$f":"F678*$D$606","v":1.7436601671451972},{"$f":"IF(ABS(J677)<$K$606,$Q$606*C678*$H$606*$J$606,IF(J677>0,1,-1)*$H$606*$K$606)","v":0.13519302785768425},0.13519302785768425,{"$f":"-(R678+0.0001)","v":-1.2000999999999999},{"$f":"IF(ABS(J677)<$K$606,$I$606*$Q$606*C678*$H$606*$J$606,0)","v":8.1115816714610548E-3},6.4892653371688452E-2,{"$f":"IF(B677<$C$606,0,(B677-$C$606)/B677)","v":0.10398492269636107},{"$f":"IF(B678<=$C$606,0,(B678-$C$606)/B678)","v":0.10398492269637032}]
[null,null,{"$f":"IF(C606*J679/(J679-L679)<=0,B678,C606*J679/(J679-L679))","v":0.56600724169931016},null,null,null,null,null,null,{"$f":"$R678/($J609*N609)+($Q678-R608)/($M609*N609)","v":4.8707821278627412E-4},null,{"$f":"$R678/($J609*$N$609)-($Q678-R608)/($M609*N609)","v":2.2380563132671502E-5},null,null,{"$f":"SIGN(J679-L679)","v":1},{"$f":"IF(Q611=0.0001,ABS(Q608)*($Q$6*C678/B678)/Q611,IF(B678>10*$C$6,(L679-J679)/$C$6,$Q$6*C678/B678))*IF(B678>10*C606,O679*P608,P608)","v":1.8594938896482767E-3},null,null,null,null,null,null,null,null,null,null,{"$f":"N678/($Q$6*C678/B678)","v":48.146486393876799}]
[null,{"$f":"IF(AND(B678<>1000*$C$6,C680<C606,B678<C606),B678,IF(AND(B678<>1000*$C$6,C680>C606,B678>C606),B678*C680/C679,IF(C606*J680/(J680-L680)<=0,B678,C606*J680/(J680-L680))))","v":0.60499148984742579},{"$f":"IF(C606*J680/(J680-L680)<=0,B678,C606*J680/(J680-L680))","v":0.56818898636096682},null,null,null,null,null,null,{"$f":"$R678/($J609*N609)+($Q680-R608)/($M609*N609)","v":4.8537819758988983E-4},null,{"$f":"$R678/($J609*N609)-($Q680-R608)/($M609*N609)","v":2.4080578329055733E-5},null,null,{"$f":"SIGN(J680-L680)","v":1},null,{"$f":"MAX(ABS(INDEX(Snitkræfter!$G$286:$U$286,B609+1)),0.0000001)","v":8.887305144021812E-2}]
[null,{"$f":"MIN(0.5*(-(T681+U681+V681)+SQRT((T681+U681+V681)^2+4*S681*(W681+X681)))/S681,1000*$C$6)","v":0.60456973908707312},{"$f":"MIN(MAX(IF(Q608=0,0.001*Z605,IF(OR(AND(B678<>1000*$C$6,C680<C606,B678<C606),AND(B678<>1000*$C$6,C680>C606,B678>C606)),C678*J680/J679,IF(B680>C606,J680,C678*MIN(Q680/Q611,2)))),0.0001*$Z$5),0.9*K606/(J606*Q606))","v":4.0841795772369056E-4},{"$f":"IF($C$2=1,C681/($Z$606*$Z$5),2^(1/3)*$Z$5/C681)","v":7.2144620522733266E-2},{"$f":"IF($C$2=1,-($Z$606-2)*C681/$Z$5,3*($Z$5/C681)^2)","v":-0.14519437623581075},{"$f":"IF($C$2=1,0.5*($Z$606*C681*$F$606/$Z$5)*(1-Y681^2+(D681-E681)*(E681^2*(1-Y681^2)+2*E681*(1-Y681)+2*LN((1-E681)/(1-E681*Y681)))/(E681^3)),$F$606*E681*(LN((1-D681+D681^2)/(1+D681)^2)/(6*D681)+ATAN((2-D681)/(D681*3^0.5))/(D681*3^0.5)-LN((Y681^2-D681*Y681+D681^2)/(Y681+D681)^2)/(6*D681)-ATAN((2*Y681-D681)/(D681*3^0.5))/(D681*3^0.5)))","v":4.1390720143696491},{"$f":"IF($C$2=1,($Z$606*C681*$F$606/$Z$5)*(1-Y681^3-(D681-E681)*(-2*E681^3*(1-Y681^3)-3*E681^2*(1-Y681^2)-6*E681*(1-Y681)-6*LN((1-E681)/(1-E681*Y681)))/(2*E681^4))/3,$F$606*E681*(LN((1+D681^3)/(D681^3+Y681^3)))/3)","v":2.7407021886144438},{"$f":"G681/F681","v":0.66215378207954012},{"$f":"F681*B681*$D$606","v":1.0509902288718271},{"$f":"MAX(MIN($K$606,$Q$606*$J$606*C681*(B681-$I$606)/B681),-$K$606)","v":201.18326566708691},{"$f":"J681*$H$606","v":0.12135088693342538},{"$f":"MIN($O$606,$Q$606*$N$606*C681*(C$606-B681-$M$606)/B681)","v":-46.020454524057158},{"$f":"L681*$L$606","v":-2.7758884194747094E-2},{"$f":"(0.5*$C$606-B681+H681*B681)*I681+(0.5*$C$606-$I$606)*K681+(0.5*$C$606-$M$606)*M681","v":8.8755246728544179E-2},{"$f":"I681+K681-M681","v":1.2000999999999997},null,{"$f":"N681-P681*O681","v":8.8755246728544179E-2},{"$f":"R678","v":1.2},{"$f":"F681*$D$606","v":1.7384102460352526},{"$f":"IF(ABS(J680)<$K$606,$Q$606*C681*$H$606*$J$606,IF(J680>0,1,-1)*$H$606*$K$606)","v":0.13472117303895081},{"$f":"IF(L678<$O$606,$Q$606*C681*$L$606*$N$606,-$L$606*$O$606)","v":0.13472117303895081},{"$f":"-(R681+0.0001)","v":-1.2000999999999999},{"$f":"IF(ABS(J680)<$K$606,$I$606*$Q$606*C681*$H$606*$J$606,0)","v":8.0832703823370492E-3},{"$f":"IF(L678<$O$606,($C$606-$M$606)*$Q$606*C681*$L$606*$N$606,0)","v":6.4666163058696394E-2},{"$f":"IF(B680<$C$406,0,IF(C678*J680/J679=C681,Y678,(B680-$C$6)/B680))","v":0.10398492269636107},{"$f":"IF(B681<=$C$606,0,(B681-$C$606)/B681)","v":0.10680279695205425}]
[null,{"$f":"MIN(0.5*(-(T682+U682+V682)+SQRT((T682+U682+V682)^2+4*S682*(W682+X682)))/S682,1000*$C$6)","v":0.61608590281321896},{"$f":"0.98*C681","v":4.0024959856921674E-4},7.0701728112278595E-2,{"$f":"IF($C$2=1,-($Z$606-2)*C682/$Z$5,3*($Z$5/C682)^2)","v":-0.14229048871109454},{"$f":"IF($C$2=1,0.5*($Z$606*C682*$F$606/$Z$5)*(1-Y682^2+(D682-E682)*(E682^2*(1-Y682^2)+2*E682*(1-Y682)+2*LN((1-E682)/(1-E682*Y682)))/(E682^3)),$F$606*E682*(LN((1-D682+D682^2)/(1+D682)^2)/(6*D682)+ATAN((2-D682)/(D682*3^0.5))/(D682*3^0.5)-LN((Y682^2-D682*Y682+D682^2)/(Y682+D682)^2)/(6*D682)-ATAN((2*Y682-D682)/(D682*3^0.5))/(D682*3^0.5)))","v":4.0647087462077298},{"$f":"IF($C$2=1,($Z$606*C682*$F$606/$Z$5)*(1-Y682^3-(D682-E682)*(-2*E682^3*(1-Y682^3)-3*E682^2*(1-Y682^2)-6*E682*(1-Y682)-6*LN((1-E682)/(1-E682*Y682)))/(2*E682^4))/3,$F$606*E682*(LN((1+D682^3)/(D682^3+Y682^3)))/3)","v":2.693868175091584},{"$f":"G682/F682","v":0.66274568321897476},{"$f":"F682*B682*$D$606","v":1.0517680981836741},{"$f":"MAX(MIN($K$606,$Q$606*$J$606*C682*(B682-$I$606)/B682),-$K$606)","v":197.5656528962302},0.11916879431816982,{"$f":"MIN($O$606,$Q$606*$N$606*C682*(C$606-B682-$M$606)/B682)","v":-48.348465773456404},-2.9163107498155812E-2,{"$f":"(0.5*$C$606-B682+H682*B682)*I682+(0.5*$C$606-$I$606)*K682+(0.5*$C$606-$M$606)*M682","v":8.4344697747896283E-2},{"$f":"I682+K682-M682","v":1.2000999999999997},null,{"$f":"N682-P682*O682","v":8.4344697747896283E-2},{"$f":"R681","v":1.2},1.7071776734072464,0.13202674957817181,{"$f":"IF(L681<$O$606,$Q$606*C682*$L$606*$N$606,-$L$606*$O$606)","v":0.13202674957817181},{"$f":"-(R682+0.0001)","v":-1.2000999999999999},7.9216049746903081E-3,{"$f":"IF(L681<$O$606,($C$606-$M$606)*$Q$606*C682*$L$606*$N$606,0)","v":6.3372839797522465E-2},{"$f":"IF(B681<$C$606,0,IF(MIN(ABS($Q$680-Q681),ABS(Q681-Q680))<=0.001*Q$680,Y681,(B681-$C$606)/B681))","v":0.10680279695205425},0.12349885375690241]
[null,0.62418739356164388,{"$f":"IF(Z682>0,0.99*C682,0.98*C682)","v":3.9624710258352459E-4},6.9994710831155812E-2,-0.14086758382398359,4.0119379406878757,2.66892841499036,{"$f":"G683/F683","v":0.66524668488086158},1.0517644562581943,195.86390514546861,0.11814232425761514,-50.056251341327602,-3.0193219484190532E-2,8.2680794962800813E-2,{"$f":"I683+K683-M683","v":1.2000999999999999},null,{"$f":"N683-P683*O683","v":8.2680794962800813E-2},{"$f":"R682","v":1.2},1.6850139350889077,0.13070648208239008,0.13070648208239008,{"$f":"-(R683+0.0001)","v":-1.2000999999999999},7.8423889249434053E-3,6.2739111399547243E-2,{"$f":"IF(B682<$C$606,0,IF(MIN(ABS($Q$680-Q682),ABS(Q682-Q681))<=0.001*Q$680,Y682,(B682-$C$606)/B682))","v":0.12349885375690241},0.13487519041560012]
[null,0.60551093186800098,{"$f":"IF(MIN(ABS($Q$680-Q683),10*ABS(Q683-Q682))<=0.001*Q$680,C683,MAX(0.9*C683,MIN($W$6,1.05*C683,IF(C683=$W$6,0.5*(C683+C682),C683+IF(C683=C682,0,(C683-C682)*(Q683-Q$680)/(Q682-Q683))))))","v":4.1114249305660257E-4},7.2625893600903574E-2,-0.14616296050276947,4.1279866383258312,2.7519711627877022,0.66666183878536167,1.0498072351667589,202.56003331928088,0.12218133361665724,-46.60492953653231,-2.8111431216583653E-2,9.1309644978371921E-2,1.2000999999999997,null,9.1309644978371921E-2,1.2,1.7337543880968491,0.13561989110238204,0.13561989110238204,-1.2000999999999999,8.1371934661429238E-3,6.509754772914339E-2,0.13487519041560012,0.10819116290089056]
[null,0.6071079914906683,{"$f":"IF(MIN(ABS($Q$680-Q684),10*ABS(Q684-Q683))<=0.001*Q$680,C684,MAX(0.9*C684,MIN($W$6,1.05*C684,IF(C684=$W$6,0.5*(C684+C683),C684+IF(C684=C683,0,(C684-C683)*(Q684-Q$680)/(Q683-Q684))))))","v":4.0693636916877448E-4},7.1882906653291806E-2,-0.14466766500286665,4.1219224746522913,2.7318377828597278,0.66275816676784405,1.0510298713598871,200.5457854820734,0.12096636794474426,-46.592212855621497,-2.8103760695368782E-2,8.8089032028003514E-2,1.2001000000000002,null,8.8089032028003514E-2,1.2,1.7312074393539623,0.13423245469465506,0.13423245469465506,-1.2000999999999999,8.0539472816793037E-3,6.4431578253434443E-2,0.10819116290089056,0.11053715719652121]
[null,0.60605111637463316,4.079602993426439E-4,7.2063777872195353E-2,-0.14503167667300132,4.1284570246989754,2.7373928248555361,0.66305469779115167,1.0508635152638743,201.01194714450415,0.12124755003512717,-46.401846974377079,-2.7988934700998554E-2,8.8724742888423164E-2,1.2000999999999999,null,8.8724742888423164E-2,1.2,1.7339519503735696,0.13457020936857414,0.13457020936857414,-1.2000999999999999,8.0742125621144478E-3,6.459370049691561E-2,0.11053715719652121,0.10898604851971486]
[null,0.60552053902327929,4.0819917775526926E-4,7.2105974333207951E-2,-0.14511659899696241,4.1321442755413642,2.7389253811889933,0.66283391831234129,1.0508812562000611,201.1102835015123,0.12130686512826462,-46.274098558105983,-2.7911878671674072E-2,8.8801931293762487E-2,1.2000999999999999,null,8.8801931293762487E-2,1.2,1.7355005957273728,0.13464900605063468,0.13464900605063468,-1.2000999999999999,8.0789403630380802E-3,6.4631522904304656E-2,0.10898604851971486,0.10820531229042309]
[null,0.60552053902327929,4.0819917775526926E-4,7.2105974333207951E-2,-0.14511659899696241,4.1321442755413642,2.7389253811889933,0.66283391831234129,1.0508812562000611,201.1102835015123,0.12130686512826462,-46.274098558105983,-2.7911878671674072E-2,8.8801931293762487E-2,1.2000999999999999,null,8.8801931293762487E-2,1.2,1.7355005957273728,0.13464900605063468,0.13464900605063468,-1.2000999999999999,8.0789403630380802E-3,6.4631522904304656E-2,0.10898604851971486,0.10820531229042309]
[null,0.60552053902327929,4.0819917775526926E-4,7.2105974333207951E-2,-0.14511659899696241,4.1321442755413642,2.7389253811889933,0.66283391831234129,1.0508812562000611,201.1102835015123,0.12130686512826462,-46.274098558105983,-2.7911878671674072E-2,8.8801931293762487E-2,1.2000999999999999,null,8.8801931293762487E-2,1.2,1.7355005957273728,0.13464900605063468,0.13464900605063468,-1.2000999999999999,8.0789403630380802E-3,6.4631522904304656E-2,0.10898604851971486,0.10820531229042309]
[null,0.60552053902327929,4.0819917775526926E-4,7.2105974333207951E-2,-0.14511659899696241,4.1321442755413642,2.7389253811889933,0.66283391831234129,1.0508812562000611,201.1102835015123,0.12130686512826462,-46.274098558105983,-2.7911878671674072E-2,8.8801931293762487E-2,1.2000999999999999,null,8.8801931293762487E-2,1.2,1.7355005957273728,0.13464900605063468,0.13464900605063468,-1.2000999999999999,8.0789403630380802E-3,6.4631522904304656E-2,0.10898604851971486,0.10820531229042309]
[null,0.60552053902327929,4.0819917775526926E-4,7.2105974333207951E-2,-0.14511659899696241,4.1321442755413642,2.7389253811889933,0.66283391831234129,1.0508812562000611,201.1102835015123,0.12130686512826462,-46.274098558105983,-2.7911878671674072E-2,8.8801931293762487E-2,1.2000999999999999,null,8.8801931293762487E-2,1.2,1.7355005957273728,0.13464900605063468,0.13464900605063468,-1.2000999999999999,8.0789403630380802E-3,6.4631522904304656E-2,0.10898604851971486,0.10820531229042309]
[null,0.60552053902327929,4.0819917775526926E-4,7.2105974333207951E-2,-0.14511659899696241,4.1321442755413642,2.7389253811889933,0.66283391831234129,1.0508812562000611,201.1102835015123,0.12130686512826462,-46.274098558105983,-2.7911878671674072E-2,8.8801931293762487E-2,1.2000999999999999,null,8.8801931293762487E-2,1.2,1.7355005957273728,0.13464900605063468,0.13464900605063468,-1.2000999999999999,8.0789403630380802E-3,6.4631522904304656E-2,0.10898604851971486,0.10820531229042309]
[null,0.60552053902327929,4.0819917775526926E-4,7.2105974333207951E-2,-0.14511659899696241,4.1321442755413642,2.7389253811889933,0.66283391831234129,1.0508812562000611,201.1102835015123,0.12130686512826462,-46.274098558105983,-2.7911878671674072E-2,8.8801931293762487E-2,1.2000999999999999,null,8.8801931293762487E-2,1.2,1.7355005957273728,0.13464900605063468,0.13464900605063468,-1.2000999999999999,8.0789403630380802E-3,6.4631522904304656E-2,0.10898604851971486,0.10820531229042309]
[null,0.60552053902327929,4.0819917775526926E-4,7.2105974333207951E-2,-0.14511659899696241,4.1321442755413642,2.7389253811889933,0.66283391831234129,1.0508812562000611,201.1102835015123,0.12130686512826462,-46.274098558105983,-2.7911878671674072E-2,8.8801931293762487E-2,1.2000999999999999,null,8.8801931293762487E-2,1.2,1.7355005957273728,0.13464900605063468,0.13464900605063468,-1.2000999999999999,8.0789403630380802E-3,6.4631522904304656E-2,0.10898604851971486,0.10820531229042309]
[null,0.60552053902327929,4.0819917775526926E-4,7.2105974333207951E-2,-0.14511659899696241,4.1321442755413642,2.7389253811889933,0.66283391831234129,1.0508812562000611,201.1102835015123,0.12130686512826462,-46.274098558105983,-2.7911878671674072E-2,8.8801931293762487E-2,1.2000999999999999,null,8.8801931293762487E-2,1.2,1.7355005957273728,0.13464900605063468,0.13464900605063468,-1.2000999999999999,8.0789403630380802E-3,6.4631522904304656E-2,0.10898604851971486,0.10820531229042309]
[null,0.60552053902327929,4.0819917775526926E-4,7.2105974333207951E-2,-0.14511659899696241,4.1321442755413642,2.7389253811889933,0.66283391831234129,1.0508812562000611,201.1102835015123,0.12130686512826462,-46.274098558105983,-2.7911878671674072E-2,8.8801931293762487E-2,1.2000999999999999,null,8.8801931293762487E-2,1.2,1.7355005957273728,0.13464900605063468,0.13464900605063468,-1.2000999999999999,8.0789403630380802E-3,6.4631522904304656E-2,0.10898604851971486,0.10820531229042309]
[null,0.60552053902327929,4.0819917775526926E-4,7.2105974333207951E-2,-0.14511659899696241,4.1321442755413642,2.7389253811889933,0.66283391831234129,1.0508812562000611,201.1102835015123,0.12130686512826462,-46.274098558105983,-2.7911878671674072E-2,8.8801931293762487E-2,1.2000999999999999,null,8.8801931293762487E-2,1.2,1.7355005957273728,0.13464900605063468,0.13464900605063468,-1.2000999999999999,8.0789403630380802E-3,6.4631522904304656E-2,0.10898604851971486,0.10820531229042309]
[null,0.60552053902327929,4.0819917775526926E-4,7.2105974333207951E-2,-0.14511659899696241,4.1321442755413642,2.7389253811889933,0.66283391831234129,1.0508812562000611,201.1102835015123,0.12130686512826462,-46.274098558105983,-2.7911878671674072E-2,8.8801931293762487E-2,1.2000999999999999,null,{"$f":"IF(B698>10*B606,Q680,IF(Q680<0.000001,0,N698-P698*O698))","v":8.8801931293762487E-2},1.2,1.7355005957273728,0.13464900605063468,0.13464900605063468,-1.2000999999999999,8.0789403630380802E-3,6.4631522904304656E-2,0.10898604851971486,0.10820531229042309]
[null,null,null,null,null,null,null,null,null,{"$f":"MAX(J678,J698)/K606","v":0.44032958395990784},null,{"$f":"MAX(L678,L698)/O606","v":-9.9535067457096352E-2},null,null,null,{"$f":"IF(Q680=0.0001,ABS(INDEX(Snitkræfter!$G$286:$U$286,B609+1))*($Q$6*C698/B698)/Q680,IF(B698>10*$C$6,(J680-L680)/$C$6,$Q$6*C698/B698))*IF(AND(B698>10*$C$6,O680=O679),P608,P608)","v":1.8432879159929318E-3},null,null,null,null,null,null,null,null,null,null,{"$f":"(Q678-Q698)/(P679-P699)","v":44.808536600688136}]
[]
[]
[null,"Tilstand:",{"$f":"C602","v":1}]
[]
[null,"L","h","b","fck","fcd","Ecd","Ac","ac","Esc","fyd_c","At","at","Est","fyd_t","Modenhed","1+f","uterm","g","EI","sc/fcd","sc","e","   emax",null,{"$f":"Stivheder!$AD$4","v":3.5000000000000001E-3}]
[null,"(m)","(m)","(m)","(Mpa)","(Mpa)","(Mpa)","(m2)","(m)","(Mpa)","(Mpa)","(m2)","(m)","(Mpa)","(Mpa)","(døgn)",null,"(m)",null,"(Mnm2)",null,"(MPa)",null,"e1",null,{"$f":"Stivheder!$AD$5","v":2.0693662482105194E-3}]
[null,{"$f":"Stivheder!$B$6","v":0.54},{"$f":"Stivheder!$C$6","v":0.54},{"$f":"Stivheder!$D$6","v":0.42},{"$f":"Stivheder!$E$6","v":25},{"$f":"Stivheder!$F$6","v":17.857142857142858},{"$f":"IF(C702=1,1000*22*((E706+8)/10)^0.3/S706,1.4*F706/Z705)","v":22482.71872144239},{"$f":"IF(P708<0,Stivheder!$X$6,Stivheder!$T$6)","v":6.0318578948924026E-4},{"$f":"IF(P708<0,Stivheder!$Y$6,Stivheder!$U$6)","v":0.06},{"$f":"IF(P708<0,Stivheder!$Z$6,Stivheder!$V$6)","v":200000},{"$f":"IF(P708<0,Stivheder!$AA$6,Stivheder!$W$6)","v":458.33333333333337},{"$f":"IF(P708<0,Stivheder!$T$6,Stivheder!$X$6)","v":6.0318578948924026E-4},{"$f":"IF(P708<0,Stivheder!$U$6,Stivheder!$Y$6)","v":0.06},{"$f":"IF(P708<0,Stivheder!$V$6,Stivheder!$Z$6)","v":200000},{"$f":"IF(P708<0,Stivheder!$W$6,Stivheder!$AA$6)","v":458.33333333333337},{"$f":"Stivheder!$P$6","v":28},{"$f":"Stivheder!$Q$6","v":2.7343237157040781},{"$f":"Stivheder!$R$6","v":0},{"$f":"Stivheder!$S$6","v":1.4},{"$f":"AA779","v":54.029604947698118},{"$f":"U606","v":0.99999990000000005},{"$f":"U706*F706","v":17.857141071428572},{"$f":"Z704","v":3.5000000000000001E-3},"k",null,{"$f":"Stivheder!$AD$6","v":2.7356687822616226}]
[]
[null,"punkt","elasttisk","e_o","sc_o/fcd","sc_u/fcd","sc_o","sc_u","hc","At","Ac","Ic","Wt","E",null,{"$f":"SIGN(Q708)","v":1},{"$f":"INDEX(Snitkræfter!$G$199:$U$199,B709+1)","v":9.0106543366875423E-3},{"$f":"INDEX(Snitkræfter!$G$59:$U$59,B709+1)*P708","v":0}]
[null,{"$f":"(ROW()-9)/100","v":7},"skøn",{"$f":"IF(C702=1,Z705*0.5*(-((Z706-2)*E709-Z706)-(((Z706-2)*E709-Z706)^2-4*E709)^0.5),G709/(1.4*F706/Z705))","v":1.0714626635054196E-4},{"$f":"MIN(0.9999,G709/F706)","v":0.13386566967541474},{"$f":"H709/F706","v":8.522884653040079E-2},{"$f":"IF(H709>0,R711/J709+MAX(Q711+Stivheder!$O$2*R711+R711*R706,D706*C706^2*0.003*E706)/M709,MIN(0.8*F706,2*(R711+Q711/(C706-M706-0.333*I709))/(((R711+L706*O706)/(F706*D706*0.5))*D706)))","v":2.3904583870609777},{"$f":"R711/J709-(Q711+Stivheder!$O$2*R711+R711*R706)/M709","v":1.5219436880428714},{"$f":"IF(H709>0,C706*G709/(G709-H709),(R711+L706*O706)/(F706*D706*0.5))","v":1.4862702156593175},{"$f":"K709+Q706*(H706+L706)*N706/G706","v":0.25614351898648502},{"$f":"C706*D706","v":0.2268},{"$f":"D706*C706^3/12","v":5.5112400000000006E-3},{"$f":"(L709+((0.5*C706-I706)^2*H706+(0.5*C706-M706)^2*L706)*Q706)/(0.5*C706)","v":2.0950773034997532E-2},{"$f":"G709/D709","v":22310.235050471139}]
[null,"hc","e0","a'","b'","N'","tN'","t'","Nc","sac","Nac","sat","Nat","Mtot","N",null,"Mo","N","A","B1","B2","B3","C1","C2","gættet x","beregnet x","EIt"]
[null,{"$f":"I709","v":1.4862702156593175},null,null,null,null,null,null,null,null,null,null,null,null,null,null,{"$f":"MAX(ABS(Q708),0.0000001)","v":9.0106543366875423E-3},{"$f":"INDEX(Snitkræfter!$G$52:$U$52,B709+1)","v":0.5}]
[null,{"$f":"MIN(0.5*(-(T712+U712+V712)+SQRT((T712+U712+V712)^2+4*S712*(W712+X712)))/S712,1000*$C$6)","v":1.4681259776037723},{"$f":"D709","v":1.0714626635054196E-4},{"$f":"IF($C$2=1,C712/($Z$706*$Z$5),2^(1/3)*$Z$5/C712)","v":1.8926755251827576E-2},{"$f":"IF($C$2=1,-($Z$706-2)*C712/$Z$5,3*($Z$5/C712)^2)","v":-3.8090967878762746E-2},{"$f":"IF($C$2=1,0.5*($Z$706*C712*$F$706/$Z$5)*(1-Y712^2+(D712-E712)*(E712^2*(1-Y712^2)+2*E712*(1-Y712)+2*LN((1-E712)/(1-E712*Y712)))/(E712^3)),$F$706*E712*(LN((1-D712+D712^2)/(1+D712)^2)/(6*D712)+ATAN((2-D712)/(D712*3^0.5))/(D712*3^0.5)-LN((Y712^2-D712*Y712+D712^2)/(Y712+D712)^2)/(6*D712)-ATAN((2*Y712-D712)/(D712*3^0.5))/(D712*3^0.5)))","v":0.71748918844558618},{"$f":"IF($C$2=1,($Z$706*C712*$F$706/$Z$5)*(1-Y712^3-(D712-E712)*(-2*E712^3*(1-Y712^3)-3*E712^2*(1-Y712^2)-6*E712*(1-Y712)-6*LN((1-E712)/(1-E712*Y712)))/(2*E712^4))/3,$F$706*E712*(LN((1+D712^3)/(D712^3+Y712^3)))/3)","v":0.59635675058007631},{"$f":"G712/F712","v":0.83117175866030979},{"$f":"F712*B712*$D$706","v":0.44241309680686164},{"$f":"MAX(MIN($K$706,$Q$706*$J$706*C712*(B712-$I$706)/B712),-$K$706)","v":56.199849723745572},{"$f":"J712*$H$706","v":3.3898950724794132E-2},{"$f":"MIN($O$706,$Q$706*$N$706*C712*(C$706-B712-$M$706)/B712)","v":-39.437189805958752},{"$f":"L712*$L$706","v":-2.3787952468344246E-2},{"$f":"(0.5*$C$706-B712+H712*B712)*I712+(0.5*$C$706-$I$706)*K712+(0.5*$C$706-$M$706)*M712","v":1.1917837057784911E-2},{"$f":"I712+K712-M712","v":0.50009999999999999},null,{"$f":"N712-P712*O712","v":1.1917837057784911E-2},{"$f":"R711","v":0.5},{"$f":"F712*$D$706","v":0.30134545914714617},{"$f":"IF(ABS(J711)<$K$706,$Q$706*C712*$H$706*$J$706,IF(J711>0,1,-1)*$H$706*$K$706)","v":3.5343379047144116E-2},{"$f":"IF(L711<$O$706,$Q$706*C712*$L$706*$N$706,-$L$706*$O$706)","v":3.5343379047144116E-2},{"$f":"-(R712+0.0001)","v":-0.50009999999999999},{"$f":"IF(ABS(J711)<$K$706,$I$706*$Q$706*C712*$H$706*$J$706,0)","v":2.1206027428286472E-3},{"$f":"IF(L711<$O$706,($C$706-$M$706)*$Q$706*C712*$L$706*$N$706,0)","v":1.6964821942629178E-2},{"$f":"IF(B711<$C$706,0,(B711-$C$706)/B711)","v":0.63667441202106501},{"$f":"IF(B712<=$C$706,0,(B712-$C$706)/B712)","v":0.63218415296937214}]
[null,{"$f":"MIN(0.5*(-(T713+U713+V713)+SQRT((T713+U713+V713)^2+4*S713*(W713+X713)))/S713,1000*$C$6)","v":1.5351030290050744},{"$f":"0.95*C712","v":1.0178895303301486E-4},{"$f":"IF($C$2=1,C713/($Z$706*$Z$5),2^(1/3)*$Z$5/C713)","v":1.7980417489236199E-2},{"$f":"IF($C$2=1,-($Z$706-2)*C713/$Z$5,3*($Z$5/C713)^2)","v":-3.6186419484824608E-2},{"$f":"IF($C$2=1,0.5*($Z$706*C713*$F$706/$Z$5)*(1-Y713^2+(D713-E713)*(E713^2*(1-Y713^2)+2*E713*(1-Y713)+2*LN((1-E713)/(1-E713*Y713)))/(E713^3)),$F$706*E713*(LN((1-D713+D713^2)/(1+D713)^2)/(6*D713)+ATAN((2-D713)/(D713*3^0.5))/(D713*3^0.5)-LN((Y713^2-D713*Y713+D713^2)/(Y713+D713)^2)/(6*D713)-ATAN((2*Y713-D713)/(D713*3^0.5))/(D713*3^0.5)))","v":0.68982280637474591},{"$f":"IF($C$2=1,($Z$706*C713*$F$706/$Z$5)*(1-Y713^3-(D713-E713)*(-2*E713^3*(1-Y713^3)-3*E713^2*(1-Y713^2)-6*E713*(1-Y713)-6*LN((1-E713)/(1-E713*Y713)))/(2*E713^4))/3,$F$706*E713*(LN((1+D713^3)/(D713^3+Y713^3)))/3)","v":0.57208021752713567},{"$f":"G713/F713","v":0.82931473450930437},{"$f":"F713*B713*$D$706","v":0.44475861340791445},{"$f":"MAX(MIN($K$706,$Q$706*$J$706*C713*(B713-$I$706)/B713),-$K$706)","v":53.489113289156585},{"$f":"J713*$H$706","v":3.226387302839933E-2},{"$f":"MIN($O$706,$Q$706*$N$706*C713*(C$706-B713-$M$706)/B713)","v":-38.259378728447139},{"$f":"L713*$L$706","v":-2.3077513563686234E-2},{"$f":"(0.5*$C$706-B713+H713*B713)*I713+(0.5*$C$706-$I$706)*K713+(0.5*$C$706-$M$706)*M713","v":5.4785458069025834E-3},{"$f":"I713+K713-M713","v":0.50009999999999999},null,{"$f":"N713-P713*O713","v":5.4785458069025834E-3},{"$f":"R712","v":0.5},{"$f":"F713*$D$706","v":0.28972557867739329},{"$f":"IF(ABS(J712)<$K$706,$Q$706*C713*$H$706*$J$706,IF(J712>0,1,-1)*$H$706*$K$706)","v":3.357621009478691E-2},3.357621009478691E-2,{"$f":"-(R713+0.0001)","v":-0.50009999999999999},{"$f":"IF(ABS(J712)<$K$706,$I$706*$Q$706*C713*$H$706*$J$706,0)","v":2.0145726056872149E-3},1.6116580845497719E-2,{"$f":"IF(B712<$C$706,0,(B712-$C$706)/B712)","v":0.63218415296937214},{"$f":"IF(B713<=$C$706,0,(B713-$C$706)/B713)","v":0.64823207967351681}]
[null,1.541714943860607,{"$f":"IF(ABS($Q$711-Q713)<=0.001*Q$711,C713,MAX(0.9*C713,MIN($W$6,1.05*C713,IF(C713=$W$6,0.5*(C713+C712),C713+IF(C713=C712,0,(C713-C712)*(Q713-Q$711)/(Q712-Q713))))))","v":1.0472757023921363E-4},1.8499506866168577E-2,-3.7231110797194635E-2,0.68431649773043979,0.57213698494289678,0.8360707170445395,0.44310880777017631,55.042928440689494,3.3201112247297049E-2,-39.440716935110984,-2.3790079982526569E-2,9.6278198495934192E-3,0.50009999999999988,null,9.6278198495934192E-3,0.5,0.28741292904678473,3.4545545427978545E-2,3.4545545427978545E-2,-0.50009999999999999,2.0727327256787132E-3,1.6581861805429705E-2,0.64823207967351681,0.64974069807756651]
[null,1.5536878357708181,{"$f":"IF(ABS($Q$711-Q714)<=0.001*Q$711,C714,MAX(0.9*C714,MIN($W$6,1.05*C714,IF(C714=$W$6,0.5*(C714+C713),C714+IF(C714=C713,0,(C714-C713)*(Q714-Q$711)/(Q713-Q714))))))","v":1.0429047855121281E-4},1.8422297200510845E-2,-3.7075722784016066E-2,0.67926529135124714,0.56835047958197593,0.83671355922127144,0.44325381258217644,54.830305274902507,3.3072860975178121E-2,-39.412941844627888,-2.3773326442645386E-2,9.1796429169672504E-3,0.50009999999999999,null,9.1796429169672504E-3,0.5,0.28529142236752381,3.4401365908397083E-2,3.4401365908397083E-2,-0.50009999999999999,2.0640819545038251E-3,1.6512655636030604E-2,0.64974069807756651,0.65243983535978811]
[null,1.5656501924673396,1.0412566974819276E-4,1.8393184698653784E-2,-3.7017132531310143E-2,0.67407326893999919,0.56478042737277179,0.8378620743423133,0.44325243616625937,54.760459168710135,3.303073079647173E-2,-39.485069861205261,-2.3816833037268902E-2,9.0928804428746443E-3,0.50009999999999999,null,9.0928804428746443E-3,0.5,0.28311077295479964,3.4347001904929272E-2,3.4347001904929272E-2,-0.50009999999999999,2.0608201142957561E-3,1.6486560914366056E-2,0.65243983535978811,0.65509537021868014]
[null,1.5775153110392626,1.039694779581427E-4,1.8365594341254388E-2,-3.696160566452919E-2,0.66899771957527354,0.56128508882757089,0.83899402405125367,0.44324874118574492,54.694705312389665,3.2991069004735106E-2,-39.556949492666462,-2.3860189809520021E-2,9.0141663715676973E-3,0.50009999999999999,null,9.0141663715676973E-3,0.5,0.28097904222161485,3.4295480318337256E-2,3.4295480318337256E-2,-0.50009999999999999,2.0577288191002347E-3,1.6461830552801884E-2,0.65509537021868014,0.65768953478857228]
[null,1.5868316699917726,1.039694779581427E-4,1.8365594341254388E-2,-3.696160566452919E-2,0.66496658728046909,0.5586390807049838,0.84010097859151744,0.44317981687685853,54.707401660142494,3.2998727261278026E-2,-39.658520274689138,-2.3921455861863408E-2,9.1155078963201241E-3,0.50009999999999999,null,9.1155078963201241E-3,0.5,0.27928596665779698,3.4295480318337256E-2,3.4295480318337256E-2,-0.50009999999999999,2.0577288191002347E-3,1.6461830552801884E-2,0.65768953478857228,0.65969925467721491]
[null,1.594151871635705,1.039694779581427E-4,1.8365594341254388E-2,-3.696160566452919E-2,0.66183307936986369,0.55657505504453564,0.84095986192538907,0.44312622571891391,54.717273532472248,3.300468183438298E-2,-39.73749525332714,-2.3969092446703068E-2,9.1939309240733538E-3,0.50009999999999999,null,9.1939309240733538E-3,0.5,0.27796989333534272,3.4295480318337256E-2,3.4295480318337256E-2,-0.50009999999999999,2.0577288191002347E-3,1.6461830552801884E-2,0.65969925467721491,0.66126188501354999]
[null,1.5999066992966238,1.039694779581427E-4,1.8365594341254388E-2,-3.696160566452919E-2,0.6593902946863478,0.55496164250113922,0.84162846643825395,0.44308443896634231,54.724970949402262,3.3009324806890943E-2,-39.799074588767247,-2.4006236226766734E-2,9.254854861846561E-3,0.50009999999999999,null,9.254854861846561E-3,0.5,0.27694392376826604,3.4295480318337256E-2,3.4295480318337256E-2,-0.50009999999999999,2.0577288191002347E-3,1.6461830552801884E-2,0.66126188501354999,0.66248031823517994]
[null,1.6044327675487942,1.039694779581427E-4,1.8365594341254388E-2,-3.696160566452919E-2,0.65748171178233072,0.55369840630312017,0.84215027791743413,0.44305178502801029,54.730986037014475,3.3012953022261163E-2,-39.847195289665009,-2.4035261949728524E-2,9.3023270038088378E-3,0.50009999999999999,null,9.3023270038088378E-3,0.5,0.27614231894857888,3.4295480318337256E-2,3.4295480318337256E-2,-0.50009999999999999,2.0577288191002347E-3,1.6461830552801884E-2,0.66248031823517994,0.66343245356114466]
[null,1.6079935798871443,1.039694779581427E-4,1.8365594341254388E-2,-3.696160566452919E-2,0.65598790733340062,0.55270807893605167,0.84255833492848553,0.44302622425979871,54.735694512257659,3.3015793107618013E-2,-39.884863091610406,-2.4057982632583283E-2,9.3394039979868646E-3,0.50009999999999999,null,9.3394039979868646E-3,0.5,0.27551492108002823,3.4295480318337256E-2,3.4295480318337256E-2,-0.50009999999999999,2.0577288191002347E-3,1.6461830552801884E-2,0.66343245356114466,0.66417776367123338]
[null,1.6107956913257873,1.039694779581427E-4,1.8365594341254388E-2,-3.696160566452919E-2,0.65481714817225678,0.55193092294537494,0.84287793086350804,0.44300618917048656,54.739385118159646,3.3018019228652697E-2,-39.914387938826337,-2.4075791600860773E-2,9.3684149251804273E-3,0.5001000000000001,null,9.3684149251804273E-3,0.5,0.27502320223234783,3.4295480318337256E-2,3.4295480318337256E-2,-0.50009999999999999,2.0577288191002347E-3,1.6461830552801884E-2,0.66417776367123338,0.66476195404052407]
[null,1.6130011871446037,1.039694779581427E-4,1.8365594341254388E-2,-3.696160566452919E-2,0.65389859593650423,0.55132057262746803,0.84312854631209988,0.44299046883746379,54.742280915274947,3.3019765932321886E-2,-39.937554315748756,-2.4089765230214329E-2,9.391146864960391E-3,0.50009999999999999,null,9.391146864960391E-3,0.5,0.27463741029333177,3.4295480318337256E-2,3.4295480318337256E-2,-0.50009999999999999,2.0577288191002347E-3,1.6461830552801884E-2,0.66476195404052407,0.66522033318777118]
[null,1.6147373607575735,1.039694779581427E-4,1.8365594341254388E-2,-3.696160566452919E-2,0.65317731821601355,0.55084092930177664,0.84332525631211053,0.4429781239475909,54.744554931762437,3.3021137586752208E-2,-39.955746447648693,-2.4100738465656885E-2,9.4089786531847096E-3,0.50009999999999999,null,9.4089786531847096E-3,0.5,0.27433447365072566,3.4295480318337256E-2,3.4295480318337256E-2,-0.50009999999999999,2.0577288191002347E-3,1.6461830552801884E-2,0.66522033318777118,0.66558028994470497]
[null,1.6161042452176622,1.039694779581427E-4,1.8365594341254388E-2,-3.696160566452919E-2,0.65261057618718166,0.55046381898482866,0.84347977043348543,0.44296842351302051,54.746341820780984,3.3022215412815588E-2,-39.970041559797004,-2.41093610741639E-2,9.4229788200340357E-3,0.50009999999999999,null,9.4229788200340357E-3,0.5,0.27409644199861627,3.4295480318337256E-2,3.4295480318337256E-2,-0.50009999999999999,2.0577288191002347E-3,1.6461830552801884E-2,0.66558028994470497,0.66586313871895619]
[null,1.6171804899204534,1.039694779581427E-4,1.8365594341254388E-2,-3.696160566452919E-2,0.65216503128098502,0.55016721004799107,0.84360121082749651,0.44296079721430792,54.747746639227287,3.302306277933921E-2,-39.981280107367461,-2.4116140006352899E-2,9.4339781673740495E-3,0.50009999999999999,null,9.4339781673740495E-3,0.5,0.2739093131380137,3.4295480318337256E-2,3.4295480318337256E-2,-0.50009999999999999,2.0577288191002347E-3,1.6461830552801884E-2,0.66586313871895619,0.66608550909084874]
[null,1.61802795553461,1.039694779581427E-4,1.8365594341254388E-2,-3.696160566452919E-2,0.65181462420237302,0.54993384794217837,0.84369670075312231,0.4429547991900048,54.748851517950229,3.3023729226484E-2,-39.990119137150984,-2.4121471583511193E-2,9.4426245900282764E-3,0.50009999999999999,null,9.4426245900282764E-3,0.5,0.27376214216499667,3.4295480318337256E-2,3.4295480318337256E-2,-0.50009999999999999,2.0577288191002347E-3,1.6461830552801884E-2,0.66608550909084874,0.66626040164950084]
[null,1.6186953124248076,1.039694779581427E-4,1.8365594341254388E-2,-3.696160566452919E-2,0.65153895257164141,0.54975020295133181,0.84377181253930145,0.44295008032375166,54.749720766665476,3.3024253544956569E-2,-39.997073126872955,-2.4125666131291738E-2,9.4494242461923821E-3,0.50009999999999999,null,9.4494242461923821E-3,0.5,0.27364636008008936,3.4295480318337256E-2,3.4295480318337256E-2,-0.50009999999999999,2.0577288191002347E-3,1.6461830552801884E-2,0.66626040164950084,0.66639799605579919]
[null,1.6192208622095021,1.039694779581427E-4,1.8365594341254388E-2,-3.696160566452919E-2,0.65132202254982496,0.54960565613692414,0.84383091175898373,0.44294636691024902,54.750404803835245,3.3024666146456855E-2,-40.002545424231144,-2.4128966943294059E-2,9.4547733678252734E-3,0.50009999999999988,null,9.4547733678252734E-3,0.5,0.27355524947092646,3.4295480318337256E-2,3.4295480318337256E-2,-0.50009999999999999,2.0577288191002347E-3,1.6461830552801884E-2,0.66639799605579919,0.66650627310770627]
[null,1.6196347522996579,1.039694779581427E-4,1.8365594341254388E-2,-3.696160566452919E-2,0.65115128363963115,0.54949186683328011,0.84387742240463315,0.44294344415465686,54.750943196196296,3.3024990897078207E-2,-40.006852563119487,-2.4131564948264864E-2,9.4589825044719689E-3,0.50009999999999999,null,9.4589825044719689E-3,0.5,0.27348353912864509,3.4295480318337256E-2,3.4295480318337256E-2,-0.50009999999999999,2.0577288191002347E-3,1.6461830552801884E-2,0.66650627310770627,0.66659149587073596]
[null,1.619960715329624,1.039694779581427E-4,1.8365594341254388E-2,-3.696160566452919E-2,0.65101687956405063,0.54940227994868018,0.84391403233136442,0.44294114336230045,54.751367018507125,3.3025246540673368E-2,-40.010243141606189,-2.4133610097026189E-2,9.4622952704262152E-3,0.50009999999999999,null,9.4622952704262152E-3,0.5,0.27342708941690125,3.4295480318337256E-2,3.4295480318337256E-2,-0.50009999999999999,2.0577288191002347E-3,1.6461830552801884E-2,0.66659149587073596,0.66665858320513494]
[null,1.6202174362287889,1.039694779581427E-4,1.8365594341254388E-2,-3.696160566452919E-2,0.65091106506700236,0.54933174135390617,0.84394285307987504,0.44293933196343971,54.751700691056406,3.3025447807213441E-2,-40.012912522000455,-2.4135220229346752E-2,9.4649029765929357E-3,0.50009999999999988,null,9.4649029765929357E-3,0.5,0.27338264732814099,3.4295480318337256E-2,3.4295480318337256E-2,-0.50009999999999999,2.0577288191002347E-3,1.6461830552801884E-2,0.66665858320513494,0.66671140062725054]
[null,1.620419627140272,1.039694779581427E-4,1.8365594341254388E-2,-3.696160566452919E-2,0.65082775078225019,0.54927619697562247,0.84396554436320559,0.44293790572714864,54.751963413921885,3.302560627791247E-2,-40.015014304924293,-2.4136487994939001E-2,9.4669559522423223E-3,0.5001000000000001,null,9.4669559522423223E-3,0.5,0.27334765532854505,3.4295480318337256E-2,3.4295480318337256E-2,-0.50009999999999999,2.0577288191002347E-3,1.6461830552801884E-2,0.66671140062725054,0.66675298734007815]
[null,1.6205788729288684,1.039694779581427E-4,1.8365594341254388E-2,-3.696160566452919E-2,0.6507621473610754,0.54923245705883872,0.8439834112756055,0.44293678267237629,54.752170288595899,3.3025731061776038E-2,-40.016669302316416,-2.4137486265847573E-2,9.4685723516636337E-3,0.50009999999999988,null,9.4685723516636337E-3,0.5,0.27332010189165168,3.4295480318337256E-2,3.4295480318337256E-2,-0.50009999999999999,2.0577288191002347E-3,1.6461830552801884E-2,0.66675298734007815,0.66678573377668482]
[null,1.6207042964366769,1.039694779581427E-4,1.8365594341254388E-2,-3.696160566452919E-2,0.65071048678225429,0.5491980113605337,0.84399748047138901,0.44293589829904845,54.752333196450849,3.3025829325479143E-2,-40.017972565155965,-2.4138272375472357E-2,9.4698451175819799E-3,0.50009999999999999,null,9.4698451175819799E-3,0.5,0.27329840444854681,3.4295480318337256E-2,3.4295480318337256E-2,-0.50009999999999999,2.0577288191002347E-3,1.6461830552801884E-2,0.66678573377668482,0.66681152065354654]
[null,1.6208030820286383,1.039694779581427E-4,1.8365594341254388E-2,-3.696160566452919E-2,0.65066980384136941,0.54917088404150272,0.84400855979385248,0.44293520184860563,54.752461487574216,3.3025906708861678E-2,-40.01899889414296,-2.4138891442532655E-2,9.4708473869433256E-3,0.50009999999999999,null,9.4708473869433256E-3,0.5,0.27328131761337515,3.4295480318337256E-2,3.4295480318337256E-2,-0.50009999999999999,2.0577288191002347E-3,1.6461830552801884E-2,0.66681152065354654,0.66683182800706287]
[null,1.6208808876826475,1.039694779581427E-4,1.8365594341254388E-2,-3.696160566452919E-2,0.65063776466208489,0.5491495196235382,0.84401728496153983,0.44293465336904014,54.752562521409907,3.3025967651035625E-2,-40.019807164828443,-2.4139378979924197E-2,9.4716366648702199E-3,0.50009999999999999,null,9.4716366648702199E-3,0.5,0.27326786115807566,3.4295480318337256E-2,3.4295480318337256E-2,-0.50009999999999999,2.0577288191002347E-3,1.6461830552801884E-2,0.66683182800706287,0.66684782077230176]
[null,1.6209421694081432,1.039694779581427E-4,1.8365594341254388E-2,-3.696160566452919E-2,0.6506125320038062,0.54913269348391947,0.84402415642480577,0.44293422140955729,54.752642091417897,3.3026015646533714E-2,-40.020443724892331,-2.4139762943908891E-2,9.4722582447067522E-3,0.50009999999999988,null,9.4722582447067522E-3,0.5,0.27325726344159862,3.4295480318337256E-2,3.4295480318337256E-2,-0.50009999999999999,2.0577288191002347E-3,1.6461830552801884E-2,0.66684782077230176,0.66686041600289114]
[null,1.620990436661716,1.039694779581427E-4,1.8365594341254388E-2,-3.696160566452919E-2,0.65059265941164768,0.54911944134428259,0.84402956811850494,0.44293388120880939,54.752704758814509,3.3026053446616813E-2,-40.020945064065266,-2.4140065344573722E-2,9.4727477480755114E-3,0.50009999999999988,null,9.4727477480755114E-3,0.5,0.273248916952892,3.4295480318337256E-2,3.4295480318337256E-2,-0.50009999999999999,2.0577288191002347E-3,1.6461830552801884E-2,0.66686041600289114,0.66687033569915355]
[null,1.6210284534681358,1.039694779581427E-4,1.8365594341254388E-2,-3.696160566452919E-2,0.65057700798736406,0.54910900396436835,0.84403383031180457,0.4429336132702672,54.752754114999064,3.3026083217565956E-2,-40.021339913541645,-2.4140303512166859E-2,9.47313329835495E-3,0.50009999999999999,null,9.47313329835495E-3,0.5,0.27324234335469288,3.4295480318337256E-2,3.4295480318337256E-2,-0.50009999999999999,2.0577288191002347E-3,1.6461830552801884E-2,0.66687033569915355,0.66687814834792802]
[null,1.6210583967758474,1.039694779581427E-4,1.8365594341254388E-2,-3.696160566452919E-2,0.65056468093214859,0.54910078336953316,0.84403718717524767,0.44293340224176098,54.752792987950329,3.302610666517776E-2,-40.021650897151815,-2.4140491093061277E-2,9.4734369418916116E-3,0.50009999999999999,null,9.4734369418916116E-3,0.5,0.27323716599150238,3.4295480318337256E-2,3.4295480318337256E-2,-0.50009999999999999,2.0577288191002347E-3,1.6461830552801884E-2,0.66687814834792802,0.66688430159331957]
[null,1.6210819811729005,1.039694779581427E-4,1.8365594341254388E-2,-3.696160566452919E-2,0.65055497204071855,0.54909430868410336,0.84403983104095814,0.44293323603381252,54.752823604636163,3.3026125132727575E-2,-40.021895830638499,-2.4140638833459818E-2,9.473676081308318E-3,0.50009999999999988,null,9.473676081308318E-3,0.5,0.2732330882571018,3.4295480318337256E-2,3.4295480318337256E-2,-0.50009999999999999,2.0577288191002347E-3,1.6461830552801884E-2,0.66688430159331957,0.66688914794469911]
[null,1.6211005571007493,1.039694779581427E-4,1.8365594341254388E-2,-3.696160566452919E-2,0.65054732516902181,0.54908920910209402,0.8440419134141125,0.44293310512579942,54.752847718822956,3.3026139678062373E-2,-40.022088744132809,-2.4140755196138185E-2,9.4738644529264761E-3,0.50009999999999999,null,9.4738644529264761E-3,0.5,0.27322987657098913,3.4295480318337256E-2,{"$f":"IF(L743<$O$706,$Q$706*C744*$L$706*$N$706,-$L$706*$O$706)","v":3.4295480318337256E-2},-0.50009999999999999,2.0577288191002347E-3,{"$f":"IF(L743<$O$706,($C$706-$M$706)*$Q$706*C744*$L$706*$N$706,0)","v":1.6461830552801884E-2},0.66688914794469911,0.66689296500782103]
[null,1.6211151881937229,1.039694779581427E-4,1.8365594341254388E-2,-3.696160566452919E-2,0.65054130233440255,0.54908519252959664,0.84404355351344984,0.44293300201988234,54.752866711665988,3.3026151134275393E-2,-40.022240686877062,-2.4140846845842334E-2,9.4740128061020536E-3,0.50009999999999999,null,9.4740128061020536E-3,0.5,0.27322734698044904,3.4295480318337256E-2,3.4295480318337256E-2,-0.50009999999999999,2.0577288191002347E-3,1.6461830552801884E-2,0.66689296500782103,0.66689597140738766]
[null,1.6211267121987427,1.039694779581427E-4,1.8365594341254388E-2,-3.696160566452919E-2,0.65053655859936188,0.54908202895631641,0.84404484528666279,0.44293292081105262,54.752881670909801,3.3026160157478682E-2,-40.022360360827619,-2.4140919031468682E-2,9.4741296473227644E-3,0.50009999999999999,null,9.4741296473227644E-3,0.5,0.27322535461173197,3.4295480318337256E-2,3.4295480318337256E-2,-0.50009999999999999,2.0577288191002347E-3,1.6461830552801884E-2,0.66689597140738766,0.66689833932376874]
[null,1.6211357889500468,1.039694779581427E-4,1.8365594341254388E-2,-3.696160566452919E-2,0.65053282229915854,0.5490795372244115,0.84404586271883442,0.44293285684865569,54.752893453238102,3.3026167264411682E-2,-40.022454619453967,-2.4140975886932634E-2,9.4742216722451256E-3,0.50009999999999999,null,9.4742216722451256E-3,0.5,0.27322378536564657,3.4295480318337256E-2,3.4295480318337256E-2,-0.50009999999999999,2.0577288191002347E-3,1.6461830552801884E-2,0.66689833932376874,0.66690020436243702]
[null,1.6211429381535805,1.039694779581427E-4,1.8365594341254388E-2,-3.696160566452919E-2,0.65052987947351026,0.54907757464583073,0.84404666406747164,0.44293280646987998,54.75290273336676,3.3026172862053407E-2,-40.022528860483291,-2.4141020668066518E-2,9.4742941456703138E-3,0.50009999999999988,null,9.4742941456703138E-3,0.5,0.2732225493788743,3.4295480318337256E-2,3.4295480318337256E-2,-0.50009999999999999,2.0577288191002347E-3,1.6461830552801884E-2,0.66690020436243702,0.66690167332496952]
[null,1.6211485691500136,1.039694779581427E-4,1.8365594341254388E-2,-3.696160566452919E-2,0.65052756160597047,0.54907602887297025,0.84404729527132594,0.44293276678986987,54.752910042706773,3.3026177270943438E-2,-40.022587335203404,-2.4141055939186733E-2,9.4743512536770748E-3,0.50009999999999999,null,9.4743512536770748E-3,0.5,0.27322157587450757,3.4295480318337256E-2,3.4295480318337256E-2,-0.50009999999999999,2.0577288191002347E-3,1.6461830552801884E-2,0.66690167332496952,0.66690283032903763]
[null,1.6211530043465232,1.039694779581427E-4,1.8365594341254388E-2,-3.696160566452919E-2,0.65052573597302832,0.5490748113499202,0.84404779240384364,0.4429327355365113,54.752915799797627,3.302618074353883E-2,-40.022633391930178,-2.4141083719949833E-2,9.4743962158360187E-3,0.50009999999999999,null,9.4743962158360187E-3,0.5,0.27322080910867186,3.4295480318337256E-2,3.4295480318337256E-2,-0.50009999999999999,2.0577288191002347E-3,1.6461830552801884E-2,0.66690283032903763,0.66690374162575072]
[null,1.6211564976854513,1.039694779581427E-4,1.8365594341254388E-2,-3.696160566452919E-2,0.65052429803839862,0.54907385239324025,0.84404818397856363,0.44293271092023112,54.75292033429146,3.3026183478681075E-2,-40.022669667880827,-2.4141105601087766E-2,9.4744316406942461E-3,0.50009999999999999,null,9.4744316406942461E-3,0.5,0.27322020517612738,3.4295480318337256E-2,3.4295480318337256E-2,-0.50009999999999999,2.0577288191002347E-3,1.6461830552801884E-2,0.66690374162575072,0.66690445939613729]
[null,1.6211592491783429,1.039694779581427E-4,1.8365594341254388E-2,-3.696160566452919E-2,0.65052316546827882,0.54907309706241025,0.84404849236561807,0.44293269153154297,54.752923905825661,3.3026185632979745E-2,-40.022698240154483,-2.4141122835477209E-2,9.4744595200398317E-3,0.50009999999999999,null,9.4744595200398317E-3,0.5,0.27321972949667711,3.4295480318337256E-2,3.4295480318337256E-2,-0.50009999999999999,2.0577288191002347E-3,1.6461830552801884E-2,0.66690445939613729,0.66690502473850743]
[null,1.6211614163658805,1.039694779581427E-4,1.8365594341254388E-2,-3.696160566452919E-2,0.65052227341283431,0.54907250215380599,0.84404873529265567,0.44293267626027122,54.752926718902508,3.3026187329787723E-2,-40.022720744769238,-2.4141136409941026E-2,9.4744815002108622E-3,0.50009999999999999,null,9.4744815002108622E-3,0.5,0.27321935483339038,3.4295480318337256E-2,3.4295480318337256E-2,-0.50009999999999999,2.0577288191002347E-3,1.6461830552801884E-2,0.66690502473850743,0.66690547002376521]
[null,1.6211631233310249,1.039694779581427E-4,1.8365594341254388E-2,-3.696160566452919E-2,0.65052157079536621,0.54907203358048251,0.84404892663152509,0.44293266423202449,54.752928934591068,3.302618866625958E-2,-40.022738470277758,-2.4141147101715877E-2,9.474498812764803E-3,0.50009999999999988,null,9.474498812764803E-3,0.5,0.2732190597340538,3.4295480318337256E-2,3.4295480318337256E-2,-0.50009999999999999,2.0577288191002347E-3,1.6461830552801884E-2,0.66690547002376521,0.66690582074772642]
[null,1.6211644678055721,1.039694779581427E-4,1.8365594341254388E-2,-3.696160566452919E-2,0.65052101738659718,0.5490716645041821,0.84404907732270107,0.44293265475811044,54.752930679753405,3.3026189718916701E-2,-40.022752431576428,-2.414115552297284E-2,9.4745124382440895E-3,0.50009999999999999,null,9.4745124382440895E-3,0.5,0.27321882730237079,3.4295480318337256E-2,3.4295480318337256E-2,-0.50009999999999999,2.0577288191002347E-3,1.6461830552801884E-2,0.66690582074772642,0.66690609699153436]
[null,1.6211655267678007,1.039694779581427E-4,1.8365594341254388E-2,-3.696160566452919E-2,0.65052058150025482,0.54907137380200366,0.84404919600808748,0.44293264729608578,54.752932054311408,3.3026190548030555E-2,-40.022763428040477,-2.4141162155883689E-2,9.4745231667250282E-3,0.50009999999999999,null,9.4745231667250282E-3,0.5,0.273218644230107,3.4295480318337256E-2,3.4295480318337256E-2,-0.50009999999999999,2.0577288191002347E-3,1.6461830552801884E-2,0.66690609699153436,0.66690631457194549]
[null,1.6211663608500795,1.039694779581427E-4,1.8365594341254388E-2,-3.696160566452919E-2,0.6505202381786247,0.54907114484497055,0.84404928950758096,0.44293264141869448,54.752933136968664,3.3026191201074029E-2,-40.022772089298492,-2.4141167380231442E-2,9.4745316299185284E-3,0.50009999999999999,null,9.4745316299185284E-3,0.5,0.27321850003502235,3.4295480318337256E-2,3.4295480318337256E-2,-0.50009999999999999,2.0577288191002347E-3,1.6461830552801884E-2,0.66690631457194549,0.66690648594704116]
[null,1.6211670178066131,1.039694779581427E-4,1.8365594341254388E-2,-3.696160566452919E-2,0.65051996776504428,0.54907096449676607,0.84404936313204804,0.44293263678943051,54.752933989711998,3.3026191715436692E-2,-40.022778911245148,-2.4141171495132719E-2,9.4745382819361734E-3,0.50009999999999988,null,9.4745382819361734E-3,0.5,0.27321838646131857,3.4295480318337256E-2,3.4295480318337256E-2,-0.50009999999999999,2.0577288191002347E-3,1.6461830552801884E-2,0.66690648594704116,0.66690662092879072]
[null,1.6211675352518702,1.039694779581427E-4,1.8365594341254388E-2,-3.696160566452919E-2,0.6505197547766447,0.54907082244782557,0.84404942112226622,0.44293263314323972,54.752934661366282,3.3026192120569009E-2,-40.022784284479442,-2.414117473619129E-2,9.4745435218226131E-3,0.50009999999999999,null,9.4745435218226131E-3,0.5,0.27321829700619077,3.4295480318337256E-2,3.4295480318337256E-2,-0.50009999999999999,2.0577288191002347E-3,1.6461830552801884E-2,0.66690662092879072,0.66690672724574163]
[null,1.6211679428141339,1.039694779581427E-4,1.8365594341254388E-2,-3.696160566452919E-2,0.65051958701786761,0.54907071058293433,0.84404946682697379,0.44293263027134361,54.752935190389941,3.3026192439668561E-2,-40.022788516668754,-2.4141177288987743E-2,9.4745476699011899E-3,0.50009999999999999,null,9.4745476699011899E-3,0.5,0.27321822654750438,3.4295480318337256E-2,3.4295480318337256E-2,-0.50009999999999999,2.0577288191002347E-3,1.6461830552801884E-2,0.66690672724574163,0.6669068109855224]
[null,1.6211682638274498,1.039694779581427E-4,1.8365594341254388E-2,-3.696160566452919E-2,0.6505194548840042,0.54907062246907967,0.84404950281922908,0.44293262800931771,54.752935607071223,3.3026192691004791E-2,-40.022791850118963,-2.4141179299677538E-2,9.4745509322972897E-3,0.50009999999999999,null,9.4745509322972897E-3,0.5,0.27321817105128177,3.4295480318337256E-2,3.4295480318337256E-2,-0.50009999999999999,2.0577288191002347E-3,1.6461830552801884E-2,0.6669068109855224,0.66690687694249406]
[null,1.6211685166692869,1.039694779581427E-4,1.8365594341254388E-2,-3.696160566452919E-2,0.65051935081057499,0.54907055304646424,0.84404953113585135,0.44293262622766383,54.752935935264532,3.3026192888966327E-2,-40.022794475665428,-2.4141180883369855E-2,9.4745534787687349E-3,0.50009999999999999,null,9.4745534787687349E-3,0.5,0.27321812734044149,3.4295480318337256E-2,3.4295480318337256E-2,-0.50009999999999999,2.0577288191002347E-3,1.6461830552801884E-2,0.66690687694249406,0.66690692889260061]
[null,1.6211687158180232,1.039694779581427E-4,1.8365594341254388E-2,-3.696160566452919E-2,0.65051926883804123,0.54907049838047806,0.84404955346092791,0.44293262482435958,54.752936193763148,3.3026193044889025E-2,-40.022796543654337,-2.4141182130751379E-2,9.4745555000823288E-3,0.50009999999999999,null,9.4745555000823288E-3,0.5,0.27321809291197729,3.4295480318337256E-2,3.4295480318337256E-2,-0.50009999999999999,2.0577288191002347E-3,1.6461830552801884E-2,0.66690692889260061,0.66690696981065156]
[null,1.6211688726755122,1.039694779581427E-4,1.8365594341254388E-2,-3.696160566452919E-2,0.65051920427321808,0.54907045531933041,0.84404957103882949,0.44293262371906134,54.752936397366916,3.3026193167699919E-2,-40.022798172484535,-2.4141183113238606E-2,9.4745570876865019E-3,0.50009999999999988,null,9.4745570876865019E-3,0.5,0.27321806579475161,3.4295480318337256E-2,3.4295480318337256E-2,-0.50009999999999999,2.0577288191002347E-3,1.6461830552801884E-2,0.66690696981065156,0.66690700203933373]
[null,1.6211689962235321,1.039694779581427E-4,1.8365594341254388E-2,-3.696160566452919E-2,0.65051915341906608,0.54907042141187301,0.84404958489847948,0.44293262284847906,54.752936557734394,3.3026193264431306E-2,-40.022799455424305,-2.4141183887089645E-2,9.4745583485712041E-3,0.50009999999999999,null,9.4745583485712041E-3,0.5,0.27321804443600772,3.4295480318337256E-2,3.4295480318337256E-2,-0.50009999999999999,2.0577288191002347E-3,1.6461830552801884E-2,0.66690700203933373,0.66690702742409025]
[null,1.621169093535251,1.039694779581427E-4,1.8365594341254388E-2,-3.696160566452919E-2,0.65051911336416046,0.54907039470179808,0.84404959581015204,0.44293262216277107,54.752936684046674,3.3026193340621075E-2,-40.022800465922558,-2.4141184496607831E-2,9.4745593382652114E-3,0.50009999999999999,null,9.4745593382652114E-3,0.5,0.27321802761294739,3.4295480318337256E-2,3.4295480318337256E-2,-0.50009999999999999,2.0577288191002347E-3,1.6461830552801884E-2,0.66690702742409025,0.6669070474182105]
[null,1.6211691701817916,1.039694779581427E-4,1.8365594341254388E-2,-3.696160566452919E-2,0.65051908181534346,0.54907037366004219,0.84404960439869381,0.44293262162268054,54.752936783535183,3.3026193400631135E-2,-40.022801261830665,-2.4141184976688292E-2,9.4745601135361526E-3,0.50009999999999999,null,9.4745601135361526E-3,0.5,0.27321801436244425,3.4295480318337256E-2,3.4295480318337256E-2,-0.50009999999999999,2.0577288191002347E-3,1.6461830552801884E-2,0.6669070474182105,0.66690706316636494]
[null,1.6211692305521932,1.039694779581427E-4,1.8365594341254388E-2,-3.696160566452919E-2,0.65051905696602119,0.54907035709275476,0.84404961117293531,0.44293262119728,54.752936861896984,3.302619344789786E-2,-40.022801888725084,-2.4141185354822098E-2,9.4745607310007824E-3,0.50009999999999999,null,9.4745607310007824E-3,0.5,0.27321800392572887,3.4295480318337256E-2,3.4295480318337256E-2,-0.50009999999999999,2.0577288191002347E-3,1.6461830552801884E-2,0.66690706316636494,0.66690707557034723]
[null,1.6211692781017337,1.039694779581427E-4,1.8365594341254388E-2,-3.696160566452919E-2,0.65051903739395045,0.5490703440326784,0.84404961649133825,0.4429326208622219,54.752936923617092,3.3026193485126552E-2,-40.022802382485914,-2.4141185652651612E-2,9.4745612049889801E-3,0.5001000000000001,null,9.4745612049889801E-3,0.5,0.27321799570545918,3.4295480318337256E-2,3.4295480318337256E-2,-0.50009999999999999,2.0577288191002347E-3,1.6461830552801884E-2,0.66690707557034723,0.66690708534009535]
[null,1.6211693155523972,1.039694779581427E-4,1.8365594341254388E-2,-3.696160566452919E-2,0.65051902197872258,0.54907033373747294,0.84404962066648392,0.44293262059832539,54.752936972228682,3.3026193514448368E-2,-40.022802771378622,-2.4141185887226167E-2,9.4745615684707248E-3,0.50009999999999988,null,9.4745615684707248E-3,0.5,0.2732179892310635,3.4295480318337256E-2,3.4295480318337256E-2,-0.50009999999999999,2.0577288191002347E-3,1.6461830552801884E-2,0.66690708534009535,0.66690709303488116]
[null,1.6211693450504356,1.039694779581427E-4,1.8365594341254388E-2,-3.696160566452919E-2,0.65051900983690947,0.54907032564391012,0.84404962397880823,0.44293262039046732,54.752937010517627,3.302619353754372E-2,-40.022803077690192,-2.4141186071988955E-2,9.4745618718345276E-3,0.50009999999999999,null,9.4745618718345276E-3,0.5,0.27321798413150195,3.4295480318337256E-2,3.4295480318337256E-2,-0.50009999999999999,2.0577288191002347E-3,1.6461830552801884E-2,0.66690709303488116,0.6669070990956838]
[null,1.6211693682839983,1.039694779581427E-4,1.8365594341254388E-2,-3.696160566452919E-2,0.65051900027364407,0.54907031926269578,0.84404962657774274,0.44293262022675189,54.752937040675178,3.3026193555734322E-2,-40.022803318950608,-2.4141186217513808E-2,9.4745621036256694E-3,0.50009999999999999,null,9.4745621036256694E-3,0.5,0.27321798011493048,3.4295480318337256E-2,3.4295480318337256E-2,-0.50009999999999999,2.0577288191002347E-3,1.6461830552801884E-2,0.6669070990956838,0.66690710386935814]
[null,1.6211693865850694,1.039694779581427E-4,1.8365594341254388E-2,-3.696160566452919E-2,0.6505189927406626,0.5490703142545722,0.84404962865314193,0.44293262009779316,54.75293706443027,3.3026193570063055E-2,-40.022803508991359,-2.414118633214369E-2,9.4745623064708042E-3,0.50009999999999988,null,9.4745623064708042E-3,0.5,0.2732179769510783,3.4295480318337256E-2,3.4295480318337256E-2,-0.50009999999999999,2.0577288191002347E-3,1.6461830552801884E-2,0.66690710386935814,0.66690710762958016]
[null,1.6211694010005422,1.039694779581427E-4,1.8365594341254388E-2,-3.696160566452919E-2,0.65051898680704889,0.54907031030665121,0.84404963028313806,0.44293261999621447,54.752937083141802,3.3026193581349589E-2,-40.022803658683543,-2.4141186422435887E-2,9.4745624628280369E-3,0.50009999999999999,null,9.4745624628280369E-3,0.5,0.27321797445896051,3.4295480318337256E-2,3.4295480318337256E-2,-0.50009999999999999,2.0577288191002347E-3,1.6461830552801884E-2,0.66690710762958016,0.66690711059144925]
[null,1.6211694123535616,1.039694779581427E-4,1.8365594341254388E-2,-3.696160566452919E-2,0.65051898213398474,0.54907030717638294,0.84404963153449253,0.44293261991621535,54.752937097878203,3.3026193590238374E-2,-40.022803776574804,-2.414118649354622E-2,9.4745625627303161E-3,0.50009999999999999,null,9.4745625627303161E-3,0.5,0.27321797249627355,3.4295480318337256E-2,3.4295480318337256E-2,-0.50009999999999999,2.0577288191002347E-3,1.6461830552801884E-2,0.66690711059144925,0.66690711292409266]
[null,1.621169421296538,1.039694779581427E-4,1.8365594341254388E-2,-3.696160566452919E-2,0.6505189784529285,0.54907030473131224,0.84404963255202392,0.44293261985319865,54.752937109486339,3.3026193597240239E-2,-40.022803869439862,-2.4141186549561103E-2,9.4745626642720217E-3,0.50009999999999999,null,9.4745626642720217E-3,0.5,0.27321797095022998,3.4295480318337256E-2,3.4295480318337256E-2,-0.50009999999999999,2.0577288191002347E-3,1.6461830552801884E-2,0.66690711292409266,0.66690711476155751]
[null,{"$f":"MIN(0.5*(-(T777+U777+V777)+SQRT((T777+U777+V777)^2+4*S777*(W777+X777)))/S777,1000*$C$6)","v":1.6211694283395588},1.039694779581427E-4,{"$f":"IF($C$2=1,C777/($Z$706*$Z$5),2^(1/3)*$Z$5/C777)","v":1.8365594341254388E-2},{"$f":"IF($C$2=1,-($Z$706-2)*C777/$Z$5,3*($Z$5/C777)^2)","v":-3.696160566452919E-2},{"$f":"IF($C$2=1,0.5*($Z$706*C777*$F$706/$Z$5)*(1-Y777^2+(D777-E777)*(E777^2*(1-Y777^2)+2*E777*(1-Y777)+2*LN((1-E777)/(1-E777*Y777)))/(E777^3)),$F$706*E777*(LN((1-D777+D777^2)/(1+D777)^2)/(6*D777)+ATAN((2-D777)/(D777*3^0.5))/(D777*3^0.5)-LN((Y777^2-D777*Y777+D777^2)/(Y777+D777)^2)/(6*D777)-ATAN((2*Y777-D777)/(D777*3^0.5))/(D777*3^0.5)))","v":0.65051897555392102},{"$f":"IF($C$2=1,($Z$706*C777*$F$706/$Z$5)*(1-Y777^3-(D777-E777)*(-2*E777^3*(1-Y777^3)-3*E777^2*(1-Y777^2)-6*E777*(1-Y777)-6*LN((1-E777)/(1-E777*Y777)))/(2*E777^4))/3,$F$706*E777*(LN((1+D777^3)/(D777^3+Y777^3)))/3)","v":0.54907030278859137},{"$f":"G777/F777","v":0.84404963332707483},{"$f":"F777*B777*$D$706","v":0.4429326198035699},{"$f":"MAX(MIN($K$706,$Q$706*$J$706*C777*(B777-$I$706)/B777),-$K$706)","v":54.752937118628296},{"$f":"J777*$H$706","v":3.3026193602754536E-2},{"$f":"MIN($O$706,$Q$706*$N$706*C777*(C$706-B777-$M$706)/B777)","v":-40.022803942575521},{"$f":"L777*$L$706","v":-2.4141186593675493E-2},{"$f":"(0.5*$C$706-B777+H777*B777)*I777+(0.5*$C$706-$I$706)*K777+(0.5*$C$706-$M$706)*M777","v":9.4745627253531167E-3},{"$f":"I777+K777-M777","v":0.50009999999999999},null,{"$f":"N777-P777*O777","v":9.4745627253531167E-3},{"$f":"R776","v":0.5},{"$f":"F777*$D$706","v":0.27321796973264684},{"$f":"IF(ABS(J776)<$K$706,$Q$706*C777*$H$706*$J$706,IF(J776>0,1,-1)*$H$706*$K$706)","v":3.4295480318337256E-2},3.4295480318337256E-2,{"$f":"-(R777+0.0001)","v":-0.50009999999999999},{"$f":"IF(ABS(J776)<$K$706,$I$706*$Q$706*C777*$H$706*$J$706,0)","v":2.0577288191002347E-3},1.6461830552801884E-2,{"$f":"IF(B776<$C$706,0,(B776-$C$706)/B776)","v":0.66690711476155751},{"$f":"IF(B777<=$C$706,0,(B777-$C$706)/B777)","v":0.66690711620864873}]
[null,{"$f":"MIN(0.5*(-(T778+U778+V778)+SQRT((T778+U778+V778)^2+4*S778*(W778+X778)))/S778,1000*$C$6)","v":1.6211694338868969},1.039694779581427E-4,{"$f":"IF($C$2=1,C778/($Z$706*$Z$5),2^(1/3)*$Z$5/C778)","v":1.8365594341254388E-2},{"$f":"IF($C$2=1,-($Z$706-2)*C778/$Z$5,3*($Z$5/C778)^2)","v":-3.696160566452919E-2},{"$f":"IF($C$2=1,0.5*($Z$706*C778*$F$706/$Z$5)*(1-Y778^2+(D778-E778)*(E778^2*(1-Y778^2)+2*E778*(1-Y778)+2*LN((1-E778)/(1-E778*Y778)))/(E778^3)),$F$706*E778*(LN((1-D778+D778^2)/(1+D778)^2)/(6*D778)+ATAN((2-D778)/(D778*3^0.5))/(D778*3^0.5)-LN((Y778^2-D778*Y778+D778^2)/(Y778+D778)^2)/(6*D778)-ATAN((2*Y778-D778)/(D778*3^0.5))/(D778*3^0.5)))","v":0.65051897327055785},{"$f":"IF($C$2=1,($Z$706*C778*$F$706/$Z$5)*(1-Y778^3-(D778-E778)*(-2*E778^3*(1-Y778^3)-3*E778^2*(1-Y778^2)-6*E778*(1-Y778)-6*LN((1-E778)/(1-E778*Y778)))/(2*E778^4))/3,$F$706*E778*(LN((1+D778^3)/(D778^3+Y778^3)))/3)","v":0.54907030126528189},{"$f":"G778/F778","v":0.84404963394805954},{"$f":"F778*B778*$D$706","v":0.44293261976448062},{"$f":"MAX(MIN($K$706,$Q$706*$J$706*C778*(B778-$I$706)/B778),-$K$706)","v":54.752937125828829},{"$f":"J778*$H$706","v":3.3026193607097798E-2},{"$f":"MIN($O$706,$Q$706*$N$706*C778*(C$706-B778-$M$706)/B778)","v":-40.022804000179811},{"$f":"L778*$L$706","v":-2.4141186628421584E-2},{"$f":"(0.5*$C$706-B778+H778*B778)*I778+(0.5*$C$706-$I$706)*K778+(0.5*$C$706-$M$706)*M778","v":9.4745627810216455E-3},{"$f":"I778+K778-M778","v":0.50009999999999999},null,{"$f":"N778-P778*O778","v":9.4745627810216455E-3},{"$f":"R777","v":0.5},{"$f":"F778*$D$706","v":0.2732179687736343},{"$f":"IF(ABS(J777)<$K$706,$Q$706*C778*$H$706*$J$706,IF(J777>0,1,-1)*$H$706*$K$706)","v":3.4295480318337256E-2},3.4295480318337256E-2,{"$f":"-(R778+0.0001)","v":-0.50009999999999999},{"$f":"IF(ABS(J777)<$K$706,$I$706*$Q$706*C778*$H$706*$J$706,0)","v":2.0577288191002347E-3},1.6461830552801884E-2,{"$f":"IF(B777<$C$706,0,(B777-$C$706)/B777)","v":0.66690711620864873},{"$f":"IF(B778<=$C$706,0,(B778-$C$706)/B778)","v":0.66690711734843022}]
[null,null,{"$f":"IF(C706*J779/(J779-L779)<=0,B778,C706*J779/(J779-L779))","v":1.4354436259250747},null,null,null,null,null,null,{"$f":"$R778/($J709*N709)+($Q778-R708)/($M709*N709)","v":1.0776490663238076E-4},null,{"$f":"$R778/($J709*$N$709)-($Q778-R708)/($M709*N709)","v":6.7224791694754437E-5},null,null,{"$f":"SIGN(J779-L779)","v":1},{"$f":"IF(Q711=0.0001,ABS(Q708)*($Q$6*C778/B778)/Q711,IF(B778>10*$C$6,(L779-J779)/$C$6,$Q$6*C778/B778))*IF(B778>10*C706,O779*P708,P708)","v":1.7535872768629785E-4},null,null,null,null,null,null,null,null,null,null,{"$f":"N778/($Q$6*C778/B778)","v":54.029604947698118}]
[null,{"$f":"IF(AND(B778<>1000*$C$6,C780<C706,B778<C706),B778,IF(AND(B778<>1000*$C$6,C780>C706,B778>C706),B778*C780/C779,IF(C706*J780/(J780-L780)<=0,B778,C706*J780/(J780-L780))))","v":1.7942692628971113},{"$f":"IF(C706*J780/(J780-L780)<=0,B778,C706*J780/(J780-L780))","v":1.5887126433439955},null,null,null,null,null,null,{"$f":"$R778/($J709*N709)+($Q780-R708)/($M709*N709)","v":1.0540899398761238E-4},null,{"$f":"$R778/($J709*N709)-($Q780-R708)/($M709*N709)","v":6.9580704339522817E-5},null,null,{"$f":"SIGN(J780-L780)","v":1},null,{"$f":"MAX(ABS(INDEX(Snitkræfter!$G$286:$U$286,B709+1)),0.0000001)","v":8.373369935673107E-3}]
[null,{"$f":"MIN(0.5*(-(T781+U781+V781)+SQRT((T781+U781+V781)^2+4*S781*(W781+X781)))/S781,1000*$C$6)","v":1.6594454167325092},{"$f":"MIN(MAX(IF(Q708=0,0.001*Z705,IF(OR(AND(B778<>1000*$C$6,C780<C706,B778<C706),AND(B778<>1000*$C$6,C780>C706,B778>C706)),C778*J780/J779,IF(B780>C706,J780,C778*MIN(Q780/Q711,2)))),0.0001*$Z$5),0.9*K706/(J706*Q706))","v":1.0169653943440666E-4},{"$f":"IF($C$2=1,C781/($Z$706*$Z$5),2^(1/3)*$Z$5/C781)","v":1.7964093172744611E-2},{"$f":"IF($C$2=1,-($Z$706-2)*C781/$Z$5,3*($Z$5/C781)^2)","v":-3.6153566044979775E-2},{"$f":"IF($C$2=1,0.5*($Z$706*C781*$F$706/$Z$5)*(1-Y781^2+(D781-E781)*(E781^2*(1-Y781^2)+2*E781*(1-Y781)+2*LN((1-E781)/(1-E781*Y781)))/(E781^3)),$F$706*E781*(LN((1-D781+D781^2)/(1+D781)^2)/(6*D781)+ATAN((2-D781)/(D781*3^0.5))/(D781*3^0.5)-LN((Y781^2-D781*Y781+D781^2)/(Y781+D781)^2)/(6*D781)-ATAN((2*Y781-D781)/(D781*3^0.5))/(D781*3^0.5)))","v":0.63693777677888652},{"$f":"IF($C$2=1,($Z$706*C781*$F$706/$Z$5)*(1-Y781^3-(D781-E781)*(-2*E781^3*(1-Y781^3)-3*E781^2*(1-Y781^2)-6*E781*(1-Y781)-6*LN((1-E781)/(1-E781*Y781)))/(2*E781^4))/3,$F$706*E781*(LN((1+D781^3)/(D781^3+Y781^3)))/3)","v":0.53761392823617948},{"$f":"G781/F781","v":0.84406035854081962},{"$f":"F781*B781*$D$706","v":0.44392465925619728},{"$f":"MAX(MIN($K$706,$Q$706*$J$706*C781*(B781-$I$706)/B781),-$K$706)","v":53.603426443138218},{"$f":"J781*$H$706","v":3.2332825098432744E-2},{"$f":"MIN($O$706,$Q$706*$N$706*C781*(C$706-B781-$M$706)/B781)","v":-39.527648132359396},{"$f":"L781*$L$706","v":-2.3842515645370096E-2},{"$f":"(0.5*$C$706-B781+H781*B781)*I781+(0.5*$C$706-$I$706)*K781+(0.5*$C$706-$M$706)*M781","v":6.7667636109522908E-3},{"$f":"I781+K781-M781","v":0.5001000000000001},null,{"$f":"N781-P781*O781","v":6.7667636109522908E-3},{"$f":"R778","v":0.5},{"$f":"F781*$D$706","v":0.2675138662471323},{"$f":"IF(ABS(J780)<$K$706,$Q$706*C781*$H$706*$J$706,IF(J780>0,1,-1)*$H$706*$K$706)","v":3.3545726448870272E-2},{"$f":"IF(L778<$O$706,$Q$706*C781*$L$706*$N$706,-$L$706*$O$706)","v":3.3545726448870272E-2},{"$f":"-(R781+0.0001)","v":-0.50009999999999999},{"$f":"IF(ABS(J780)<$K$706,$I$706*$Q$706*C781*$H$706*$J$706,0)","v":2.0127435869322159E-3},{"$f":"IF(L778<$O$706,($C$706-$M$706)*$Q$706*C781*$L$706*$N$706,0)","v":1.6101948695457727E-2},{"$f":"IF(B780<$C$6,0,IF(C778*J780/J779=C781,Y778,(B780-$C$6)/B780))","v":0.66690711620864873},{"$f":"IF(B781<=$C$706,0,(B781-$C$706)/B781)","v":0.67459008018276734}]
[null,{"$f":"MIN(0.5*(-(T782+U782+V782)+SQRT((T782+U782+V782)^2+4*S782*(W782+X782)))/S782,1000*$C$6)","v":1.7268259838146867},{"$f":"0.98*C781","v":9.9662608645718524E-5},1.760481130928972E-2,{"$f":"IF($C$2=1,-($Z$706-2)*C782/$Z$5,3*($Z$5/C782)^2)","v":-3.5430494724080185E-2},{"$f":"IF($C$2=1,0.5*($Z$706*C782*$F$706/$Z$5)*(1-Y782^2+(D782-E782)*(E782^2*(1-Y782^2)+2*E782*(1-Y782)+2*LN((1-E782)/(1-E782*Y782)))/(E782^3)),$F$706*E782*(LN((1-D782+D782^2)/(1+D782)^2)/(6*D782)+ATAN((2-D782)/(D782*3^0.5))/(D782*3^0.5)-LN((Y782^2-D782*Y782+D782^2)/(Y782+D782)^2)/(6*D782)-ATAN((2*Y782-D782)/(D782*3^0.5))/(D782*3^0.5)))","v":0.61305807744369878},{"$f":"IF($C$2=1,($Z$706*C782*$F$706/$Z$5)*(1-Y782^3-(D782-E782)*(-2*E782^3*(1-Y782^3)-3*E782^2*(1-Y782^2)-6*E782*(1-Y782)-6*LN((1-E782)/(1-E782*Y782)))/(2*E782^4))/3,$F$706*E782*(LN((1+D782^3)/(D782^3+Y782^3)))/3)","v":0.5194922160622375},{"$f":"G782/F782","v":0.84737847061471261},{"$f":"F782*B782*$D$706","v":0.44463073944124731},{"$f":"MAX(MIN($K$706,$Q$706*$J$706*C782*(B782-$I$706)/B782),-$K$706)","v":52.608250867417809},3.1732549333111419E-2,{"$f":"MIN($O$706,$Q$706*$N$706*C782*(C$706-B782-$M$706)/B782)","v":-39.352238794851033},-2.3736711225641329E-2,{"$f":"(0.5*$C$706-B782+H782*B782)*I782+(0.5*$C$706-$I$706)*K782+(0.5*$C$706-$M$706)*M782","v":4.5466285044676053E-3},{"$f":"I782+K782-M782","v":0.5001000000000001},null,{"$f":"N782-P782*O782","v":4.5466285044676053E-3},{"$f":"R781","v":0.5},0.25748439252635347,3.287481191989286E-2,{"$f":"IF(L781<$O$706,$Q$706*C782*$L$706*$N$706,-$L$706*$O$706)","v":3.287481191989286E-2},{"$f":"-(R782+0.0001)","v":-0.50009999999999999},1.9724887151935716E-3,{"$f":"IF(L781<$O$706,($C$706-$M$706)*$Q$706*C782*$L$706*$N$706,0)","v":1.5779909721548573E-2},{"$f":"IF(B781<$C$706,0,IF(MIN(ABS($Q$780-Q781),ABS(Q781-Q780))<=0.001*Q$780,Y781,(B781-$C$706)/B781))","v":0.67459008018276734},0.68728754080529875]
[null,1.8016823874901275,{"$f":"IF(Z782>0,0.99*C782,0.98*C782)","v":9.8665982559261334E-5},1.7428763196196823E-2,-3.5076189776839378E-2,0.58776092688775439,0.50129314013741078,{"$f":"G783/F783","v":0.85288612632316663},0.44476257421198667,52.160061778467266,3.1462208043652323E-2,-39.581863764691676,-2.3875217744361101E-2,3.7937418471128692E-3,{"$f":"I783+K783-M783","v":0.5001000000000001},null,{"$f":"N783-P783*O783","v":3.7937418471128692E-3},{"$f":"R782","v":0.5},0.24685958929285684,3.2546063800693928E-2,3.2546063800693928E-2,{"$f":"-(R783+0.0001)","v":-0.50009999999999999},1.9527638280416361E-3,1.5622110624333089E-2,{"$f":"IF(B782<$C$706,0,IF(MIN(ABS($Q$780-Q782),ABS(Q782-Q781))<=0.001*Q$780,Y782,(B782-$C$706)/B782))","v":0.68728754080529875},0.70028013608310913]
[null,1.7706984217357269,{"$f":"IF(MIN(ABS($Q$780-Q783),10*ABS(Q783-Q782))<=0.001*Q$780,C783,MAX(0.9*C783,MIN($W$6,1.05*C783,IF(C783=$W$6,0.5*(C783+C782),C783+IF(C783=C782,0,(C783-C782)*(Q783-Q$780)/(Q782-Q783))))))","v":1.035992816872244E-4},1.8300201356006664E-2,-3.6829999265681347E-2,0.59456620713822628,0.51046083093495265,0.85854329561027243,0.44217492673076286,54.735050567632399,3.3015404689370836E-2,-41.296842554860312,-2.4909668579866272E-2,1.0334713511593485E-2,0.50009999999999999,null,1.0334713511593485E-2,0.5,0.24971780699805501,3.4173366990728635E-2,3.4173366990728635E-2,-0.50009999999999999,2.0504020194437177E-3,1.6403216155549745E-2,0.70028013608310913,0.69503558970213286]
[null,1.772784498899735,{"$f":"IF(MIN(ABS($Q$780-Q784),10*ABS(Q784-Q783))<=0.001*Q$780,C784,MAX(0.9*C784,MIN($W$6,1.05*C784,IF(C784=$W$6,0.5*(C784+C783),C784+IF(C784=C783,0,(C784-C783)*(Q784-Q$780)/(Q783-Q784))))))","v":1.0212000688692724E-4},1.8038896197655908E-2,-3.6304110582657749E-2,0.59496117683494232,0.5094366418396542,0.85625190630040915,0.44298993973085454,53.955725752013635,3.2545327035193278E-2,-40.724986665804579,-2.4564733233952116E-2,8.3941363583045613E-3,0.50009999999999999,null,8.3941363583045613E-3,0.5,0.24988369427067578,3.3685411863942014E-2,3.3685411863942014E-2,-0.50009999999999999,2.0211247118365207E-3,1.6168997694692169E-2,0.69503558970213286,0.69539444848759291]
[null,1.7747643501333326,1.0210417693363785E-4,1.8036099929883254E-2,-3.6298482964796611E-2,0.59429398642142017,0.50895866698885184,0.85640891312661516,0.44298734785173088,53.949470094201445,3.2541553711297057E-2,-40.735539306683755,-2.4571098436972021E-2,8.389332308323956E-3,0.50009999999999999,null,8.389332308323956E-3,0.5,0.24960347429699647,3.3680190179057774E-2,3.3680190179057774E-2,-0.50009999999999999,2.0208114107434661E-3,1.6166491285947732E-2,0.69539444848759291,0.69573425341824591]
[null,1.7757326935613069,1.0205157889355271E-4,1.8026808796693786E-2,-3.6279784130729784E-2,0.59400186523815357,0.508708615372923,0.85640912115480661,0.44301118349871049,53.922707387914251,3.2525410827176346E-2,-40.722785752152326,-2.4563405674113185E-2,8.3264840675389105E-3,0.50009999999999999,null,8.3264840675389105E-3,0.5,0.2494807834000245,3.3662840134756795E-2,3.3662840134756795E-2,-0.50009999999999999,2.0197704080854081E-3,1.6158163264683265E-2,0.69539444848759291,0.69590017576518948]
[null,1.7773976779734582,1.020908179357398E-4,1.8033740141789482E-2,-3.6293733782420415E-2,0.59340317630616901,0.50832708140592653,0.85663019967330423,0.44297963962083692,53.945207899062652,3.2538982815757303E-2,-40.752580700252338,-2.4581377563405681E-2,8.3932466021589859E-3,0.50009999999999988,null,8.3932466021589859E-3,0.5,0.24922933404859099,3.3675783566093249E-2,3.3675783566093249E-2,-0.50009999999999999,2.0205470139655949E-3,1.6164376111724763E-2,0.69590017576518948,0.69618504249668323]
[null,1.7789616474277441,1.020791356148211E-4,1.8031676528783333E-2,-3.6289580666068161E-2,0.59287819850971546,0.50795129710810716,0.85675489229476764,0.44297718223283139,53.940691617849978,3.2536258659108482E-2,-40.761170996550433,-2.4586559108060197E-2,8.3904848187080425E-3,0.5001000000000001,null,8.3904848187080425E-3,0.5,0.2490088433740805,3.3671930023543947E-2,3.3671930023543947E-2,-0.50009999999999999,2.0203158014126367E-3,1.6162526411301101E-2,0.69618504249668323,0.69645214061764471]
[null,1.7802983185580106,1.0200673980260349E-4,1.801888823605256E-2,-3.6263843637129457E-2,0.59247698250204017,0.50760772208480931,0.8567551771229549,0.44301002580773646,53.903848817747097,3.251403560564143E-2,-40.743563616497369,-2.4575938586622052E-2,8.3039474070656268E-3,0.50009999999999999,null,8.3039474070656268E-3,0.5,0.24884033265085687,3.3648049465501352E-2,3.3648049465501352E-2,-0.50009999999999999,2.0188829679300808E-3,1.615106374344065E-2,0.69618504249668323,0.69668004829809416]
[null,1.7815759399705753,1.0206481757786105E-4,1.8029147332102386E-2,-3.6284490541096857E-2,0.59199887271941232,0.50732621809787992,0.85697159484007257,0.44297019821317535,53.935888100901742,3.253336124594574E-2,-40.777553068195658,-2.4596440540878988E-2,8.3928281798772604E-3,0.5001000000000001,null,8.3928281798772604E-3,0.5,0.24863952654215316,3.3667207060955273E-2,3.3667207060955273E-2,-0.50009999999999999,2.020032423657316E-3,1.6160259389258531E-2,0.69668004829809416,0.696897568111007]
[null,1.7828463012739062,1.0205210288717997E-4,1.8026901357073855E-2,-3.6279970412763714E-2,0.59157684095391694,0.50702090893623597,0.85706686576618751,0.44297004478187696,53.930508307107374,3.2530116230778588E-2,-40.783187230214651,-2.4599838987344524E-2,8.386184038531275E-3,0.5001000000000001,null,8.386184038531275E-3,0.5,0.2484622732006451,3.3663012979840597E-2,3.3663012979840597E-2,-0.50009999999999999,2.0197807787904359E-3,1.6158246230323491E-2,0.696897568111007,0.6971135427579197]
[null,1.7832999816730604,1.0202758092930567E-4,1.802256969801759E-2,-3.6271252749129422E-2,0.59144120678353684,0.50690471816241789,0.85706696176808883,0.44298117915146501,53.918027126023233,3.2522587759712597E-2,-40.777209140901242,-2.4596233088822379E-2,8.3568795290924133E-3,0.50009999999999999,null,8.3568795290924133E-3,0.5,0.24840530684908546,3.365492414126834E-2,3.365492414126834E-2,-0.50009999999999999,2.0192954484761008E-3,1.615436358780881E-2,0.696897568111007,0.69719059858152321]
[null,1.7844420313639582,1.0204138007023125E-4,1.802500723477813E-2,-3.6276158404283394E-2,0.59104367068352814,0.50663979980413543,0.85719520389790893,0.44296693070251664,53.926521107805179,3.252771120881965E-2,-40.792337149551912,-2.4605358088663733E-2,8.3848843537239204E-3,0.50009999999999999,null,8.3848843537239204E-3,0.5,0.24823834168708181,3.3659475940270488E-2,3.3659475940270488E-2,-0.50009999999999999,2.0195685564162293E-3,1.6156548451329838E-2,0.69719059858152321,0.69738439775079442]
[null,1.7854728564158924,1.0203570643793932E-4,1.8024005021136574E-2,-3.6274141403105947E-2,0.5906988320338743,0.50639434710964037,0.85728008868079264,0.4429642269834822,53.924605933601356,3.2526556002955502E-2,-40.798734722183347,-2.4609217013562241E-2,8.3857184591824736E-3,0.50009999999999999,null,8.3857184591824736E-3,0.5,0.2480935094542272,3.365760443001168E-2,3.365760443001168E-2,-0.50009999999999999,2.0194562658007011E-3,1.6155650126405609E-2,0.69738439775079442,0.69755910986853042]
[null,1.7854728564158924,1.0203570643793932E-4,1.8024005021136574E-2,-3.6274141403105947E-2,0.5906988320338743,0.50639434710964037,0.85728008868079264,0.4429642269834822,53.924605933601356,3.2526556002955502E-2,-40.798734722183347,-2.4609217013562241E-2,8.3857184591824736E-3,0.50009999999999999,null,8.3857184591824736E-3,0.5,0.2480935094542272,3.365760443001168E-2,3.365760443001168E-2,-0.50009999999999999,2.0194562658007011E-3,1.6155650126405609E-2,0.69738439775079442,0.69755910986853042]
[null,1.7854728564158924,1.0203570643793932E-4,1.8024005021136574E-2,-3.6274141403105947E-2,0.5906988320338743,0.50639434710964037,0.85728008868079264,0.4429642269834822,53.924605933601356,3.2526556002955502E-2,-40.798734722183347,-2.4609217013562241E-2,8.3857184591824736E-3,0.50009999999999999,null,8.3857184591824736E-3,0.5,0.2480935094542272,3.365760443001168E-2,3.365760443001168E-2,-0.50009999999999999,2.0194562658007011E-3,1.6155650126405609E-2,0.69738439775079442,0.69755910986853042]
[null,1.7854728564158924,1.0203570643793932E-4,1.8024005021136574E-2,-3.6274141403105947E-2,0.5906988320338743,0.50639434710964037,0.85728008868079264,0.4429642269834822,53.924605933601356,3.2526556002955502E-2,-40.798734722183347,-2.4609217013562241E-2,8.3857184591824736E-3,0.50009999999999999,null,{"$f":"IF(B798>10*B706,Q780,IF(Q780<0.000001,0,N798-P798*O798))","v":8.3857184591824736E-3},0.5,0.2480935094542272,3.365760443001168E-2,3.365760443001168E-2,-0.50009999999999999,2.0194562658007011E-3,1.6155650126405609E-2,0.69738439775079442,0.69755910986853042]
[null,null,null,null,null,null,null,null,null,{"$f":"MAX(J778,J798)/K706","v":0.11946095372908107},null,{"$f":"MAX(L778,L798)/O706","v":-8.7322481454937761E-2},null,null,null,{"$f":"IF(Q780=0.0001,ABS(INDEX(Snitkræfter!$G$286:$U$286,B709+1))*($Q$6*C798/B798)/Q780,IF(B798>10*$C$6,(J780-L780)/$C$6,$Q$6*C798/B798))*IF(AND(B798>10*$C$6,O780=O779),P708,P708)","v":1.5626037156450014E-4},null,null,null,null,null,null,null,null,null,null,{"$f":"(Q778-Q798)/(P779-P799)","v":57.012463004416936}]
[]
[]
[null,"Tilstand:",{"$f":"C702","v":1}]
[]
[null,"L","h","b","fck","fcd","Ecd","Ac","ac","Esc","fyd_c","At","at","Est","fyd_t","Modenhed","1+f","uterm","g","EI","sc/fcd","sc","e","   emax",null,{"$f":"Stivheder!$AD$4","v":3.5000000000000001E-3}]
[null,"(m)","(m)","(m)","(Mpa)","(Mpa)","(Mpa)","(m2)","(m)","(Mpa)","(Mpa)","(m2)","(m)","(Mpa)","(Mpa)","(døgn)",null,"(m)",null,"(Mnm2)",null,"(MPa)",null,"e1",null,{"$f":"Stivheder!$AD$5","v":2.0693662482105194E-3}]
[null,{"$f":"Stivheder!$B$6","v":0.54},{"$f":"Stivheder!$C$6","v":0.54},{"$f":"Stivheder!$D$6","v":0.42},{"$f":"Stivheder!$E$6","v":25},{"$f":"Stivheder!$F$6","v":17.857142857142858},{"$f":"IF(C802=1,1000*22*((E806+8)/10)^0.3/S806,1.4*F806/Z805)","v":22482.71872144239},{"$f":"IF(P808<0,Stivheder!$X$6,Stivheder!$T$6)","v":6.0318578948924026E-4},{"$f":"IF(P808<0,Stivheder!$Y$6,Stivheder!$U$6)","v":0.06},{"$f":"IF(P808<0,Stivheder!$Z$6,Stivheder!$V$6)","v":200000},{"$f":"IF(P808<0,Stivheder!$AA$6,Stivheder!$W$6)","v":458.33333333333337},{"$f":"IF(P808<0,Stivheder!$T$6,Stivheder!$X$6)","v":6.0318578948924026E-4},{"$f":"IF(P808<0,Stivheder!$U$6,Stivheder!$Y$6)","v":0.06},{"$f":"IF(P808<0,Stivheder!$V$6,Stivheder!$Z$6)","v":200000},{"$f":"IF(P808<0,Stivheder!$W$6,Stivheder!$AA$6)","v":458.33333333333337},{"$f":"Stivheder!$P$6","v":28},{"$f":"Stivheder!$Q$6","v":2.7343237157040781},{"$f":"Stivheder!$R$6","v":0},{"$f":"Stivheder!$S$6","v":1.4},{"$f":"AA879","v":54.01778628764459},{"$f":"U706","v":0.99999990000000005},{"$f":"U806*F806","v":17.857141071428572},{"$f":"Z804","v":3.5000000000000001E-3},"k",null,{"$f":"Stivheder!$AD$6","v":2.7356687822616226}]
[]
[null,"punkt","elasttisk","e_o","sc_o/fcd","sc_u/fcd","sc_o","sc_u","hc","At","Ac","Ic","Wt","E",null,{"$f":"SIGN(Q808)","v":1},{"$f":"INDEX(Snitkræfter!$G$199:$U$199,B809+1)","v":3.9125794495134175E-2},{"$f":"INDEX(Snitkræfter!$G$59:$U$59,B809+1)*P808","v":0}]
[null,{"$f":"(ROW()-9)/100","v":8},"skøn",{"$f":"IF(C802=1,Z805*0.5*(-((Z806-2)*E809-Z806)-(((Z806-2)*E809-Z806)^2-4*E809)^0.5),G809/(1.4*F806/Z805))","v":1.7758315402457579E-4},{"$f":"MIN(0.9999,G809/F806)","v":0.21389432011837017},{"$f":"H809/F806","v":4.7331127426374787E-3},{"$f":"IF(H809>0,R811/J809+MAX(Q811+Stivheder!$O$2*R811+R811*R806,D806*C806^2*0.003*E806)/M809,MIN(0.8*F806,2*(R811+Q811/(C806-M806-0.333*I809))/(((R811+L806*O806)/(F806*D806*0.5))*D806)))","v":3.8195414306851818},{"$f":"R811/J809-(Q811+Stivheder!$O$2*R811+R811*R806)/M809","v":8.4519870404240693E-2},{"$f":"IF(H809>0,C806*G809/(G809-H809),(R811+L806*O806)/(F806*D806*0.5))","v":0.55221966976138603},{"$f":"K809+Q806*(H806+L806)*N806/G806","v":0.25614351898648502},{"$f":"C806*D806","v":0.2268},{"$f":"D806*C806^3/12","v":5.5112400000000006E-3},{"$f":"(L809+((0.5*C806-I806)^2*H806+(0.5*C806-M806)^2*L806)*Q806)/(0.5*C806)","v":2.0950773034997532E-2},{"$f":"G809/D809","v":21508.467127217453}]
[null,"hc","e0","a'","b'","N'","tN'","t'","Nc","sac","Nac","sat","Nat","Mtot","N",null,"Mo","N","A","B1","B2","B3","C1","C2","gættet x","beregnet x","EIt"]
[null,{"$f":"I809","v":0.55221966976138603},null,null,null,null,null,null,null,null,null,null,null,null,null,null,{"$f":"MAX(ABS(Q808),0.0000001)","v":3.9125794495134175E-2},{"$f":"INDEX(Snitkræfter!$G$52:$U$52,B809+1)","v":0.5}]
[null,{"$f":"MIN(0.5*(-(T812+U812+V812)+SQRT((T812+U812+V812)^2+4*S812*(W812+X812)))/S812,1000*$C$6)","v":0.53461997993219279},{"$f":"D809","v":1.7758315402457579E-4},{"$f":"IF($C$2=1,C812/($Z$806*$Z$5),2^(1/3)*$Z$5/C812)","v":3.1369015529431415E-2},{"$f":"IF($C$2=1,-($Z$806-2)*C812/$Z$5,3*($Z$5/C812)^2)","v":-6.3131590545854613E-2},{"$f":"IF($C$2=1,0.5*($Z$806*C812*$F$806/$Z$5)*(1-Y812^2+(D812-E812)*(E812^2*(1-Y812^2)+2*E812*(1-Y812)+2*LN((1-E812)/(1-E812*Y812)))/(E812^3)),$F$806*E812*(LN((1-D812+D812^2)/(1+D812)^2)/(6*D812)+ATAN((2-D812)/(D812*3^0.5))/(D812*3^0.5)-LN((Y812^2-D812*Y812+D812^2)/(Y812+D812)^2)/(6*D812)-ATAN((2*Y812-D812)/(D812*3^0.5))/(D812*3^0.5)))","v":1.968962982566324},{"$f":"IF($C$2=1,($Z$806*C812*$F$806/$Z$5)*(1-Y812^3-(D812-E812)*(-2*E812^3*(1-Y812^3)-3*E812^2*(1-Y812^2)-6*E812*(1-Y812)-6*LN((1-E812)/(1-E812*Y812)))/(2*E812^4))/3,$F$806*E812*(LN((1+D812^3)/(D812^3+Y812^3)))/3)","v":1.303089661226194},{"$f":"G812/F812","v":0.66181521580855818},{"$f":"F812*B812*$D$806","v":0.44211171909527214},{"$f":"MAX(MIN($K$806,$Q$806*$J$806*C812*(B812-$I$806)/B812),-$K$806)","v":86.21493824086653},{"$f":"J812*$H$806","v":5.2003625588583166E-2},{"$f":"MIN($O$806,$Q$806*$N$806*C812*(C$806-B812-$M$806)/B812)","v":-9.9217445444334924},{"$f":"L812*$L$806","v":-5.9846553161446783E-3},{"$f":"(0.5*$C$806-B812+H812*B812)*I812+(0.5*$C$806-$I$806)*K812+(0.5*$C$806-$M$806)*M812","v":4.9100197660534056E-2},{"$f":"I812+K812-M812","v":0.50009999999999999},null,{"$f":"N812-P812*O812","v":4.9100197660534056E-2},{"$f":"R811","v":0.5},{"$f":"F812*$D$806","v":0.82696445267785601},{"$f":"IF(ABS(J811)<$K$806,$Q$806*C812*$H$806*$J$806,IF(J811>0,1,-1)*$H$806*$K$806)","v":5.8577764198931528E-2},{"$f":"IF(L811<$O$806,$Q$806*C812*$L$806*$N$806,-$L$806*$O$806)","v":5.8577764198931528E-2},{"$f":"-(R812+0.0001)","v":-0.50009999999999999},{"$f":"IF(ABS(J811)<$K$806,$I$806*$Q$806*C812*$H$806*$J$806,0)","v":3.5146658519358913E-3},{"$f":"IF(L811<$O$806,($C$806-$M$806)*$Q$806*C812*$L$806*$N$806,0)","v":2.8117326815487138E-2},{"$f":"IF(B811<$C$806,0,(B811-$C$806)/B811)","v":2.2128276898695249E-2},{"$f":"IF(B812<=$C$806,0,(B812-$C$806)/B812)","v":0}]
[null,{"$f":"MIN(0.5*(-(T813+U813+V813)+SQRT((T813+U813+V813)^2+4*S813*(W813+X813)))/S813,1000*$C$6)","v":0.56106444186771554},{"$f":"0.95*C812","v":1.6870399632334699E-4},{"$f":"IF($C$2=1,C813/($Z$806*$Z$5),2^(1/3)*$Z$5/C813)","v":2.9800564752959842E-2},{"$f":"IF($C$2=1,-($Z$806-2)*C813/$Z$5,3*($Z$5/C813)^2)","v":-5.9975011018561869E-2},{"$f":"IF($C$2=1,0.5*($Z$806*C813*$F$806/$Z$5)*(1-Y813^2+(D813-E813)*(E813^2*(1-Y813^2)+2*E813*(1-Y813)+2*LN((1-E813)/(1-E813*Y813)))/(E813^3)),$F$806*E813*(LN((1-D813+D813^2)/(1+D813)^2)/(6*D813)+ATAN((2-D813)/(D813*3^0.5))/(D813*3^0.5)-LN((Y813^2-D813*Y813+D813^2)/(Y813+D813)^2)/(6*D813)-ATAN((2*Y813-D813)/(D813*3^0.5))/(D813*3^0.5)))","v":1.8772220122317107},{"$f":"IF($C$2=1,($Z$806*C813*$F$806/$Z$5)*(1-Y813^3-(D813-E813)*(-2*E813^3*(1-Y813^3)-3*E813^2*(1-Y813^2)-6*E813*(1-Y813)-6*LN((1-E813)/(1-E813*Y813)))/(2*E813^4))/3,$F$806*E813*(LN((1+D813^3)/(D813^3+Y813^3)))/3)","v":1.2422239688661245},{"$f":"G813/F813","v":0.66173524536361195},{"$f":"F813*B813*$D$806","v":0.44236185863292132},{"$f":"MAX(MIN($K$806,$Q$806*$J$806*C813*(B813-$I$806)/B813),-$K$806)","v":82.392206529621618},{"$f":"J813*$H$806","v":4.9697808143330351E-2},{"$f":"MIN($O$806,$Q$806*$N$806*C813*(C$806-B813-$M$806)/B813)","v":-13.329778923599301},{"$f":"L813*$L$806","v":-8.0403332237482805E-3},{"$f":"(0.5*$C$806-B813+H813*B813)*I813+(0.5*$C$806-$I$806)*K813+(0.5*$C$806-$M$806)*M813","v":4.4230655032391285E-2},{"$f":"I813+K813-M813","v":0.50009999999999999},null,{"$f":"N813-P813*O813","v":4.4230655032391285E-2},{"$f":"R812","v":0.5},{"$f":"F813*$D$806","v":0.78843324513731849},{"$f":"IF(ABS(J812)<$K$806,$Q$806*C813*$H$806*$J$806,IF(J812>0,1,-1)*$H$806*$K$806)","v":5.5648875988984936E-2},5.5648875988984936E-2,{"$f":"-(R813+0.0001)","v":-0.50009999999999999},{"$f":"IF(ABS(J812)<$K$806,$I$806*$Q$806*C813*$H$806*$J$806,0)","v":3.3389325593390965E-3},2.6711460474712779E-2,{"$f":"IF(B812<$C$806,0,(B812-$C$806)/B812)","v":0},{"$f":"IF(B813<=$C$806,0,(B813-$C$806)/B813)","v":3.754371208696549E-2}]
[null,0.59338227711800429,{"$f":"IF(ABS($Q$811-Q813)<=0.001*Q$811,C813,MAX(0.9*C813,MIN($W$6,1.05*C813,IF(C813=$W$6,0.5*(C813+C812),C813+IF(C813=C812,0,(C813-C812)*(Q813-Q$811)/(Q812-Q813))))))","v":1.5939575831940675E-4},2.8156319474734653E-2,-5.6665891560717378E-2,1.7767051628220596,1.1778726640193005,0.66295336371309155,0.4427914492187206,78.353913967543818,4.7261967456084929E-2,-16.655868722805071,-1.0046583325194321E-2,3.8811738854576019E-2,0.50009999999999988,null,3.8811738854576019E-2,0.5,0.74621616838526506,5.2578450903354994E-2,5.2578450903354994E-2,-0.50009999999999999,3.1547070542012993E-3,2.5237656433610405E-2,3.754371208696549E-2,8.9962708993056542E-2]
[null,0.59522318843878397,{"$f":"IF(ABS($Q$811-Q814)<=0.001*Q$811,C814,MAX(0.9*C814,MIN($W$6,1.05*C814,IF(C814=$W$6,0.5*(C814+C813),C814+IF(C814=C813,0,(C814-C813)*(Q814-Q$811)/(Q813-Q814))))))","v":1.5993522129555742E-4},2.8251612423941322E-2,-5.6857673016070288E-2,1.769840347257053,1.1807664464747356,0.66715986461983412,0.442449006099218,78.64644919974802,4.7438420551075437E-2,-16.931057607232702,-1.0212573349706464E-2,3.9623243443272421E-2,0.50009999999999988,null,3.9623243443272421E-2,0.5,0.74333294584796217,5.2756398722699591E-2,5.2756398722699591E-2,-0.50009999999999999,3.1653839233619753E-3,2.5323071386895806E-2,8.9962708993056542E-2,9.2777280037811216E-2]
[null,0.5967125981996908,1.5960453272794654E-4,2.8193198241189755E-2,-5.6740111779120327E-2,1.7654227181708684,1.1783888777946079,0.66748256135251349,0.44244899037380969,78.505797270913064,4.735358130633794E-2,-17.071735606655892,-1.0297428319852309E-2,3.9453465665470366E-2,0.50009999999999999,null,3.9453465665470366E-2,0.5,0.74147754163176471,5.2647317447264468E-2,5.2647317447264468E-2,-0.50009999999999999,3.1588390468358677E-3,2.5270712374686942E-2,9.2777280037811216E-2,9.5041730928415571E-2]
[null,0.59928168975689433,1.5896630367719179E-4,2.8080458848118217E-2,-5.6513218550829407E-2,1.7579621312311076,1.1738940257291455,0.66775842600606139,0.44247609694377987,78.229340185623897,4.71868263210879E-2,-17.303253685684474,-1.0437076735132196E-2,3.9086218684028978E-2,0.50009999999999999,null,3.9086218684028978E-2,0.5,0.73834409511706511,5.2436790547652996E-2,5.2436790547652996E-2,-0.50009999999999999,3.1462074328591797E-3,2.5169659462873445E-2,9.5041730928415571E-2,9.8921243165201012E-2]
[null,0.59946146494186237,1.590350814578978E-4,2.8092608036946951E-2,-5.6537669353688688E-2,1.7572796005953164,1.1742345812026389,0.66821158158601601,0.442436989547834,78.265797935308271,4.7208817117614273E-2,-17.331630679502435,-1.0454193334551614E-2,3.9178231272843818E-2,0.50009999999999988,null,3.9178231272843818E-2,0.5,0.73805743225003284,5.2459477658051798E-2,5.2459477658051798E-2,-0.50009999999999999,3.1475686594831082E-3,2.5180549275864866E-2,9.8921243165201012E-2,9.9191471711411988E-2]
[null,0.59963571295162488,1.5899588589515256E-4,2.808568437223791E-2,-5.652373515913043E-2,1.7567708702764393,1.1739532290103989,0.66824493101121929,0.44243747238216086,78.24903758274003,4.7198707511118279E-2,-17.347590558426923,-1.0463820106720834E-2,3.9157389765498124E-2,0.50009999999999999,null,3.9157389765498124E-2,0.5,0.73784376551610453,5.2446548568889327E-2,5.2446548568889327E-2,-0.50009999999999999,3.1467929141333595E-3,2.5174343313066883E-2,9.9191471711411988E-2,9.9453237463252797E-2]
[null,0.59966555891075279,1.5899588589515256E-4,2.808568437223791E-2,-5.652373515913043E-2,1.756674100591183,1.1739436176133833,0.6682762711753476,0.44243512166912341,78.249470600795249,4.7198968701455776E-2,-17.351054702868694,-1.0465909629420848E-2,3.9160772919213507E-2,0.5001000000000001,null,3.9160772919213507E-2,0.5,0.73780312224829681,5.2446548568889327E-2,5.2446548568889327E-2,-0.50009999999999999,3.1467929141333595E-3,2.5174343313066883E-2,9.9453237463252797E-2,9.9498058583072105E-2]
[null,0.5996706774653382,1.5899588589515256E-4,2.808568437223791E-2,-5.652373515913043E-2,1.7566575057399896,1.1739419668305773,0.66828164454063899,0.44243471854750172,78.249544858664152,4.7199013492747056E-2,-17.351648765820055,-1.0466267959751172E-2,3.9161352828289218E-2,0.50009999999999999,null,3.9161352828289218E-2,0.5,0.73779615241079555,5.2446548568889327E-2,5.2446548568889327E-2,-0.50009999999999999,3.1467929141333595E-3,2.5174343313066883E-2,9.9498058583072105E-2,9.9505744915778724E-2]
[null,0.59967155548098272,1.5899588589515256E-4,2.808568437223791E-2,-5.652373515913043E-2,1.7566546591591887,1.1739416835945617,0.66828256622531679,0.44243464939838056,78.249557596423941,4.719902117598275E-2,-17.351750667898187,-1.046632942563662E-2,3.9161452295323605E-2,0.50009999999999988,null,3.9161452295323605E-2,0.5,0.73779495684685925,5.2446548568889327E-2,5.2446548568889327E-2,-0.50009999999999999,3.1467929141333595E-3,2.5174343313066883E-2,9.9505744915778724E-2,9.950706338425791E-2]
[null,0.59967170609754739,1.5899588589515256E-4,2.808568437223791E-2,-5.652373515913043E-2,1.7566541708519274,1.1739416349975633,0.66828272432714231,0.44243463753642204,78.249559781481025,4.7199022493978136E-2,-17.351768148355067,-1.0466339969599803E-2,3.9161469356629078E-2,0.50009999999999999,null,3.9161469356629078E-2,0.5,0.73779475175780951,5.2446548568889327E-2,5.2446548568889327E-2,-0.50009999999999999,3.1467929141333595E-3,2.5174343313066883E-2,9.950706338425791E-2,9.9507289556597281E-2]
[null,0.5996717319348297,1.5899588589515256E-4,2.808568437223791E-2,-5.652373515913043E-2,1.7566540870860512,1.1739416266641409,0.66828275145022009,0.44243463550158157,78.249560156313123,4.719902272007153E-2,-17.351771147011739,-1.0466341778346896E-2,3.9161472283849905E-2,0.50009999999999999,null,3.9161472283849905E-2,0.5,0.73779471657614148,5.2446548568889327E-2,5.2446548568889327E-2,-0.50009999999999999,3.1467929141333595E-3,2.5174343313066883E-2,9.9507289556597281E-2,9.9507328354965022E-2]
[null,0.59967173636711457,1.5899588589515256E-4,2.808568437223791E-2,-5.652373515913043E-2,1.7566540727163433,1.173941625238607,0.66828275610537347,0.44243463515251275,78.249560220614114,4.7199022758856977E-2,-17.351771661419555,-1.0466342088630381E-2,3.9161472786612264E-2,0.5001000000000001,null,3.9161472786612264E-2,0.5,0.73779471054086421,5.2446548568889327E-2,5.2446548568889327E-2,-0.50009999999999999,3.1467929141333595E-3,2.5174343313066883E-2,9.9507328354965022E-2,9.9507335010673145E-2]
[null,0.59967173712746114,1.5899588589515256E-4,2.808568437223791E-2,-5.652373515913043E-2,1.7566540702512585,1.1739416249944139,0.66828275690415373,0.44243463509263081,78.24956023164475,4.7199022765510495E-2,-17.351771749664831,-1.0466342141858678E-2,3.9161472872913168E-2,0.50009999999999999,null,3.9161472872913168E-2,0.5,0.7377947095055285,5.2446548568889327E-2,5.2446548568889327E-2,-0.50009999999999999,3.1467929141333595E-3,2.5174343313066883E-2,9.9507335010673145E-2,9.9507336152441991E-2]
[null,0.59967173725779799,1.5899588589515256E-4,2.808568437223791E-2,-5.652373515913043E-2,1.7566540698286994,1.1739416249465111,0.66828275703763818,0.44243463508236602,78.249560233535604,4.7199022766651035E-2,-17.351771764791632,-1.0466342150982948E-2,3.9161472886793829E-2,0.50009999999999999,null,3.9161472886793829E-2,0.5,0.73779470932805369,5.2446548568889327E-2,5.2446548568889327E-2,-0.50009999999999999,3.1467929141333595E-3,2.5174343313066883E-2,9.9507336152441991E-2,9.9507336348161363E-2]
[null,0.59967173728008172,1.5899588589515256E-4,2.808568437223791E-2,-5.652373515913043E-2,1.7566540697564543,1.1739416249349197,0.6682827570585238,0.44243463508061109,78.249560233858872,4.7199022766846024E-2,-17.351771767377866,-1.0466342152542928E-2,3.9161472888653293E-2,0.50009999999999999,null,3.9161472888653293E-2,0.5,0.73779470929771074,5.2446548568889327E-2,5.2446548568889327E-2,-0.50009999999999999,3.1467929141333595E-3,2.5174343313066883E-2,9.9507336348161363E-2,9.9507336381623568E-2]
[null,0.59967173728392897,1.5899588589515256E-4,2.808568437223791E-2,-5.652373515913043E-2,1.756654069743981,1.1739416249351151,0.66828275706338025,0.442434635080308,78.249560233914707,4.7199022766879706E-2,-17.351771767824378,-1.0466342152812258E-2,3.9161472889306118E-2,0.50009999999999999,null,3.9161472889306118E-2,0.5,0.73779470929247193,5.2446548568889327E-2,5.2446548568889327E-2,-0.50009999999999999,3.1467929141333595E-3,2.5174343313066883E-2,9.9507336381623568E-2,9.9507336387400766E-2]
[null,0.59967173728475653,1.5899588589515256E-4,2.808568437223791E-2,-5.652373515913043E-2,1.7566540697412985,1.1739416249443992,0.66828275706968587,0.442434635080243,78.249560233926715,4.7199022766886943E-2,-17.351771767920422,-1.046634215287019E-2,3.9161472890842382E-2,0.5001000000000001,null,3.9161472890842382E-2,0.5,0.73779470929134527,5.2446548568889327E-2,5.2446548568889327E-2,-0.50009999999999999,3.1467929141333595E-3,2.5174343313066883E-2,9.9507336387400766E-2,9.9507336388643466E-2]
[null,0.59967173728472645,1.5899588589515256E-4,2.808568437223791E-2,-5.652373515913043E-2,1.7566540697413957,1.1739416249342787,0.66828275706388762,0.44243463508024522,78.24956023392626,4.7199022766886672E-2,-17.351771767916933,-1.0466342152868086E-2,3.9161472889308956E-2,0.50009999999999999,null,3.9161472889308956E-2,0.5,0.73779470929138613,5.2446548568889327E-2,5.2446548568889327E-2,-0.50009999999999999,3.1467929141333595E-3,2.5174343313066883E-2,9.9507336388643466E-2,9.950733638859828E-2]
[null,0.59967173728483414,1.5899588589515256E-4,2.808568437223791E-2,-5.652373515913043E-2,1.7566540697410464,1.1739416249411885,0.66828275706795404,0.44243463508023673,78.249560233927824,4.7199022766887616E-2,-17.351771767929431,-1.0466342152875624E-2,3.9161472890370051E-2,0.50009999999999999,null,3.9161472890370051E-2,0.5,0.73779470929123947,5.2446548568889327E-2,5.2446548568889327E-2,-0.50009999999999999,3.1467929141333595E-3,2.5174343313066883E-2,9.950733638859828E-2,9.9507336388759998E-2]
[null,0.59967173728484902,1.5899588589515256E-4,2.808568437223791E-2,-5.652373515913043E-2,1.7566540697409982,1.1739416249411825,0.66828275706796891,0.44243463508023556,78.249560233928051,4.7199022766887755E-2,-17.351771767931154,-1.0466342152876664E-2,3.9161472890371543E-2,0.50009999999999999,null,3.9161472890371543E-2,0.5,0.73779470929121926,5.2446548568889327E-2,5.2446548568889327E-2,-0.50009999999999999,3.1467929141333595E-3,2.5174343313066883E-2,9.9507336388759998E-2,9.9507336388782341E-2]
[null,0.59967173728484779,1.5899588589515256E-4,2.808568437223791E-2,-5.652373515913043E-2,1.7566540697410022,1.1739416249408938,0.66828275706780305,0.44243463508023573,78.249560233928037,4.7199022766887741E-2,-17.351771767931012,-1.0466342152876578E-2,3.9161472890327731E-2,0.5001000000000001,null,3.9161472890327731E-2,0.5,0.73779470929122093,5.2446548568889327E-2,5.2446548568889327E-2,-0.50009999999999999,3.1467929141333595E-3,2.5174343313066883E-2,9.9507336388782341E-2,9.950733638878051E-2]
[null,0.59967173728479117,1.5899588589515256E-4,2.808568437223791E-2,-5.652373515913043E-2,1.7566540697411859,1.1739416249374397,0.6682827570657669,0.44243463508024022,78.249560233927212,4.7199022766887248E-2,-17.351771767924443,-1.0466342152872616E-2,3.9161472889796892E-2,0.5001000000000001,null,3.9161472889796892E-2,0.5,0.73779470929129809,5.2446548568889327E-2,5.2446548568889327E-2,-0.50009999999999999,3.1467929141333595E-3,2.5174343313066883E-2,9.950733638878051E-2,9.950733638869548E-2]
[null,0.59967173728482281,1.5899588589515256E-4,2.808568437223791E-2,-5.652373515913043E-2,1.7566540697410833,1.1739416249400334,0.66828275706728246,0.44243463508023767,78.249560233927653,4.7199022766887512E-2,-17.351771767928117,-1.0466342152874831E-2,3.9161472890193748E-2,0.50009999999999999,null,3.9161472890193748E-2,0.5,0.7377947092912549,5.2446548568889327E-2,5.2446548568889327E-2,-0.50009999999999999,3.1467929141333595E-3,2.5174343313066883E-2,9.950733638869548E-2,9.9507336388742998E-2]
[null,0.59967173728478695,1.5899588589515256E-4,2.808568437223791E-2,-5.652373515913043E-2,1.7566540697411999,1.1739416249374413,0.66828275706576246,0.44243463508024056,78.249560233927156,4.7199022766887214E-2,-17.351771767923953,-1.0466342152872321E-2,3.9161472889796399E-2,0.5001000000000001,null,3.9161472889796399E-2,0.5,0.73779470929130386,5.2446548568889327E-2,5.2446548568889327E-2,-0.50009999999999999,3.1467929141333595E-3,2.5174343313066883E-2,9.9507336388742998E-2,9.9507336388689152E-2]
[null,0.59967173728485967,1.5899588589515256E-4,2.808568437223791E-2,-5.652373515913043E-2,1.7566540697409636,1.1739416249420485,0.66828275706847506,0.44243463508023467,78.249560233928193,4.7199022766887838E-2,-17.351771767932394,-1.0466342152877412E-2,3.9161472890504069E-2,0.50009999999999999,null,3.9161472890504069E-2,0.5,0.73779470929120472,5.2446548568889327E-2,5.2446548568889327E-2,-0.50009999999999999,3.1467929141333595E-3,2.5174343313066883E-2,9.9507336388689152E-2,9.9507336388798343E-2]
[null,0.59967173728487977,1.5899588589515256E-4,2.808568437223791E-2,-5.652373515913043E-2,1.7566540697408985,1.1739416249423325,0.66828275706866147,0.44243463508023312,78.249560233928491,4.7199022766888019E-2,-17.351771767934725,-1.0466342152878817E-2,3.9161472890550213E-2,0.50009999999999999,null,3.9161472890550213E-2,0.5,0.73779470929117741,5.2446548568889327E-2,5.2446548568889327E-2,-0.50009999999999999,3.1467929141333595E-3,2.5174343313066883E-2,9.9507336388798343E-2,9.9507336388828527E-2]
[null,0.5996717372847703,1.5899588589515256E-4,2.808568437223791E-2,-5.652373515913043E-2,1.7566540697412534,1.1739416249362866,0.66828275706508489,0.44243463508024178,78.249560233926914,4.7199022766887068E-2,-17.35177176792202,-1.0466342152871155E-2,3.9161472889619374E-2,0.50009999999999999,null,3.9161472889619374E-2,0.5,0.7377947092913264,5.2446548568889327E-2,5.2446548568889327E-2,-0.50009999999999999,3.1467929141333595E-3,2.5174343313066883E-2,9.9507336388828527E-2,9.9507336388664144E-2]
[null,0.5996717372847854,1.5899588589515256E-4,2.808568437223791E-2,-5.652373515913043E-2,1.7566540697412047,1.1739416249377319,0.6682827570659261,0.44243463508024067,78.249560233927141,4.71990227668872E-2,-17.351771767923772,-1.0466342152872211E-2,3.9161472889840065E-2,0.5001000000000001,null,3.9161472889840065E-2,0.5,0.73779470929130597,5.2446548568889327E-2,5.2446548568889327E-2,-0.50009999999999999,3.1467929141333595E-3,2.5174343313066883E-2,9.9507336388664144E-2,9.9507336388686807E-2]
[null,0.59967173728478784,1.5899588589515256E-4,2.808568437223791E-2,-5.652373515913043E-2,1.7566540697411965,1.1739416249380188,0.66828275706609253,0.44243463508024039,78.24956023392717,4.7199022766887221E-2,-17.351771767924056,-1.0466342152872381E-2,3.9161472889883808E-2,0.50009999999999999,null,3.9161472889883808E-2,0.5,0.73779470929130253,5.2446548568889327E-2,5.2446548568889327E-2,-0.50009999999999999,3.1467929141333595E-3,2.5174343313066883E-2,9.9507336388686807E-2,9.9507336388690484E-2]
[null,0.5996717372847884,1.5899588589515256E-4,2.808568437223791E-2,-5.652373515913043E-2,1.756654069741195,1.1739416249380186,0.66828275706609297,0.44243463508024039,78.249560233927156,4.7199022766887214E-2,-17.35177176792412,-1.0466342152872421E-2,3.916147288988385E-2,0.50009999999999999,null,3.916147288988385E-2,0.5,0.73779470929130186,5.2446548568889327E-2,5.2446548568889327E-2,-0.50009999999999999,3.1467929141333595E-3,2.5174343313066883E-2,9.9507336388690484E-2,9.9507336388691317E-2]
[null,0.59967173728481471,1.5899588589515256E-4,2.808568437223791E-2,-5.652373515913043E-2,1.7566540697411093,1.1739416249394579,0.66828275706694495,0.44243463508023823,78.249560233927554,4.719902276688745E-2,-17.351771767927175,-1.0466342152874264E-2,3.916147289010552E-2,0.50009999999999988,null,3.916147289010552E-2,0.5,0.73779470929126589,5.2446548568889327E-2,{"$f":"IF(L843<$O$806,$Q$806*C844*$L$806*$N$806,-$L$806*$O$806)","v":5.2446548568889327E-2},-0.50009999999999999,3.1467929141333595E-3,{"$f":"IF(L843<$O$806,($C$806-$M$806)*$Q$806*C844*$L$806*$N$806,0)","v":2.5174343313066883E-2},9.9507336388691317E-2,9.9507336388730827E-2]
[null,0.59967173728476286,1.5899588589515256E-4,2.808568437223791E-2,-5.652373515913043E-2,1.7566540697412778,1.1739416249362902,0.66828275706507756,0.44243463508024244,78.249560233926786,4.7199022766886992E-2,-17.351771767921157,-1.0466342152870633E-2,3.9161472889618659E-2,0.5001000000000001,null,3.9161472889618659E-2,0.5,0.73779470929133661,5.2446548568889327E-2,5.2446548568889327E-2,-0.50009999999999999,3.1467929141333595E-3,2.5174343313066883E-2,9.9507336388730827E-2,9.9507336388652973E-2]
[null,0.59967173728478396,1.5899588589515256E-4,2.808568437223791E-2,-5.652373515913043E-2,1.7566540697412092,1.1739416249380201,0.66828275706608842,0.44243463508024067,78.249560233927099,4.7199022766887179E-2,-17.351771767923609,-1.0466342152872113E-2,3.9161472889883357E-2,0.50009999999999999,null,3.9161472889883357E-2,0.5,0.73779470929130786,5.2446548568889327E-2,5.2446548568889327E-2,-0.50009999999999999,3.1467929141333595E-3,2.5174343313066883E-2,9.9507336388652973E-2,9.9507336388684642E-2]
[null,0.59967173728484036,1.5899588589515256E-4,2.808568437223791E-2,-5.652373515913043E-2,1.7566540697410264,1.1739416249408976,0.66828275706779605,0.44243463508023628,78.249560233927923,4.7199022766887672E-2,-17.351771767930149,-1.0466342152876057E-2,3.9161472890327106E-2,0.50009999999999999,null,3.9161472890327106E-2,0.5,0.73779470929123103,5.2446548568889327E-2,5.2446548568889327E-2,-0.50009999999999999,3.1467929141333595E-3,2.5174343313066883E-2,9.9507336388684642E-2,9.9507336388769338E-2]
[null,0.59967173728478995,1.5899588589515256E-4,2.808568437223791E-2,-5.652373515913043E-2,1.7566540697411899,1.1739416249377279,0.66828275706592943,0.44243463508024028,78.249560233927184,4.7199022766887228E-2,-17.351771767924301,-1.0466342152872531E-2,3.9161472889840204E-2,0.5001000000000001,null,3.9161472889840204E-2,0.5,0.73779470929129976,5.2446548568889327E-2,5.2446548568889327E-2,-0.50009999999999999,3.1467929141333595E-3,2.5174343313066883E-2,9.9507336388769338E-2,9.9507336388693648E-2]
[null,0.59967173728488277,1.5899588589515256E-4,2.808568437223791E-2,-5.652373515913043E-2,1.756654069740889,1.1739416249437753,0.66828275706948648,0.44243463508023295,78.249560233928534,4.7199022766888046E-2,-17.351771767935073,-1.0466342152879027E-2,3.9161472890768607E-2,0.50009999999999999,null,3.9161472890768607E-2,0.5,0.7377947092911733,5.2446548568889327E-2,5.2446548568889327E-2,-0.50009999999999999,3.1467929141333595E-3,2.5174343313066883E-2,9.9507336388693648E-2,9.9507336388833023E-2]
[null,0.59967173728478973,1.5899588589515256E-4,2.808568437223791E-2,-5.652373515913043E-2,1.7566540697411905,1.1739416249371499,0.66828275706560014,0.44243463508024028,78.249560233927184,4.7199022766887228E-2,-17.351771767924276,-1.0466342152872515E-2,3.9161472889752871E-2,0.5001000000000001,null,3.9161472889752871E-2,0.5,0.73779470929129998,5.2446548568889327E-2,5.2446548568889327E-2,-0.50009999999999999,3.1467929141333595E-3,2.5174343313066883E-2,9.9507336388833023E-2,9.9507336388693315E-2]
[null,0.59967173728487522,1.5899588589515256E-4,2.808568437223791E-2,-5.652373515913043E-2,1.7566540697409132,1.1739416249431998,0.66828275706914964,0.44243463508023351,78.24956023392842,4.7199022766887977E-2,-17.351771767934199,-1.04663421528785E-2,3.9161472890680477E-2,0.50009999999999999,null,3.9161472890680477E-2,0.5,0.73779470929118351,5.2446548568889327E-2,5.2446548568889327E-2,-0.50009999999999999,3.1467929141333595E-3,2.5174343313066883E-2,9.9507336388693315E-2,9.9507336388821685E-2]
[null,0.59967173728479206,1.5899588589515256E-4,2.808568437223791E-2,-5.652373515913043E-2,1.7566540697411828,1.1739416249371504,0.66828275706560336,0.44243463508024,78.249560233927227,4.7199022766887255E-2,-17.351771767924546,-1.0466342152872678E-2,3.9161472889753336E-2,0.50009999999999999,null,3.9161472889753336E-2,0.5,0.73779470929129676,5.2446548568889327E-2,5.2446548568889327E-2,-0.50009999999999999,3.1467929141333595E-3,2.5174343313066883E-2,9.9507336388821685E-2,9.9507336388696813E-2]
[null,0.59967173728486434,1.5899588589515256E-4,2.808568437223791E-2,-5.652373515913043E-2,1.7566540697409487,1.1739416249426238,0.66828275706880824,0.4424346350802344,78.249560233928264,4.719902276688788E-2,-17.351771767932934,-1.0466342152877737E-2,3.9161472890591693E-2,0.50009999999999999,null,3.9161472890591693E-2,0.5,0.73779470929119839,5.2446548568889327E-2,5.2446548568889327E-2,-0.50009999999999999,3.1467929141333595E-3,2.5174343313066883E-2,9.9507336388696813E-2,9.9507336388805351E-2]
[null,0.59967173728486178,1.5899588589515256E-4,2.808568437223791E-2,-5.652373515913043E-2,1.7566540697409567,1.1739416249414685,0.66828275706814755,0.44243463508023451,78.249560233928236,4.7199022766887866E-2,-17.35177176793264,-1.046634215287756E-2,3.9161472890416812E-2,0.50009999999999988,null,3.9161472890416812E-2,0.5,0.73779470929120183,5.2446548568889327E-2,5.2446548568889327E-2,-0.50009999999999999,3.1467929141333595E-3,2.5174343313066883E-2,9.9507336388805351E-2,9.9507336388801507E-2]
[null,0.59967173728486511,1.5899588589515256E-4,2.808568437223791E-2,-5.652373515913043E-2,1.7566540697409461,1.1739416249411809,0.6682827570679879,0.44243463508023434,78.249560233928293,4.7199022766887901E-2,-17.351771767933023,-1.046634215287779E-2,3.916147289037393E-2,0.5001000000000001,null,3.916147289037393E-2,0.5,0.73779470929119728,5.2446548568889327E-2,5.2446548568889327E-2,-0.50009999999999999,3.1467929141333595E-3,2.5174343313066883E-2,9.9507336388801507E-2,9.9507336388806517E-2]
[null,0.59967173728489576,1.5899588589515256E-4,2.808568437223791E-2,-5.652373515913043E-2,1.7566540697408466,1.1739416249434833,0.66828275706933638,0.4424346350802319,78.249560233928733,4.7199022766888164E-2,-17.351771767936579,-1.0466342152879936E-2,3.9161472890726627E-2,0.50009999999999999,null,3.9161472890726627E-2,0.5,0.73779470929115554,5.2446548568889327E-2,5.2446548568889327E-2,-0.50009999999999999,3.1467929141333595E-3,2.5174343313066883E-2,9.9507336388806517E-2,9.9507336388852521E-2]
[null,0.59967173728481826,1.5899588589515256E-4,2.808568437223791E-2,-5.652373515913043E-2,1.7566540697410979,1.1739416249383006,0.66828275706629048,0.44243463508023795,78.24956023392761,4.7199022766887484E-2,-17.351771767927588,-1.0466342152874512E-2,3.9161472889931312E-2,0.50009999999999999,null,3.9161472889931312E-2,0.5,0.73779470929126112,5.2446548568889327E-2,5.2446548568889327E-2,-0.50009999999999999,3.1467929141333595E-3,2.5174343313066883E-2,9.9507336388852521E-2,9.9507336388736156E-2]
[null,0.59967173728480871,1.5899588589515256E-4,2.808568437223791E-2,-5.652373515913043E-2,1.756654069741129,1.1739416249385928,0.66828275706644491,0.44243463508023878,78.249560233927468,4.7199022766887401E-2,-17.351771767926479,-1.0466342152873844E-2,3.9161472889973854E-2,0.5001000000000001,null,3.9161472889973854E-2,0.5,0.73779470929127422,5.2446548568889327E-2,5.2446548568889327E-2,-0.50009999999999999,3.1467929141333595E-3,2.5174343313066883E-2,9.9507336388736156E-2,9.950733638872182E-2]
[null,0.5996717372848257,1.5899588589515256E-4,2.808568437223791E-2,-5.652373515913043E-2,1.7566540697410735,1.1739416249400325,0.66828275706728568,0.44243463508023734,78.249560233927696,4.719902276688754E-2,-17.351771767928451,-1.0466342152875034E-2,3.9161472890194129E-2,0.50009999999999988,null,3.9161472890194129E-2,0.5,0.73779470929125091,5.2446548568889327E-2,5.2446548568889327E-2,-0.50009999999999999,3.1467929141333595E-3,2.5174343313066883E-2,9.950733638872182E-2,9.9507336388747328E-2]
[null,0.59967173728480616,1.5899588589515256E-4,2.808568437223791E-2,-5.652373515913043E-2,1.756654069741137,1.1739416249385923,0.66828275706644169,0.44243463508023889,78.249560233927411,4.7199022766887366E-2,-17.351771767926181,-1.0466342152873663E-2,3.9161472889973424E-2,0.50009999999999988,null,3.9161472889973424E-2,0.5,0.73779470929127755,5.2446548568889327E-2,5.2446548568889327E-2,-0.50009999999999999,3.1467929141333595E-3,2.5174343313066883E-2,9.9507336388747328E-2,9.950733638871799E-2]
[null,0.59967173728482925,1.5899588589515256E-4,2.808568437223791E-2,-5.652373515913043E-2,1.7566540697410626,1.1739416249400327,0.6682827570672899,0.44243463508023723,78.249560233927753,4.7199022766887574E-2,-17.351771767928863,-1.0466342152875282E-2,3.9161472890194664E-2,0.5001000000000001,null,3.9161472890194664E-2,0.5,0.73779470929124624,5.2446548568889327E-2,5.2446548568889327E-2,-0.50009999999999999,3.1467929141333595E-3,2.5174343313066883E-2,9.950733638871799E-2,9.9507336388752671E-2]
[null,0.59967173728485945,1.5899588589515256E-4,2.808568437223791E-2,-5.652373515913043E-2,1.7566540697409643,1.1739416249417582,0.66828275706830964,0.44243463508023467,78.249560233928193,4.7199022766887838E-2,-17.35177176793237,-1.0466342152877397E-2,3.9161472890460201E-2,0.50009999999999999,null,3.9161472890460201E-2,0.5,0.73779470929120494,5.2446548568889327E-2,5.2446548568889327E-2,-0.50009999999999999,3.1467929141333595E-3,2.5174343313066883E-2,9.9507336388752671E-2,9.9507336388798009E-2]
[null,0.59967173728487222,1.5899588589515256E-4,2.808568437223791E-2,-5.652373515913043E-2,1.756654069740923,1.1739416249417565,0.6682827570683243,0.44243463508023378,78.249560233928392,4.7199022766887956E-2,-17.351771767933851,-1.046634215287829E-2,3.9161472890461992E-2,0.5001000000000001,null,3.9161472890461992E-2,0.5,0.73779470929118762,5.2446548568889327E-2,5.2446548568889327E-2,-0.50009999999999999,3.1467929141333595E-3,2.5174343313066883E-2,9.9507336388798009E-2,9.9507336388817189E-2]
[null,0.5996717372847653,1.5899588589515256E-4,2.808568437223791E-2,-5.652373515913043E-2,1.7566540697412698,1.1739416249357115,0.66828275706475115,0.44243463508024228,78.249560233926829,4.7199022766887012E-2,-17.351771767921441,-1.0466342152870805E-2,3.916147288953168E-2,0.5001000000000001,null,3.916147288953168E-2,0.5,0.73779470929133328,5.2446548568889327E-2,5.2446548568889327E-2,-0.50009999999999999,3.1467929141333595E-3,2.5174343313066883E-2,9.9507336388817189E-2,9.9507336388656636E-2]
[null,0.59967173728478051,1.5899588589515256E-4,2.808568437223791E-2,-5.652373515913043E-2,1.7566540697412201,1.1739416249377321,0.66828275706592033,0.44243463508024095,78.24956023392707,4.7199022766887158E-2,-17.351771767923207,-1.046634215287187E-2,3.9161472889839344E-2,0.50009999999999999,null,3.9161472889839344E-2,0.5,0.73779470929131241,5.2446548568889327E-2,5.2446548568889327E-2,-0.50009999999999999,3.1467929141333595E-3,2.5174343313066883E-2,9.9507336388656636E-2,9.9507336388679479E-2]
[null,0.5996717372847945,1.5899588589515256E-4,2.808568437223791E-2,-5.652373515913043E-2,1.7566540697411748,1.173941624938307,0.66828275706626483,0.44243463508023984,78.249560233927269,4.7199022766887283E-2,-17.351771767924831,-1.046634215287285E-2,3.9161472889928432E-2,0.50009999999999999,null,3.9161472889928432E-2,0.5,0.73779470929129343,5.2446548568889327E-2,5.2446548568889327E-2,-0.50009999999999999,3.1467929141333595E-3,2.5174343313066883E-2,9.9507336388679479E-2,9.9507336388700476E-2]
[null,0.59967173728486478,1.5899588589515256E-4,2.808568437223791E-2,-5.652373515913043E-2,1.7566540697409472,1.173941624942048,0.66828275706848106,0.44243463508023434,78.249560233928278,4.7199022766887887E-2,-17.351771767932988,-1.0466342152877769E-2,3.9161472890504812E-2,0.50009999999999999,null,3.9161472890504812E-2,0.5,0.73779470929119784,5.2446548568889327E-2,5.2446548568889327E-2,-0.50009999999999999,3.1467929141333595E-3,2.5174343313066883E-2,9.9507336388700476E-2,9.9507336388806017E-2]
[null,0.59967173728488443,1.5899588589515256E-4,2.808568437223791E-2,-5.652373515913043E-2,1.7566540697408835,1.1739416249426198,0.66828275706883078,0.44243463508023284,78.249560233928563,4.719902276688806E-2,-17.351771767935269,-1.0466342152879145E-2,3.9161472890594365E-2,0.50009999999999999,null,3.9161472890594365E-2,0.5,0.73779470929117097,5.2446548568889327E-2,5.2446548568889327E-2,-0.50009999999999999,3.1467929141333595E-3,2.5174343313066883E-2,9.9507336388806017E-2,9.9507336388835521E-2]
[null,0.59967173728475232,1.5899588589515256E-4,2.808568437223791E-2,-5.652373515913043E-2,1.7566540697413116,1.1739416249351349,0.6682827570644071,0.44243463508024317,78.249560233926658,4.7199022766886908E-2,-17.351771767919935,-1.0466342152869896E-2,3.9161472889442529E-2,0.50009999999999999,null,3.9161472889442529E-2,0.5,0.73779470929135083,5.2446548568889327E-2,5.2446548568889327E-2,-0.50009999999999999,3.1467929141333595E-3,2.5174343313066883E-2,9.9507336388835521E-2,9.9507336388637124E-2]
[null,0.59967173728487622,1.5899588589515256E-4,2.808568437223791E-2,-5.652373515913043E-2,1.7566540697409099,1.1739416249434897,0.66828275706931595,0.4424346350802334,78.249560233928449,4.7199022766887991E-2,-17.351771767934316,-1.0466342152878571E-2,3.9161472890724441E-2,0.50009999999999999,null,3.9161472890724441E-2,0.5,0.73779470929118207,5.2446548568889327E-2,5.2446548568889327E-2,-0.50009999999999999,3.1467929141333595E-3,2.5174343313066883E-2,9.9507336388637124E-2,9.9507336388823184E-2]
[null,0.59967173728483381,1.5899588589515256E-4,2.808568437223791E-2,-5.652373515913043E-2,1.7566540697410478,1.173941624939741,0.66828275706712947,0.44243463508023684,78.249560233927838,4.7199022766887623E-2,-17.351771767929392,-1.0466342152875601E-2,3.9161472890151358E-2,0.5001000000000001,null,3.9161472890151358E-2,0.5,0.73779470929124003,5.2446548568889327E-2,5.2446548568889327E-2,-0.50009999999999999,3.1467929141333595E-3,2.5174343313066883E-2,9.9507336388823184E-2,9.9507336388759499E-2]
[null,0.59967173728483769,1.5899588589515256E-4,2.808568437223791E-2,-5.652373515913043E-2,1.7566540697410351,1.173941624940319,0.66828275706746332,0.44243463508023645,78.24956023392788,4.7199022766887651E-2,-17.351771767929844,-1.0466342152875873E-2,3.9161472890239274E-2,0.50009999999999999,null,3.9161472890239274E-2,0.5,0.7377947092912347,5.2446548568889327E-2,5.2446548568889327E-2,-0.50009999999999999,3.1467929141333595E-3,2.5174343313066883E-2,9.9507336388759499E-2,9.9507336388765341E-2]
[null,0.59967173728478562,1.5899588589515256E-4,2.808568437223791E-2,-5.652373515913043E-2,1.7566540697412036,1.1739416249371526,0.6682827570655967,0.44243463508024056,78.249560233927127,4.7199022766887193E-2,-17.3517717679238,-1.0466342152872227E-2,3.9161472889752628E-2,0.50009999999999999,null,3.9161472889752628E-2,0.5,0.73779470929130553,5.2446548568889327E-2,5.2446548568889327E-2,-0.50009999999999999,3.1467929141333595E-3,2.5174343313066883E-2,9.9507336388765341E-2,9.950733638868714E-2]
[null,0.59967173728479928,1.5899588589515256E-4,2.808568437223791E-2,-5.652373515913043E-2,1.7566540697411595,1.1739416249385946,0.66828275706643436,0.44243463508023945,78.249560233927312,4.7199022766887304E-2,-17.351771767925385,-1.0466342152873183E-2,3.9161472889972619E-2,0.50009999999999999,null,3.9161472889972619E-2,0.5,0.73779470929128699,5.2446548568889327E-2,5.2446548568889327E-2,-0.50009999999999999,3.1467929141333595E-3,2.5174343313066883E-2,9.950733638868714E-2,9.9507336388707651E-2]
[null,0.59967173728485434,1.5899588589515256E-4,2.808568437223791E-2,-5.652373515913043E-2,1.7566540697409812,1.1739416249414723,0.66828275706814044,0.44243463508023517,78.249560233928122,4.7199022766887797E-2,-17.351771767931776,-1.0466342152877039E-2,3.9161472890416174E-2,0.50009999999999999,null,3.9161472890416174E-2,0.5,0.73779470929121205,5.2446548568889327E-2,5.2446548568889327E-2,-0.50009999999999999,3.1467929141333595E-3,2.5174343313066883E-2,9.9507336388707651E-2,9.9507336388790349E-2]
[null,0.59967173728486389,1.5899588589515256E-4,2.808568437223791E-2,-5.652373515913043E-2,1.7566540697409501,1.1739416249414691,0.66828275706815043,0.4424346350802344,78.249560233928264,4.719902276688788E-2,-17.351771767932881,-1.0466342152877705E-2,3.916147289041725E-2,0.50009999999999999,null,3.916147289041725E-2,0.5,0.73779470929119895,5.2446548568889327E-2,5.2446548568889327E-2,-0.50009999999999999,3.1467929141333595E-3,2.5174343313066883E-2,9.9507336388790349E-2,9.9507336388804685E-2]
[null,{"$f":"MIN(0.5*(-(T877+U877+V877)+SQRT((T877+U877+V877)^2+4*S877*(W877+X877)))/S877,1000*$C$6)","v":0.59967173728484291},1.5899588589515256E-4,{"$f":"IF($C$2=1,C877/($Z$806*$Z$5),2^(1/3)*$Z$5/C877)","v":2.808568437223791E-2},{"$f":"IF($C$2=1,-($Z$806-2)*C877/$Z$5,3*($Z$5/C877)^2)","v":-5.652373515913043E-2},{"$f":"IF($C$2=1,0.5*($Z$806*C877*$F$806/$Z$5)*(1-Y877^2+(D877-E877)*(E877^2*(1-Y877^2)+2*E877*(1-Y877)+2*LN((1-E877)/(1-E877*Y877)))/(E877^3)),$F$806*E877*(LN((1-D877+D877^2)/(1+D877)^2)/(6*D877)+ATAN((2-D877)/(D877*3^0.5))/(D877*3^0.5)-LN((Y877^2-D877*Y877+D877^2)/(Y877+D877)^2)/(6*D877)-ATAN((2*Y877-D877)/(D877*3^0.5))/(D877*3^0.5)))","v":1.7566540697410182},{"$f":"IF($C$2=1,($Z$806*C877*$F$806/$Z$5)*(1-Y877^3-(D877-E877)*(-2*E877^3*(1-Y877^3)-3*E877^2*(1-Y877^2)-6*E877*(1-Y877)-6*LN((1-E877)/(1-E877*Y877)))/(2*E877^4))/3,$F$806*E877*(LN((1+D877^3)/(D877^3+Y877^3)))/3)","v":1.1739416249403172},{"$f":"G877/F877","v":0.66828275706746876},{"$f":"F877*B877*$D$806","v":0.44243463508023612},{"$f":"MAX(MIN($K$806,$Q$806*$J$806*C877*(B877-$I$806)/B877),-$K$806)","v":78.249560233927966},{"$f":"J877*$H$806","v":4.7199022766887699E-2},{"$f":"MIN($O$806,$Q$806*$N$806*C877*(C$806-B877-$M$806)/B877)","v":-17.351771767930448},{"$f":"L877*$L$806","v":-1.0466342152876238E-2},{"$f":"(0.5*$C$806-B877+H877*B877)*I877+(0.5*$C$806-$I$806)*K877+(0.5*$C$806-$M$806)*M877","v":3.916147289023985E-2},{"$f":"I877+K877-M877","v":0.5001000000000001},null,{"$f":"N877-P877*O877","v":3.916147289023985E-2},{"$f":"R876","v":0.5},{"$f":"F877*$D$806","v":0.73779470929122759},{"$f":"IF(ABS(J876)<$K$806,$Q$806*C877*$H$806*$J$806,IF(J876>0,1,-1)*$H$806*$K$806)","v":5.2446548568889327E-2},5.2446548568889327E-2,{"$f":"-(R877+0.0001)","v":-0.50009999999999999},{"$f":"IF(ABS(J876)<$K$806,$I$806*$Q$806*C877*$H$806*$J$806,0)","v":3.1467929141333595E-3},2.5174343313066883E-2,{"$f":"IF(B876<$C$806,0,(B876-$C$806)/B876)","v":9.9507336388804685E-2},{"$f":"IF(B877<=$C$806,0,(B877-$C$806)/B877)","v":9.9507336388773168E-2}]
[null,{"$f":"MIN(0.5*(-(T878+U878+V878)+SQRT((T878+U878+V878)^2+4*S878*(W878+X878)))/S878,1000*$C$6)","v":0.59967173728479783},1.5899588589515256E-4,{"$f":"IF($C$2=1,C878/($Z$806*$Z$5),2^(1/3)*$Z$5/C878)","v":2.808568437223791E-2},{"$f":"IF($C$2=1,-($Z$806-2)*C878/$Z$5,3*($Z$5/C878)^2)","v":-5.652373515913043E-2},{"$f":"IF($C$2=1,0.5*($Z$806*C878*$F$806/$Z$5)*(1-Y878^2+(D878-E878)*(E878^2*(1-Y878^2)+2*E878*(1-Y878)+2*LN((1-E878)/(1-E878*Y878)))/(E878^3)),$F$806*E878*(LN((1-D878+D878^2)/(1+D878)^2)/(6*D878)+ATAN((2-D878)/(D878*3^0.5))/(D878*3^0.5)-LN((Y878^2-D878*Y878+D878^2)/(Y878+D878)^2)/(6*D878)-ATAN((2*Y878-D878)/(D878*3^0.5))/(D878*3^0.5)))","v":1.7566540697411641},{"$f":"IF($C$2=1,($Z$806*C878*$F$806/$Z$5)*(1-Y878^3-(D878-E878)*(-2*E878^3*(1-Y878^3)-3*E878^2*(1-Y878^2)-6*E878*(1-Y878)-6*LN((1-E878)/(1-E878*Y878)))/(2*E878^4))/3,$F$806*E878*(LN((1+D878^3)/(D878^3+Y878^3)))/3)","v":1.1739416249377279},{"$f":"G878/F878","v":0.66828275706593931},{"$f":"F878*B878*$D$806","v":0.44243463508023956},{"$f":"MAX(MIN($K$806,$Q$806*$J$806*C878*(B878-$I$806)/B878),-$K$806)","v":78.249560233927312},{"$f":"J878*$H$806","v":4.7199022766887304E-2},{"$f":"MIN($O$806,$Q$806*$N$806*C878*(C$806-B878-$M$806)/B878)","v":-17.351771767925218},{"$f":"L878*$L$806","v":-1.0466342152873082E-2},{"$f":"(0.5*$C$806-B878+H878*B878)*I878+(0.5*$C$806-$I$806)*K878+(0.5*$C$806-$M$806)*M878","v":3.9161472889841523E-2},{"$f":"I878+K878-M878","v":0.50009999999999999},null,{"$f":"N878-P878*O878","v":3.9161472889841523E-2},{"$f":"R877","v":0.5},{"$f":"F878*$D$806","v":0.73779470929128887},{"$f":"IF(ABS(J877)<$K$806,$Q$806*C878*$H$806*$J$806,IF(J877>0,1,-1)*$H$806*$K$806)","v":5.2446548568889327E-2},5.2446548568889327E-2,{"$f":"-(R878+0.0001)","v":-0.50009999999999999},{"$f":"IF(ABS(J877)<$K$806,$I$806*$Q$806*C878*$H$806*$J$806,0)","v":3.1467929141333595E-3},2.5174343313066883E-2,{"$f":"IF(B877<$C$806,0,(B877-$C$806)/B877)","v":9.9507336388773168E-2},{"$f":"IF(B878<=$C$806,0,(B878-$C$806)/B878)","v":9.9507336388705486E-2}]
[null,null,{"$f":"IF(C806*J879/(J879-L879)<=0,B878,C806*J879/(J879-L879))","v":0.55196255111826853},null,null,null,null,null,null,{"$f":"$R878/($J809*N809)+($Q878-R808)/($M809*N809)","v":1.7766233043229294E-4},null,{"$f":"$R878/($J809*$N$809)-($Q878-R808)/($M809*N809)","v":3.8504327970823103E-6},null,null,{"$f":"SIGN(J879-L879)","v":1},{"$f":"IF(Q811=0.0001,ABS(Q808)*($Q$6*C878/B878)/Q811,IF(B878>10*$C$6,(L879-J879)/$C$6,$Q$6*C878/B878))*IF(B878>10*C806,O879*P808,P808)","v":7.2497367221431043E-4},null,null,null,null,null,null,null,null,null,null,{"$f":"N878/($Q$6*C878/B878)","v":54.01778628764459}]
[null,{"$f":"IF(AND(B878<>1000*$C$6,C880<C806,B878<C806),B878,IF(AND(B878<>1000*$C$6,C880>C806,B878>C806),B878*C880/C879,IF(C806*J880/(J880-L880)<=0,B878,C806*J880/(J880-L880))))","v":0.6040279307983577},{"$f":"IF(C806*J880/(J880-L880)<=0,B878,C806*J880/(J880-L880))","v":0.55597217094093399},null,null,null,null,null,null,{"$f":"$R878/($J809*N809)+($Q880-R808)/($M809*N809)","v":1.7644382090411024E-4},null,{"$f":"$R878/($J809*N809)-($Q880-R808)/($M809*N809)","v":5.0689423252650324E-6},null,null,{"$f":"SIGN(J880-L880)","v":1},null,{"$f":"MAX(ABS(INDEX(Snitkræfter!$G$286:$U$286,B809+1)),0.0000001)","v":3.8612389328782991E-2}]
[null,{"$f":"MIN(0.5*(-(T881+U881+V881)+SQRT((T881+U881+V881)^2+4*S881*(W881+X881)))/S881,1000*$C$6)","v":0.60369650789324425},{"$f":"MIN(MAX(IF(Q808=0,0.001*Z805,IF(OR(AND(B878<>1000*$C$6,C880<C806,B878<C806),AND(B878<>1000*$C$6,C880>C806,B878>C806)),C878*J880/J879,IF(B880>C806,J880,C878*MIN(Q880/Q811,2)))),0.0001*$Z$5),0.9*K806/(J806*Q806))","v":1.5790540148332655E-4},{"$f":"IF($C$2=1,C881/($Z$806*$Z$5),2^(1/3)*$Z$5/C881)","v":2.7893056740202277E-2},{"$f":"IF($C$2=1,-($Z$806-2)*C881/$Z$5,3*($Z$5/C881)^2)","v":-5.613606316534149E-2},{"$f":"IF($C$2=1,0.5*($Z$806*C881*$F$806/$Z$5)*(1-Y881^2+(D881-E881)*(E881^2*(1-Y881^2)+2*E881*(1-Y881)+2*LN((1-E881)/(1-E881*Y881)))/(E881^3)),$F$806*E881*(LN((1-D881+D881^2)/(1+D881)^2)/(6*D881)+ATAN((2-D881)/(D881*3^0.5))/(D881*3^0.5)-LN((Y881^2-D881*Y881+D881^2)/(Y881+D881)^2)/(6*D881)-ATAN((2*Y881-D881)/(D881*3^0.5))/(D881*3^0.5)))","v":1.7452692317232419},{"$f":"IF($C$2=1,($Z$806*C881*$F$806/$Z$5)*(1-Y881^3-(D881-E881)*(-2*E881^3*(1-Y881^3)-3*E881^2*(1-Y881^2)-6*E881*(1-Y881)-6*LN((1-E881)/(1-E881*Y881)))/(2*E881^4))/3,$F$806*E881*(LN((1+D881^3)/(D881^3+Y881^3)))/3)","v":1.1663852837757029},{"$f":"G881/F881","v":0.66831252311944944},{"$f":"F881*B881*$D$806","v":0.4425174350204355},{"$f":"MAX(MIN($K$806,$Q$806*$J$806*C881*(B881-$I$806)/B881),-$K$806)","v":77.770482080185573},{"$f":"J881*$H$806","v":4.6910049632495544E-2},{"$f":"MIN($O$806,$Q$806*$N$806*C881*(C$806-B881-$M$806)/B881)","v":-17.693578882397336},{"$f":"L881*$L$806","v":-1.0672515347068987E-2},{"$f":"(0.5*$C$806-B881+H881*B881)*I881+(0.5*$C$806-$I$806)*K881+(0.5*$C$806-$M$806)*M881","v":3.8480530601037018E-2},{"$f":"I881+K881-M881","v":0.5001000000000001},null,{"$f":"N881-P881*O881","v":3.8480530601037018E-2},{"$f":"R878","v":0.5},{"$f":"F881*$D$806","v":0.73301307732376153},{"$f":"IF(ABS(J880)<$K$806,$Q$806*C881*$H$806*$J$806,IF(J880>0,1,-1)*$H$806*$K$806)","v":5.2086840244699339E-2},{"$f":"IF(L878<$O$806,$Q$806*C881*$L$806*$N$806,-$L$806*$O$806)","v":5.2086840244699339E-2},{"$f":"-(R881+0.0001)","v":-0.50009999999999999},{"$f":"IF(ABS(J880)<$K$806,$I$806*$Q$806*C881*$H$806*$J$806,0)","v":3.1252104146819604E-3},{"$f":"IF(L878<$O$806,($C$806-$M$806)*$Q$806*C881*$L$806*$N$806,0)","v":2.5001683317455684E-2},{"$f":"IF(B880<$C$406,0,IF(C878*J880/J879=C881,Y878,(B880-$C$6)/B880))","v":9.9507336388773168E-2},{"$f":"IF(B881<=$C$806,0,(B881-$C$806)/B881)","v":0.10551081058184306}]
[null,{"$f":"MIN(0.5*(-(T882+U882+V882)+SQRT((T882+U882+V882)^2+4*S882*(W882+X882)))/S882,1000*$C$6)","v":0.61643117700743555},{"$f":"0.98*C881","v":1.5474729345366003E-4},2.7335195605398235E-2,{"$f":"IF($C$2=1,-($Z$806-2)*C882/$Z$5,3*($Z$5/C882)^2)","v":-5.5013341902034663E-2},{"$f":"IF($C$2=1,0.5*($Z$806*C882*$F$806/$Z$5)*(1-Y882^2+(D882-E882)*(E882^2*(1-Y882^2)+2*E882*(1-Y882)+2*LN((1-E882)/(1-E882*Y882)))/(E882^3)),$F$806*E882*(LN((1-D882+D882^2)/(1+D882)^2)/(6*D882)+ATAN((2-D882)/(D882*3^0.5))/(D882*3^0.5)-LN((Y882^2-D882*Y882+D882^2)/(Y882+D882)^2)/(6*D882)-ATAN((2*Y882-D882)/(D882*3^0.5))/(D882*3^0.5)))","v":1.7100191315461084},{"$f":"IF($C$2=1,($Z$806*C882*$F$806/$Z$5)*(1-Y882^3-(D882-E882)*(-2*E882^3*(1-Y882^3)-3*E882^2*(1-Y882^2)-6*E882*(1-Y882)-6*LN((1-E882)/(1-E882*Y882)))/(2*E882^4))/3,$F$806*E882*(LN((1+D882^3)/(D882^3+Y882^3)))/3)","v":1.14423611242443},{"$f":"G882/F882","v":0.66913643907005449},{"$f":"F882*B882*$D$806","v":0.44272582450496412},{"$f":"MAX(MIN($K$806,$Q$806*$J$806*C882*(B882-$I$806)/B882),-$K$806)","v":76.388827971564538},4.6076655508185918E-2,{"$f":"MIN($O$806,$Q$806*$N$806*C882*(C$806-B882-$M$806)/B882)","v":-18.729751568610968},-1.1297519986849943E-2,{"$f":"(0.5*$C$806-B882+H882*B882)*I882+(0.5*$C$806-$I$806)*K882+(0.5*$C$806-$M$806)*M882","v":3.6543616301396964E-2},{"$f":"I882+K882-M882","v":0.50009999999999999},null,{"$f":"N882-P882*O882","v":3.6543616301396964E-2},{"$f":"R881","v":0.5},0.7182080352493655,5.1045103439805353E-2,{"$f":"IF(L881<$O$806,$Q$806*C882*$L$806*$N$806,-$L$806*$O$806)","v":5.1045103439805353E-2},{"$f":"-(R882+0.0001)","v":-0.50009999999999999},3.062706206388321E-3,{"$f":"IF(L881<$O$806,($C$806-$M$806)*$Q$806*C882*$L$806*$N$806,0)","v":2.4501649651106575E-2},{"$f":"IF(B881<$C$806,0,IF(MIN(ABS($Q$880-Q881),ABS(Q881-Q880))<=0.001*Q$880,Y881,(B881-$C$806)/B881))","v":0.10551081058184306},0.12398979782054985]
[null,0.62507133806846171,{"$f":"IF(Z882>0,0.99*C882,0.98*C882)","v":1.5319982051912342E-4},2.7061843649344251E-2,-5.4463208483014315E-2,1.6862366812123448,1.1326035303624691,{"$f":"G883/F883","v":0.67167530097149053},0.44268765182271941,75.73765868192865,4.5683879446125744E-2,-19.44420597356266,-1.1728468731154795E-2,3.5805127309818628E-2,{"$f":"I883+K883-M883","v":0.50009999999999999},null,{"$f":"N883-P883*O883","v":3.5805127309818628E-2},{"$f":"R882","v":0.5},0.70821940610918477,5.0534652405407297E-2,5.0534652405407297E-2,{"$f":"-(R883+0.0001)","v":-0.50009999999999999},3.0320791443244374E-3,2.4256633154595506E-2,{"$f":"IF(B882<$C$806,0,IF(MIN(ABS($Q$880-Q882),ABS(Q882-Q881))<=0.001*Q$880,Y882,(B882-$C$806)/B882))","v":0.12398979782054985},0.13609860649080688]
[null,0.6043379314059647,{"$f":"IF(MIN(ABS($Q$880-Q883),10*ABS(Q883-Q882))<=0.001*Q$880,C883,MAX(0.9*C883,MIN($W$6,1.05*C883,IF(C883=$W$6,0.5*(C883+C882),C883+IF(C883=C882,0,(C883-C882)*(Q883-Q$880)/(Q882-Q883))))))","v":1.5908232119826743E-4},2.810095265813245E-2,-5.6554463288692763E-2,1.741529712596394,1.1726373000322428,0.67333752134724889,0.44203843487686212,78.359307454935944,4.7265220731035645E-2,-17.898870597140903,-1.0796344392102185E-2,3.9744033080216172E-2,0.50009999999999999,null,3.9744033080216172E-2,0.5,0.73144247929048545,5.2475060208026142E-2,5.2475060208026142E-2,-0.50009999999999999,3.1485036124815685E-3,2.5188028899852558E-2,0.13609860649080688,0.10646019066896131]
[null,0.6064437953549402,{"$f":"IF(MIN(ABS($Q$880-Q884),10*ABS(Q884-Q883))<=0.001*Q$880,C884,MAX(0.9*C884,MIN($W$6,1.05*C884,IF(C884=$W$6,0.5*(C884+C883),C884+IF(C884=C883,0,(C884-C883)*(Q884-Q$880)/(Q883-Q884))))))","v":1.5739228454230474E-4},2.7802417662527713E-2,-5.595364784109149E-2,1.7372715478347553,1.1625557208027681,0.66918480432821048,0.44249417143304542,77.556518626269238,4.6780989917623181E-2,-17.946110200138325,-1.0824838649331344E-2,3.8250673285414774E-2,0.50009999999999999,null,3.8250673285414774E-2,0.5,0.72965405009059725,5.1917582955950572E-2,5.1917582955950572E-2,-0.50009999999999999,3.1150549773570346E-3,2.4920439818856284E-2,0.10646019066896131,0.1095629897838296]
[null,0.6053017855980064,1.5780163892191917E-4,2.7874727696447874E-2,-5.6099175119418775E-2,1.7403038582422281,1.1652598605731928,0.66957264678488315,0.44243179380839054,77.742123510864886,4.6892944146471063E-2,-17.863918933273588,-1.0775262045138416E-2,3.855128126336823E-2,0.50009999999999999,null,3.855128126336823E-2,0.5,0.73092762046173576,5.2052613018090006E-2,5.2052613018090006E-2,-0.50009999999999999,3.1231567810854001E-3,2.4985254248683208E-2,0.1095629897838296,0.10788302157987463]
[null,0.60477932943285573,1.578848531279346E-4,2.7889426994560384E-2,-5.6128758134827074E-2,1.7418455632053631,1.1659098913381374,0.66935319408720562,0.44244152051019242,77.775726050767531,4.6913212721031085E-2,-17.81419084470674,-1.0745266768776431E-2,3.8580176785137227E-2,0.50009999999999999,null,3.8580176785137227E-2,0.5,0.7315751365462525,5.2080062142781748E-2,5.2080062142781748E-2,-0.50009999999999999,3.1248037285669045E-3,2.4998429828535243E-2,0.10788302157987463,0.10711234045251487]
[null,0.60477932943285573,1.578848531279346E-4,2.7889426994560384E-2,-5.6128758134827074E-2,1.7418455632053631,1.1659098913381374,0.66935319408720562,0.44244152051019242,77.775726050767531,4.6913212721031085E-2,-17.81419084470674,-1.0745266768776431E-2,3.8580176785137227E-2,0.50009999999999999,null,3.8580176785137227E-2,0.5,0.7315751365462525,5.2080062142781748E-2,5.2080062142781748E-2,-0.50009999999999999,3.1248037285669045E-3,2.4998429828535243E-2,0.10788302157987463,0.10711234045251487]
[null,0.60477932943285573,1.578848531279346E-4,2.7889426994560384E-2,-5.6128758134827074E-2,1.7418455632053631,1.1659098913381374,0.66935319408720562,0.44244152051019242,77.775726050767531,4.6913212721031085E-2,-17.81419084470674,-1.0745266768776431E-2,3.8580176785137227E-2,0.50009999999999999,null,3.8580176785137227E-2,0.5,0.7315751365462525,5.2080062142781748E-2,5.2080062142781748E-2,-0.50009999999999999,3.1248037285669045E-3,2.4998429828535243E-2,0.10788302157987463,0.10711234045251487]
[null,0.60477932943285573,1.578848531279346E-4,2.7889426994560384E-2,-5.6128758134827074E-2,1.7418455632053631,1.1659098913381374,0.66935319408720562,0.44244152051019242,77.775726050767531,4.6913212721031085E-2,-17.81419084470674,-1.0745266768776431E-2,3.8580176785137227E-2,0.50009999999999999,null,3.8580176785137227E-2,0.5,0.7315751365462525,5.2080062142781748E-2,5.2080062142781748E-2,-0.50009999999999999,3.1248037285669045E-3,2.4998429828535243E-2,0.10788302157987463,0.10711234045251487]
[null,0.60477932943285573,1.578848531279346E-4,2.7889426994560384E-2,-5.6128758134827074E-2,1.7418455632053631,1.1659098913381374,0.66935319408720562,0.44244152051019242,77.775726050767531,4.6913212721031085E-2,-17.81419084470674,-1.0745266768776431E-2,3.8580176785137227E-2,0.50009999999999999,null,3.8580176785137227E-2,0.5,0.7315751365462525,5.2080062142781748E-2,5.2080062142781748E-2,-0.50009999999999999,3.1248037285669045E-3,2.4998429828535243E-2,0.10788302157987463,0.10711234045251487]
[null,0.60477932943285573,1.578848531279346E-4,2.7889426994560384E-2,-5.6128758134827074E-2,1.7418455632053631,1.1659098913381374,0.66935319408720562,0.44244152051019242,77.775726050767531,4.6913212721031085E-2,-17.81419084470674,-1.0745266768776431E-2,3.8580176785137227E-2,0.50009999999999999,null,3.8580176785137227E-2,0.5,0.7315751365462525,5.2080062142781748E-2,5.2080062142781748E-2,-0.50009999999999999,3.1248037285669045E-3,2.4998429828535243E-2,0.10788302157987463,0.10711234045251487]
[null,0.60477932943285573,1.578848531279346E-4,2.7889426994560384E-2,-5.6128758134827074E-2,1.7418455632053631,1.1659098913381374,0.66935319408720562,0.44244152051019242,77.775726050767531,4.6913212721031085E-2,-17.81419084470674,-1.0745266768776431E-2,3.8580176785137227E-2,0.50009999999999999,null,3.8580176785137227E-2,0.5,0.7315751365462525,5.2080062142781748E-2,5.2080062142781748E-2,-0.50009999999999999,3.1248037285669045E-3,2.4998429828535243E-2,0.10788302157987463,0.10711234045251487]
[null,0.60477932943285573,1.578848531279346E-4,2.7889426994560384E-2,-5.6128758134827074E-2,1.7418455632053631,1.1659098913381374,0.66935319408720562,0.44244152051019242,77.775726050767531,4.6913212721031085E-2,-17.81419084470674,-1.0745266768776431E-2,3.8580176785137227E-2,0.50009999999999999,null,3.8580176785137227E-2,0.5,0.7315751365462525,5.2080062142781748E-2,5.2080062142781748E-2,-0.50009999999999999,3.1248037285669045E-3,2.4998429828535243E-2,0.10788302157987463,0.10711234045251487]
[null,0.60477932943285573,1.578848531279346E-4,2.7889426994560384E-2,-5.6128758134827074E-2,1.7418455632053631,1.1659098913381374,0.66935319408720562,0.44244152051019242,77.775726050767531,4.6913212721031085E-2,-17.81419084470674,-1.0745266768776431E-2,3.8580176785137227E-2,0.50009999999999999,null,3.8580176785137227E-2,0.5,0.7315751365462525,5.2080062142781748E-2,5.2080062142781748E-2,-0.50009999999999999,3.1248037285669045E-3,2.4998429828535243E-2,0.10788302157987463,0.10711234045251487]
[null,0.60477932943285573,1.578848531279346E-4,2.7889426994560384E-2,-5.6128758134827074E-2,1.7418455632053631,1.1659098913381374,0.66935319408720562,0.44244152051019242,77.775726050767531,4.6913212721031085E-2,-17.81419084470674,-1.0745266768776431E-2,3.8580176785137227E-2,0.50009999999999999,null,3.8580176785137227E-2,0.5,0.7315751365462525,5.2080062142781748E-2,5.2080062142781748E-2,-0.50009999999999999,3.1248037285669045E-3,2.4998429828535243E-2,0.10788302157987463,0.10711234045251487]
[null,0.60477932943285573,1.578848531279346E-4,2.7889426994560384E-2,-5.6128758134827074E-2,1.7418455632053631,1.1659098913381374,0.66935319408720562,0.44244152051019242,77.775726050767531,4.6913212721031085E-2,-17.81419084470674,-1.0745266768776431E-2,3.8580176785137227E-2,0.50009999999999999,null,3.8580176785137227E-2,0.5,0.7315751365462525,5.2080062142781748E-2,5.2080062142781748E-2,-0.50009999999999999,3.1248037285669045E-3,2.4998429828535243E-2,0.10788302157987463,0.10711234045251487]
[null,0.60477932943285573,1.578848531279346E-4,2.7889426994560384E-2,-5.6128758134827074E-2,1.7418455632053631,1.1659098913381374,0.66935319408720562,0.44244152051019242,77.775726050767531,4.6913212721031085E-2,-17.81419084470674,-1.0745266768776431E-2,3.8580176785137227E-2,0.50009999999999999,null,{"$f":"IF(B898>10*B806,Q880,IF(Q880<0.000001,0,N898-P898*O898))","v":3.8580176785137227E-2},0.5,0.7315751365462525,5.2080062142781748E-2,5.2080062142781748E-2,-0.50009999999999999,3.1248037285669045E-3,2.4998429828535243E-2,0.10788302157987463,0.10711234045251487]
[null,null,null,null,null,null,null,null,null,{"$f":"MAX(J878,J898)/K806","v":0.17072631323765958},null,{"$f":"MAX(L878,L898)/O806","v":-3.7858411130018657E-2},null,null,null,{"$f":"IF(Q880=0.0001,ABS(INDEX(Snitkræfter!$G$286:$U$286,B809+1))*($Q$6*C898/B898)/Q880,IF(B898>10*$C$6,(J880-L880)/$C$6,$Q$6*C898/B898))*IF(AND(B898>10*$C$6,O880=O879),P808,P808)","v":7.1382780007215208E-4},null,null,null,null,null,null,null,null,null,null,{"$f":"(Q878-Q898)/(P879-P899)","v":52.153487613193647}]
[]
[]
[null,"Tilstand:",{"$f":"C802","v":1}]
[]
[null,"L","h","b","fck","fcd","Ecd","Ac","ac","Esc","fyd_c","At","at","Est","fyd_t","Modenhed","1+f","uterm","g","EI","sc/fcd","sc","e","   emax",null,{"$f":"Stivheder!$AD$4","v":3.5000000000000001E-3}]
[null,"(m)","(m)","(m)","(Mpa)","(Mpa)","(Mpa)","(m2)","(m)","(Mpa)","(Mpa)","(m2)","(m)","(Mpa)","(Mpa)","(døgn)",null,"(m)",null,"(Mnm2)",null,"(MPa)",null,"e1",null,{"$f":"Stivheder!$AD$5","v":2.0693662482105194E-3}]
[null,{"$f":"Stivheder!$B$6","v":0.54},{"$f":"Stivheder!$C$6","v":0.54},{"$f":"Stivheder!$D$6","v":0.42},{"$f":"Stivheder!$E$6","v":25},{"$f":"Stivheder!$F$6","v":17.857142857142858},{"$f":"IF(C902=1,1000*22*((E906+8)/10)^0.3/S906,1.4*F906/Z905)","v":22482.71872144239},{"$f":"IF(P908<0,Stivheder!$X$6,Stivheder!$T$6)","v":6.0318578948924026E-4},{"$f":"IF(P908<0,Stivheder!$Y$6,Stivheder!$U$6)","v":0.06},{"$f":"IF(P908<0,Stivheder!$Z$6,Stivheder!$V$6)","v":200000},{"$f":"IF(P908<0,Stivheder!$AA$6,Stivheder!$W$6)","v":458.33333333333337},{"$f":"IF(P908<0,Stivheder!$T$6,Stivheder!$X$6)","v":6.0318578948924026E-4},{"$f":"IF(P908<0,Stivheder!$U$6,Stivheder!$Y$6)","v":0.06},{"$f":"IF(P908<0,Stivheder!$V$6,Stivheder!$Z$6)","v":200000},{"$f":"IF(P908<0,Stivheder!$W$6,Stivheder!$AA$6)","v":458.33333333333337},{"$f":"Stivheder!$P$6","v":28},{"$f":"Stivheder!$Q$6","v":2.7343237157040781},{"$f":"Stivheder!$R$6","v":0},{"$f":"Stivheder!$S$6","v":1.4},{"$f":"AA979","v":54.013883942327908},{"$f":"U806","v":0.99999990000000005},{"$f":"U906*F906","v":17.857141071428572},{"$f":"Z904","v":3.5000000000000001E-3},"k",null,{"$f":"Stivheder!$AD$6","v":2.7356687822616226}]
[]
[null,"punkt","elasttisk","e_o","sc_o/fcd","sc_u/fcd","sc_o","sc_u","hc","At","Ac","Ic","Wt","E",null,{"$f":"SIGN(Q908)","v":1},{"$f":"INDEX(Snitkræfter!$G$199:$U$199,B909+1)","v":4.483918571179462E-2},{"$f":"INDEX(Snitkræfter!$G$59:$U$59,B909+1)*P908","v":0}]
[null,{"$f":"(ROW()-9)/100","v":9},"skøn",{"$f":"IF(C902=1,Z905*0.5*(-((Z906-2)*E909-Z906)-(((Z906-2)*E909-Z906)^2-4*E909)^0.5),G909/(1.4*F906/Z905))","v":9.5708057484218201E-4},{"$f":"MIN(0.9999,G909/F906)","v":0.78443743993744119},{"$f":"H909/F906","v":-1.0538395740534943E-2},{"$f":"IF(H909>0,R911/J909+MAX(Q911+Stivheder!$O$2*R911+R911*R906,D906*C906^2*0.003*E906)/M909,MIN(0.8*F906,2*(R911+Q911/(C906-M906-0.333*I909))/(((R911+L906*O906)/(F906*D906*0.5))*D906)))","v":14.007811427454307},{"$f":"R911/J909-(Q911+Stivheder!$O$2*R911+R911*R906)/M909","v":-0.18818563822383827},{"$f":"IF(H909>0,C906*G909/(G909-H909),(R911+L906*O906)/(F906*D906*0.5))","v":0.20705604093757382},{"$f":"K909+Q906*(H906+L906)*N906/G906","v":0.25614351898648502},{"$f":"C906*D906","v":0.2268},{"$f":"D906*C906^3/12","v":5.5112400000000006E-3},{"$f":"(L909+((0.5*C906-I906)^2*H906+(0.5*C906-M906)^2*L906)*Q906)/(0.5*C906)","v":2.0950773034997532E-2},{"$f":"G909/D909","v":14635.979243193948}]
[null,"hc","e0","a'","b'","N'","tN'","t'","Nc","sac","Nac","sat","Nat","Mtot","N",null,"Mo","N","A","B1","B2","B3","C1","C2","gættet x","beregnet x","EIt"]
[null,{"$f":"I909","v":0.20705604093757382},null,null,null,null,null,null,null,null,null,null,null,null,null,null,{"$f":"MAX(ABS(Q908),0.0000001)","v":4.483918571179462E-2},{"$f":"INDEX(Snitkræfter!$G$52:$U$52,B909+1)","v":0.5}]
[null,{"$f":"MIN(0.5*(-(T912+U912+V912)+SQRT((T912+U912+V912)^2+4*S912*(W912+X912)))/S912,1000*$C$6)","v":0.20387517304256675},{"$f":"D909","v":9.5708057484218201E-4},{"$f":"IF($C$2=1,C912/($Z$906*$Z$5),2^(1/3)*$Z$5/C912)","v":0.16906263198246105},{"$f":"IF($C$2=1,-($Z$906-2)*C912/$Z$5,3*($Z$5/C912)^2)","v":-0.34024634432366241},{"$f":"IF($C$2=1,0.5*($Z$906*C912*$F$906/$Z$5)*(1-Y912^2+(D912-E912)*(E912^2*(1-Y912^2)+2*E912*(1-Y912)+2*LN((1-E912)/(1-E912*Y912)))/(E912^3)),$F$906*E912*(LN((1-D912+D912^2)/(1+D912)^2)/(6*D912)+ATAN((2-D912)/(D912*3^0.5))/(D912*3^0.5)-LN((Y912^2-D912*Y912+D912^2)/(Y912+D912)^2)/(6*D912)-ATAN((2*Y912-D912)/(D912*3^0.5))/(D912*3^0.5)))","v":8.2320500485923827},{"$f":"IF($C$2=1,($Z$906*C912*$F$906/$Z$5)*(1-Y912^3-(D912-E912)*(-2*E912^3*(1-Y912^3)-3*E912^2*(1-Y912^2)-6*E912*(1-Y912)-6*LN((1-E912)/(1-E912*Y912)))/(2*E912^4))/3,$F$906*E912*(LN((1+D912^3)/(D912^3+Y912^3)))/3)","v":5.2653996282626627},{"$f":"G912/F912","v":0.6396219164341701},{"$f":"F912*B912*$D$906","v":0.70489046382377363},{"$f":"MAX(MIN($K$906,$Q$906*$J$906*C912*(B912-$I$906)/B912),-$K$906)","v":369.36006927815566},{"$f":"J912*$H$906","v":0.22279274499334481},{"$f":"MIN($O$906,$Q$906*$N$906*C912*(C$906-B912-$M$906)/B912)","v":458.33333333333337},{"$f":"L912*$L$906","v":0.27646015351590181},{"$f":"(0.5*$C$906-B912+H912*B912)*I912+(0.5*$C$906-$I$906)*K912+(0.5*$C$906-$M$906)*M912","v":0.24337372015293862},{"$f":"I912+K912-M912","v":0.6512230553012166},null,{"$f":"N912-P912*O912","v":0.24337372015293862},{"$f":"R911","v":0.5},{"$f":"F912*$D$906","v":3.4574610204088008},{"$f":"IF(ABS(J911)<$K$906,$Q$906*C912*$H$906*$J$906,IF(J911>0,1,-1)*$H$906*$K$906)","v":0.31570359553769672},{"$f":"IF(L911<$O$906,$Q$906*C912*$L$906*$N$906,-$L$906*$O$906)","v":0.31570359553769672},{"$f":"-(R912+0.0001)","v":-0.50009999999999999},{"$f":"IF(ABS(J911)<$K$906,$I$906*$Q$906*C912*$H$906*$J$906,0)","v":1.8942215732261802E-2},{"$f":"IF(L911<$O$906,($C$906-$M$906)*$Q$906*C912*$L$906*$N$906,0)","v":0.15153772585809444},{"$f":"IF(B911<$C$906,0,(B911-$C$906)/B911)","v":0},{"$f":"IF(B912<=$C$906,0,(B912-$C$906)/B912)","v":0}]
[null,{"$f":"MIN(0.5*(-(T913+U913+V913)+SQRT((T913+U913+V913)^2+4*S913*(W913+X913)))/S913,1000*$C$6)","v":0.17398285358095739},{"$f":"0.95*C912","v":9.0922654610007289E-4},{"$f":"IF($C$2=1,C913/($Z$906*$Z$5),2^(1/3)*$Z$5/C913)","v":0.16060950038333799},{"$f":"IF($C$2=1,-($Z$906-2)*C913/$Z$5,3*($Z$5/C913)^2)","v":-0.32323402710747923},{"$f":"IF($C$2=1,0.5*($Z$906*C913*$F$906/$Z$5)*(1-Y913^2+(D913-E913)*(E913^2*(1-Y913^2)+2*E913*(1-Y913)+2*LN((1-E913)/(1-E913*Y913)))/(E913^3)),$F$906*E913*(LN((1-D913+D913^2)/(1+D913)^2)/(6*D913)+ATAN((2-D913)/(D913*3^0.5))/(D913*3^0.5)-LN((Y913^2-D913*Y913+D913^2)/(Y913+D913)^2)/(6*D913)-ATAN((2*Y913-D913)/(D913*3^0.5))/(D913*3^0.5)))","v":7.938276421523133},{"$f":"IF($C$2=1,($Z$906*C913*$F$906/$Z$5)*(1-Y913^3-(D913-E913)*(-2*E913^3*(1-Y913^3)-3*E913^2*(1-Y913^2)-6*E913*(1-Y913)-6*LN((1-E913)/(1-E913*Y913)))/(2*E913^4))/3,$F$906*E913*(LN((1+D913^3)/(D913^3+Y913^3)))/3)","v":5.0879752513276761},{"$f":"G913/F913","v":0.64094206111701968},{"$f":"F913*B913*$D$906","v":0.58007207341903078},{"$f":"MAX(MIN($K$906,$Q$906*$J$906*C913*(B913-$I$906)/B913),-$K$906)","v":325.75051256305488},{"$f":"J913*$H$906","v":0.19648808009687094},{"$f":"MIN($O$906,$Q$906*$N$906*C913*(C$906-B913-$M$906)/B913)","v":458.33333333333337},{"$f":"L913*$L$906","v":0.27646015351590181},{"$f":"(0.5*$C$906-B913+H913*B913)*I913+(0.5*$C$906-$I$906)*K913+(0.5*$C$906-$M$906)*M913","v":0.21970153007225351},{"$f":"I913+K913-M913","v":0.50009999999999988},null,{"$f":"N913-P913*O913","v":0.21970153007225351},{"$f":"R912","v":0.5},{"$f":"F913*$D$906","v":3.3340760970397159},{"$f":"IF(ABS(J912)<$K$906,$Q$906*C913*$H$906*$J$906,IF(J912>0,1,-1)*$H$906*$K$906)","v":0.29991841576081191},-0.27646015351590181,{"$f":"-(R913+0.0001)","v":-0.50009999999999999},{"$f":"IF(ABS(J912)<$K$906,$I$906*$Q$906*C913*$H$906*$J$906,0)","v":1.7995104945648713E-2},0,{"$f":"IF(B912<$C$906,0,(B912-$C$906)/B912)","v":0},{"$f":"IF(B913<=$C$906,0,(B913-$C$906)/B913)","v":0}]
[null,0.19147087480749853,{"$f":"IF(ABS($Q$911-Q913)<=0.001*Q$911,C913,MAX(0.9*C913,MIN($W$6,1.05*C913,IF(C913=$W$6,0.5*(C913+C912),C913+IF(C913=C912,0,(C913-C912)*(Q913-Q$911)/(Q912-Q913))))))","v":8.1830389149006562E-4},0.14454855034500419,-0.29091062439673132,7.351842231225949,4.7305669093962521,0.64345326798551428,0.59121873865300856,307.27085765703288,0.18534141486289335,458.33333333333337,0.27646015351590181,0.21624588189571731,0.5001000000000001,null,0.21624588189571731,0.5,3.0877737371148983,0.26992657418473071,-0.27646015351590181,-0.50009999999999999,1.6195594451083845E-2,0,0,0]
[null,0.21128224266791468,{"$f":"IF(ABS($Q$911-Q914)<=0.001*Q$911,C914,MAX(0.9*C914,MIN($W$6,1.05*C914,IF(C914=$W$6,0.5*(C914+C913),C914+IF(C914=C913,0,(C914-C913)*(Q914-Q$911)/(Q913-Q914))))))","v":7.3647350234105912E-4},0.1300936953105038,-0.26181956195705824,6.7909014100733387,4.3850100256290281,0.64571840479446341,0.60261468945593966,288.37792118288149,0.17394546405996228,458.33333333333337,0.27646015351590181,0.21218338143964766,0.5001000000000001,null,0.21218338143964766,0.5,2.8521785922308021,0.24293391676625764,-0.27646015351590181,-0.50009999999999999,1.4576035005975457E-2,0,0,0]
[null,0.23364010110608482,6.6282615210695327E-4,0.11708432577945342,-0.23563760576135243,6.2577693105160064,4.0535499317585684,0.64776276187533643,0.61406765885115611,269.39045563778882,0.1624924946647458,382.21012883057881,0.23054371830945691,0.19780010373897911,0.54601643520644494,null,0.19780010373897911,0.5,2.6282631104167224,0.21864052508963189,-0.27646015351590181,-0.50009999999999999,1.3118431505377913E-2,0,0,0]
[null,0.23288963763914139,5.9654353689625797E-4,0.10537589320150809,-0.21207384518521721,5.7539173534528398,3.7377939962506814,0.64960856519909638,0.56281164552950369,242.18144640318795,0.14608040694835306,346.14882531409677,0.20879205247785657,0.18055550417347896,0.50010000000000021,null,0.18055550417347896,0.5,2.4166452884501926,0.19677647258066869,0.19677647258066869,-0.50009999999999999,1.1806588354840122E-2,9.4452706838721007E-2,0,0]
[null,0.2431478456410934,5.3688918320663219E-4,9.4838303881357278E-2,-0.19086646066669549,5.2801109731639215,3.4388068301093124,0.65127548409247316,0.53921599530569597,221.15459520157478,0.13339730910583522,286.00359527304238,0.1725133044115312,0.16410855262201826,0.50009999999999999,null,0.16410855262201826,0.5,2.2176466087288471,0.17709882532260185,0.17709882532260185,-0.50009999999999999,1.0625929519356111E-2,8.5007436154848903E-2,0,0]
[null,0.25525606913452559,4.8320026488596899E-4,8.5354473493221547E-2,-0.17177981460002595,4.8365347434196604,3.1571981087361531,0.65278102530570548,0.51851303567190277,202.13222360000998,0.12192328487338766,232.65853239699678,0.14033632054529049,0.1491173557300198,0.50009999999999999,null,0.1491173557300198,0.5,2.0313445922362572,0.15938894279034166,0.15938894279034166,-0.50009999999999999,9.5633365674204999E-3,7.6506692539364013E-2,0,0]
[null,0.26950128269715529,4.3488023839737211E-4,7.6819026143899405E-2,-0.15460183314002335,4.4229042440101587,2.8932023108379732,0.65414084303456788,0.50063091414312044,184.87383395971347,0.11151326949289249,185.75401739966148,0.11204418363601289,0.13545386157507763,0.5001000000000001,null,0.13545386157507763,0.5,1.8576197824842666,0.14345004851130749,0.14345004851130749,-0.50009999999999999,8.6070029106784518E-3,6.8856023285427614E-2,0,0]
[null,0.28621283968590167,3.9139221455763491E-4,6.9137123529509459E-2,-0.13914164982602101,4.0385646754182805,2.6467500376564077,0.65536898635460872,0.48547340688278784,169.16879135588297,0.10204021097093884,144.91988932256828,8.7413617853726672E-2,0.12297708487438994,0.50009999999999999,null,0.12297708487438994,0.5,1.6961971636756776,0.12910504366017678,0.12910504366017678,-0.50009999999999999,7.7463026196106059E-3,6.1970420956884861E-2,0,0]
[null,0.30576338917976831,3.5225299310187141E-4,6.2223411176558517E-2,-0.12522748484341892,3.6825766001396247,2.4175308884602726,0.65647809970025117,0.47291878291257605,154.8339954645528,9.3393665794059721E-2,109.7712344362464,6.6212448706635771E-2,0.11153165929043904,0.50009999999999999,null,0.11153165929043904,0.5,1.5466821720586423,0.11619453929415909,0.11619453929415909,-0.50009999999999999,6.9716723576495445E-3,5.5773378861196363E-2,0,0]
[null,0.32856819868790521,3.1702769379168426E-4,5.6001070058902661E-2,-0.11270473635907702,3.353789476555185,2.205048122688869,0.65747958782247851,0.46281839817787962,141.71185594532975,8.5478577708369211E-2,79.904030774764237,4.8196975886248716E-2,0.10094664269842432,0.5001000000000001,null,0.10094664269842432,0.5,1.4085915801531776,0.10457508536474316,0.10457508536474316,-0.50009999999999999,6.2745051218845898E-3,5.0196040975076732E-2,0,0]
[null,0.35508301602061287,2.8532492441251582E-4,5.0400963053012393E-2,-0.10143426272316931,3.0509038571455434,2.0086655333957237,0.65838375361819879,0.4549961401373474,129.66833951159353,7.8214099740059384E-2,54.892274410913494,3.3110239877406876E-2,9.1035069541766461E-2,0.50009999999999988,null,9.1035069541766461E-2,0.5,1.2813796200011283,9.4117576828268851E-2,9.4117576828268851E-2,-0.50009999999999999,5.6470546096961316E-3,4.5176436877569059E-2,0,0]
[null,0.38580107584962442,2.5679243197126425E-4,4.5360866747711157E-2,-9.1290836450852383E-2,2.7725232543362655,1.8276470935889197,0.65919991499817143,0.44924983082323383,118.59086176048361,7.1532322577206653E-2,34.288197369426683,2.0682153400440526E-2,8.1594659551191606E-2,0.50009999999999988,null,8.1594659551191606E-2,0.5,1.1644597668212315,8.4705819145441966E-2,8.4705819145441966E-2,-0.50009999999999999,5.082349148726518E-3,4.0658793189812151E-2,0,0]
[null,0.42125029027652955,2.3111318877413784E-4,4.0824780072940041E-2,-8.2161752805767152E-2,2.5171967446720811,1.6611900229528869,0.65993650534825099,0.4453553409380247,108.38586458235955,6.5376813297584421E-2,17.626665649089748,1.0632154235609072E-2,7.2409850593612046E-2,0.5001000000000001,null,7.2409850593612046E-2,0.5,1.057222632762274,7.623523723089777E-2,7.623523723089777E-2,-0.50009999999999999,4.5741142338538666E-3,3.659291387083094E-2,0,0]
[null,0.46199186421526534,2.0800186989672405E-4,3.6742302065646035E-2,-7.3945577525190431E-2,2.2834533970764457,1.5084519651064543,0.66060116095986787,0.44307349454089157,98.976045998243436,5.9700944445973826E-2,4.4338560912219362,2.6744389868653805E-3,6.3254970593732127E-2,0.50009999999999999,null,6.3254970593732127E-2,0.5,0.95905042677210717,6.8611713507807995E-2,6.8611713507807995E-2,-0.50009999999999999,4.1167028104684795E-3,3.2933622483747843E-2,0,0]
[null,0.50862141973232255,1.8720168290705164E-4,3.3068071859081435E-2,-6.6551019772671388E-2,2.0698295855132365,1.3685729735105987,0.66120079792522934,0.44215905820283696,90.297355850330717,5.4466081877372605E-2,-5.760845133193266,-3.4748599197904277E-3,5.3898018557615522E-2,0.50009999999999999,null,5.3898018557615522E-2,0.5,0.86932842591555926,6.1750542157027202E-2,6.1750542157027202E-2,-0.50009999999999999,3.7050325294216311E-3,2.9640260235373059E-2,0,0]
[null,0.56177323581268679,1.6848151461634647E-4,2.9761264673173287E-2,-5.9895917795404256E-2,1.8748901914640204,1.2406929858462361,0.66174168039005676,0.44237051445392844,82.295981864641334,4.9639766792815884E-2,-13.41165341462351,-8.0897187532557469E-3,4.4104326107310951E-2,0.5001000000000001,null,4.4104326107310951E-2,0.5,0.78745388041488851,5.5575487941324477E-2,5.5575487941324477E-2,-0.50009999999999999,3.3345292764794688E-3,2.667623421183575E-2,0,3.8758051157756913E-2]
[null,0.55812329339436462,1.6988616312208421E-4,3.0009387537258594E-2,-6.0395276503228575E-2,1.8866009337284624,1.2502767570583615,0.66271395010255696,0.44224148911043332,82.917201384741475,5.0014477579493614E-2,-13.004340365370787,-7.8440333100729728E-3,4.5010272872034261E-2,0.50009999999999988,null,4.5010272872034261E-2,0.5,0.79237239216595412,5.6038826760839419E-2,5.6038826760839419E-2,-0.50009999999999999,3.3623296056503648E-3,2.6898636845202922E-2,3.8758051157756913E-2,3.2471845574018776E-2]
[null,0.55872091314440631,1.6962089662592874E-4,2.9962529777112116E-2,-6.0300973099773413E-2,1.8847212220331553,1.2484850644487826,0.66242426192982073,0.44227392812274247,82.798397636921095,4.9942816847070297E-2,-13.069364642795279,-7.8832550301872334E-3,4.4828906733906118E-2,0.50009999999999999,null,4.4828906733906118E-2,0.5,0.79158291325392516,5.5951325678053589E-2,5.5951325678053589E-2,-0.50009999999999999,3.3570795406832154E-3,2.685663632546573E-2,3.2471845574018776E-2,3.3506734228091598E-2]
[null,0.55875691899817082,1.6962089662592874E-4,2.9962529777112116E-2,-6.0300973099773413E-2,1.8845849234306979,1.2484805676873008,0.66246978428256076,0.44227044347074695,82.799039534594769,4.9943204030625361E-2,-13.074499824184565,-7.8863524986277009E-3,4.4833927854543182E-2,0.50009999999999999,null,4.4833927854543182E-2,0.5,0.79152566784089307,5.5951325678053589E-2,5.5951325678053589E-2,-0.50009999999999999,3.3570795406832154E-3,2.685663632546573E-2,3.3506734228091598E-2,3.3569014289435907E-2]
[null,0.55875912193796762,1.6962089662592874E-4,2.9962529777112116E-2,-6.0300973099773413E-2,1.8845765849297227,1.2484802880283818,0.66247256705406776,0.44227023028447787,82.799078805021296,4.9943227717988592E-2,-13.074813987596846,-7.8865419975335648E-3,4.4834234511816076E-2,0.50009999999999999,null,4.4834234511816076E-2,0.5,0.7915221656704835,5.5951325678053589E-2,5.5951325678053589E-2,-0.50009999999999999,3.3570795406832154E-3,2.685663632546573E-2,3.3569014289435907E-2,3.3572824498872673E-2]
[null,0.55875925684394812,1.6962089662592874E-4,2.9962529777112116E-2,-6.0300973099773413E-2,1.8845760742900617,1.2484802708916691,0.6624727374627124,0.44227021722920401,82.799081209895562,4.9943229168574577E-2,-13.074833226590986,-7.8865536022214352E-3,4.4834253289994033E-2,0.50009999999999999,null,4.4834253289994033E-2,0.5,0.79152195120182589,5.5951325678053589E-2,5.5951325678053589E-2,-0.50009999999999999,3.3570795406832154E-3,2.685663632546573E-2,3.3572824498872673E-2,3.357305783157203E-2]
[null,0.5587592651058888,1.6962089662592874E-4,2.9962529777112116E-2,-6.0300973099773413E-2,1.8845760430173684,1.2484802698398281,0.66247274789766708,0.4422702164296704,82.799081357175353,4.9943229257411653E-2,-13.074834404829245,-7.8865543129180097E-3,4.4834254439703521E-2,0.50009999999999999,null,4.4834254439703521E-2,0.5,0.79152193806729465,5.5951325678053589E-2,5.5951325678053589E-2,-0.50009999999999999,3.3570795406832154E-3,2.685663632546573E-2,3.357305783157203E-2,3.3573072121379062E-2]
[null,0.55875926561184464,1.6962089662592874E-4,2.9962529777112116E-2,-6.0300973099773413E-2,1.8845760411022487,1.2484802697738158,0.66247274853584892,0.4422702163807074,82.79908136619467,4.9943229262851975E-2,-13.074834476983783,-7.8865543564406015E-3,4.4834254509901431E-2,0.50009999999999999,null,4.4834254509901431E-2,0.5,0.7915219372629444,5.5951325678053589E-2,5.5951325678053589E-2,-0.50009999999999999,3.3570795406832154E-3,2.685663632546573E-2,3.3573072121379062E-2,3.3573072996477465E-2]
[null,0.55875926564284939,1.6962089662592874E-4,2.9962529777112116E-2,-6.0300973099773413E-2,1.8845760409848915,1.2484802697708777,0.66247274857554372,0.44227021637770708,82.799081366747359,4.9943229263185347E-2,-13.074834481405381,-7.8865543591076451E-3,4.483425451434829E-2,0.5001000000000001,null,4.483425451434829E-2,0.5,0.79152193721365438,5.5951325678053589E-2,5.5951325678053589E-2,-0.50009999999999999,3.3570795406832154E-3,2.685663632546573E-2,3.3573072996477465E-2,3.3573073050103118E-2]
[null,0.55875926564466316,1.6962089662592874E-4,2.9962529777112116E-2,-6.0300973099773413E-2,1.8845760409780259,1.2484802697653246,0.66247274857501059,0.4422702163775315,82.799081366779703,4.9943229263204859E-2,-13.074834481664043,-7.8865543592636679E-3,4.4834254513902813E-2,0.5001000000000001,null,4.4834254513902813E-2,0.5,0.7915219372107708,5.5951325678053589E-2,5.5951325678053589E-2,-0.50009999999999999,3.3570795406832154E-3,2.685663632546573E-2,3.3573073050103118E-2,3.3573073053240206E-2]
[null,0.55875926564483203,1.6962089662592874E-4,2.9962529777112116E-2,-6.0300973099773413E-2,1.8845760409773866,1.248480269769104,0.6624727485772407,0.44227021637751518,82.799081366782701,4.9943229263206664E-2,-13.074834481688125,-7.8865543592781927E-3,4.4834254514424715E-2,0.50009999999999999,null,4.4834254514424715E-2,0.5,0.79152193721050235,5.5951325678053589E-2,5.5951325678053589E-2,-0.50009999999999999,3.3570795406832154E-3,2.685663632546573E-2,3.3573073053240206E-2,3.3573073053532271E-2]
[null,0.55875926564482425,1.6962089662592874E-4,2.9962529777112116E-2,-6.0300973099773413E-2,1.8845760409774162,1.2484802697678383,0.6624727485765588,0.4422702163775159,82.799081366782573,4.9943229263206587E-2,-13.074834481687018,-7.8865543592775249E-3,4.4834254514257557E-2,0.50009999999999999,null,4.4834254514257557E-2,0.5,0.79152193721051478,5.5951325678053589E-2,5.5951325678053589E-2,-0.50009999999999999,3.3570795406832154E-3,2.685663632546573E-2,3.3573073053532271E-2,3.357307305351883E-2]
[null,0.5587592656449264,1.6962089662592874E-4,2.9962529777112116E-2,-6.0300973099773413E-2,1.8845760409770291,1.248480269774414,0.66247274858018401,0.44227021637750591,82.799081366784392,4.9943229263207684E-2,-13.074834481701584,-7.8865543592863113E-3,4.4834254515135744E-2,0.50009999999999988,null,4.4834254515135744E-2,0.5,0.79152193721035224,5.5951325678053589E-2,5.5951325678053589E-2,-0.50009999999999999,3.3570795406832154E-3,2.685663632546573E-2,3.357307305351883E-2,3.3573073053695494E-2]
[null,0.55875926564490253,1.6962089662592874E-4,2.9962529777112116E-2,-6.0300973099773413E-2,1.8845760409771195,1.2484802697726427,0.66247274857921234,0.44227021637750824,82.799081366783966,4.9943229263207427E-2,-13.074834481698179,-7.8865543592842573E-3,4.4834254514899766E-2,0.50009999999999988,null,4.4834254514899766E-2,0.5,0.79152193721039021,5.5951325678053589E-2,5.5951325678053589E-2,-0.50009999999999999,3.3570795406832154E-3,2.685663632546573E-2,3.3573073053695494E-2,3.3573073053654208E-2]
[null,0.55875926564482559,1.6962089662592874E-4,2.9962529777112116E-2,-6.0300973099773413E-2,1.8845760409774113,1.2484802697675847,0.66247274857642591,0.44227021637751585,82.799081366782588,4.9943229263206601E-2,-13.074834481687208,-7.8865543592776411E-3,4.4834254514224493E-2,0.5001000000000001,null,4.4834254514224493E-2,0.5,0.79152193721051267,5.5951325678053589E-2,5.5951325678053589E-2,-0.50009999999999999,3.3570795406832154E-3,2.685663632546573E-2,3.3573073053654208E-2,3.3573073053521134E-2]
[null,0.55875926564480272,1.6962089662592874E-4,2.9962529777112116E-2,-6.0300973099773413E-2,1.8845760409774974,1.2484802697665738,0.66247274857585925,0.44227021637751796,82.79908136678219,4.9943229263206358E-2,-13.074834481683945,-7.8865543592756722E-3,4.4834254514088401E-2,0.50009999999999999,null,4.4834254514088401E-2,0.5,0.79152193721054886,5.5951325678053589E-2,{"$f":"IF(L943<$O$906,$Q$906*C944*$L$906*$N$906,-$L$906*$O$906)","v":5.5951325678053589E-2},-0.50009999999999999,3.3570795406832154E-3,{"$f":"IF(L943<$O$906,($C$906-$M$906)*$Q$906*C944*$L$906*$N$906,0)","v":2.685663632546573E-2},3.3573073053521134E-2,3.3573073053481575E-2]
[null,0.55875926564486478,1.6962089662592874E-4,2.9962529777112116E-2,-6.0300973099773413E-2,1.8845760409772627,1.2484802697703674,0.66247274857795468,0.44227021637751202,82.799081366783298,4.9943229263207024E-2,-13.074834481692797,-7.8865543592810117E-3,4.4834254514595509E-2,0.5001000000000001,null,4.4834254514595509E-2,0.5,0.79152193721045028,5.5951325678053589E-2,5.5951325678053589E-2,-0.50009999999999999,3.3570795406832154E-3,2.685663632546573E-2,3.3573073053481575E-2,3.357307305358892E-2]
[null,0.55875926564484746,1.6962089662592874E-4,2.9962529777112116E-2,-6.0300973099773413E-2,1.8845760409773282,1.2484802697691026,0.66247274857726057,0.44227021637751368,82.799081366782985,4.9943229263206837E-2,-13.074834481690328,-7.8865543592795215E-3,4.4834254514426956E-2,0.50009999999999999,null,4.4834254514426956E-2,0.5,0.79152193721047781,5.5951325678053589E-2,5.5951325678053589E-2,-0.50009999999999999,3.3570795406832154E-3,2.685663632546573E-2,3.357307305358892E-2,3.3573073053558965E-2]
[null,0.55875926564487954,1.6962089662592874E-4,2.9962529777112116E-2,-6.0300973099773413E-2,1.8845760409772065,1.2484802697716317,0.66247274857864535,0.44227021637751052,82.799081366783554,4.9943229263207184E-2,-13.074834481694904,-7.8865543592822815E-3,4.4834254514763611E-2,0.50009999999999999,null,4.4834254514763611E-2,0.5,0.79152193721042674,5.5951325678053589E-2,5.5951325678053589E-2,-0.50009999999999999,3.3570795406832154E-3,2.685663632546573E-2,3.3573073053558965E-2,3.3573073053614455E-2]
[null,0.55875926564487854,1.6962089662592874E-4,2.9962529777112116E-2,-6.0300973099773413E-2,1.8845760409772105,1.2484802697713786,0.66247274857850957,0.44227021637751057,82.79908136678354,4.994322926320717E-2,-13.07483448169476,-7.8865543592821948E-3,4.4834254514730221E-2,0.50009999999999988,null,4.4834254514730221E-2,0.5,0.79152193721042841,5.5951325678053589E-2,5.5951325678053589E-2,-0.50009999999999999,3.3570795406832154E-3,2.685663632546573E-2,3.3573073053614455E-2,3.3573073053612727E-2]
[null,0.55875926564483014,1.6962089662592874E-4,2.9962529777112116E-2,-6.0300973099773413E-2,1.884576040977394,1.2484802697683435,0.66247274857683458,0.44227021637751535,82.799081366782673,4.994322926320665E-2,-13.074834481687857,-7.8865543592780314E-3,4.4834254514324691E-2,0.50009999999999999,null,4.4834254514324691E-2,0.5,0.79152193721050546,5.5951325678053589E-2,5.5951325678053589E-2,-0.50009999999999999,3.3570795406832154E-3,2.685663632546573E-2,3.3573073053612727E-2,3.357307305352901E-2]
[null,0.55875926564482703,1.6962089662592874E-4,2.9962529777112116E-2,-6.0300973099773413E-2,1.8845760409774053,1.2484802697678383,0.66247274857656258,0.44227021637751557,82.799081366782616,4.9943229263206615E-2,-13.074834481687413,-7.8865543592777643E-3,4.4834254514258001E-2,0.50009999999999999,null,4.4834254514258001E-2,0.5,0.79152193721051023,5.5951325678053589E-2,5.5951325678053589E-2,-0.50009999999999999,3.3570795406832154E-3,2.685663632546573E-2,3.357307305352901E-2,3.3573073053523632E-2]
[null,0.55875926564478162,1.6962089662592874E-4,2.9962529777112116E-2,-6.0300973099773413E-2,1.8845760409775774,1.2484802697650561,0.6624727485750258,0.44227021637752001,82.799081366781806,4.9943229263206129E-2,-13.074834481680938,-7.8865543592738577E-3,4.4834254513886083E-2,0.50009999999999999,null,4.4834254513886083E-2,0.5,0.7915219372105825,5.5951325678053589E-2,5.5951325678053589E-2,-0.50009999999999999,3.3570795406832154E-3,2.685663632546573E-2,3.3573073053523632E-2,3.3573073053445091E-2]
[null,0.55875926564490885,1.6962089662592874E-4,2.9962529777112116E-2,-6.0300973099773413E-2,1.884576040977096,1.2484802697734023,0.66247274857962368,0.44227021637750769,82.79908136678408,4.9943229263207496E-2,-13.074834481699083,-7.8865543592848038E-3,4.4834254515000303E-2,0.50009999999999999,null,4.4834254515000303E-2,0.5,0.79152193721038022,5.5951325678053589E-2,5.5951325678053589E-2,-0.50009999999999999,3.3570795406832154E-3,2.685663632546573E-2,3.3573073053445091E-2,3.3573073053665151E-2]
[null,0.55875926564483802,1.6962089662592874E-4,2.9962529777112116E-2,-6.0300973099773413E-2,1.884576040977364,1.2484802697683435,0.66247274857684513,0.44227021637751462,82.799081366782815,4.9943229263206733E-2,-13.074834481688981,-7.8865543592787097E-3,4.4834254514325933E-2,0.5001000000000001,null,4.4834254514325933E-2,0.5,0.7915219372104928,5.5951325678053589E-2,5.5951325678053589E-2,-0.50009999999999999,3.3570795406832154E-3,2.685663632546573E-2,3.3573073053665151E-2,3.3573073053542644E-2]
[null,0.55875926564481859,1.6962089662592874E-4,2.9962529777112116E-2,-6.0300973099773413E-2,1.8845760409774375,1.2484802697673323,0.6624727485762828,0.44227021637751646,82.799081366782474,4.9943229263206532E-2,-13.07483448168621,-7.8865543592770374E-3,4.4834254514190333E-2,0.50009999999999999,null,4.4834254514190333E-2,0.5,0.79152193721052366,5.5951325678053589E-2,5.5951325678053589E-2,-0.50009999999999999,3.3570795406832154E-3,2.685663632546573E-2,3.3573073053542644E-2,3.3573073053509039E-2]
[null,0.55875926564485368,1.6962089662592874E-4,2.9962529777112116E-2,-6.0300973099773413E-2,1.8845760409773047,1.2484802697698616,0.66247274857767158,0.44227021637751301,82.799081366783099,4.9943229263206906E-2,-13.074834481691212,-7.8865543592800558E-3,4.4834254514527459E-2,0.50009999999999999,null,4.4834254514527459E-2,0.5,0.79152193721046793,5.5951325678053589E-2,5.5951325678053589E-2,-0.50009999999999999,3.3570795406832154E-3,2.685663632546573E-2,3.3573073053509039E-2,3.3573073053569713E-2]
[null,0.55875926564489209,1.6962089662592874E-4,2.9962529777112116E-2,-6.0300973099773413E-2,1.8845760409771595,1.2484802697718846,0.66247274857879612,0.44227021637750941,82.799081366783767,4.9943229263207309E-2,-13.074834481696692,-7.8865543592833605E-3,4.4834254514798708E-2,0.5001000000000001,null,4.4834254514798708E-2,0.5,0.79152193721040698,5.5951325678053589E-2,5.5951325678053589E-2,-0.50009999999999999,3.3570795406832154E-3,2.685663632546573E-2,3.3573073053569713E-2,3.357307305363616E-2]
[null,0.55875926564489742,1.6962089662592874E-4,2.9962529777112116E-2,-6.0300973099773413E-2,1.8845760409771393,1.2484802697723902,0.66247274857907146,0.44227021637750885,82.799081366783881,4.9943229263207378E-2,-13.074834481697453,-7.8865543592838202E-3,4.4834254514865821E-2,0.5001000000000001,null,4.4834254514865821E-2,0.5,0.79152193721039843,5.5951325678053589E-2,5.5951325678053589E-2,-0.50009999999999999,3.3570795406832154E-3,2.685663632546573E-2,3.357307305363616E-2,3.3573073053645375E-2]
[null,0.55875926564486766,1.6962089662592874E-4,2.9962529777112116E-2,-6.0300973099773413E-2,1.8845760409772521,1.2484802697701138,0.6624727485778239,0.44227021637751179,82.799081366783341,4.9943229263207052E-2,-13.074834481693209,-7.8865543592812597E-3,4.4834254514562681E-2,0.5001000000000001,null,4.4834254514562681E-2,0.5,0.79152193721044584,5.5951325678053589E-2,5.5951325678053589E-2,-0.50009999999999999,3.3570795406832154E-3,2.685663632546573E-2,3.3573073053645375E-2,3.3573073053593909E-2]
[null,0.55875926564479628,1.6962089662592874E-4,2.9962529777112116E-2,-6.0300973099773413E-2,1.8845760409775221,1.2484802697660675,0.66247274857558192,0.44227021637751862,82.799081366782076,4.9943229263206289E-2,-13.074834481683029,-7.8865543592751188E-3,4.4834254514020982E-2,0.50009999999999999,null,4.4834254514020982E-2,0.5,0.79152193721055919,5.5951325678053589E-2,5.5951325678053589E-2,-0.50009999999999999,3.3570795406832154E-3,2.685663632546573E-2,3.3573073053593909E-2,3.3573073053470438E-2]
[null,0.55875926564484324,1.6962089662592874E-4,2.9962529777112116E-2,-6.0300973099773413E-2,1.8845760409773444,1.248480269769356,0.66247274857738925,0.44227021637751412,82.799081366782914,4.9943229263206795E-2,-13.074834481689726,-7.886554359279159E-3,4.4834254514459493E-2,0.5001000000000001,null,4.4834254514459493E-2,0.5,0.79152193721048458,5.5951325678053589E-2,5.5951325678053589E-2,-0.50009999999999999,3.3570795406832154E-3,2.685663632546573E-2,3.3573073053470438E-2,3.3573073053551665E-2]
[null,0.55875926564487333,1.6962089662592874E-4,2.9962529777112116E-2,-6.0300973099773413E-2,1.8845760409772305,1.2484802697711259,0.66247274857836846,0.44227021637751118,82.79908136678344,4.9943229263207115E-2,-13.074834481694017,-7.8865543592817472E-3,4.4834254514696276E-2,0.50009999999999999,null,4.4834254514696276E-2,0.5,0.79152193721043684,5.5951325678053589E-2,5.5951325678053589E-2,-0.50009999999999999,3.3570795406832154E-3,2.685663632546573E-2,3.3573073053551665E-2,3.3573073053603707E-2]
[null,0.55875926564486611,1.6962089662592874E-4,2.9962529777112116E-2,-6.0300973099773413E-2,1.8845760409772576,1.248480269770367,0.66247274857795624,0.44227021637751179,82.799081366783312,4.9943229263207038E-2,-13.074834481692987,-7.8865543592811262E-3,4.4834254514595634E-2,0.50009999999999999,null,4.4834254514595634E-2,0.5,0.79152193721044817,5.5951325678053589E-2,5.5951325678053589E-2,-0.50009999999999999,3.3570795406832154E-3,2.685663632546573E-2,3.3573073053603707E-2,3.3573073053591224E-2]
[null,0.55875926564481726,1.6962089662592874E-4,2.9962529777112116E-2,-6.0300973099773413E-2,1.8845760409774424,1.2484802697670792,0.66247274857614669,0.44227021637751657,82.799081366782431,4.9943229263206504E-2,-13.07483448168602,-7.8865543592769229E-3,4.4834254514156915E-2,0.50009999999999999,null,4.4834254514156915E-2,0.5,0.79152193721052577,5.5951325678053589E-2,5.5951325678053589E-2,-0.50009999999999999,3.3570795406832154E-3,2.685663632546573E-2,3.3573073053591224E-2,3.3573073053506736E-2]
[null,0.55875926564488387,1.6962089662592874E-4,2.9962529777112116E-2,-6.0300973099773413E-2,1.8845760409771908,1.2484802697716322,0.66247274857865113,0.44227021637751024,82.799081366783625,4.9943229263207226E-2,-13.07483448169552,-7.8865543592826545E-3,4.4834254514764312E-2,0.5001000000000001,null,4.4834254514764312E-2,0.5,0.79152193721042008,5.5951325678053589E-2,5.5951325678053589E-2,-0.50009999999999999,3.3570795406832154E-3,2.685663632546573E-2,3.3573073053506736E-2,3.3573073053621949E-2]
[null,0.55875926564488787,1.6962089662592874E-4,2.9962529777112116E-2,-6.0300973099773413E-2,1.8845760409771752,1.2484802697718844,0.66247274857879046,0.44227021637750974,82.799081366783696,4.9943229263207267E-2,-13.074834481696088,-7.8865543592829962E-3,4.4834254514798041E-2,0.50009999999999999,null,4.4834254514798041E-2,0.5,0.79152193721041353,5.5951325678053589E-2,5.5951325678053589E-2,-0.50009999999999999,3.3570795406832154E-3,2.685663632546573E-2,3.3573073053621949E-2,3.357307305362886E-2]
[null,0.5587592656448912,1.6962089662592874E-4,2.9962529777112116E-2,-6.0300973099773413E-2,1.8845760409771628,1.2484802697721371,0.6624727485789289,0.44227021637750946,82.799081366783767,4.9943229263207309E-2,-13.074834481696564,-7.8865543592832842E-3,4.4834254514831674E-2,0.5001000000000001,null,4.4834254514831674E-2,0.5,0.79152193721040831,5.5951325678053589E-2,5.5951325678053589E-2,-0.50009999999999999,3.3570795406832154E-3,2.685663632546573E-2,3.357307305362886E-2,3.3573073053634619E-2]
[null,0.55875926564485812,1.6962089662592874E-4,2.9962529777112116E-2,-6.0300973099773413E-2,1.8845760409772878,1.2484802697698612,0.66247274857767724,0.44227021637751257,82.79908136678317,4.9943229263206948E-2,-13.074834481691846,-7.8865543592804375E-3,4.4834254514528084E-2,0.50009999999999999,null,4.4834254514528084E-2,0.5,0.79152193721046082,5.5951325678053589E-2,5.5951325678053589E-2,-0.50009999999999999,3.3570795406832154E-3,2.685663632546573E-2,3.3573073053634619E-2,3.3573073053577394E-2]
[null,0.55875926564490752,1.6962089662592874E-4,2.9962529777112116E-2,-6.0300973099773413E-2,1.8845760409771011,1.2484802697728961,0.66247274857935323,0.44227021637750791,82.799081366784051,4.9943229263207482E-2,-13.074834481698893,-7.8865543592846893E-3,4.4834254514933704E-2,0.5001000000000001,null,4.4834254514933704E-2,0.5,0.79152193721038244,5.5951325678053589E-2,5.5951325678053589E-2,-0.50009999999999999,3.3570795406832154E-3,2.685663632546573E-2,3.3573073053577394E-2,3.3573073053662847E-2]
[null,0.55875926564486511,1.6962089662592874E-4,2.9962529777112116E-2,-6.0300973099773413E-2,1.8845760409772614,1.2484802697703667,0.6624727485779548,0.4422702163775119,82.799081366783298,4.9943229263207024E-2,-13.074834481692843,-7.8865543592810394E-3,4.4834254514595467E-2,0.50009999999999999,null,4.4834254514595467E-2,0.5,0.79152193721044972,5.5951325678053589E-2,5.5951325678053589E-2,-0.50009999999999999,3.3570795406832154E-3,2.685663632546573E-2,3.3573073053662847E-2,3.3573073053589496E-2]
[null,0.55875926564486256,1.6962089662592874E-4,2.9962529777112116E-2,-6.0300973099773413E-2,1.8845760409772712,1.2484802697701141,0.66247274857781724,0.44227021637751218,82.799081366783255,4.9943229263207004E-2,-13.074834481692481,-7.8865543592808209E-3,4.4834254514561925E-2,0.50009999999999999,null,4.4834254514561925E-2,0.5,0.79152193721045383,5.5951325678053589E-2,5.5951325678053589E-2,-0.50009999999999999,3.3570795406832154E-3,2.685663632546573E-2,3.3573073053589496E-2,3.3573073053585076E-2]
[null,0.55875926564492884,1.6962089662592874E-4,2.9962529777112116E-2,-6.0300973099773413E-2,1.8845760409770203,1.2484802697744135,0.6624727485801869,0.44227021637750574,82.799081366784435,4.9943229263207711E-2,-13.074834481701933,-7.8865543592865212E-3,4.4834254515136035E-2,0.50009999999999999,null,4.4834254515136035E-2,0.5,0.79152193721034847,5.5951325678053589E-2,5.5951325678053589E-2,-0.50009999999999999,3.3570795406832154E-3,2.685663632546573E-2,3.3573073053585076E-2,3.3573073053699713E-2]
[null,0.55875926564492395,1.6962089662592874E-4,2.9962529777112116E-2,-6.0300973099773413E-2,1.8845760409770389,1.2484802697736543,0.66247274857977745,0.4422702163775063,82.799081366784336,4.9943229263207649E-2,-13.074834481701236,-7.8865543592861014E-3,4.4834254515035706E-2,0.5001000000000001,null,4.4834254515035706E-2,0.5,0.79152193721035635,5.5951325678053589E-2,5.5951325678053589E-2,-0.50009999999999999,3.3570795406832154E-3,2.685663632546573E-2,3.3573073053699713E-2,3.3573073053691269E-2]
[null,0.55875926564488143,1.6962089662592874E-4,2.9962529777112116E-2,-6.0300973099773413E-2,1.8845760409772001,1.2484802697711253,0.66247274857837879,0.44227021637751052,82.799081366783582,4.9943229263207198E-2,-13.074834481695172,-7.8865543592824446E-3,4.4834254514697421E-2,0.50010000000000021,null,4.4834254514697421E-2,0.5,0.79152193721042396,5.5951325678053589E-2,5.5951325678053589E-2,-0.50009999999999999,3.3570795406832154E-3,2.685663632546573E-2,3.3573073053691269E-2,3.3573073053617723E-2]
[null,0.55875926564486966,1.6962089662592874E-4,2.9962529777112116E-2,-6.0300973099773413E-2,1.8845760409772445,1.2484802697706199,0.66247274857809502,0.44227021637751163,82.799081366783383,4.994322926320708E-2,-13.074834481693493,-7.8865543592814315E-3,4.483425451462935E-2,0.50010000000000021,null,4.483425451462935E-2,0.5,0.79152193721044262,5.5951325678053589E-2,5.5951325678053589E-2,-0.50009999999999999,3.3570795406832154E-3,2.685663632546573E-2,3.3573073053617723E-2,3.3573073053597365E-2]
[null,0.55875926564479339,1.6962089662592874E-4,2.9962529777112116E-2,-6.0300973099773413E-2,1.884576040977533,1.2484802697658148,0.66247274857544403,0.4422702163775189,82.799081366782019,4.9943229263206254E-2,-13.074834481682617,-7.8865543592748708E-3,4.4834254513987398E-2,0.50009999999999999,null,4.4834254513987398E-2,0.5,0.79152193721056385,5.5951325678053589E-2,5.5951325678053589E-2,-0.50009999999999999,3.3570795406832154E-3,2.685663632546573E-2,3.3573073053597365E-2,3.3573073053465449E-2]
[null,0.55875926564480682,1.6962089662592874E-4,2.9962529777112116E-2,-6.0300973099773413E-2,1.8845760409774821,1.2484802697668269,0.66247274857599892,0.44227021637751757,82.799081366782261,4.99432292632064E-2,-13.074834481684531,-7.8865543592760261E-3,4.4834254514122207E-2,0.50009999999999999,null,4.4834254514122207E-2,0.5,0.79152193721054243,5.5951325678053589E-2,5.5951325678053589E-2,-0.50009999999999999,3.3570795406832154E-3,2.685663632546573E-2,3.3573073053465449E-2,3.3573073053488681E-2]
[null,{"$f":"MIN(0.5*(-(T977+U977+V977)+SQRT((T977+U977+V977)^2+4*S977*(W977+X977)))/S977,1000*$C$6)","v":0.558759265644865},1.6962089662592874E-4,{"$f":"IF($C$2=1,C977/($Z$906*$Z$5),2^(1/3)*$Z$5/C977)","v":2.9962529777112116E-2},{"$f":"IF($C$2=1,-($Z$906-2)*C977/$Z$5,3*($Z$5/C977)^2)","v":-6.0300973099773413E-2},{"$f":"IF($C$2=1,0.5*($Z$906*C977*$F$906/$Z$5)*(1-Y977^2+(D977-E977)*(E977^2*(1-Y977^2)+2*E977*(1-Y977)+2*LN((1-E977)/(1-E977*Y977)))/(E977^3)),$F$906*E977*(LN((1-D977+D977^2)/(1+D977)^2)/(6*D977)+ATAN((2-D977)/(D977*3^0.5))/(D977*3^0.5)-LN((Y977^2-D977*Y977+D977^2)/(Y977+D977)^2)/(6*D977)-ATAN((2*Y977-D977)/(D977*3^0.5))/(D977*3^0.5)))","v":1.8845760409772618},{"$f":"IF($C$2=1,($Z$906*C977*$F$906/$Z$5)*(1-Y977^3-(D977-E977)*(-2*E977^3*(1-Y977^3)-3*E977^2*(1-Y977^2)-6*E977*(1-Y977)-6*LN((1-E977)/(1-E977*Y977)))/(2*E977^4))/3,$F$906*E977*(LN((1+D977^3)/(D977^3+Y977^3)))/3)","v":1.2484802697708732},{"$f":"G977/F977","v":0.66247274857822336},{"$f":"F977*B977*$D$906","v":0.44227021637751202},{"$f":"MAX(MIN($K$906,$Q$906*$J$906*C977*(B977-$I$906)/B977),-$K$906)","v":82.799081366783298},{"$f":"J977*$H$906","v":4.9943229263207024E-2},{"$f":"MIN($O$906,$Q$906*$N$906*C977*(C$906-B977-$M$906)/B977)","v":-13.074834481692829},{"$f":"L977*$L$906","v":-7.8865543592810308E-3},{"$f":"(0.5*$C$906-B977+H977*B977)*I977+(0.5*$C$906-$I$906)*K977+(0.5*$C$906-$M$906)*M977","v":4.4834254514661866E-2},{"$f":"I977+K977-M977","v":0.5001000000000001},null,{"$f":"N977-P977*O977","v":4.4834254514661866E-2},{"$f":"R976","v":0.5},{"$f":"F977*$D$906","v":0.79152193721044994},{"$f":"IF(ABS(J976)<$K$906,$Q$906*C977*$H$906*$J$906,IF(J976>0,1,-1)*$H$906*$K$906)","v":5.5951325678053589E-2},5.5951325678053589E-2,{"$f":"-(R977+0.0001)","v":-0.50009999999999999},{"$f":"IF(ABS(J976)<$K$906,$I$906*$Q$906*C977*$H$906*$J$906,0)","v":3.3570795406832154E-3},2.685663632546573E-2,{"$f":"IF(B976<$C$906,0,(B976-$C$906)/B976)","v":3.3573073053488681E-2},{"$f":"IF(B977<=$C$906,0,(B977-$C$906)/B977)","v":3.3573073053589302E-2}]
[null,{"$f":"MIN(0.5*(-(T978+U978+V978)+SQRT((T978+U978+V978)^2+4*S978*(W978+X978)))/S978,1000*$C$6)","v":0.55875926564485645},1.6962089662592874E-4,{"$f":"IF($C$2=1,C978/($Z$906*$Z$5),2^(1/3)*$Z$5/C978)","v":2.9962529777112116E-2},{"$f":"IF($C$2=1,-($Z$906-2)*C978/$Z$5,3*($Z$5/C978)^2)","v":-6.0300973099773413E-2},{"$f":"IF($C$2=1,0.5*($Z$906*C978*$F$906/$Z$5)*(1-Y978^2+(D978-E978)*(E978^2*(1-Y978^2)+2*E978*(1-Y978)+2*LN((1-E978)/(1-E978*Y978)))/(E978^3)),$F$906*E978*(LN((1-D978+D978^2)/(1+D978)^2)/(6*D978)+ATAN((2-D978)/(D978*3^0.5))/(D978*3^0.5)-LN((Y978^2-D978*Y978+D978^2)/(Y978+D978)^2)/(6*D978)-ATAN((2*Y978-D978)/(D978*3^0.5))/(D978*3^0.5)))","v":1.884576040977294},{"$f":"IF($C$2=1,($Z$906*C978*$F$906/$Z$5)*(1-Y978^3-(D978-E978)*(-2*E978^3*(1-Y978^3)-3*E978^2*(1-Y978^2)-6*E978*(1-Y978)-6*LN((1-E978)/(1-E978*Y978)))/(2*E978^4))/3,$F$906*E978*(LN((1+D978^3)/(D978^3+Y978^3)))/3)","v":1.2484802697696082},{"$f":"G978/F978","v":0.6624727485775409},{"$f":"F978*B978*$D$906","v":0.44227021637751274},{"$f":"MAX(MIN($K$906,$Q$906*$J$906*C978*(B978-$I$906)/B978),-$K$906)","v":82.799081366783142},{"$f":"J978*$H$906","v":4.9943229263206934E-2},{"$f":"MIN($O$906,$Q$906*$N$906*C978*(C$906-B978-$M$906)/B978)","v":-13.074834481691608},{"$f":"L978*$L$906","v":-7.8865543592802952E-3},{"$f":"(0.5*$C$906-B978+H978*B978)*I978+(0.5*$C$906-$I$906)*K978+(0.5*$C$906-$M$906)*M978","v":4.4834254514494666E-2},{"$f":"I978+K978-M978","v":0.50009999999999999},null,{"$f":"N978-P978*O978","v":4.4834254514494666E-2},{"$f":"R977","v":0.5},{"$f":"F978*$D$906","v":0.79152193721046349},{"$f":"IF(ABS(J977)<$K$906,$Q$906*C978*$H$906*$J$906,IF(J977>0,1,-1)*$H$906*$K$906)","v":5.5951325678053589E-2},5.5951325678053589E-2,{"$f":"-(R978+0.0001)","v":-0.50009999999999999},{"$f":"IF(ABS(J977)<$K$906,$I$906*$Q$906*C978*$H$906*$J$906,0)","v":3.3570795406832154E-3},2.685663632546573E-2,{"$f":"IF(B977<$C$906,0,(B977-$C$906)/B977)","v":3.3573073053589302E-2},{"$f":"IF(B978<=$C$906,0,(B978-$C$906)/B978)","v":3.3573073053574515E-2}]
[null,null,{"$f":"IF(C906*J979/(J979-L979)<=0,B978,C906*J979/(J979-L979))","v":0.51628643703663646},null,null,null,null,null,null,{"$f":"$R978/($J909*N909)+($Q978-R908)/($M909*N909)","v":2.7958577288602189E-4},null,{"$f":"$R978/($J909*$N$909)-($Q978-R908)/($M909*N909)","v":-1.2841659887576854E-5},null,null,{"$f":"SIGN(J979-L979)","v":1},{"$f":"IF(Q911=0.0001,ABS(Q908)*($Q$6*C978/B978)/Q911,IF(B978>10*$C$6,(L979-J979)/$C$6,$Q$6*C978/B978))*IF(B978>10*C906,O979*P908,P908)","v":8.3005055815585154E-4},null,null,null,null,null,null,null,null,null,null,{"$f":"N978/($Q$6*C978/B978)","v":54.013883942327908}]
[null,{"$f":"IF(AND(B978<>1000*$C$6,C980<C906,B978<C906),B978,IF(AND(B978<>1000*$C$6,C980>C906,B978>C906),B978*C980/C979,IF(C906*J980/(J980-L980)<=0,B978,C906*J980/(J980-L980))))","v":0.51851716919314306},{"$f":"IF(C906*J980/(J980-L980)<=0,B978,C906*J980/(J980-L980))","v":0.51851716919314306},null,null,null,null,null,null,{"$f":"$R978/($J909*N909)+($Q980-R908)/($M909*N909)","v":2.7827333383030064E-4},null,{"$f":"$R978/($J909*N909)-($Q980-R908)/($M909*N909)","v":-1.15292208318556E-5},null,null,{"$f":"SIGN(J980-L980)","v":1},null,{"$f":"MAX(ABS(INDEX(Snitkræfter!$G$286:$U$286,B909+1)),0.0000001)","v":4.4431814660607728E-2}]
[null,{"$f":"MIN(0.5*(-(T981+U981+V981)+SQRT((T981+U981+V981)^2+4*S981*(W981+X981)))/S981,1000*$C$6)","v":0.56305807753026782},{"$f":"MIN(MAX(IF(Q908=0,0.001*Z905,IF(OR(AND(B978<>1000*$C$6,C980<C906,B978<C906),AND(B978<>1000*$C$6,C980>C906,B978>C906)),C978*J980/J979,IF(B980>C906,J980,C978*MIN(Q980/Q911,2)))),0.0001*$Z$5),0.9*K906/(J906*Q906))","v":1.6807986411463601E-4},{"$f":"IF($C$2=1,C981/($Z$906*$Z$5),2^(1/3)*$Z$5/C981)","v":2.9690315483793445E-2},{"$f":"IF($C$2=1,-($Z$906-2)*C981/$Z$5,3*($Z$5/C981)^2)","v":-5.9753129279478838E-2},{"$f":"IF($C$2=1,0.5*($Z$906*C981*$F$906/$Z$5)*(1-Y981^2+(D981-E981)*(E981^2*(1-Y981^2)+2*E981*(1-Y981)+2*LN((1-E981)/(1-E981*Y981)))/(E981^3)),$F$906*E981*(LN((1-D981+D981^2)/(1+D981)^2)/(6*D981)+ATAN((2-D981)/(D981*3^0.5))/(D981*3^0.5)-LN((Y981^2-D981*Y981+D981^2)/(Y981+D981)^2)/(6*D981)-ATAN((2*Y981-D981)/(D981*3^0.5))/(D981*3^0.5)))","v":1.8706795898061879},{"$f":"IF($C$2=1,($Z$906*C981*$F$906/$Z$5)*(1-Y981^3-(D981-E981)*(-2*E981^3*(1-Y981^3)-3*E981^2*(1-Y981^2)-6*E981*(1-Y981)-6*LN((1-E981)/(1-E981*Y981)))/(2*E981^4))/3,$F$906*E981*(LN((1+D981^3)/(D981^3+Y981^3)))/3)","v":1.2379283882335363},{"$f":"G981/F981","v":0.66175329809515493},{"$f":"F981*B981*$D$906","v":0.44238652647478049},{"$f":"MAX(MIN($K$906,$Q$906*$J$906*C981*(B981-$I$906)/B981),-$K$906)","v":82.122194615537069},{"$f":"J981*$H$906","v":4.9534940793761764E-2},{"$f":"MIN($O$906,$Q$906*$N$906*C981*(C$906-B981-$M$906)/B981)","v":-13.558894910941211},{"$f":"L981*$L$906","v":-8.1785327314577161E-3},{"$f":"(0.5*$C$906-B981+H981*B981)*I981+(0.5*$C$906-$I$906)*K981+(0.5*$C$906-$M$906)*M981","v":4.3875571227433213E-2},{"$f":"I981+K981-M981","v":0.50009999999999999},null,{"$f":"N981-P981*O981","v":4.3875571227433213E-2},{"$f":"R978","v":0.5},{"$f":"F981*$D$906","v":0.78568542771859884},{"$f":"IF(ABS(J980)<$K$906,$Q$906*C981*$H$906*$J$906,IF(J980>0,1,-1)*$H$906*$K$906)","v":5.5442999088376618E-2},{"$f":"IF(L978<$O$906,$Q$906*C981*$L$906*$N$906,-$L$906*$O$906)","v":5.5442999088376618E-2},{"$f":"-(R981+0.0001)","v":-0.50009999999999999},{"$f":"IF(ABS(J980)<$K$906,$I$906*$Q$906*C981*$H$906*$J$906,0)","v":3.3265799453025971E-3},{"$f":"IF(L978<$O$906,($C$906-$M$906)*$Q$906*C981*$L$906*$N$906,0)","v":2.6612639562420781E-2},{"$f":"IF(B980<$C$406,0,IF(C978*J980/J979=C981,Y978,(B980-$C$6)/B980))","v":0},{"$f":"IF(B981<=$C$906,0,(B981-$C$906)/B981)","v":4.0951508290951164E-2}]
[null,{"$f":"MIN(0.5*(-(T982+U982+V982)+SQRT((T982+U982+V982)^2+4*S982*(W982+X982)))/S982,1000*$C$6)","v":0.57499625728194581},{"$f":"0.98*C981","v":1.6471826683234328E-4},2.9096509174117574E-2,{"$f":"IF($C$2=1,-($Z$906-2)*C982/$Z$5,3*($Z$5/C982)^2)","v":-5.8558066693889264E-2},{"$f":"IF($C$2=1,0.5*($Z$906*C982*$F$906/$Z$5)*(1-Y982^2+(D982-E982)*(E982^2*(1-Y982^2)+2*E982*(1-Y982)+2*LN((1-E982)/(1-E982*Y982)))/(E982^3)),$F$906*E982*(LN((1-D982+D982^2)/(1+D982)^2)/(6*D982)+ATAN((2-D982)/(D982*3^0.5))/(D982*3^0.5)-LN((Y982^2-D982*Y982+D982^2)/(Y982+D982)^2)/(6*D982)-ATAN((2*Y982-D982)/(D982*3^0.5))/(D982*3^0.5)))","v":1.8321398659464152},{"$f":"IF($C$2=1,($Z$906*C982*$F$906/$Z$5)*(1-Y982^3-(D982-E982)*(-2*E982^3*(1-Y982^3)-3*E982^2*(1-Y982^2)-6*E982*(1-Y982)-6*LN((1-E982)/(1-E982*Y982)))/(2*E982^4))/3,$F$906*E982*(LN((1+D982^3)/(D982^3+Y982^3)))/3)","v":1.2146668432445014},{"$f":"G982/F982","v":0.66297713718327378},{"$f":"F982*B982*$D$906","v":0.44245889760921853},{"$f":"MAX(MIN($K$906,$Q$906*$J$906*C982*(B982-$I$906)/B982),-$K$906)","v":80.679044089091889},4.8664452904116112E-2,{"$f":"MIN($O$906,$Q$906*$N$906*C982*(C$906-B982-$M$906)/B982)","v":-14.882063939647013},-8.9766494866653362E-3,{"$f":"(0.5*$C$906-B982+H982*B982)*I982+(0.5*$C$906-$I$906)*K982+(0.5*$C$906-$M$906)*M982","v":4.2055609679825086E-2},{"$f":"I982+K982-M982","v":0.50009999999999999},null,{"$f":"N982-P982*O982","v":4.2055609679825086E-2},{"$f":"R981","v":0.5},0.76949874369749438,5.4334139106609086E-2,{"$f":"IF(L981<$O$906,$Q$906*C982*$L$906*$N$906,-$L$906*$O$906)","v":5.4334139106609086E-2},{"$f":"-(R982+0.0001)","v":-0.50009999999999999},3.2600483463965453E-3,{"$f":"IF(L981<$O$906,($C$906-$M$906)*$Q$906*C982*$L$906*$N$906,0)","v":2.6080386771172366E-2},{"$f":"IF(B981<$C$906,0,IF(MIN(ABS($Q$980-Q981),ABS(Q981-Q980))<=0.001*Q$980,Y981,(B981-$C$906)/B981))","v":4.0951508290951164E-2},6.0863452307282725E-2]
[null,0.58171022735983202,{"$f":"IF(Z982>0,0.99*C982,0.98*C982)","v":1.6307108416401984E-4},2.88055440823764E-2,-5.7972486026950369E-2,1.8109665216492772,1.2030902095534528,{"$f":"G983/F983","v":0.66433597483501716},0.44245225376085096,79.979656501229258,4.8242592249772218E-2,-15.592466124476845,-9.4051539893768004E-3,4.1225099037506895E-2,{"$f":"I983+K983-M983","v":0.50009999999999999},null,{"$f":"N983-P983*O983","v":4.1225099037506895E-2},{"$f":"R982","v":0.5},0.76060593909269636,5.3790797715542994E-2,5.3790797715542994E-2,{"$f":"-(R983+0.0001)","v":-0.50009999999999999},3.2274478629325796E-3,2.581958290346064E-2,{"$f":"IF(B982<$C$906,0,IF(MIN(ABS($Q$980-Q982),ABS(Q982-Q981))<=0.001*Q$980,Y982,(B982-$C$906)/B982))","v":6.0863452307282725E-2},7.1702757486557023E-2]
[null,0.56148168501690465,{"$f":"IF(MIN(ABS($Q$980-Q983),10*ABS(Q983-Q982))<=0.001*Q$980,C983,MAX(0.9*C983,MIN($W$6,1.05*C983,IF(C983=$W$6,0.5*(C983+C982),C983+IF(C983=C982,0,(C983-C982)*(Q983-Q$980)/(Q982-Q983))))))","v":1.6943108261252858E-4},2.9929000252497246E-2,-6.0233493385046723E-2,1.8746023174761419,1.2467363289384805,0.66506710106760958,0.44207304454030144,82.754666472014605,4.9916438829840891E-2,-13.446133465321649,-8.1105166298577336E-3,4.5003288728040991E-2,0.50009999999999999,null,4.5003288728040991E-2,0.5,0.78733297333997954,5.5888713429838491E-2,5.5888713429838491E-2,-0.50009999999999999,3.3533228057903092E-3,2.6826582446322481E-2,7.1702757486557023E-2,3.8258923826264897E-2]
[null,0.56259055542055747,{"$f":"IF(MIN(ABS($Q$980-Q984),10*ABS(Q984-Q983))<=0.001*Q$980,C984,MAX(0.9*C984,MIN($W$6,1.05*C984,IF(C984=$W$6,0.5*(C984+C983),C984+IF(C984=C983,0,(C984-C983)*(Q984-Q$980)/(Q983-Q984))))))","v":1.6846909433773533E-4},2.975907070429841E-2,-5.9891502331853932E-2,1.8718559725262705,1.2405334601995641,0.66272911933781486,0.44229716632535371,82.304210279511395,4.9644730055735525E-2,-13.525026220890977,-8.1581036189107992E-3,4.4208568373836139E-2,0.50009999999999999,null,4.4208568373836139E-2,0.5,0.78617950846103357,5.5571390975281916E-2,5.5571390975281916E-2,-0.50009999999999999,3.3342834585169149E-3,2.667426766813533E-2,3.8258923826264897E-2,4.0154523041486451E-2]
[null,0.56180724056619558,1.6873932814907426E-4,2.9806805911340037E-2,-5.9987571637654953E-2,1.8743886030696606,1.2423813400848538,0.66281951248008164,0.44227893731250267,82.422509238485802,4.9716086306700255E-2,-13.436948485905349,-8.1049763807970691E-3,4.4372552785462455E-2,0.50009999999999999,null,4.4372552785462455E-2,0.5,0.78724321328925739,5.5660530581829286E-2,5.5660530581829286E-2,-0.50009999999999999,3.3396318349097568E-3,2.6717054679278058E-2,4.0154523041486451E-2,3.8816232671223604E-2]
[null,0.56144031522222582,1.6883698720232678E-4,2.982405680642012E-2,-6.0022289859644529E-2,1.875620044351292,1.2430615038907817,0.66274697139990901,0.44228045775384006,82.463767390326154,4.9740972637590947E-2,-13.393169649121964,-8.0785696085689633E-3,4.4420152834434935E-2,0.50009999999999999,null,4.4420152834434935E-2,0.5,0.78776041862754265,5.5692744498879801E-2,5.5692744498879801E-2,-0.50009999999999999,3.3415646699327885E-3,2.6732517359462308E-2,3.8816232671223604E-2,3.8188057823634214E-2]
[null,0.56144031522222582,1.6883698720232678E-4,2.982405680642012E-2,-6.0022289859644529E-2,1.875620044351292,1.2430615038907817,0.66274697139990901,0.44228045775384006,82.463767390326154,4.9740972637590947E-2,-13.393169649121964,-8.0785696085689633E-3,4.4420152834434935E-2,0.50009999999999999,null,4.4420152834434935E-2,0.5,0.78776041862754265,5.5692744498879801E-2,5.5692744498879801E-2,-0.50009999999999999,3.3415646699327885E-3,2.6732517359462308E-2,3.8816232671223604E-2,3.8188057823634214E-2]
[null,0.56144031522222582,1.6883698720232678E-4,2.982405680642012E-2,-6.0022289859644529E-2,1.875620044351292,1.2430615038907817,0.66274697139990901,0.44228045775384006,82.463767390326154,4.9740972637590947E-2,-13.393169649121964,-8.0785696085689633E-3,4.4420152834434935E-2,0.50009999999999999,null,4.4420152834434935E-2,0.5,0.78776041862754265,5.5692744498879801E-2,5.5692744498879801E-2,-0.50009999999999999,3.3415646699327885E-3,2.6732517359462308E-2,3.8816232671223604E-2,3.8188057823634214E-2]
[null,0.56144031522222582,1.6883698720232678E-4,2.982405680642012E-2,-6.0022289859644529E-2,1.875620044351292,1.2430615038907817,0.66274697139990901,0.44228045775384006,82.463767390326154,4.9740972637590947E-2,-13.393169649121964,-8.0785696085689633E-3,4.4420152834434935E-2,0.50009999999999999,null,4.4420152834434935E-2,0.5,0.78776041862754265,5.5692744498879801E-2,5.5692744498879801E-2,-0.50009999999999999,3.3415646699327885E-3,2.6732517359462308E-2,3.8816232671223604E-2,3.8188057823634214E-2]
[null,0.56144031522222582,1.6883698720232678E-4,2.982405680642012E-2,-6.0022289859644529E-2,1.875620044351292,1.2430615038907817,0.66274697139990901,0.44228045775384006,82.463767390326154,4.9740972637590947E-2,-13.393169649121964,-8.0785696085689633E-3,4.4420152834434935E-2,0.50009999999999999,null,4.4420152834434935E-2,0.5,0.78776041862754265,5.5692744498879801E-2,5.5692744498879801E-2,-0.50009999999999999,3.3415646699327885E-3,2.6732517359462308E-2,3.8816232671223604E-2,3.8188057823634214E-2]
[null,0.56144031522222582,1.6883698720232678E-4,2.982405680642012E-2,-6.0022289859644529E-2,1.875620044351292,1.2430615038907817,0.66274697139990901,0.44228045775384006,82.463767390326154,4.9740972637590947E-2,-13.393169649121964,-8.0785696085689633E-3,4.4420152834434935E-2,0.50009999999999999,null,4.4420152834434935E-2,0.5,0.78776041862754265,5.5692744498879801E-2,5.5692744498879801E-2,-0.50009999999999999,3.3415646699327885E-3,2.6732517359462308E-2,3.8816232671223604E-2,3.8188057823634214E-2]
[null,0.56144031522222582,1.6883698720232678E-4,2.982405680642012E-2,-6.0022289859644529E-2,1.875620044351292,1.2430615038907817,0.66274697139990901,0.44228045775384006,82.463767390326154,4.9740972637590947E-2,-13.393169649121964,-8.0785696085689633E-3,4.4420152834434935E-2,0.50009999999999999,null,4.4420152834434935E-2,0.5,0.78776041862754265,5.5692744498879801E-2,5.5692744498879801E-2,-0.50009999999999999,3.3415646699327885E-3,2.6732517359462308E-2,3.8816232671223604E-2,3.8188057823634214E-2]
[null,0.56144031522222582,1.6883698720232678E-4,2.982405680642012E-2,-6.0022289859644529E-2,1.875620044351292,1.2430615038907817,0.66274697139990901,0.44228045775384006,82.463767390326154,4.9740972637590947E-2,-13.393169649121964,-8.0785696085689633E-3,4.4420152834434935E-2,0.50009999999999999,null,4.4420152834434935E-2,0.5,0.78776041862754265,5.5692744498879801E-2,5.5692744498879801E-2,-0.50009999999999999,3.3415646699327885E-3,2.6732517359462308E-2,3.8816232671223604E-2,3.8188057823634214E-2]
[null,0.56144031522222582,1.6883698720232678E-4,2.982405680642012E-2,-6.0022289859644529E-2,1.875620044351292,1.2430615038907817,0.66274697139990901,0.44228045775384006,82.463767390326154,4.9740972637590947E-2,-13.393169649121964,-8.0785696085689633E-3,4.4420152834434935E-2,0.50009999999999999,null,4.4420152834434935E-2,0.5,0.78776041862754265,5.5692744498879801E-2,5.5692744498879801E-2,-0.50009999999999999,3.3415646699327885E-3,2.6732517359462308E-2,3.8816232671223604E-2,3.8188057823634214E-2]
[null,0.56144031522222582,1.6883698720232678E-4,2.982405680642012E-2,-6.0022289859644529E-2,1.875620044351292,1.2430615038907817,0.66274697139990901,0.44228045775384006,82.463767390326154,4.9740972637590947E-2,-13.393169649121964,-8.0785696085689633E-3,4.4420152834434935E-2,0.50009999999999999,null,4.4420152834434935E-2,0.5,0.78776041862754265,5.5692744498879801E-2,5.5692744498879801E-2,-0.50009999999999999,3.3415646699327885E-3,2.6732517359462308E-2,3.8816232671223604E-2,3.8188057823634214E-2]
[null,0.56144031522222582,1.6883698720232678E-4,2.982405680642012E-2,-6.0022289859644529E-2,1.875620044351292,1.2430615038907817,0.66274697139990901,0.44228045775384006,82.463767390326154,4.9740972637590947E-2,-13.393169649121964,-8.0785696085689633E-3,4.4420152834434935E-2,0.50009999999999999,null,4.4420152834434935E-2,0.5,0.78776041862754265,5.5692744498879801E-2,5.5692744498879801E-2,-0.50009999999999999,3.3415646699327885E-3,2.6732517359462308E-2,3.8816232671223604E-2,3.8188057823634214E-2]
[null,0.56144031522222582,1.6883698720232678E-4,2.982405680642012E-2,-6.0022289859644529E-2,1.875620044351292,1.2430615038907817,0.66274697139990901,0.44228045775384006,82.463767390326154,4.9740972637590947E-2,-13.393169649121964,-8.0785696085689633E-3,4.4420152834434935E-2,0.50009999999999999,null,{"$f":"IF(B998>10*B906,Q980,IF(Q980<0.000001,0,N998-P998*O998))","v":4.4420152834434935E-2},0.5,0.78776041862754265,5.5692744498879801E-2,5.5692744498879801E-2,-0.50009999999999999,3.3415646699327885E-3,2.6732517359462308E-2,3.8816232671223604E-2,3.8188057823634214E-2]
[null,null,null,null,null,null,null,null,null,{"$f":"MAX(J978,J998)/K906","v":0.18065254116389048},null,{"$f":"MAX(L978,L998)/O906","v":-2.8526911596418052E-2},null,null,null,{"$f":"IF(Q980=0.0001,ABS(INDEX(Snitkræfter!$G$286:$U$286,B909+1))*($Q$6*C998/B998)/Q980,IF(B998>10*$C$6,(J980-L980)/$C$6,$Q$6*C998/B998))*IF(AND(B998>10*$C$6,O980=O979),P908,P908)","v":8.2226902072862122E-4},null,null,null,null,null,null,null,null,null,null,{"$f":"(Q978-Q998)/(P979-P999)","v":53.215920880961669}]
[]
[]
[null,"Tilstand:",{"$f":"C902","v":1}]
[]
[null,"L","h","b","fck","fcd","Ecd","Ac","ac","Esc","fyd_c","At","at","Est","fyd_t","Modenhed","1+f","uterm","g","EI","sc/fcd","sc","e","   emax",null,{"$f":"Stivheder!$AD$4","v":3.5000000000000001E-3}]
[null,"(m)","(m)","(m)","(Mpa)","(Mpa)","(Mpa)","(m2)","(m)","(Mpa)","(Mpa)","(m2)","(m)","(Mpa)","(Mpa)","(døgn)",null,"(m)",null,"(Mnm2)",null,"(MPa)",null,"e1",null,{"$f":"Stivheder!$AD$5","v":2.0693662482105194E-3}]
[null,{"$f":"Stivheder!$B$6","v":0.54},{"$f":"Stivheder!$C$6","v":0.54},{"$f":"Stivheder!$D$6","v":0.42},{"$f":"Stivheder!$E$6","v":25},{"$f":"Stivheder!$F$6","v":17.857142857142858},{"$f":"IF(C1002=1,1000*22*((E1006+8)/10)^0.3/S1006,1.4*F1006/Z1005)","v":22482.71872144239},{"$f":"IF(P1008<0,Stivheder!$X$6,Stivheder!$T$6)","v":6.0318578948924026E-4},{"$f":"IF(P1008<0,Stivheder!$Y$6,Stivheder!$U$6)","v":0.06},{"$f":"IF(P1008<0,Stivheder!$Z$6,Stivheder!$V$6)","v":200000},{"$f":"IF(P1008<0,Stivheder!$AA$6,Stivheder!$W$6)","v":458.33333333333337},{"$f":"IF(P1008<0,Stivheder!$T$6,Stivheder!$X$6)","v":6.0318578948924026E-4},{"$f":"IF(P1008<0,Stivheder!$U$6,Stivheder!$Y$6)","v":0.06},{"$f":"IF(P1008<0,Stivheder!$V$6,Stivheder!$Z$6)","v":200000},{"$f":"IF(P1008<0,Stivheder!$W$6,Stivheder!$AA$6)","v":458.33333333333337},{"$f":"Stivheder!$P$6","v":28},{"$f":"Stivheder!$Q$6","v":2.7343237157040781},{"$f":"Stivheder!$R$6","v":0},{"$f":"Stivheder!$S$6","v":1.4},{"$f":"AA1079","v":54.005618707521307},{"$f":"U906","v":0.99999990000000005},{"$f":"U1006*F1006","v":17.857141071428572},{"$f":"Z1004","v":3.5000000000000001E-3},"k",null,{"$f":"Stivheder!$AD$6","v":2.7356687822616226}]
[]
[null,"punkt","elasttisk","e_o","sc_o/fcd","sc_u/fcd","sc_o","sc_u","hc","At","Ac","Ic","Wt","E",null,{"$f":"SIGN(Q1008)","v":1},{"$f":"INDEX(Snitkræfter!$G$199:$U$199,B1009+1)","v":4.8648488072571695E-2},{"$f":"INDEX(Snitkræfter!$G$59:$U$59,B1009+1)*P1008","v":0}]
[null,{"$f":"(ROW()-9)/100","v":10},"skøn",{"$f":"IF(C1002=1,Z1005*0.5*(-((Z1006-2)*E1009-Z1006)-(((Z1006-2)*E1009-Z1006)^2-4*E1009)^0.5),G1009/(1.4*F1006/Z1005))","v":9.8440138802420086E-4},{"$f":"MIN(0.9999,G1009/F1006)","v":0.79637268284804086},{"$f":"H1009/F1006","v":-2.0720403432908447E-2},{"$f":"IF(H1009>0,R1011/J1009+MAX(Q1011+Stivheder!$O$2*R1011+R1011*R1006,D1006*C1006^2*0.003*E1006)/M1009,MIN(0.8*F1006,2*(R1011+Q1011/(C1006-M1006-0.333*I1009))/(((R1011+L1006*O1006)/(F1006*D1006*0.5))*D1006)))","v":14.220940765143586},{"$f":"R1011/J1009-(Q1011+Stivheder!$O$2*R1011+R1011*R1006)/M1009","v":-0.37000720415907939},{"$f":"IF(H1009>0,C1006*G1009/(G1009-H1009),(R1011+L1006*O1006)/(F1006*D1006*0.5))","v":0.20705604093757382},{"$f":"K1009+Q1006*(H1006+L1006)*N1006/G1006","v":0.25614351898648502},{"$f":"C1006*D1006","v":0.2268},{"$f":"D1006*C1006^3/12","v":5.5112400000000006E-3},{"$f":"(L1009+((0.5*C1006-I1006)^2*H1006+(0.5*C1006-M1006)^2*L1006)*Q1006)/(0.5*C1006)","v":2.0950773034997532E-2},{"$f":"G1009/D1009","v":14446.282723845543}]
[null,"hc","e0","a'","b'","N'","tN'","t'","Nc","sac","Nac","sat","Nat","Mtot","N",null,"Mo","N","A","B1","B2","B3","C1","C2","gættet x","beregnet x","EIt"]
[null,{"$f":"I1009","v":0.20705604093757382},null,null,null,null,null,null,null,null,null,null,null,null,null,null,{"$f":"MAX(ABS(Q1008),0.0000001)","v":4.8648488072571695E-2},{"$f":"INDEX(Snitkræfter!$G$52:$U$52,B1009+1)","v":0.5}]
[null,{"$f":"MIN(0.5*(-(T1012+U1012+V1012)+SQRT((T1012+U1012+V1012)^2+4*S1012*(W1012+X1012)))/S1012,1000*$C$6)","v":0.20282773597864345},{"$f":"D1009","v":9.8440138802420086E-4},{"$f":"IF($C$2=1,C1012/($Z$1006*$Z$5),2^(1/3)*$Z$5/C1012)","v":0.17388869230158815},{"$f":"IF($C$2=1,-($Z$1006-2)*C1012/$Z$5,3*($Z$5/C1012)^2)","v":-0.34995901330209661},{"$f":"IF($C$2=1,0.5*($Z$1006*C1012*$F$1006/$Z$5)*(1-Y1012^2+(D1012-E1012)*(E1012^2*(1-Y1012^2)+2*E1012*(1-Y1012)+2*LN((1-E1012)/(1-E1012*Y1012)))/(E1012^3)),$F$1006*E1012*(LN((1-D1012+D1012^2)/(1+D1012)^2)/(6*D1012)+ATAN((2-D1012)/(D1012*3^0.5))/(D1012*3^0.5)-LN((Y1012^2-D1012*Y1012+D1012^2)/(Y1012+D1012)^2)/(6*D1012)-ATAN((2*Y1012-D1012)/(D1012*3^0.5))/(D1012*3^0.5)))","v":8.3953243770143775},{"$f":"IF($C$2=1,($Z$1006*C1012*$F$1006/$Z$5)*(1-Y1012^3-(D1012-E1012)*(-2*E1012^3*(1-Y1012^3)-3*E1012^2*(1-Y1012^2)-6*E1012*(1-Y1012)-6*LN((1-E1012)/(1-E1012*Y1012)))/(2*E1012^4))/3,$F$1006*E1012*(LN((1+D1012^3)/(D1012^3+Y1012^3)))/3)","v":5.3635083579613649},{"$f":"G1012/F1012","v":0.63886850788590799},{"$f":"F1012*B1012*$D$1006","v":0.71517794720237937},{"$f":"MAX(MIN($K$1006,$Q$1006*$J$1006*C1012*(B1012-$I$1006)/B1012),-$K$1006)","v":379.08565573766742},{"$f":"J1012*$H$1006","v":0.22865908054017126},{"$f":"MIN($O$1006,$Q$1006*$N$1006*C1012*(C$1006-B1012-$M$1006)/B1012)","v":458.33333333333337},{"$f":"L1012*$L$1006","v":0.27646015351590181},{"$f":"(0.5*$C$1006-B1012+H1012*B1012)*I1012+(0.5*$C$1006-$I$1006)*K1012+(0.5*$C$1006-$M$1006)*M1012","v":0.2467881004124432},{"$f":"I1012+K1012-M1012","v":0.66737687422664882},null,{"$f":"N1012-P1012*O1012","v":0.2467881004124432},{"$f":"R1011","v":0.5},{"$f":"F1012*$D$1006","v":3.5260362383460384},{"$f":"IF(ABS(J1011)<$K$1006,$Q$1006*C1012*$H$1006*$J$1006,IF(J1011>0,1,-1)*$H$1006*$K$1006)","v":0.32471566743770297},{"$f":"IF(L1011<$O$1006,$Q$1006*C1012*$L$1006*$N$1006,-$L$1006*$O$1006)","v":0.32471566743770297},{"$f":"-(R1012+0.0001)","v":-0.50009999999999999},{"$f":"IF(ABS(J1011)<$K$1006,$I$1006*$Q$1006*C1012*$H$1006*$J$1006,0)","v":1.9482940046262175E-2},{"$f":"IF(L1011<$O$1006,($C$1006-$M$1006)*$Q$1006*C1012*$L$1006*$N$1006,0)","v":0.15586352037009746},{"$f":"IF(B1011<$C$1006,0,(B1011-$C$1006)/B1011)","v":0},{"$f":"IF(B1012<=$C$1006,0,(B1012-$C$1006)/B1012)","v":0}]
[null,{"$f":"MIN(0.5*(-(T1013+U1013+V1013)+SQRT((T1013+U1013+V1013)^2+4*S1013*(W1013+X1013)))/S1013,1000*$C$6)","v":0.16967780599369175},{"$f":"0.95*C1012","v":9.3518131862299072E-4},{"$f":"IF($C$2=1,C1013/($Z$1006*$Z$5),2^(1/3)*$Z$5/C1013)","v":0.16519425768650872},{"$f":"IF($C$2=1,-($Z$1006-2)*C1013/$Z$5,3*($Z$5/C1013)^2)","v":-0.33246106263699171},{"$f":"IF($C$2=1,0.5*($Z$1006*C1013*$F$1006/$Z$5)*(1-Y1013^2+(D1013-E1013)*(E1013^2*(1-Y1013^2)+2*E1013*(1-Y1013)+2*LN((1-E1013)/(1-E1013*Y1013)))/(E1013^3)),$F$1006*E1013*(LN((1-D1013+D1013^2)/(1+D1013)^2)/(6*D1013)+ATAN((2-D1013)/(D1013*3^0.5))/(D1013*3^0.5)-LN((Y1013^2-D1013*Y1013+D1013^2)/(Y1013+D1013)^2)/(6*D1013)-ATAN((2*Y1013-D1013)/(D1013*3^0.5))/(D1013*3^0.5)))","v":8.0988544854065552},{"$f":"IF($C$2=1,($Z$1006*C1013*$F$1006/$Z$5)*(1-Y1013^3-(D1013-E1013)*(-2*E1013^3*(1-Y1013^3)-3*E1013^2*(1-Y1013^2)-6*E1013*(1-Y1013)-6*LN((1-E1013)/(1-E1013*Y1013)))/(2*E1013^4))/3,$F$1006*E1013*(LN((1+D1013^3)/(D1013^3+Y1013^3)))/3)","v":5.1850968399049862},{"$f":"G1013/F1013","v":0.64022595408376437},{"$f":"F1013*B1013*$D$1006","v":0.57716226126130055},{"$f":"MAX(MIN($K$1006,$Q$1006*$J$1006*C1013*(B1013-$I$1006)/B1013),-$K$1006)","v":330.5745853585932},{"$f":"J1013*$H$1006","v":0.19939789225460128},{"$f":"MIN($O$1006,$Q$1006*$N$1006*C1013*(C$1006-B1013-$M$1006)/B1013)","v":458.33333333333337},{"$f":"L1013*$L$1006","v":0.27646015351590181},{"$f":"(0.5*$C$1006-B1013+H1013*B1013)*I1013+(0.5*$C$1006-$I$1006)*K1013+(0.5*$C$1006-$M$1006)*M1013","v":0.22053074277368168},{"$f":"I1013+K1013-M1013","v":0.50009999999999999},null,{"$f":"N1013-P1013*O1013","v":0.22053074277368168},{"$f":"R1012","v":0.5},{"$f":"F1013*$D$1006","v":3.4015188838707529},{"$f":"IF(ABS(J1012)<$K$1006,$Q$1006*C1013*$H$1006*$J$1006,IF(J1012>0,1,-1)*$H$1006*$K$1006)","v":0.30847988406581778},-0.27646015351590181,{"$f":"-(R1013+0.0001)","v":-0.50009999999999999},{"$f":"IF(ABS(J1012)<$K$1006,$I$1006*$Q$1006*C1013*$H$1006*$J$1006,0)","v":1.8508793043949069E-2},0,{"$f":"IF(B1012<$C$1006,0,(B1012-$C$1006)/B1012)","v":0},{"$f":"IF(B1013<=$C$1006,0,(B1013-$C$1006)/B1013)","v":0}]
[null,0.18658042263858729,{"$f":"IF(ABS($Q$1011-Q1013)<=0.001*$Q$1011,C1013,MAX(0.9*C1013,MIN($W$6,1.05*C1013,IF(C1013=$W$6,0.5*(C1013+C1012),C1013+IF(C1012=C1013,0,(C1013-C1012)*(Q1013-Q$1011)/(Q1012-Q1013))))))","v":8.4166318676069164E-4},0.14867483191785785,-0.29921495637329254,7.5061252722290694,4.8249946350951625,0.64280763511189032,0.588208330781686,312.26170446373834,0.18835182273421583,458.33333333333337,0.27646015351590181,0.21722555988368974,0.50009999999999999,null,0.21722555988368974,0.5,3.1525726143362092,0.27763189565923602,-0.27646015351590181,-0.50009999999999999,1.6657913739554157E-2,0,0,0]
[null,0.20575014280211293,{"$f":"IF(ABS($Q$1011-Q1014)<=0.001*$Q$1011,C1014,MAX(0.9*C1014,MIN($W$6,1.05*C1014,IF(C1014=$W$6,0.5*(C1014+C1013),C1014+IF(C1013=C1014,0,(C1014-C1013)*(Q1014-Q$1011)/(Q1013-Q1014))))))","v":7.574968680846225E-4},0.13380734872607208,-0.26929346073596333,6.938109159695026,4.4760232347330655,0.64513589101988345,0.59955711916123766,293.44695687301447,0.17700303435466427,458.33333333333337,0.27646015351590181,0.21333202317729727,0.5001000000000001,null,0.21333202317729727,0.5,2.9140058470719108,0.24986870609331235,-0.27646015351590181,-0.50009999999999999,1.4992122365598744E-2,0,0,0]
[null,0.22740464901807494,6.8174718127616022E-4,0.12042661385346487,-0.24236411466236696,6.3973718453162665,4.1406153471085068,0.64723693529554516,0.61101268163134914,274.45519236242848,0.16554747188455274,414.12294132950956,0.24979307331144654,0.20317952509218654,0.5267670802044554,null,0.20317952509218654,0.5,2.6868961750328317,0.22488183548398114,-0.27646015351590181,-0.50009999999999999,1.349291012903887E-2,0,0,0]
[null,0.23042989630617045,6.135724631485442E-4,0.10838395246811838,-0.21812770319613026,5.8855961836814688,3.8205391645301745,0.64913375727731437,0.56961127368839959,248.17197718015947,0.1496938099845202,363.41221476476773,0.21920508367291977,0.18521069911526675,0.50009999999999999,null,0.18521069911526675,0.5,2.4719503971462169,0.20239365193558304,0.20239365193558304,-0.50009999999999999,1.2143619116134983E-2,9.7148952929079865E-2,0,0]
[null,0.24023726166741971,5.5221521683368978E-4,9.7545557221306547E-2,-0.19631493287651722,5.4037234170012018,3.5169953732520352,0.65084666661266555,0.545233800933562,226.56483618460666,0.13666068958451236,301.39053950858579,0.18179449051807439,0.16835469874561038,0.50009999999999999,null,0.16835469874561038,0.5,2.2695638351405045,0.18215428674202475,0.18215428674202475,-0.50009999999999999,1.0929257204521484E-2,8.7434057636171889E-2,0,0]
[null,0.25182488621471971,4.9699369515032081E-4,8.7791001499175889E-2,-0.17668343958886551,4.9520817889748621,3.2307070322377887,0.65239371438301352,0.5237641218745237,207.03182339592877,0.12487865384447026,246.26371891946508,0.14854277571899391,0.15298664234033343,0.5001000000000001,null,0.15298664234033343,0.5,2.0798743513694422,0.16393885806782227,0.16393885806782227,-0.50009999999999999,9.8363314840693352E-3,7.8690651872554696E-2,0,0]
[null,0.26546876262875058,4.4729432563528874E-4,7.9011901349258298E-2,-0.15901509562997895,4.5305019699818665,2.962001518518095,0.65379102318985427,0.50513683586444524,189.32400963025319,0.1141975522180928,197.67439843618016,0.11923438808253797,0.13898170419543771,0.5001000000000001,null,0.13898170419543771,0.5,1.9028108273923838,0.14754497226104005,0.14754497226104005,-0.50009999999999999,8.8526983356624015E-3,7.0821586685299226E-2,0,0]
[null,0.28148677057990135,4.0256489307175989E-4,7.1110711214332475E-2,-0.14311358606698107,4.1384191886735806,2.7108841099417074,0.65505304957050092,0.48926230614476107,173.22302781260987,0.10448566878886571,155.25560542950635,9.3647974933626768E-2,0.12620249492313548,0.50009999999999999,null,0.12620249492313548,0.5,1.7381360592429038,0.13279047503493605,0.13279047503493605,-0.50009999999999999,7.9674285020961619E-3,6.3739428016769309E-2,0,0]
[null,0.30023999233290966,3.6230840376458393E-4,6.3999640092899227E-2,-0.12880222746028297,3.7749623574971078,2.4771031032259194,0.65619279575235268,0.47602576109422079,158.53862876876772,9.5628247958430737E-2,118.62681498720525,7.1554009052651441E-2,0.11449762624041526,0.5001000000000001,null,0.11449762624041526,0.5,1.5854841901487853,0.11951142753144246,0.11951142753144246,-0.50009999999999999,7.1706856518865469E-3,5.7365485215092382E-2,0,0]
[null,0.32213246597511286,3.2607756338812557E-4,5.7599676083609316E-2,-0.11592200471425471,3.439030789450519,2.2602066356241557,0.65722198316964953,0.46528585688341462,145.10659720645833,8.7526237396074749E-2,87.389482971945327,5.2712094279489363E-2,0.10370040026666709,0.50009999999999999,null,0.10370040026666709,0.5,1.4443929315692179,0.10756028477829822,0.10756028477829822,-0.50009999999999999,6.4536170866978928E-3,5.1628936693583156E-2,0,0]
[null,0.34760939863999096,2.9346980704931304E-4,5.1839708475248387E-2,-0.10432980424282923,3.1293593305066421,2.0595915887653828,0.65815119685598256,0.45687378030246062,132.78680307166641,8.0095112644535379E-2,61.123609987919991,3.6868892946995933E-2,9.3628115927262334E-2,0.5001000000000001,null,9.3628115927262334E-2,0.5,1.3143309188127896,9.6804256300468405E-2,9.6804256300468405E-2,-0.50009999999999999,5.8082553780281045E-3,4.6466043024224843E-2,0,0]
[null,0.37715431513270931,2.6412282634438175E-4,4.6655737627723549E-2,-9.3896823818546318E-2,2.844572882603793,1.8745451049818753,0.65899000740877545,0.45059403370107426,121.46115443878116,7.3263642332430753E-2,39.386995594876886,2.3757676033505044E-2,8.4082439673823811E-2,0.50009999999999988,null,8.4082439673823811E-2,0.5,1.194720610693593,8.7123830670421565E-2,8.7123830670421565E-2,-0.50009999999999999,5.2274298402252943E-3,4.1819438721802354E-2,0,0]
[null,0.41128608032521968,2.3771054370994358E-4,4.1990163864951198E-2,-8.4507141436691677E-2,2.5832313755142668,1.7042793452342073,0.65974707546083489,0.44622778494352316,111.03126815860048,6.6972483142236972E-2,21.718462725809687,1.3100268085760152E-2,7.4851087096218877E-2,0.50009999999999999,null,7.4851087096218877E-2,0.5,1.0849571777159921,7.8411447603379411E-2,7.8411447603379411E-2,-0.50009999999999999,4.7046868562027654E-3,3.7637494849622123E-2,0,0]
[null,0.45055701456098818,2.1393948933894923E-4,3.7791147478456077E-2,-7.6056427293022519E-2,2.343866273770955,1.5479601711425344,0.66043024231586456,0.44353906415298028,101.41578733413353,6.1172561749812226E-2,7.6454485220839246,4.6116259027925372E-3,6.5710729757177885E-2,0.50009999999999999,null,6.5710729757177885E-2,0.5,0.98442383498380104,7.0570302843041471E-2,7.0570302843041471E-2,-0.50009999999999999,4.2342181705824879E-3,3.387374536465991E-2,0,0]
[null,0.49555326436731306,1.925455404050543E-4,3.4012032730610472E-2,-6.8450784563720266E-2,2.1250096890837167,1.4047304500252211,0.66104660945377958,0.44228330505979402,92.547421007674885,5.5823289205707477E-2,-3.3047955857621401,-1.9934057344984926E-3,5.6430680351560882E-2,0.50009999999999999,null,5.6430680351560882E-2,0.5,0.89250406941516103,6.351327255873733E-2,6.351327255873733E-2,-0.50009999999999999,3.8107963535242394E-3,3.0486370828193918E-2,0,0]
[null,0.5429924773723156,1.7460470658689896E-4,3.0842890377306063E-2,-6.2072739411406667E-2,1.9389345923884918,1.2827305552000805,0.66156463463779813,0.44218729706924143,84.934165657281369,5.1231081766597179E-2,-11.077219126497027,-6.6816211641614219E-3,4.7486144753037453E-2,0.50009999999999999,null,4.7486144753037453E-2,0.5,0.81435252880316655,5.7595290424088001E-2,5.7595290424088001E-2,-0.50009999999999999,3.4557174254452798E-3,2.7645739403562238E-2,0,5.5110844017525829E-3]
[null,0.53623467528854241,1.7693611978389595E-4,3.1254720751554284E-2,-6.2901567033905412E-2,1.963184037272949,1.2986825676402036,0.66151850411548696,0.44214548899865797,85.933508529353603,5.1833871185858513E-2,-10.147188349158935,-6.1206398154834522E-3,4.8727215915511934E-2,0.50009999999999999,null,4.8727215915511934E-2,0.5,0.82453729565463851,5.8364332810197816E-2,5.8364332810197816E-2,-0.50009999999999999,3.5018599686118691E-3,2.8014879748894952E-2,5.5110844017525829E-3,0]
[null,0.53664315053349421,1.767882256602133E-4,3.1228596127920945E-2,-6.2848990023930795E-2,1.961706329699519,1.2976717399507625,0.66150153073601548,0.4421492313804079,85.869913981169148,5.1795511858104666E-2,-10.204578537401568,-6.1552567614875219E-3,4.864706256372392E-2,0.5001000000000001,null,4.864706256372392E-2,0.5,0.82391665847379791,5.831554830047854E-2,5.831554830047854E-2,-0.50009999999999999,3.4989328980287119E-3,2.7991463184229706E-2,0,0]
[null,0.53664315053349421,1.767882256602133E-4,3.1228596127920945E-2,-6.2848990023930795E-2,1.961706329699519,1.2976717399507625,0.66150153073601548,0.4421492313804079,85.869913981169148,5.1795511858104666E-2,-10.204578537401568,-6.1552567614875219E-3,4.864706256372392E-2,0.5001000000000001,null,4.864706256372392E-2,0.5,0.82391665847379791,5.831554830047854E-2,5.831554830047854E-2,-0.50009999999999999,3.4989328980287119E-3,2.7991463184229706E-2,0,0]
[null,0.53664315053349421,1.767882256602133E-4,3.1228596127920945E-2,-6.2848990023930795E-2,1.961706329699519,1.2976717399507625,0.66150153073601548,0.4421492313804079,85.869913981169148,5.1795511858104666E-2,-10.204578537401568,-6.1552567614875219E-3,4.864706256372392E-2,0.5001000000000001,null,4.864706256372392E-2,0.5,0.82391665847379791,5.831554830047854E-2,5.831554830047854E-2,-0.50009999999999999,3.4989328980287119E-3,2.7991463184229706E-2,0,0]
[null,0.53664315053349421,1.767882256602133E-4,3.1228596127920945E-2,-6.2848990023930795E-2,1.961706329699519,1.2976717399507625,0.66150153073601548,0.4421492313804079,85.869913981169148,5.1795511858104666E-2,-10.204578537401568,-6.1552567614875219E-3,4.864706256372392E-2,0.5001000000000001,null,4.864706256372392E-2,0.5,0.82391665847379791,5.831554830047854E-2,5.831554830047854E-2,-0.50009999999999999,3.4989328980287119E-3,2.7991463184229706E-2,0,0]
[null,0.53664315053349421,1.767882256602133E-4,3.1228596127920945E-2,-6.2848990023930795E-2,1.961706329699519,1.2976717399507625,0.66150153073601548,0.4421492313804079,85.869913981169148,5.1795511858104666E-2,-10.204578537401568,-6.1552567614875219E-3,4.864706256372392E-2,0.5001000000000001,null,4.864706256372392E-2,0.5,0.82391665847379791,5.831554830047854E-2,5.831554830047854E-2,-0.50009999999999999,3.4989328980287119E-3,2.7991463184229706E-2,0,0]
[null,0.53664315053349421,1.767882256602133E-4,3.1228596127920945E-2,-6.2848990023930795E-2,1.961706329699519,1.2976717399507625,0.66150153073601548,0.4421492313804079,85.869913981169148,5.1795511858104666E-2,-10.204578537401568,-6.1552567614875219E-3,4.864706256372392E-2,0.5001000000000001,null,4.864706256372392E-2,0.5,0.82391665847379791,5.831554830047854E-2,5.831554830047854E-2,-0.50009999999999999,3.4989328980287119E-3,2.7991463184229706E-2,0,0]
[null,0.53664315053349421,1.767882256602133E-4,3.1228596127920945E-2,-6.2848990023930795E-2,1.961706329699519,1.2976717399507625,0.66150153073601548,0.4421492313804079,85.869913981169148,5.1795511858104666E-2,-10.204578537401568,-6.1552567614875219E-3,4.864706256372392E-2,0.5001000000000001,null,4.864706256372392E-2,0.5,0.82391665847379791,5.831554830047854E-2,5.831554830047854E-2,-0.50009999999999999,3.4989328980287119E-3,2.7991463184229706E-2,0,0]
[null,0.53664315053349421,1.767882256602133E-4,3.1228596127920945E-2,-6.2848990023930795E-2,1.961706329699519,1.2976717399507625,0.66150153073601548,0.4421492313804079,85.869913981169148,5.1795511858104666E-2,-10.204578537401568,-6.1552567614875219E-3,4.864706256372392E-2,0.5001000000000001,null,4.864706256372392E-2,0.5,0.82391665847379791,5.831554830047854E-2,5.831554830047854E-2,-0.50009999999999999,3.4989328980287119E-3,2.7991463184229706E-2,0,0]
[null,0.53664315053349421,1.767882256602133E-4,3.1228596127920945E-2,-6.2848990023930795E-2,1.961706329699519,1.2976717399507625,0.66150153073601548,0.4421492313804079,85.869913981169148,5.1795511858104666E-2,-10.204578537401568,-6.1552567614875219E-3,4.864706256372392E-2,0.5001000000000001,null,4.864706256372392E-2,0.5,0.82391665847379791,5.831554830047854E-2,5.831554830047854E-2,-0.50009999999999999,3.4989328980287119E-3,2.7991463184229706E-2,0,0]
[null,0.53664315053349421,1.767882256602133E-4,3.1228596127920945E-2,-6.2848990023930795E-2,1.961706329699519,1.2976717399507625,0.66150153073601548,0.4421492313804079,85.869913981169148,5.1795511858104666E-2,-10.204578537401568,-6.1552567614875219E-3,4.864706256372392E-2,0.5001000000000001,null,4.864706256372392E-2,0.5,0.82391665847379791,5.831554830047854E-2,5.831554830047854E-2,-0.50009999999999999,3.4989328980287119E-3,2.7991463184229706E-2,0,0]
[null,0.53664315053349421,1.767882256602133E-4,3.1228596127920945E-2,-6.2848990023930795E-2,1.961706329699519,1.2976717399507625,0.66150153073601548,0.4421492313804079,85.869913981169148,5.1795511858104666E-2,-10.204578537401568,-6.1552567614875219E-3,4.864706256372392E-2,0.5001000000000001,null,4.864706256372392E-2,0.5,0.82391665847379791,5.831554830047854E-2,5.831554830047854E-2,-0.50009999999999999,3.4989328980287119E-3,2.7991463184229706E-2,0,0]
[null,0.53664315053349421,1.767882256602133E-4,3.1228596127920945E-2,-6.2848990023930795E-2,1.961706329699519,1.2976717399507625,0.66150153073601548,0.4421492313804079,85.869913981169148,5.1795511858104666E-2,-10.204578537401568,-6.1552567614875219E-3,4.864706256372392E-2,0.5001000000000001,null,4.864706256372392E-2,0.5,0.82391665847379791,5.831554830047854E-2,5.831554830047854E-2,-0.50009999999999999,3.4989328980287119E-3,2.7991463184229706E-2,0,0]
[null,0.53664315053349421,1.767882256602133E-4,3.1228596127920945E-2,-6.2848990023930795E-2,1.961706329699519,1.2976717399507625,0.66150153073601548,0.4421492313804079,85.869913981169148,5.1795511858104666E-2,-10.204578537401568,-6.1552567614875219E-3,4.864706256372392E-2,0.5001000000000001,null,4.864706256372392E-2,0.5,0.82391665847379791,5.831554830047854E-2,5.831554830047854E-2,-0.50009999999999999,3.4989328980287119E-3,2.7991463184229706E-2,0,0]
[null,0.53664315053349421,1.767882256602133E-4,3.1228596127920945E-2,-6.2848990023930795E-2,1.961706329699519,1.2976717399507625,0.66150153073601548,0.4421492313804079,85.869913981169148,5.1795511858104666E-2,-10.204578537401568,-6.1552567614875219E-3,4.864706256372392E-2,0.5001000000000001,null,4.864706256372392E-2,0.5,0.82391665847379791,5.831554830047854E-2,{"$f":"IF(L1043<$O$1006,$Q$1006*C1044*$L$1006*$N$1006,-$L$1006*$O$1006)","v":5.831554830047854E-2},-0.50009999999999999,3.4989328980287119E-3,{"$f":"IF(L1043<$O$1006,($C$1006-$M$1006)*$Q$1006*C1044*$L$1006*$N$1006,0)","v":2.7991463184229706E-2},0,0]
[null,0.53664315053349421,1.767882256602133E-4,3.1228596127920945E-2,-6.2848990023930795E-2,1.961706329699519,1.2976717399507625,0.66150153073601548,0.4421492313804079,85.869913981169148,5.1795511858104666E-2,-10.204578537401568,-6.1552567614875219E-3,4.864706256372392E-2,0.5001000000000001,null,4.864706256372392E-2,0.5,0.82391665847379791,5.831554830047854E-2,5.831554830047854E-2,-0.50009999999999999,3.4989328980287119E-3,2.7991463184229706E-2,0,0]
[null,0.53664315053349421,1.767882256602133E-4,3.1228596127920945E-2,-6.2848990023930795E-2,1.961706329699519,1.2976717399507625,0.66150153073601548,0.4421492313804079,85.869913981169148,5.1795511858104666E-2,-10.204578537401568,-6.1552567614875219E-3,4.864706256372392E-2,0.5001000000000001,null,4.864706256372392E-2,0.5,0.82391665847379791,5.831554830047854E-2,5.831554830047854E-2,-0.50009999999999999,3.4989328980287119E-3,2.7991463184229706E-2,0,0]
[null,0.53664315053349421,1.767882256602133E-4,3.1228596127920945E-2,-6.2848990023930795E-2,1.961706329699519,1.2976717399507625,0.66150153073601548,0.4421492313804079,85.869913981169148,5.1795511858104666E-2,-10.204578537401568,-6.1552567614875219E-3,4.864706256372392E-2,0.5001000000000001,null,4.864706256372392E-2,0.5,0.82391665847379791,5.831554830047854E-2,5.831554830047854E-2,-0.50009999999999999,3.4989328980287119E-3,2.7991463184229706E-2,0,0]
[null,0.53664315053349421,1.767882256602133E-4,3.1228596127920945E-2,-6.2848990023930795E-2,1.961706329699519,1.2976717399507625,0.66150153073601548,0.4421492313804079,85.869913981169148,5.1795511858104666E-2,-10.204578537401568,-6.1552567614875219E-3,4.864706256372392E-2,0.5001000000000001,null,4.864706256372392E-2,0.5,0.82391665847379791,5.831554830047854E-2,5.831554830047854E-2,-0.50009999999999999,3.4989328980287119E-3,2.7991463184229706E-2,0,0]
[null,0.53664315053349421,1.767882256602133E-4,3.1228596127920945E-2,-6.2848990023930795E-2,1.961706329699519,1.2976717399507625,0.66150153073601548,0.4421492313804079,85.869913981169148,5.1795511858104666E-2,-10.204578537401568,-6.1552567614875219E-3,4.864706256372392E-2,0.5001000000000001,null,4.864706256372392E-2,0.5,0.82391665847379791,5.831554830047854E-2,5.831554830047854E-2,-0.50009999999999999,3.4989328980287119E-3,2.7991463184229706E-2,0,0]
[null,0.53664315053349421,1.767882256602133E-4,3.1228596127920945E-2,-6.2848990023930795E-2,1.961706329699519,1.2976717399507625,0.66150153073601548,0.4421492313804079,85.869913981169148,5.1795511858104666E-2,-10.204578537401568,-6.1552567614875219E-3,4.864706256372392E-2,0.5001000000000001,null,4.864706256372392E-2,0.5,0.82391665847379791,5.831554830047854E-2,5.831554830047854E-2,-0.50009999999999999,3.4989328980287119E-3,2.7991463184229706E-2,0,0]
[null,0.53664315053349421,1.767882256602133E-4,3.1228596127920945E-2,-6.2848990023930795E-2,1.961706329699519,1.2976717399507625,0.66150153073601548,0.4421492313804079,85.869913981169148,5.1795511858104666E-2,-10.204578537401568,-6.1552567614875219E-3,4.864706256372392E-2,0.5001000000000001,null,4.864706256372392E-2,0.5,0.82391665847379791,5.831554830047854E-2,5.831554830047854E-2,-0.50009999999999999,3.4989328980287119E-3,2.7991463184229706E-2,0,0]
[null,0.53664315053349421,1.767882256602133E-4,3.1228596127920945E-2,-6.2848990023930795E-2,1.961706329699519,1.2976717399507625,0.66150153073601548,0.4421492313804079,85.869913981169148,5.1795511858104666E-2,-10.204578537401568,-6.1552567614875219E-3,4.864706256372392E-2,0.5001000000000001,null,4.864706256372392E-2,0.5,0.82391665847379791,5.831554830047854E-2,5.831554830047854E-2,-0.50009999999999999,3.4989328980287119E-3,2.7991463184229706E-2,0,0]
[null,0.53664315053349421,1.767882256602133E-4,3.1228596127920945E-2,-6.2848990023930795E-2,1.961706329699519,1.2976717399507625,0.66150153073601548,0.4421492313804079,85.869913981169148,5.1795511858104666E-2,-10.204578537401568,-6.1552567614875219E-3,4.864706256372392E-2,0.5001000000000001,null,4.864706256372392E-2,0.5,0.82391665847379791,5.831554830047854E-2,5.831554830047854E-2,-0.50009999999999999,3.4989328980287119E-3,2.7991463184229706E-2,0,0]
[null,0.53664315053349421,1.767882256602133E-4,3.1228596127920945E-2,-6.2848990023930795E-2,1.961706329699519,1.2976717399507625,0.66150153073601548,0.4421492313804079,85.869913981169148,5.1795511858104666E-2,-10.204578537401568,-6.1552567614875219E-3,4.864706256372392E-2,0.5001000000000001,null,4.864706256372392E-2,0.5,0.82391665847379791,5.831554830047854E-2,5.831554830047854E-2,-0.50009999999999999,3.4989328980287119E-3,2.7991463184229706E-2,0,0]
[null,0.53664315053349421,1.767882256602133E-4,3.1228596127920945E-2,-6.2848990023930795E-2,1.961706329699519,1.2976717399507625,0.66150153073601548,0.4421492313804079,85.869913981169148,5.1795511858104666E-2,-10.204578537401568,-6.1552567614875219E-3,4.864706256372392E-2,0.5001000000000001,null,4.864706256372392E-2,0.5,0.82391665847379791,5.831554830047854E-2,5.831554830047854E-2,-0.50009999999999999,3.4989328980287119E-3,2.7991463184229706E-2,0,0]
[null,0.53664315053349421,1.767882256602133E-4,3.1228596127920945E-2,-6.2848990023930795E-2,1.961706329699519,1.2976717399507625,0.66150153073601548,0.4421492313804079,85.869913981169148,5.1795511858104666E-2,-10.204578537401568,-6.1552567614875219E-3,4.864706256372392E-2,0.5001000000000001,null,4.864706256372392E-2,0.5,0.82391665847379791,5.831554830047854E-2,5.831554830047854E-2,-0.50009999999999999,3.4989328980287119E-3,2.7991463184229706E-2,0,0]
[null,0.53664315053349421,1.767882256602133E-4,3.1228596127920945E-2,-6.2848990023930795E-2,1.961706329699519,1.2976717399507625,0.66150153073601548,0.4421492313804079,85.869913981169148,5.1795511858104666E-2,-10.204578537401568,-6.1552567614875219E-3,4.864706256372392E-2,0.5001000000000001,null,4.864706256372392E-2,0.5,0.82391665847379791,5.831554830047854E-2,5.831554830047854E-2,-0.50009999999999999,3.4989328980287119E-3,2.7991463184229706E-2,0,0]
[null,0.53664315053349421,1.767882256602133E-4,3.1228596127920945E-2,-6.2848990023930795E-2,1.961706329699519,1.2976717399507625,0.66150153073601548,0.4421492313804079,85.869913981169148,5.1795511858104666E-2,-10.204578537401568,-6.1552567614875219E-3,4.864706256372392E-2,0.5001000000000001,null,4.864706256372392E-2,0.5,0.82391665847379791,5.831554830047854E-2,5.831554830047854E-2,-0.50009999999999999,3.4989328980287119E-3,2.7991463184229706E-2,0,0]
[null,0.53664315053349421,1.767882256602133E-4,3.1228596127920945E-2,-6.2848990023930795E-2,1.961706329699519,1.2976717399507625,0.66150153073601548,0.4421492313804079,85.869913981169148,5.1795511858104666E-2,-10.204578537401568,-6.1552567614875219E-3,4.864706256372392E-2,0.5001000000000001,null,4.864706256372392E-2,0.5,0.82391665847379791,5.831554830047854E-2,5.831554830047854E-2,-0.50009999999999999,3.4989328980287119E-3,2.7991463184229706E-2,0,0]
[null,0.53664315053349421,1.767882256602133E-4,3.1228596127920945E-2,-6.2848990023930795E-2,1.961706329699519,1.2976717399507625,0.66150153073601548,0.4421492313804079,85.869913981169148,5.1795511858104666E-2,-10.204578537401568,-6.1552567614875219E-3,4.864706256372392E-2,0.5001000000000001,null,4.864706256372392E-2,0.5,0.82391665847379791,5.831554830047854E-2,5.831554830047854E-2,-0.50009999999999999,3.4989328980287119E-3,2.7991463184229706E-2,0,0]
[null,0.53664315053349421,1.767882256602133E-4,3.1228596127920945E-2,-6.2848990023930795E-2,1.961706329699519,1.2976717399507625,0.66150153073601548,0.4421492313804079,85.869913981169148,5.1795511858104666E-2,-10.204578537401568,-6.1552567614875219E-3,4.864706256372392E-2,0.5001000000000001,null,4.864706256372392E-2,0.5,0.82391665847379791,5.831554830047854E-2,5.831554830047854E-2,-0.50009999999999999,3.4989328980287119E-3,2.7991463184229706E-2,0,0]
[null,0.53664315053349421,1.767882256602133E-4,3.1228596127920945E-2,-6.2848990023930795E-2,1.961706329699519,1.2976717399507625,0.66150153073601548,0.4421492313804079,85.869913981169148,5.1795511858104666E-2,-10.204578537401568,-6.1552567614875219E-3,4.864706256372392E-2,0.5001000000000001,null,4.864706256372392E-2,0.5,0.82391665847379791,5.831554830047854E-2,5.831554830047854E-2,-0.50009999999999999,3.4989328980287119E-3,2.7991463184229706E-2,0,0]
[null,0.53664315053349421,1.767882256602133E-4,3.1228596127920945E-2,-6.2848990023930795E-2,1.961706329699519,1.2976717399507625,0.66150153073601548,0.4421492313804079,85.869913981169148,5.1795511858104666E-2,-10.204578537401568,-6.1552567614875219E-3,4.864706256372392E-2,0.5001000000000001,null,4.864706256372392E-2,0.5,0.82391665847379791,5.831554830047854E-2,5.831554830047854E-2,-0.50009999999999999,3.4989328980287119E-3,2.7991463184229706E-2,0,0]
[null,0.53664315053349421,1.767882256602133E-4,3.1228596127920945E-2,-6.2848990023930795E-2,1.961706329699519,1.2976717399507625,0.66150153073601548,0.4421492313804079,85.869913981169148,5.1795511858104666E-2,-10.204578537401568,-6.1552567614875219E-3,4.864706256372392E-2,0.5001000000000001,null,4.864706256372392E-2,0.5,0.82391665847379791,5.831554830047854E-2,5.831554830047854E-2,-0.50009999999999999,3.4989328980287119E-3,2.7991463184229706E-2,0,0]
[null,0.53664315053349421,1.767882256602133E-4,3.1228596127920945E-2,-6.2848990023930795E-2,1.961706329699519,1.2976717399507625,0.66150153073601548,0.4421492313804079,85.869913981169148,5.1795511858104666E-2,-10.204578537401568,-6.1552567614875219E-3,4.864706256372392E-2,0.5001000000000001,null,4.864706256372392E-2,0.5,0.82391665847379791,5.831554830047854E-2,5.831554830047854E-2,-0.50009999999999999,3.4989328980287119E-3,2.7991463184229706E-2,0,0]
[null,0.53664315053349421,1.767882256602133E-4,3.1228596127920945E-2,-6.2848990023930795E-2,1.961706329699519,1.2976717399507625,0.66150153073601548,0.4421492313804079,85.869913981169148,5.1795511858104666E-2,-10.204578537401568,-6.1552567614875219E-3,4.864706256372392E-2,0.5001000000000001,null,4.864706256372392E-2,0.5,0.82391665847379791,5.831554830047854E-2,5.831554830047854E-2,-0.50009999999999999,3.4989328980287119E-3,2.7991463184229706E-2,0,0]
[null,0.53664315053349421,1.767882256602133E-4,3.1228596127920945E-2,-6.2848990023930795E-2,1.961706329699519,1.2976717399507625,0.66150153073601548,0.4421492313804079,85.869913981169148,5.1795511858104666E-2,-10.204578537401568,-6.1552567614875219E-3,4.864706256372392E-2,0.5001000000000001,null,4.864706256372392E-2,0.5,0.82391665847379791,5.831554830047854E-2,5.831554830047854E-2,-0.50009999999999999,3.4989328980287119E-3,2.7991463184229706E-2,0,0]
[null,0.53664315053349421,1.767882256602133E-4,3.1228596127920945E-2,-6.2848990023930795E-2,1.961706329699519,1.2976717399507625,0.66150153073601548,0.4421492313804079,85.869913981169148,5.1795511858104666E-2,-10.204578537401568,-6.1552567614875219E-3,4.864706256372392E-2,0.5001000000000001,null,4.864706256372392E-2,0.5,0.82391665847379791,5.831554830047854E-2,5.831554830047854E-2,-0.50009999999999999,3.4989328980287119E-3,2.7991463184229706E-2,0,0]
[null,0.53664315053349421,1.767882256602133E-4,3.1228596127920945E-2,-6.2848990023930795E-2,1.961706329699519,1.2976717399507625,0.66150153073601548,0.4421492313804079,85.869913981169148,5.1795511858104666E-2,-10.204578537401568,-6.1552567614875219E-3,4.864706256372392E-2,0.5001000000000001,null,4.864706256372392E-2,0.5,0.82391665847379791,5.831554830047854E-2,5.831554830047854E-2,-0.50009999999999999,3.4989328980287119E-3,2.7991463184229706E-2,0,0]
[null,0.53664315053349421,1.767882256602133E-4,3.1228596127920945E-2,-6.2848990023930795E-2,1.961706329699519,1.2976717399507625,0.66150153073601548,0.4421492313804079,85.869913981169148,5.1795511858104666E-2,-10.204578537401568,-6.1552567614875219E-3,4.864706256372392E-2,0.5001000000000001,null,4.864706256372392E-2,0.5,0.82391665847379791,5.831554830047854E-2,5.831554830047854E-2,-0.50009999999999999,3.4989328980287119E-3,2.7991463184229706E-2,0,0]
[null,0.53664315053349421,1.767882256602133E-4,3.1228596127920945E-2,-6.2848990023930795E-2,1.961706329699519,1.2976717399507625,0.66150153073601548,0.4421492313804079,85.869913981169148,5.1795511858104666E-2,-10.204578537401568,-6.1552567614875219E-3,4.864706256372392E-2,0.5001000000000001,null,4.864706256372392E-2,0.5,0.82391665847379791,5.831554830047854E-2,5.831554830047854E-2,-0.50009999999999999,3.4989328980287119E-3,2.7991463184229706E-2,0,0]
[null,0.53664315053349421,1.767882256602133E-4,3.1228596127920945E-2,-6.2848990023930795E-2,1.961706329699519,1.2976717399507625,0.66150153073601548,0.4421492313804079,85.869913981169148,5.1795511858104666E-2,-10.204578537401568,-6.1552567614875219E-3,4.864706256372392E-2,0.5001000000000001,null,4.864706256372392E-2,0.5,0.82391665847379791,5.831554830047854E-2,5.831554830047854E-2,-0.50009999999999999,3.4989328980287119E-3,2.7991463184229706E-2,0,0]
[null,0.53664315053349421,1.767882256602133E-4,3.1228596127920945E-2,-6.2848990023930795E-2,1.961706329699519,1.2976717399507625,0.66150153073601548,0.4421492313804079,85.869913981169148,5.1795511858104666E-2,-10.204578537401568,-6.1552567614875219E-3,4.864706256372392E-2,0.5001000000000001,null,4.864706256372392E-2,0.5,0.82391665847379791,5.831554830047854E-2,5.831554830047854E-2,-0.50009999999999999,3.4989328980287119E-3,2.7991463184229706E-2,0,0]
[null,0.53664315053349421,1.767882256602133E-4,3.1228596127920945E-2,-6.2848990023930795E-2,1.961706329699519,1.2976717399507625,0.66150153073601548,0.4421492313804079,85.869913981169148,5.1795511858104666E-2,-10.204578537401568,-6.1552567614875219E-3,4.864706256372392E-2,0.5001000000000001,null,4.864706256372392E-2,0.5,0.82391665847379791,5.831554830047854E-2,5.831554830047854E-2,-0.50009999999999999,3.4989328980287119E-3,2.7991463184229706E-2,0,0]
[null,0.53664315053349421,1.767882256602133E-4,3.1228596127920945E-2,-6.2848990023930795E-2,1.961706329699519,1.2976717399507625,0.66150153073601548,0.4421492313804079,85.869913981169148,5.1795511858104666E-2,-10.204578537401568,-6.1552567614875219E-3,4.864706256372392E-2,0.5001000000000001,null,4.864706256372392E-2,0.5,0.82391665847379791,5.831554830047854E-2,5.831554830047854E-2,-0.50009999999999999,3.4989328980287119E-3,2.7991463184229706E-2,0,0]
[null,0.53664315053349421,1.767882256602133E-4,3.1228596127920945E-2,-6.2848990023930795E-2,1.961706329699519,1.2976717399507625,0.66150153073601548,0.4421492313804079,85.869913981169148,5.1795511858104666E-2,-10.204578537401568,-6.1552567614875219E-3,4.864706256372392E-2,0.5001000000000001,null,4.864706256372392E-2,0.5,0.82391665847379791,5.831554830047854E-2,5.831554830047854E-2,-0.50009999999999999,3.4989328980287119E-3,2.7991463184229706E-2,0,0]
[null,{"$f":"MIN(0.5*(-(T1077+U1077+V1077)+SQRT((T1077+U1077+V1077)^2+4*S1077*(W1077+X1077)))/S1077,1000*$C$6)","v":0.53664315053349421},1.767882256602133E-4,{"$f":"IF($C$2=1,C1077/($Z$1006*$Z$5),2^(1/3)*$Z$5/C1077)","v":3.1228596127920945E-2},{"$f":"IF($C$2=1,-($Z$1006-2)*C1077/$Z$5,3*($Z$5/C1077)^2)","v":-6.2848990023930795E-2},{"$f":"IF($C$2=1,0.5*($Z$1006*C1077*$F$1006/$Z$5)*(1-Y1077^2+(D1077-E1077)*(E1077^2*(1-Y1077^2)+2*E1077*(1-Y1077)+2*LN((1-E1077)/(1-E1077*Y1077)))/(E1077^3)),$F$1006*E1077*(LN((1-D1077+D1077^2)/(1+D1077)^2)/(6*D1077)+ATAN((2-D1077)/(D1077*3^0.5))/(D1077*3^0.5)-LN((Y1077^2-D1077*Y1077+D1077^2)/(Y1077+D1077)^2)/(6*D1077)-ATAN((2*Y1077-D1077)/(D1077*3^0.5))/(D1077*3^0.5)))","v":1.961706329699519},{"$f":"IF($C$2=1,($Z$1006*C1077*$F$1006/$Z$5)*(1-Y1077^3-(D1077-E1077)*(-2*E1077^3*(1-Y1077^3)-3*E1077^2*(1-Y1077^2)-6*E1077*(1-Y1077)-6*LN((1-E1077)/(1-E1077*Y1077)))/(2*E1077^4))/3,$F$1006*E1077*(LN((1+D1077^3)/(D1077^3+Y1077^3)))/3)","v":1.2976717399507625},{"$f":"G1077/F1077","v":0.66150153073601548},{"$f":"F1077*B1077*$D$1006","v":0.4421492313804079},{"$f":"MAX(MIN($K$1006,$Q$1006*$J$1006*C1077*(B1077-$I$1006)/B1077),-$K$1006)","v":85.869913981169148},{"$f":"J1077*$H$1006","v":5.1795511858104666E-2},{"$f":"MIN($O$1006,$Q$1006*$N$1006*C1077*(C$1006-B1077-$M$1006)/B1077)","v":-10.204578537401568},{"$f":"L1077*$L$1006","v":-6.1552567614875219E-3},{"$f":"(0.5*$C$1006-B1077+H1077*B1077)*I1077+(0.5*$C$1006-$I$1006)*K1077+(0.5*$C$1006-$M$1006)*M1077","v":4.864706256372392E-2},{"$f":"I1077+K1077-M1077","v":0.5001000000000001},null,{"$f":"N1077-P1077*O1077","v":4.864706256372392E-2},{"$f":"R1076","v":0.5},{"$f":"F1077*$D$1006","v":0.82391665847379791},{"$f":"IF(ABS(J1076)<$K$1006,$Q$1006*C1077*$H$1006*$J$1006,IF(J1076>0,1,-1)*$H$1006*$K$1006)","v":5.831554830047854E-2},5.831554830047854E-2,{"$f":"-(R1077+0.0001)","v":-0.50009999999999999},{"$f":"IF(ABS(J1076)<$K$1006,$I$1006*$Q$1006*C1077*$H$1006*$J$1006,0)","v":3.4989328980287119E-3},2.7991463184229706E-2,{"$f":"IF(B1076<$C$1006,0,(B1076-$C$1006)/B1076)","v":0},{"$f":"IF(B1077<=$C$1006,0,(B1077-$C$1006)/B1077)","v":0}]
[null,{"$f":"MIN(0.5*(-(T1078+U1078+V1078)+SQRT((T1078+U1078+V1078)^2+4*S1078*(W1078+X1078)))/S1078,1000*$C$6)","v":0.53664315053349421},1.767882256602133E-4,{"$f":"IF($C$2=1,C1078/($Z$1006*$Z$5),2^(1/3)*$Z$5/C1078)","v":3.1228596127920945E-2},{"$f":"IF($C$2=1,-($Z$1006-2)*C1078/$Z$5,3*($Z$5/C1078)^2)","v":-6.2848990023930795E-2},{"$f":"IF($C$2=1,0.5*($Z$1006*C1078*$F$1006/$Z$5)*(1-Y1078^2+(D1078-E1078)*(E1078^2*(1-Y1078^2)+2*E1078*(1-Y1078)+2*LN((1-E1078)/(1-E1078*Y1078)))/(E1078^3)),$F$1006*E1078*(LN((1-D1078+D1078^2)/(1+D1078)^2)/(6*D1078)+ATAN((2-D1078)/(D1078*3^0.5))/(D1078*3^0.5)-LN((Y1078^2-D1078*Y1078+D1078^2)/(Y1078+D1078)^2)/(6*D1078)-ATAN((2*Y1078-D1078)/(D1078*3^0.5))/(D1078*3^0.5)))","v":1.961706329699519},{"$f":"IF($C$2=1,($Z$1006*C1078*$F$1006/$Z$5)*(1-Y1078^3-(D1078-E1078)*(-2*E1078^3*(1-Y1078^3)-3*E1078^2*(1-Y1078^2)-6*E1078*(1-Y1078)-6*LN((1-E1078)/(1-E1078*Y1078)))/(2*E1078^4))/3,$F$1006*E1078*(LN((1+D1078^3)/(D1078^3+Y1078^3)))/3)","v":1.2976717399507625},{"$f":"G1078/F1078","v":0.66150153073601548},{"$f":"F1078*B1078*$D$1006","v":0.4421492313804079},{"$f":"MAX(MIN($K$1006,$Q$1006*$J$1006*C1078*(B1078-$I$1006)/B1078),-$K$1006)","v":85.869913981169148},{"$f":"J1078*$H$1006","v":5.1795511858104666E-2},{"$f":"MIN($O$1006,$Q$1006*$N$1006*C1078*(C$1006-B1078-$M$1006)/B1078)","v":-10.204578537401568},{"$f":"L1078*$L$1006","v":-6.1552567614875219E-3},{"$f":"(0.5*$C$1006-B1078+H1078*B1078)*I1078+(0.5*$C$1006-$I$1006)*K1078+(0.5*$C$1006-$M$1006)*M1078","v":4.864706256372392E-2},{"$f":"I1078+K1078-M1078","v":0.5001000000000001},null,{"$f":"N1078-P1078*O1078","v":4.864706256372392E-2},{"$f":"R1077","v":0.5},{"$f":"F1078*$D$1006","v":0.82391665847379791},{"$f":"IF(ABS(J1077)<$K$1006,$Q$1006*C1078*$H$1006*$J$1006,IF(J1077>0,1,-1)*$H$1006*$K$1006)","v":5.831554830047854E-2},5.831554830047854E-2,{"$f":"-(R1078+0.0001)","v":-0.50009999999999999},{"$f":"IF(ABS(J1077)<$K$1006,$I$1006*$Q$1006*C1078*$H$1006*$J$1006,0)","v":3.4989328980287119E-3},2.7991463184229706E-2,{"$f":"IF(B1077<$C$1006,0,(B1077-$C$1006)/B1077)","v":0},{"$f":"IF(B1078<=$C$1006,0,(B1078-$C$1006)/B1078)","v":0}]
[null,null,{"$f":"IF(C1006*J1079/(J1079-L1079)<=0,B1078,C1006*J1079/(J1079-L1079))","v":0.49698325900159668},null,null,null,null,null,null,{"$f":"$R1078/($J1009*N1009)+($Q1078-R1008)/($M1009*N1009)","v":2.9585468774763588E-4},null,{"$f":"$R1078/($J1009*$N$1009)-($Q1078-R1008)/($M1009*N1009)","v":-2.5607913839131266E-5},null,null,{"$f":"SIGN(J1079-L1079)","v":1},{"$f":"IF(Q1011=0.0001,ABS(Q1008)*($Q$6*C1078/B1078)/Q1011,IF(B1078>10*$C$6,(L1079-J1079)/$C$6,$Q$6*C1078/B1078))*IF(B1078>10*C1006,O1079*P1008,P1008)","v":9.0077780290199496E-4},null,null,null,null,null,null,null,null,null,null,{"$f":"N1078/($Q$6*C1078/B1078)","v":54.005618707521307}]
[null,{"$f":"IF(AND(B1078<>1000*$C$6,C1080<C1006,B1078<C1006),B1078,IF(AND(B1078<>1000*$C$6,C1080>C1006,B1078>C1006),B1078*C1080/C1079,IF(C1006*J1080/(J1080-L1080)<=0,B1078,C1006*J1080/(J1080-L1080))))","v":0.53664315053349421},{"$f":"IF(C1006*J1080/(J1080-L1080)<=0,B1078,C1006*J1080/(J1080-L1080))","v":0.49828808074743997},null,null,null,null,null,null,{"$f":"$R1078/($J1009*N1009)+($Q1080-R1008)/($M1009*N1009)","v":2.9493599897586023E-4},null,{"$f":"$R1078/($J1009*N1009)-($Q1080-R1008)/($M1009*N1009)","v":-2.4689225067355615E-5},null,null,{"$f":"SIGN(J1080-L1080)","v":1},null,{"$f":"MAX(ABS(INDEX(Snitkræfter!$G$286:$U$286,B1009+1)),0.0000001)","v":4.8369011493791927E-2}]
[null,{"$f":"MIN(0.5*(-(T1081+U1081+V1081)+SQRT((T1081+U1081+V1081)^2+4*S1081*(W1081+X1081)))/S1081,1000*$C$6)","v":0.53822301268901007},{"$f":"MIN(MAX(IF(Q1008=0,0.001*Z1005,IF(OR(AND(B1078<>1000*$C$6,C1080<C1006,B1078<C1006),AND(B1078<>1000*$C$6,C1080>C1006,B1078>C1006)),C1078*J1080/J1079,IF(B1080>C1006,J1080,C1078*MIN(Q1080/Q1011,2)))),0.0001*$Z$5),0.9*K1006/(J1006*Q1006))","v":1.7623926238661218E-4},{"$f":"IF($C$2=1,C1081/($Z$1006*$Z$5),2^(1/3)*$Z$5/C1081)","v":3.1131625007268938E-2},{"$f":"IF($C$2=1,-($Z$1006-2)*C1081/$Z$5,3*($Z$5/C1081)^2)","v":-6.2653831171144009E-2},{"$f":"IF($C$2=1,0.5*($Z$1006*C1081*$F$1006/$Z$5)*(1-Y1081^2+(D1081-E1081)*(E1081^2*(1-Y1081^2)+2*E1081*(1-Y1081)+2*LN((1-E1081)/(1-E1081*Y1081)))/(E1081^3)),$F$1006*E1081*(LN((1-D1081+D1081^2)/(1+D1081)^2)/(6*D1081)+ATAN((2-D1081)/(D1081*3^0.5))/(D1081*3^0.5)-LN((Y1081^2-D1081*Y1081+D1081^2)/(Y1081+D1081)^2)/(6*D1081)-ATAN((2*Y1081-D1081)/(D1081*3^0.5))/(D1081*3^0.5)))","v":1.9559845152286703},{"$f":"IF($C$2=1,($Z$1006*C1081*$F$1006/$Z$5)*(1-Y1081^3-(D1081-E1081)*(-2*E1081^3*(1-Y1081^3)-3*E1081^2*(1-Y1081^2)-6*E1081*(1-Y1081)-6*LN((1-E1081)/(1-E1081*Y1081)))/(2*E1081^4))/3,$F$1006*E1081*(LN((1+D1081^3)/(D1081^3+Y1081^3)))/3)","v":1.2939177798664092},{"$f":"G1081/F1081","v":0.66151739433128376},{"$f":"F1081*B1081*$D$1006","v":0.44215746899495967},{"$f":"MAX(MIN($K$1006,$Q$1006*$J$1006*C1081*(B1081-$I$1006)/B1081),-$K$1006)","v":85.6349009298564},{"$f":"J1081*$H$1006","v":5.1653755325208307E-2},{"$f":"MIN($O$1006,$Q$1006*$N$1006*C1081*(C$1006-B1081-$M$1006)/B1081)","v":-10.425934744180758},{"$f":"L1081*$L$1006","v":-6.2887756798319702E-3},{"$f":"(0.5*$C$1006-B1081+H1081*B1081)*I1081+(0.5*$C$1006-$I$1006)*K1081+(0.5*$C$1006-$M$1006)*M1081","v":4.8357300317513778E-2},{"$f":"I1081+K1081-M1081","v":0.50009999999999999},null,{"$f":"N1081-P1081*O1081","v":4.8357300317513778E-2},{"$f":"R1078","v":0.5},{"$f":"F1081*$D$1006","v":0.82151349639604154},{"$f":"IF(ABS(J1080)<$K$1006,$Q$1006*C1081*$H$1006*$J$1006,IF(J1080>0,1,-1)*$H$1006*$K$1006)","v":5.8134466703119204E-2},{"$f":"IF(L1078<$O$1006,$Q$1006*C1081*$L$1006*$N$1006,-$L$1006*$O$1006)","v":5.8134466703119204E-2},{"$f":"-(R1081+0.0001)","v":-0.50009999999999999},{"$f":"IF(ABS(J1080)<$K$1006,$I$1006*$Q$1006*C1081*$H$1006*$J$1006,0)","v":3.4880680021871528E-3},{"$f":"IF(L1078<$O$1006,($C$1006-$M$1006)*$Q$1006*C1081*$L$1006*$N$1006,0)","v":2.7904544017497222E-2},{"$f":"IF(B1080<$C$406,0,IF(C1078*J1080/J1079=C1081,Y1078,(B1080-$C$6)/B1080))","v":0},{"$f":"IF(B1081<=$C$1006,0,(B1081-$C$1006)/B1081)","v":0}]
[null,{"$f":"MIN(0.5*(-(T1082+U1082+V1082)+SQRT((T1082+U1082+V1082)^2+4*S1082*(W1082+X1082)))/S1082,1000*$C$6)","v":0.54863295120963307},{"$f":"0.98*C1081","v":1.7271447713887995E-4},3.0508992507123561E-2,{"$f":"IF($C$2=1,-($Z$1006-2)*C1082/$Z$5,3*($Z$5/C1082)^2)","v":-6.1400754547721127E-2},{"$f":"IF($C$2=1,0.5*($Z$1006*C1082*$F$1006/$Z$5)*(1-Y1082^2+(D1082-E1082)*(E1082^2*(1-Y1082^2)+2*E1082*(1-Y1082)+2*LN((1-E1082)/(1-E1082*Y1082)))/(E1082^3)),$F$1006*E1082*(LN((1-D1082+D1082^2)/(1+D1082)^2)/(6*D1082)+ATAN((2-D1082)/(D1082*3^0.5))/(D1082*3^0.5)-LN((Y1082^2-D1082*Y1082+D1082^2)/(Y1082+D1082)^2)/(6*D1082)-ATAN((2*Y1082-D1082)/(D1082*3^0.5))/(D1082*3^0.5)))","v":1.9191933972000672},{"$f":"IF($C$2=1,($Z$1006*C1082*$F$1006/$Z$5)*(1-Y1082^3-(D1082-E1082)*(-2*E1082^3*(1-Y1082^3)-3*E1082^2*(1-Y1082^2)-6*E1082*(1-Y1082)-6*LN((1-E1082)/(1-E1082*Y1082)))/(2*E1082^4))/3,$F$1006*E1082*(LN((1+D1082^3)/(D1082^3+Y1082^3)))/3)","v":1.2697753445683218},{"$f":"G1082/F1082","v":0.6616192752751292},{"$f":"F1082*B1082*$D$1006","v":0.44223174972812407},{"$f":"MAX(MIN($K$1006,$Q$1006*$J$1006*C1082*(B1082-$I$1006)/B1082),-$K$1006)","v":84.121988395790012},5.0741187983919307E-2,{"$f":"MIN($O$1006,$Q$1006*$N$1006*C1082*(C$1006-B1082-$M$1006)/B1082)","v":-11.815699925543111},-7.1270622879566784E-3,{"$f":"(0.5*$C$1006-B1082+H1082*B1082)*I1082+(0.5*$C$1006-$I$1006)*K1082+(0.5*$C$1006-$M$1006)*M1082","v":4.6462622711583343E-2},{"$f":"I1082+K1082-M1082","v":0.5001000000000001},null,{"$f":"N1082-P1082*O1082","v":4.6462622711583343E-2},{"$f":"R1081","v":0.5},0.80606122682402814,5.6971777369056821E-2,{"$f":"IF(L1081<$O$1006,$Q$1006*C1082*$L$1006*$N$1006,-$L$1006*$O$1006)","v":5.6971777369056821E-2},{"$f":"-(R1082+0.0001)","v":-0.50009999999999999},3.4183066421434095E-3,{"$f":"IF(L1081<$O$1006,($C$1006-$M$1006)*$Q$1006*C1082*$L$1006*$N$1006,0)","v":2.7346453137147279E-2},{"$f":"IF(B1081<$C$1006,0,IF(MIN(ABS($Q$1080-Q1081),ABS(Q1081-Q1080))<=0.001*Q$1080,Y1081,(B1081-$C$1006)/B1081))","v":0},1.5735385908919597E-2]
[null,0.55403705763092082,{"$f":"IF(Z1082>0,0.99*C1082,0.98*C1082)","v":1.7098733236749114E-4},3.0203902582052324E-2,-6.0786747002243915E-2,1.9006333099016979,1.2579156421095836,{"$f":"G1083/F1083","v":0.66184025901063681},0.44226894039436693,83.380515158150445,5.0293941863688539E-2,-12.495516096834345,-7.5371177419445348E-3,4.5531121839948556E-2,{"$f":"I1083+K1083-M1083","v":0.50009999999999999},null,{"$f":"N1083-P1083*O1083","v":4.5531121839948556E-2},{"$f":"R1082","v":0.5},0.79826599015871302,5.6402059595366254E-2,5.6402059595366254E-2,{"$f":"-(R1083+0.0001)","v":-0.50009999999999999},3.384123575721975E-3,2.7072988605775807E-2,{"$f":"IF(B1082<$C$1006,0,IF(MIN(ABS($Q$1080-Q1082),ABS(Q1082-Q1081))<=0.001*Q$1080,Y1082,(B1082-$C$1006)/B1082))","v":1.5735385908919597E-2},2.5335954405186652E-2]
[null,0.53851857827414096,{"$f":"IF(MIN(ABS($Q$1080-Q1083),10*ABS(Q1083-Q1082))<=0.001*Q$1080,C1083,MAX(0.9*C1083,MIN($W$6,1.05*C1083,IF(C1083=$W$6,0.5*(C1083+C1082),C1083+IF(C1083=C1082,0,(C1083-C1082)*(Q1083-Q$1080)/(Q1082-Q1083))))))","v":1.7624921287310132E-4},3.1133382701949597E-2,-6.2657368612756725E-2,1.9547549658574186,1.2939633230222989,0.66195679030017185,0.44212218333689862,85.645633131361748,5.1660228836646269E-2,-10.473701364557424,-6.3175878264551035E-3,4.8409895029258979E-2,0.50009999999999999,null,4.8409895029258979E-2,0.5,0.82099708566011576,5.8137748980959275E-2,5.8137748980959275E-2,-0.50009999999999999,3.4882649388575568E-3,2.7906119510860455E-2,2.5335954405186652E-2,0]
[null,0.53819427886582571,{"$f":"IF(MIN(ABS($Q$1080-Q1084),10*ABS(Q1084-Q1083))<=0.001*Q$1080,C1084,MAX(0.9*C1084,MIN($W$6,1.05*C1084,IF(C1084=$W$6,0.5*(C1084+C1083),C1084+IF(C1084=C1083,0,(C1084-C1083)*(Q1084-Q$1080)/(Q1083-Q1084))))))","v":1.7624921287310132E-4},3.1133382701949597E-2,-6.2657368612756725E-2,1.956088248192549,1.2939858385502212,0.6615171067797585,0.44215731173624018,85.639162230437989,5.1656325681163864E-2,-10.421934157167426,-6.2863625825959136E-3,4.8362564981953252E-2,0.50009999999999999,null,4.8362564981953252E-2,0.5,0.8215570642408706,5.8137748980959275E-2,5.8137748980959275E-2,-0.50009999999999999,3.4882649388575568E-3,2.7906119510860455E-2,0,0]
[null,0.53819427886582571,1.7624921287310132E-4,3.1133382701949597E-2,-6.2657368612756725E-2,1.956088248192549,1.2939858385502212,0.6615171067797585,0.44215731173624018,85.639162230437989,5.1656325681163864E-2,-10.421934157167426,-6.2863625825959136E-3,4.8362564981953252E-2,0.50009999999999999,null,4.8362564981953252E-2,0.5,0.8215570642408706,5.8137748980959275E-2,5.8137748980959275E-2,-0.50009999999999999,3.4882649388575568E-3,2.7906119510860455E-2,0,0]
[null,0.53819427886582571,1.7624921287310132E-4,3.1133382701949597E-2,-6.2657368612756725E-2,1.956088248192549,1.2939858385502212,0.6615171067797585,0.44215731173624018,85.639162230437989,5.1656325681163864E-2,-10.421934157167426,-6.2863625825959136E-3,4.8362564981953252E-2,0.50009999999999999,null,4.8362564981953252E-2,0.5,0.8215570642408706,5.8137748980959275E-2,5.8137748980959275E-2,-0.50009999999999999,3.4882649388575568E-3,2.7906119510860455E-2,0,0]
[null,0.53819427886582571,1.7624921287310132E-4,3.1133382701949597E-2,-6.2657368612756725E-2,1.956088248192549,1.2939858385502212,0.6615171067797585,0.44215731173624018,85.639162230437989,5.1656325681163864E-2,-10.421934157167426,-6.2863625825959136E-3,4.8362564981953252E-2,0.50009999999999999,null,4.8362564981953252E-2,0.5,0.8215570642408706,5.8137748980959275E-2,5.8137748980959275E-2,-0.50009999999999999,3.4882649388575568E-3,2.7906119510860455E-2,0,0]
[null,0.53819427886582571,1.7624921287310132E-4,3.1133382701949597E-2,-6.2657368612756725E-2,1.956088248192549,1.2939858385502212,0.6615171067797585,0.44215731173624018,85.639162230437989,5.1656325681163864E-2,-10.421934157167426,-6.2863625825959136E-3,4.8362564981953252E-2,0.50009999999999999,null,4.8362564981953252E-2,0.5,0.8215570642408706,5.8137748980959275E-2,5.8137748980959275E-2,-0.50009999999999999,3.4882649388575568E-3,2.7906119510860455E-2,0,0]
[null,0.53819427886582571,1.7624921287310132E-4,3.1133382701949597E-2,-6.2657368612756725E-2,1.956088248192549,1.2939858385502212,0.6615171067797585,0.44215731173624018,85.639162230437989,5.1656325681163864E-2,-10.421934157167426,-6.2863625825959136E-3,4.8362564981953252E-2,0.50009999999999999,null,4.8362564981953252E-2,0.5,0.8215570642408706,5.8137748980959275E-2,5.8137748980959275E-2,-0.50009999999999999,3.4882649388575568E-3,2.7906119510860455E-2,0,0]
[null,0.53819427886582571,1.7624921287310132E-4,3.1133382701949597E-2,-6.2657368612756725E-2,1.956088248192549,1.2939858385502212,0.6615171067797585,0.44215731173624018,85.639162230437989,5.1656325681163864E-2,-10.421934157167426,-6.2863625825959136E-3,4.8362564981953252E-2,0.50009999999999999,null,4.8362564981953252E-2,0.5,0.8215570642408706,5.8137748980959275E-2,5.8137748980959275E-2,-0.50009999999999999,3.4882649388575568E-3,2.7906119510860455E-2,0,0]
[null,0.53819427886582571,1.7624921287310132E-4,3.1133382701949597E-2,-6.2657368612756725E-2,1.956088248192549,1.2939858385502212,0.6615171067797585,0.44215731173624018,85.639162230437989,5.1656325681163864E-2,-10.421934157167426,-6.2863625825959136E-3,4.8362564981953252E-2,0.50009999999999999,null,4.8362564981953252E-2,0.5,0.8215570642408706,5.8137748980959275E-2,5.8137748980959275E-2,-0.50009999999999999,3.4882649388575568E-3,2.7906119510860455E-2,0,0]
[null,0.53819427886582571,1.7624921287310132E-4,3.1133382701949597E-2,-6.2657368612756725E-2,1.956088248192549,1.2939858385502212,0.6615171067797585,0.44215731173624018,85.639162230437989,5.1656325681163864E-2,-10.421934157167426,-6.2863625825959136E-3,4.8362564981953252E-2,0.50009999999999999,null,4.8362564981953252E-2,0.5,0.8215570642408706,5.8137748980959275E-2,5.8137748980959275E-2,-0.50009999999999999,3.4882649388575568E-3,2.7906119510860455E-2,0,0]
[null,0.53819427886582571,1.7624921287310132E-4,3.1133382701949597E-2,-6.2657368612756725E-2,1.956088248192549,1.2939858385502212,0.6615171067797585,0.44215731173624018,85.639162230437989,5.1656325681163864E-2,-10.421934157167426,-6.2863625825959136E-3,4.8362564981953252E-2,0.50009999999999999,null,4.8362564981953252E-2,0.5,0.8215570642408706,5.8137748980959275E-2,5.8137748980959275E-2,-0.50009999999999999,3.4882649388575568E-3,2.7906119510860455E-2,0,0]
[null,0.53819427886582571,1.7624921287310132E-4,3.1133382701949597E-2,-6.2657368612756725E-2,1.956088248192549,1.2939858385502212,0.6615171067797585,0.44215731173624018,85.639162230437989,5.1656325681163864E-2,-10.421934157167426,-6.2863625825959136E-3,4.8362564981953252E-2,0.50009999999999999,null,4.8362564981953252E-2,0.5,0.8215570642408706,5.8137748980959275E-2,5.8137748980959275E-2,-0.50009999999999999,3.4882649388575568E-3,2.7906119510860455E-2,0,0]
[null,0.53819427886582571,1.7624921287310132E-4,3.1133382701949597E-2,-6.2657368612756725E-2,1.956088248192549,1.2939858385502212,0.6615171067797585,0.44215731173624018,85.639162230437989,5.1656325681163864E-2,-10.421934157167426,-6.2863625825959136E-3,4.8362564981953252E-2,0.50009999999999999,null,4.8362564981953252E-2,0.5,0.8215570642408706,5.8137748980959275E-2,5.8137748980959275E-2,-0.50009999999999999,3.4882649388575568E-3,2.7906119510860455E-2,0,0]
[null,0.53819427886582571,1.7624921287310132E-4,3.1133382701949597E-2,-6.2657368612756725E-2,1.956088248192549,1.2939858385502212,0.6615171067797585,0.44215731173624018,85.639162230437989,5.1656325681163864E-2,-10.421934157167426,-6.2863625825959136E-3,4.8362564981953252E-2,0.50009999999999999,null,4.8362564981953252E-2,0.5,0.8215570642408706,5.8137748980959275E-2,5.8137748980959275E-2,-0.50009999999999999,3.4882649388575568E-3,2.7906119510860455E-2,0,0]
[null,0.53819427886582571,1.7624921287310132E-4,3.1133382701949597E-2,-6.2657368612756725E-2,1.956088248192549,1.2939858385502212,0.6615171067797585,0.44215731173624018,85.639162230437989,5.1656325681163864E-2,-10.421934157167426,-6.2863625825959136E-3,4.8362564981953252E-2,0.50009999999999999,null,{"$f":"IF(B1098>10*B1006,Q1080,IF(Q1080<0.000001,0,N1098-P1098*O1098))","v":4.8362564981953252E-2},0.5,0.8215570642408706,5.8137748980959275E-2,5.8137748980959275E-2,-0.50009999999999999,3.4882649388575568E-3,2.7906119510860455E-2,0,0]
[null,null,null,null,null,null,null,null,null,{"$f":"MAX(J1078,J1098)/K1006","v":0.18735253959527812},null,{"$f":"MAX(L1078,L1098)/O1006","v":-2.2264534990694328E-2},null,null,null,{"$f":"IF(Q1080=0.0001,ABS(INDEX(Snitkræfter!$G$286:$U$286,B1009+1))*($Q$6*C1098/B1098)/Q1080,IF(B1098>10*$C$6,(J1080-L1080)/$C$6,$Q$6*C1098/B1098))*IF(AND(B1098>10*$C$6,O1080=O1079),P1008,P1008)","v":8.9544319134845889E-4},null,null,null,null,null,null,null,null,null,null,{"$f":"(Q1078-Q1098)/(P1079-P1099)","v":53.330515055419085}]
[]
[]
[null,"Tilstand:",{"$f":"C1002","v":1}]
[]
[null,"L","h","b","fck","fcd","Ecd","Ac","ac","Esc","fyd_c","At","at","Est","fyd_t","Modenhed","1+f","uterm","g","EI","sc/fcd","sc","e","   emax",null,{"$f":"Stivheder!$AD$4","v":3.5000000000000001E-3}]
[null,"(m)","(m)","(m)","(Mpa)","(Mpa)","(Mpa)","(m2)","(m)","(Mpa)","(Mpa)","(m2)","(m)","(Mpa)","(Mpa)","(døgn)",null,"(m)",null,"(Mnm2)",null,"(MPa)",null,"e1",null,{"$f":"Stivheder!$AD$5","v":2.0693662482105194E-3}]
[null,{"$f":"Stivheder!$B$6","v":0.54},{"$f":"Stivheder!$C$6","v":0.54},{"$f":"Stivheder!$D$6","v":0.42},{"$f":"Stivheder!$E$6","v":25},{"$f":"Stivheder!$F$6","v":17.857142857142858},{"$f":"IF(C1102=1,1000*22*((E1106+8)/10)^0.3/S1106,1.4*F1106/Z1105)","v":22482.71872144239},{"$f":"IF(P1108<0,Stivheder!$X$6,Stivheder!$T$6)","v":6.0318578948924026E-4},{"$f":"IF(P1108<0,Stivheder!$Y$6,Stivheder!$U$6)","v":0.06},{"$f":"IF(P1108<0,Stivheder!$Z$6,Stivheder!$V$6)","v":200000},{"$f":"IF(P1108<0,Stivheder!$AA$6,Stivheder!$W$6)","v":458.33333333333337},{"$f":"IF(P1108<0,Stivheder!$T$6,Stivheder!$X$6)","v":6.0318578948924026E-4},{"$f":"IF(P1108<0,Stivheder!$U$6,Stivheder!$Y$6)","v":0.06},{"$f":"IF(P1108<0,Stivheder!$V$6,Stivheder!$Z$6)","v":200000},{"$f":"IF(P1108<0,Stivheder!$W$6,Stivheder!$AA$6)","v":458.33333333333337},{"$f":"Stivheder!$P$6","v":28},{"$f":"Stivheder!$Q$6","v":2.7343237157040781},{"$f":"Stivheder!$R$6","v":0},{"$f":"Stivheder!$S$6","v":1.4},{"$f":"AA1179","v":53.973240813319713},{"$f":"U1006","v":0.99999990000000005},{"$f":"U1106*F1106","v":17.857141071428572},{"$f":"Z1104","v":3.5000000000000001E-3},"k",null,{"$f":"Stivheder!$AD$6","v":2.7356687822616226}]
[]
[null,"punkt","elasttisk","e_o","sc_o/fcd","sc_u/fcd","sc_o","sc_u","hc","At","Ac","Ic","Wt","E",null,{"$f":"SIGN(Q1108)","v":1},{"$f":"INDEX(Snitkræfter!$G$199:$U$199,B1109+1)","v":4.9659011868233335E-2},{"$f":"INDEX(Snitkræfter!$G$59:$U$59,B1109+1)*P1108","v":0}]
[null,{"$f":"(ROW()-9)/100","v":11},"skøn",{"$f":"IF(C1102=1,Z1105*0.5*(-((Z1106-2)*E1109-Z1106)-(((Z1106-2)*E1109-Z1106)^2-4*E1109)^0.5),G1109/(1.4*F1106/Z1105))","v":9.9181854334296675E-4},{"$f":"MIN(0.9999,G1109/F1106)","v":0.79953883922679092},{"$f":"H1109/F1106","v":-2.3421465224877706E-2},{"$f":"IF(H1109>0,R1111/J1109+MAX(Q1111+Stivheder!$O$2*R1111+R1111*R1106,D1106*C1106^2*0.003*E1106)/M1109,MIN(0.8*F1106,2*(R1111+Q1111/(C1106-M1106-0.333*I1109))/(((R1111+L1106*O1106)/(F1106*D1106*0.5))*D1106)))","v":14.277479271906982},{"$f":"R1111/J1109-(Q1111+Stivheder!$O$2*R1111+R1111*R1106)/M1109","v":-0.41824045044424474},{"$f":"IF(H1109>0,C1106*G1109/(G1109-H1109),(R1111+L1106*O1106)/(F1106*D1106*0.5))","v":0.20705604093757382},{"$f":"K1109+Q1106*(H1106+L1106)*N1106/G1106","v":0.25614351898648502},{"$f":"C1106*D1106","v":0.2268},{"$f":"D1106*C1106^3/12","v":5.5112400000000006E-3},{"$f":"(L1109+((0.5*C1106-I1106)^2*H1106+(0.5*C1106-M1106)^2*L1106)*Q1106)/(0.5*C1106)","v":2.0950773034997532E-2},{"$f":"G1109/D1109","v":14395.253413778823}]
[null,"hc","e0","a'","b'","N'","tN'","t'","Nc","sac","Nac","sat","Nat","Mtot","N",null,"Mo","N","A","B1","B2","B3","C1","C2","gættet x","beregnet x","EIt"]
[null,{"$f":"I1109","v":0.20705604093757382},null,null,null,null,null,null,null,null,null,null,null,null,null,null,{"$f":"MAX(ABS(Q1108),0.0000001)","v":4.9659011868233335E-2},{"$f":"INDEX(Snitkræfter!$G$52:$U$52,B1109+1)","v":0.5}]
[null,{"$f":"MIN(0.5*(-(T1112+U1112+V1112)+SQRT((T1112+U1112+V1112)^2+4*S1112*(W1112+X1112)))/S1112,1000*$C$6)","v":0.20255891473187593},{"$f":"D1109","v":9.9181854334296675E-4},{"$f":"IF($C$2=1,C1112/($Z$1006*$Z$5),2^(1/3)*$Z$5/C1112)","v":0.17519888899032574},{"$f":"IF($C$2=1,-($Z$1006-2)*C1112/$Z$5,3*($Z$5/C1112)^2)","v":-0.35259584456670257},{"$f":"IF($C$2=1,0.5*($Z$1006*C1112*$F$1006/$Z$5)*(1-Y1112^2+(D1112-E1112)*(E1112^2*(1-Y1112^2)+2*E1112*(1-Y1112)+2*LN((1-E1112)/(1-E1112*Y1112)))/(E1112^3)),$F$1006*E1112*(LN((1-D1112+D1112^2)/(1+D1112)^2)/(6*D1112)+ATAN((2-D1112)/(D1112*3^0.5))/(D1112*3^0.5)-LN((Y1112^2-D1112*Y1112+D1112^2)/(Y1112+D1112)^2)/(6*D1112)-ATAN((2*Y1112-D1112)/(D1112*3^0.5))/(D1112*3^0.5)))","v":8.4391020675707349},{"$f":"IF($C$2=1,($Z$1006*C1112*$F$1006/$Z$5)*(1-Y1112^3-(D1112-E1112)*(-2*E1112^3*(1-Y1112^3)-3*E1112^2*(1-Y1112^2)-6*E1112*(1-Y1112)-6*LN((1-E1112)/(1-E1112*Y1112)))/(2*E1112^4))/3,$F$1006*E1112*(LN((1+D1112^3)/(D1112^3+Y1112^3)))/3)","v":5.389750634587589},{"$f":"G1112/F1112","v":0.63866399427718656},{"$f":"F1112*B1112*$D$1006","v":0.71795444956983645},{"$f":"MAX(MIN($K$1006,$Q$1006*$J$1006*C1112*(B1112-$I$1006)/B1112),-$K$1006)","v":381.72901150133066},{"$f":"J1112*$H$1006","v":0.23025351517337742},{"$f":"MIN($O$1006,$Q$1006*$N$1006*C1112*(C$1006-B1112-$M$1006)/B1112)","v":458.33333333333337},{"$f":"L1112*$L$1006","v":0.27646015351590181},{"$f":"(0.5*$C$1006-B1112+H1112*B1112)*I1112+(0.5*$C$1006-$I$1006)*K1112+(0.5*$C$1006-$M$1006)*M1112","v":0.24770917238186324},{"$f":"I1112+K1112-M1112","v":0.67174781122731209},null,{"$f":"N1112-P1112*O1112","v":0.24770917238186324},{"$f":"R1111","v":0.5},{"$f":"F1112*$D$1006","v":3.5444228683797085},{"$f":"IF(ABS(J1111)<$K$1006,$Q$1006*C1112*$H$1006*$J$1006,IF(J1111>0,1,-1)*$H$1006*$K$1006)","v":0.32716229801860469},{"$f":"IF(L1111<$O$1006,$Q$1006*C1112*$L$1006*$N$1006,-$L$1006*$O$1006)","v":0.32716229801860469},{"$f":"-(R1112+0.0001)","v":-0.50009999999999999},{"$f":"IF(ABS(J1111)<$K$1006,$I$1006*$Q$1006*C1112*$H$1006*$J$1006,0)","v":1.9629737881116285E-2},{"$f":"IF(L1111<$O$1006,($C$1006-$M$1006)*$Q$1006*C1112*$L$1006*$N$1006,0)","v":0.15703790304893028},{"$f":"IF(B1111<$C$1006,0,(B1111-$C$1006)/B1111)","v":0},{"$f":"IF(B1112<=$C$1006,0,(B1112-$C$1006)/B1112)","v":0}]
[null,{"$f":"MIN(0.5*(-(T1113+U1113+V1113)+SQRT((T1113+U1113+V1113)^2+4*S1113*(W1113+X1113)))/S1113,1000*$C$6)","v":0.16855472626684614},{"$f":"0.95*C1112","v":9.4222761617581839E-4},{"$f":"IF($C$2=1,C1113/($Z$1006*$Z$5),2^(1/3)*$Z$5/C1113)","v":0.16643894454080943},{"$f":"IF($C$2=1,-($Z$1006-2)*C1113/$Z$5,3*($Z$5/C1113)^2)","v":-0.3349660523383674},{"$f":"IF($C$2=1,0.5*($Z$1006*C1113*$F$1006/$Z$5)*(1-Y1113^2+(D1113-E1113)*(E1113^2*(1-Y1113^2)+2*E1113*(1-Y1113)+2*LN((1-E1113)/(1-E1113*Y1113)))/(E1113^3)),$F$1006*E1113*(LN((1-D1113+D1113^2)/(1+D1113)^2)/(6*D1113)+ATAN((2-D1113)/(D1113*3^0.5))/(D1113*3^0.5)-LN((Y1113^2-D1113*Y1113+D1113^2)/(Y1113+D1113)^2)/(6*D1113)-ATAN((2*Y1113-D1113)/(D1113*3^0.5))/(D1113*3^0.5)))","v":8.1419387789906956},{"$f":"IF($C$2=1,($Z$1006*C1113*$F$1006/$Z$5)*(1-Y1113^3-(D1113-E1113)*(-2*E1113^3*(1-Y1113^3)-3*E1113^2*(1-Y1113^2)-6*E1113*(1-Y1113)-6*LN((1-E1113)/(1-E1113*Y1113)))/(2*E1113^4))/3,$F$1006*E1113*(LN((1+D1113^3)/(D1113^3+Y1113^3)))/3)","v":5.2110979695961186},{"$f":"G1113/F1113","v":0.64003158351457234},{"$f":"F1113*B1113*$D$1006","v":0.57639215011316236},{"$f":"MAX(MIN($K$1006,$Q$1006*$J$1006*C1113*(B1113-$I$1006)/B1113),-$K$1006)","v":331.85132489980538},{"$f":"J1113*$H$1006","v":0.20016800340273949},{"$f":"MIN($O$1006,$Q$1006*$N$1006*C1113*(C$1006-B1113-$M$1006)/B1113)","v":458.33333333333337},{"$f":"L1113*$L$1006","v":0.27646015351590181},{"$f":"(0.5*$C$1006-B1113+H1113*B1113)*I1113+(0.5*$C$1006-$I$1006)*K1113+(0.5*$C$1006-$M$1006)*M1113","v":0.22074555834578996},{"$f":"I1113+K1113-M1113","v":0.5001000000000001},null,{"$f":"N1113-P1113*O1113","v":0.22074555834578996},{"$f":"R1112","v":0.5},{"$f":"F1113*$D$1006","v":3.4196142871760919},{"$f":"IF(ABS(J1112)<$K$1006,$Q$1006*C1113*$H$1006*$J$1006,IF(J1112>0,1,-1)*$H$1006*$K$1006)","v":0.31080418311767449},-0.27646015351590181,{"$f":"-(R1113+0.0001)","v":-0.50009999999999999},{"$f":"IF(ABS(J1112)<$K$1006,$I$1006*$Q$1006*C1113*$H$1006*$J$1006,0)","v":1.864825098706047E-2},0,{"$f":"IF(B1112<$C$1006,0,(B1112-$C$1006)/B1112)","v":0},{"$f":"IF(B1113<=$C$1006,0,(B1113-$C$1006)/B1113)","v":0}]
[null,0.18530363753865742,{"$f":"IF(ABS($Q$1111-Q1113)<=0.001*$Q$1111,C1113,MAX(0.9*C1113,MIN($W$6,1.05*C1113,IF(C1113=$W$6,0.5*(C1113+C1112),C1113+IF(C1113=C1112,0,(C1113-C1112)*(Q1113-Q$1111)/(Q1112-Q1113))))))","v":8.4800485455823653E-4},0.1497950500867285,-0.30146944710453066,7.5475730925205005,4.850315152525611,0.64263241880124089,0.58740895442583574,313.58696173899204,0.18915119909006609,458.33333333333337,0.27646015351590181,0.21747969218634644,0.50009999999999999,null,0.21747969218634644,0.5,3.1699806988586099,0.27972376480590705,-0.27646015351590181,-0.50009999999999999,1.6783425888354422E-2,0,0,0]
[null,0.20430486873105358,{"$f":"IF(ABS($Q$1111-Q1114)<=0.001*$Q$1111,C1114,MAX(0.9*C1114,MIN($W$6,1.05*C1114,IF(C1114=$W$6,0.5*(C1114+C1113),C1114+IF(C1114=C1113,0,(C1114-C1113)*(Q1114-Q$1111)/(Q1113-Q1114))))))","v":7.6320436910241288E-4},0.13481554507805563,-0.27132250239407757,6.9777000634431641,4.500461781156563,0.64497782080587152,0.59874280011269632,294.7969871004023,0.17781735340320554,458.33333333333337,0.27646015351590181,0.21363036483066106,0.5001000000000001,null,0.21363036483066106,0.5,2.9306340266461288,0.25175138832531635,-0.27646015351590181,-0.50009999999999999,1.5105083299518981E-2,0,0,0]
[null,0.22577469946312942,6.8688393219217166E-4,0.12133399057025009,-0.24419025215466986,6.434953989434443,4.1640217744661809,0.64709425759734918,0.61019691726992331,275.80761872200276,0.1663632362459786,422.96728624475548,0.25512785648166431,0.20464752268420167,0.52143229703423755,null,0.20464752268420167,0.5,2.7026806755624659,0.22657624949278471,-0.27646015351590181,-0.50009999999999999,1.3594574969567084E-2,0,0,0]
[null,0.22979263904615363,6.1819553897295447E-4,0.10920059151322507,-0.21977122693920287,5.9210758072877878,3.8428073810092482,0.64900492850968705,0.57146024701457798,249.79775872635003,0.15067445830999621,368.10334260789944,0.22203470532457412,0.18647144550279038,0.50009999999999999,null,0.18647144550279038,0.5,2.4868518390608707,0.20391862454350626,0.20391862454350626,-0.50009999999999999,1.2235117472610375E-2,9.7880939780883025E-2,0,0]
[null,0.23948264638486105,5.5637598507565908E-4,9.8280532361902581E-2,-0.1977941042452826,5.4370551869679336,3.5380566558266757,0.65073031892467015,0.54687375318055886,228.03248334181657,0.13754595349372567,305.57700444229744,0.18431970667428427,0.16950497872979711,0.50010000000000021,null,0.16950497872979711,0.5,2.2835631785265318,0.18352676208915564,0.18352676208915564,-0.50009999999999999,1.1011605725349337E-2,8.8092845802794723E-2,0,0]
[null,0.2509347862223078,5.0073838656809321E-4,8.845247912571233E-2,-0.17801469382075435,4.9832600692004654,3.2505238784416175,0.65228862899044815,0.52519878606509218,208.36031227061662,0.12567997945517653,249.97068589421454,0.1507787655202687,0.15403490278656581,0.50009999999999999,null,0.15403490278656581,0.5,2.0929692290641952,0.16517408588024007,0.16517408588024007,-0.50009999999999999,9.9104451528144039E-3,7.9283561222515259E-2,0,0]
[null,0.26442215318370982,4.5066454791128392E-4,7.9607231213141103E-2,-0.16021322443867891,4.5595530388891641,2.9805620818139555,0.65369610933182709,0.50637166948132806,190.53003229550737,0.11492500795157605,200.92760728917352,0.12119667743290416,0.13993723802428917,0.50009999999999988,null,0.13993723802428917,0.5,1.9150122763334489,0.14865667729221607,0.14865667729221607,-0.50009999999999999,8.9194006375329666E-3,7.1355205100263733E-2,0,0]
[null,0.28025958196122763,4.0559809312015554E-4,7.1646508091826988E-2,-0.14419190199481105,4.1653943984754678,2.728197237823148,0.65496732766089738,0.49030451098455696,174.32118528848312,0.10514806177293383,158.08159678004438,9.5352572757490817E-2,0.12707553626583307,0.50009999999999999,null,0.12707553626583307,0.5,1.7494656473596963,0.13379100956299447,0.13379100956299447,-0.50009999999999999,8.0274605737796698E-3,6.4219684590237358E-2,0,0]
[null,0.29880506573042825,3.6503828380814E-4,6.44818572826443E-2,-0.12977271179532993,3.7999322035028129,2.4931939756742563,0.65611538368395284,0.47688437657230814,159.54159080864878,9.6233220408284137E-2,121.05324470992825,7.3017596980592264E-2,0.11529945416247159,0.50009999999999999,null,0.11529945416247159,0.5,1.5959715254711813,0.12041190860669504,0.12041190860669504,-0.50009999999999999,7.2247145164017037E-3,5.7797716131213629E-2,0,0]
[null,0.32045962463834105,3.2853445542732601E-4,5.803367155437987E-2,-0.11679544061579696,3.4620798383895561,2.2751129842587932,0.65715208500711519,0.46597185830087995,146.02524347202711,8.8080351769033199E-2,89.445426284989821,5.3952210069913228E-2,0.1044434176329984,0.50009999999999988,null,0.1044434176329984,0.5,1.4540735321236136,0.10837071774602555,0.10837071774602555,-0.50009999999999999,6.5022430647615325E-3,5.201794451809226E-2,0,0]
[null,0.34566561883771924,2.9568100988459342E-4,5.2230304398941885E-2,-0.10511589655421726,3.1505819432972064,2.0733604640361034,0.65808809335911167,0.4574000999940846,133.63036258606405,8.0603935756208486E-2,62.839735966573556,3.790403575029308E-2,9.4325868126197143E-2,0.50009999999999999,null,9.4325868126197143E-2,0.5,1.3232444161848267,9.7533645971422986E-2,9.7533645971422986E-2,-0.50009999999999999,5.8520187582853794E-3,4.6816150066283042E-2,0,0]
[null,0.37490394682060807,2.6611290889613407E-4,4.7007273959047691E-2,-9.4604306898795523E-2,2.8640696586206382,1.8872301497587241,0.65893304797189578,0.45097542797413209,122.2373591113312,7.3731837960648083E-2,40.795500098927882,2.4607265934780194E-2,8.4749546083919658E-2,0.50009999999999999,null,8.4749546083919658E-2,0.5,1.2029092566206681,8.7780281374280678E-2,8.7780281374280678E-2,-0.50009999999999999,5.2668168824568417E-3,4.213453505965474E-2,0,0]
[null,0.4086910381073206,2.3950161800652067E-4,4.2306546563142922E-2,-8.5143876208915989E-2,2.6011062414464594,1.7159385277181771,0.65969567116334094,0.44648050021855745,111.74653039656353,6.7403919159934558E-2,22.852692518111485,1.378441937849193E-2,7.5503077580492239E-2,0.5001000000000001,null,7.5503077580492239E-2,0.5,1.0924646214075129,7.9002253236852615E-2,7.9002253236852615E-2,-0.50009999999999999,4.7401351942111571E-3,3.7921081553689263E-2,0,0]
[null,0.44757684947636678,2.155514562058686E-4,3.8075891906828634E-2,-7.6629488588024375E-2,2.360224139755986,1.558653927549104,0.66038385986097359,0.44368030750262194,102.07540207448147,6.1570431987727742E-2,8.539225525705989,5.1507394903496399E-3,6.6363804693998857E-2,0.5001000000000001,null,6.6363804693998857E-2,0.5,0.99129413869751404,7.1102027913167359E-2,7.1102027913167359E-2,-0.50009999999999999,4.2661216747900419E-3,3.4128973398320335E-2,0,0]
[null,0.49214504355768224,1.9399631058528174E-4,3.4268302716145768E-2,-6.896653972922194E-2,2.1399545971242175,1.4145201873511415,0.66100476582636258,0.4423305803335274,93.15578205876372,5.6190243946602998E-2,-2.6180585607078006,-1.5791757198695988E-3,5.7101436370410916E-2,0.50009999999999999,null,5.7101436370410916E-2,0.5,0.89878093079217136,6.3991825121850615E-2,6.3991825121850615E-2,-0.50009999999999999,3.8395095073110374E-3,3.0716076058488303E-2,0,0]
[null,0.53696382638588847,1.7667649147313063E-4,3.1208858943563469E-2,-6.280926803009855E-2,1.9605419086655389,1.296907803737041,0.66150475947733922,0.44215083572811514,85.822093514177453,5.1766667231968537E-2,-10.249739214100964,-6.1824970399163154E-3,4.8588198322805129E-2,0.50009999999999999,null,4.8588198322805129E-2,0.5,0.82342760163952633,5.8278691545118846E-2,5.8278691545118846E-2,-0.50009999999999999,3.4967214927071307E-3,2.7973771941657045E-2,0,0]
[null,0.53079175198617778,1.7885501588487001E-4,3.1593682416704627E-2,-6.358374301851466E-2,1.9832286469175395,1.3117903555848764,0.66144181490305953,0.44212619139634579,86.753245103085703,5.2328324638258317E-2,-9.3594445754040887,-5.6454839653959027E-3,4.9725670773372213E-2,0.50009999999999999,null,4.9725670773372213E-2,0.5,0.83295603170536658,5.8997301877238652E-2,5.8997301877238652E-2,-0.50009999999999999,3.5398381126343199E-3,2.8318704901074559E-2,0,0]
[null,0.53114883617946973,1.7872734857122874E-4,3.1571130739625732E-2,-6.3538356728271309E-2,1.9819000985766426,1.3109189079696209,0.66144550318711537,0.4421272509288432,86.698748010913718,5.2295452766691689E-2,-9.4121851068016813,-5.6772963044650409E-3,4.9659598467350255E-2,0.50009999999999988,null,4.9659598467350255E-2,0.5,0.83239804140218987,5.8955189404152654E-2,5.8955189404152654E-2,-0.50009999999999999,3.5373113642491591E-3,2.8298490913993272E-2,0,0]
[null,0.53114883617946973,1.7872734857122874E-4,3.1571130739625732E-2,-6.3538356728271309E-2,1.9819000985766426,1.3109189079696209,0.66144550318711537,0.4421272509288432,86.698748010913718,5.2295452766691689E-2,-9.4121851068016813,-5.6772963044650409E-3,4.9659598467350255E-2,0.50009999999999988,null,4.9659598467350255E-2,0.5,0.83239804140218987,5.8955189404152654E-2,5.8955189404152654E-2,-0.50009999999999999,3.5373113642491591E-3,2.8298490913993272E-2,0,0]
[null,0.53114883617946973,1.7872734857122874E-4,3.1571130739625732E-2,-6.3538356728271309E-2,1.9819000985766426,1.3109189079696209,0.66144550318711537,0.4421272509288432,86.698748010913718,5.2295452766691689E-2,-9.4121851068016813,-5.6772963044650409E-3,4.9659598467350255E-2,0.50009999999999988,null,4.9659598467350255E-2,0.5,0.83239804140218987,5.8955189404152654E-2,5.8955189404152654E-2,-0.50009999999999999,3.5373113642491591E-3,2.8298490913993272E-2,0,0]
[null,0.53114883617946973,1.7872734857122874E-4,3.1571130739625732E-2,-6.3538356728271309E-2,1.9819000985766426,1.3109189079696209,0.66144550318711537,0.4421272509288432,86.698748010913718,5.2295452766691689E-2,-9.4121851068016813,-5.6772963044650409E-3,4.9659598467350255E-2,0.50009999999999988,null,4.9659598467350255E-2,0.5,0.83239804140218987,5.8955189404152654E-2,5.8955189404152654E-2,-0.50009999999999999,3.5373113642491591E-3,2.8298490913993272E-2,0,0]
[null,0.53114883617946973,1.7872734857122874E-4,3.1571130739625732E-2,-6.3538356728271309E-2,1.9819000985766426,1.3109189079696209,0.66144550318711537,0.4421272509288432,86.698748010913718,5.2295452766691689E-2,-9.4121851068016813,-5.6772963044650409E-3,4.9659598467350255E-2,0.50009999999999988,null,4.9659598467350255E-2,0.5,0.83239804140218987,5.8955189404152654E-2,5.8955189404152654E-2,-0.50009999999999999,3.5373113642491591E-3,2.8298490913993272E-2,0,0]
[null,0.53114883617946973,1.7872734857122874E-4,3.1571130739625732E-2,-6.3538356728271309E-2,1.9819000985766426,1.3109189079696209,0.66144550318711537,0.4421272509288432,86.698748010913718,5.2295452766691689E-2,-9.4121851068016813,-5.6772963044650409E-3,4.9659598467350255E-2,0.50009999999999988,null,4.9659598467350255E-2,0.5,0.83239804140218987,5.8955189404152654E-2,5.8955189404152654E-2,-0.50009999999999999,3.5373113642491591E-3,2.8298490913993272E-2,0,0]
[null,0.53114883617946973,1.7872734857122874E-4,3.1571130739625732E-2,-6.3538356728271309E-2,1.9819000985766426,1.3109189079696209,0.66144550318711537,0.4421272509288432,86.698748010913718,5.2295452766691689E-2,-9.4121851068016813,-5.6772963044650409E-3,4.9659598467350255E-2,0.50009999999999988,null,4.9659598467350255E-2,0.5,0.83239804140218987,5.8955189404152654E-2,5.8955189404152654E-2,-0.50009999999999999,3.5373113642491591E-3,2.8298490913993272E-2,0,0]
[null,0.53114883617946973,1.7872734857122874E-4,3.1571130739625732E-2,-6.3538356728271309E-2,1.9819000985766426,1.3109189079696209,0.66144550318711537,0.4421272509288432,86.698748010913718,5.2295452766691689E-2,-9.4121851068016813,-5.6772963044650409E-3,4.9659598467350255E-2,0.50009999999999988,null,4.9659598467350255E-2,0.5,0.83239804140218987,5.8955189404152654E-2,5.8955189404152654E-2,-0.50009999999999999,3.5373113642491591E-3,2.8298490913993272E-2,0,0]
[null,0.53114883617946973,1.7872734857122874E-4,3.1571130739625732E-2,-6.3538356728271309E-2,1.9819000985766426,1.3109189079696209,0.66144550318711537,0.4421272509288432,86.698748010913718,5.2295452766691689E-2,-9.4121851068016813,-5.6772963044650409E-3,4.9659598467350255E-2,0.50009999999999988,null,4.9659598467350255E-2,0.5,0.83239804140218987,5.8955189404152654E-2,5.8955189404152654E-2,-0.50009999999999999,3.5373113642491591E-3,2.8298490913993272E-2,0,0]
[null,0.53114883617946973,1.7872734857122874E-4,3.1571130739625732E-2,-6.3538356728271309E-2,1.9819000985766426,1.3109189079696209,0.66144550318711537,0.4421272509288432,86.698748010913718,5.2295452766691689E-2,-9.4121851068016813,-5.6772963044650409E-3,4.9659598467350255E-2,0.50009999999999988,null,4.9659598467350255E-2,0.5,0.83239804140218987,5.8955189404152654E-2,5.8955189404152654E-2,-0.50009999999999999,3.5373113642491591E-3,2.8298490913993272E-2,0,0]
[null,0.53114883617946973,1.7872734857122874E-4,3.1571130739625732E-2,-6.3538356728271309E-2,1.9819000985766426,1.3109189079696209,0.66144550318711537,0.4421272509288432,86.698748010913718,5.2295452766691689E-2,-9.4121851068016813,-5.6772963044650409E-3,4.9659598467350255E-2,0.50009999999999988,null,4.9659598467350255E-2,0.5,0.83239804140218987,5.8955189404152654E-2,5.8955189404152654E-2,-0.50009999999999999,3.5373113642491591E-3,2.8298490913993272E-2,0,0]
[null,0.53114883617946973,1.7872734857122874E-4,3.1571130739625732E-2,-6.3538356728271309E-2,1.9819000985766426,1.3109189079696209,0.66144550318711537,0.4421272509288432,86.698748010913718,5.2295452766691689E-2,-9.4121851068016813,-5.6772963044650409E-3,4.9659598467350255E-2,0.50009999999999988,null,4.9659598467350255E-2,0.5,0.83239804140218987,5.8955189404152654E-2,5.8955189404152654E-2,-0.50009999999999999,3.5373113642491591E-3,2.8298490913993272E-2,0,0]
[null,0.53114883617946973,1.7872734857122874E-4,3.1571130739625732E-2,-6.3538356728271309E-2,1.9819000985766426,1.3109189079696209,0.66144550318711537,0.4421272509288432,86.698748010913718,5.2295452766691689E-2,-9.4121851068016813,-5.6772963044650409E-3,4.9659598467350255E-2,0.50009999999999988,null,4.9659598467350255E-2,0.5,0.83239804140218987,5.8955189404152654E-2,5.8955189404152654E-2,-0.50009999999999999,3.5373113642491591E-3,2.8298490913993272E-2,0,0]
[null,0.53114883617946973,1.7872734857122874E-4,3.1571130739625732E-2,-6.3538356728271309E-2,1.9819000985766426,1.3109189079696209,0.66144550318711537,0.4421272509288432,86.698748010913718,5.2295452766691689E-2,-9.4121851068016813,-5.6772963044650409E-3,4.9659598467350255E-2,0.50009999999999988,null,4.9659598467350255E-2,0.5,0.83239804140218987,5.8955189404152654E-2,{"$f":"IF(L1143<$O$1006,$Q$1006*C1144*$L$1006*$N$1006,-$L$1006*$O$1006)","v":5.8955189404152654E-2},-0.50009999999999999,3.5373113642491591E-3,{"$f":"IF(L1143<$O$1006,($C$1006-$M$1006)*$Q$1006*C1144*$L$1006*$N$1006,0)","v":2.8298490913993272E-2},0,0]
[null,0.53114883617946973,1.7872734857122874E-4,3.1571130739625732E-2,-6.3538356728271309E-2,1.9819000985766426,1.3109189079696209,0.66144550318711537,0.4421272509288432,86.698748010913718,5.2295452766691689E-2,-9.4121851068016813,-5.6772963044650409E-3,4.9659598467350255E-2,0.50009999999999988,null,4.9659598467350255E-2,0.5,0.83239804140218987,5.8955189404152654E-2,5.8955189404152654E-2,-0.50009999999999999,3.5373113642491591E-3,2.8298490913993272E-2,0,0]
[null,0.53114883617946973,1.7872734857122874E-4,3.1571130739625732E-2,-6.3538356728271309E-2,1.9819000985766426,1.3109189079696209,0.66144550318711537,0.4421272509288432,86.698748010913718,5.2295452766691689E-2,-9.4121851068016813,-5.6772963044650409E-3,4.9659598467350255E-2,0.50009999999999988,null,4.9659598467350255E-2,0.5,0.83239804140218987,5.8955189404152654E-2,5.8955189404152654E-2,-0.50009999999999999,3.5373113642491591E-3,2.8298490913993272E-2,0,0]
[null,0.53114883617946973,1.7872734857122874E-4,3.1571130739625732E-2,-6.3538356728271309E-2,1.9819000985766426,1.3109189079696209,0.66144550318711537,0.4421272509288432,86.698748010913718,5.2295452766691689E-2,-9.4121851068016813,-5.6772963044650409E-3,4.9659598467350255E-2,0.50009999999999988,null,4.9659598467350255E-2,0.5,0.83239804140218987,5.8955189404152654E-2,5.8955189404152654E-2,-0.50009999999999999,3.5373113642491591E-3,2.8298490913993272E-2,0,0]
[null,0.53114883617946973,1.7872734857122874E-4,3.1571130739625732E-2,-6.3538356728271309E-2,1.9819000985766426,1.3109189079696209,0.66144550318711537,0.4421272509288432,86.698748010913718,5.2295452766691689E-2,-9.4121851068016813,-5.6772963044650409E-3,4.9659598467350255E-2,0.50009999999999988,null,4.9659598467350255E-2,0.5,0.83239804140218987,5.8955189404152654E-2,5.8955189404152654E-2,-0.50009999999999999,3.5373113642491591E-3,2.8298490913993272E-2,0,0]
[null,0.53114883617946973,1.7872734857122874E-4,3.1571130739625732E-2,-6.3538356728271309E-2,1.9819000985766426,1.3109189079696209,0.66144550318711537,0.4421272509288432,86.698748010913718,5.2295452766691689E-2,-9.4121851068016813,-5.6772963044650409E-3,4.9659598467350255E-2,0.50009999999999988,null,4.9659598467350255E-2,0.5,0.83239804140218987,5.8955189404152654E-2,5.8955189404152654E-2,-0.50009999999999999,3.5373113642491591E-3,2.8298490913993272E-2,0,0]
[null,0.53114883617946973,1.7872734857122874E-4,3.1571130739625732E-2,-6.3538356728271309E-2,1.9819000985766426,1.3109189079696209,0.66144550318711537,0.4421272509288432,86.698748010913718,5.2295452766691689E-2,-9.4121851068016813,-5.6772963044650409E-3,4.9659598467350255E-2,0.50009999999999988,null,4.9659598467350255E-2,0.5,0.83239804140218987,5.8955189404152654E-2,5.8955189404152654E-2,-0.50009999999999999,3.5373113642491591E-3,2.8298490913993272E-2,0,0]
[null,0.53114883617946973,1.7872734857122874E-4,3.1571130739625732E-2,-6.3538356728271309E-2,1.9819000985766426,1.3109189079696209,0.66144550318711537,0.4421272509288432,86.698748010913718,5.2295452766691689E-2,-9.4121851068016813,-5.6772963044650409E-3,4.9659598467350255E-2,0.50009999999999988,null,4.9659598467350255E-2,0.5,0.83239804140218987,5.8955189404152654E-2,5.8955189404152654E-2,-0.50009999999999999,3.5373113642491591E-3,2.8298490913993272E-2,0,0]
[null,0.53114883617946973,1.7872734857122874E-4,3.1571130739625732E-2,-6.3538356728271309E-2,1.9819000985766426,1.3109189079696209,0.66144550318711537,0.4421272509288432,86.698748010913718,5.2295452766691689E-2,-9.4121851068016813,-5.6772963044650409E-3,4.9659598467350255E-2,0.50009999999999988,null,4.9659598467350255E-2,0.5,0.83239804140218987,5.8955189404152654E-2,5.8955189404152654E-2,-0.50009999999999999,3.5373113642491591E-3,2.8298490913993272E-2,0,0]
[null,0.53114883617946973,1.7872734857122874E-4,3.1571130739625732E-2,-6.3538356728271309E-2,1.9819000985766426,1.3109189079696209,0.66144550318711537,0.4421272509288432,86.698748010913718,5.2295452766691689E-2,-9.4121851068016813,-5.6772963044650409E-3,4.9659598467350255E-2,0.50009999999999988,null,4.9659598467350255E-2,0.5,0.83239804140218987,5.8955189404152654E-2,5.8955189404152654E-2,-0.50009999999999999,3.5373113642491591E-3,2.8298490913993272E-2,0,0]
[null,0.53114883617946973,1.7872734857122874E-4,3.1571130739625732E-2,-6.3538356728271309E-2,1.9819000985766426,1.3109189079696209,0.66144550318711537,0.4421272509288432,86.698748010913718,5.2295452766691689E-2,-9.4121851068016813,-5.6772963044650409E-3,4.9659598467350255E-2,0.50009999999999988,null,4.9659598467350255E-2,0.5,0.83239804140218987,5.8955189404152654E-2,5.8955189404152654E-2,-0.50009999999999999,3.5373113642491591E-3,2.8298490913993272E-2,0,0]
[null,0.53114883617946973,1.7872734857122874E-4,3.1571130739625732E-2,-6.3538356728271309E-2,1.9819000985766426,1.3109189079696209,0.66144550318711537,0.4421272509288432,86.698748010913718,5.2295452766691689E-2,-9.4121851068016813,-5.6772963044650409E-3,4.9659598467350255E-2,0.50009999999999988,null,4.9659598467350255E-2,0.5,0.83239804140218987,5.8955189404152654E-2,5.8955189404152654E-2,-0.50009999999999999,3.5373113642491591E-3,2.8298490913993272E-2,0,0]
[null,0.53114883617946973,1.7872734857122874E-4,3.1571130739625732E-2,-6.3538356728271309E-2,1.9819000985766426,1.3109189079696209,0.66144550318711537,0.4421272509288432,86.698748010913718,5.2295452766691689E-2,-9.4121851068016813,-5.6772963044650409E-3,4.9659598467350255E-2,0.50009999999999988,null,4.9659598467350255E-2,0.5,0.83239804140218987,5.8955189404152654E-2,5.8955189404152654E-2,-0.50009999999999999,3.5373113642491591E-3,2.8298490913993272E-2,0,0]
[null,0.53114883617946973,1.7872734857122874E-4,3.1571130739625732E-2,-6.3538356728271309E-2,1.9819000985766426,1.3109189079696209,0.66144550318711537,0.4421272509288432,86.698748010913718,5.2295452766691689E-2,-9.4121851068016813,-5.6772963044650409E-3,4.9659598467350255E-2,0.50009999999999988,null,4.9659598467350255E-2,0.5,0.83239804140218987,5.8955189404152654E-2,5.8955189404152654E-2,-0.50009999999999999,3.5373113642491591E-3,2.8298490913993272E-2,0,0]
[null,0.53114883617946973,1.7872734857122874E-4,3.1571130739625732E-2,-6.3538356728271309E-2,1.9819000985766426,1.3109189079696209,0.66144550318711537,0.4421272509288432,86.698748010913718,5.2295452766691689E-2,-9.4121851068016813,-5.6772963044650409E-3,4.9659598467350255E-2,0.50009999999999988,null,4.9659598467350255E-2,0.5,0.83239804140218987,5.8955189404152654E-2,5.8955189404152654E-2,-0.50009999999999999,3.5373113642491591E-3,2.8298490913993272E-2,0,0]
[null,0.53114883617946973,1.7872734857122874E-4,3.1571130739625732E-2,-6.3538356728271309E-2,1.9819000985766426,1.3109189079696209,0.66144550318711537,0.4421272509288432,86.698748010913718,5.2295452766691689E-2,-9.4121851068016813,-5.6772963044650409E-3,4.9659598467350255E-2,0.50009999999999988,null,4.9659598467350255E-2,0.5,0.83239804140218987,5.8955189404152654E-2,5.8955189404152654E-2,-0.50009999999999999,3.5373113642491591E-3,2.8298490913993272E-2,0,0]
[null,0.53114883617946973,1.7872734857122874E-4,3.1571130739625732E-2,-6.3538356728271309E-2,1.9819000985766426,1.3109189079696209,0.66144550318711537,0.4421272509288432,86.698748010913718,5.2295452766691689E-2,-9.4121851068016813,-5.6772963044650409E-3,4.9659598467350255E-2,0.50009999999999988,null,4.9659598467350255E-2,0.5,0.83239804140218987,5.8955189404152654E-2,5.8955189404152654E-2,-0.50009999999999999,3.5373113642491591E-3,2.8298490913993272E-2,0,0]
[null,0.53114883617946973,1.7872734857122874E-4,3.1571130739625732E-2,-6.3538356728271309E-2,1.9819000985766426,1.3109189079696209,0.66144550318711537,0.4421272509288432,86.698748010913718,5.2295452766691689E-2,-9.4121851068016813,-5.6772963044650409E-3,4.9659598467350255E-2,0.50009999999999988,null,4.9659598467350255E-2,0.5,0.83239804140218987,5.8955189404152654E-2,5.8955189404152654E-2,-0.50009999999999999,3.5373113642491591E-3,2.8298490913993272E-2,0,0]
[null,0.53114883617946973,1.7872734857122874E-4,3.1571130739625732E-2,-6.3538356728271309E-2,1.9819000985766426,1.3109189079696209,0.66144550318711537,0.4421272509288432,86.698748010913718,5.2295452766691689E-2,-9.4121851068016813,-5.6772963044650409E-3,4.9659598467350255E-2,0.50009999999999988,null,4.9659598467350255E-2,0.5,0.83239804140218987,5.8955189404152654E-2,5.8955189404152654E-2,-0.50009999999999999,3.5373113642491591E-3,2.8298490913993272E-2,0,0]
[null,0.53114883617946973,1.7872734857122874E-4,3.1571130739625732E-2,-6.3538356728271309E-2,1.9819000985766426,1.3109189079696209,0.66144550318711537,0.4421272509288432,86.698748010913718,5.2295452766691689E-2,-9.4121851068016813,-5.6772963044650409E-3,4.9659598467350255E-2,0.50009999999999988,null,4.9659598467350255E-2,0.5,0.83239804140218987,5.8955189404152654E-2,5.8955189404152654E-2,-0.50009999999999999,3.5373113642491591E-3,2.8298490913993272E-2,0,0]
[null,0.53114883617946973,1.7872734857122874E-4,3.1571130739625732E-2,-6.3538356728271309E-2,1.9819000985766426,1.3109189079696209,0.66144550318711537,0.4421272509288432,86.698748010913718,5.2295452766691689E-2,-9.4121851068016813,-5.6772963044650409E-3,4.9659598467350255E-2,0.50009999999999988,null,4.9659598467350255E-2,0.5,0.83239804140218987,5.8955189404152654E-2,5.8955189404152654E-2,-0.50009999999999999,3.5373113642491591E-3,2.8298490913993272E-2,0,0]
[null,0.53114883617946973,1.7872734857122874E-4,3.1571130739625732E-2,-6.3538356728271309E-2,1.9819000985766426,1.3109189079696209,0.66144550318711537,0.4421272509288432,86.698748010913718,5.2295452766691689E-2,-9.4121851068016813,-5.6772963044650409E-3,4.9659598467350255E-2,0.50009999999999988,null,4.9659598467350255E-2,0.5,0.83239804140218987,5.8955189404152654E-2,5.8955189404152654E-2,-0.50009999999999999,3.5373113642491591E-3,2.8298490913993272E-2,0,0]
[null,0.53114883617946973,1.7872734857122874E-4,3.1571130739625732E-2,-6.3538356728271309E-2,1.9819000985766426,1.3109189079696209,0.66144550318711537,0.4421272509288432,86.698748010913718,5.2295452766691689E-2,-9.4121851068016813,-5.6772963044650409E-3,4.9659598467350255E-2,0.50009999999999988,null,4.9659598467350255E-2,0.5,0.83239804140218987,5.8955189404152654E-2,5.8955189404152654E-2,-0.50009999999999999,3.5373113642491591E-3,2.8298490913993272E-2,0,0]
[null,0.53114883617946973,1.7872734857122874E-4,3.1571130739625732E-2,-6.3538356728271309E-2,1.9819000985766426,1.3109189079696209,0.66144550318711537,0.4421272509288432,86.698748010913718,5.2295452766691689E-2,-9.4121851068016813,-5.6772963044650409E-3,4.9659598467350255E-2,0.50009999999999988,null,4.9659598467350255E-2,0.5,0.83239804140218987,5.8955189404152654E-2,5.8955189404152654E-2,-0.50009999999999999,3.5373113642491591E-3,2.8298490913993272E-2,0,0]
[null,0.53114883617946973,1.7872734857122874E-4,3.1571130739625732E-2,-6.3538356728271309E-2,1.9819000985766426,1.3109189079696209,0.66144550318711537,0.4421272509288432,86.698748010913718,5.2295452766691689E-2,-9.4121851068016813,-5.6772963044650409E-3,4.9659598467350255E-2,0.50009999999999988,null,4.9659598467350255E-2,0.5,0.83239804140218987,5.8955189404152654E-2,5.8955189404152654E-2,-0.50009999999999999,3.5373113642491591E-3,2.8298490913993272E-2,0,0]
[null,0.53114883617946973,1.7872734857122874E-4,3.1571130739625732E-2,-6.3538356728271309E-2,1.9819000985766426,1.3109189079696209,0.66144550318711537,0.4421272509288432,86.698748010913718,5.2295452766691689E-2,-9.4121851068016813,-5.6772963044650409E-3,4.9659598467350255E-2,0.50009999999999988,null,4.9659598467350255E-2,0.5,0.83239804140218987,5.8955189404152654E-2,5.8955189404152654E-2,-0.50009999999999999,3.5373113642491591E-3,2.8298490913993272E-2,0,0]
[null,0.53114883617946973,1.7872734857122874E-4,3.1571130739625732E-2,-6.3538356728271309E-2,1.9819000985766426,1.3109189079696209,0.66144550318711537,0.4421272509288432,86.698748010913718,5.2295452766691689E-2,-9.4121851068016813,-5.6772963044650409E-3,4.9659598467350255E-2,0.50009999999999988,null,4.9659598467350255E-2,0.5,0.83239804140218987,5.8955189404152654E-2,5.8955189404152654E-2,-0.50009999999999999,3.5373113642491591E-3,2.8298490913993272E-2,0,0]
[null,0.53114883617946973,1.7872734857122874E-4,3.1571130739625732E-2,-6.3538356728271309E-2,1.9819000985766426,1.3109189079696209,0.66144550318711537,0.4421272509288432,86.698748010913718,5.2295452766691689E-2,-9.4121851068016813,-5.6772963044650409E-3,4.9659598467350255E-2,0.50009999999999988,null,4.9659598467350255E-2,0.5,0.83239804140218987,5.8955189404152654E-2,5.8955189404152654E-2,-0.50009999999999999,3.5373113642491591E-3,2.8298490913993272E-2,0,0]
[null,0.53114883617946973,1.7872734857122874E-4,3.1571130739625732E-2,-6.3538356728271309E-2,1.9819000985766426,1.3109189079696209,0.66144550318711537,0.4421272509288432,86.698748010913718,5.2295452766691689E-2,-9.4121851068016813,-5.6772963044650409E-3,4.9659598467350255E-2,0.50009999999999988,null,4.9659598467350255E-2,0.5,0.83239804140218987,5.8955189404152654E-2,5.8955189404152654E-2,-0.50009999999999999,3.5373113642491591E-3,2.8298490913993272E-2,0,0]
[null,0.53114883617946973,1.7872734857122874E-4,3.1571130739625732E-2,-6.3538356728271309E-2,1.9819000985766426,1.3109189079696209,0.66144550318711537,0.4421272509288432,86.698748010913718,5.2295452766691689E-2,-9.4121851068016813,-5.6772963044650409E-3,4.9659598467350255E-2,0.50009999999999988,null,4.9659598467350255E-2,0.5,0.83239804140218987,5.8955189404152654E-2,5.8955189404152654E-2,-0.50009999999999999,3.5373113642491591E-3,2.8298490913993272E-2,0,0]
[null,0.53114883617946973,1.7872734857122874E-4,3.1571130739625732E-2,-6.3538356728271309E-2,1.9819000985766426,1.3109189079696209,0.66144550318711537,0.4421272509288432,86.698748010913718,5.2295452766691689E-2,-9.4121851068016813,-5.6772963044650409E-3,4.9659598467350255E-2,0.50009999999999988,null,4.9659598467350255E-2,0.5,0.83239804140218987,5.8955189404152654E-2,5.8955189404152654E-2,-0.50009999999999999,3.5373113642491591E-3,2.8298490913993272E-2,0,0]
[null,0.53114883617946973,1.7872734857122874E-4,3.1571130739625732E-2,-6.3538356728271309E-2,1.9819000985766426,1.3109189079696209,0.66144550318711537,0.4421272509288432,86.698748010913718,5.2295452766691689E-2,-9.4121851068016813,-5.6772963044650409E-3,4.9659598467350255E-2,0.50009999999999988,null,4.9659598467350255E-2,0.5,0.83239804140218987,5.8955189404152654E-2,5.8955189404152654E-2,-0.50009999999999999,3.5373113642491591E-3,2.8298490913993272E-2,0,0]
[null,0.53114883617946973,1.7872734857122874E-4,3.1571130739625732E-2,-6.3538356728271309E-2,1.9819000985766426,1.3109189079696209,0.66144550318711537,0.4421272509288432,86.698748010913718,5.2295452766691689E-2,-9.4121851068016813,-5.6772963044650409E-3,4.9659598467350255E-2,0.50009999999999988,null,4.9659598467350255E-2,0.5,0.83239804140218987,5.8955189404152654E-2,5.8955189404152654E-2,-0.50009999999999999,3.5373113642491591E-3,2.8298490913993272E-2,0,0]
[null,{"$f":"MIN(0.5*(-(T1177+U1177+V1177)+SQRT((T1177+U1177+V1177)^2+4*S1177*(W1177+X1177)))/S1177,1000*$C$6)","v":0.53114883617946973},1.7872734857122874E-4,{"$f":"IF($C$2=1,C1177/($Z$1006*$Z$5),2^(1/3)*$Z$5/C1177)","v":3.1571130739625732E-2},{"$f":"IF($C$2=1,-($Z$1006-2)*C1177/$Z$5,3*($Z$5/C1177)^2)","v":-6.3538356728271309E-2},{"$f":"IF($C$2=1,0.5*($Z$1006*C1177*$F$1006/$Z$5)*(1-Y1177^2+(D1177-E1177)*(E1177^2*(1-Y1177^2)+2*E1177*(1-Y1177)+2*LN((1-E1177)/(1-E1177*Y1177)))/(E1177^3)),$F$1006*E1177*(LN((1-D1177+D1177^2)/(1+D1177)^2)/(6*D1177)+ATAN((2-D1177)/(D1177*3^0.5))/(D1177*3^0.5)-LN((Y1177^2-D1177*Y1177+D1177^2)/(Y1177+D1177)^2)/(6*D1177)-ATAN((2*Y1177-D1177)/(D1177*3^0.5))/(D1177*3^0.5)))","v":1.9819000985766426},{"$f":"IF($C$2=1,($Z$1006*C1177*$F$1006/$Z$5)*(1-Y1177^3-(D1177-E1177)*(-2*E1177^3*(1-Y1177^3)-3*E1177^2*(1-Y1177^2)-6*E1177*(1-Y1177)-6*LN((1-E1177)/(1-E1177*Y1177)))/(2*E1177^4))/3,$F$1006*E1177*(LN((1+D1177^3)/(D1177^3+Y1177^3)))/3)","v":1.3109189079696209},{"$f":"G1177/F1177","v":0.66144550318711537},{"$f":"F1177*B1177*$D$1006","v":0.4421272509288432},{"$f":"MAX(MIN($K$1006,$Q$1006*$J$1006*C1177*(B1177-$I$1006)/B1177),-$K$1006)","v":86.698748010913718},{"$f":"J1177*$H$1006","v":5.2295452766691689E-2},{"$f":"MIN($O$1006,$Q$1006*$N$1006*C1177*(C$1006-B1177-$M$1006)/B1177)","v":-9.4121851068016813},{"$f":"L1177*$L$1006","v":-5.6772963044650409E-3},{"$f":"(0.5*$C$1006-B1177+H1177*B1177)*I1177+(0.5*$C$1006-$I$1006)*K1177+(0.5*$C$1006-$M$1006)*M1177","v":4.9659598467350255E-2},{"$f":"I1177+K1177-M1177","v":0.50009999999999988},null,{"$f":"N1177-P1177*O1177","v":4.9659598467350255E-2},{"$f":"R1176","v":0.5},{"$f":"F1177*$D$1006","v":0.83239804140218987},{"$f":"IF(ABS(J1176)<$K$1006,$Q$1006*C1177*$H$1006*$J$1006,IF(J1176>0,1,-1)*$H$1006*$K$1006)","v":5.8955189404152654E-2},5.8955189404152654E-2,{"$f":"-(R1177+0.0001)","v":-0.50009999999999999},{"$f":"IF(ABS(J1176)<$K$1006,$I$1006*$Q$1006*C1177*$H$1006*$J$1006,0)","v":3.5373113642491591E-3},2.8298490913993272E-2,{"$f":"IF(B1176<$C$1006,0,(B1176-$C$1006)/B1176)","v":0},{"$f":"IF(B1177<=$C$1006,0,(B1177-$C$1006)/B1177)","v":0}]
[null,{"$f":"MIN(0.5*(-(T1178+U1178+V1178)+SQRT((T1178+U1178+V1178)^2+4*S1178*(W1178+X1178)))/S1178,1000*$C$6)","v":0.53114883617946973},1.7872734857122874E-4,{"$f":"IF($C$2=1,C1178/($Z$1006*$Z$5),2^(1/3)*$Z$5/C1178)","v":3.1571130739625732E-2},{"$f":"IF($C$2=1,-($Z$1006-2)*C1178/$Z$5,3*($Z$5/C1178)^2)","v":-6.3538356728271309E-2},{"$f":"IF($C$2=1,0.5*($Z$1006*C1178*$F$1006/$Z$5)*(1-Y1178^2+(D1178-E1178)*(E1178^2*(1-Y1178^2)+2*E1178*(1-Y1178)+2*LN((1-E1178)/(1-E1178*Y1178)))/(E1178^3)),$F$1006*E1178*(LN((1-D1178+D1178^2)/(1+D1178)^2)/(6*D1178)+ATAN((2-D1178)/(D1178*3^0.5))/(D1178*3^0.5)-LN((Y1178^2-D1178*Y1178+D1178^2)/(Y1178+D1178)^2)/(6*D1178)-ATAN((2*Y1178-D1178)/(D1178*3^0.5))/(D1178*3^0.5)))","v":1.9819000985766426},{"$f":"IF($C$2=1,($Z$1006*C1178*$F$1006/$Z$5)*(1-Y1178^3-(D1178-E1178)*(-2*E1178^3*(1-Y1178^3)-3*E1178^2*(1-Y1178^2)-6*E1178*(1-Y1178)-6*LN((1-E1178)/(1-E1178*Y1178)))/(2*E1178^4))/3,$F$1006*E1178*(LN((1+D1178^3)/(D1178^3+Y1178^3)))/3)","v":1.3109189079696209},{"$f":"G1178/F1178","v":0.66144550318711537},{"$f":"F1178*B1178*$D$1006","v":0.4421272509288432},{"$f":"MAX(MIN($K$1006,$Q$1006*$J$1006*C1178*(B1178-$I$1006)/B1178),-$K$1006)","v":86.698748010913718},{"$f":"J1178*$H$1006","v":5.2295452766691689E-2},{"$f":"MIN($O$1006,$Q$1006*$N$1006*C1178*(C$1006-B1178-$M$1006)/B1178)","v":-9.4121851068016813},{"$f":"L1178*$L$1006","v":-5.6772963044650409E-3},{"$f":"(0.5*$C$1006-B1178+H1178*B1178)*I1178+(0.5*$C$1006-$I$1006)*K1178+(0.5*$C$1006-$M$1006)*M1178","v":4.9659598467350255E-2},{"$f":"I1178+K1178-M1178","v":0.50009999999999988},null,{"$f":"N1178-P1178*O1178","v":4.9659598467350255E-2},{"$f":"R1177","v":0.5},{"$f":"F1178*$D$1006","v":0.83239804140218987},{"$f":"IF(ABS(J1177)<$K$1006,$Q$1006*C1178*$H$1006*$J$1006,IF(J1177>0,1,-1)*$H$1006*$K$1006)","v":5.8955189404152654E-2},5.8955189404152654E-2,{"$f":"-(R1178+0.0001)","v":-0.50009999999999999},{"$f":"IF(ABS(J1177)<$K$1006,$I$1006*$Q$1006*C1178*$H$1006*$J$1006,0)","v":3.5373113642491591E-3},2.8298490913993272E-2,{"$f":"IF(B1177<$C$1006,0,(B1177-$C$1006)/B1177)","v":0},{"$f":"IF(B1178<=$C$1006,0,(B1178-$C$1006)/B1178)","v":0}]
[null,null,{"$f":"IF(C1106*J1179/(J1179-L1179)<=0,B1178,C1106*J1179/(J1179-L1179))","v":0.49235517689150193},null,null,null,null,null,null,{"$f":"$R1178/($J1109*N1109)+($Q1178-R1108)/($M1109*N1109)","v":3.0026076139244226E-4},null,{"$f":"$R1178/($J1109*$N$1109)-($Q1178-R1108)/($M1109*N1109)","v":-2.905599765048959E-5},null,null,{"$f":"SIGN(J1179-L1179)","v":1},{"$f":"IF(Q1111=0.0001,ABS(Q1108)*($Q$6*C1178/B1178)/Q1111,IF(B1178>10*$C$6,(L1179-J1179)/$C$6,$Q$6*C1178/B1178))*IF(B1178>10*C1106,O1179*P1108,P1108)","v":9.2007812981085766E-4},null,null,null,null,null,null,null,null,null,null,{"$f":"N1178/($Q$6*C1178/B1178)","v":53.973240813319713}]
[null,{"$f":"IF(AND(B1178<>1000*$C$6,C1180<C1106,B1178<C1106),B1178,IF(AND(B1178<>1000*$C$6,C1180>C1106,B1178>C1106),B1178*C1180/C1179,IF(C1106*J1180/(J1180-L1180)<=0,B1178,C1106*J1180/(J1180-L1180))))","v":0.53114883617946973},{"$f":"IF(C1106*J1180/(J1180-L1180)<=0,B1178,C1106*J1180/(J1180-L1180))","v":0.49300115391852128},null,null,null,null,null,null,{"$f":"$R1178/($J1109*N1109)+($Q1180-R1108)/($M1109*N1109)","v":2.9978378838755833E-4},null,{"$f":"$R1178/($J1109*N1109)-($Q1180-R1108)/($M1109*N1109)","v":-2.8579024645605664E-5},null,null,{"$f":"SIGN(J1180-L1180)","v":1},null,{"$f":"MAX(ABS(INDEX(Snitkræfter!$G$286:$U$286,B1109+1)),0.0000001)","v":4.9515747374128408E-2}]
[null,{"$f":"MIN(0.5*(-(T1181+U1181+V1181)+SQRT((T1181+U1181+V1181)^2+4*S1181*(W1181+X1181)))/S1181,1000*$C$6)","v":0.53194497886988534},{"$f":"MIN(MAX(IF(Q1108=0,0.001*Z1105,IF(OR(AND(B1178<>1000*$C$6,C1180<C1106,B1178<C1106),AND(B1178<>1000*$C$6,C1180>C1106,B1178>C1106)),C1178*J1180/J1179,IF(B1180>C1106,J1180,C1178*MIN(Q1180/Q1111,2)))),0.0001*$Z$5),0.9*K1106/(J1106*Q1106))","v":1.7844343494859079E-4},{"$f":"IF($C$2=1,C1181/($Z$1006*$Z$5),2^(1/3)*$Z$5/C1181)","v":3.1520979074697454E-2},{"$f":"IF($C$2=1,-($Z$1006-2)*C1181/$Z$5,3*($Z$5/C1181)^2)","v":-6.3437424189522224E-2},{"$f":"IF($C$2=1,0.5*($Z$1006*C1181*$F$1006/$Z$5)*(1-Y1181^2+(D1181-E1181)*(E1181^2*(1-Y1181^2)+2*E1181*(1-Y1181)+2*LN((1-E1181)/(1-E1181*Y1181)))/(E1181^3)),$F$1006*E1181*(LN((1-D1181+D1181^2)/(1+D1181)^2)/(6*D1181)+ATAN((2-D1181)/(D1181*3^0.5))/(D1181*3^0.5)-LN((Y1181^2-D1181*Y1181+D1181^2)/(Y1181+D1181)^2)/(6*D1181)-ATAN((2*Y1181-D1181)/(D1181*3^0.5))/(D1181*3^0.5)))","v":1.9789451734927053},{"$f":"IF($C$2=1,($Z$1006*C1181*$F$1006/$Z$5)*(1-Y1181^3-(D1181-E1181)*(-2*E1181^3*(1-Y1181^3)-3*E1181^2*(1-Y1181^2)-6*E1181*(1-Y1181)-6*LN((1-E1181)/(1-E1181*Y1181)))/(2*E1181^4))/3,$F$1006*E1181*(LN((1+D1181^3)/(D1181^3+Y1181^3)))/3)","v":1.3089806181713548},{"$f":"G1181/F1181","v":0.66145370559260719},{"$f":"F1181*B1181*$D$1006","v":0.44212977836926021},{"$f":"MAX(MIN($K$1006,$Q$1006*$J$1006*C1181*(B1181-$I$1006)/B1181),-$K$1006)","v":86.577522832615728},{"$f":"J1181*$H$1006","v":5.2222331461814042E-2},{"$f":"MIN($O$1006,$Q$1006*$N$1006*C1181*(C$1006-B1181-$M$1006)/B1181)","v":-9.5292201326441663},{"$f":"L1181*$L$1006","v":-5.7478901689257339E-3},{"$f":"(0.5*$C$1006-B1181+H1181*B1181)*I1181+(0.5*$C$1006-$I$1006)*K1181+(0.5*$C$1006-$M$1006)*M1181","v":4.951240467420033E-2},{"$f":"I1181+K1181-M1181","v":0.50009999999999999},null,{"$f":"N1181-P1181*O1181","v":4.951240467420033E-2},{"$f":"R1178","v":0.5},{"$f":"F1181*$D$1006","v":0.83115697286693613},{"$f":"IF(ABS(J1180)<$K$1006,$Q$1006*C1181*$H$1006*$J$1006,IF(J1180>0,1,-1)*$H$1006*$K$1006)","v":5.8861537360798077E-2},{"$f":"IF(L1178<$O$1006,$Q$1006*C1181*$L$1006*$N$1006,-$L$1006*$O$1006)","v":5.8861537360798077E-2},{"$f":"-(R1181+0.0001)","v":-0.50009999999999999},{"$f":"IF(ABS(J1180)<$K$1006,$I$1006*$Q$1006*C1181*$H$1006*$J$1006,0)","v":3.5316922416478848E-3},{"$f":"IF(L1178<$O$1006,($C$1006-$M$1006)*$Q$1006*C1181*$L$1006*$N$1006,0)","v":2.8253537933183082E-2},{"$f":"IF(B1180<$C$406,0,IF(C1178*J1180/J1179=C1181,Y1178,(B1180-$C$6)/B1180))","v":0},{"$f":"IF(B1181<=$C$1006,0,(B1181-$C$1006)/B1181)","v":0}]
[null,{"$f":"MIN(0.5*(-(T1182+U1182+V1182)+SQRT((T1182+U1182+V1182)^2+4*S1182*(W1182+X1182)))/S1182,1000*$C$6)","v":0.54219823371229436},{"$f":"0.98*C1181","v":1.7487456624961896E-4},3.0890559493203507E-2,{"$f":"IF($C$2=1,-($Z$1006-2)*C1182/$Z$5,3*($Z$5/C1182)^2)","v":-6.2168675705731771E-2},{"$f":"IF($C$2=1,0.5*($Z$1006*C1182*$F$1006/$Z$5)*(1-Y1182^2+(D1182-E1182)*(E1182^2*(1-Y1182^2)+2*E1182*(1-Y1182)+2*LN((1-E1182)/(1-E1182*Y1182)))/(E1182^3)),$F$1006*E1182*(LN((1-D1182+D1182^2)/(1+D1182)^2)/(6*D1182)+ATAN((2-D1182)/(D1182*3^0.5))/(D1182*3^0.5)-LN((Y1182^2-D1182*Y1182+D1182^2)/(Y1182+D1182)^2)/(6*D1182)-ATAN((2*Y1182-D1182)/(D1182*3^0.5))/(D1182*3^0.5)))","v":1.9417508230778577},{"$f":"IF($C$2=1,($Z$1006*C1182*$F$1006/$Z$5)*(1-Y1182^3-(D1182-E1182)*(-2*E1182^3*(1-Y1182^3)-3*E1182^2*(1-Y1182^2)-6*E1182*(1-Y1182)-6*LN((1-E1182)/(1-E1182*Y1182)))/(2*E1182^4))/3,$F$1006*E1182*(LN((1+D1182^3)/(D1182^3+Y1182^3)))/3)","v":1.2845785285039442},{"$f":"G1182/F1182","v":0.66155683480940486},{"$f":"F1182*B1182*$D$1006","v":0.44218182396452743},{"$f":"MAX(MIN($K$1006,$Q$1006*$J$1006*C1182*(B1182-$I$1006)/B1182),-$K$1006)","v":85.04995574719068},5.130092470339416E-2,{"$f":"MIN($O$1006,$Q$1006*$N$1006*C1182*(C$1006-B1182-$M$1006)/B1182)","v":-10.970502699809414},-6.6172513320783832E-3,{"$f":"(0.5*$C$1006-B1182+H1182*B1182)*I1182+(0.5*$C$1006-$I$1006)*K1182+(0.5*$C$1006-$M$1006)*M1182","v":4.7630846004139783E-2},{"$f":"I1182+K1182-M1182","v":0.50009999999999999},null,{"$f":"N1182-P1182*O1182","v":4.7630846004139783E-2},{"$f":"R1181","v":0.5},0.81553534569270025,5.768430661358212E-2,{"$f":"IF(L1181<$O$1006,$Q$1006*C1182*$L$1006*$N$1006,-$L$1006*$O$1006)","v":5.768430661358212E-2},{"$f":"-(R1182+0.0001)","v":-0.50009999999999999},3.4610583968149268E-3,{"$f":"IF(L1181<$O$1006,($C$1006-$M$1006)*$Q$1006*C1182*$L$1006*$N$1006,0)","v":2.7688467174519421E-2},{"$f":"IF(B1181<$C$1106,0,IF(MIN(ABS($Q$1180-Q1181),ABS(Q1181-Q1180))<=0.001*Q$1180,Y1181,(B1181-$C$1106)/B1181))","v":0},4.0542989180240912E-3]
[null,0.54740235208345855,{"$f":"IF(Z1182>0,0.99*C1182,0.98*C1182)","v":1.7312582058712277E-4},3.0581653898271468E-2,-6.1546988948674448E-2,1.9234580345790593,1.2725961643937804,{"$f":"G1183/F1183","v":0.66161888718943784},0.44222028995020946,84.299059879935115,5.0847994986879405E-2,-11.65762719454216,-7.0317150629111494E-3,4.668815988970304E-2,{"$f":"I1183+K1183-M1183","v":0.50009999999999999},null,{"$f":"N1183-P1183*O1183","v":4.668815988970304E-2},{"$f":"R1182","v":0.5},0.80785237452320491,5.7107463547446301E-2,5.7107463547446301E-2,{"$f":"-(R1183+0.0001)","v":-0.50009999999999999},3.4264478128467773E-3,2.7411582502774225E-2,{"$f":"IF(B1182<$C$1106,0,IF(MIN(ABS($Q$1180-Q1182),ABS(Q1182-Q1181))<=0.001*Q$1180,Y1182,(B1182-$C$1106)/B1182))","v":4.0542989180240912E-3},1.3522689581593056E-2]
[null,0.53223921786860662,{"$f":"IF(MIN(ABS($Q$1180-Q1183),10*ABS(Q1183-Q1182))<=0.001*Q$1180,C1183,MAX(0.9*C1183,MIN($W$6,1.05*C1183,IF(C1183=$W$6,0.5*(C1183+C1182),C1183+IF(C1183=C1182,0,(C1183-C1182)*(Q1183-Q$1180)/(Q1182-Q1183))))))","v":1.7837118409995214E-4},3.1508216388926896E-2,-6.3411738695771991E-2,1.9778084358300307,1.3084838215340266,0.66158268810542953,0.44212023029164521,86.548550535013419,5.2204855783611476E-2,-9.5740218443031466,-5.774913924743226E-3,4.9488511508350728E-2,0.50009999999999999,null,4.9488511508350728E-2,0.5,0.83067954304861291,5.8837704620592665E-2,5.8837704620592665E-2,-0.50009999999999999,3.5302622772355598E-3,2.8242098217884478E-2,1.3522689581593056E-2,0]
[null,0.53214803299287328,{"$f":"IF(MIN(ABS($Q$1180-Q1184),10*ABS(Q1184-Q1183))<=0.001*Q$1180,C1184,MAX(0.9*C1184,MIN($W$6,1.05*C1184,IF(C1184=$W$6,0.5*(C1184+C1183),C1184+IF(C1184=C1183,0,(C1184-C1183)*(Q1184-Q$1180)/(Q1183-Q1184))))))","v":1.7837118409995214E-4},3.1508216388926896E-2,-6.3411738695771991E-2,1.9781931050448434,1.3084872890028467,0.66145579299912927,0.44213045928646461,86.546666281438917,5.220371922863154E-2,-9.5589478157071799,-5.7658214849037838E-3,4.9474889402288086E-2,0.50009999999999988,null,4.9474889402288086E-2,0.5,0.83084110411883416,5.8837704620592665E-2,5.8837704620592665E-2,-0.50009999999999999,3.5302622772355598E-3,2.8242098217884478E-2,0,0]
[null,0.53214803299287328,1.7837118409995214E-4,3.1508216388926896E-2,-6.3411738695771991E-2,1.9781931050448434,1.3084872890028467,0.66145579299912927,0.44213045928646461,86.546666281438917,5.220371922863154E-2,-9.5589478157071799,-5.7658214849037838E-3,4.9474889402288086E-2,0.50009999999999988,null,4.9474889402288086E-2,0.5,0.83084110411883416,5.8837704620592665E-2,5.8837704620592665E-2,-0.50009999999999999,3.5302622772355598E-3,2.8242098217884478E-2,0,0]
[null,0.53214803299287328,1.7837118409995214E-4,3.1508216388926896E-2,-6.3411738695771991E-2,1.9781931050448434,1.3084872890028467,0.66145579299912927,0.44213045928646461,86.546666281438917,5.220371922863154E-2,-9.5589478157071799,-5.7658214849037838E-3,4.9474889402288086E-2,0.50009999999999988,null,4.9474889402288086E-2,0.5,0.83084110411883416,5.8837704620592665E-2,5.8837704620592665E-2,-0.50009999999999999,3.5302622772355598E-3,2.8242098217884478E-2,0,0]
[null,0.53214803299287328,1.7837118409995214E-4,3.1508216388926896E-2,-6.3411738695771991E-2,1.9781931050448434,1.3084872890028467,0.66145579299912927,0.44213045928646461,86.546666281438917,5.220371922863154E-2,-9.5589478157071799,-5.7658214849037838E-3,4.9474889402288086E-2,0.50009999999999988,null,4.9474889402288086E-2,0.5,0.83084110411883416,5.8837704620592665E-2,5.8837704620592665E-2,-0.50009999999999999,3.5302622772355598E-3,2.8242098217884478E-2,0,0]
[null,0.53214803299287328,1.7837118409995214E-4,3.1508216388926896E-2,-6.3411738695771991E-2,1.9781931050448434,1.3084872890028467,0.66145579299912927,0.44213045928646461,86.546666281438917,5.220371922863154E-2,-9.5589478157071799,-5.7658214849037838E-3,4.9474889402288086E-2,0.50009999999999988,null,4.9474889402288086E-2,0.5,0.83084110411883416,5.8837704620592665E-2,5.8837704620592665E-2,-0.50009999999999999,3.5302622772355598E-3,2.8242098217884478E-2,0,0]
[null,0.53214803299287328,1.7837118409995214E-4,3.1508216388926896E-2,-6.3411738695771991E-2,1.9781931050448434,1.3084872890028467,0.66145579299912927,0.44213045928646461,86.546666281438917,5.220371922863154E-2,-9.5589478157071799,-5.7658214849037838E-3,4.9474889402288086E-2,0.50009999999999988,null,4.9474889402288086E-2,0.5,0.83084110411883416,5.8837704620592665E-2,5.8837704620592665E-2,-0.50009999999999999,3.5302622772355598E-3,2.8242098217884478E-2,0,0]
[null,0.53214803299287328,1.7837118409995214E-4,3.1508216388926896E-2,-6.3411738695771991E-2,1.9781931050448434,1.3084872890028467,0.66145579299912927,0.44213045928646461,86.546666281438917,5.220371922863154E-2,-9.5589478157071799,-5.7658214849037838E-3,4.9474889402288086E-2,0.50009999999999988,null,4.9474889402288086E-2,0.5,0.83084110411883416,5.8837704620592665E-2,5.8837704620592665E-2,-0.50009999999999999,3.5302622772355598E-3,2.8242098217884478E-2,0,0]
[null,0.53214803299287328,1.7837118409995214E-4,3.1508216388926896E-2,-6.3411738695771991E-2,1.9781931050448434,1.3084872890028467,0.66145579299912927,0.44213045928646461,86.546666281438917,5.220371922863154E-2,-9.5589478157071799,-5.7658214849037838E-3,4.9474889402288086E-2,0.50009999999999988,null,4.9474889402288086E-2,0.5,0.83084110411883416,5.8837704620592665E-2,5.8837704620592665E-2,-0.50009999999999999,3.5302622772355598E-3,2.8242098217884478E-2,0,0]
[null,0.53214803299287328,1.7837118409995214E-4,3.1508216388926896E-2,-6.3411738695771991E-2,1.9781931050448434,1.3084872890028467,0.66145579299912927,0.44213045928646461,86.546666281438917,5.220371922863154E-2,-9.5589478157071799,-5.7658214849037838E-3,4.9474889402288086E-2,0.50009999999999988,null,4.9474889402288086E-2,0.5,0.83084110411883416,5.8837704620592665E-2,5.8837704620592665E-2,-0.50009999999999999,3.5302622772355598E-3,2.8242098217884478E-2,0,0]
[null,0.53214803299287328,1.7837118409995214E-4,3.1508216388926896E-2,-6.3411738695771991E-2,1.9781931050448434,1.3084872890028467,0.66145579299912927,0.44213045928646461,86.546666281438917,5.220371922863154E-2,-9.5589478157071799,-5.7658214849037838E-3,4.9474889402288086E-2,0.50009999999999988,null,4.9474889402288086E-2,0.5,0.83084110411883416,5.8837704620592665E-2,5.8837704620592665E-2,-0.50009999999999999,3.5302622772355598E-3,2.8242098217884478E-2,0,0]
[null,0.53214803299287328,1.7837118409995214E-4,3.1508216388926896E-2,-6.3411738695771991E-2,1.9781931050448434,1.3084872890028467,0.66145579299912927,0.44213045928646461,86.546666281438917,5.220371922863154E-2,-9.5589478157071799,-5.7658214849037838E-3,4.9474889402288086E-2,0.50009999999999988,null,4.9474889402288086E-2,0.5,0.83084110411883416,5.8837704620592665E-2,5.8837704620592665E-2,-0.50009999999999999,3.5302622772355598E-3,2.8242098217884478E-2,0,0]
[null,0.53214803299287328,1.7837118409995214E-4,3.1508216388926896E-2,-6.3411738695771991E-2,1.9781931050448434,1.3084872890028467,0.66145579299912927,0.44213045928646461,86.546666281438917,5.220371922863154E-2,-9.5589478157071799,-5.7658214849037838E-3,4.9474889402288086E-2,0.50009999999999988,null,4.9474889402288086E-2,0.5,0.83084110411883416,5.8837704620592665E-2,5.8837704620592665E-2,-0.50009999999999999,3.5302622772355598E-3,2.8242098217884478E-2,0,0]
[null,0.53214803299287328,1.7837118409995214E-4,3.1508216388926896E-2,-6.3411738695771991E-2,1.9781931050448434,1.3084872890028467,0.66145579299912927,0.44213045928646461,86.546666281438917,5.220371922863154E-2,-9.5589478157071799,-5.7658214849037838E-3,4.9474889402288086E-2,0.50009999999999988,null,4.9474889402288086E-2,0.5,0.83084110411883416,5.8837704620592665E-2,5.8837704620592665E-2,-0.50009999999999999,3.5302622772355598E-3,2.8242098217884478E-2,0,0]
[null,0.53214803299287328,1.7837118409995214E-4,3.1508216388926896E-2,-6.3411738695771991E-2,1.9781931050448434,1.3084872890028467,0.66145579299912927,0.44213045928646461,86.546666281438917,5.220371922863154E-2,-9.5589478157071799,-5.7658214849037838E-3,4.9474889402288086E-2,0.50009999999999988,null,{"$f":"IF(B1198>10*B1106,Q1180,IF(Q1180<0.000001,0,N1198-P1198*O1198))","v":4.9474889402288086E-2},0.5,0.83084110411883416,5.8837704620592665E-2,5.8837704620592665E-2,-0.50009999999999999,3.5302622772355598E-3,2.8242098217884478E-2,0,0]
[null,null,null,null,null,null,null,null,null,{"$f":"MAX(J1178,J1198)/K1106","v":0.18916090475108446},null,{"$f":"MAX(L1178,L1198)/O1106","v":-2.0535676596658212E-2},null,null,null,{"$f":"IF(Q1180=0.0001,ABS(INDEX(Snitkræfter!$G$286:$U$286,B1109+1))*($Q$6*C1198/B1198)/Q1180,IF(B1198>10*$C$6,(J1180-L1180)/$C$6,$Q$6*C1198/B1198))*IF(AND(B1198>10*$C$6,O1180=O1179),P1108,P1108)","v":9.1652045792537794E-4},null,null,null,null,null,null,null,null,null,null,{"$f":"(Q1178-Q1198)/(P1179-P1199)","v":51.91852172091555}]
[]
[]
[null,"Tilstand:",{"$f":"C1102","v":1}]
[]
[null,"L","h","b","fck","fcd","Ecd","Ac","ac","Esc","fyd_c","At","at","Est","fyd_t","Modenhed","1+f","uterm","g","EI","sc/fcd","sc","e","   emax",null,{"$f":"Stivheder!$AD$4","v":3.5000000000000001E-3}]
[null,"(m)","(m)","(m)","(Mpa)","(Mpa)","(Mpa)","(m2)","(m)","(Mpa)","(Mpa)","(m2)","(m)","(Mpa)","(Mpa)","(døgn)",null,"(m)",null,"(Mnm2)",null,"(MPa)",null,"e1",null,{"$f":"Stivheder!$AD$5","v":2.0693662482105194E-3}]
[null,{"$f":"Stivheder!$B$6","v":0.54},{"$f":"Stivheder!$C$6","v":0.54},{"$f":"Stivheder!$D$6","v":0.42},{"$f":"Stivheder!$E$6","v":25},{"$f":"Stivheder!$F$6","v":17.857142857142858},{"$f":"IF(C1202=1,1000*22*((E1206+8)/10)^0.3/S1206,1.4*F1206/Z1205)","v":22482.71872144239},{"$f":"IF(P1208<0,Stivheder!$X$6,Stivheder!$T$6)","v":6.0318578948924026E-4},{"$f":"IF(P1208<0,Stivheder!$Y$6,Stivheder!$U$6)","v":0.06},{"$f":"IF(P1208<0,Stivheder!$Z$6,Stivheder!$V$6)","v":200000},{"$f":"IF(P1208<0,Stivheder!$AA$6,Stivheder!$W$6)","v":458.33333333333337},{"$f":"IF(P1208<0,Stivheder!$T$6,Stivheder!$X$6)","v":6.0318578948924026E-4},{"$f":"IF(P1208<0,Stivheder!$U$6,Stivheder!$Y$6)","v":0.06},{"$f":"IF(P1208<0,Stivheder!$V$6,Stivheder!$Z$6)","v":200000},{"$f":"IF(P1208<0,Stivheder!$W$6,Stivheder!$AA$6)","v":458.33333333333337},{"$f":"Stivheder!$P$6","v":28},{"$f":"Stivheder!$Q$6","v":2.7343237157040781},{"$f":"Stivheder!$R$6","v":0},{"$f":"Stivheder!$S$6","v":1.4},{"$f":"AA1279","v":54.011594256638567},{"$f":"U1106","v":0.99999990000000005},{"$f":"U1206*F1206","v":17.857141071428572},{"$f":"Z1204","v":3.5000000000000001E-3},"k",null,{"$f":"Stivheder!$AD$6","v":2.7356687822616226}]
[]
[null,"punkt","elasttisk","e_o","sc_o/fcd","sc_u/fcd","sc_o","sc_u","hc","At","Ac","Ic","Wt","E",null,{"$f":"SIGN(Q1208)","v":1},{"$f":"INDEX(Snitkræfter!$G$199:$U$199,B1209+1)","v":4.7862999983023367E-2},{"$f":"INDEX(Snitkræfter!$G$59:$U$59,B1209+1)*P1208","v":0}]
[null,{"$f":"(ROW()-9)/100","v":12},"skøn",{"$f":"IF(C1202=1,Z1205*0.5*(-((Z1206-2)*E1209-Z1206)-(((Z1206-2)*E1209-Z1206)^2-4*E1209)^0.5),G1209/(1.4*F1206/Z1205))","v":9.7868622979252365E-4},{"$f":"MIN(0.9999,G1209/F1206)","v":0.79391160460739685},{"$f":"H1209/F1206","v":-1.862084687042613E-2},{"$f":"IF(H1209>0,R1211/J1209+MAX(Q1211+Stivheder!$O$2*R1211+R1211*R1206,D1206*C1206^2*0.003*E1206)/M1209,MIN(0.8*F1206,2*(R1211+Q1211/(C1206-M1206-0.333*I1209))/(((R1211+L1206*O1206)/(F1206*D1206*0.5))*D1206)))","v":14.176992939417801},{"$f":"R1211/J1209-(Q1211+Stivheder!$O$2*R1211+R1211*R1206)/M1209","v":-0.33251512268618089},{"$f":"IF(H1209>0,C1206*G1209/(G1209-H1209),(R1211+L1206*O1206)/(F1206*D1206*0.5))","v":0.20705604093757382},{"$f":"K1209+Q1206*(H1206+L1206)*N1206/G1206","v":0.25614351898648502},{"$f":"C1206*D1206","v":0.2268},{"$f":"D1206*C1206^3/12","v":5.5112400000000006E-3},{"$f":"(L1209+((0.5*C1206-I1206)^2*H1206+(0.5*C1206-M1206)^2*L1206)*Q1206)/(0.5*C1206)","v":2.0950773034997532E-2},{"$f":"G1209/D1209","v":14485.738644165096}]
[null,"hc","e0","a'","b'","N'","tN'","t'","Nc","sac","Nac","sat","Nat","Mtot","N",null,"Mo","N","A","B1","B2","B3","C1","C2","gættet x","beregnet x","EIt"]
[null,{"$f":"I1209","v":0.20705604093757382},null,null,null,null,null,null,null,null,null,null,null,null,null,null,{"$f":"MAX(ABS(Q1208),0.0000001)","v":4.7862999983023367E-2},{"$f":"INDEX(Snitkræfter!$G$52:$U$52,B1209+1)","v":0.5}]
[null,{"$f":"MIN(0.5*(-(T1212+U1212+V1212)+SQRT((T1212+U1212+V1212)^2+4*S1212*(W1212+X1212)))/S1212,1000*$C$6)","v":0.20303928526286505},{"$f":"D1209","v":9.7868622979252365E-4},{"$f":"IF($C$2=1,C1212/($Z$1006*$Z$5),2^(1/3)*$Z$5/C1212)","v":0.17287914334798735},{"$f":"IF($C$2=1,-($Z$1006-2)*C1212/$Z$5,3*($Z$5/C1212)^2)","v":-0.3479272494708433},{"$f":"IF($C$2=1,0.5*($Z$1006*C1212*$F$1006/$Z$5)*(1-Y1212^2+(D1212-E1212)*(E1212^2*(1-Y1212^2)+2*E1212*(1-Y1212)+2*LN((1-E1212)/(1-E1212*Y1212)))/(E1212^3)),$F$1006*E1212*(LN((1-D1212+D1212^2)/(1+D1212)^2)/(6*D1212)+ATAN((2-D1212)/(D1212*3^0.5))/(D1212*3^0.5)-LN((Y1212^2-D1212*Y1212+D1212^2)/(Y1212+D1212)^2)/(6*D1212)-ATAN((2*Y1212-D1212)/(D1212*3^0.5))/(D1212*3^0.5)))","v":8.3614331325213289},{"$f":"IF($C$2=1,($Z$1006*C1212*$F$1006/$Z$5)*(1-Y1212^3-(D1212-E1212)*(-2*E1212^3*(1-Y1212^3)-3*E1212^2*(1-Y1212^2)-6*E1212*(1-Y1212)-6*LN((1-E1212)/(1-E1212*Y1212)))/(2*E1212^4))/3,$F$1006*E1212*(LN((1+D1212^3)/(D1212^3+Y1212^3)))/3)","v":5.3431739925771184},{"$f":"G1212/F1212","v":0.63902609850399217},{"$f":"F1212*B1212*$D$1006","v":0.7130337509401552},{"$f":"MAX(MIN($K$1006,$Q$1006*$J$1006*C1212*(B1212-$I$1006)/B1212),-$K$1006)","v":377.04975084913036},{"$f":"J1212*$H$1006","v":0.22743105164265404},{"$f":"MIN($O$1006,$Q$1006*$N$1006*C1212*(C$1006-B1212-$M$1006)/B1212)","v":458.33333333333337},{"$f":"L1212*$L$1006","v":0.27646015351590181},{"$f":"(0.5*$C$1006-B1212+H1212*B1212)*I1212+(0.5*$C$1006-$I$1006)*K1212+(0.5*$C$1006-$M$1006)*M1212","v":0.24607667961791713},{"$f":"I1212+K1212-M1212","v":0.66400464906690748},null,{"$f":"N1212-P1212*O1212","v":0.24607667961791713},{"$f":"R1211","v":0.5},{"$f":"F1212*$D$1006","v":3.5118019156589582},{"$f":"IF(ABS(J1211)<$K$1006,$Q$1006*C1212*$H$1006*$J$1006,IF(J1211>0,1,-1)*$H$1006*$K$1006)","v":0.32283045938914873},{"$f":"IF(L1211<$O$1006,$Q$1006*C1212*$L$1006*$N$1006,-$L$1006*$O$1006)","v":0.32283045938914873},{"$f":"-(R1212+0.0001)","v":-0.50009999999999999},{"$f":"IF(ABS(J1211)<$K$1006,$I$1006*$Q$1006*C1212*$H$1006*$J$1006,0)","v":1.9369827563348926E-2},{"$f":"IF(L1211<$O$1006,($C$1006-$M$1006)*$Q$1006*C1212*$L$1006*$N$1006,0)","v":0.15495862050679143},{"$f":"IF(B1211<$C$1006,0,(B1211-$C$1006)/B1211)","v":0},{"$f":"IF(B1212<=$C$1006,0,(B1212-$C$1006)/B1212)","v":0}]
[null,{"$f":"MIN(0.5*(-(T1213+U1213+V1213)+SQRT((T1213+U1213+V1213)^2+4*S1213*(W1213+X1213)))/S1213,1000*$C$6)","v":0.17055618109695314},{"$f":"0.95*C1212","v":9.2975191830289741E-4},{"$f":"IF($C$2=1,C1213/($Z$1006*$Z$5),2^(1/3)*$Z$5/C1213)","v":0.16423518618058799},{"$f":"IF($C$2=1,-($Z$1006-2)*C1213/$Z$5,3*($Z$5/C1213)^2)","v":-0.33053088699730115},{"$f":"IF($C$2=1,0.5*($Z$1006*C1213*$F$1006/$Z$5)*(1-Y1213^2+(D1213-E1213)*(E1213^2*(1-Y1213^2)+2*E1213*(1-Y1213)+2*LN((1-E1213)/(1-E1213*Y1213)))/(E1213^3)),$F$1006*E1213*(LN((1-D1213+D1213^2)/(1+D1213)^2)/(6*D1213)+ATAN((2-D1213)/(D1213*3^0.5))/(D1213*3^0.5)-LN((Y1213^2-D1213*Y1213+D1213^2)/(Y1213+D1213)^2)/(6*D1213)-ATAN((2*Y1213-D1213)/(D1213*3^0.5))/(D1213*3^0.5)))","v":8.0655086946610393},{"$f":"IF($C$2=1,($Z$1006*C1213*$F$1006/$Z$5)*(1-Y1213^3-(D1213-E1213)*(-2*E1213^3*(1-Y1213^3)-3*E1213^2*(1-Y1213^2)-6*E1213*(1-Y1213)-6*LN((1-E1213)/(1-E1213*Y1213)))/(2*E1213^4))/3,$F$1006*E1213*(LN((1+D1213^3)/(D1213^3+Y1213^3)))/3)","v":5.1649560505869054},{"$f":"G1213/F1213","v":0.64037573401983272},{"$f":"F1213*B1213*$D$1006","v":0.57776139185757647},{"$f":"MAX(MIN($K$1006,$Q$1006*$J$1006*C1213*(B1213-$I$1006)/B1213),-$K$1006)","v":329.58130831739601},{"$f":"J1213*$H$1006","v":0.19879876165832522},{"$f":"MIN($O$1006,$Q$1006*$N$1006*C1213*(C$1006-B1213-$M$1006)/B1213)","v":458.33333333333337},{"$f":"L1213*$L$1006","v":0.27646015351590181},{"$f":"(0.5*$C$1006-B1213+H1213*B1213)*I1213+(0.5*$C$1006-$I$1006)*K1213+(0.5*$C$1006-$M$1006)*M1213","v":0.22036229354125952},{"$f":"I1213+K1213-M1213","v":0.50009999999999988},null,{"$f":"N1213-P1213*O1213","v":0.22036229354125952},{"$f":"R1212","v":0.5},{"$f":"F1213*$D$1006","v":3.3875136517576365},{"$f":"IF(ABS(J1212)<$K$1006,$Q$1006*C1213*$H$1006*$J$1006,IF(J1212>0,1,-1)*$H$1006*$K$1006)","v":0.30668893641969136},-0.27646015351590181,{"$f":"-(R1213+0.0001)","v":-0.50009999999999999},{"$f":"IF(ABS(J1212)<$K$1006,$I$1006*$Q$1006*C1213*$H$1006*$J$1006,0)","v":1.8401336185181479E-2},0,{"$f":"IF(B1212<$C$1006,0,(B1212-$C$1006)/B1212)","v":0},{"$f":"IF(B1213<=$C$1006,0,(B1213-$C$1006)/B1213)","v":0}]
[null,0.18757872243839138,{"$f":"IF(ABS($Q$1211-Q1213)<=0.001*$Q$1211,C1213,MAX(0.9*C1213,MIN($W$6,1.05*C1213,IF(C1213=$W$6,0.5*(C1213+C1212),C1213+IF(C1213=C1212,0,(C1213-C1212)*(Q1213-Q$1211)/(Q1212-Q1213))))))","v":8.3677672647260767E-4},0.14781166756252917,-0.29747779829757104,7.4740614325984449,4.8053929577211436,0.64294266257462274,0.58882945588020519,311.23196352928255,0.18773069763569672,458.33333333333337,0.27646015351590181,0.21702637868991953,0.5001000000000001,null,0.21702637868991953,0.5,3.1391058016913469,0.27602004277772213,-0.27646015351590181,-0.50009999999999999,1.6561202566663331E-2,0,0,0]
[null,0.20687989634417139,{"$f":"IF(ABS($Q$1211-Q1214)<=0.001*$Q$1211,C1214,MAX(0.9*C1214,MIN($W$6,1.05*C1214,IF(C1214=$W$6,0.5*(C1214+C1213),C1214+IF(C1214=C1213,0,(C1214-C1213)*(Q1214-Q$1211)/(Q1213-Q1214))))))","v":7.5309905382534687E-4},0.13303050080627626,-0.26773001846781391,6.9074946456202397,4.4571141768718636,0.64525771000024412,0.60018914603921036,292.39914227096978,0.1763710074766916,458.33333333333337,0.27646015351590181,0.2130983030808199,0.5001000000000001,null,0.2130983030808199,0.5,2.9011477511605004,0.24841803849994995,-0.27646015351590181,-0.50009999999999999,1.4905082309996995E-2,0,0,0]
[null,0.22867848906482532,6.7778914844281223E-4,0.11972745072564864,-0.24095701662103253,6.3683213537412922,4.122513053348464,0.64734689478673213,0.61164520412218504,273.40655610166431,0.16491494939371665,407.36047115436037,0.24571404739995176,0.20205066895234938,0.53084610611594996,null,0.20205066895234938,0.5,2.6746949685713428,0.22357623464995499,-0.27646015351590181,-0.50009999999999999,1.3414574078997297E-2,0,0,0]
[null,0.23092958888200865,6.1001023359853106E-4,0.10775470565308379,-0.2168613149589293,5.8581798522706157,3.8033239452593715,0.64923304527518266,0.56818736725032215,246.91911484398739,0.14893810122715492,359.79870921900829,0.21702546847747711,0.184238359393678,0.50009999999999999,null,0.184238359393678,0.5,2.4604355379536584,0.20121861118495948,0.20121861118495948,-0.50009999999999999,1.207311667109757E-2,9.6584933368780559E-2,0,0]
[null,0.24082881284926741,5.4900921023867796E-4,9.6979235087775409E-2,-0.19517518346303636,5.3779742687149232,3.500718866994577,0.6509363362631112,0.54397188664077922,225.43364934611009,0.13597837375827396,298.16727040493635,0.1798502603990533,0.16746765016986767,0.50009999999999988,null,0.16746765016986767,0.5,2.2587491928602677,0.18109675006646353,0.18109675006646353,-0.50009999999999999,1.0865805003987813E-2,8.6926440031902516E-2,0,0]
[null,0.25252249417831779,4.9410828921481013E-4,8.7281311578997864E-2,-0.1756576651167327,4.9280024581342952,3.2153969469167722,0.65247470435193278,0.52266121825888046,206.00770970247899,0.12426092301776001,243.411141036603,0.1468221412766402,0.1521782930484894,0.50010000000000032,null,0.1521782930484894,0.5,2.069761032416404,0.16298707505981719,0.16298707505981719,-0.50009999999999999,9.7792245035890311E-3,7.8233796028712263E-2,0,0]
[null,0.26628888272189394,4.4469746029332914E-4,7.8553180421098087E-2,-0.15809189860505946,4.5080706924563509,2.9476659185324663,0.65386417375064421,0.50418862532871689,188.39412800972218,0.11363666083868126,195.17251271301387,0.11772528616739805,0.13824480200238795,0.5001000000000001,null,0.13824480200238795,0.5,1.8933896908316674,0.14668836755383546,0.14668836755383546,-0.50009999999999999,8.8013020532301273E-3,7.0410416425841033E-2,0,0]
[null,0.28244822481387621,4.0022771426399622E-4,7.0697862378988272E-2,-0.14228270874455351,4.1175950625747664,2.6975152353715779,0.65511911549767576,0.48846311468918224,172.37615069228531,0.10397484454444236,153.0837775734299,9.2337959233624561E-2,0.1255290524206879,0.5001000000000001,null,0.1255290524206879,0.5,1.7293899262814019,0.13201953079845191,0.13201953079845191,-0.50009999999999999,7.9211718479071137E-3,6.3369374783256924E-2,0,0]
[null,0.30136399804828867,3.6020494283759661E-4,6.3628076141089451E-2,-0.12805443787009815,3.7556899000758523,2.4646807239475579,0.65625245681167121,0.47536848396090342,157.76501940813736,9.5161617785482641E-2,116.76352953544237,7.0430101746386031E-2,0.11387884074392877,0.50009999999999999,null,0.11387884074392877,0.5,1.5773897580318579,0.11881757771860674,0.11881757771860674,-0.50009999999999999,7.1290546631164031E-3,5.7032437304931245E-2,0,0]
[null,0.32344257512845836,3.2418444855383696E-4,5.7265268526980502E-2,-0.11524899408308835,3.4212438305662434,2.2487009563314557,0.65727585278810063,0.46476188417429265,144.39790067127549,8.7098761716992212E-2,85.812110950283071,5.1760645891284776E-2,0.10312659479966584,0.5001000000000001,null,0.10312659479966584,0.5,1.4369224088378221,0.10693581994674607,0.10693581994674607,-0.50009999999999999,6.4161491968047629E-3,5.1329193574438124E-2,0,0]
[null,0.34913136131552686,2.9176600369845327E-4,5.1538741674282455E-2,-0.10372409467477951,3.1129842932836618,2.0489657307477951,0.65819982939473476,0.45647298650855084,132.13593770786002,7.9702519906216615E-2,59.808283025558303,3.6075506414767311E-2,9.308872846980043E-2,0.5001000000000001,null,9.308872846980043E-2,0.5,1.3074534031791378,9.6242237952071444E-2,9.6242237952071444E-2,-0.50009999999999999,5.7745342771242875E-3,4.6196274216994307E-2,0,0]
[null,0.37891590782270179,2.6258940332860795E-4,4.6384867506854208E-2,-9.3351685207301568E-2,2.8295315081454016,1.8647571973070403,0.65903390435446452,0.45030489005117835,120.86219176763943,7.2902356560763548E-2,38.308672078479134,2.3107246611941853E-2,8.3566081003777284E-2,0.5001000000000001,null,8.3566081003777284E-2,0.5,1.1884032334210686,8.661801415686432E-2,8.661801415686432E-2,-0.50009999999999999,5.1970808494118583E-3,4.157664679529488E-2,0,0]
[null,0.41331696161667197,2.3633046299574716E-4,4.1746380756168794E-2,-8.401651668657141E-2,2.5694429514273165,1.6952842620402351,0.65978669076832808,0.44603762856715129,110.47929382659831,6.6639540069010447E-2,20.851234984848809,1.2577168636161696E-2,7.4345672017362752E-2,0.5001000000000001,null,7.4345672017362752E-2,0.5,1.0791660395994729,7.7956212741177894E-2,7.7956212741177894E-2,-0.50009999999999999,4.6773727644706733E-3,3.7418982115765394E-2,0,0]
[null,0.45288867744086952,2.1269741669617244E-4,3.7571742680551912E-2,-7.5614865017914257E-2,2.331249426414657,1.539710953523473,0.66046598707006232,0.44343451719576221,100.9067433872904,6.0865513674850935E-2,6.9630799395484484,4.2000308706132226E-3,6.5203666048390341E-2,0.50009999999999988,null,6.5203666048390341E-2,0.5,0.97912475909415597,7.0160591467060093E-2,7.0160591467060093E-2,-0.50009999999999999,4.2096354880236057E-3,3.3677083904188852E-2,0,0]
[null,0.49821914026488479,1.914276750265552E-4,3.3814568412496721E-2,-6.8053378516122837E-2,2.113483797543017,1.3971794510132616,0.66107885598059524,0.44225079384177118,92.077937789463377,5.5540103600078619E-2,-3.8281779816224799,-2.309102558150282E-3,5.5909081822099652E-2,0.5001000000000001,null,5.5909081822099652E-2,0.5,0.88766319496806712,6.3144532320354066E-2,6.3144532320354066E-2,-0.50009999999999999,3.788671939221245E-3,3.0309375513769967E-2,0,0]
[null,0.54772702934465933,1.7301500825167465E-4,3.0562079553561702E-2,-6.1507594677143645E-2,1.9223338349492234,1.2718364170699084,0.6616105870620036,0.4422239643466952,84.251250194918171,5.0819156864277223E-2,-11.699345229938379,-7.0568787890275585E-3,4.6626535755007317E-2,0.50009999999999999,null,4.6626535755007317E-2,0.5,0.80738021067867383,5.7070910875027185E-2,5.7070910875027185E-2,-0.50009999999999999,3.4242546525016311E-3,2.7394037220013049E-2,0,1.410744573607127E-2]
[null,0.54056332621889447,1.7546763317214013E-4,3.0995321263005072E-2,-6.2379513599250175E-2,1.9475263120436364,1.2886345313919232,0.66167759758772904,0.44215974647759232,85.306277214117372,5.1455534169785377E-2,-10.750782703474014,-6.4847193526222421E-3,4.7962757510013949E-2,0.50009999999999999,null,4.7962757510013949E-2,0.5,0.81796105105832728,5.7879936286522965E-2,5.7879936286522965E-2,-0.50009999999999999,3.4727961771913772E-3,2.7782369417531025E-2,1.410744573607127E-2,1.04210957638351E-3]
[null,0.54099738569830425,1.7528452898618867E-4,3.0962976989787463E-2,-6.2314419257626312E-2,1.9460258911609298,1.2873851556866915,0.66154574897186147,0.44217386624009586,85.22579485732426,5.1406988355863166E-2,-10.807856414457611,-6.5191454040409635E-3,4.7850089174785254E-2,0.50009999999999999,null,4.7850089174785254E-2,0.5,0.81733087428759055,5.7819537348980619E-2,5.7819537348980619E-2,-0.50009999999999999,3.469172240938837E-3,2.7753377927510699E-2,1.04210957638351E-3,1.8436053937983675E-3]
[null,0.54099856226202747,1.7528452898618867E-4,3.0962976989787463E-2,-6.2314419257626312E-2,1.9460211065519386,1.2873851486044494,0.66154737185019818,0.44217374072598653,85.225817977915611,5.1407002301875317E-2,-10.80804137918836,-6.519256972138108E-3,4.785026990542416E-2,0.50009999999999999,null,4.785026990542416E-2,0.5,0.81732886475181421,5.7819537348980619E-2,5.7819537348980619E-2,-0.50009999999999999,3.469172240938837E-3,2.7753377927510699E-2,1.8436053937983675E-3,1.8457761844176434E-3]
[null,0.54099856633603305,1.7528452898618867E-4,3.0962976989787463E-2,-6.2314419257626312E-2,1.9460210899846448,1.2873851485760142,0.66154737746761638,0.44217374029137835,85.225818057973498,5.1407002350165092E-2,-10.808042019651504,-6.5192573584563753E-3,4.7850270530749722E-2,0.50009999999999977,null,4.7850270530749722E-2,0.5,0.8173288577935508,5.7819537348980619E-2,5.7819537348980619E-2,-0.50009999999999999,3.469172240938837E-3,2.7753377927510699E-2,1.8457761844176434E-3,1.8457837010473128E-3]
[null,0.54099856635017507,1.7528452898618867E-4,3.0962976989787463E-2,-6.2314419257626312E-2,1.9460210899271355,1.287385148577566,0.66154737748796411,0.44217374028986983,85.225818058251392,5.1407002350332714E-2,-10.808042021874732,-6.5192573597973947E-3,4.7850270533123289E-2,0.50009999999999999,null,4.7850270533123289E-2,0.5,0.8173288577693969,5.7819537348980619E-2,5.7819537348980619E-2,-0.50009999999999999,3.469172240938837E-3,2.7753377927510699E-2,1.8457837010473128E-3,1.8457837271396514E-3]
[null,0.54099856635014509,1.7528452898618867E-4,3.0962976989787463E-2,-6.2314419257626312E-2,1.9460210899272574,1.2873851485725922,0.66154737748536674,0.44217374028987311,85.225818058250795,5.1407002350332354E-2,-10.808042021870017,-6.5192573597945506E-3,4.785027053250724E-2,0.50009999999999999,null,4.785027053250724E-2,0.5,0.81732885776944808,5.7819537348980619E-2,5.7819537348980619E-2,-0.50009999999999999,3.469172240938837E-3,2.7753377927510699E-2,1.8457837271396514E-3,1.8457837270843449E-3]
[null,0.54099856635018861,1.7528452898618867E-4,3.0962976989787463E-2,-6.2314419257626312E-2,1.9460210899270807,1.2873851485751973,0.66154737748676551,0.4421737402898685,85.225818058251662,5.1407002350332881E-2,-10.80804202187686,-6.5192573597986784E-3,4.7850270532834187E-2,0.50009999999999999,null,4.7850270532834187E-2,0.5,0.81732885776937381,5.7819537348980619E-2,5.7819537348980619E-2,-0.50009999999999999,3.469172240938837E-3,2.7753377927510699E-2,1.8457837270843449E-3,1.8457837271646418E-3]
[null,0.54099856635018329,1.7528452898618867E-4,3.0962976989787463E-2,-6.2314419257626312E-2,1.946021089927102,1.2873851485749606,0.66154737748663661,0.442173740289869,85.225818058251562,5.1407002350332819E-2,-10.808042021876021,-6.5192573597981727E-3,4.785027053280428E-2,0.50009999999999999,null,4.785027053280428E-2,0.5,0.8173288577693828,5.7819537348980619E-2,5.7819537348980619E-2,-0.50009999999999999,3.469172240938837E-3,2.7753377927510699E-2,1.8457837271646418E-3,1.8457837271548094E-3]
[null,0.54099856635018873,1.7528452898618867E-4,3.0962976989787463E-2,-6.2314419257626312E-2,1.9460210899270802,1.2873851485754344,0.66154737748688752,0.44217374028986844,85.225818058251662,5.1407002350332881E-2,-10.808042021876878,-6.5192573597986888E-3,4.7850270532863365E-2,0.50009999999999999,null,4.7850270532863365E-2,0.5,0.8173288577693737,5.7819537348980619E-2,5.7819537348980619E-2,-0.50009999999999999,3.469172240938837E-3,2.7753377927510699E-2,1.8457837271548094E-3,1.8457837271648465E-3]
[null,0.54099856635018873,1.7528452898618867E-4,3.0962976989787463E-2,-6.2314419257626312E-2,1.94602108992708,1.2873851485751973,0.66154737748676573,0.44217374028986844,85.225818058251662,5.1407002350332881E-2,-10.808042021876878,-6.5192573597986888E-3,4.7850270532834228E-2,0.50009999999999999,null,4.7850270532834228E-2,0.5,0.81732885776937358,5.7819537348980619E-2,5.7819537348980619E-2,-0.50009999999999999,3.469172240938837E-3,2.7753377927510699E-2,1.8457837271648465E-3,1.8457837271648465E-3]
[null,0.54099856635018873,1.7528452898618867E-4,3.0962976989787463E-2,-6.2314419257626312E-2,1.94602108992708,1.2873851485751973,0.66154737748676573,0.44217374028986844,85.225818058251662,5.1407002350332881E-2,-10.808042021876878,-6.5192573597986888E-3,4.7850270532834228E-2,0.50009999999999999,null,4.7850270532834228E-2,0.5,0.81732885776937358,5.7819537348980619E-2,5.7819537348980619E-2,-0.50009999999999999,3.469172240938837E-3,2.7753377927510699E-2,1.8457837271648465E-3,1.8457837271648465E-3]
[null,0.54099856635018873,1.7528452898618867E-4,3.0962976989787463E-2,-6.2314419257626312E-2,1.94602108992708,1.2873851485751973,0.66154737748676573,0.44217374028986844,85.225818058251662,5.1407002350332881E-2,-10.808042021876878,-6.5192573597986888E-3,4.7850270532834228E-2,0.50009999999999999,null,4.7850270532834228E-2,0.5,0.81732885776937358,5.7819537348980619E-2,5.7819537348980619E-2,-0.50009999999999999,3.469172240938837E-3,2.7753377927510699E-2,1.8457837271648465E-3,1.8457837271648465E-3]
[null,0.54099856635018873,1.7528452898618867E-4,3.0962976989787463E-2,-6.2314419257626312E-2,1.94602108992708,1.2873851485751973,0.66154737748676573,0.44217374028986844,85.225818058251662,5.1407002350332881E-2,-10.808042021876878,-6.5192573597986888E-3,4.7850270532834228E-2,0.50009999999999999,null,4.7850270532834228E-2,0.5,0.81732885776937358,5.7819537348980619E-2,5.7819537348980619E-2,-0.50009999999999999,3.469172240938837E-3,2.7753377927510699E-2,1.8457837271648465E-3,1.8457837271648465E-3]
[null,0.54099856635018873,1.7528452898618867E-4,3.0962976989787463E-2,-6.2314419257626312E-2,1.94602108992708,1.2873851485751973,0.66154737748676573,0.44217374028986844,85.225818058251662,5.1407002350332881E-2,-10.808042021876878,-6.5192573597986888E-3,4.7850270532834228E-2,0.50009999999999999,null,4.7850270532834228E-2,0.5,0.81732885776937358,5.7819537348980619E-2,5.7819537348980619E-2,-0.50009999999999999,3.469172240938837E-3,2.7753377927510699E-2,1.8457837271648465E-3,1.8457837271648465E-3]
[null,0.54099856635018873,1.7528452898618867E-4,3.0962976989787463E-2,-6.2314419257626312E-2,1.94602108992708,1.2873851485751973,0.66154737748676573,0.44217374028986844,85.225818058251662,5.1407002350332881E-2,-10.808042021876878,-6.5192573597986888E-3,4.7850270532834228E-2,0.50009999999999999,null,4.7850270532834228E-2,0.5,0.81732885776937358,5.7819537348980619E-2,{"$f":"IF(L1243<$O$1006,$Q$1006*C1244*$L$1006*$N$1006,-$L$1006*$O$1006)","v":5.7819537348980619E-2},-0.50009999999999999,3.469172240938837E-3,{"$f":"IF(L1243<$O$1006,($C$1006-$M$1006)*$Q$1006*C1244*$L$1006*$N$1006,0)","v":2.7753377927510699E-2},1.8457837271648465E-3,1.8457837271648465E-3]
[null,0.54099856635018873,1.7528452898618867E-4,3.0962976989787463E-2,-6.2314419257626312E-2,1.94602108992708,1.2873851485751973,0.66154737748676573,0.44217374028986844,85.225818058251662,5.1407002350332881E-2,-10.808042021876878,-6.5192573597986888E-3,4.7850270532834228E-2,0.50009999999999999,null,4.7850270532834228E-2,0.5,0.81732885776937358,5.7819537348980619E-2,5.7819537348980619E-2,-0.50009999999999999,3.469172240938837E-3,2.7753377927510699E-2,1.8457837271648465E-3,1.8457837271648465E-3]
[null,0.54099856635018873,1.7528452898618867E-4,3.0962976989787463E-2,-6.2314419257626312E-2,1.94602108992708,1.2873851485751973,0.66154737748676573,0.44217374028986844,85.225818058251662,5.1407002350332881E-2,-10.808042021876878,-6.5192573597986888E-3,4.7850270532834228E-2,0.50009999999999999,null,4.7850270532834228E-2,0.5,0.81732885776937358,5.7819537348980619E-2,5.7819537348980619E-2,-0.50009999999999999,3.469172240938837E-3,2.7753377927510699E-2,1.8457837271648465E-3,1.8457837271648465E-3]
[null,0.54099856635018873,1.7528452898618867E-4,3.0962976989787463E-2,-6.2314419257626312E-2,1.94602108992708,1.2873851485751973,0.66154737748676573,0.44217374028986844,85.225818058251662,5.1407002350332881E-2,-10.808042021876878,-6.5192573597986888E-3,4.7850270532834228E-2,0.50009999999999999,null,4.7850270532834228E-2,0.5,0.81732885776937358,5.7819537348980619E-2,5.7819537348980619E-2,-0.50009999999999999,3.469172240938837E-3,2.7753377927510699E-2,1.8457837271648465E-3,1.8457837271648465E-3]
[null,0.54099856635018873,1.7528452898618867E-4,3.0962976989787463E-2,-6.2314419257626312E-2,1.94602108992708,1.2873851485751973,0.66154737748676573,0.44217374028986844,85.225818058251662,5.1407002350332881E-2,-10.808042021876878,-6.5192573597986888E-3,4.7850270532834228E-2,0.50009999999999999,null,4.7850270532834228E-2,0.5,0.81732885776937358,5.7819537348980619E-2,5.7819537348980619E-2,-0.50009999999999999,3.469172240938837E-3,2.7753377927510699E-2,1.8457837271648465E-3,1.8457837271648465E-3]
[null,0.54099856635018873,1.7528452898618867E-4,3.0962976989787463E-2,-6.2314419257626312E-2,1.94602108992708,1.2873851485751973,0.66154737748676573,0.44217374028986844,85.225818058251662,5.1407002350332881E-2,-10.808042021876878,-6.5192573597986888E-3,4.7850270532834228E-2,0.50009999999999999,null,4.7850270532834228E-2,0.5,0.81732885776937358,5.7819537348980619E-2,5.7819537348980619E-2,-0.50009999999999999,3.469172240938837E-3,2.7753377927510699E-2,1.8457837271648465E-3,1.8457837271648465E-3]
[null,0.54099856635018873,1.7528452898618867E-4,3.0962976989787463E-2,-6.2314419257626312E-2,1.94602108992708,1.2873851485751973,0.66154737748676573,0.44217374028986844,85.225818058251662,5.1407002350332881E-2,-10.808042021876878,-6.5192573597986888E-3,4.7850270532834228E-2,0.50009999999999999,null,4.7850270532834228E-2,0.5,0.81732885776937358,5.7819537348980619E-2,5.7819537348980619E-2,-0.50009999999999999,3.469172240938837E-3,2.7753377927510699E-2,1.8457837271648465E-3,1.8457837271648465E-3]
[null,0.54099856635018873,1.7528452898618867E-4,3.0962976989787463E-2,-6.2314419257626312E-2,1.94602108992708,1.2873851485751973,0.66154737748676573,0.44217374028986844,85.225818058251662,5.1407002350332881E-2,-10.808042021876878,-6.5192573597986888E-3,4.7850270532834228E-2,0.50009999999999999,null,4.7850270532834228E-2,0.5,0.81732885776937358,5.7819537348980619E-2,5.7819537348980619E-2,-0.50009999999999999,3.469172240938837E-3,2.7753377927510699E-2,1.8457837271648465E-3,1.8457837271648465E-3]
[null,0.54099856635018873,1.7528452898618867E-4,3.0962976989787463E-2,-6.2314419257626312E-2,1.94602108992708,1.2873851485751973,0.66154737748676573,0.44217374028986844,85.225818058251662,5.1407002350332881E-2,-10.808042021876878,-6.5192573597986888E-3,4.7850270532834228E-2,0.50009999999999999,null,4.7850270532834228E-2,0.5,0.81732885776937358,5.7819537348980619E-2,5.7819537348980619E-2,-0.50009999999999999,3.469172240938837E-3,2.7753377927510699E-2,1.8457837271648465E-3,1.8457837271648465E-3]
[null,0.54099856635018873,1.7528452898618867E-4,3.0962976989787463E-2,-6.2314419257626312E-2,1.94602108992708,1.2873851485751973,0.66154737748676573,0.44217374028986844,85.225818058251662,5.1407002350332881E-2,-10.808042021876878,-6.5192573597986888E-3,4.7850270532834228E-2,0.50009999999999999,null,4.7850270532834228E-2,0.5,0.81732885776937358,5.7819537348980619E-2,5.7819537348980619E-2,-0.50009999999999999,3.469172240938837E-3,2.7753377927510699E-2,1.8457837271648465E-3,1.8457837271648465E-3]
[null,0.54099856635018873,1.7528452898618867E-4,3.0962976989787463E-2,-6.2314419257626312E-2,1.94602108992708,1.2873851485751973,0.66154737748676573,0.44217374028986844,85.225818058251662,5.1407002350332881E-2,-10.808042021876878,-6.5192573597986888E-3,4.7850270532834228E-2,0.50009999999999999,null,4.7850270532834228E-2,0.5,0.81732885776937358,5.7819537348980619E-2,5.7819537348980619E-2,-0.50009999999999999,3.469172240938837E-3,2.7753377927510699E-2,1.8457837271648465E-3,1.8457837271648465E-3]
[null,0.54099856635018873,1.7528452898618867E-4,3.0962976989787463E-2,-6.2314419257626312E-2,1.94602108992708,1.2873851485751973,0.66154737748676573,0.44217374028986844,85.225818058251662,5.1407002350332881E-2,-10.808042021876878,-6.5192573597986888E-3,4.7850270532834228E-2,0.50009999999999999,null,4.7850270532834228E-2,0.5,0.81732885776937358,5.7819537348980619E-2,5.7819537348980619E-2,-0.50009999999999999,3.469172240938837E-3,2.7753377927510699E-2,1.8457837271648465E-3,1.8457837271648465E-3]
[null,0.54099856635018873,1.7528452898618867E-4,3.0962976989787463E-2,-6.2314419257626312E-2,1.94602108992708,1.2873851485751973,0.66154737748676573,0.44217374028986844,85.225818058251662,5.1407002350332881E-2,-10.808042021876878,-6.5192573597986888E-3,4.7850270532834228E-2,0.50009999999999999,null,4.7850270532834228E-2,0.5,0.81732885776937358,5.7819537348980619E-2,5.7819537348980619E-2,-0.50009999999999999,3.469172240938837E-3,2.7753377927510699E-2,1.8457837271648465E-3,1.8457837271648465E-3]
[null,0.54099856635018873,1.7528452898618867E-4,3.0962976989787463E-2,-6.2314419257626312E-2,1.94602108992708,1.2873851485751973,0.66154737748676573,0.44217374028986844,85.225818058251662,5.1407002350332881E-2,-10.808042021876878,-6.5192573597986888E-3,4.7850270532834228E-2,0.50009999999999999,null,4.7850270532834228E-2,0.5,0.81732885776937358,5.7819537348980619E-2,5.7819537348980619E-2,-0.50009999999999999,3.469172240938837E-3,2.7753377927510699E-2,1.8457837271648465E-3,1.8457837271648465E-3]
[null,0.54099856635018873,1.7528452898618867E-4,3.0962976989787463E-2,-6.2314419257626312E-2,1.94602108992708,1.2873851485751973,0.66154737748676573,0.44217374028986844,85.225818058251662,5.1407002350332881E-2,-10.808042021876878,-6.5192573597986888E-3,4.7850270532834228E-2,0.50009999999999999,null,4.7850270532834228E-2,0.5,0.81732885776937358,5.7819537348980619E-2,5.7819537348980619E-2,-0.50009999999999999,3.469172240938837E-3,2.7753377927510699E-2,1.8457837271648465E-3,1.8457837271648465E-3]
[null,0.54099856635018873,1.7528452898618867E-4,3.0962976989787463E-2,-6.2314419257626312E-2,1.94602108992708,1.2873851485751973,0.66154737748676573,0.44217374028986844,85.225818058251662,5.1407002350332881E-2,-10.808042021876878,-6.5192573597986888E-3,4.7850270532834228E-2,0.50009999999999999,null,4.7850270532834228E-2,0.5,0.81732885776937358,5.7819537348980619E-2,5.7819537348980619E-2,-0.50009999999999999,3.469172240938837E-3,2.7753377927510699E-2,1.8457837271648465E-3,1.8457837271648465E-3]
[null,0.54099856635018873,1.7528452898618867E-4,3.0962976989787463E-2,-6.2314419257626312E-2,1.94602108992708,1.2873851485751973,0.66154737748676573,0.44217374028986844,85.225818058251662,5.1407002350332881E-2,-10.808042021876878,-6.5192573597986888E-3,4.7850270532834228E-2,0.50009999999999999,null,4.7850270532834228E-2,0.5,0.81732885776937358,5.7819537348980619E-2,5.7819537348980619E-2,-0.50009999999999999,3.469172240938837E-3,2.7753377927510699E-2,1.8457837271648465E-3,1.8457837271648465E-3]
[null,0.54099856635018873,1.7528452898618867E-4,3.0962976989787463E-2,-6.2314419257626312E-2,1.94602108992708,1.2873851485751973,0.66154737748676573,0.44217374028986844,85.225818058251662,5.1407002350332881E-2,-10.808042021876878,-6.5192573597986888E-3,4.7850270532834228E-2,0.50009999999999999,null,4.7850270532834228E-2,0.5,0.81732885776937358,5.7819537348980619E-2,5.7819537348980619E-2,-0.50009999999999999,3.469172240938837E-3,2.7753377927510699E-2,1.8457837271648465E-3,1.8457837271648465E-3]
[null,0.54099856635018873,1.7528452898618867E-4,3.0962976989787463E-2,-6.2314419257626312E-2,1.94602108992708,1.2873851485751973,0.66154737748676573,0.44217374028986844,85.225818058251662,5.1407002350332881E-2,-10.808042021876878,-6.5192573597986888E-3,4.7850270532834228E-2,0.50009999999999999,null,4.7850270532834228E-2,0.5,0.81732885776937358,5.7819537348980619E-2,5.7819537348980619E-2,-0.50009999999999999,3.469172240938837E-3,2.7753377927510699E-2,1.8457837271648465E-3,1.8457837271648465E-3]
[null,0.54099856635018873,1.7528452898618867E-4,3.0962976989787463E-2,-6.2314419257626312E-2,1.94602108992708,1.2873851485751973,0.66154737748676573,0.44217374028986844,85.225818058251662,5.1407002350332881E-2,-10.808042021876878,-6.5192573597986888E-3,4.7850270532834228E-2,0.50009999999999999,null,4.7850270532834228E-2,0.5,0.81732885776937358,5.7819537348980619E-2,5.7819537348980619E-2,-0.50009999999999999,3.469172240938837E-3,2.7753377927510699E-2,1.8457837271648465E-3,1.8457837271648465E-3]
[null,0.54099856635018873,1.7528452898618867E-4,3.0962976989787463E-2,-6.2314419257626312E-2,1.94602108992708,1.2873851485751973,0.66154737748676573,0.44217374028986844,85.225818058251662,5.1407002350332881E-2,-10.808042021876878,-6.5192573597986888E-3,4.7850270532834228E-2,0.50009999999999999,null,4.7850270532834228E-2,0.5,0.81732885776937358,5.7819537348980619E-2,5.7819537348980619E-2,-0.50009999999999999,3.469172240938837E-3,2.7753377927510699E-2,1.8457837271648465E-3,1.8457837271648465E-3]
[null,0.54099856635018873,1.7528452898618867E-4,3.0962976989787463E-2,-6.2314419257626312E-2,1.94602108992708,1.2873851485751973,0.66154737748676573,0.44217374028986844,85.225818058251662,5.1407002350332881E-2,-10.808042021876878,-6.5192573597986888E-3,4.7850270532834228E-2,0.50009999999999999,null,4.7850270532834228E-2,0.5,0.81732885776937358,5.7819537348980619E-2,5.7819537348980619E-2,-0.50009999999999999,3.469172240938837E-3,2.7753377927510699E-2,1.8457837271648465E-3,1.8457837271648465E-3]
[null,0.54099856635018873,1.7528452898618867E-4,3.0962976989787463E-2,-6.2314419257626312E-2,1.94602108992708,1.2873851485751973,0.66154737748676573,0.44217374028986844,85.225818058251662,5.1407002350332881E-2,-10.808042021876878,-6.5192573597986888E-3,4.7850270532834228E-2,0.50009999999999999,null,4.7850270532834228E-2,0.5,0.81732885776937358,5.7819537348980619E-2,5.7819537348980619E-2,-0.50009999999999999,3.469172240938837E-3,2.7753377927510699E-2,1.8457837271648465E-3,1.8457837271648465E-3]
[null,0.54099856635018873,1.7528452898618867E-4,3.0962976989787463E-2,-6.2314419257626312E-2,1.94602108992708,1.2873851485751973,0.66154737748676573,0.44217374028986844,85.225818058251662,5.1407002350332881E-2,-10.808042021876878,-6.5192573597986888E-3,4.7850270532834228E-2,0.50009999999999999,null,4.7850270532834228E-2,0.5,0.81732885776937358,5.7819537348980619E-2,5.7819537348980619E-2,-0.50009999999999999,3.469172240938837E-3,2.7753377927510699E-2,1.8457837271648465E-3,1.8457837271648465E-3]
[null,0.54099856635018873,1.7528452898618867E-4,3.0962976989787463E-2,-6.2314419257626312E-2,1.94602108992708,1.2873851485751973,0.66154737748676573,0.44217374028986844,85.225818058251662,5.1407002350332881E-2,-10.808042021876878,-6.5192573597986888E-3,4.7850270532834228E-2,0.50009999999999999,null,4.7850270532834228E-2,0.5,0.81732885776937358,5.7819537348980619E-2,5.7819537348980619E-2,-0.50009999999999999,3.469172240938837E-3,2.7753377927510699E-2,1.8457837271648465E-3,1.8457837271648465E-3]
[null,0.54099856635018873,1.7528452898618867E-4,3.0962976989787463E-2,-6.2314419257626312E-2,1.94602108992708,1.2873851485751973,0.66154737748676573,0.44217374028986844,85.225818058251662,5.1407002350332881E-2,-10.808042021876878,-6.5192573597986888E-3,4.7850270532834228E-2,0.50009999999999999,null,4.7850270532834228E-2,0.5,0.81732885776937358,5.7819537348980619E-2,5.7819537348980619E-2,-0.50009999999999999,3.469172240938837E-3,2.7753377927510699E-2,1.8457837271648465E-3,1.8457837271648465E-3]
[null,0.54099856635018873,1.7528452898618867E-4,3.0962976989787463E-2,-6.2314419257626312E-2,1.94602108992708,1.2873851485751973,0.66154737748676573,0.44217374028986844,85.225818058251662,5.1407002350332881E-2,-10.808042021876878,-6.5192573597986888E-3,4.7850270532834228E-2,0.50009999999999999,null,4.7850270532834228E-2,0.5,0.81732885776937358,5.7819537348980619E-2,5.7819537348980619E-2,-0.50009999999999999,3.469172240938837E-3,2.7753377927510699E-2,1.8457837271648465E-3,1.8457837271648465E-3]
[null,0.54099856635018873,1.7528452898618867E-4,3.0962976989787463E-2,-6.2314419257626312E-2,1.94602108992708,1.2873851485751973,0.66154737748676573,0.44217374028986844,85.225818058251662,5.1407002350332881E-2,-10.808042021876878,-6.5192573597986888E-3,4.7850270532834228E-2,0.50009999999999999,null,4.7850270532834228E-2,0.5,0.81732885776937358,5.7819537348980619E-2,5.7819537348980619E-2,-0.50009999999999999,3.469172240938837E-3,2.7753377927510699E-2,1.8457837271648465E-3,1.8457837271648465E-3]
[null,0.54099856635018873,1.7528452898618867E-4,3.0962976989787463E-2,-6.2314419257626312E-2,1.94602108992708,1.2873851485751973,0.66154737748676573,0.44217374028986844,85.225818058251662,5.1407002350332881E-2,-10.808042021876878,-6.5192573597986888E-3,4.7850270532834228E-2,0.50009999999999999,null,4.7850270532834228E-2,0.5,0.81732885776937358,5.7819537348980619E-2,5.7819537348980619E-2,-0.50009999999999999,3.469172240938837E-3,2.7753377927510699E-2,1.8457837271648465E-3,1.8457837271648465E-3]
[null,0.54099856635018873,1.7528452898618867E-4,3.0962976989787463E-2,-6.2314419257626312E-2,1.94602108992708,1.2873851485751973,0.66154737748676573,0.44217374028986844,85.225818058251662,5.1407002350332881E-2,-10.808042021876878,-6.5192573597986888E-3,4.7850270532834228E-2,0.50009999999999999,null,4.7850270532834228E-2,0.5,0.81732885776937358,5.7819537348980619E-2,5.7819537348980619E-2,-0.50009999999999999,3.469172240938837E-3,2.7753377927510699E-2,1.8457837271648465E-3,1.8457837271648465E-3]
[null,0.54099856635018873,1.7528452898618867E-4,3.0962976989787463E-2,-6.2314419257626312E-2,1.94602108992708,1.2873851485751973,0.66154737748676573,0.44217374028986844,85.225818058251662,5.1407002350332881E-2,-10.808042021876878,-6.5192573597986888E-3,4.7850270532834228E-2,0.50009999999999999,null,4.7850270532834228E-2,0.5,0.81732885776937358,5.7819537348980619E-2,5.7819537348980619E-2,-0.50009999999999999,3.469172240938837E-3,2.7753377927510699E-2,1.8457837271648465E-3,1.8457837271648465E-3]
[null,0.54099856635018873,1.7528452898618867E-4,3.0962976989787463E-2,-6.2314419257626312E-2,1.94602108992708,1.2873851485751973,0.66154737748676573,0.44217374028986844,85.225818058251662,5.1407002350332881E-2,-10.808042021876878,-6.5192573597986888E-3,4.7850270532834228E-2,0.50009999999999999,null,4.7850270532834228E-2,0.5,0.81732885776937358,5.7819537348980619E-2,5.7819537348980619E-2,-0.50009999999999999,3.469172240938837E-3,2.7753377927510699E-2,1.8457837271648465E-3,1.8457837271648465E-3]
[null,0.54099856635018873,1.7528452898618867E-4,3.0962976989787463E-2,-6.2314419257626312E-2,1.94602108992708,1.2873851485751973,0.66154737748676573,0.44217374028986844,85.225818058251662,5.1407002350332881E-2,-10.808042021876878,-6.5192573597986888E-3,4.7850270532834228E-2,0.50009999999999999,null,4.7850270532834228E-2,0.5,0.81732885776937358,5.7819537348980619E-2,5.7819537348980619E-2,-0.50009999999999999,3.469172240938837E-3,2.7753377927510699E-2,1.8457837271648465E-3,1.8457837271648465E-3]
[null,{"$f":"MIN(0.5*(-(T1277+U1277+V1277)+SQRT((T1277+U1277+V1277)^2+4*S1277*(W1277+X1277)))/S1277,1000*$C$6)","v":0.54099856635018873},1.7528452898618867E-4,{"$f":"IF($C$2=1,C1277/($Z$1006*$Z$5),2^(1/3)*$Z$5/C1277)","v":3.0962976989787463E-2},{"$f":"IF($C$2=1,-($Z$1006-2)*C1277/$Z$5,3*($Z$5/C1277)^2)","v":-6.2314419257626312E-2},{"$f":"IF($C$2=1,0.5*($Z$1006*C1277*$F$1006/$Z$5)*(1-Y1277^2+(D1277-E1277)*(E1277^2*(1-Y1277^2)+2*E1277*(1-Y1277)+2*LN((1-E1277)/(1-E1277*Y1277)))/(E1277^3)),$F$1006*E1277*(LN((1-D1277+D1277^2)/(1+D1277)^2)/(6*D1277)+ATAN((2-D1277)/(D1277*3^0.5))/(D1277*3^0.5)-LN((Y1277^2-D1277*Y1277+D1277^2)/(Y1277+D1277)^2)/(6*D1277)-ATAN((2*Y1277-D1277)/(D1277*3^0.5))/(D1277*3^0.5)))","v":1.94602108992708},{"$f":"IF($C$2=1,($Z$1006*C1277*$F$1006/$Z$5)*(1-Y1277^3-(D1277-E1277)*(-2*E1277^3*(1-Y1277^3)-3*E1277^2*(1-Y1277^2)-6*E1277*(1-Y1277)-6*LN((1-E1277)/(1-E1277*Y1277)))/(2*E1277^4))/3,$F$1006*E1277*(LN((1+D1277^3)/(D1277^3+Y1277^3)))/3)","v":1.2873851485751973},{"$f":"G1277/F1277","v":0.66154737748676573},{"$f":"F1277*B1277*$D$1006","v":0.44217374028986844},{"$f":"MAX(MIN($K$1006,$Q$1006*$J$1006*C1277*(B1277-$I$1006)/B1277),-$K$1006)","v":85.225818058251662},{"$f":"J1277*$H$1006","v":5.1407002350332881E-2},{"$f":"MIN($O$1006,$Q$1006*$N$1006*C1277*(C$1006-B1277-$M$1006)/B1277)","v":-10.808042021876878},{"$f":"L1277*$L$1006","v":-6.5192573597986888E-3},{"$f":"(0.5*$C$1006-B1277+H1277*B1277)*I1277+(0.5*$C$1006-$I$1006)*K1277+(0.5*$C$1006-$M$1006)*M1277","v":4.7850270532834228E-2},{"$f":"I1277+K1277-M1277","v":0.50009999999999999},null,{"$f":"N1277-P1277*O1277","v":4.7850270532834228E-2},{"$f":"R1276","v":0.5},{"$f":"F1277*$D$1006","v":0.81732885776937358},{"$f":"IF(ABS(J1276)<$K$1006,$Q$1006*C1277*$H$1006*$J$1006,IF(J1276>0,1,-1)*$H$1006*$K$1006)","v":5.7819537348980619E-2},5.7819537348980619E-2,{"$f":"-(R1277+0.0001)","v":-0.50009999999999999},{"$f":"IF(ABS(J1276)<$K$1006,$I$1006*$Q$1006*C1277*$H$1006*$J$1006,0)","v":3.469172240938837E-3},2.7753377927510699E-2,{"$f":"IF(B1276<$C$1006,0,(B1276-$C$1006)/B1276)","v":1.8457837271648465E-3},{"$f":"IF(B1277<=$C$1006,0,(B1277-$C$1006)/B1277)","v":1.8457837271648465E-3}]
[null,{"$f":"MIN(0.5*(-(T1278+U1278+V1278)+SQRT((T1278+U1278+V1278)^2+4*S1278*(W1278+X1278)))/S1278,1000*$C$6)","v":0.54099856635018873},1.7528452898618867E-4,{"$f":"IF($C$2=1,C1278/($Z$1006*$Z$5),2^(1/3)*$Z$5/C1278)","v":3.0962976989787463E-2},{"$f":"IF($C$2=1,-($Z$1006-2)*C1278/$Z$5,3*($Z$5/C1278)^2)","v":-6.2314419257626312E-2},{"$f":"IF($C$2=1,0.5*($Z$1006*C1278*$F$1006/$Z$5)*(1-Y1278^2+(D1278-E1278)*(E1278^2*(1-Y1278^2)+2*E1278*(1-Y1278)+2*LN((1-E1278)/(1-E1278*Y1278)))/(E1278^3)),$F$1006*E1278*(LN((1-D1278+D1278^2)/(1+D1278)^2)/(6*D1278)+ATAN((2-D1278)/(D1278*3^0.5))/(D1278*3^0.5)-LN((Y1278^2-D1278*Y1278+D1278^2)/(Y1278+D1278)^2)/(6*D1278)-ATAN((2*Y1278-D1278)/(D1278*3^0.5))/(D1278*3^0.5)))","v":1.94602108992708},{"$f":"IF($C$2=1,($Z$1006*C1278*$F$1006/$Z$5)*(1-Y1278^3-(D1278-E1278)*(-2*E1278^3*(1-Y1278^3)-3*E1278^2*(1-Y1278^2)-6*E1278*(1-Y1278)-6*LN((1-E1278)/(1-E1278*Y1278)))/(2*E1278^4))/3,$F$1006*E1278*(LN((1+D1278^3)/(D1278^3+Y1278^3)))/3)","v":1.2873851485751973},{"$f":"G1278/F1278","v":0.66154737748676573},{"$f":"F1278*B1278*$D$1006","v":0.44217374028986844},{"$f":"MAX(MIN($K$1006,$Q$1006*$J$1006*C1278*(B1278-$I$1006)/B1278),-$K$1006)","v":85.225818058251662},{"$f":"J1278*$H$1006","v":5.1407002350332881E-2},{"$f":"MIN($O$1006,$Q$1006*$N$1006*C1278*(C$1006-B1278-$M$1006)/B1278)","v":-10.808042021876878},{"$f":"L1278*$L$1006","v":-6.5192573597986888E-3},{"$f":"(0.5*$C$1006-B1278+H1278*B1278)*I1278+(0.5*$C$1006-$I$1006)*K1278+(0.5*$C$1006-$M$1006)*M1278","v":4.7850270532834228E-2},{"$f":"I1278+K1278-M1278","v":0.50009999999999999},null,{"$f":"N1278-P1278*O1278","v":4.7850270532834228E-2},{"$f":"R1277","v":0.5},{"$f":"F1278*$D$1006","v":0.81732885776937358},{"$f":"IF(ABS(J1277)<$K$1006,$Q$1006*C1278*$H$1006*$J$1006,IF(J1277>0,1,-1)*$H$1006*$K$1006)","v":5.7819537348980619E-2},5.7819537348980619E-2,{"$f":"-(R1278+0.0001)","v":-0.50009999999999999},{"$f":"IF(ABS(J1277)<$K$1006,$I$1006*$Q$1006*C1278*$H$1006*$J$1006,0)","v":3.469172240938837E-3},2.7753377927510699E-2,{"$f":"IF(B1277<$C$1006,0,(B1277-$C$1006)/B1277)","v":1.8457837271648465E-3},{"$f":"IF(B1278<=$C$1006,0,(B1278-$C$1006)/B1278)","v":1.8457837271648465E-3}]
[null,null,{"$f":"IF(C1206*J1279/(J1279-L1279)<=0,B1278,C1206*J1279/(J1279-L1279))","v":0.50076293359703583},null,null,null,null,null,null,{"$f":"$R1278/($J1209*N1209)+($Q1278-R1208)/($M1209*N1209)","v":2.9242339236278824E-4},null,{"$f":"$R1278/($J1209*$N$1209)-($Q1278-R1208)/($M1209*N1209)","v":-2.2912710374749462E-5},null,null,{"$f":"SIGN(J1279-L1279)","v":1},{"$f":"IF(Q1211=0.0001,ABS(Q1208)*($Q$6*C1278/B1278)/Q1211,IF(B1278>10*$C$6,(L1279-J1279)/$C$6,$Q$6*C1278/B1278))*IF(B1278>10*C1206,O1279*P1208,P1208)","v":8.8592590519493786E-4},null,null,null,null,null,null,null,null,null,null,{"$f":"N1278/($Q$6*C1278/B1278)","v":54.011594256638567}]
[null,{"$f":"IF(AND(B1278<>1000*$C$6,C1280<C1206,B1278<C1206),B1278,IF(AND(B1278<>1000*$C$6,C1280>C1206,B1278>C1206),B1278*C1280/C1279,IF(C1206*J1280/(J1280-L1280)<=0,B1278,C1206*J1280/(J1280-L1280))))","v":0.50070156073728367},{"$f":"IF(C1206*J1280/(J1280-L1280)<=0,B1278,C1206*J1280/(J1280-L1280))","v":0.50070156073728367},null,null,null,null,null,null,{"$f":"$R1278/($J1209*N1209)+($Q1280-R1208)/($M1209*N1209)","v":2.9246533633218801E-4},null,{"$f":"$R1278/($J1209*N1209)-($Q1280-R1208)/($M1209*N1209)","v":-2.2954654344149202E-5},null,null,{"$f":"SIGN(J1280-L1280)","v":1},null,{"$f":"MAX(ABS(INDEX(Snitkræfter!$G$286:$U$286,B1209+1)),0.0000001)","v":4.7863000000000058E-2}]
[null,{"$f":"MIN(0.5*(-(T1281+U1281+V1281)+SQRT((T1281+U1281+V1281)^2+4*S1281*(W1281+X1281)))/S1281,1000*$C$6)","v":0.54099683303502655},{"$f":"MIN(MAX(IF(Q1208=0,0.001*Z1205,IF(OR(AND(B1278<>1000*$C$6,C1280<C1206,B1278<C1206),AND(B1278<>1000*$C$6,C1280>C1206,B1278>C1206)),C1278*J1280/J1279,IF(B1280>C1206,J1280,C1278*MIN(Q1280/Q1211,2)))),0.0001*$Z$5),0.9*K1206/(J1206*Q1206))","v":1.7528452904836094E-4},{"$f":"IF($C$2=1,C1281/($Z$1006*$Z$5),2^(1/3)*$Z$5/C1281)","v":3.0962977000769828E-2},{"$f":"IF($C$2=1,-($Z$1006-2)*C1281/$Z$5,3*($Z$5/C1281)^2)","v":-6.2314419279728833E-2},{"$f":"IF($C$2=1,0.5*($Z$1006*C1281*$F$1006/$Z$5)*(1-Y1281^2+(D1281-E1281)*(E1281^2*(1-Y1281^2)+2*E1281*(1-Y1281)+2*LN((1-E1281)/(1-E1281*Y1281)))/(E1281^3)),$F$1006*E1281*(LN((1-D1281+D1281^2)/(1+D1281)^2)/(6*D1281)+ATAN((2-D1281)/(D1281*3^0.5))/(D1281*3^0.5)-LN((Y1281^2-D1281*Y1281+D1281^2)/(Y1281+D1281)^2)/(6*D1281)-ATAN((2*Y1281-D1281)/(D1281*3^0.5))/(D1281*3^0.5)))","v":1.946028138536634},{"$f":"IF($C$2=1,($Z$1006*C1281*$F$1006/$Z$5)*(1-Y1281^3-(D1281-E1281)*(-2*E1281^3*(1-Y1281^3)-3*E1281^2*(1-Y1281^2)-6*E1281*(1-Y1281)-6*LN((1-E1281)/(1-E1281*Y1281)))/(2*E1281^4))/3,$F$1006*E1281*(LN((1+D1281^3)/(D1281^3+Y1281^3)))/3)","v":1.287385157674471},{"$f":"G1281/F1281","v":0.6615449860054714},{"$f":"F1281*B1281*$D$1006","v":0.44217392517705406},{"$f":"MAX(MIN($K$1006,$Q$1006*$J$1006*C1281*(B1281-$I$1006)/B1281),-$K$1006)","v":85.225784027161794},{"$f":"J1281*$H$1006","v":5.1406981823263066E-2},{"$f":"MIN($O$1006,$Q$1006*$N$1006*C1281*(C$1006-B1281-$M$1006)/B1281)","v":-10.807769535159203},{"$f":"L1281*$L$1006","v":-6.5190929996827626E-3},{"$f":"(0.5*$C$1006-B1281+H1281*B1281)*I1281+(0.5*$C$1006-$I$1006)*K1281+(0.5*$C$1006-$M$1006)*M1281","v":4.7850004125715467E-2},{"$f":"I1281+K1281-M1281","v":0.50009999999999988},null,{"$f":"N1281-P1281*O1281","v":4.7850004125715467E-2},{"$f":"R1278","v":0.5},{"$f":"F1281*$D$1006","v":0.81733181818538625},{"$f":"IF(ABS(J1280)<$K$1006,$Q$1006*C1281*$H$1006*$J$1006,IF(J1280>0,1,-1)*$H$1006*$K$1006)","v":5.7819537369488833E-2},{"$f":"IF(L1278<$O$1006,$Q$1006*C1281*$L$1006*$N$1006,-$L$1006*$O$1006)","v":5.7819537369488833E-2},{"$f":"-(R1281+0.0001)","v":-0.50009999999999999},{"$f":"IF(ABS(J1280)<$K$1006,$I$1006*$Q$1006*C1281*$H$1006*$J$1006,0)","v":3.4691722421693297E-3},{"$f":"IF(L1278<$O$1006,($C$1006-$M$1006)*$Q$1006*C1281*$L$1006*$N$1006,0)","v":2.7753377937354641E-2},{"$f":"IF(B1280<$C$406,0,IF(C1278*J1280/J1279=C1281,Y1278,(B1280-$C$6)/B1280))","v":0},{"$f":"IF(B1281<=$C$1006,0,(B1281-$C$1006)/B1281)","v":1.8425857124416338E-3}]
[null,{"$f":"MIN(0.5*(-(T1282+U1282+V1282)+SQRT((T1282+U1282+V1282)^2+4*S1282*(W1282+X1282)))/S1282,1000*$C$6)","v":0.55147582324665323},{"$f":"0.98*C1281","v":1.7177883846739372E-4},3.0343717460754434E-2,{"$f":"IF($C$2=1,-($Z$1006-2)*C1282/$Z$5,3*($Z$5/C1282)^2)","v":-6.1068130894134244E-2},{"$f":"IF($C$2=1,0.5*($Z$1006*C1282*$F$1006/$Z$5)*(1-Y1282^2+(D1282-E1282)*(E1282^2*(1-Y1282^2)+2*E1282*(1-Y1282)+2*LN((1-E1282)/(1-E1282*Y1282)))/(E1282^3)),$F$1006*E1282*(LN((1-D1282+D1282^2)/(1+D1282)^2)/(6*D1282)+ATAN((2-D1282)/(D1282*3^0.5))/(D1282*3^0.5)-LN((Y1282^2-D1282*Y1282+D1282^2)/(Y1282+D1282)^2)/(6*D1282)-ATAN((2*Y1282-D1282)/(D1282*3^0.5))/(D1282*3^0.5)))","v":1.9094120875965339},{"$f":"IF($C$2=1,($Z$1006*C1282*$F$1006/$Z$5)*(1-Y1282^3-(D1282-E1282)*(-2*E1282^3*(1-Y1282^3)-3*E1282^2*(1-Y1282^2)-6*E1282*(1-Y1282)-6*LN((1-E1282)/(1-E1282*Y1282)))/(2*E1282^4))/3,$F$1006*E1282*(LN((1+D1282^3)/(D1282^3+Y1282^3)))/3)","v":1.2633554927496162},{"$f":"G1282/F1282","v":0.66164632608975504},{"$f":"F1282*B1282*$D$1006","v":0.4422577332282519},{"$f":"MAX(MIN($K$1006,$Q$1006*$J$1006*C1282*(B1282-$I$1006)/B1282),-$K$1006)","v":83.71923820451282},5.0498254791826833E-2,{"$f":"MIN($O$1006,$Q$1006*$N$1006*C1282*(C$1006-B1282-$M$1006)/B1282)","v":-12.175373007610018},-7.3440119799212345E-3,{"$f":"(0.5*$C$1006-B1282+H1282*B1282)*I1282+(0.5*$C$1006-$I$1006)*K1282+(0.5*$C$1006-$M$1006)*M1282","v":4.5949396597680894E-2},{"$f":"I1282+K1282-M1282","v":0.50009999999999999},null,{"$f":"N1282-P1282*O1282","v":4.5949396597680894E-2},{"$f":"R1281","v":0.5},0.80195307679054417,5.6663146622099057E-2,{"$f":"IF(L1281<$O$1006,$Q$1006*C1282*$L$1006*$N$1006,-$L$1006*$O$1006)","v":5.6663146622099057E-2},{"$f":"-(R1282+0.0001)","v":-0.50009999999999999},3.3997887973259431E-3,{"$f":"IF(L1281<$O$1006,($C$1006-$M$1006)*$Q$1006*C1282*$L$1006*$N$1006,0)","v":2.7198310378607548E-2},{"$f":"IF(B1281<$C$1206,0,IF(MIN(ABS($Q$1280-Q1281),ABS(Q1281-Q1280))<=0.001*Q$1280,Y1281,(B1281-$C$1206)/B1281))","v":0},2.0809295281690916E-2]
[null,0.55701302696417643,{"$f":"IF(Z1282>0,0.99*C1282,0.98*C1282)","v":1.7006105008271979E-4},3.004028028614689E-2,-6.0457449585192904E-2,1.8905692362510156,1.2515444909333862,{"$f":"G1283/F1283","v":0.66199347103266604},0.44229011104720234,82.982631166022259,5.0053943893771567E-2,-12.858302025970451,-7.7559450590260837E-3,4.5029163752666822E-2,{"$f":"I1283+K1283-M1283","v":0.50009999999999999},null,{"$f":"N1283-P1283*O1283","v":4.5029163752666822E-2},{"$f":"R1282","v":0.5},0.79403907922542649,5.6096515155878067E-2,5.6096515155878067E-2,{"$f":"-(R1283+0.0001)","v":-0.50009999999999999},3.3657909093526834E-3,2.6926327274821478E-2,{"$f":"IF(B1282<$C$1206,0,IF(MIN(ABS($Q$1280-Q1282),ABS(Q1282-Q1281))<=0.001*Q$1280,Y1282,(B1282-$C$1206)/B1282))","v":2.0809295281690916E-2},3.0543319708159291E-2]
[null,0.5412767883958286,{"$f":"IF(MIN(ABS($Q$1280-Q1283),10*ABS(Q1283-Q1282))<=0.001*Q$1280,C1283,MAX(0.9*C1283,MIN($W$6,1.05*C1283,IF(C1283=$W$6,0.5*(C1283+C1282),C1283+IF(C1283=C1282,0,(C1283-C1282)*(Q1283-Q$1280)/(Q1282-Q1283))))))","v":1.7535094058827175E-4},3.0974708207134747E-2,-6.2338028873601618E-2,1.944793735368656,1.2878004965293404,0.66217844756951783,0.44212211701252263,85.263574893650386,5.1429776736901474E-2,-10.855869559063446,-6.5481062505758957E-3,4.7953898185359528E-2,0.50009999999999999,null,4.7953898185359528E-2,0.5,0.81681336885483546,5.7841443949233698E-2,5.7841443949233698E-2,-0.50009999999999999,3.4704866369540208E-3,2.7763893095632177E-2,3.0543319708159291E-2,2.3588456464437688E-3]
[null,0.54128626925030388,{"$f":"IF(MIN(ABS($Q$1280-Q1284),10*ABS(Q1284-Q1283))<=0.001*Q$1280,C1284,MAX(0.9*C1284,MIN($W$6,1.05*C1284,IF(C1284=$W$6,0.5*(C1284+C1283),C1284+IF(C1284=C1283,0,(C1284-C1283)*(Q1284-Q$1280)/(Q1283-Q1284))))))","v":1.7518653542302661E-4},3.0945667005507143E-2,-6.2279582115895966E-2,1.9449943374022336,1.2867143525520792,0.66155172167268927,0.44217546601427721,85.183819659408186,5.1381669512969193E-2,-10.847179404365523,-6.5428644727536451E-3,4.7798126551448668E-2,0.50009999999999999,null,4.7798126551448668E-2,0.5,0.81689762170893809,5.7787213090142835E-2,5.7787213090142835E-2,-0.50009999999999999,3.4672327854085696E-3,2.7737862283268567E-2,2.3588456464437688E-3,2.3763197468233536E-3]
[null,0.54108601992752603,1.7525500443603843E-4,3.0957761652345973E-2,-6.2303923150484997E-2,1.9457084573077836,1.2871830424627209,0.66154980085955739,0.442174170943678,85.213180778897978,5.1399379723008932E-2,-10.819965335787147,-6.5264493333129833E-3,4.7834688825921873E-2,0.50009999999999999,null,4.7834688825921873E-2,0.5,0.81719755206926914,5.7809798350108341E-2,5.7809798350108341E-2,-0.50009999999999999,3.4685879010065012E-3,2.7748703208052009E-2,2.3763197468233536E-3,2.0071114157993908E-3]
[null,0.54108601992752603,1.7525500443603843E-4,3.0957761652345973E-2,-6.2303923150484997E-2,1.9457084573077836,1.2871830424627209,0.66154980085955739,0.442174170943678,85.213180778897978,5.1399379723008932E-2,-10.819965335787147,-6.5264493333129833E-3,4.7834688825921873E-2,0.50009999999999999,null,4.7834688825921873E-2,0.5,0.81719755206926914,5.7809798350108341E-2,5.7809798350108341E-2,-0.50009999999999999,3.4685879010065012E-3,2.7748703208052009E-2,2.3763197468233536E-3,2.0071114157993908E-3]
[null,0.54108601992752603,1.7525500443603843E-4,3.0957761652345973E-2,-6.2303923150484997E-2,1.9457084573077836,1.2871830424627209,0.66154980085955739,0.442174170943678,85.213180778897978,5.1399379723008932E-2,-10.819965335787147,-6.5264493333129833E-3,4.7834688825921873E-2,0.50009999999999999,null,4.7834688825921873E-2,0.5,0.81719755206926914,5.7809798350108341E-2,5.7809798350108341E-2,-0.50009999999999999,3.4685879010065012E-3,2.7748703208052009E-2,2.3763197468233536E-3,2.0071114157993908E-3]
[null,0.54108601992752603,1.7525500443603843E-4,3.0957761652345973E-2,-6.2303923150484997E-2,1.9457084573077836,1.2871830424627209,0.66154980085955739,0.442174170943678,85.213180778897978,5.1399379723008932E-2,-10.819965335787147,-6.5264493333129833E-3,4.7834688825921873E-2,0.50009999999999999,null,4.7834688825921873E-2,0.5,0.81719755206926914,5.7809798350108341E-2,5.7809798350108341E-2,-0.50009999999999999,3.4685879010065012E-3,2.7748703208052009E-2,2.3763197468233536E-3,2.0071114157993908E-3]
[null,0.54108601992752603,1.7525500443603843E-4,3.0957761652345973E-2,-6.2303923150484997E-2,1.9457084573077836,1.2871830424627209,0.66154980085955739,0.442174170943678,85.213180778897978,5.1399379723008932E-2,-10.819965335787147,-6.5264493333129833E-3,4.7834688825921873E-2,0.50009999999999999,null,4.7834688825921873E-2,0.5,0.81719755206926914,5.7809798350108341E-2,5.7809798350108341E-2,-0.50009999999999999,3.4685879010065012E-3,2.7748703208052009E-2,2.3763197468233536E-3,2.0071114157993908E-3]
[null,0.54108601992752603,1.7525500443603843E-4,3.0957761652345973E-2,-6.2303923150484997E-2,1.9457084573077836,1.2871830424627209,0.66154980085955739,0.442174170943678,85.213180778897978,5.1399379723008932E-2,-10.819965335787147,-6.5264493333129833E-3,4.7834688825921873E-2,0.50009999999999999,null,4.7834688825921873E-2,0.5,0.81719755206926914,5.7809798350108341E-2,5.7809798350108341E-2,-0.50009999999999999,3.4685879010065012E-3,2.7748703208052009E-2,2.3763197468233536E-3,2.0071114157993908E-3]
[null,0.54108601992752603,1.7525500443603843E-4,3.0957761652345973E-2,-6.2303923150484997E-2,1.9457084573077836,1.2871830424627209,0.66154980085955739,0.442174170943678,85.213180778897978,5.1399379723008932E-2,-10.819965335787147,-6.5264493333129833E-3,4.7834688825921873E-2,0.50009999999999999,null,4.7834688825921873E-2,0.5,0.81719755206926914,5.7809798350108341E-2,5.7809798350108341E-2,-0.50009999999999999,3.4685879010065012E-3,2.7748703208052009E-2,2.3763197468233536E-3,2.0071114157993908E-3]
[null,0.54108601992752603,1.7525500443603843E-4,3.0957761652345973E-2,-6.2303923150484997E-2,1.9457084573077836,1.2871830424627209,0.66154980085955739,0.442174170943678,85.213180778897978,5.1399379723008932E-2,-10.819965335787147,-6.5264493333129833E-3,4.7834688825921873E-2,0.50009999999999999,null,4.7834688825921873E-2,0.5,0.81719755206926914,5.7809798350108341E-2,5.7809798350108341E-2,-0.50009999999999999,3.4685879010065012E-3,2.7748703208052009E-2,2.3763197468233536E-3,2.0071114157993908E-3]
[null,0.54108601992752603,1.7525500443603843E-4,3.0957761652345973E-2,-6.2303923150484997E-2,1.9457084573077836,1.2871830424627209,0.66154980085955739,0.442174170943678,85.213180778897978,5.1399379723008932E-2,-10.819965335787147,-6.5264493333129833E-3,4.7834688825921873E-2,0.50009999999999999,null,4.7834688825921873E-2,0.5,0.81719755206926914,5.7809798350108341E-2,5.7809798350108341E-2,-0.50009999999999999,3.4685879010065012E-3,2.7748703208052009E-2,2.3763197468233536E-3,2.0071114157993908E-3]
[null,0.54108601992752603,1.7525500443603843E-4,3.0957761652345973E-2,-6.2303923150484997E-2,1.9457084573077836,1.2871830424627209,0.66154980085955739,0.442174170943678,85.213180778897978,5.1399379723008932E-2,-10.819965335787147,-6.5264493333129833E-3,4.7834688825921873E-2,0.50009999999999999,null,4.7834688825921873E-2,0.5,0.81719755206926914,5.7809798350108341E-2,5.7809798350108341E-2,-0.50009999999999999,3.4685879010065012E-3,2.7748703208052009E-2,2.3763197468233536E-3,2.0071114157993908E-3]
[null,0.54108601992752603,1.7525500443603843E-4,3.0957761652345973E-2,-6.2303923150484997E-2,1.9457084573077836,1.2871830424627209,0.66154980085955739,0.442174170943678,85.213180778897978,5.1399379723008932E-2,-10.819965335787147,-6.5264493333129833E-3,4.7834688825921873E-2,0.50009999999999999,null,4.7834688825921873E-2,0.5,0.81719755206926914,5.7809798350108341E-2,5.7809798350108341E-2,-0.50009999999999999,3.4685879010065012E-3,2.7748703208052009E-2,2.3763197468233536E-3,2.0071114157993908E-3]
[null,0.54108601992752603,1.7525500443603843E-4,3.0957761652345973E-2,-6.2303923150484997E-2,1.9457084573077836,1.2871830424627209,0.66154980085955739,0.442174170943678,85.213180778897978,5.1399379723008932E-2,-10.819965335787147,-6.5264493333129833E-3,4.7834688825921873E-2,0.50009999999999999,null,4.7834688825921873E-2,0.5,0.81719755206926914,5.7809798350108341E-2,5.7809798350108341E-2,-0.50009999999999999,3.4685879010065012E-3,2.7748703208052009E-2,2.3763197468233536E-3,2.0071114157993908E-3]
[null,0.54108601992752603,1.7525500443603843E-4,3.0957761652345973E-2,-6.2303923150484997E-2,1.9457084573077836,1.2871830424627209,0.66154980085955739,0.442174170943678,85.213180778897978,5.1399379723008932E-2,-10.819965335787147,-6.5264493333129833E-3,4.7834688825921873E-2,0.50009999999999999,null,{"$f":"IF(B1298>10*B1206,Q1280,IF(Q1280<0.000001,0,N1298-P1298*O1298))","v":4.7834688825921873E-2},0.5,0.81719755206926914,5.7809798350108341E-2,5.7809798350108341E-2,-0.50009999999999999,3.4685879010065012E-3,2.7748703208052009E-2,2.3763197468233536E-3,2.0071114157993908E-3]
[null,null,null,null,null,null,null,null,null,{"$f":"MAX(J1278,J1298)/K1206","v":0.1859472393998218},null,{"$f":"MAX(L1278,L1298)/O1206","v":-2.3581182593185913E-2},null,null,null,{"$f":"IF(Q1280=0.0001,ABS(INDEX(Snitkræfter!$G$286:$U$286,B1209+1))*($Q$6*C1298/B1298)/Q1280,IF(B1298>10*$C$6,(J1280-L1280)/$C$6,$Q$6*C1298/B1298))*IF(AND(B1298>10*$C$6,O1280=O1279),P1208,P1208)","v":8.8563351717989064E-4},null,null,null,null,null,null,null,null,null,null,{"$f":"(Q1278-Q1298)/(P1279-P1299)","v":53.291195638915866}]
[]
[]
[null,"Tilstand:",{"$f":"C1202","v":1}]
[]
[null,"L","h","b","fck","fcd","Ecd","Ac","ac","Esc","fyd_c","At","at","Est","fyd_t","Modenhed","1+f","uterm","g","EI","sc/fcd","sc","e","   emax",null,{"$f":"Stivheder!$AD$4","v":3.5000000000000001E-3}]
[null,"(m)","(m)","(m)","(Mpa)","(Mpa)","(Mpa)","(m2)","(m)","(Mpa)","(Mpa)","(m2)","(m)","(Mpa)","(Mpa)","(døgn)",null,"(m)",null,"(Mnm2)",null,"(MPa)",null,"e1",null,{"$f":"Stivheder!$AD$5","v":2.0693662482105194E-3}]
[null,{"$f":"Stivheder!$B$6","v":0.54},{"$f":"Stivheder!$C$6","v":0.54},{"$f":"Stivheder!$D$6","v":0.42},{"$f":"Stivheder!$E$6","v":25},{"$f":"Stivheder!$F$6","v":17.857142857142858},{"$f":"IF(C1302=1,1000*22*((E1306+8)/10)^0.3/S1306,1.4*F1306/Z1305)","v":22482.71872144239},{"$f":"IF(P1308<0,Stivheder!$X$6,Stivheder!$T$6)","v":6.0318578948924026E-4},{"$f":"IF(P1308<0,Stivheder!$Y$6,Stivheder!$U$6)","v":0.06},{"$f":"IF(P1308<0,Stivheder!$Z$6,Stivheder!$V$6)","v":200000},{"$f":"IF(P1308<0,Stivheder!$AA$6,Stivheder!$W$6)","v":458.33333333333337},{"$f":"IF(P1308<0,Stivheder!$T$6,Stivheder!$X$6)","v":6.0318578948924026E-4},{"$f":"IF(P1308<0,Stivheder!$U$6,Stivheder!$Y$6)","v":0.06},{"$f":"IF(P1308<0,Stivheder!$V$6,Stivheder!$Z$6)","v":200000},{"$f":"IF(P1308<0,Stivheder!$W$6,Stivheder!$AA$6)","v":458.33333333333337},{"$f":"Stivheder!$P$6","v":28},{"$f":"Stivheder!$Q$6","v":2.7343237157040781},{"$f":"Stivheder!$R$6","v":0},{"$f":"Stivheder!$S$6","v":1.4},{"$f":"AA1379","v":54.011584323554743},{"$f":"U1206","v":0.99999990000000005},{"$f":"U1306*F1306","v":17.857141071428572},{"$f":"Z1304","v":3.5000000000000001E-3},"k",null,{"$f":"Stivheder!$AD$6","v":2.7356687822616226}]
[]
[null,"punkt","elasttisk","e_o","sc_o/fcd","sc_u/fcd","sc_o","sc_u","hc","At","Ac","Ic","Wt","E",null,{"$f":"SIGN(Q1308)","v":1},{"$f":"INDEX(Snitkræfter!$G$199:$U$199,B1309+1)","v":4.7862999983023367E-2},{"$f":"INDEX(Snitkræfter!$G$59:$U$59,B1309+1)*P1308","v":0}]
[null,{"$f":"(ROW()-9)/100","v":13},"skøn",{"$f":"IF(C1302=1,Z1305*0.5*(-((Z1306-2)*E1309-Z1306)-(((Z1306-2)*E1309-Z1306)^2-4*E1309)^0.5),G1309/(1.4*F1306/Z1305))","v":9.7868622979252365E-4},{"$f":"MIN(0.9999,G1309/F1306)","v":0.79391160460739685},{"$f":"H1309/F1306","v":-1.862084687042613E-2},{"$f":"IF(H1309>0,R1311/J1309+MAX(Q1311+Stivheder!$O$2*R1311+R1311*R1306,D1306*C1306^2*0.003*E1306)/M1309,MIN(0.8*F1306,2*(R1311+Q1311/(C1306-M1306-0.333*I1309))/(((R1311+L1306*O1306)/(F1306*D1306*0.5))*D1306)))","v":14.176992939417801},{"$f":"R1311/J1309-(Q1311+Stivheder!$O$2*R1311+R1311*R1306)/M1309","v":-0.33251512268618089},{"$f":"IF(H1309>0,C1306*G1309/(G1309-H1309),(R1311+L1306*O1306)/(F1306*D1306*0.5))","v":0.20705604093757382},{"$f":"K1309+Q1306*(H1306+L1306)*N1306/G1306","v":0.25614351898648502},{"$f":"C1306*D1306","v":0.2268},{"$f":"D1306*C1306^3/12","v":5.5112400000000006E-3},{"$f":"(L1309+((0.5*C1306-I1306)^2*H1306+(0.5*C1306-M1306)^2*L1306)*Q1306)/(0.5*C1306)","v":2.0950773034997532E-2},{"$f":"G1309/D1309","v":14485.738644165096}]
[null,"hc","e0","a'","b'","N'","tN'","t'","Nc","sac","Nac","sat","Nat","Mtot","N",null,"Mo","N","A","B1","B2","B3","C1","C2","gættet x","beregnet x","EIt"]
[null,{"$f":"I1309","v":0.20705604093757382},null,null,null,null,null,null,null,null,null,null,null,null,null,null,{"$f":"MAX(ABS(Q1308),0.0000001)","v":4.7862999983023367E-2},{"$f":"INDEX(Snitkræfter!$G$52:$U$52,B1309+1)","v":0.5}]
[null,{"$f":"MIN(0.5*(-(T1312+U1312+V1312)+SQRT((T1312+U1312+V1312)^2+4*S1312*(W1312+X1312)))/S1312,1000*$C$6)","v":0.20303928526286505},{"$f":"D1309","v":9.7868622979252365E-4},{"$f":"IF($C$2=1,C1312/($Z$1006*$Z$5),2^(1/3)*$Z$5/C1312)","v":0.17287914334798735},{"$f":"IF($C$2=1,-($Z$1006-2)*C1312/$Z$5,3*($Z$5/C1312)^2)","v":-0.3479272494708433},{"$f":"IF($C$2=1,0.5*($Z$1006*C1312*$F$1006/$Z$5)*(1-Y1312^2+(D1312-E1312)*(E1312^2*(1-Y1312^2)+2*E1312*(1-Y1312)+2*LN((1-E1312)/(1-E1312*Y1312)))/(E1312^3)),$F$1006*E1312*(LN((1-D1312+D1312^2)/(1+D1312)^2)/(6*D1312)+ATAN((2-D1312)/(D1312*3^0.5))/(D1312*3^0.5)-LN((Y1312^2-D1312*Y1312+D1312^2)/(Y1312+D1312)^2)/(6*D1312)-ATAN((2*Y1312-D1312)/(D1312*3^0.5))/(D1312*3^0.5)))","v":8.3614331325213289},{"$f":"IF($C$2=1,($Z$1006*C1312*$F$1006/$Z$5)*(1-Y1312^3-(D1312-E1312)*(-2*E1312^3*(1-Y1312^3)-3*E1312^2*(1-Y1312^2)-6*E1312*(1-Y1312)-6*LN((1-E1312)/(1-E1312*Y1312)))/(2*E1312^4))/3,$F$1006*E1312*(LN((1+D1312^3)/(D1312^3+Y1312^3)))/3)","v":5.3431739925771184},{"$f":"G1312/F1312","v":0.63902609850399217},{"$f":"F1312*B1312*$D$1006","v":0.7130337509401552},{"$f":"MAX(MIN($K$1006,$Q$1006*$J$1006*C1312*(B1312-$I$1006)/B1312),-$K$1006)","v":377.04975084913036},{"$f":"J1312*$H$1006","v":0.22743105164265404},{"$f":"MIN($O$1006,$Q$1006*$N$1006*C1312*(C$1006-B1312-$M$1006)/B1312)","v":458.33333333333337},{"$f":"L1312*$L$1006","v":0.27646015351590181},{"$f":"(0.5*$C$1006-B1312+H1312*B1312)*I1312+(0.5*$C$1006-$I$1006)*K1312+(0.5*$C$1006-$M$1006)*M1312","v":0.24607667961791713},{"$f":"I1312+K1312-M1312","v":0.66400464906690748},null,{"$f":"N1312-P1312*O1312","v":0.24607667961791713},{"$f":"R1311","v":0.5},{"$f":"F1312*$D$1006","v":3.5118019156589582},{"$f":"IF(ABS(J1311)<$K$1006,$Q$1006*C1312*$H$1006*$J$1006,IF(J1311>0,1,-1)*$H$1006*$K$1006)","v":0.32283045938914873},{"$f":"IF(L1311<$O$1006,$Q$1006*C1312*$L$1006*$N$1006,-$L$1006*$O$1006)","v":0.32283045938914873},{"$f":"-(R1312+0.0001)","v":-0.50009999999999999},{"$f":"IF(ABS(J1311)<$K$1006,$I$1006*$Q$1006*C1312*$H$1006*$J$1006,0)","v":1.9369827563348926E-2},{"$f":"IF(L1311<$O$1006,($C$1006-$M$1006)*$Q$1006*C1312*$L$1006*$N$1006,0)","v":0.15495862050679143},{"$f":"IF(B1311<$C$1006,0,(B1311-$C$1006)/B1311)","v":0},{"$f":"IF(B1312<=$C$1006,0,(B1312-$C$1006)/B1312)","v":0}]
[null,{"$f":"MIN(0.5*(-(T1313+U1313+V1313)+SQRT((T1313+U1313+V1313)^2+4*S1313*(W1313+X1313)))/S1313,1000*$C$6)","v":0.17055618109695314},{"$f":"0.95*C1312","v":9.2975191830289741E-4},{"$f":"IF($C$2=1,C1313/($Z$1006*$Z$5),2^(1/3)*$Z$5/C1313)","v":0.16423518618058799},{"$f":"IF($C$2=1,-($Z$1006-2)*C1313/$Z$5,3*($Z$5/C1313)^2)","v":-0.33053088699730115},{"$f":"IF($C$2=1,0.5*($Z$1006*C1313*$F$1006/$Z$5)*(1-Y1313^2+(D1313-E1313)*(E1313^2*(1-Y1313^2)+2*E1313*(1-Y1313)+2*LN((1-E1313)/(1-E1313*Y1313)))/(E1313^3)),$F$1006*E1313*(LN((1-D1313+D1313^2)/(1+D1313)^2)/(6*D1313)+ATAN((2-D1313)/(D1313*3^0.5))/(D1313*3^0.5)-LN((Y1313^2-D1313*Y1313+D1313^2)/(Y1313+D1313)^2)/(6*D1313)-ATAN((2*Y1313-D1313)/(D1313*3^0.5))/(D1313*3^0.5)))","v":8.0655086946610393},{"$f":"IF($C$2=1,($Z$1006*C1313*$F$1006/$Z$5)*(1-Y1313^3-(D1313-E1313)*(-2*E1313^3*(1-Y1313^3)-3*E1313^2*(1-Y1313^2)-6*E1313*(1-Y1313)-6*LN((1-E1313)/(1-E1313*Y1313)))/(2*E1313^4))/3,$F$1006*E1313*(LN((1+D1313^3)/(D1313^3+Y1313^3)))/3)","v":5.1649560505869054},{"$f":"G1313/F1313","v":0.64037573401983272},{"$f":"F1313*B1313*$D$1006","v":0.57776139185757647},{"$f":"MAX(MIN($K$1006,$Q$1006*$J$1006*C1313*(B1313-$I$1006)/B1313),-$K$1006)","v":329.58130831739601},{"$f":"J1313*$H$1006","v":0.19879876165832522},{"$f":"MIN($O$1006,$Q$1006*$N$1006*C1313*(C$1006-B1313-$M$1006)/B1313)","v":458.33333333333337},{"$f":"L1313*$L$1006","v":0.27646015351590181},{"$f":"(0.5*$C$1006-B1313+H1313*B1313)*I1313+(0.5*$C$1006-$I$1006)*K1313+(0.5*$C$1006-$M$1006)*M1313","v":0.22036229354125952},{"$f":"I1313+K1313-M1313","v":0.50009999999999988},null,{"$f":"N1313-P1313*O1313","v":0.22036229354125952},{"$f":"R1312","v":0.5},{"$f":"F1313*$D$1006","v":3.3875136517576365},{"$f":"IF(ABS(J1312)<$K$1006,$Q$1006*C1313*$H$1006*$J$1006,IF(J1312>0,1,-1)*$H$1006*$K$1006)","v":0.30668893641969136},-0.27646015351590181,{"$f":"-(R1313+0.0001)","v":-0.50009999999999999},{"$f":"IF(ABS(J1312)<$K$1006,$I$1006*$Q$1006*C1313*$H$1006*$J$1006,0)","v":1.8401336185181479E-2},0,{"$f":"IF(B1312<$C$1006,0,(B1312-$C$1006)/B1312)","v":0},{"$f":"IF(B1313<=$C$1006,0,(B1313-$C$1006)/B1313)","v":0}]
[null,0.18757872243839138,{"$f":"IF(ABS(Q1311-Q1313)<=0.001*$Q$1311,C1313,MAX(0.9*C1313,MIN($W$6,1.05*C1313,IF(C1313=$W$6,0.5*(C1313+C1312),C1313+IF(C1313=C1312,0,(C1313-C1312)*(Q1313-Q$1311)/(Q1312-Q1313))))))","v":8.3677672647260767E-4},0.14781166756252917,-0.29747779829757104,7.4740614325984449,4.8053929577211436,0.64294266257462274,0.58882945588020519,311.23196352928255,0.18773069763569672,458.33333333333337,0.27646015351590181,0.21702637868991953,0.5001000000000001,null,0.21702637868991953,0.5,3.1391058016913469,0.27602004277772213,-0.27646015351590181,-0.50009999999999999,1.6561202566663331E-2,0,0,0]
[null,0.20687989634417139,{"$f":"IF(ABS(Q1312-Q1314)<=0.001*$Q$1311,C1314,MAX(0.9*C1314,MIN($W$6,1.05*C1314,IF(C1314=$W$6,0.5*(C1314+C1313),C1314+IF(C1314=C1313,0,(C1314-C1313)*(Q1314-Q$1311)/(Q1313-Q1314))))))","v":7.5309905382534687E-4},0.13303050080627626,-0.26773001846781391,6.9074946456202397,4.4571141768718636,0.64525771000024412,0.60018914603921036,292.39914227096978,0.1763710074766916,458.33333333333337,0.27646015351590181,0.2130983030808199,0.5001000000000001,null,0.2130983030808199,0.5,2.9011477511605004,0.24841803849994995,-0.27646015351590181,-0.50009999999999999,1.4905082309996995E-2,0,0,0]
[null,0.22867848906482532,6.7778914844281223E-4,0.11972745072564864,-0.24095701662103253,6.3683213537412922,4.122513053348464,0.64734689478673213,0.61164520412218504,273.40655610166431,0.16491494939371665,407.36047115436037,0.24571404739995176,0.20205066895234938,0.53084610611594996,null,0.20205066895234938,0.5,2.6746949685713428,0.22357623464995499,-0.27646015351590181,-0.50009999999999999,1.3414574078997297E-2,0,0,0]
[null,0.23092958888200865,6.1001023359853106E-4,0.10775470565308379,-0.2168613149589293,5.8581798522706157,3.8033239452593715,0.64923304527518266,0.56818736725032215,246.91911484398739,0.14893810122715492,359.79870921900829,0.21702546847747711,0.184238359393678,0.50009999999999999,null,0.184238359393678,0.5,2.4604355379536584,0.20121861118495948,0.20121861118495948,-0.50009999999999999,1.207311667109757E-2,9.6584933368780559E-2,0,0]
[null,0.24082881284926741,5.4900921023867796E-4,9.6979235087775409E-2,-0.19517518346303636,5.3779742687149232,3.500718866994577,0.6509363362631112,0.54397188664077922,225.43364934611009,0.13597837375827396,298.16727040493635,0.1798502603990533,0.16746765016986767,0.50009999999999988,null,0.16746765016986767,0.5,2.2587491928602677,0.18109675006646353,0.18109675006646353,-0.50009999999999999,1.0865805003987813E-2,8.6926440031902516E-2,0,0]
[null,0.25252249417831779,4.9410828921481013E-4,8.7281311578997864E-2,-0.1756576651167327,4.9280024581342952,3.2153969469167722,0.65247470435193278,0.52266121825888046,206.00770970247899,0.12426092301776001,243.411141036603,0.1468221412766402,0.1521782930484894,0.50010000000000032,null,0.1521782930484894,0.5,2.069761032416404,0.16298707505981719,0.16298707505981719,-0.50009999999999999,9.7792245035890311E-3,7.8233796028712263E-2,0,0]
[null,0.26628888272189394,4.4469746029332914E-4,7.8553180421098087E-2,-0.15809189860505946,4.5080706924563509,2.9476659185324663,0.65386417375064421,0.50418862532871689,188.39412800972218,0.11363666083868126,195.17251271301387,0.11772528616739805,0.13824480200238795,0.5001000000000001,null,0.13824480200238795,0.5,1.8933896908316674,0.14668836755383546,0.14668836755383546,-0.50009999999999999,8.8013020532301273E-3,7.0410416425841033E-2,0,0]
[null,0.28244822481387621,4.0022771426399622E-4,7.0697862378988272E-2,-0.14228270874455351,4.1175950625747664,2.6975152353715779,0.65511911549767576,0.48846311468918224,172.37615069228531,0.10397484454444236,153.0837775734299,9.2337959233624561E-2,0.1255290524206879,0.5001000000000001,null,0.1255290524206879,0.5,1.7293899262814019,0.13201953079845191,0.13201953079845191,-0.50009999999999999,7.9211718479071137E-3,6.3369374783256924E-2,0,0]
[null,0.30136399804828867,3.6020494283759661E-4,6.3628076141089451E-2,-0.12805443787009815,3.7556899000758523,2.4646807239475579,0.65625245681167121,0.47536848396090342,157.76501940813736,9.5161617785482641E-2,116.76352953544237,7.0430101746386031E-2,0.11387884074392877,0.50009999999999999,null,0.11387884074392877,0.5,1.5773897580318579,0.11881757771860674,0.11881757771860674,-0.50009999999999999,7.1290546631164031E-3,5.7032437304931245E-2,0,0]
[null,0.32344257512845836,3.2418444855383696E-4,5.7265268526980502E-2,-0.11524899408308835,3.4212438305662434,2.2487009563314557,0.65727585278810063,0.46476188417429265,144.39790067127549,8.7098761716992212E-2,85.812110950283071,5.1760645891284776E-2,0.10312659479966584,0.5001000000000001,null,0.10312659479966584,0.5,1.4369224088378221,0.10693581994674607,0.10693581994674607,-0.50009999999999999,6.4161491968047629E-3,5.1329193574438124E-2,0,0]
[null,0.34913136131552686,2.9176600369845327E-4,5.1538741674282455E-2,-0.10372409467477951,3.1129842932836618,2.0489657307477951,0.65819982939473476,0.45647298650855084,132.13593770786002,7.9702519906216615E-2,59.808283025558303,3.6075506414767311E-2,9.308872846980043E-2,0.5001000000000001,null,9.308872846980043E-2,0.5,1.3074534031791378,9.6242237952071444E-2,9.6242237952071444E-2,-0.50009999999999999,5.7745342771242875E-3,4.6196274216994307E-2,0,0]
[null,0.37891590782270179,2.6258940332860795E-4,4.6384867506854208E-2,-9.3351685207301568E-2,2.8295315081454016,1.8647571973070403,0.65903390435446452,0.45030489005117835,120.86219176763943,7.2902356560763548E-2,38.308672078479134,2.3107246611941853E-2,8.3566081003777284E-2,0.5001000000000001,null,8.3566081003777284E-2,0.5,1.1884032334210686,8.661801415686432E-2,8.661801415686432E-2,-0.50009999999999999,5.1970808494118583E-3,4.157664679529488E-2,0,0]
[null,0.41331696161667197,2.3633046299574716E-4,4.1746380756168794E-2,-8.401651668657141E-2,2.5694429514273165,1.6952842620402351,0.65978669076832808,0.44603762856715129,110.47929382659831,6.6639540069010447E-2,20.851234984848809,1.2577168636161696E-2,7.4345672017362752E-2,0.5001000000000001,null,7.4345672017362752E-2,0.5,1.0791660395994729,7.7956212741177894E-2,7.7956212741177894E-2,-0.50009999999999999,4.6773727644706733E-3,3.7418982115765394E-2,0,0]
[null,0.45288867744086952,2.1269741669617244E-4,3.7571742680551912E-2,-7.5614865017914257E-2,2.331249426414657,1.539710953523473,0.66046598707006232,0.44343451719576221,100.9067433872904,6.0865513674850935E-2,6.9630799395484484,4.2000308706132226E-3,6.5203666048390341E-2,0.50009999999999988,null,6.5203666048390341E-2,0.5,0.97912475909415597,7.0160591467060093E-2,7.0160591467060093E-2,-0.50009999999999999,4.2096354880236057E-3,3.3677083904188852E-2,0,0]
[null,0.49821914026488479,1.914276750265552E-4,3.3814568412496721E-2,-6.8053378516122837E-2,2.113483797543017,1.3971794510132616,0.66107885598059524,0.44225079384177118,92.077937789463377,5.5540103600078619E-2,-3.8281779816224799,-2.309102558150282E-3,5.5909081822099652E-2,0.5001000000000001,null,5.5909081822099652E-2,0.5,0.88766319496806712,6.3144532320354066E-2,6.3144532320354066E-2,-0.50009999999999999,3.788671939221245E-3,3.0309375513769967E-2,0,0]
[null,0.54772702934465933,1.7301500825167465E-4,3.0562079553561702E-2,-6.1507594677143645E-2,1.9223338349492234,1.2718364170699084,0.6616105870620036,0.4422239643466952,84.251250194918171,5.0819156864277223E-2,-11.699345229938379,-7.0568787890275585E-3,4.6626535755007317E-2,0.50009999999999999,null,4.6626535755007317E-2,0.5,0.80738021067867383,5.7070910875027185E-2,5.7070910875027185E-2,-0.50009999999999999,3.4242546525016311E-3,2.7394037220013049E-2,0,1.410744573607127E-2]
[null,0.54056332621889447,1.7546763317214013E-4,3.0995321263005072E-2,-6.2379513599250175E-2,1.9475263120436364,1.2886345313919232,0.66167759758772904,0.44215974647759232,85.306277214117372,5.1455534169785377E-2,-10.750782703474014,-6.4847193526222421E-3,4.7962757510013949E-2,0.50009999999999999,null,4.7962757510013949E-2,0.5,0.81796105105832728,5.7879936286522965E-2,5.7879936286522965E-2,-0.50009999999999999,3.4727961771913772E-3,2.7782369417531025E-2,1.410744573607127E-2,1.04210957638351E-3]
[null,0.54099738569830425,1.7528452898618867E-4,3.0962976989787463E-2,-6.2314419257626312E-2,1.9460258911609298,1.2873851556866915,0.66154574897186147,0.44217386624009586,85.22579485732426,5.1406988355863166E-2,-10.807856414457611,-6.5191454040409635E-3,4.7850089174785254E-2,0.50009999999999999,null,4.7850089174785254E-2,0.5,0.81733087428759055,5.7819537348980619E-2,5.7819537348980619E-2,-0.50009999999999999,3.469172240938837E-3,2.7753377927510699E-2,1.04210957638351E-3,1.8436053937983675E-3]
[null,0.54093724134350185,1.753055111283994E-4,3.0966683361309384E-2,-6.2321878501258386E-2,1.9462399882388293,1.287528769014757,0.66154676545303837,0.44217334989673518,85.2348144999619,5.1412428876128465E-2,-10.799692798884484,-6.5142212271364006E-3,4.7861464953045295E-2,0.50009999999999999,null,4.7861464953045295E-2,0.5,0.81742079506030829,5.7826458540270194E-2,5.7826458540270194E-2,-0.50009999999999999,3.4695875124162111E-3,2.7756700099329693E-2,1.8436053937983675E-3,1.7326249181402835E-3]
[null,0.54092876617830288,1.753083424263169E-4,3.0967183493367686E-2,-6.2322885040092681E-2,1.9462703446767144,1.2875481502180852,0.66154640527698816,0.44217331880206606,85.236024489938671,5.1413158724887872E-2,-10.798534359639779,-6.5135224730460076E-3,4.7862944459274109E-2,0.50009999999999999,null,4.7862944459274109E-2,0.5,0.81743354476422003,5.7827392475151E-2,5.7827392475151E-2,-0.50009999999999999,3.4696435485090599E-3,2.7757148388072479E-2,1.7326249181402835E-3,1.7169842618366112E-3]
[null,0.54092873873657843,1.753083424263169E-4,3.0967183493367686E-2,-6.2322885040092681E-2,1.9462704563029687,1.287548150407573,0.66154636743206319,0.44217332173065649,85.236023950471505,5.1413158399488949E-2,-10.798530043902373,-6.5135198698545328E-3,4.7862940247050824E-2,0.50009999999999999,null,4.7862940247050824E-2,0.5,0.81743359164724683,5.7827392475151E-2,5.7827392475151E-2,-0.50009999999999999,3.4696435485090599E-3,2.7757148388072479E-2,1.7169842618366112E-3,1.7169336181834319E-3]
[null,0.54092873864812718,1.753083424263169E-4,3.0967183493367686E-2,-6.2322885040092681E-2,1.9462704566627669,1.2875481504084274,0.66154636731020511,0.44217332174009605,85.236023948732665,5.1413158398440101E-2,-10.798530029991717,-6.5135198614638236E-3,4.7862940233503772E-2,0.50009999999999999,null,4.7862940233503772E-2,0.5,0.81743359179836206,5.7827392475151E-2,5.7827392475151E-2,-0.50009999999999999,3.4696435485090599E-3,2.7757148388072479E-2,1.7169336181834319E-3,1.7169334549468074E-3]
[null,0.54092873864793722,1.753083424263169E-4,3.0967183493367686E-2,-6.2322885040092681E-2,1.9462704566635394,1.2875481504145854,0.66154636731310656,0.44217332174011631,85.236023948728942,5.141315839843786E-2,-10.798530029961842,-6.5135198614458033E-3,4.7862940234231266E-2,0.50009999999999999,null,4.7862940234231266E-2,0.5,0.81743359179868647,5.7827392475151E-2,5.7827392475151E-2,-0.50009999999999999,3.4696435485090599E-3,2.7757148388072479E-2,1.7169334549468074E-3,1.716933454596238E-3]
[null,0.54092873864789304,1.753083424263169E-4,3.0967183493367686E-2,-6.2322885040092681E-2,1.946270456663719,1.2875481504115074,0.66154636731146399,0.44217332174012097,85.236023948728075,5.1413158398437332E-2,-10.798530029954891,-6.5135198614416105E-3,4.7862940233846164E-2,0.50009999999999999,null,4.7862940233846164E-2,0.5,0.81743359179876196,5.7827392475151E-2,5.7827392475151E-2,-0.50009999999999999,3.4696435485090599E-3,2.7757148388072479E-2,1.716933454596238E-3,1.7169334545146912E-3]
[null,0.5409287386478685,1.753083424263169E-4,3.0967183493367686E-2,-6.2322885040092681E-2,1.9462704566638191,1.287548150410087,0.66154636731070016,0.44217332174012364,85.236023948727592,5.1413158398437041E-2,-10.798530029951033,-6.5135198614392834E-3,4.7862940233667793E-2,0.50009999999999999,null,4.7862940233667793E-2,0.5,0.81743359179880404,5.7827392475151E-2,5.7827392475151E-2,-0.50009999999999999,3.4696435485090599E-3,2.7757148388072479E-2,1.7169334545146912E-3,1.7169334544694102E-3]
[null,0.54092873864790914,1.753083424263169E-4,3.0967183493367686E-2,-6.2322885040092681E-2,1.9462704566636535,1.2875481504126911,0.66154636731209449,0.44217332174011925,85.236023948728388,5.141315839843752E-2,-10.798530029957425,-6.5135198614431388E-3,4.7862940233994143E-2,0.50009999999999988,null,4.7862940233994143E-2,0.5,0.81743359179873443,5.7827392475151E-2,5.7827392475151E-2,-0.50009999999999999,3.4696435485090599E-3,2.7757148388072479E-2,1.7169334544694102E-3,1.7169334545444005E-3]
[null,0.54092873864777336,1.753083424263169E-4,3.0967183493367686E-2,-6.2322885040092681E-2,1.9462704566642062,1.287548150403931,0.66154636730740557,0.4421733217401338,85.236023948725716,5.141315839843591E-2,-10.798530029936071,-6.5135198614302585E-3,4.7862940232896563E-2,0.50009999999999999,null,4.7862940232896563E-2,0.5,0.81743359179896657,5.7827392475151E-2,5.7827392475151E-2,-0.50009999999999999,3.4696435485090599E-3,2.7757148388072479E-2,1.7169334545444005E-3,1.7169334542938182E-3]
[null,0.54092873864788171,1.753083424263169E-4,3.0967183493367686E-2,-6.2322885040092681E-2,1.9462704566637654,1.2875481504107971,0.66154636731108318,0.44217332174012225,85.236023948727848,5.14131583984372E-2,-10.798530029953112,-6.5135198614405367E-3,4.7862940233757083E-2,0.50009999999999999,null,4.7862940233757083E-2,0.5,0.81743359179878139,5.7827392475151E-2,5.7827392475151E-2,-0.50009999999999999,3.4696435485090599E-3,2.7757148388072479E-2,1.7169334542938182E-3,1.7169334544937923E-3]
[null,0.54092873864784663,1.753083424263169E-4,3.0967183493367686E-2,-6.2322885040092681E-2,1.946270456663908,1.2875481504086663,0.66154636730993999,0.44217332174012597,85.236023948727151,5.1413158398436777E-2,-10.798530029947594,-6.5135198614372086E-3,4.7862940233489824E-2,0.50009999999999999,null,4.7862940233489824E-2,0.5,0.81743359179884134,5.7827392475151E-2,5.7827392475151E-2,-0.50009999999999999,3.4696435485090599E-3,2.7757148388072479E-2,1.7169334544937923E-3,1.7169334544290466E-3]
[null,0.5409287386479037,1.753083424263169E-4,3.0967183493367686E-2,-6.2322885040092681E-2,1.9462704566636759,1.2875481504124544,0.66154636731196526,0.44217332174011992,85.236023948728274,5.1413158398437457E-2,-10.798530029956568,-6.5135198614426218E-3,4.7862940233964188E-2,0.50009999999999999,null,4.7862940233964188E-2,0.5,0.81743359179874386,5.7827392475151E-2,5.7827392475151E-2,-0.50009999999999999,3.4696435485090599E-3,2.7757148388072479E-2,1.7169334544290466E-3,1.7169334545343608E-3]
[null,0.54092873864785485,1.753083424263169E-4,3.0967183493367686E-2,-6.2322885040092681E-2,1.9462704566638747,1.2875481504093764,0.66154636731031613,0.44217332174012514,85.236023948727322,5.1413158398436881E-2,-10.798530029948886,-6.5135198614379875E-3,4.7862940233578372E-2,0.50009999999999999,null,4.7862940233578372E-2,0.5,0.81743359179882735,5.7827392475151E-2,{"$f":"IF(L1343<$O$1006,$Q$1006*C1344*$L$1006*$N$1006,-$L$1006*$O$1006)","v":5.7827392475151E-2},-0.50009999999999999,3.4696435485090599E-3,{"$f":"IF(L1343<$O$1006,($C$1006-$M$1006)*$Q$1006*C1344*$L$1006*$N$1006,0)","v":2.7757148388072479E-2},1.7169334545343608E-3,1.7169334544442085E-3]
[null,0.54092873864786839,1.753083424263169E-4,3.0967183493367686E-2,-6.2322885040092681E-2,1.9462704566638198,1.287548150410087,0.66154636731069993,0.44217332174012375,85.236023948727578,5.1413158398437034E-2,-10.798530029951017,-6.5135198614392738E-3,4.7862940233667779E-2,0.50009999999999999,null,4.7862940233667779E-2,0.5,0.81743359179880426,5.7827392475151E-2,5.7827392475151E-2,-0.50009999999999999,3.4696435485090599E-3,2.7757148388072479E-2,1.7169334544442085E-3,1.7169334544692052E-3]
[null,0.5409287386479037,1.753083424263169E-4,3.0967183493367686E-2,-6.2322885040092681E-2,1.9462704566636757,1.2875481504124544,0.66154636731196526,0.44217332174011981,85.236023948728274,5.1413158398437457E-2,-10.798530029956568,-6.5135198614426218E-3,4.7862940233964188E-2,0.50009999999999988,null,4.7862940233964188E-2,0.5,0.81743359179874375,5.7827392475151E-2,5.7827392475151E-2,-0.50009999999999999,3.4696435485090599E-3,2.7757148388072479E-2,1.7169334544692052E-3,1.7169334545343608E-3]
[null,0.54092873864785485,1.753083424263169E-4,3.0967183493367686E-2,-6.2322885040092681E-2,1.9462704566638747,1.2875481504093764,0.66154636731031613,0.44217332174012514,85.236023948727322,5.1413158398436881E-2,-10.798530029948886,-6.5135198614379875E-3,4.7862940233578372E-2,0.50009999999999999,null,4.7862940233578372E-2,0.5,0.81743359179882735,5.7827392475151E-2,5.7827392475151E-2,-0.50009999999999999,3.4696435485090599E-3,2.7757148388072479E-2,1.7169334545343608E-3,1.7169334544442085E-3]
[null,0.54092873864786839,1.753083424263169E-4,3.0967183493367686E-2,-6.2322885040092681E-2,1.9462704566638198,1.287548150410087,0.66154636731069993,0.44217332174012375,85.236023948727578,5.1413158398437034E-2,-10.798530029951017,-6.5135198614392738E-3,4.7862940233667779E-2,0.50009999999999999,null,4.7862940233667779E-2,0.5,0.81743359179880426,5.7827392475151E-2,5.7827392475151E-2,-0.50009999999999999,3.4696435485090599E-3,2.7757148388072479E-2,1.7169334544442085E-3,1.7169334544692052E-3]
[null,0.5409287386479037,1.753083424263169E-4,3.0967183493367686E-2,-6.2322885040092681E-2,1.9462704566636757,1.2875481504124544,0.66154636731196526,0.44217332174011981,85.236023948728274,5.1413158398437457E-2,-10.798530029956568,-6.5135198614426218E-3,4.7862940233964188E-2,0.50009999999999988,null,4.7862940233964188E-2,0.5,0.81743359179874375,5.7827392475151E-2,5.7827392475151E-2,-0.50009999999999999,3.4696435485090599E-3,2.7757148388072479E-2,1.7169334544692052E-3,1.7169334545343608E-3]
[null,0.54092873864785485,1.753083424263169E-4,3.0967183493367686E-2,-6.2322885040092681E-2,1.9462704566638747,1.2875481504093764,0.66154636731031613,0.44217332174012514,85.236023948727322,5.1413158398436881E-2,-10.798530029948886,-6.5135198614379875E-3,4.7862940233578372E-2,0.50009999999999999,null,4.7862940233578372E-2,0.5,0.81743359179882735,5.7827392475151E-2,5.7827392475151E-2,-0.50009999999999999,3.4696435485090599E-3,2.7757148388072479E-2,1.7169334545343608E-3,1.7169334544442085E-3]
[null,0.54092873864786839,1.753083424263169E-4,3.0967183493367686E-2,-6.2322885040092681E-2,1.9462704566638198,1.287548150410087,0.66154636731069993,0.44217332174012375,85.236023948727578,5.1413158398437034E-2,-10.798530029951017,-6.5135198614392738E-3,4.7862940233667779E-2,0.50009999999999999,null,4.7862940233667779E-2,0.5,0.81743359179880426,5.7827392475151E-2,5.7827392475151E-2,-0.50009999999999999,3.4696435485090599E-3,2.7757148388072479E-2,1.7169334544442085E-3,1.7169334544692052E-3]
[null,0.5409287386479037,1.753083424263169E-4,3.0967183493367686E-2,-6.2322885040092681E-2,1.9462704566636757,1.2875481504124544,0.66154636731196526,0.44217332174011981,85.236023948728274,5.1413158398437457E-2,-10.798530029956568,-6.5135198614426218E-3,4.7862940233964188E-2,0.50009999999999988,null,4.7862940233964188E-2,0.5,0.81743359179874375,5.7827392475151E-2,5.7827392475151E-2,-0.50009999999999999,3.4696435485090599E-3,2.7757148388072479E-2,1.7169334544692052E-3,1.7169334545343608E-3]
[null,0.54092873864785485,1.753083424263169E-4,3.0967183493367686E-2,-6.2322885040092681E-2,1.9462704566638747,1.2875481504093764,0.66154636731031613,0.44217332174012514,85.236023948727322,5.1413158398436881E-2,-10.798530029948886,-6.5135198614379875E-3,4.7862940233578372E-2,0.50009999999999999,null,4.7862940233578372E-2,0.5,0.81743359179882735,5.7827392475151E-2,5.7827392475151E-2,-0.50009999999999999,3.4696435485090599E-3,2.7757148388072479E-2,1.7169334545343608E-3,1.7169334544442085E-3]
[null,0.54092873864786839,1.753083424263169E-4,3.0967183493367686E-2,-6.2322885040092681E-2,1.9462704566638198,1.287548150410087,0.66154636731069993,0.44217332174012375,85.236023948727578,5.1413158398437034E-2,-10.798530029951017,-6.5135198614392738E-3,4.7862940233667779E-2,0.50009999999999999,null,4.7862940233667779E-2,0.5,0.81743359179880426,5.7827392475151E-2,5.7827392475151E-2,-0.50009999999999999,3.4696435485090599E-3,2.7757148388072479E-2,1.7169334544442085E-3,1.7169334544692052E-3]
[null,0.5409287386479037,1.753083424263169E-4,3.0967183493367686E-2,-6.2322885040092681E-2,1.9462704566636757,1.2875481504124544,0.66154636731196526,0.44217332174011981,85.236023948728274,5.1413158398437457E-2,-10.798530029956568,-6.5135198614426218E-3,4.7862940233964188E-2,0.50009999999999988,null,4.7862940233964188E-2,0.5,0.81743359179874375,5.7827392475151E-2,5.7827392475151E-2,-0.50009999999999999,3.4696435485090599E-3,2.7757148388072479E-2,1.7169334544692052E-3,1.7169334545343608E-3]
[null,0.54092873864785485,1.753083424263169E-4,3.0967183493367686E-2,-6.2322885040092681E-2,1.9462704566638747,1.2875481504093764,0.66154636731031613,0.44217332174012514,85.236023948727322,5.1413158398436881E-2,-10.798530029948886,-6.5135198614379875E-3,4.7862940233578372E-2,0.50009999999999999,null,4.7862940233578372E-2,0.5,0.81743359179882735,5.7827392475151E-2,5.7827392475151E-2,-0.50009999999999999,3.4696435485090599E-3,2.7757148388072479E-2,1.7169334545343608E-3,1.7169334544442085E-3]
[null,0.54092873864786839,1.753083424263169E-4,3.0967183493367686E-2,-6.2322885040092681E-2,1.9462704566638198,1.287548150410087,0.66154636731069993,0.44217332174012375,85.236023948727578,5.1413158398437034E-2,-10.798530029951017,-6.5135198614392738E-3,4.7862940233667779E-2,0.50009999999999999,null,4.7862940233667779E-2,0.5,0.81743359179880426,5.7827392475151E-2,5.7827392475151E-2,-0.50009999999999999,3.4696435485090599E-3,2.7757148388072479E-2,1.7169334544442085E-3,1.7169334544692052E-3]
[null,0.5409287386479037,1.753083424263169E-4,3.0967183493367686E-2,-6.2322885040092681E-2,1.9462704566636757,1.2875481504124544,0.66154636731196526,0.44217332174011981,85.236023948728274,5.1413158398437457E-2,-10.798530029956568,-6.5135198614426218E-3,4.7862940233964188E-2,0.50009999999999988,null,4.7862940233964188E-2,0.5,0.81743359179874375,5.7827392475151E-2,5.7827392475151E-2,-0.50009999999999999,3.4696435485090599E-3,2.7757148388072479E-2,1.7169334544692052E-3,1.7169334545343608E-3]
[null,0.54092873864785485,1.753083424263169E-4,3.0967183493367686E-2,-6.2322885040092681E-2,1.9462704566638747,1.2875481504093764,0.66154636731031613,0.44217332174012514,85.236023948727322,5.1413158398436881E-2,-10.798530029948886,-6.5135198614379875E-3,4.7862940233578372E-2,0.50009999999999999,null,4.7862940233578372E-2,0.5,0.81743359179882735,5.7827392475151E-2,5.7827392475151E-2,-0.50009999999999999,3.4696435485090599E-3,2.7757148388072479E-2,1.7169334545343608E-3,1.7169334544442085E-3]
[null,0.54092873864786839,1.753083424263169E-4,3.0967183493367686E-2,-6.2322885040092681E-2,1.9462704566638198,1.287548150410087,0.66154636731069993,0.44217332174012375,85.236023948727578,5.1413158398437034E-2,-10.798530029951017,-6.5135198614392738E-3,4.7862940233667779E-2,0.50009999999999999,null,4.7862940233667779E-2,0.5,0.81743359179880426,5.7827392475151E-2,5.7827392475151E-2,-0.50009999999999999,3.4696435485090599E-3,2.7757148388072479E-2,1.7169334544442085E-3,1.7169334544692052E-3]
[null,0.5409287386479037,1.753083424263169E-4,3.0967183493367686E-2,-6.2322885040092681E-2,1.9462704566636757,1.2875481504124544,0.66154636731196526,0.44217332174011981,85.236023948728274,5.1413158398437457E-2,-10.798530029956568,-6.5135198614426218E-3,4.7862940233964188E-2,0.50009999999999988,null,4.7862940233964188E-2,0.5,0.81743359179874375,5.7827392475151E-2,5.7827392475151E-2,-0.50009999999999999,3.4696435485090599E-3,2.7757148388072479E-2,1.7169334544692052E-3,1.7169334545343608E-3]
[null,0.54092873864785485,1.753083424263169E-4,3.0967183493367686E-2,-6.2322885040092681E-2,1.9462704566638747,1.2875481504093764,0.66154636731031613,0.44217332174012514,85.236023948727322,5.1413158398436881E-2,-10.798530029948886,-6.5135198614379875E-3,4.7862940233578372E-2,0.50009999999999999,null,4.7862940233578372E-2,0.5,0.81743359179882735,5.7827392475151E-2,5.7827392475151E-2,-0.50009999999999999,3.4696435485090599E-3,2.7757148388072479E-2,1.7169334545343608E-3,1.7169334544442085E-3]
[null,0.54092873864786839,1.753083424263169E-4,3.0967183493367686E-2,-6.2322885040092681E-2,1.9462704566638198,1.287548150410087,0.66154636731069993,0.44217332174012375,85.236023948727578,5.1413158398437034E-2,-10.798530029951017,-6.5135198614392738E-3,4.7862940233667779E-2,0.50009999999999999,null,4.7862940233667779E-2,0.5,0.81743359179880426,5.7827392475151E-2,5.7827392475151E-2,-0.50009999999999999,3.4696435485090599E-3,2.7757148388072479E-2,1.7169334544442085E-3,1.7169334544692052E-3]
[null,0.5409287386479037,1.753083424263169E-4,3.0967183493367686E-2,-6.2322885040092681E-2,1.9462704566636757,1.2875481504124544,0.66154636731196526,0.44217332174011981,85.236023948728274,5.1413158398437457E-2,-10.798530029956568,-6.5135198614426218E-3,4.7862940233964188E-2,0.50009999999999988,null,4.7862940233964188E-2,0.5,0.81743359179874375,5.7827392475151E-2,5.7827392475151E-2,-0.50009999999999999,3.4696435485090599E-3,2.7757148388072479E-2,1.7169334544692052E-3,1.7169334545343608E-3]
[null,0.54092873864785485,1.753083424263169E-4,3.0967183493367686E-2,-6.2322885040092681E-2,1.9462704566638747,1.2875481504093764,0.66154636731031613,0.44217332174012514,85.236023948727322,5.1413158398436881E-2,-10.798530029948886,-6.5135198614379875E-3,4.7862940233578372E-2,0.50009999999999999,null,4.7862940233578372E-2,0.5,0.81743359179882735,5.7827392475151E-2,5.7827392475151E-2,-0.50009999999999999,3.4696435485090599E-3,2.7757148388072479E-2,1.7169334545343608E-3,1.7169334544442085E-3]
[null,0.54092873864786839,1.753083424263169E-4,3.0967183493367686E-2,-6.2322885040092681E-2,1.9462704566638198,1.287548150410087,0.66154636731069993,0.44217332174012375,85.236023948727578,5.1413158398437034E-2,-10.798530029951017,-6.5135198614392738E-3,4.7862940233667779E-2,0.50009999999999999,null,4.7862940233667779E-2,0.5,0.81743359179880426,5.7827392475151E-2,5.7827392475151E-2,-0.50009999999999999,3.4696435485090599E-3,2.7757148388072479E-2,1.7169334544442085E-3,1.7169334544692052E-3]
[null,0.5409287386479037,1.753083424263169E-4,3.0967183493367686E-2,-6.2322885040092681E-2,1.9462704566636757,1.2875481504124544,0.66154636731196526,0.44217332174011981,85.236023948728274,5.1413158398437457E-2,-10.798530029956568,-6.5135198614426218E-3,4.7862940233964188E-2,0.50009999999999988,null,4.7862940233964188E-2,0.5,0.81743359179874375,5.7827392475151E-2,5.7827392475151E-2,-0.50009999999999999,3.4696435485090599E-3,2.7757148388072479E-2,1.7169334544692052E-3,1.7169334545343608E-3]
[null,0.54092873864785485,1.753083424263169E-4,3.0967183493367686E-2,-6.2322885040092681E-2,1.9462704566638747,1.2875481504093764,0.66154636731031613,0.44217332174012514,85.236023948727322,5.1413158398436881E-2,-10.798530029948886,-6.5135198614379875E-3,4.7862940233578372E-2,0.50009999999999999,null,4.7862940233578372E-2,0.5,0.81743359179882735,5.7827392475151E-2,5.7827392475151E-2,-0.50009999999999999,3.4696435485090599E-3,2.7757148388072479E-2,1.7169334545343608E-3,1.7169334544442085E-3]
[null,0.54092873864786839,1.753083424263169E-4,3.0967183493367686E-2,-6.2322885040092681E-2,1.9462704566638198,1.287548150410087,0.66154636731069993,0.44217332174012375,85.236023948727578,5.1413158398437034E-2,-10.798530029951017,-6.5135198614392738E-3,4.7862940233667779E-2,0.50009999999999999,null,4.7862940233667779E-2,0.5,0.81743359179880426,5.7827392475151E-2,5.7827392475151E-2,-0.50009999999999999,3.4696435485090599E-3,2.7757148388072479E-2,1.7169334544442085E-3,1.7169334544692052E-3]
[null,0.5409287386479037,1.753083424263169E-4,3.0967183493367686E-2,-6.2322885040092681E-2,1.9462704566636757,1.2875481504124544,0.66154636731196526,0.44217332174011981,85.236023948728274,5.1413158398437457E-2,-10.798530029956568,-6.5135198614426218E-3,4.7862940233964188E-2,0.50009999999999988,null,4.7862940233964188E-2,0.5,0.81743359179874375,5.7827392475151E-2,5.7827392475151E-2,-0.50009999999999999,3.4696435485090599E-3,2.7757148388072479E-2,1.7169334544692052E-3,1.7169334545343608E-3]
[null,0.54092873864785485,1.753083424263169E-4,3.0967183493367686E-2,-6.2322885040092681E-2,1.9462704566638747,1.2875481504093764,0.66154636731031613,0.44217332174012514,85.236023948727322,5.1413158398436881E-2,-10.798530029948886,-6.5135198614379875E-3,4.7862940233578372E-2,0.50009999999999999,null,4.7862940233578372E-2,0.5,0.81743359179882735,5.7827392475151E-2,5.7827392475151E-2,-0.50009999999999999,3.4696435485090599E-3,2.7757148388072479E-2,1.7169334545343608E-3,1.7169334544442085E-3]
[null,0.54092873864786839,1.753083424263169E-4,3.0967183493367686E-2,-6.2322885040092681E-2,1.9462704566638198,1.287548150410087,0.66154636731069993,0.44217332174012375,85.236023948727578,5.1413158398437034E-2,-10.798530029951017,-6.5135198614392738E-3,4.7862940233667779E-2,0.50009999999999999,null,4.7862940233667779E-2,0.5,0.81743359179880426,5.7827392475151E-2,5.7827392475151E-2,-0.50009999999999999,3.4696435485090599E-3,2.7757148388072479E-2,1.7169334544442085E-3,1.7169334544692052E-3]
[null,0.5409287386479037,1.753083424263169E-4,3.0967183493367686E-2,-6.2322885040092681E-2,1.9462704566636757,1.2875481504124544,0.66154636731196526,0.44217332174011981,85.236023948728274,5.1413158398437457E-2,-10.798530029956568,-6.5135198614426218E-3,4.7862940233964188E-2,0.50009999999999988,null,4.7862940233964188E-2,0.5,0.81743359179874375,5.7827392475151E-2,5.7827392475151E-2,-0.50009999999999999,3.4696435485090599E-3,2.7757148388072479E-2,1.7169334544692052E-3,1.7169334545343608E-3]
[null,0.54092873864785485,1.753083424263169E-4,3.0967183493367686E-2,-6.2322885040092681E-2,1.9462704566638747,1.2875481504093764,0.66154636731031613,0.44217332174012514,85.236023948727322,5.1413158398436881E-2,-10.798530029948886,-6.5135198614379875E-3,4.7862940233578372E-2,0.50009999999999999,null,4.7862940233578372E-2,0.5,0.81743359179882735,5.7827392475151E-2,5.7827392475151E-2,-0.50009999999999999,3.4696435485090599E-3,2.7757148388072479E-2,1.7169334545343608E-3,1.7169334544442085E-3]
[null,0.54092873864786839,1.753083424263169E-4,3.0967183493367686E-2,-6.2322885040092681E-2,1.9462704566638198,1.287548150410087,0.66154636731069993,0.44217332174012375,85.236023948727578,5.1413158398437034E-2,-10.798530029951017,-6.5135198614392738E-3,4.7862940233667779E-2,0.50009999999999999,null,4.7862940233667779E-2,0.5,0.81743359179880426,5.7827392475151E-2,5.7827392475151E-2,-0.50009999999999999,3.4696435485090599E-3,2.7757148388072479E-2,1.7169334544442085E-3,1.7169334544692052E-3]
[null,0.5409287386479037,1.753083424263169E-4,3.0967183493367686E-2,-6.2322885040092681E-2,1.9462704566636757,1.2875481504124544,0.66154636731196526,0.44217332174011981,85.236023948728274,5.1413158398437457E-2,-10.798530029956568,-6.5135198614426218E-3,4.7862940233964188E-2,0.50009999999999988,null,4.7862940233964188E-2,0.5,0.81743359179874375,5.7827392475151E-2,5.7827392475151E-2,-0.50009999999999999,3.4696435485090599E-3,2.7757148388072479E-2,1.7169334544692052E-3,1.7169334545343608E-3]
[null,{"$f":"MIN(0.5*(-(T1377+U1377+V1377)+SQRT((T1377+U1377+V1377)^2+4*S1377*(W1377+X1377)))/S1377,1000*$C$6)","v":0.54092873864785485},1.753083424263169E-4,{"$f":"IF($C$2=1,C1377/($Z$1006*$Z$5),2^(1/3)*$Z$5/C1377)","v":3.0967183493367686E-2},{"$f":"IF($C$2=1,-($Z$1006-2)*C1377/$Z$5,3*($Z$5/C1377)^2)","v":-6.2322885040092681E-2},{"$f":"IF($C$2=1,0.5*($Z$1006*C1377*$F$1006/$Z$5)*(1-Y1377^2+(D1377-E1377)*(E1377^2*(1-Y1377^2)+2*E1377*(1-Y1377)+2*LN((1-E1377)/(1-E1377*Y1377)))/(E1377^3)),$F$1006*E1377*(LN((1-D1377+D1377^2)/(1+D1377)^2)/(6*D1377)+ATAN((2-D1377)/(D1377*3^0.5))/(D1377*3^0.5)-LN((Y1377^2-D1377*Y1377+D1377^2)/(Y1377+D1377)^2)/(6*D1377)-ATAN((2*Y1377-D1377)/(D1377*3^0.5))/(D1377*3^0.5)))","v":1.9462704566638747},{"$f":"IF($C$2=1,($Z$1006*C1377*$F$1006/$Z$5)*(1-Y1377^3-(D1377-E1377)*(-2*E1377^3*(1-Y1377^3)-3*E1377^2*(1-Y1377^2)-6*E1377*(1-Y1377)-6*LN((1-E1377)/(1-E1377*Y1377)))/(2*E1377^4))/3,$F$1006*E1377*(LN((1+D1377^3)/(D1377^3+Y1377^3)))/3)","v":1.2875481504093764},{"$f":"G1377/F1377","v":0.66154636731031613},{"$f":"F1377*B1377*$D$1006","v":0.44217332174012514},{"$f":"MAX(MIN($K$1006,$Q$1006*$J$1006*C1377*(B1377-$I$1006)/B1377),-$K$1006)","v":85.236023948727322},{"$f":"J1377*$H$1006","v":5.1413158398436881E-2},{"$f":"MIN($O$1006,$Q$1006*$N$1006*C1377*(C$1006-B1377-$M$1006)/B1377)","v":-10.798530029948886},{"$f":"L1377*$L$1006","v":-6.5135198614379875E-3},{"$f":"(0.5*$C$1006-B1377+H1377*B1377)*I1377+(0.5*$C$1006-$I$1006)*K1377+(0.5*$C$1006-$M$1006)*M1377","v":4.7862940233578372E-2},{"$f":"I1377+K1377-M1377","v":0.50009999999999999},null,{"$f":"N1377-P1377*O1377","v":4.7862940233578372E-2},{"$f":"R1376","v":0.5},{"$f":"F1377*$D$1006","v":0.81743359179882735},{"$f":"IF(ABS(J1376)<$K$1006,$Q$1006*C1377*$H$1006*$J$1006,IF(J1376>0,1,-1)*$H$1006*$K$1006)","v":5.7827392475151E-2},5.7827392475151E-2,{"$f":"-(R1377+0.0001)","v":-0.50009999999999999},{"$f":"IF(ABS(J1376)<$K$1006,$I$1006*$Q$1006*C1377*$H$1006*$J$1006,0)","v":3.4696435485090599E-3},2.7757148388072479E-2,{"$f":"IF(B1376<$C$1006,0,(B1376-$C$1006)/B1376)","v":1.7169334545343608E-3},{"$f":"IF(B1377<=$C$1006,0,(B1377-$C$1006)/B1377)","v":1.7169334544442085E-3}]
[null,{"$f":"MIN(0.5*(-(T1378+U1378+V1378)+SQRT((T1378+U1378+V1378)^2+4*S1378*(W1378+X1378)))/S1378,1000*$C$6)","v":0.54092873864786839},1.753083424263169E-4,{"$f":"IF($C$2=1,C1378/($Z$1006*$Z$5),2^(1/3)*$Z$5/C1378)","v":3.0967183493367686E-2},{"$f":"IF($C$2=1,-($Z$1006-2)*C1378/$Z$5,3*($Z$5/C1378)^2)","v":-6.2322885040092681E-2},{"$f":"IF($C$2=1,0.5*($Z$1006*C1378*$F$1006/$Z$5)*(1-Y1378^2+(D1378-E1378)*(E1378^2*(1-Y1378^2)+2*E1378*(1-Y1378)+2*LN((1-E1378)/(1-E1378*Y1378)))/(E1378^3)),$F$1006*E1378*(LN((1-D1378+D1378^2)/(1+D1378)^2)/(6*D1378)+ATAN((2-D1378)/(D1378*3^0.5))/(D1378*3^0.5)-LN((Y1378^2-D1378*Y1378+D1378^2)/(Y1378+D1378)^2)/(6*D1378)-ATAN((2*Y1378-D1378)/(D1378*3^0.5))/(D1378*3^0.5)))","v":1.9462704566638198},{"$f":"IF($C$2=1,($Z$1006*C1378*$F$1006/$Z$5)*(1-Y1378^3-(D1378-E1378)*(-2*E1378^3*(1-Y1378^3)-3*E1378^2*(1-Y1378^2)-6*E1378*(1-Y1378)-6*LN((1-E1378)/(1-E1378*Y1378)))/(2*E1378^4))/3,$F$1006*E1378*(LN((1+D1378^3)/(D1378^3+Y1378^3)))/3)","v":1.287548150410087},{"$f":"G1378/F1378","v":0.66154636731069993},{"$f":"F1378*B1378*$D$1006","v":0.44217332174012375},{"$f":"MAX(MIN($K$1006,$Q$1006*$J$1006*C1378*(B1378-$I$1006)/B1378),-$K$1006)","v":85.236023948727578},{"$f":"J1378*$H$1006","v":5.1413158398437034E-2},{"$f":"MIN($O$1006,$Q$1006*$N$1006*C1378*(C$1006-B1378-$M$1006)/B1378)","v":-10.798530029951017},{"$f":"L1378*$L$1006","v":-6.5135198614392738E-3},{"$f":"(0.5*$C$1006-B1378+H1378*B1378)*I1378+(0.5*$C$1006-$I$1006)*K1378+(0.5*$C$1006-$M$1006)*M1378","v":4.7862940233667779E-2},{"$f":"I1378+K1378-M1378","v":0.50009999999999999},null,{"$f":"N1378-P1378*O1378","v":4.7862940233667779E-2},{"$f":"R1377","v":0.5},{"$f":"F1378*$D$1006","v":0.81743359179880426},{"$f":"IF(ABS(J1377)<$K$1006,$Q$1006*C1378*$H$1006*$J$1006,IF(J1377>0,1,-1)*$H$1006*$K$1006)","v":5.7827392475151E-2},5.7827392475151E-2,{"$f":"-(R1378+0.0001)","v":-0.50009999999999999},{"$f":"IF(ABS(J1377)<$K$1006,$I$1006*$Q$1006*C1378*$H$1006*$J$1006,0)","v":3.4696435485090599E-3},2.7757148388072479E-2,{"$f":"IF(B1377<$C$1006,0,(B1377-$C$1006)/B1377)","v":1.7169334544442085E-3},{"$f":"IF(B1378<=$C$1006,0,(B1378-$C$1006)/B1378)","v":1.7169334544692052E-3}]
[null,null,{"$f":"IF(C1306*J1379/(J1379-L1379)<=0,B1378,C1306*J1379/(J1379-L1379))","v":0.50070184881373858},null,null,null,null,null,null,{"$f":"$R1378/($J1309*N1309)+($Q1378-R1308)/($M1309*N1309)","v":2.9246513940036202E-4},null,{"$f":"$R1378/($J1309*$N$1309)-($Q1378-R1308)/($M1309*N1309)","v":-2.2954457412323266E-5},null,null,{"$f":"SIGN(J1379-L1379)","v":1},{"$f":"IF(Q1311=0.0001,ABS(Q1308)*($Q$6*C1378/B1378)/Q1311,IF(B1378>10*$C$6,(L1379-J1379)/$C$6,$Q$6*C1378/B1378))*IF(B1378>10*C1306,O1379*P1308,P1308)","v":8.8616064189019712E-4},null,null,null,null,null,null,null,null,null,null,{"$f":"N1378/($Q$6*C1378/B1378)","v":54.011584323554743}]
[null,{"$f":"IF(AND(B1378<>1000*$C$6,C1380<C1306,B1378<C1306),B1378,IF(AND(B1378<>1000*$C$6,C1380>C1306,B1378>C1306),B1378*C1380/C1379,IF(C1306*J1380/(J1380-L1380)<=0,B1378,C1306*J1380/(J1380-L1380))))","v":0.50070156073728367},{"$f":"IF(C1306*J1380/(J1380-L1380)<=0,B1378,C1306*J1380/(J1380-L1380))","v":0.50070156073728367},null,null,null,null,null,null,{"$f":"$R1378/($J1309*N1309)+($Q1380-R1308)/($M1309*N1309)","v":2.9246533633218801E-4},null,{"$f":"$R1378/($J1309*N1309)-($Q1380-R1308)/($M1309*N1309)","v":-2.2954654344149202E-5},null,null,{"$f":"SIGN(J1380-L1380)","v":1},null,{"$f":"MAX(ABS(INDEX(Snitkræfter!$G$286:$U$286,B1309+1)),0.0000001)","v":4.7863000000000058E-2}]
[null,{"$f":"MIN(0.5*(-(T1381+U1381+V1381)+SQRT((T1381+U1381+V1381)^2+4*S1381*(W1381+X1381)))/S1381,1000*$C$6)","v":0.54092723907496731},{"$f":"MIN(MAX(IF(Q1308=0,0.001*Z1305,IF(OR(AND(B1378<>1000*$C$6,C1380<C1306,B1378<C1306),AND(B1378<>1000*$C$6,C1380>C1306,B1378>C1306)),C1378*J1380/J1379,IF(B1380>C1306,J1380,C1378*MIN(Q1380/Q1311,2)))),0.0001*$Z$5),0.9*K1306/(J1306*Q1306))","v":1.753083424884976E-4},{"$f":"IF($C$2=1,C1381/($Z$1006*$Z$5),2^(1/3)*$Z$5/C1381)","v":3.0967183504351542E-2},{"$f":"IF($C$2=1,-($Z$1006-2)*C1381/$Z$5,3*($Z$5/C1381)^2)","v":-6.2322885062198193E-2},{"$f":"IF($C$2=1,0.5*($Z$1006*C1381*$F$1006/$Z$5)*(1-Y1381^2+(D1381-E1381)*(E1381^2*(1-Y1381^2)+2*E1381*(1-Y1381)+2*LN((1-E1381)/(1-E1381*Y1381)))/(E1381^3)),$F$1006*E1381*(LN((1-D1381+D1381^2)/(1+D1381)^2)/(6*D1381)+ATAN((2-D1381)/(D1381*3^0.5))/(D1381*3^0.5)-LN((Y1381^2-D1381*Y1381+D1381^2)/(Y1381+D1381)^2)/(6*D1381)-ATAN((2*Y1381-D1381)/(D1381*3^0.5))/(D1381*3^0.5)))","v":1.9462765564900664},{"$f":"IF($C$2=1,($Z$1006*C1381*$F$1006/$Z$5)*(1-Y1381^3-(D1381-E1381)*(-2*E1381^3*(1-Y1381^3)-3*E1381^2*(1-Y1381^2)-6*E1381*(1-Y1381)-6*LN((1-E1381)/(1-E1381*Y1381)))/(2*E1381^4))/3,$F$1006*E1381*(LN((1+D1381^3)/(D1381^3+Y1381^3)))/3)","v":1.2875481578137837},{"$f":"G1381/F1381","v":0.66154429776195856},{"$f":"F1381*B1381*$D$1006","v":0.44217348175497262},{"$f":"MAX(MIN($K$1006,$Q$1006*$J$1006*C1381*(B1381-$I$1006)/B1381),-$K$1006)","v":85.235994499302578},{"$f":"J1381*$H$1006","v":5.1413140634962363E-2},{"$f":"MIN($O$1006,$Q$1006*$N$1006*C1381*(C$1006-B1381-$M$1006)/B1381)","v":-10.798294196519995},{"$f":"L1381*$L$1006","v":-6.5133776100649949E-3},{"$f":"(0.5*$C$1006-B1381+H1381*B1381)*I1381+(0.5*$C$1006-$I$1006)*K1381+(0.5*$C$1006-$M$1006)*M1381","v":4.7862709701358794E-2},{"$f":"I1381+K1381-M1381","v":0.50009999999999999},null,{"$f":"N1381-P1381*O1381","v":4.7862709701358794E-2},{"$f":"R1378","v":0.5},{"$f":"F1381*$D$1006","v":0.8174361537258279},{"$f":"IF(ABS(J1380)<$K$1006,$Q$1006*C1381*$H$1006*$J$1006,IF(J1380>0,1,-1)*$H$1006*$K$1006)","v":5.7827392495661982E-2},{"$f":"IF(L1378<$O$1006,$Q$1006*C1381*$L$1006*$N$1006,-$L$1006*$O$1006)","v":5.7827392495661982E-2},{"$f":"-(R1381+0.0001)","v":-0.50009999999999999},{"$f":"IF(ABS(J1380)<$K$1006,$I$1006*$Q$1006*C1381*$H$1006*$J$1006,0)","v":3.4696435497397191E-3},{"$f":"IF(L1378<$O$1006,($C$1006-$M$1006)*$Q$1006*C1381*$L$1006*$N$1006,0)","v":2.775714839791776E-2},{"$f":"IF(B1380<$C$406,0,IF(C1378*J1380/J1379=C1381,Y1378,(B1380-$C$6)/B1380))","v":0},{"$f":"IF(B1381<=$C$1006,0,(B1381-$C$1006)/B1381)","v":1.7141659875604311E-3}]
[null,{"$f":"MIN(0.5*(-(T1382+U1382+V1382)+SQRT((T1382+U1382+V1382)^2+4*S1382*(W1382+X1382)))/S1382,1000*$C$6)","v":0.55140449811145376},{"$f":"0.98*C1381","v":1.7180217563872763E-4},3.0347839834264506E-2,{"$f":"IF($C$2=1,-($Z$1006-2)*C1382/$Z$5,3*($Z$5/C1382)^2)","v":-6.1076427360954227E-2},{"$f":"IF($C$2=1,0.5*($Z$1006*C1382*$F$1006/$Z$5)*(1-Y1382^2+(D1382-E1382)*(E1382^2*(1-Y1382^2)+2*E1382*(1-Y1382)+2*LN((1-E1382)/(1-E1382*Y1382)))/(E1382^3)),$F$1006*E1382*(LN((1-D1382+D1382^2)/(1+D1382)^2)/(6*D1382)+ATAN((2-D1382)/(D1382*3^0.5))/(D1382*3^0.5)-LN((Y1382^2-D1382*Y1382+D1382^2)/(Y1382+D1382)^2)/(6*D1382)-ATAN((2*Y1382-D1382)/(D1382*3^0.5))/(D1382*3^0.5)))","v":1.9096561359378306},{"$f":"IF($C$2=1,($Z$1006*C1382*$F$1006/$Z$5)*(1-Y1382^3-(D1382-E1382)*(-2*E1382^3*(1-Y1382^3)-3*E1382^2*(1-Y1382^2)-6*E1382*(1-Y1382)-6*LN((1-E1382)/(1-E1382*Y1382)))/(2*E1382^4))/3,$F$1006*E1382*(LN((1+D1382^3)/(D1382^3+Y1382^3)))/3)","v":1.2635156778965435},{"$f":"G1382/F1382","v":0.66164565133923026},{"$f":"F1382*B1382*$D$1006","v":0.44225705294494816},{"$f":"MAX(MIN($K$1006,$Q$1006*$J$1006*C1382*(B1382-$I$1006)/B1382),-$K$1006)","v":83.729289732361991},5.0504317730588104E-2,{"$f":"MIN($O$1006,$Q$1006*$N$1006*C1382*(C$1006-B1382-$M$1006)/B1382)","v":-12.166449296953335},-7.3386293244636098E-3,{"$f":"(0.5*$C$1006-B1382+H1382*B1382)*I1382+(0.5*$C$1006-$I$1006)*K1382+(0.5*$C$1006-$M$1006)*M1382","v":4.5962251929510076E-2},{"$f":"I1382+K1382-M1382","v":0.50009999999999988},null,{"$f":"N1382-P1382*O1382","v":4.5962251929510076E-2},{"$f":"R1381","v":0.5},0.80205557709388886,5.6670844645748751E-2,{"$f":"IF(L1381<$O$1006,$Q$1006*C1382*$L$1006*$N$1006,-$L$1006*$O$1006)","v":5.6670844645748751E-2},{"$f":"-(R1382+0.0001)","v":-0.50009999999999999},3.4002506787449245E-3,{"$f":"IF(L1381<$O$1006,($C$1006-$M$1006)*$Q$1006*C1382*$L$1006*$N$1006,0)","v":2.7202005429959403E-2},{"$f":"IF(B1381<$C$1306,0,IF(MIN(ABS($Q$1380-Q1381),ABS(Q1381-Q1380))<=0.001*Q$1380,Y1381,(B1381-$C$1306)/B1381))","v":0},2.0682635253273837E-2]
[null,0.55693803183235835,{"$f":"IF(Z1382>0,0.99*C1382,0.98*C1382)","v":1.7008415388234036E-4},3.0044361435921863E-2,-6.0465663087344683E-2,1.8908215481098054,1.2517035073908382,{"$f":"G1383/F1383","v":0.661989233538261},0.44228958125120493,82.992555710891381,5.0059930238203772E-2,-12.849255810807819,-7.7504885105913216E-3,4.5041691178715711E-2,{"$f":"I1383+K1383-M1383","v":0.50009999999999999},null,{"$f":"N1383-P1383*O1383","v":4.5041691178715711E-2},{"$f":"R1382","v":0.5},0.79414505020611825,5.6104136199291256E-2,5.6104136199291256E-2,{"$f":"-(R1383+0.0001)","v":-0.50009999999999999},3.3662481719574757E-3,2.6929985375659809E-2,{"$f":"IF(B1382<$C$1306,0,IF(MIN(ABS($Q$1380-Q1382),ABS(Q1382-Q1381))<=0.001*Q$1380,Y1382,(B1382-$C$1306)/B1382))","v":2.0682635253273837E-2},3.0412776402845409E-2]
[null,0.54127696006668913,{"$f":"IF(MIN(ABS($Q$1380-Q1383),10*ABS(Q1383-Q1382))<=0.001*Q$1380,C1383,MAX(0.9*C1383,MIN($W$6,1.05*C1383,IF(C1383=$W$6,0.5*(C1383+C1382),C1383+IF(C1383=C1382,0,(C1383-C1382)*(Q1383-Q$1380)/(Q1382-Q1383))))))","v":1.753494988715453E-4},3.0974453536388363E-2,-6.2337516336978663E-2,1.9447951348960117,1.2877911294319946,0.66217315455226744,0.44212257539897992,85.262877236902341,5.142935592026511E-2,-10.855807273410127,-6.5480686807549244E-3,4.7952565333124121E-2,0.50009999999999999,null,4.7952565333124121E-2,0.5,0.81681395665632495,5.784096838305227E-2,5.784096838305227E-2,-0.50009999999999999,3.4704581029831364E-3,2.7763664823865095E-2,3.0412776402845409E-2,2.3591620573167604E-3]
[null,0.54128348137317384,{"$f":"IF(MIN(ABS($Q$1380-Q1384),10*ABS(Q1384-Q1383))<=0.001*Q$1380,C1384,MAX(0.9*C1384,MIN($W$6,1.05*C1384,IF(C1384=$W$6,0.5*(C1384+C1383),C1384+IF(C1384=C1383,0,(C1384-C1383)*(Q1384-Q$1380)/(Q1383-Q1384))))))","v":1.7518748830256997E-4},3.0945835326051722E-2,-6.2279920868755161E-2,1.945004275300434,1.2867208754612014,0.66155169518198043,0.4421754478765369,85.184228297574123,5.1381915997703927E-2,-10.846800836106041,-6.542636125759174E-3,4.7798635566985812E-2,0.50009999999999999,null,4.7798635566985812E-2,0.5,0.81690179562618226,5.7787527407981751E-2,5.7787527407981751E-2,-0.50009999999999999,3.4672516444789049E-3,2.7738013155831246E-2,2.3591620573167604E-3,2.3711814923997976E-3]
[null,0.54108534312551515,1.7525523165511325E-4,3.0957801789253812E-2,-6.2304003927863207E-2,1.9457108781237615,1.287184597927024,0.66154977720443708,0.44217416800730996,85.213277964987512,5.1399438344277071E-2,-10.819873017796553,-6.5263936484129424E-3,4.7834808201639899E-2,0.50009999999999999,null,4.7834808201639899E-2,0.5,0.81719856881197983,5.7809873300829095E-2,5.7809873300829095E-2,-0.50009999999999999,3.4685923980497455E-3,2.7748739184397971E-2,2.3711814923997976E-3,2.0058631033059576E-3]
[null,0.54108534312551515,1.7525523165511325E-4,3.0957801789253812E-2,-6.2304003927863207E-2,1.9457108781237615,1.287184597927024,0.66154977720443708,0.44217416800730996,85.213277964987512,5.1399438344277071E-2,-10.819873017796553,-6.5263936484129424E-3,4.7834808201639899E-2,0.50009999999999999,null,4.7834808201639899E-2,0.5,0.81719856881197983,5.7809873300829095E-2,5.7809873300829095E-2,-0.50009999999999999,3.4685923980497455E-3,2.7748739184397971E-2,2.3711814923997976E-3,2.0058631033059576E-3]
[null,0.54108534312551515,1.7525523165511325E-4,3.0957801789253812E-2,-6.2304003927863207E-2,1.9457108781237615,1.287184597927024,0.66154977720443708,0.44217416800730996,85.213277964987512,5.1399438344277071E-2,-10.819873017796553,-6.5263936484129424E-3,4.7834808201639899E-2,0.50009999999999999,null,4.7834808201639899E-2,0.5,0.81719856881197983,5.7809873300829095E-2,5.7809873300829095E-2,-0.50009999999999999,3.4685923980497455E-3,2.7748739184397971E-2,2.3711814923997976E-3,2.0058631033059576E-3]
[null,0.54108534312551515,1.7525523165511325E-4,3.0957801789253812E-2,-6.2304003927863207E-2,1.9457108781237615,1.287184597927024,0.66154977720443708,0.44217416800730996,85.213277964987512,5.1399438344277071E-2,-10.819873017796553,-6.5263936484129424E-3,4.7834808201639899E-2,0.50009999999999999,null,4.7834808201639899E-2,0.5,0.81719856881197983,5.7809873300829095E-2,5.7809873300829095E-2,-0.50009999999999999,3.4685923980497455E-3,2.7748739184397971E-2,2.3711814923997976E-3,2.0058631033059576E-3]
[null,0.54108534312551515,1.7525523165511325E-4,3.0957801789253812E-2,-6.2304003927863207E-2,1.9457108781237615,1.287184597927024,0.66154977720443708,0.44217416800730996,85.213277964987512,5.1399438344277071E-2,-10.819873017796553,-6.5263936484129424E-3,4.7834808201639899E-2,0.50009999999999999,null,4.7834808201639899E-2,0.5,0.81719856881197983,5.7809873300829095E-2,5.7809873300829095E-2,-0.50009999999999999,3.4685923980497455E-3,2.7748739184397971E-2,2.3711814923997976E-3,2.0058631033059576E-3]
[null,0.54108534312551515,1.7525523165511325E-4,3.0957801789253812E-2,-6.2304003927863207E-2,1.9457108781237615,1.287184597927024,0.66154977720443708,0.44217416800730996,85.213277964987512,5.1399438344277071E-2,-10.819873017796553,-6.5263936484129424E-3,4.7834808201639899E-2,0.50009999999999999,null,4.7834808201639899E-2,0.5,0.81719856881197983,5.7809873300829095E-2,5.7809873300829095E-2,-0.50009999999999999,3.4685923980497455E-3,2.7748739184397971E-2,2.3711814923997976E-3,2.0058631033059576E-3]
[null,0.54108534312551515,1.7525523165511325E-4,3.0957801789253812E-2,-6.2304003927863207E-2,1.9457108781237615,1.287184597927024,0.66154977720443708,0.44217416800730996,85.213277964987512,5.1399438344277071E-2,-10.819873017796553,-6.5263936484129424E-3,4.7834808201639899E-2,0.50009999999999999,null,4.7834808201639899E-2,0.5,0.81719856881197983,5.7809873300829095E-2,5.7809873300829095E-2,-0.50009999999999999,3.4685923980497455E-3,2.7748739184397971E-2,2.3711814923997976E-3,2.0058631033059576E-3]
[null,0.54108534312551515,1.7525523165511325E-4,3.0957801789253812E-2,-6.2304003927863207E-2,1.9457108781237615,1.287184597927024,0.66154977720443708,0.44217416800730996,85.213277964987512,5.1399438344277071E-2,-10.819873017796553,-6.5263936484129424E-3,4.7834808201639899E-2,0.50009999999999999,null,4.7834808201639899E-2,0.5,0.81719856881197983,5.7809873300829095E-2,5.7809873300829095E-2,-0.50009999999999999,3.4685923980497455E-3,2.7748739184397971E-2,2.3711814923997976E-3,2.0058631033059576E-3]
[null,0.54108534312551515,1.7525523165511325E-4,3.0957801789253812E-2,-6.2304003927863207E-2,1.9457108781237615,1.287184597927024,0.66154977720443708,0.44217416800730996,85.213277964987512,5.1399438344277071E-2,-10.819873017796553,-6.5263936484129424E-3,4.7834808201639899E-2,0.50009999999999999,null,4.7834808201639899E-2,0.5,0.81719856881197983,5.7809873300829095E-2,5.7809873300829095E-2,-0.50009999999999999,3.4685923980497455E-3,2.7748739184397971E-2,2.3711814923997976E-3,2.0058631033059576E-3]
[null,0.54108534312551515,1.7525523165511325E-4,3.0957801789253812E-2,-6.2304003927863207E-2,1.9457108781237615,1.287184597927024,0.66154977720443708,0.44217416800730996,85.213277964987512,5.1399438344277071E-2,-10.819873017796553,-6.5263936484129424E-3,4.7834808201639899E-2,0.50009999999999999,null,4.7834808201639899E-2,0.5,0.81719856881197983,5.7809873300829095E-2,5.7809873300829095E-2,-0.50009999999999999,3.4685923980497455E-3,2.7748739184397971E-2,2.3711814923997976E-3,2.0058631033059576E-3]
[null,0.54108534312551515,1.7525523165511325E-4,3.0957801789253812E-2,-6.2304003927863207E-2,1.9457108781237615,1.287184597927024,0.66154977720443708,0.44217416800730996,85.213277964987512,5.1399438344277071E-2,-10.819873017796553,-6.5263936484129424E-3,4.7834808201639899E-2,0.50009999999999999,null,4.7834808201639899E-2,0.5,0.81719856881197983,5.7809873300829095E-2,5.7809873300829095E-2,-0.50009999999999999,3.4685923980497455E-3,2.7748739184397971E-2,2.3711814923997976E-3,2.0058631033059576E-3]
[null,0.54108534312551515,1.7525523165511325E-4,3.0957801789253812E-2,-6.2304003927863207E-2,1.9457108781237615,1.287184597927024,0.66154977720443708,0.44217416800730996,85.213277964987512,5.1399438344277071E-2,-10.819873017796553,-6.5263936484129424E-3,4.7834808201639899E-2,0.50009999999999999,null,4.7834808201639899E-2,0.5,0.81719856881197983,5.7809873300829095E-2,5.7809873300829095E-2,-0.50009999999999999,3.4685923980497455E-3,2.7748739184397971E-2,2.3711814923997976E-3,2.0058631033059576E-3]
[null,0.54108534312551515,1.7525523165511325E-4,3.0957801789253812E-2,-6.2304003927863207E-2,1.9457108781237615,1.287184597927024,0.66154977720443708,0.44217416800730996,85.213277964987512,5.1399438344277071E-2,-10.819873017796553,-6.5263936484129424E-3,4.7834808201639899E-2,0.50009999999999999,null,{"$f":"IF(B1398>10*B1306,Q1380,IF(Q1380<0.000001,0,N1398-P1398*O1398))","v":4.7834808201639899E-2},0.5,0.81719856881197983,5.7809873300829095E-2,5.7809873300829095E-2,-0.50009999999999999,3.4685923980497455E-3,2.7748739184397971E-2,2.3711814923997976E-3,2.0058631033059576E-3]
[null,null,null,null,null,null,null,null,null,{"$f":"MAX(J1378,J1398)/K1306","v":0.18596950679722379},null,{"$f":"MAX(L1378,L1398)/O1306","v":-2.3560429156256762E-2},null,null,null,{"$f":"IF(Q1380=0.0001,ABS(INDEX(Snitkræfter!$G$286:$U$286,B1309+1))*($Q$6*C1398/B1398)/Q1380,IF(B1398>10*$C$6,(J1380-L1380)/$C$6,$Q$6*C1398/B1398))*IF(AND(B1398>10*$C$6,O1380=O1379),P1308,P1308)","v":8.8563577318084472E-4},null,null,null,null,null,null,null,null,null,null,{"$f":"(Q1378-Q1398)/(P1379-P1399)","v":53.598226616691662}]
[]
[]
[null,"Tilstand:",{"$f":"C1302","v":1}]
[]
[null,"L","h","b","fck","fcd","Ecd","Ac","ac","Esc","fyd_c","At","at","Est","fyd_t","Modenhed","1+f","uterm","g","EI","sc/fcd","sc","e","   emax",null,{"$f":"Stivheder!$AD$4","v":3.5000000000000001E-3}]
[null,"(m)","(m)","(m)","(Mpa)","(Mpa)","(Mpa)","(m2)","(m)","(Mpa)","(Mpa)","(m2)","(m)","(Mpa)","(Mpa)","(døgn)",null,"(m)",null,"(Mnm2)",null,"(MPa)",null,"e1",null,{"$f":"Stivheder!$AD$5","v":2.0693662482105194E-3}]
[null,{"$f":"Stivheder!$B$6","v":0.54},{"$f":"Stivheder!$C$6","v":0.54},{"$f":"Stivheder!$D$6","v":0.42},{"$f":"Stivheder!$E$6","v":25},{"$f":"Stivheder!$F$6","v":17.857142857142858},{"$f":"IF(C1402=1,1000*22*((E1406+8)/10)^0.3/S1406,1.4*F1406/Z1405)","v":22482.71872144239},{"$f":"IF(P1408<0,Stivheder!$X$6,Stivheder!$T$6)","v":6.0318578948924026E-4},{"$f":"IF(P1408<0,Stivheder!$Y$6,Stivheder!$U$6)","v":0.06},{"$f":"IF(P1408<0,Stivheder!$Z$6,Stivheder!$V$6)","v":200000},{"$f":"IF(P1408<0,Stivheder!$AA$6,Stivheder!$W$6)","v":458.33333333333337},{"$f":"IF(P1408<0,Stivheder!$T$6,Stivheder!$X$6)","v":6.0318578948924026E-4},{"$f":"IF(P1408<0,Stivheder!$U$6,Stivheder!$Y$6)","v":0.06},{"$f":"IF(P1408<0,Stivheder!$V$6,Stivheder!$Z$6)","v":200000},{"$f":"IF(P1408<0,Stivheder!$W$6,Stivheder!$AA$6)","v":458.33333333333337},{"$f":"Stivheder!$P$6","v":28},{"$f":"Stivheder!$Q$6","v":2.7343237157040781},{"$f":"Stivheder!$R$6","v":0},{"$f":"Stivheder!$S$6","v":1.4},{"$f":"AA1479","v":54.011594256638567},{"$f":"U1306","v":0.99999990000000005},{"$f":"U1406*F1406","v":17.857141071428572},{"$f":"Z1404","v":3.5000000000000001E-3},"k",null,{"$f":"Stivheder!$AD$6","v":2.7356687822616226}]
[]
[null,"punkt","elasttisk","e_o","sc_o/fcd","sc_u/fcd","sc_o","sc_u","hc","At","Ac","Ic","Wt","E",null,{"$f":"SIGN(Q1408)","v":1},{"$f":"INDEX(Snitkræfter!$G$199:$U$199,B1409+1)","v":4.7862999983023367E-2},{"$f":"INDEX(Snitkræfter!$G$59:$U$59,B1409+1)*P1408","v":0}]
[null,{"$f":"(ROW()-9)/100","v":14},"skøn",{"$f":"IF(C1402=1,Z1405*0.5*(-((Z1406-2)*E1409-Z1406)-(((Z1406-2)*E1409-Z1406)^2-4*E1409)^0.5),G1409/(1.4*F1406/Z1405))","v":9.7868622979252365E-4},{"$f":"MIN(0.9999,G1409/F1406)","v":0.79391160460739685},{"$f":"H1409/F1406","v":-1.862084687042613E-2},{"$f":"IF(H1409>0,R1411/J1409+MAX(Q1411+Stivheder!$O$2*R1411+R1411*R1406,D1406*C1406^2*0.003*E1406)/M1409,MIN(0.8*F1406,2*(R1411+Q1411/(C1406-M1406-0.333*I1409))/(((R1411+L1406*O1406)/(F1406*D1406*0.5))*D1406)))","v":14.176992939417801},{"$f":"R1411/J1409-(Q1411+Stivheder!$O$2*R1411+R1411*R1406)/M1409","v":-0.33251512268618089},{"$f":"IF(H1409>0,C1406*G1409/(G1409-H1409),(R1411+L1406*O1406)/(F1406*D1406*0.5))","v":0.20705604093757382},{"$f":"K1409+Q1406*(H1406+L1406)*N1406/G1406","v":0.25614351898648502},{"$f":"C1406*D1406","v":0.2268},{"$f":"D1406*C1406^3/12","v":5.5112400000000006E-3},{"$f":"(L1409+((0.5*C1406-I1406)^2*H1406+(0.5*C1406-M1406)^2*L1406)*Q1406)/(0.5*C1406)","v":2.0950773034997532E-2},{"$f":"G1409/D1409","v":14485.738644165096}]
[null,"hc","e0","a'","b'","N'","tN'","t'","Nc","sac","Nac","sat","Nat","Mtot","N",null,"Mo","N","A","B1","B2","B3","C1","C2","gættet x","beregnet x","EIt"]
[null,{"$f":"I1409","v":0.20705604093757382},null,null,null,null,null,null,null,null,null,null,null,null,null,null,{"$f":"MAX(ABS(Q1408),0.0000001)","v":4.7862999983023367E-2},{"$f":"INDEX(Snitkræfter!$G$52:$U$52,B1409+1)","v":0.5}]
[null,{"$f":"MIN(0.5*(-(T1412+U1412+V1412)+SQRT((T1412+U1412+V1412)^2+4*S1412*(W1412+X1412)))/S1412,1000*$C$6)","v":0.20303928526286505},{"$f":"D1409","v":9.7868622979252365E-4},{"$f":"IF($C$2=1,C1412/($Z$1006*$Z$5),2^(1/3)*$Z$5/C1412)","v":0.17287914334798735},{"$f":"IF($C$2=1,-($Z$1006-2)*C1412/$Z$5,3*($Z$5/C1412)^2)","v":-0.3479272494708433},{"$f":"IF($C$2=1,0.5*($Z$1006*C1412*$F$1006/$Z$5)*(1-Y1412^2+(D1412-E1412)*(E1412^2*(1-Y1412^2)+2*E1412*(1-Y1412)+2*LN((1-E1412)/(1-E1412*Y1412)))/(E1412^3)),$F$1006*E1412*(LN((1-D1412+D1412^2)/(1+D1412)^2)/(6*D1412)+ATAN((2-D1412)/(D1412*3^0.5))/(D1412*3^0.5)-LN((Y1412^2-D1412*Y1412+D1412^2)/(Y1412+D1412)^2)/(6*D1412)-ATAN((2*Y1412-D1412)/(D1412*3^0.5))/(D1412*3^0.5)))","v":8.3614331325213289},{"$f":"IF($C$2=1,($Z$1006*C1412*$F$1006/$Z$5)*(1-Y1412^3-(D1412-E1412)*(-2*E1412^3*(1-Y1412^3)-3*E1412^2*(1-Y1412^2)-6*E1412*(1-Y1412)-6*LN((1-E1412)/(1-E1412*Y1412)))/(2*E1412^4))/3,$F$1006*E1412*(LN((1+D1412^3)/(D1412^3+Y1412^3)))/3)","v":5.3431739925771184},{"$f":"G1412/F1412","v":0.63902609850399217},{"$f":"F1412*B1412*$D$1006","v":0.7130337509401552},{"$f":"MAX(MIN($K$1006,$Q$1006*$J$1006*C1412*(B1412-$I$1006)/B1412),-$K$1006)","v":377.04975084913036},{"$f":"J1412*$H$1006","v":0.22743105164265404},{"$f":"MIN($O$1006,$Q$1006*$N$1006*C1412*(C$1006-B1412-$M$1006)/B1412)","v":458.33333333333337},{"$f":"L1412*$L$1006","v":0.27646015351590181},{"$f":"(0.5*$C$1006-B1412+H1412*B1412)*I1412+(0.5*$C$1006-$I$1006)*K1412+(0.5*$C$1006-$M$1006)*M1412","v":0.24607667961791713},{"$f":"I1412+K1412-M1412","v":0.66400464906690748},null,{"$f":"N1412-P1412*O1412","v":0.24607667961791713},{"$f":"R1411","v":0.5},{"$f":"F1412*$D$1006","v":3.5118019156589582},{"$f":"IF(ABS(J1411)<$K$1006,$Q$1006*C1412*$H$1006*$J$1006,IF(J1411>0,1,-1)*$H$1006*$K$1006)","v":0.32283045938914873},{"$f":"IF(L1411<$O$1006,$Q$1006*C1412*$L$1006*$N$1006,-$L$1006*$O$1006)","v":0.32283045938914873},{"$f":"-(R1412+0.0001)","v":-0.50009999999999999},{"$f":"IF(ABS(J1411)<$K$1006,$I$1006*$Q$1006*C1412*$H$1006*$J$1006,0)","v":1.9369827563348926E-2},{"$f":"IF(L1411<$O$1006,($C$1006-$M$1006)*$Q$1006*C1412*$L$1006*$N$1006,0)","v":0.15495862050679143},{"$f":"IF(B1411<$C$1006,0,(B1411-$C$1006)/B1411)","v":0},{"$f":"IF(B1412<=$C$1006,0,(B1412-$C$1006)/B1412)","v":0}]
[null,{"$f":"MIN(0.5*(-(T1413+U1413+V1413)+SQRT((T1413+U1413+V1413)^2+4*S1413*(W1413+X1413)))/S1413,1000*$C$6)","v":0.17055618109695314},{"$f":"0.95*C1412","v":9.2975191830289741E-4},{"$f":"IF($C$2=1,C1413/($Z$1006*$Z$5),2^(1/3)*$Z$5/C1413)","v":0.16423518618058799},{"$f":"IF($C$2=1,-($Z$1006-2)*C1413/$Z$5,3*($Z$5/C1413)^2)","v":-0.33053088699730115},{"$f":"IF($C$2=1,0.5*($Z$1006*C1413*$F$1006/$Z$5)*(1-Y1413^2+(D1413-E1413)*(E1413^2*(1-Y1413^2)+2*E1413*(1-Y1413)+2*LN((1-E1413)/(1-E1413*Y1413)))/(E1413^3)),$F$1006*E1413*(LN((1-D1413+D1413^2)/(1+D1413)^2)/(6*D1413)+ATAN((2-D1413)/(D1413*3^0.5))/(D1413*3^0.5)-LN((Y1413^2-D1413*Y1413+D1413^2)/(Y1413+D1413)^2)/(6*D1413)-ATAN((2*Y1413-D1413)/(D1413*3^0.5))/(D1413*3^0.5)))","v":8.0655086946610393},{"$f":"IF($C$2=1,($Z$1006*C1413*$F$1006/$Z$5)*(1-Y1413^3-(D1413-E1413)*(-2*E1413^3*(1-Y1413^3)-3*E1413^2*(1-Y1413^2)-6*E1413*(1-Y1413)-6*LN((1-E1413)/(1-E1413*Y1413)))/(2*E1413^4))/3,$F$1006*E1413*(LN((1+D1413^3)/(D1413^3+Y1413^3)))/3)","v":5.1649560505869054},{"$f":"G1413/F1413","v":0.64037573401983272},{"$f":"F1413*B1413*$D$1006","v":0.57776139185757647},{"$f":"MAX(MIN($K$1006,$Q$1006*$J$1006*C1413*(B1413-$I$1006)/B1413),-$K$1006)","v":329.58130831739601},{"$f":"J1413*$H$1006","v":0.19879876165832522},{"$f":"MIN($O$1006,$Q$1006*$N$1006*C1413*(C$1006-B1413-$M$1006)/B1413)","v":458.33333333333337},{"$f":"L1413*$L$1006","v":0.27646015351590181},{"$f":"(0.5*$C$1006-B1413+H1413*B1413)*I1413+(0.5*$C$1006-$I$1006)*K1413+(0.5*$C$1006-$M$1006)*M1413","v":0.22036229354125952},{"$f":"I1413+K1413-M1413","v":0.50009999999999988},null,{"$f":"N1413-P1413*O1413","v":0.22036229354125952},{"$f":"R1412","v":0.5},{"$f":"F1413*$D$1006","v":3.3875136517576365},{"$f":"IF(ABS(J1412)<$K$1006,$Q$1006*C1413*$H$1006*$J$1006,IF(J1412>0,1,-1)*$H$1006*$K$1006)","v":0.30668893641969136},-0.27646015351590181,{"$f":"-(R1413+0.0001)","v":-0.50009999999999999},{"$f":"IF(ABS(J1412)<$K$1006,$I$1006*$Q$1006*C1413*$H$1006*$J$1006,0)","v":1.8401336185181479E-2},0,{"$f":"IF(B1412<$C$1006,0,(B1412-$C$1006)/B1412)","v":0},{"$f":"IF(B1413<=$C$1006,0,(B1413-$C$1006)/B1413)","v":0}]
[null,0.18757872243839138,{"$f":"IF(ABS($Q$1411-Q1413)<=0.001*$Q$1411,C1413,MAX(0.9*C1413,MIN($W$6,1.05*C1413,IF(C1413=$W$6,0.5*(C1413+C1412),C1413+IF(C1413=C1412,0,(C1413-C1412)*(Q1413-Q$1411)/(Q1412-Q1413))))))","v":8.3677672647260767E-4},0.14781166756252917,-0.29747779829757104,7.4740614325984449,4.8053929577211436,0.64294266257462274,0.58882945588020519,311.23196352928255,0.18773069763569672,458.33333333333337,0.27646015351590181,0.21702637868991953,0.5001000000000001,null,0.21702637868991953,0.5,3.1391058016913469,0.27602004277772213,-0.27646015351590181,-0.50009999999999999,1.6561202566663331E-2,0,0,0]
[null,0.20687989634417139,{"$f":"IF(ABS($Q$1411-Q1414)<=0.001*$Q$1411,C1414,MAX(0.9*C1414,MIN($W$6,1.05*C1414,IF(C1414=$W$6,0.5*(C1414+C1413),C1414+IF(C1414=C1413,0,(C1414-C1413)*(Q1414-Q$1411)/(Q1413-Q1414))))))","v":7.5309905382534687E-4},0.13303050080627626,-0.26773001846781391,6.9074946456202397,4.4571141768718636,0.64525771000024412,0.60018914603921036,292.39914227096978,0.1763710074766916,458.33333333333337,0.27646015351590181,0.2130983030808199,0.5001000000000001,null,0.2130983030808199,0.5,2.9011477511605004,0.24841803849994995,-0.27646015351590181,-0.50009999999999999,1.4905082309996995E-2,0,0,0]
[null,0.22867848906482532,6.7778914844281223E-4,0.11972745072564864,-0.24095701662103253,6.3683213537412922,4.122513053348464,0.64734689478673213,0.61164520412218504,273.40655610166431,0.16491494939371665,407.36047115436037,0.24571404739995176,0.20205066895234938,0.53084610611594996,null,0.20205066895234938,0.5,2.6746949685713428,0.22357623464995499,-0.27646015351590181,-0.50009999999999999,1.3414574078997297E-2,0,0,0]
[null,0.23092958888200865,6.1001023359853106E-4,0.10775470565308379,-0.2168613149589293,5.8581798522706157,3.8033239452593715,0.64923304527518266,0.56818736725032215,246.91911484398739,0.14893810122715492,359.79870921900829,0.21702546847747711,0.184238359393678,0.50009999999999999,null,0.184238359393678,0.5,2.4604355379536584,0.20121861118495948,0.20121861118495948,-0.50009999999999999,1.207311667109757E-2,9.6584933368780559E-2,0,0]
[null,0.24082881284926741,5.4900921023867796E-4,9.6979235087775409E-2,-0.19517518346303636,5.3779742687149232,3.500718866994577,0.6509363362631112,0.54397188664077922,225.43364934611009,0.13597837375827396,298.16727040493635,0.1798502603990533,0.16746765016986767,0.50009999999999988,null,0.16746765016986767,0.5,2.2587491928602677,0.18109675006646353,0.18109675006646353,-0.50009999999999999,1.0865805003987813E-2,8.6926440031902516E-2,0,0]
[null,0.25252249417831779,4.9410828921481013E-4,8.7281311578997864E-2,-0.1756576651167327,4.9280024581342952,3.2153969469167722,0.65247470435193278,0.52266121825888046,206.00770970247899,0.12426092301776001,243.411141036603,0.1468221412766402,0.1521782930484894,0.50010000000000032,null,0.1521782930484894,0.5,2.069761032416404,0.16298707505981719,0.16298707505981719,-0.50009999999999999,9.7792245035890311E-3,7.8233796028712263E-2,0,0]
[null,0.26628888272189394,4.4469746029332914E-4,7.8553180421098087E-2,-0.15809189860505946,4.5080706924563509,2.9476659185324663,0.65386417375064421,0.50418862532871689,188.39412800972218,0.11363666083868126,195.17251271301387,0.11772528616739805,0.13824480200238795,0.5001000000000001,null,0.13824480200238795,0.5,1.8933896908316674,0.14668836755383546,0.14668836755383546,-0.50009999999999999,8.8013020532301273E-3,7.0410416425841033E-2,0,0]
[null,0.28244822481387621,4.0022771426399622E-4,7.0697862378988272E-2,-0.14228270874455351,4.1175950625747664,2.6975152353715779,0.65511911549767576,0.48846311468918224,172.37615069228531,0.10397484454444236,153.0837775734299,9.2337959233624561E-2,0.1255290524206879,0.5001000000000001,null,0.1255290524206879,0.5,1.7293899262814019,0.13201953079845191,0.13201953079845191,-0.50009999999999999,7.9211718479071137E-3,6.3369374783256924E-2,0,0]
[null,0.30136399804828867,3.6020494283759661E-4,6.3628076141089451E-2,-0.12805443787009815,3.7556899000758523,2.4646807239475579,0.65625245681167121,0.47536848396090342,157.76501940813736,9.5161617785482641E-2,116.76352953544237,7.0430101746386031E-2,0.11387884074392877,0.50009999999999999,null,0.11387884074392877,0.5,1.5773897580318579,0.11881757771860674,0.11881757771860674,-0.50009999999999999,7.1290546631164031E-3,5.7032437304931245E-2,0,0]
[null,0.32344257512845836,3.2418444855383696E-4,5.7265268526980502E-2,-0.11524899408308835,3.4212438305662434,2.2487009563314557,0.65727585278810063,0.46476188417429265,144.39790067127549,8.7098761716992212E-2,85.812110950283071,5.1760645891284776E-2,0.10312659479966584,0.5001000000000001,null,0.10312659479966584,0.5,1.4369224088378221,0.10693581994674607,0.10693581994674607,-0.50009999999999999,6.4161491968047629E-3,5.1329193574438124E-2,0,0]
[null,0.34913136131552686,2.9176600369845327E-4,5.1538741674282455E-2,-0.10372409467477951,3.1129842932836618,2.0489657307477951,0.65819982939473476,0.45647298650855084,132.13593770786002,7.9702519906216615E-2,59.808283025558303,3.6075506414767311E-2,9.308872846980043E-2,0.5001000000000001,null,9.308872846980043E-2,0.5,1.3074534031791378,9.6242237952071444E-2,9.6242237952071444E-2,-0.50009999999999999,5.7745342771242875E-3,4.6196274216994307E-2,0,0]
[null,0.37891590782270179,2.6258940332860795E-4,4.6384867506854208E-2,-9.3351685207301568E-2,2.8295315081454016,1.8647571973070403,0.65903390435446452,0.45030489005117835,120.86219176763943,7.2902356560763548E-2,38.308672078479134,2.3107246611941853E-2,8.3566081003777284E-2,0.5001000000000001,null,8.3566081003777284E-2,0.5,1.1884032334210686,8.661801415686432E-2,8.661801415686432E-2,-0.50009999999999999,5.1970808494118583E-3,4.157664679529488E-2,0,0]
[null,0.41331696161667197,2.3633046299574716E-4,4.1746380756168794E-2,-8.401651668657141E-2,2.5694429514273165,1.6952842620402351,0.65978669076832808,0.44603762856715129,110.47929382659831,6.6639540069010447E-2,20.851234984848809,1.2577168636161696E-2,7.4345672017362752E-2,0.5001000000000001,null,7.4345672017362752E-2,0.5,1.0791660395994729,7.7956212741177894E-2,7.7956212741177894E-2,-0.50009999999999999,4.6773727644706733E-3,3.7418982115765394E-2,0,0]
[null,0.45288867744086952,2.1269741669617244E-4,3.7571742680551912E-2,-7.5614865017914257E-2,2.331249426414657,1.539710953523473,0.66046598707006232,0.44343451719576221,100.9067433872904,6.0865513674850935E-2,6.9630799395484484,4.2000308706132226E-3,6.5203666048390341E-2,0.50009999999999988,null,6.5203666048390341E-2,0.5,0.97912475909415597,7.0160591467060093E-2,7.0160591467060093E-2,-0.50009999999999999,4.2096354880236057E-3,3.3677083904188852E-2,0,0]
[null,0.49821914026488479,1.914276750265552E-4,3.3814568412496721E-2,-6.8053378516122837E-2,2.113483797543017,1.3971794510132616,0.66107885598059524,0.44225079384177118,92.077937789463377,5.5540103600078619E-2,-3.8281779816224799,-2.309102558150282E-3,5.5909081822099652E-2,0.5001000000000001,null,5.5909081822099652E-2,0.5,0.88766319496806712,6.3144532320354066E-2,6.3144532320354066E-2,-0.50009999999999999,3.788671939221245E-3,3.0309375513769967E-2,0,0]
[null,0.54772702934465933,1.7301500825167465E-4,3.0562079553561702E-2,-6.1507594677143645E-2,1.9223338349492234,1.2718364170699084,0.6616105870620036,0.4422239643466952,84.251250194918171,5.0819156864277223E-2,-11.699345229938379,-7.0568787890275585E-3,4.6626535755007317E-2,0.50009999999999999,null,4.6626535755007317E-2,0.5,0.80738021067867383,5.7070910875027185E-2,5.7070910875027185E-2,-0.50009999999999999,3.4242546525016311E-3,2.7394037220013049E-2,0,1.410744573607127E-2]
[null,0.54056332621889447,1.7546763317214013E-4,3.0995321263005072E-2,-6.2379513599250175E-2,1.9475263120436364,1.2886345313919232,0.66167759758772904,0.44215974647759232,85.306277214117372,5.1455534169785377E-2,-10.750782703474014,-6.4847193526222421E-3,4.7962757510013949E-2,0.50009999999999999,null,4.7962757510013949E-2,0.5,0.81796105105832728,5.7879936286522965E-2,5.7879936286522965E-2,-0.50009999999999999,3.4727961771913772E-3,2.7782369417531025E-2,1.410744573607127E-2,1.04210957638351E-3]
[null,0.54099738569830425,1.7528452898618867E-4,3.0962976989787463E-2,-6.2314419257626312E-2,1.9460258911609298,1.2873851556866915,0.66154574897186147,0.44217386624009586,85.22579485732426,5.1406988355863166E-2,-10.807856414457611,-6.5191454040409635E-3,4.7850089174785254E-2,0.50009999999999999,null,4.7850089174785254E-2,0.5,0.81733087428759055,5.7819537348980619E-2,5.7819537348980619E-2,-0.50009999999999999,3.469172240938837E-3,2.7753377927510699E-2,1.04210957638351E-3,1.8436053937983675E-3]
[null,0.54099856226202747,1.7528452898618867E-4,3.0962976989787463E-2,-6.2314419257626312E-2,1.9460211065519386,1.2873851486044494,0.66154737185019818,0.44217374072598653,85.225817977915611,5.1407002301875317E-2,-10.80804137918836,-6.519256972138108E-3,4.785026990542416E-2,0.50009999999999999,null,4.785026990542416E-2,0.5,0.81732886475181421,5.7819537348980619E-2,5.7819537348980619E-2,-0.50009999999999999,3.469172240938837E-3,2.7753377927510699E-2,1.8436053937983675E-3,1.8457761844176434E-3]
[null,0.54099856633603305,1.7528452898618867E-4,3.0962976989787463E-2,-6.2314419257626312E-2,1.9460210899846448,1.2873851485760142,0.66154737746761638,0.44217374029137835,85.225818057973498,5.1407002350165092E-2,-10.808042019651504,-6.5192573584563753E-3,4.7850270530749722E-2,0.50009999999999977,null,4.7850270530749722E-2,0.5,0.8173288577935508,5.7819537348980619E-2,5.7819537348980619E-2,-0.50009999999999999,3.469172240938837E-3,2.7753377927510699E-2,1.8457761844176434E-3,1.8457837010473128E-3]
[null,0.54099856635017507,1.7528452898618867E-4,3.0962976989787463E-2,-6.2314419257626312E-2,1.9460210899271355,1.287385148577566,0.66154737748796411,0.44217374028986983,85.225818058251392,5.1407002350332714E-2,-10.808042021874732,-6.5192573597973947E-3,4.7850270533123289E-2,0.50009999999999999,null,4.7850270533123289E-2,0.5,0.8173288577693969,5.7819537348980619E-2,5.7819537348980619E-2,-0.50009999999999999,3.469172240938837E-3,2.7753377927510699E-2,1.8457837010473128E-3,1.8457837271396514E-3]
[null,0.54099856635014509,1.7528452898618867E-4,3.0962976989787463E-2,-6.2314419257626312E-2,1.9460210899272574,1.2873851485725922,0.66154737748536674,0.44217374028987311,85.225818058250795,5.1407002350332354E-2,-10.808042021870017,-6.5192573597945506E-3,4.785027053250724E-2,0.50009999999999999,null,4.785027053250724E-2,0.5,0.81732885776944808,5.7819537348980619E-2,5.7819537348980619E-2,-0.50009999999999999,3.469172240938837E-3,2.7753377927510699E-2,1.8457837271396514E-3,1.8457837270843449E-3]
[null,0.54099856635018861,1.7528452898618867E-4,3.0962976989787463E-2,-6.2314419257626312E-2,1.9460210899270807,1.2873851485751973,0.66154737748676551,0.4421737402898685,85.225818058251662,5.1407002350332881E-2,-10.80804202187686,-6.5192573597986784E-3,4.7850270532834187E-2,0.50009999999999999,null,4.7850270532834187E-2,0.5,0.81732885776937381,5.7819537348980619E-2,5.7819537348980619E-2,-0.50009999999999999,3.469172240938837E-3,2.7753377927510699E-2,1.8457837270843449E-3,1.8457837271646418E-3]
[null,0.54099856635018329,1.7528452898618867E-4,3.0962976989787463E-2,-6.2314419257626312E-2,1.946021089927102,1.2873851485749606,0.66154737748663661,0.442173740289869,85.225818058251562,5.1407002350332819E-2,-10.808042021876021,-6.5192573597981727E-3,4.785027053280428E-2,0.50009999999999999,null,4.785027053280428E-2,0.5,0.8173288577693828,5.7819537348980619E-2,5.7819537348980619E-2,-0.50009999999999999,3.469172240938837E-3,2.7753377927510699E-2,1.8457837271646418E-3,1.8457837271548094E-3]
[null,0.54099856635018873,1.7528452898618867E-4,3.0962976989787463E-2,-6.2314419257626312E-2,1.9460210899270802,1.2873851485754344,0.66154737748688752,0.44217374028986844,85.225818058251662,5.1407002350332881E-2,-10.808042021876878,-6.5192573597986888E-3,4.7850270532863365E-2,0.50009999999999999,null,4.7850270532863365E-2,0.5,0.8173288577693737,5.7819537348980619E-2,5.7819537348980619E-2,-0.50009999999999999,3.469172240938837E-3,2.7753377927510699E-2,1.8457837271548094E-3,1.8457837271648465E-3]
[null,0.54099856635018873,1.7528452898618867E-4,3.0962976989787463E-2,-6.2314419257626312E-2,1.94602108992708,1.2873851485751973,0.66154737748676573,0.44217374028986844,85.225818058251662,5.1407002350332881E-2,-10.808042021876878,-6.5192573597986888E-3,4.7850270532834228E-2,0.50009999999999999,null,4.7850270532834228E-2,0.5,0.81732885776937358,5.7819537348980619E-2,5.7819537348980619E-2,-0.50009999999999999,3.469172240938837E-3,2.7753377927510699E-2,1.8457837271648465E-3,1.8457837271648465E-3]
[null,0.54099856635018873,1.7528452898618867E-4,3.0962976989787463E-2,-6.2314419257626312E-2,1.94602108992708,1.2873851485751973,0.66154737748676573,0.44217374028986844,85.225818058251662,5.1407002350332881E-2,-10.808042021876878,-6.5192573597986888E-3,4.7850270532834228E-2,0.50009999999999999,null,4.7850270532834228E-2,0.5,0.81732885776937358,5.7819537348980619E-2,5.7819537348980619E-2,-0.50009999999999999,3.469172240938837E-3,2.7753377927510699E-2,1.8457837271648465E-3,1.8457837271648465E-3]
[null,0.54099856635018873,1.7528452898618867E-4,3.0962976989787463E-2,-6.2314419257626312E-2,1.94602108992708,1.2873851485751973,0.66154737748676573,0.44217374028986844,85.225818058251662,5.1407002350332881E-2,-10.808042021876878,-6.5192573597986888E-3,4.7850270532834228E-2,0.50009999999999999,null,4.7850270532834228E-2,0.5,0.81732885776937358,5.7819537348980619E-2,5.7819537348980619E-2,-0.50009999999999999,3.469172240938837E-3,2.7753377927510699E-2,1.8457837271648465E-3,1.8457837271648465E-3]
[null,0.54099856635018873,1.7528452898618867E-4,3.0962976989787463E-2,-6.2314419257626312E-2,1.94602108992708,1.2873851485751973,0.66154737748676573,0.44217374028986844,85.225818058251662,5.1407002350332881E-2,-10.808042021876878,-6.5192573597986888E-3,4.7850270532834228E-2,0.50009999999999999,null,4.7850270532834228E-2,0.5,0.81732885776937358,5.7819537348980619E-2,5.7819537348980619E-2,-0.50009999999999999,3.469172240938837E-3,2.7753377927510699E-2,1.8457837271648465E-3,1.8457837271648465E-3]
[null,0.54099856635018873,1.7528452898618867E-4,3.0962976989787463E-2,-6.2314419257626312E-2,1.94602108992708,1.2873851485751973,0.66154737748676573,0.44217374028986844,85.225818058251662,5.1407002350332881E-2,-10.808042021876878,-6.5192573597986888E-3,4.7850270532834228E-2,0.50009999999999999,null,4.7850270532834228E-2,0.5,0.81732885776937358,5.7819537348980619E-2,5.7819537348980619E-2,-0.50009999999999999,3.469172240938837E-3,2.7753377927510699E-2,1.8457837271648465E-3,1.8457837271648465E-3]
[null,0.54099856635018873,1.7528452898618867E-4,3.0962976989787463E-2,-6.2314419257626312E-2,1.94602108992708,1.2873851485751973,0.66154737748676573,0.44217374028986844,85.225818058251662,5.1407002350332881E-2,-10.808042021876878,-6.5192573597986888E-3,4.7850270532834228E-2,0.50009999999999999,null,4.7850270532834228E-2,0.5,0.81732885776937358,5.7819537348980619E-2,{"$f":"IF(L1443<$O$1006,$Q$1006*C1444*$L$1006*$N$1006,-$L$1006*$O$1006)","v":5.7819537348980619E-2},-0.50009999999999999,3.469172240938837E-3,{"$f":"IF(L1443<$O$1006,($C$1006-$M$1006)*$Q$1006*C1444*$L$1006*$N$1006,0)","v":2.7753377927510699E-2},1.8457837271648465E-3,1.8457837271648465E-3]
[null,0.54099856635018873,1.7528452898618867E-4,3.0962976989787463E-2,-6.2314419257626312E-2,1.94602108992708,1.2873851485751973,0.66154737748676573,0.44217374028986844,85.225818058251662,5.1407002350332881E-2,-10.808042021876878,-6.5192573597986888E-3,4.7850270532834228E-2,0.50009999999999999,null,4.7850270532834228E-2,0.5,0.81732885776937358,5.7819537348980619E-2,5.7819537348980619E-2,-0.50009999999999999,3.469172240938837E-3,2.7753377927510699E-2,1.8457837271648465E-3,1.8457837271648465E-3]
[null,0.54099856635018873,1.7528452898618867E-4,3.0962976989787463E-2,-6.2314419257626312E-2,1.94602108992708,1.2873851485751973,0.66154737748676573,0.44217374028986844,85.225818058251662,5.1407002350332881E-2,-10.808042021876878,-6.5192573597986888E-3,4.7850270532834228E-2,0.50009999999999999,null,4.7850270532834228E-2,0.5,0.81732885776937358,5.7819537348980619E-2,5.7819537348980619E-2,-0.50009999999999999,3.469172240938837E-3,2.7753377927510699E-2,1.8457837271648465E-3,1.8457837271648465E-3]
[null,0.54099856635018873,1.7528452898618867E-4,3.0962976989787463E-2,-6.2314419257626312E-2,1.94602108992708,1.2873851485751973,0.66154737748676573,0.44217374028986844,85.225818058251662,5.1407002350332881E-2,-10.808042021876878,-6.5192573597986888E-3,4.7850270532834228E-2,0.50009999999999999,null,4.7850270532834228E-2,0.5,0.81732885776937358,5.7819537348980619E-2,5.7819537348980619E-2,-0.50009999999999999,3.469172240938837E-3,2.7753377927510699E-2,1.8457837271648465E-3,1.8457837271648465E-3]
[null,0.54099856635018873,1.7528452898618867E-4,3.0962976989787463E-2,-6.2314419257626312E-2,1.94602108992708,1.2873851485751973,0.66154737748676573,0.44217374028986844,85.225818058251662,5.1407002350332881E-2,-10.808042021876878,-6.5192573597986888E-3,4.7850270532834228E-2,0.50009999999999999,null,4.7850270532834228E-2,0.5,0.81732885776937358,5.7819537348980619E-2,5.7819537348980619E-2,-0.50009999999999999,3.469172240938837E-3,2.7753377927510699E-2,1.8457837271648465E-3,1.8457837271648465E-3]
[null,0.54099856635018873,1.7528452898618867E-4,3.0962976989787463E-2,-6.2314419257626312E-2,1.94602108992708,1.2873851485751973,0.66154737748676573,0.44217374028986844,85.225818058251662,5.1407002350332881E-2,-10.808042021876878,-6.5192573597986888E-3,4.7850270532834228E-2,0.50009999999999999,null,4.7850270532834228E-2,0.5,0.81732885776937358,5.7819537348980619E-2,5.7819537348980619E-2,-0.50009999999999999,3.469172240938837E-3,2.7753377927510699E-2,1.8457837271648465E-3,1.8457837271648465E-3]
[null,0.54099856635018873,1.7528452898618867E-4,3.0962976989787463E-2,-6.2314419257626312E-2,1.94602108992708,1.2873851485751973,0.66154737748676573,0.44217374028986844,85.225818058251662,5.1407002350332881E-2,-10.808042021876878,-6.5192573597986888E-3,4.7850270532834228E-2,0.50009999999999999,null,4.7850270532834228E-2,0.5,0.81732885776937358,5.7819537348980619E-2,5.7819537348980619E-2,-0.50009999999999999,3.469172240938837E-3,2.7753377927510699E-2,1.8457837271648465E-3,1.8457837271648465E-3]
[null,0.54099856635018873,1.7528452898618867E-4,3.0962976989787463E-2,-6.2314419257626312E-2,1.94602108992708,1.2873851485751973,0.66154737748676573,0.44217374028986844,85.225818058251662,5.1407002350332881E-2,-10.808042021876878,-6.5192573597986888E-3,4.7850270532834228E-2,0.50009999999999999,null,4.7850270532834228E-2,0.5,0.81732885776937358,5.7819537348980619E-2,5.7819537348980619E-2,-0.50009999999999999,3.469172240938837E-3,2.7753377927510699E-2,1.8457837271648465E-3,1.8457837271648465E-3]
[null,0.54099856635018873,1.7528452898618867E-4,3.0962976989787463E-2,-6.2314419257626312E-2,1.94602108992708,1.2873851485751973,0.66154737748676573,0.44217374028986844,85.225818058251662,5.1407002350332881E-2,-10.808042021876878,-6.5192573597986888E-3,4.7850270532834228E-2,0.50009999999999999,null,4.7850270532834228E-2,0.5,0.81732885776937358,5.7819537348980619E-2,5.7819537348980619E-2,-0.50009999999999999,3.469172240938837E-3,2.7753377927510699E-2,1.8457837271648465E-3,1.8457837271648465E-3]
[null,0.54099856635018873,1.7528452898618867E-4,3.0962976989787463E-2,-6.2314419257626312E-2,1.94602108992708,1.2873851485751973,0.66154737748676573,0.44217374028986844,85.225818058251662,5.1407002350332881E-2,-10.808042021876878,-6.5192573597986888E-3,4.7850270532834228E-2,0.50009999999999999,null,4.7850270532834228E-2,0.5,0.81732885776937358,5.7819537348980619E-2,5.7819537348980619E-2,-0.50009999999999999,3.469172240938837E-3,2.7753377927510699E-2,1.8457837271648465E-3,1.8457837271648465E-3]
[null,0.54099856635018873,1.7528452898618867E-4,3.0962976989787463E-2,-6.2314419257626312E-2,1.94602108992708,1.2873851485751973,0.66154737748676573,0.44217374028986844,85.225818058251662,5.1407002350332881E-2,-10.808042021876878,-6.5192573597986888E-3,4.7850270532834228E-2,0.50009999999999999,null,4.7850270532834228E-2,0.5,0.81732885776937358,5.7819537348980619E-2,5.7819537348980619E-2,-0.50009999999999999,3.469172240938837E-3,2.7753377927510699E-2,1.8457837271648465E-3,1.8457837271648465E-3]
[null,0.54099856635018873,1.7528452898618867E-4,3.0962976989787463E-2,-6.2314419257626312E-2,1.94602108992708,1.2873851485751973,0.66154737748676573,0.44217374028986844,85.225818058251662,5.1407002350332881E-2,-10.808042021876878,-6.5192573597986888E-3,4.7850270532834228E-2,0.50009999999999999,null,4.7850270532834228E-2,0.5,0.81732885776937358,5.7819537348980619E-2,5.7819537348980619E-2,-0.50009999999999999,3.469172240938837E-3,2.7753377927510699E-2,1.8457837271648465E-3,1.8457837271648465E-3]
[null,0.54099856635018873,1.7528452898618867E-4,3.0962976989787463E-2,-6.2314419257626312E-2,1.94602108992708,1.2873851485751973,0.66154737748676573,0.44217374028986844,85.225818058251662,5.1407002350332881E-2,-10.808042021876878,-6.5192573597986888E-3,4.7850270532834228E-2,0.50009999999999999,null,4.7850270532834228E-2,0.5,0.81732885776937358,5.7819537348980619E-2,5.7819537348980619E-2,-0.50009999999999999,3.469172240938837E-3,2.7753377927510699E-2,1.8457837271648465E-3,1.8457837271648465E-3]
[null,0.54099856635018873,1.7528452898618867E-4,3.0962976989787463E-2,-6.2314419257626312E-2,1.94602108992708,1.2873851485751973,0.66154737748676573,0.44217374028986844,85.225818058251662,5.1407002350332881E-2,-10.808042021876878,-6.5192573597986888E-3,4.7850270532834228E-2,0.50009999999999999,null,4.7850270532834228E-2,0.5,0.81732885776937358,5.7819537348980619E-2,5.7819537348980619E-2,-0.50009999999999999,3.469172240938837E-3,2.7753377927510699E-2,1.8457837271648465E-3,1.8457837271648465E-3]
[null,0.54099856635018873,1.7528452898618867E-4,3.0962976989787463E-2,-6.2314419257626312E-2,1.94602108992708,1.2873851485751973,0.66154737748676573,0.44217374028986844,85.225818058251662,5.1407002350332881E-2,-10.808042021876878,-6.5192573597986888E-3,4.7850270532834228E-2,0.50009999999999999,null,4.7850270532834228E-2,0.5,0.81732885776937358,5.7819537348980619E-2,5.7819537348980619E-2,-0.50009999999999999,3.469172240938837E-3,2.7753377927510699E-2,1.8457837271648465E-3,1.8457837271648465E-3]
[null,0.54099856635018873,1.7528452898618867E-4,3.0962976989787463E-2,-6.2314419257626312E-2,1.94602108992708,1.2873851485751973,0.66154737748676573,0.44217374028986844,85.225818058251662,5.1407002350332881E-2,-10.808042021876878,-6.5192573597986888E-3,4.7850270532834228E-2,0.50009999999999999,null,4.7850270532834228E-2,0.5,0.81732885776937358,5.7819537348980619E-2,5.7819537348980619E-2,-0.50009999999999999,3.469172240938837E-3,2.7753377927510699E-2,1.8457837271648465E-3,1.8457837271648465E-3]
[null,0.54099856635018873,1.7528452898618867E-4,3.0962976989787463E-2,-6.2314419257626312E-2,1.94602108992708,1.2873851485751973,0.66154737748676573,0.44217374028986844,85.225818058251662,5.1407002350332881E-2,-10.808042021876878,-6.5192573597986888E-3,4.7850270532834228E-2,0.50009999999999999,null,4.7850270532834228E-2,0.5,0.81732885776937358,5.7819537348980619E-2,5.7819537348980619E-2,-0.50009999999999999,3.469172240938837E-3,2.7753377927510699E-2,1.8457837271648465E-3,1.8457837271648465E-3]
[null,0.54099856635018873,1.7528452898618867E-4,3.0962976989787463E-2,-6.2314419257626312E-2,1.94602108992708,1.2873851485751973,0.66154737748676573,0.44217374028986844,85.225818058251662,5.1407002350332881E-2,-10.808042021876878,-6.5192573597986888E-3,4.7850270532834228E-2,0.50009999999999999,null,4.7850270532834228E-2,0.5,0.81732885776937358,5.7819537348980619E-2,5.7819537348980619E-2,-0.50009999999999999,3.469172240938837E-3,2.7753377927510699E-2,1.8457837271648465E-3,1.8457837271648465E-3]
[null,0.54099856635018873,1.7528452898618867E-4,3.0962976989787463E-2,-6.2314419257626312E-2,1.94602108992708,1.2873851485751973,0.66154737748676573,0.44217374028986844,85.225818058251662,5.1407002350332881E-2,-10.808042021876878,-6.5192573597986888E-3,4.7850270532834228E-2,0.50009999999999999,null,4.7850270532834228E-2,0.5,0.81732885776937358,5.7819537348980619E-2,5.7819537348980619E-2,-0.50009999999999999,3.469172240938837E-3,2.7753377927510699E-2,1.8457837271648465E-3,1.8457837271648465E-3]
[null,0.54099856635018873,1.7528452898618867E-4,3.0962976989787463E-2,-6.2314419257626312E-2,1.94602108992708,1.2873851485751973,0.66154737748676573,0.44217374028986844,85.225818058251662,5.1407002350332881E-2,-10.808042021876878,-6.5192573597986888E-3,4.7850270532834228E-2,0.50009999999999999,null,4.7850270532834228E-2,0.5,0.81732885776937358,5.7819537348980619E-2,5.7819537348980619E-2,-0.50009999999999999,3.469172240938837E-3,2.7753377927510699E-2,1.8457837271648465E-3,1.8457837271648465E-3]
[null,0.54099856635018873,1.7528452898618867E-4,3.0962976989787463E-2,-6.2314419257626312E-2,1.94602108992708,1.2873851485751973,0.66154737748676573,0.44217374028986844,85.225818058251662,5.1407002350332881E-2,-10.808042021876878,-6.5192573597986888E-3,4.7850270532834228E-2,0.50009999999999999,null,4.7850270532834228E-2,0.5,0.81732885776937358,5.7819537348980619E-2,5.7819537348980619E-2,-0.50009999999999999,3.469172240938837E-3,2.7753377927510699E-2,1.8457837271648465E-3,1.8457837271648465E-3]
[null,0.54099856635018873,1.7528452898618867E-4,3.0962976989787463E-2,-6.2314419257626312E-2,1.94602108992708,1.2873851485751973,0.66154737748676573,0.44217374028986844,85.225818058251662,5.1407002350332881E-2,-10.808042021876878,-6.5192573597986888E-3,4.7850270532834228E-2,0.50009999999999999,null,4.7850270532834228E-2,0.5,0.81732885776937358,5.7819537348980619E-2,5.7819537348980619E-2,-0.50009999999999999,3.469172240938837E-3,2.7753377927510699E-2,1.8457837271648465E-3,1.8457837271648465E-3]
[null,0.54099856635018873,1.7528452898618867E-4,3.0962976989787463E-2,-6.2314419257626312E-2,1.94602108992708,1.2873851485751973,0.66154737748676573,0.44217374028986844,85.225818058251662,5.1407002350332881E-2,-10.808042021876878,-6.5192573597986888E-3,4.7850270532834228E-2,0.50009999999999999,null,4.7850270532834228E-2,0.5,0.81732885776937358,5.7819537348980619E-2,5.7819537348980619E-2,-0.50009999999999999,3.469172240938837E-3,2.7753377927510699E-2,1.8457837271648465E-3,1.8457837271648465E-3]
[null,0.54099856635018873,1.7528452898618867E-4,3.0962976989787463E-2,-6.2314419257626312E-2,1.94602108992708,1.2873851485751973,0.66154737748676573,0.44217374028986844,85.225818058251662,5.1407002350332881E-2,-10.808042021876878,-6.5192573597986888E-3,4.7850270532834228E-2,0.50009999999999999,null,4.7850270532834228E-2,0.5,0.81732885776937358,5.7819537348980619E-2,5.7819537348980619E-2,-0.50009999999999999,3.469172240938837E-3,2.7753377927510699E-2,1.8457837271648465E-3,1.8457837271648465E-3]
[null,0.54099856635018873,1.7528452898618867E-4,3.0962976989787463E-2,-6.2314419257626312E-2,1.94602108992708,1.2873851485751973,0.66154737748676573,0.44217374028986844,85.225818058251662,5.1407002350332881E-2,-10.808042021876878,-6.5192573597986888E-3,4.7850270532834228E-2,0.50009999999999999,null,4.7850270532834228E-2,0.5,0.81732885776937358,5.7819537348980619E-2,5.7819537348980619E-2,-0.50009999999999999,3.469172240938837E-3,2.7753377927510699E-2,1.8457837271648465E-3,1.8457837271648465E-3]
[null,0.54099856635018873,1.7528452898618867E-4,3.0962976989787463E-2,-6.2314419257626312E-2,1.94602108992708,1.2873851485751973,0.66154737748676573,0.44217374028986844,85.225818058251662,5.1407002350332881E-2,-10.808042021876878,-6.5192573597986888E-3,4.7850270532834228E-2,0.50009999999999999,null,4.7850270532834228E-2,0.5,0.81732885776937358,5.7819537348980619E-2,5.7819537348980619E-2,-0.50009999999999999,3.469172240938837E-3,2.7753377927510699E-2,1.8457837271648465E-3,1.8457837271648465E-3]
[null,0.54099856635018873,1.7528452898618867E-4,3.0962976989787463E-2,-6.2314419257626312E-2,1.94602108992708,1.2873851485751973,0.66154737748676573,0.44217374028986844,85.225818058251662,5.1407002350332881E-2,-10.808042021876878,-6.5192573597986888E-3,4.7850270532834228E-2,0.50009999999999999,null,4.7850270532834228E-2,0.5,0.81732885776937358,5.7819537348980619E-2,5.7819537348980619E-2,-0.50009999999999999,3.469172240938837E-3,2.7753377927510699E-2,1.8457837271648465E-3,1.8457837271648465E-3]
[null,0.54099856635018873,1.7528452898618867E-4,3.0962976989787463E-2,-6.2314419257626312E-2,1.94602108992708,1.2873851485751973,0.66154737748676573,0.44217374028986844,85.225818058251662,5.1407002350332881E-2,-10.808042021876878,-6.5192573597986888E-3,4.7850270532834228E-2,0.50009999999999999,null,4.7850270532834228E-2,0.5,0.81732885776937358,5.7819537348980619E-2,5.7819537348980619E-2,-0.50009999999999999,3.469172240938837E-3,2.7753377927510699E-2,1.8457837271648465E-3,1.8457837271648465E-3]
[null,0.54099856635018873,1.7528452898618867E-4,3.0962976989787463E-2,-6.2314419257626312E-2,1.94602108992708,1.2873851485751973,0.66154737748676573,0.44217374028986844,85.225818058251662,5.1407002350332881E-2,-10.808042021876878,-6.5192573597986888E-3,4.7850270532834228E-2,0.50009999999999999,null,4.7850270532834228E-2,0.5,0.81732885776937358,5.7819537348980619E-2,5.7819537348980619E-2,-0.50009999999999999,3.469172240938837E-3,2.7753377927510699E-2,1.8457837271648465E-3,1.8457837271648465E-3]
[null,0.54099856635018873,1.7528452898618867E-4,3.0962976989787463E-2,-6.2314419257626312E-2,1.94602108992708,1.2873851485751973,0.66154737748676573,0.44217374028986844,85.225818058251662,5.1407002350332881E-2,-10.808042021876878,-6.5192573597986888E-3,4.7850270532834228E-2,0.50009999999999999,null,4.7850270532834228E-2,0.5,0.81732885776937358,5.7819537348980619E-2,5.7819537348980619E-2,-0.50009999999999999,3.469172240938837E-3,2.7753377927510699E-2,1.8457837271648465E-3,1.8457837271648465E-3]
[null,0.54099856635018873,1.7528452898618867E-4,3.0962976989787463E-2,-6.2314419257626312E-2,1.94602108992708,1.2873851485751973,0.66154737748676573,0.44217374028986844,85.225818058251662,5.1407002350332881E-2,-10.808042021876878,-6.5192573597986888E-3,4.7850270532834228E-2,0.50009999999999999,null,4.7850270532834228E-2,0.5,0.81732885776937358,5.7819537348980619E-2,5.7819537348980619E-2,-0.50009999999999999,3.469172240938837E-3,2.7753377927510699E-2,1.8457837271648465E-3,1.8457837271648465E-3]
[null,0.54099856635018873,1.7528452898618867E-4,3.0962976989787463E-2,-6.2314419257626312E-2,1.94602108992708,1.2873851485751973,0.66154737748676573,0.44217374028986844,85.225818058251662,5.1407002350332881E-2,-10.808042021876878,-6.5192573597986888E-3,4.7850270532834228E-2,0.50009999999999999,null,4.7850270532834228E-2,0.5,0.81732885776937358,5.7819537348980619E-2,5.7819537348980619E-2,-0.50009999999999999,3.469172240938837E-3,2.7753377927510699E-2,1.8457837271648465E-3,1.8457837271648465E-3]
[null,0.54099856635018873,1.7528452898618867E-4,3.0962976989787463E-2,-6.2314419257626312E-2,1.94602108992708,1.2873851485751973,0.66154737748676573,0.44217374028986844,85.225818058251662,5.1407002350332881E-2,-10.808042021876878,-6.5192573597986888E-3,4.7850270532834228E-2,0.50009999999999999,null,4.7850270532834228E-2,0.5,0.81732885776937358,5.7819537348980619E-2,5.7819537348980619E-2,-0.50009999999999999,3.469172240938837E-3,2.7753377927510699E-2,1.8457837271648465E-3,1.8457837271648465E-3]
[null,{"$f":"MIN(0.5*(-(T1477+U1477+V1477)+SQRT((T1477+U1477+V1477)^2+4*S1477*(W1477+X1477)))/S1477,1000*$C$6)","v":0.54099856635018873},1.7528452898618867E-4,{"$f":"IF($C$2=1,C1477/($Z$1006*$Z$5),2^(1/3)*$Z$5/C1477)","v":3.0962976989787463E-2},{"$f":"IF($C$2=1,-($Z$1006-2)*C1477/$Z$5,3*($Z$5/C1477)^2)","v":-6.2314419257626312E-2},{"$f":"IF($C$2=1,0.5*($Z$1006*C1477*$F$1006/$Z$5)*(1-Y1477^2+(D1477-E1477)*(E1477^2*(1-Y1477^2)+2*E1477*(1-Y1477)+2*LN((1-E1477)/(1-E1477*Y1477)))/(E1477^3)),$F$1006*E1477*(LN((1-D1477+D1477^2)/(1+D1477)^2)/(6*D1477)+ATAN((2-D1477)/(D1477*3^0.5))/(D1477*3^0.5)-LN((Y1477^2-D1477*Y1477+D1477^2)/(Y1477+D1477)^2)/(6*D1477)-ATAN((2*Y1477-D1477)/(D1477*3^0.5))/(D1477*3^0.5)))","v":1.94602108992708},{"$f":"IF($C$2=1,($Z$1006*C1477*$F$1006/$Z$5)*(1-Y1477^3-(D1477-E1477)*(-2*E1477^3*(1-Y1477^3)-3*E1477^2*(1-Y1477^2)-6*E1477*(1-Y1477)-6*LN((1-E1477)/(1-E1477*Y1477)))/(2*E1477^4))/3,$F$1006*E1477*(LN((1+D1477^3)/(D1477^3+Y1477^3)))/3)","v":1.2873851485751973},{"$f":"G1477/F1477","v":0.66154737748676573},{"$f":"F1477*B1477*$D$1006","v":0.44217374028986844},{"$f":"MAX(MIN($K$1006,$Q$1006*$J$1006*C1477*(B1477-$I$1006)/B1477),-$K$1006)","v":85.225818058251662},{"$f":"J1477*$H$1006","v":5.1407002350332881E-2},{"$f":"MIN($O$1006,$Q$1006*$N$1006*C1477*(C$1006-B1477-$M$1006)/B1477)","v":-10.808042021876878},{"$f":"L1477*$L$1006","v":-6.5192573597986888E-3},{"$f":"(0.5*$C$1006-B1477+H1477*B1477)*I1477+(0.5*$C$1006-$I$1006)*K1477+(0.5*$C$1006-$M$1006)*M1477","v":4.7850270532834228E-2},{"$f":"I1477+K1477-M1477","v":0.50009999999999999},null,{"$f":"N1477-P1477*O1477","v":4.7850270532834228E-2},{"$f":"R1476","v":0.5},{"$f":"F1477*$D$1006","v":0.81732885776937358},{"$f":"IF(ABS(J1476)<$K$1006,$Q$1006*C1477*$H$1006*$J$1006,IF(J1476>0,1,-1)*$H$1006*$K$1006)","v":5.7819537348980619E-2},5.7819537348980619E-2,{"$f":"-(R1477+0.0001)","v":-0.50009999999999999},{"$f":"IF(ABS(J1476)<$K$1006,$I$1006*$Q$1006*C1477*$H$1006*$J$1006,0)","v":3.469172240938837E-3},2.7753377927510699E-2,{"$f":"IF(B1476<$C$1006,0,(B1476-$C$1006)/B1476)","v":1.8457837271648465E-3},{"$f":"IF(B1477<=$C$1006,0,(B1477-$C$1006)/B1477)","v":1.8457837271648465E-3}]
[null,{"$f":"MIN(0.5*(-(T1478+U1478+V1478)+SQRT((T1478+U1478+V1478)^2+4*S1478*(W1478+X1478)))/S1478,1000*$C$6)","v":0.54099856635018873},1.7528452898618867E-4,{"$f":"IF($C$2=1,C1478/($Z$1006*$Z$5),2^(1/3)*$Z$5/C1478)","v":3.0962976989787463E-2},{"$f":"IF($C$2=1,-($Z$1006-2)*C1478/$Z$5,3*($Z$5/C1478)^2)","v":-6.2314419257626312E-2},{"$f":"IF($C$2=1,0.5*($Z$1006*C1478*$F$1006/$Z$5)*(1-Y1478^2+(D1478-E1478)*(E1478^2*(1-Y1478^2)+2*E1478*(1-Y1478)+2*LN((1-E1478)/(1-E1478*Y1478)))/(E1478^3)),$F$1006*E1478*(LN((1-D1478+D1478^2)/(1+D1478)^2)/(6*D1478)+ATAN((2-D1478)/(D1478*3^0.5))/(D1478*3^0.5)-LN((Y1478^2-D1478*Y1478+D1478^2)/(Y1478+D1478)^2)/(6*D1478)-ATAN((2*Y1478-D1478)/(D1478*3^0.5))/(D1478*3^0.5)))","v":1.94602108992708},{"$f":"IF($C$2=1,($Z$1006*C1478*$F$1006/$Z$5)*(1-Y1478^3-(D1478-E1478)*(-2*E1478^3*(1-Y1478^3)-3*E1478^2*(1-Y1478^2)-6*E1478*(1-Y1478)-6*LN((1-E1478)/(1-E1478*Y1478)))/(2*E1478^4))/3,$F$1006*E1478*(LN((1+D1478^3)/(D1478^3+Y1478^3)))/3)","v":1.2873851485751973},{"$f":"G1478/F1478","v":0.66154737748676573},{"$f":"F1478*B1478*$D$1006","v":0.44217374028986844},{"$f":"MAX(MIN($K$1006,$Q$1006*$J$1006*C1478*(B1478-$I$1006)/B1478),-$K$1006)","v":85.225818058251662},{"$f":"J1478*$H$1006","v":5.1407002350332881E-2},{"$f":"MIN($O$1006,$Q$1006*$N$1006*C1478*(C$1006-B1478-$M$1006)/B1478)","v":-10.808042021876878},{"$f":"L1478*$L$1006","v":-6.5192573597986888E-3},{"$f":"(0.5*$C$1006-B1478+H1478*B1478)*I1478+(0.5*$C$1006-$I$1006)*K1478+(0.5*$C$1006-$M$1006)*M1478","v":4.7850270532834228E-2},{"$f":"I1478+K1478-M1478","v":0.50009999999999999},null,{"$f":"N1478-P1478*O1478","v":4.7850270532834228E-2},{"$f":"R1477","v":0.5},{"$f":"F1478*$D$1006","v":0.81732885776937358},{"$f":"IF(ABS(J1477)<$K$1006,$Q$1006*C1478*$H$1006*$J$1006,IF(J1477>0,1,-1)*$H$1006*$K$1006)","v":5.7819537348980619E-2},5.7819537348980619E-2,{"$f":"-(R1478+0.0001)","v":-0.50009999999999999},{"$f":"IF(ABS(J1477)<$K$1006,$I$1006*$Q$1006*C1478*$H$1006*$J$1006,0)","v":3.469172240938837E-3},2.7753377927510699E-2,{"$f":"IF(B1477<$C$1006,0,(B1477-$C$1006)/B1477)","v":1.8457837271648465E-3},{"$f":"IF(B1478<=$C$1006,0,(B1478-$C$1006)/B1478)","v":1.8457837271648465E-3}]
[null,null,{"$f":"IF(C1406*J1479/(J1479-L1479)<=0,B1478,C1406*J1479/(J1479-L1479))","v":0.50076293359703583},null,null,null,null,null,null,{"$f":"$R1478/($J1409*N1409)+($Q1478-R1408)/($M1409*N1409)","v":2.9242339236278824E-4},null,{"$f":"$R1478/($J1409*$N$1409)-($Q1478-R1408)/($M1409*N1409)","v":-2.2912710374749462E-5},null,null,{"$f":"SIGN(J1479-L1479)","v":1},{"$f":"IF(Q1411=0.0001,ABS(Q1408)*($Q$6*C1478/B1478)/Q1411,IF(B1478>10*$C$6,(L1479-J1479)/$C$6,$Q$6*C1478/B1478))*IF(B1478>10*C1406,O1479*P1408,P1408)","v":8.8592590519493786E-4},null,null,null,null,null,null,null,null,null,null,{"$f":"N1478/($Q$6*C1478/B1478)","v":54.011594256638567}]
[null,{"$f":"IF(AND(B1478<>1000*$C$6,C1480<C1406,B1478<C1406),B1478,IF(AND(B1478<>1000*$C$6,C1480>C1406,B1478>C1406),B1478*C1480/C1479,IF(C1406*J1480/(J1480-L1480)<=0,B1478,C1406*J1480/(J1480-L1480))))","v":0.50070156073728367},{"$f":"IF(C1406*J1480/(J1480-L1480)<=0,B1478,C1406*J1480/(J1480-L1480))","v":0.50070156073728367},null,null,null,null,null,null,{"$f":"$R1478/($J1409*N1409)+($Q1480-R1408)/($M1409*N1409)","v":2.9246533633218801E-4},null,{"$f":"$R1478/($J1409*N1409)-($Q1480-R1408)/($M1409*N1409)","v":-2.2954654344149202E-5},null,null,{"$f":"SIGN(J1480-L1480)","v":1},null,{"$f":"MAX(ABS(INDEX(Snitkræfter!$G$286:$U$286,B1409+1)),0.0000001)","v":4.7863000000000058E-2}]
[null,{"$f":"MIN(0.5*(-(T1481+U1481+V1481)+SQRT((T1481+U1481+V1481)^2+4*S1481*(W1481+X1481)))/S1481,1000*$C$6)","v":0.54099683303502655},{"$f":"MIN(MAX(IF(Q1408=0,0.001*Z1405,IF(OR(AND(B1478<>1000*$C$6,C1480<C1406,B1478<C1406),AND(B1478<>1000*$C$6,C1480>C1406,B1478>C1406)),C1478*J1480/J1479,IF(B1480>C1406,J1480,C1478*MIN(Q1480/Q1411,2)))),0.0001*$Z$5),0.9*K1406/(J1406*Q1406))","v":1.7528452904836094E-4},{"$f":"IF($C$2=1,C1481/($Z$1006*$Z$5),2^(1/3)*$Z$5/C1481)","v":3.0962977000769828E-2},{"$f":"IF($C$2=1,-($Z$1006-2)*C1481/$Z$5,3*($Z$5/C1481)^2)","v":-6.2314419279728833E-2},{"$f":"IF($C$2=1,0.5*($Z$1006*C1481*$F$1006/$Z$5)*(1-Y1481^2+(D1481-E1481)*(E1481^2*(1-Y1481^2)+2*E1481*(1-Y1481)+2*LN((1-E1481)/(1-E1481*Y1481)))/(E1481^3)),$F$1006*E1481*(LN((1-D1481+D1481^2)/(1+D1481)^2)/(6*D1481)+ATAN((2-D1481)/(D1481*3^0.5))/(D1481*3^0.5)-LN((Y1481^2-D1481*Y1481+D1481^2)/(Y1481+D1481)^2)/(6*D1481)-ATAN((2*Y1481-D1481)/(D1481*3^0.5))/(D1481*3^0.5)))","v":1.946028138536634},{"$f":"IF($C$2=1,($Z$1006*C1481*$F$1006/$Z$5)*(1-Y1481^3-(D1481-E1481)*(-2*E1481^3*(1-Y1481^3)-3*E1481^2*(1-Y1481^2)-6*E1481*(1-Y1481)-6*LN((1-E1481)/(1-E1481*Y1481)))/(2*E1481^4))/3,$F$1006*E1481*(LN((1+D1481^3)/(D1481^3+Y1481^3)))/3)","v":1.287385157674471},{"$f":"G1481/F1481","v":0.6615449860054714},{"$f":"F1481*B1481*$D$1006","v":0.44217392517705406},{"$f":"MAX(MIN($K$1006,$Q$1006*$J$1006*C1481*(B1481-$I$1006)/B1481),-$K$1006)","v":85.225784027161794},{"$f":"J1481*$H$1006","v":5.1406981823263066E-2},{"$f":"MIN($O$1006,$Q$1006*$N$1006*C1481*(C$1006-B1481-$M$1006)/B1481)","v":-10.807769535159203},{"$f":"L1481*$L$1006","v":-6.5190929996827626E-3},{"$f":"(0.5*$C$1006-B1481+H1481*B1481)*I1481+(0.5*$C$1006-$I$1006)*K1481+(0.5*$C$1006-$M$1006)*M1481","v":4.7850004125715467E-2},{"$f":"I1481+K1481-M1481","v":0.50009999999999988},null,{"$f":"N1481-P1481*O1481","v":4.7850004125715467E-2},{"$f":"R1478","v":0.5},{"$f":"F1481*$D$1006","v":0.81733181818538625},{"$f":"IF(ABS(J1480)<$K$1006,$Q$1006*C1481*$H$1006*$J$1006,IF(J1480>0,1,-1)*$H$1006*$K$1006)","v":5.7819537369488833E-2},{"$f":"IF(L1478<$O$1006,$Q$1006*C1481*$L$1006*$N$1006,-$L$1006*$O$1006)","v":5.7819537369488833E-2},{"$f":"-(R1481+0.0001)","v":-0.50009999999999999},{"$f":"IF(ABS(J1480)<$K$1006,$I$1006*$Q$1006*C1481*$H$1006*$J$1006,0)","v":3.4691722421693297E-3},{"$f":"IF(L1478<$O$1006,($C$1006-$M$1006)*$Q$1006*C1481*$L$1006*$N$1006,0)","v":2.7753377937354641E-2},{"$f":"IF(B1480<$C$406,0,IF(C1478*J1480/J1479=C1481,Y1478,(B1480-$C$6)/B1480))","v":0},{"$f":"IF(B1481<=$C$1006,0,(B1481-$C$1006)/B1481)","v":1.8425857124416338E-3}]
[null,{"$f":"MIN(0.5*(-(T1482+U1482+V1482)+SQRT((T1482+U1482+V1482)^2+4*S1482*(W1482+X1482)))/S1482,1000*$C$6)","v":0.55147582324665323},{"$f":"0.98*C1481","v":1.7177883846739372E-4},{"$f":"IF($C$2=1,C1482/($Z$1006*$Z$5),2^(1/3)*$Z$5/C1482)","v":3.0343717460754434E-2},{"$f":"IF($C$2=1,-($Z$1006-2)*C1482/$Z$5,3*($Z$5/C1482)^2)","v":-6.1068130894134244E-2},{"$f":"IF($C$2=1,0.5*($Z$1006*C1482*$F$1006/$Z$5)*(1-Y1482^2+(D1482-E1482)*(E1482^2*(1-Y1482^2)+2*E1482*(1-Y1482)+2*LN((1-E1482)/(1-E1482*Y1482)))/(E1482^3)),$F$1006*E1482*(LN((1-D1482+D1482^2)/(1+D1482)^2)/(6*D1482)+ATAN((2-D1482)/(D1482*3^0.5))/(D1482*3^0.5)-LN((Y1482^2-D1482*Y1482+D1482^2)/(Y1482+D1482)^2)/(6*D1482)-ATAN((2*Y1482-D1482)/(D1482*3^0.5))/(D1482*3^0.5)))","v":1.9094120875965339},{"$f":"IF($C$2=1,($Z$1006*C1482*$F$1006/$Z$5)*(1-Y1482^3-(D1482-E1482)*(-2*E1482^3*(1-Y1482^3)-3*E1482^2*(1-Y1482^2)-6*E1482*(1-Y1482)-6*LN((1-E1482)/(1-E1482*Y1482)))/(2*E1482^4))/3,$F$1006*E1482*(LN((1+D1482^3)/(D1482^3+Y1482^3)))/3)","v":1.2633554927496162},{"$f":"G1482/F1482","v":0.66164632608975504},{"$f":"F1482*B1482*$D$1006","v":0.4422577332282519},{"$f":"MAX(MIN($K$1006,$Q$1006*$J$1006*C1482*(B1482-$I$1006)/B1482),-$K$1006)","v":83.71923820451282},5.0498254791826833E-2,{"$f":"MIN($O$1006,$Q$1006*$N$1006*C1482*(C$1006-B1482-$M$1006)/B1482)","v":-12.175373007610018},-7.3440119799212345E-3,{"$f":"(0.5*$C$1006-B1482+H1482*B1482)*I1482+(0.5*$C$1006-$I$1006)*K1482+(0.5*$C$1006-$M$1006)*M1482","v":4.5949396597680894E-2},{"$f":"I1482+K1482-M1482","v":0.50009999999999999},null,{"$f":"N1482-P1482*O1482","v":4.5949396597680894E-2},{"$f":"R1481","v":0.5},0.80195307679054417,5.6663146622099057E-2,{"$f":"IF(L1481<$O$1006,$Q$1006*C1482*$L$1006*$N$1006,-$L$1006*$O$1006)","v":5.6663146622099057E-2},{"$f":"-(R1482+0.0001)","v":-0.50009999999999999},3.3997887973259431E-3,{"$f":"IF(L1481<$O$1006,($C$1006-$M$1006)*$Q$1006*C1482*$L$1006*$N$1006,0)","v":2.7198310378607548E-2},{"$f":"IF(B1481<$C$1406,0,IF(MIN(ABS($Q$1480-Q1481),ABS(Q1481-Q1480))<=0.001*Q$1480,Y1481,(B1481-$C$1406)/B1481))","v":0},2.0809295281690916E-2]
[null,0.55701302696417643,{"$f":"IF(Z1482>0,0.99*C1482,0.98*C1482)","v":1.7006105008271979E-4},3.004028028614689E-2,-6.0457449585192904E-2,1.8905692362510156,1.2515444909333862,{"$f":"G1483/F1483","v":0.66199347103266604},0.44229011104720234,82.982631166022259,5.0053943893771567E-2,-12.858302025970451,-7.7559450590260837E-3,4.5029163752666822E-2,{"$f":"I1483+K1483-M1483","v":0.50009999999999999},null,{"$f":"N1483-P1483*O1483","v":4.5029163752666822E-2},{"$f":"R1482","v":0.5},0.79403907922542649,5.6096515155878067E-2,5.6096515155878067E-2,{"$f":"-(R1483+0.0001)","v":-0.50009999999999999},3.3657909093526834E-3,2.6926327274821478E-2,{"$f":"IF(B1482<$C$1406,0,IF(MIN(ABS($Q$1480-Q1482),ABS(Q1482-Q1481))<=0.001*Q$1480,Y1482,(B1482-$C$1406)/B1482))","v":2.0809295281690916E-2},3.0543319708159291E-2]
[null,0.5412767883958286,{"$f":"IF(MIN(ABS($Q$1480-Q1483),10*ABS(Q1483-Q1482))<=0.001*Q$1480,C1483,MAX(0.9*C1483,MIN($W$6,1.05*C1483,IF(C1483=$W$6,0.5*(C1483+C1482),C1483+IF(C1483=C1482,0,(C1483-C1482)*(Q1483-Q$1480)/(Q1482-Q1483))))))","v":1.7535094058827175E-4},3.0974708207134747E-2,-6.2338028873601618E-2,1.944793735368656,1.2878004965293404,0.66217844756951783,0.44212211701252263,85.263574893650386,5.1429776736901474E-2,-10.855869559063446,-6.5481062505758957E-3,4.7953898185359528E-2,0.50009999999999999,null,4.7953898185359528E-2,0.5,0.81681336885483546,5.7841443949233698E-2,5.7841443949233698E-2,-0.50009999999999999,3.4704866369540208E-3,2.7763893095632177E-2,3.0543319708159291E-2,2.3588456464437688E-3]
[null,0.54128626925030388,{"$f":"IF(MIN(ABS($Q$1480-Q1484),10*ABS(Q1484-Q1483))<=0.001*Q$1480,C1484,MAX(0.9*C1484,MIN($W$6,1.05*C1484,IF(C1484=$W$6,0.5*(C1484+C1483),C1484+IF(C1484=C1483,0,(C1484-C1483)*(Q1484-Q$1480)/(Q1483-Q1484))))))","v":1.7518653542302661E-4},3.0945667005507143E-2,-6.2279582115895966E-2,1.9449943374022336,1.2867143525520792,0.66155172167268927,0.44217546601427721,85.183819659408186,5.1381669512969193E-2,-10.847179404365523,-6.5428644727536451E-3,4.7798126551448668E-2,0.50009999999999999,null,4.7798126551448668E-2,0.5,0.81689762170893809,5.7787213090142835E-2,5.7787213090142835E-2,-0.50009999999999999,3.4672327854085696E-3,2.7737862283268567E-2,2.3588456464437688E-3,2.3763197468233536E-3]
[null,0.54108601992752603,1.7525500443603843E-4,3.0957761652345973E-2,-6.2303923150484997E-2,1.9457084573077836,1.2871830424627209,0.66154980085955739,0.442174170943678,85.213180778897978,5.1399379723008932E-2,-10.819965335787147,-6.5264493333129833E-3,4.7834688825921873E-2,0.50009999999999999,null,4.7834688825921873E-2,0.5,0.81719755206926914,5.7809798350108341E-2,5.7809798350108341E-2,-0.50009999999999999,3.4685879010065012E-3,2.7748703208052009E-2,2.3763197468233536E-3,2.0071114157993908E-3]
[null,0.54108601992752603,1.7525500443603843E-4,3.0957761652345973E-2,-6.2303923150484997E-2,1.9457084573077836,1.2871830424627209,0.66154980085955739,0.442174170943678,85.213180778897978,5.1399379723008932E-2,-10.819965335787147,-6.5264493333129833E-3,4.7834688825921873E-2,0.50009999999999999,null,4.7834688825921873E-2,0.5,0.81719755206926914,5.7809798350108341E-2,5.7809798350108341E-2,-0.50009999999999999,3.4685879010065012E-3,2.7748703208052009E-2,2.3763197468233536E-3,2.0071114157993908E-3]
[null,0.54108601992752603,1.7525500443603843E-4,3.0957761652345973E-2,-6.2303923150484997E-2,1.9457084573077836,1.2871830424627209,0.66154980085955739,0.442174170943678,85.213180778897978,5.1399379723008932E-2,-10.819965335787147,-6.5264493333129833E-3,4.7834688825921873E-2,0.50009999999999999,null,4.7834688825921873E-2,0.5,0.81719755206926914,5.7809798350108341E-2,5.7809798350108341E-2,-0.50009999999999999,3.4685879010065012E-3,2.7748703208052009E-2,2.3763197468233536E-3,2.0071114157993908E-3]
[null,0.54108601992752603,1.7525500443603843E-4,3.0957761652345973E-2,-6.2303923150484997E-2,1.9457084573077836,1.2871830424627209,0.66154980085955739,0.442174170943678,85.213180778897978,5.1399379723008932E-2,-10.819965335787147,-6.5264493333129833E-3,4.7834688825921873E-2,0.50009999999999999,null,4.7834688825921873E-2,0.5,0.81719755206926914,5.7809798350108341E-2,5.7809798350108341E-2,-0.50009999999999999,3.4685879010065012E-3,2.7748703208052009E-2,2.3763197468233536E-3,2.0071114157993908E-3]
[null,0.54108601992752603,1.7525500443603843E-4,3.0957761652345973E-2,-6.2303923150484997E-2,1.9457084573077836,1.2871830424627209,0.66154980085955739,0.442174170943678,85.213180778897978,5.1399379723008932E-2,-10.819965335787147,-6.5264493333129833E-3,4.7834688825921873E-2,0.50009999999999999,null,4.7834688825921873E-2,0.5,0.81719755206926914,5.7809798350108341E-2,5.7809798350108341E-2,-0.50009999999999999,3.4685879010065012E-3,2.7748703208052009E-2,2.3763197468233536E-3,2.0071114157993908E-3]
[null,0.54108601992752603,1.7525500443603843E-4,3.0957761652345973E-2,-6.2303923150484997E-2,1.9457084573077836,1.2871830424627209,0.66154980085955739,0.442174170943678,85.213180778897978,5.1399379723008932E-2,-10.819965335787147,-6.5264493333129833E-3,4.7834688825921873E-2,0.50009999999999999,null,4.7834688825921873E-2,0.5,0.81719755206926914,5.7809798350108341E-2,5.7809798350108341E-2,-0.50009999999999999,3.4685879010065012E-3,2.7748703208052009E-2,2.3763197468233536E-3,2.0071114157993908E-3]
[null,0.54108601992752603,1.7525500443603843E-4,3.0957761652345973E-2,-6.2303923150484997E-2,1.9457084573077836,1.2871830424627209,0.66154980085955739,0.442174170943678,85.213180778897978,5.1399379723008932E-2,-10.819965335787147,-6.5264493333129833E-3,4.7834688825921873E-2,0.50009999999999999,null,4.7834688825921873E-2,0.5,0.81719755206926914,5.7809798350108341E-2,5.7809798350108341E-2,-0.50009999999999999,3.4685879010065012E-3,2.7748703208052009E-2,2.3763197468233536E-3,2.0071114157993908E-3]
[null,0.54108601992752603,1.7525500443603843E-4,3.0957761652345973E-2,-6.2303923150484997E-2,1.9457084573077836,1.2871830424627209,0.66154980085955739,0.442174170943678,85.213180778897978,5.1399379723008932E-2,-10.819965335787147,-6.5264493333129833E-3,4.7834688825921873E-2,0.50009999999999999,null,4.7834688825921873E-2,0.5,0.81719755206926914,5.7809798350108341E-2,5.7809798350108341E-2,-0.50009999999999999,3.4685879010065012E-3,2.7748703208052009E-2,2.3763197468233536E-3,2.0071114157993908E-3]
[null,0.54108601992752603,1.7525500443603843E-4,3.0957761652345973E-2,-6.2303923150484997E-2,1.9457084573077836,1.2871830424627209,0.66154980085955739,0.442174170943678,85.213180778897978,5.1399379723008932E-2,-10.819965335787147,-6.5264493333129833E-3,4.7834688825921873E-2,0.50009999999999999,null,4.7834688825921873E-2,0.5,0.81719755206926914,5.7809798350108341E-2,5.7809798350108341E-2,-0.50009999999999999,3.4685879010065012E-3,2.7748703208052009E-2,2.3763197468233536E-3,2.0071114157993908E-3]
[null,0.54108601992752603,1.7525500443603843E-4,3.0957761652345973E-2,-6.2303923150484997E-2,1.9457084573077836,1.2871830424627209,0.66154980085955739,0.442174170943678,85.213180778897978,5.1399379723008932E-2,-10.819965335787147,-6.5264493333129833E-3,4.7834688825921873E-2,0.50009999999999999,null,4.7834688825921873E-2,0.5,0.81719755206926914,5.7809798350108341E-2,5.7809798350108341E-2,-0.50009999999999999,3.4685879010065012E-3,2.7748703208052009E-2,2.3763197468233536E-3,2.0071114157993908E-3]
[null,0.54108601992752603,1.7525500443603843E-4,3.0957761652345973E-2,-6.2303923150484997E-2,1.9457084573077836,1.2871830424627209,0.66154980085955739,0.442174170943678,85.213180778897978,5.1399379723008932E-2,-10.819965335787147,-6.5264493333129833E-3,4.7834688825921873E-2,0.50009999999999999,null,4.7834688825921873E-2,0.5,0.81719755206926914,5.7809798350108341E-2,5.7809798350108341E-2,-0.50009999999999999,3.4685879010065012E-3,2.7748703208052009E-2,2.3763197468233536E-3,2.0071114157993908E-3]
[null,0.54108601992752603,1.7525500443603843E-4,3.0957761652345973E-2,-6.2303923150484997E-2,1.9457084573077836,1.2871830424627209,0.66154980085955739,0.442174170943678,85.213180778897978,5.1399379723008932E-2,-10.819965335787147,-6.5264493333129833E-3,4.7834688825921873E-2,0.50009999999999999,null,4.7834688825921873E-2,0.5,0.81719755206926914,5.7809798350108341E-2,5.7809798350108341E-2,-0.50009999999999999,3.4685879010065012E-3,2.7748703208052009E-2,2.3763197468233536E-3,2.0071114157993908E-3]
[null,0.54108601992752603,1.7525500443603843E-4,3.0957761652345973E-2,-6.2303923150484997E-2,1.9457084573077836,1.2871830424627209,0.66154980085955739,0.442174170943678,85.213180778897978,5.1399379723008932E-2,-10.819965335787147,-6.5264493333129833E-3,4.7834688825921873E-2,0.50009999999999999,null,{"$f":"IF(B1498>10*B1406,Q1480,IF(Q1480<0.000001,0,N1498-P1498*O1498))","v":4.7834688825921873E-2},0.5,0.81719755206926914,5.7809798350108341E-2,5.7809798350108341E-2,-0.50009999999999999,3.4685879010065012E-3,2.7748703208052009E-2,2.3763197468233536E-3,2.0071114157993908E-3]
[null,null,null,null,null,null,null,null,null,{"$f":"MAX(J1478,J1498)/K1406","v":0.1859472393998218},null,{"$f":"MAX(L1478,L1498)/O1406","v":-2.3581182593185913E-2},null,null,null,{"$f":"IF(Q1480=0.0001,ABS(INDEX(Snitkræfter!$G$286:$U$286,B1409+1))*($Q$6*C1498/B1498)/Q1480,IF(B1498>10*$C$6,(J1480-L1480)/$C$6,$Q$6*C1498/B1498))*IF(AND(B1498>10*$C$6,O1480=O1479),P1408,P1408)","v":8.8563351717989064E-4},null,null,null,null,null,null,null,null,null,null,{"$f":"(Q1478-Q1498)/(P1479-P1499)","v":53.291195638915866}]
[]
[]
[null,"Tilstand:",{"$f":"C1002","v":1}]
[]
[null,"L","h","b","fck","fcd","Ecd","Ac","ac","Esc","fyd_c","At","at","Est","fyd_t","Modenhed","1+f","uterm","g","EI","sc/fcd","sc","e","   emax",null,{"$f":"Stivheder!$AD$4","v":3.5000000000000001E-3}]
[null,"(m)","(m)","(m)","(Mpa)","(Mpa)","(Mpa)","(m2)","(m)","(Mpa)","(Mpa)","(m2)","(m)","(Mpa)","(Mpa)","(døgn)",null,"(m)",null,"(Mnm2)",null,"(MPa)",null,"e1",null,{"$f":"Stivheder!$AD$5","v":2.0693662482105194E-3}]
[null,{"$f":"Stivheder!$B$6","v":0.54},{"$f":"Stivheder!$C$6","v":0.54},{"$f":"Stivheder!$D$6","v":0.42},{"$f":"Stivheder!$E$6","v":25},{"$f":"Stivheder!$F$6","v":17.857142857142858},{"$f":"IF(C1502=1,1000*22*((E1506+8)/10)^0.3/S1506,1.4*F1506/Z1505)","v":22482.71872144239},{"$f":"IF(P1508<0,Stivheder!$X$6,Stivheder!$T$6)","v":6.0318578948924026E-4},{"$f":"IF(P1508<0,Stivheder!$Y$6,Stivheder!$U$6)","v":0.06},{"$f":"IF(P1508<0,Stivheder!$Z$6,Stivheder!$V$6)","v":200000},{"$f":"IF(P1508<0,Stivheder!$AA$6,Stivheder!$W$6)","v":458.33333333333337},{"$f":"IF(P1508<0,Stivheder!$T$6,Stivheder!$X$6)","v":6.0318578948924026E-4},{"$f":"IF(P1508<0,Stivheder!$U$6,Stivheder!$Y$6)","v":0.06},{"$f":"IF(P1508<0,Stivheder!$V$6,Stivheder!$Z$6)","v":200000},{"$f":"IF(P1508<0,Stivheder!$W$6,Stivheder!$AA$6)","v":458.33333333333337},{"$f":"Stivheder!$P$6","v":28},{"$f":"Stivheder!$Q$6","v":2.7343237157040781},{"$f":"Stivheder!$R$6","v":0},{"$f":"Stivheder!$S$6","v":1.4},{"$f":"AA1579","v":54.018164289115468},{"$f":"U1006","v":0.99999990000000005},{"$f":"U1506*F1506","v":17.857141071428572},{"$f":"Z1504","v":3.5000000000000001E-3},"k",null,{"$f":"Stivheder!$AD$6","v":2.7356687822616226}]
[]
[null,"punkt","elasttisk","e_o","sc_o/fcd","sc_u/fcd","sc_o","sc_u","hc","At","Ac","Ic","Wt","E",null,{"$f":"SIGN(Q1508)","v":1},{"$f":"Snitkræfter!D72","v":3.8542801610892671E-2},{"$f":"Snitkræfter!D71*P1508","v":0}]
[null,"snit","skøn",{"$f":"IF(C1502=1,Z1505*0.5*(-((Z1506-2)*E1509-Z1506)-(((Z1506-2)*E1509-Z1506)^2-4*E1509)^0.5),G1509/(1.4*F1506/Z1505))","v":1.761597576122563E-4},{"$f":"MIN(0.9999,G1509/F1506)","v":0.21233601955051107},{"$f":"H1509/F1506","v":6.2914133104966024E-3},{"$f":"IF(H1509>0,R1511/J1509+MAX(Q1511+Stivheder!$O$2*R1511+R1511*R1506,D1506*C1506^2*0.003*E1506)/M1509,MIN(0.8*F1506,2*(R1511+Q1511/(C1506-M1506-0.333*I1509))/(((R1511+L1506*O1506)/(F1506*D1506*0.5))*D1506)))","v":3.791714634830555},{"$f":"R1511/J1509-(Q1511+Stivheder!$O$2*R1511+R1511*R1506)/M1509","v":0.11234666625886791},{"$f":"IF(H1509>0,C1506*G1509/(G1509-H1509),(R1511+L1506*O1506)/(F1506*D1506*0.5))","v":0.55648848397278938},{"$f":"K1509+Q1506*(H1506+L1506)*N1506/G1506","v":0.25614351898648502},{"$f":"C1506*D1506","v":0.2268},{"$f":"D1506*C1506^3/12","v":5.5112400000000006E-3},{"$f":"(L1509+((0.5*C1506-I1506)^2*H1506+(0.5*C1506-M1506)^2*L1506)*Q1506)/(0.5*C1506)","v":2.0950773034997532E-2},{"$f":"G1509/D1509","v":21524.295254631677}]
[null,"hc","e0","a'","b'","N'","tN'","t'","Nc","sac","Nac","sat","Nat","Mtot","N",null,"Mo","N","A","B1","B2","B3","C1","C2","gættet x","beregnet x","EIt"]
[null,{"$f":"I1509","v":0.55648848397278938},null,null,null,null,null,null,null,null,null,null,null,null,null,null,{"$f":"MAX(ABS(Q1508),0.0000001)","v":3.8542801610892671E-2},{"$f":"IF(Snitkræfter!$D$10>Snitkræfter!$D$6,Snitkræfter!$D$3,Snitkræfter!$D$5)","v":0.5}]
[null,{"$f":"MIN(0.5*(-(T1512+U1512+V1512)+SQRT((T1512+U1512+V1512)^2+4*S1512*(W1512+X1512)))/S1512,1000*$C$6)","v":0.53889649582073074},{"$f":"D1509","v":1.761597576122563E-4},{"$f":"IF($C$2=1,C1512/($Z$1506*$Z$5),2^(1/3)*$Z$5/C1512)","v":3.1117580958354884E-2},{"$f":"IF($C$2=1,-($Z$1506-2)*C1512/$Z$5,3*($Z$5/C1512)^2)","v":-6.2625566874968813E-2},{"$f":"IF($C$2=1,0.5*($Z$1506*C1512*$F$1506/$Z$5)*(1-Y1512^2+(D1512-E1512)*(E1512^2*(1-Y1512^2)+2*E1512*(1-Y1512)+2*LN((1-E1512)/(1-E1512*Y1512)))/(E1512^3)),$F$1506*E1512*(LN((1-D1512+D1512^2)/(1+D1512)^2)/(6*D1512)+ATAN((2-D1512)/(D1512*3^0.5))/(D1512*3^0.5)-LN((Y1512^2-D1512*Y1512+D1512^2)/(Y1512+D1512)^2)/(6*D1512)-ATAN((2*Y1512-D1512)/(D1512*3^0.5))/(D1512*3^0.5)))","v":1.953333609589154},{"$f":"IF($C$2=1,($Z$1506*C1512*$F$1506/$Z$5)*(1-Y1512^3-(D1512-E1512)*(-2*E1512^3*(1-Y1512^3)-3*E1512^2*(1-Y1512^2)-6*E1512*(1-Y1512)-6*LN((1-E1512)/(1-E1512*Y1512)))/(2*E1512^4))/3,$F$1506*E1512*(LN((1+D1512^3)/(D1512^3+Y1512^3)))/3)","v":1.2933379864143892},{"$f":"G1512/F1512","v":0.66211832943703763},{"$f":"F1512*B1512*$D$1506","v":0.44211074769811082},{"$f":"MAX(MIN($K$1506,$Q$1506*$J$1506*C1512*(B1512-$I$1506)/B1512),-$K$1506)","v":85.609690824255381},{"$f":"J1512*$H$1506","v":5.1638548947758253E-2},{"$f":"MIN($O$1506,$Q$1506*$N$1506*C1512*(C$1506-B1512-$M$1506)/B1512)","v":-10.52860240541885},{"$f":"L1512*$L$1506","v":-6.3507033541308827E-3},{"$f":"(0.5*$C$1506-B1512+H1512*B1512)*I1512+(0.5*$C$1506-$I$1506)*K1512+(0.5*$C$1506-$M$1506)*M1512","v":4.8379388417893146E-2},{"$f":"I1512+K1512-M1512","v":0.50009999999999999},null,{"$f":"N1512-P1512*O1512","v":4.8379388417893146E-2},{"$f":"R1511","v":0.5},{"$f":"F1512*$D$1506","v":0.82040011602744467},{"$f":"IF(ABS(J1511)<$K$1506,$Q$1506*C1512*$H$1506*$J$1506,IF(J1511>0,1,-1)*$H$1506*$K$1506)","v":5.8108241175419302E-2},{"$f":"IF(L1511<$O$1506,$Q$1506*C1512*$L$1506*$N$1506,-$L$1506*$O$1506)","v":5.8108241175419302E-2},{"$f":"-(R1512+0.0001)","v":-0.50009999999999999},{"$f":"IF(ABS(J1511)<$K$1506,$I$1506*$Q$1506*C1512*$H$1506*$J$1506,0)","v":3.486494470525158E-3},{"$f":"IF(L1511<$O$1506,($C$1506-$M$1506)*$Q$1506*C1512*$L$1506*$N$1506,0)","v":2.7891955764201268E-2},{"$f":"IF(B1511<$C$1506,0,(B1511-$C$1506)/B1511)","v":2.9629515160992236E-2},{"$f":"IF(B1512<=$C$1506,0,(B1512-$C$1506)/B1512)","v":0}]
[null,{"$f":"MIN(0.5*(-(T1513+U1513+V1513)+SQRT((T1513+U1513+V1513)^2+4*S1513*(W1513+X1513)))/S1513,1000*$C$6)","v":0.56540452542646291},{"$f":"0.95*C1512","v":1.6735176973164349E-4},{"$f":"IF($C$2=1,C1513/($Z$1506*$Z$5),2^(1/3)*$Z$5/C1513)","v":2.9561701910437138E-2},{"$f":"IF($C$2=1,-($Z$1506-2)*C1513/$Z$5,3*($Z$5/C1513)^2)","v":-5.9494288531220373E-2},{"$f":"IF($C$2=1,0.5*($Z$1506*C1513*$F$1506/$Z$5)*(1-Y1513^2+(D1513-E1513)*(E1513^2*(1-Y1513^2)+2*E1513*(1-Y1513)+2*LN((1-E1513)/(1-E1513*Y1513)))/(E1513^3)),$F$1506*E1513*(LN((1-D1513+D1513^2)/(1+D1513)^2)/(6*D1513)+ATAN((2-D1513)/(D1513*3^0.5))/(D1513*3^0.5)-LN((Y1513^2-D1513*Y1513+D1513^2)/(Y1513+D1513)^2)/(6*D1513)-ATAN((2*Y1513-D1513)/(D1513*3^0.5))/(D1513*3^0.5)))","v":1.8630437736549055},{"$f":"IF($C$2=1,($Z$1506*C1513*$F$1506/$Z$5)*(1-Y1513^3-(D1513-E1513)*(-2*E1513^3*(1-Y1513^3)-3*E1513^2*(1-Y1513^2)-6*E1513*(1-Y1513)-6*LN((1-E1513)/(1-E1513*Y1513)))/(2*E1513^4))/3,$F$1506*E1513*(LN((1+D1513^3)/(D1513^3+Y1513^3)))/3)","v":1.232914600110129},{"$f":"G1513/F1513","v":0.66177435954250619},{"$f":"F1513*B1513*$D$1506","v":0.44241681989067294},{"$f":"MAX(MIN($K$1506,$Q$1506*$J$1506*C1513*(B1513-$I$1506)/B1513),-$K$1506)","v":81.806927238034774},{"$f":"J1513*$H$1506","v":4.9344775991762839E-2},{"$f":"MIN($O$1506,$Q$1506*$N$1506*C1513*(C$1506-B1513-$M$1506)/B1513)","v":-13.823939925085041},{"$f":"L1513*$L$1506","v":-8.3384041175642489E-3},{"$f":"(0.5*$C$1506-B1513+H1513*B1513)*I1513+(0.5*$C$1506-$I$1506)*K1513+(0.5*$C$1506-$M$1506)*M1513","v":4.3458605184193103E-2},{"$f":"I1513+K1513-M1513","v":0.50009999999999999},null,{"$f":"N1513-P1513*O1513","v":4.3458605184193103E-2},{"$f":"R1512","v":0.5},{"$f":"F1513*$D$1506","v":0.78247838493506028},{"$f":"IF(ABS(J1512)<$K$1506,$Q$1506*C1513*$H$1506*$J$1506,IF(J1512>0,1,-1)*$H$1506*$K$1506)","v":5.5202829116648339E-2},5.5202829116648339E-2,{"$f":"-(R1513+0.0001)","v":-0.50009999999999999},{"$f":"IF(ABS(J1512)<$K$1506,$I$1506*$Q$1506*C1513*$H$1506*$J$1506,0)","v":3.3121697469989E-3},2.6497357975991204E-2,{"$f":"IF(B1512<$C$1506,0,(B1512-$C$1506)/B1512)","v":0},{"$f":"IF(B1513<=$C$1506,0,(B1513-$C$1506)/B1513)","v":4.4931591955867739E-2}]
[null,0.59678943732913958,{"$f":"IF(ABS($Q$1511-Q1513)<=0.001*Q$1511,C1513,MAX(0.9*C1513,MIN($W$6,1.05*C1513,IF(C1513=$W$6,0.5*(C1513+C1512),C1513+IF(C1513=C1512,0,(C1513-C1512)*(Q1513-Q$1511)/(Q1512-Q1513))))))","v":1.5855269522647647E-4},2.8007397357658389E-2,-5.6366178931557577E-2,1.766686893551453,1.1719801294918333,0.66337738383052114,0.4428228323985216,77.989545143536205,4.704218535931063E-2,-16.968208503112205,-1.0234982242167776E-2,3.8331749090226484E-2,0.50009999999999999,null,3.8331749090226484E-2,0.5,0.74200849529161028,5.2300357233188183E-2,5.2300357233188183E-2,-0.50009999999999999,3.1380214339912916E-3,2.5104171471930337E-2,4.4931591955867739E-2,9.5158248080418353E-2]
[null,0.59948259472026511,{"$f":"IF(ABS($Q$1511-Q1514)<=0.001*Q$1511,C1514,MAX(0.9*C1514,MIN($W$6,1.05*C1514,IF(C1514=$W$6,0.5*(C1514+C1513),C1514+IF(C1514=C1513,0,(C1514-C1513)*(Q1514-Q$1511)/(Q1513-Q1514))))))","v":1.5891491855005103E-4},2.807138196883812E-2,-5.6494950912636947E-2,1.7573840929783153,1.1735341270640649,0.66777327264595043,0.44247889391107925,78.20696885319569,4.7173332251275263E-2,-17.320988026744512,-1.0447773837645566E-2,3.9055740005703644E-2,0.5001000000000001,null,3.9055740005703644E-2,0.5,0.73810131905089238,5.2419840596079514E-2,5.2419840596079514E-2,-0.50009999999999999,3.1451904357647702E-3,2.5161523486118172E-2,9.5158248080418353E-2,9.9223222232200536E-2]
[null,0.60087880192179721,1.5865828791258651E-4,2.8026049682134627E-2,-5.6403717594843243E-2,1.7532352856909514,1.1716134110910399,0.66825794612575695,0.44246240554025951,78.100851046836894,4.7109323498467866E-2,-17.454441309347839,-1.0528270961272585E-2,3.8947844700304476E-2,0.50009999999999999,null,3.8947844700304476E-2,0.5,0.73635881999019959,5.233518814663863E-2,5.233518814663863E-2,-0.50009999999999999,3.1401112887983178E-3,2.5120890310386543E-2,9.9223222232200536E-2,0.10131627497440056]
[null,0.60469099425970463,1.5769488671684594E-4,2.785587054979375E-2,-5.6061224242053356E-2,1.7423998927597724,1.1648584709505287,0.6685368128125394,0.44251767989138197,77.680896781450471,4.6856013053351388E-2,-17.782758218407924,-1.0726307055266658E-2,3.8371952332325245E-2,0.50009999999999999,null,3.8371952332325245E-2,0.5,0.73180795495910433,5.2017399624506348E-2,5.2017399624506348E-2,-0.50009999999999999,3.1210439774703807E-3,2.4968351819763045E-2,0.10131627497440056,0.10698190459889816]
[null,0.60431011980422833,1.5798069776143547E-4,2.7906357383105488E-2,-5.6162831322632702E-2,1.7432024346111845,1.1666125444053279,0.66923526564804103,0.44244264628322111,77.816285159389821,4.6937677398986397E-2,-17.771765357518888,-1.0719676317792561E-2,3.8627878103522986E-2,0.5001000000000001,null,3.8627878103522986E-2,0.5,0.73214502253669744,5.2111677553442662E-2,5.2111677553442662E-2,-0.50009999999999999,3.1267006532065592E-3,2.5013605225652481E-2,0.10698190459889816,0.10641906811863772]
[null,0.60459423743437923,1.5788568661380902E-4,2.7889574224918362E-2,-5.6129054442713024E-2,1.7424336810855978,1.1659777551346877,0.66916621722339664,0.44245545233228867,77.77351422433361,4.6911878578757324E-2,-17.793305604964832,-1.0732669088954035E-2,3.8560578668627041E-2,0.50009999999999999,null,3.8560578668627041E-2,0.5,0.73182214605595108,5.2080337077300642E-2,5.2080337077300642E-2,-0.50009999999999999,3.1248202246380377E-3,2.4998561797104309E-2,0.10641906811863772,0.10683898958165319]
[null,0.60464617409208399,1.5788568661380902E-4,2.7889574224918362E-2,-5.6129054442713024E-2,1.7422682795783548,1.1659601185096082,0.66921962144187197,0.44245145678540082,77.774250232478906,4.6912322528411515E-2,-17.799193670127288,-1.0736220686187617E-2,3.8566331124690295E-2,0.50009999999999999,null,3.8566331124690295E-2,0.5,0.73175267742290906,5.2080337077300642E-2,5.2080337077300642E-2,-0.50009999999999999,3.1248202246380377E-3,2.4998561797104309E-2,0.10683898958165319,0.10691570849539309]
[null,0.60465568578663698,1.5788568661380902E-4,2.7889574224918362E-2,-5.6129054442713024E-2,1.74223799126958,1.1659568813734904,0.66922939760018096,0.44245072511414912,77.774385011525695,4.6912403825217261E-2,-17.800271902501709,-1.0736871060633634E-2,3.8567383749424609E-2,0.50009999999999999,null,3.8567383749424609E-2,0.5,0.73173995633322353,5.2080337077300642E-2,5.2080337077300642E-2,-0.50009999999999999,3.1248202246380377E-3,2.4998561797104309E-2,0.10691570849539309,0.10692975739163361]
[null,0.60465742835255853,1.5788568661380902E-4,2.7889574224918362E-2,-5.6129054442713024E-2,1.7422324424897497,1.1659562880787655,0.66923118847020624,0.44245059107266449,77.774409702920181,4.6912418718715536E-2,-17.800469433657657,-1.0736990208619884E-2,3.8567576562793943E-2,0.50009999999999988,null,3.8567576562793943E-2,0.5,0.73173762584569491,5.2080337077300642E-2,5.2080337077300642E-2,-0.50009999999999999,3.1248202246380377E-3,2.4998561797104309E-2,0.10692975739163361,0.10693233113619931]
[null,0.60465774761490265,1.5788568661380902E-4,2.7889574224918362E-2,-5.6129054442713024E-2,1.7422314258798077,1.1659561793775273,0.66923151658151969,0.44245056651448161,77.774414226712096,4.6912421447402534E-2,-17.800505623992876,-1.0737012038115805E-2,3.8567611888920939E-2,0.50009999999999999,null,3.8567611888920939E-2,0.5,0.73173719886951927,5.2080337077300642E-2,5.2080337077300642E-2,-0.50009999999999999,3.1248202246380377E-3,2.4998561797104309E-2,0.10693233113619931,0.10693280268043825]
[null,0.6046578061088882,1.5788568661380902E-4,2.7889574224918362E-2,-5.6129054442713024E-2,1.7422312396206774,1.1659561594618721,0.66923157669686073,0.44245056201503113,77.774415055542875,4.6912421947341486E-2,-17.800512254638996,-1.0737016037627318E-2,3.8567618361266605E-2,0.50009999999999988,null,3.8567618361266605E-2,0.5,0.73173712064068452,5.2080337077300642E-2,5.2080337077300642E-2,-0.50009999999999999,3.1248202246380377E-3,2.4998561797104309E-2,0.10693280268043825,0.10693288907485704]
[null,0.6046578168259048,1.5788568661380902E-4,2.7889574224918362E-2,-5.6129054442713024E-2,1.7422312054950844,1.1659561558110627,0.66923158770981639,0.44245056119066123,77.774415207397666,4.6912422038938133E-2,-17.800513469477337,-1.0737016770400544E-2,3.8567619546802982E-2,0.50009999999999988,null,3.8567619546802982E-2,0.5,0.73173710630793543,5.2080337077300642E-2,5.2080337077300642E-2,-0.50009999999999999,3.1248202246380377E-3,2.4998561797104309E-2,0.10693288907485704,0.1069329049036693]
[null,0.60465781878949243,1.5788568661380902E-4,2.7889574224918362E-2,-5.6129054442713024E-2,1.7422311992425434,1.1659561551457949,0.66923158972971486,0.44245056103961911,77.774415235220715,4.6912422055720604E-2,-17.800513692061813,-1.0737016904660335E-2,3.8567619764577482E-2,0.50009999999999999,null,3.8567619764577482E-2,0.5,0.73173710368186817,5.2080337077300642E-2,5.2080337077300642E-2,-0.50009999999999999,3.1248202246380377E-3,2.4998561797104309E-2,0.1069329049036693,0.10693290780384762]
[null,0.60465781914913075,1.5788568661380902E-4,2.7889574224918362E-2,-5.6129054442713024E-2,1.7422311980973673,1.1659561550157702,0.66923159009497257,0.44245056101195507,77.7744152403166,4.6912422058794367E-2,-17.800513732828978,-1.073701692925051E-2,3.8567619803207838E-2,0.50009999999999999,null,3.8567619803207838E-2,0.5,0.73173710320089425,5.2080337077300642E-2,5.2080337077300642E-2,-0.50009999999999999,3.1248202246380377E-3,2.4998561797104309E-2,0.10693290780384762,0.10693290833502597]
[null,0.60465781921516837,1.5788568661380902E-4,2.7889574224918362E-2,-5.6129054442713024E-2,1.742231197887087,1.1659561550015971,0.66923159016761102,0.4424505610068753,77.774415241252328,4.6912422059358784E-2,-17.800513740314738,-1.0737016933765815E-2,3.8567619811791097E-2,0.50009999999999988,null,3.8567619811791097E-2,0.5,0.73173710311257656,5.2080337077300642E-2,5.2080337077300642E-2,-0.50009999999999999,3.1248202246380377E-3,2.4998561797104309E-2,0.10693290833502597,0.10693290843256217]
[null,0.60465781922709883,1.5788568661380902E-4,2.7889574224918362E-2,-5.6129054442713024E-2,1.7422311978490979,1.1659561549880995,0.66923159017445621,0.4424505610059577,77.77441524142138,4.6912422059460758E-2,-17.800513741667128,-1.0737016934581557E-2,3.8567619811662276E-2,0.50009999999999999,null,3.8567619811662276E-2,0.5,0.7317371030966211,5.2080337077300642E-2,5.2080337077300642E-2,-0.50009999999999999,3.1248202246380377E-3,2.4998561797104309E-2,0.10693290843256217,0.10693290845018322]
[null,0.60465781922932749,1.5788568661380902E-4,2.7889574224918362E-2,-5.6129054442713024E-2,1.7422311978420011,1.1659561549896835,0.66923159017809153,0.44245056100578622,77.774415241452942,4.6912422059479791E-2,-17.800513741919762,-1.0737016934733942E-2,3.8567619812268666E-2,0.50009999999999999,null,3.8567619812268666E-2,0.5,0.73173710309364048,5.2080337077300642E-2,5.2080337077300642E-2,-0.50009999999999999,3.1248202246380377E-3,2.4998561797104309E-2,0.10693290845018322,0.1069329084534749]
[null,0.60465781922977035,1.5788568661380902E-4,2.7889574224918362E-2,-5.6129054442713024E-2,1.7422311978405909,1.1659561549918784,0.66923159017989298,0.4424505610057522,77.774415241459238,4.6912422059483594E-2,-17.800513741969962,-1.0737016934764221E-2,3.8567619812677867E-2,0.50009999999999999,null,3.8567619812677867E-2,0.5,0.73173710309304818,5.2080337077300642E-2,5.2080337077300642E-2,-0.50009999999999999,3.1248202246380377E-3,2.4998561797104309E-2,0.1069329084534749,0.10693290845412901]
[null,0.60465781922992168,1.5788568661380902E-4,2.7889574224918362E-2,-5.6129054442713024E-2,1.742231197840109,1.1659561549953534,0.66923159018207268,0.44245056100574054,77.774415241461369,4.6912422059484878E-2,-17.800513741987114,-1.0737016934774567E-2,3.8567619813236149E-2,0.50009999999999999,null,3.8567619813236149E-2,0.5,0.73173710309284579,5.2080337077300642E-2,5.2080337077300642E-2,-0.50009999999999999,3.1248202246380377E-3,2.4998561797104309E-2,0.10693290845412901,0.10693290845435251]
[null,0.6046578192298262,1.5788568661380902E-4,2.7889574224918362E-2,-5.6129054442713024E-2,1.742231197840413,1.1659561549883384,0.66923159017792944,0.44245056100574781,77.774415241460019,4.6912422059484066E-2,-17.800513741976292,-1.0737016934768041E-2,3.8567619812143371E-2,0.50009999999999988,null,3.8567619812143371E-2,0.5,0.73173710309297346,5.2080337077300642E-2,5.2080337077300642E-2,-0.50009999999999999,3.1248202246380377E-3,2.4998561797104309E-2,0.10693290845435251,0.10693290845421148]
[null,0.60465781922990114,1.5788568661380902E-4,2.7889574224918362E-2,-5.6129054442713024E-2,1.7422311978401743,1.1659561549938904,0.66923159018120781,0.44245056100574204,77.774415241461085,4.6912422059484704E-2,-17.800513741984787,-1.0737016934773164E-2,3.8567619813008117E-2,0.50009999999999988,null,3.8567619813008117E-2,0.5,0.73173710309287321,5.2080337077300642E-2,5.2080337077300642E-2,-0.50009999999999999,3.1248202246380377E-3,2.4998561797104309E-2,0.10693290845421148,0.10693290845432217]
[null,0.60465781922993433,1.5788568661380902E-4,2.7889574224918362E-2,-5.6129054442713024E-2,1.7422311978400689,1.1659561549947612,0.66923159018174816,0.4424505610057396,77.77441524146154,4.6912422059484982E-2,-17.800513741988553,-1.0737016934775436E-2,3.8567619813147234E-2,0.50009999999999999,null,3.8567619813147234E-2,0.5,0.73173710309282891,5.2080337077300642E-2,5.2080337077300642E-2,-0.50009999999999999,3.1248202246380377E-3,2.4998561797104309E-2,0.10693290845432217,0.1069329084543712]
[null,0.60465781922981698,1.5788568661380902E-4,2.7889574224918362E-2,-5.6129054442713024E-2,1.7422311978404428,1.1659561549880455,0.66923159017774991,0.44245056100574864,77.774415241459906,4.6912422059483996E-2,-17.800513741975248,-1.073701693476741E-2,3.8567619812096859E-2,0.50009999999999999,null,3.8567619812096859E-2,0.5,0.7317371030929859,5.2080337077300642E-2,5.2080337077300642E-2,-0.50009999999999999,3.1248202246380377E-3,2.4998561797104309E-2,0.1069329084543712,0.10693290845419788]
[null,0.60465781922982997,1.5788568661380902E-4,2.7889574224918362E-2,-5.6129054442713024E-2,1.7422311978404008,1.1659561549900961,0.66923159017894296,0.44245056100574753,77.774415241460062,4.6912422059484087E-2,-17.800513741976719,-1.0737016934768298E-2,3.8567619812413891E-2,0.50009999999999988,null,3.8567619812413891E-2,0.5,0.73173710309296836,5.2080337077300642E-2,5.2080337077300642E-2,-0.50009999999999999,3.1248202246380377E-3,2.4998561797104309E-2,0.10693290845419788,0.10693290845421706]
[null,0.60465781922984019,1.5788568661380902E-4,2.7889574224918362E-2,-5.6129054442713024E-2,1.7422311978403686,1.1659561549903872,0.66923159017912248,0.44245056100574676,77.774415241460218,4.6912422059484184E-2,-17.800513741977877,-1.0737016934768997E-2,3.8567619812460249E-2,0.50009999999999999,null,3.8567619812460249E-2,0.5,0.73173710309295481,5.2080337077300642E-2,5.2080337077300642E-2,-0.50009999999999999,3.1248202246380377E-3,2.4998561797104309E-2,0.10693290845421706,0.10693290845423215]
[null,0.60465781922983819,1.5788568661380902E-4,2.7889574224918362E-2,-5.6129054442713024E-2,1.7422311978403751,1.1659561549900948,0.66923159017895217,0.44245056100574698,77.77441524146019,4.6912422059484163E-2,-17.80051374197765,-1.073701693476886E-2,3.8567619812415029E-2,0.50009999999999999,null,3.8567619812415029E-2,0.5,0.73173710309295747,5.2080337077300642E-2,5.2080337077300642E-2,-0.50009999999999999,3.1248202246380377E-3,2.4998561797104309E-2,0.10693290845423215,0.1069329084542292]
[null,0.60465781922986483,1.5788568661380902E-4,2.7889574224918362E-2,-5.6129054442713024E-2,1.7422311978402902,1.1659561549915542,0.66923159017982248,0.44245056100574492,77.774415241460574,4.6912422059484399E-2,-17.800513741980669,-1.0737016934770681E-2,3.8567619812643478E-2,0.50009999999999999,null,3.8567619812643478E-2,0.5,0.73173710309292184,5.2080337077300642E-2,5.2080337077300642E-2,-0.50009999999999999,3.1248202246380377E-3,2.4998561797104309E-2,0.1069329084542292,0.10693290845426855]
[null,0.60465781922979644,1.5788568661380902E-4,2.7889574224918362E-2,-5.6129054442713024E-2,1.7422311978405078,1.1659561549871742,0.66923159017722478,0.44245056100575014,77.774415241459593,4.6912422059483809E-2,-17.800513741972917,-1.0737016934766004E-2,3.8567619811959747E-2,0.50009999999999999,null,3.8567619811959747E-2,0.5,0.73173710309301332,5.2080337077300642E-2,5.2080337077300642E-2,-0.50009999999999999,3.1248202246380377E-3,2.4998561797104309E-2,0.10693290845426855,0.10693290845416754]
[null,0.60465781922994211,1.5788568661380902E-4,2.7889574224918362E-2,-5.6129054442713024E-2,1.7422311978400444,1.1659561549965192,0.66923159018276657,0.44245056100573904,77.774415241461668,4.6912422059485058E-2,-17.80051374198943,-1.0737016934775965E-2,3.856761981341842E-2,0.50009999999999999,null,3.856761981341842E-2,0.5,0.73173710309281859,5.2080337077300642E-2,5.2080337077300642E-2,-0.50009999999999999,3.1248202246380377E-3,2.4998561797104309E-2,0.10693290845416754,0.10693290845438268]
[null,0.60465781922981843,1.5788568661380902E-4,2.7889574224918362E-2,-5.6129054442713024E-2,1.7422311978404379,1.1659561549877531,0.66923159017758393,0.44245056100574842,77.774415241459906,4.6912422059483996E-2,-17.800513741975411,-1.0737016934767508E-2,3.8567619812052215E-2,0.50009999999999988,null,3.8567619812052215E-2,0.5,0.7317371030929839,5.2080337077300642E-2,5.2080337077300642E-2,-0.50009999999999999,3.1248202246380377E-3,2.4998561797104309E-2,0.10693290845438268,0.1069329084542]
[null,0.60465781922989581,1.5788568661380902E-4,2.7889574224918362E-2,-5.6129054442713024E-2,1.7422311978401914,1.1659561549935988,0.66923159018103395,0.44245056100574248,77.774415241461028,4.6912422059484669E-2,-17.800513741984183,-1.0737016934772799E-2,3.8567619812962479E-2,0.50009999999999988,null,3.8567619812962479E-2,0.5,0.73173710309288043,5.2080337077300642E-2,{"$f":"IF(L1543<$O$1506,$Q$1506*C1544*$L$1506*$N$1506,-$L$1506*$O$1506)","v":5.2080337077300642E-2},-0.50009999999999999,3.1248202246380377E-3,{"$f":"IF(L1543<$O$1506,($C$1506-$M$1506)*$Q$1506*C1544*$L$1506*$N$1506,0)","v":2.4998561797104309E-2},0.1069329084542,0.1069329084543143]
[null,0.60465781922992956,1.5788568661380902E-4,2.7889574224918362E-2,-5.6129054442713024E-2,1.7422311978400842,1.1659561549947617,0.66923159018174261,0.44245056100573998,77.774415241461497,4.6912422059484954E-2,-17.800513741988009,-1.0737016934775108E-2,3.8567619813146534E-2,0.5001000000000001,null,3.8567619813146534E-2,0.5,0.73173710309283535,5.2080337077300642E-2,5.2080337077300642E-2,-0.50009999999999999,3.1248202246380377E-3,2.4998561797104309E-2,0.1069329084543143,0.10693290845436415]
[null,0.60465781922983541,1.5788568661380902E-4,2.7889574224918362E-2,-5.6129054442713024E-2,1.7422311978403839,1.1659561549892135,0.66923159017844291,0.44245056100574726,77.774415241460161,4.6912422059484149E-2,-17.800513741977337,-1.0737016934768671E-2,3.8567619812279227E-2,0.5001000000000001,null,3.8567619812279227E-2,0.5,0.73173710309296125,5.2080337077300642E-2,5.2080337077300642E-2,-0.50009999999999999,3.1248202246380377E-3,2.4998561797104309E-2,0.10693290845436415,0.1069329084542251]
[null,0.60465781922985662,1.5788568661380902E-4,2.7889574224918362E-2,-5.6129054442713024E-2,1.7422311978403164,1.1659561549912627,0.66923159017964506,0.44245056100574554,77.774415241460446,4.6912422059484322E-2,-17.800513741979739,-1.0737016934770119E-2,3.8567619812597348E-2,0.50009999999999999,null,3.8567619812597348E-2,0.5,0.73173710309293283,5.2080337077300642E-2,5.2080337077300642E-2,-0.50009999999999999,3.1248202246380377E-3,2.4998561797104309E-2,0.1069329084542251,0.10693290845425642]
[null,0.60465781922988748,1.5788568661380902E-4,2.7889574224918362E-2,-5.6129054442713024E-2,1.7422311978402181,1.1659561549930129,0.66923159018068734,0.44245056100574315,77.774415241460886,4.6912422059484586E-2,-17.800513741983238,-1.073701693477223E-2,3.8567619812871122E-2,0.50009999999999999,null,3.8567619812871122E-2,0.5,0.73173710309289153,5.2080337077300642E-2,5.2080337077300642E-2,-0.50009999999999999,3.1248202246380377E-3,2.4998561797104309E-2,0.10693290845425642,0.10693290845430201]
[null,0.60465781922989703,1.5788568661380902E-4,2.7889574224918362E-2,-5.6129054442713024E-2,1.7422311978401877,1.1659561549927189,0.66923159018053036,0.44245056100574237,77.774415241461014,4.6912422059484662E-2,-17.800513741984322,-1.0737016934772883E-2,3.8567619812827574E-2,0.50009999999999988,null,3.8567619812827574E-2,0.5,0.73173710309287876,5.2080337077300642E-2,5.2080337077300642E-2,-0.50009999999999999,3.1248202246380377E-3,2.4998561797104309E-2,0.10693290845430201,0.10693290845431611]
[null,0.60465781922986783,1.5788568661380902E-4,2.7889574224918362E-2,-5.6129054442713024E-2,1.7422311978402802,1.1659561549912587,0.66923159017965661,0.44245056100574465,77.77441524146063,4.6912422059484434E-2,-17.80051374198101,-1.0737016934770886E-2,3.8567619812598597E-2,0.50009999999999999,null,3.8567619812598597E-2,0.5,0.73173710309291773,5.2080337077300642E-2,5.2080337077300642E-2,-0.50009999999999999,3.1248202246380377E-3,2.4998561797104309E-2,0.10693290845431611,0.10693290845427297]
[null,0.60465781922981632,1.5788568661380902E-4,2.7889574224918362E-2,-5.6129054442713024E-2,1.7422311978404448,1.1659561549883417,0.66923159017791911,0.44245056100574864,77.774415241459891,4.6912422059483982E-2,-17.80051374197517,-1.0737016934767363E-2,3.8567619812142226E-2,0.50009999999999999,null,3.8567619812142226E-2,0.5,0.73173710309298678,5.2080337077300642E-2,5.2080337077300642E-2,-0.50009999999999999,3.1248202246380377E-3,2.4998561797104309E-2,0.10693290845427297,0.1069329084541969]
[null,0.60465781922979522,1.5788568661380902E-4,2.7889574224918362E-2,-5.6129054442713024E-2,1.7422311978405121,1.1659561549883448,0.66923159017789513,0.44245056100575031,77.774415241459593,4.6912422059483809E-2,-17.800513741972782,-1.0737016934765923E-2,3.8567619812139291E-2,0.5001000000000001,null,3.8567619812139291E-2,0.5,0.73173710309301498,5.2080337077300642E-2,5.2080337077300642E-2,-0.50009999999999999,3.1248202246380377E-3,2.4998561797104309E-2,0.1069329084541969,0.10693290845416574]
[null,0.60465781922988393,1.5788568661380902E-4,2.7889574224918362E-2,-5.6129054442713024E-2,1.7422311978402294,1.1659561549930166,0.66923159018068523,0.44245056100574343,77.774415241460844,4.6912422059484558E-2,-17.800513741982837,-1.0737016934771988E-2,3.8567619812871157E-2,0.50009999999999999,null,3.8567619812871157E-2,0.5,0.7317371030928963,5.2080337077300642E-2,5.2080337077300642E-2,-0.50009999999999999,3.1248202246380377E-3,2.4998561797104309E-2,0.10693290845416574,0.10693290845429676]
[null,0.60465781922985007,1.5788568661380902E-4,2.7889574224918362E-2,-5.6129054442713024E-2,1.7422311978403371,1.1659561549900921,0.66923159017896516,0.44245056100574603,77.774415241460375,4.6912422059484274E-2,-17.800513741979,-1.0737016934769673E-2,3.8567619812416534E-2,0.50009999999999999,null,3.8567619812416534E-2,0.5,0.7317371030929416,5.2080337077300642E-2,5.2080337077300642E-2,-0.50009999999999999,3.1248202246380377E-3,2.4998561797104309E-2,0.10693290845429676,0.10693290845424674]
[null,0.60465781922994033,1.5788568661380902E-4,2.7889574224918362E-2,-5.6129054442713024E-2,1.7422311978400498,1.1659561549956403,0.66923159018226008,0.4424505610057391,77.774415241461625,4.691242205948503E-2,-17.800513741989231,-1.0737016934775846E-2,3.8567619813283209E-2,0.50009999999999999,null,3.8567619813283209E-2,0.5,0.73173710309282092,5.2080337077300642E-2,5.2080337077300642E-2,-0.50009999999999999,3.1248202246380377E-3,2.4998561797104309E-2,0.10693290845424674,0.10693290845438005]
[null,0.60465781922985673,1.5788568661380902E-4,2.7889574224918362E-2,-5.6129054442713024E-2,1.742231197840316,1.1659561549900885,0.66923159017897127,0.44245056100574554,77.774415241460474,4.6912422059484336E-2,-17.800513741979753,-1.0737016934770128E-2,3.8567619812417075E-2,0.50009999999999999,null,3.8567619812417075E-2,0.5,0.73173710309293272,5.2080337077300642E-2,5.2080337077300642E-2,-0.50009999999999999,3.1248202246380377E-3,2.4998561797104309E-2,0.10693290845438005,0.10693290845425658]
[null,0.60465781922989525,1.5788568661380902E-4,2.7889574224918362E-2,-5.6129054442713024E-2,1.7422311978401932,1.1659561549933046,0.66923159018086442,0.44245056100574259,77.774415241461,4.6912422059484656E-2,-17.800513741984119,-1.0737016934772761E-2,3.8567619812917231E-2,0.50009999999999999,null,3.8567619812917231E-2,0.5,0.73173710309288109,5.2080337077300642E-2,5.2080337077300642E-2,-0.50009999999999999,3.1248202246380377E-3,2.4998561797104309E-2,0.10693290845425658,0.10693290845431348]
[null,0.60465781922990236,1.5788568661380902E-4,2.7889574224918362E-2,-5.6129054442713024E-2,1.7422311978401706,1.1659561549933022,0.66923159018087164,0.44245056100574204,77.774415241461099,4.6912422059484711E-2,-17.800513741984926,-1.0737016934773247E-2,3.8567619812917987E-2,0.50009999999999999,null,3.8567619812917987E-2,0.5,0.73173710309287165,5.2080337077300642E-2,5.2080337077300642E-2,-0.50009999999999999,3.1248202246380377E-3,2.4998561797104309E-2,0.10693290845431348,0.10693290845432397]
[null,0.6046578192298766,1.5788568661380902E-4,2.7889574224918362E-2,-5.6129054442713024E-2,1.7422311978402525,1.1659561549915503,0.66923159017983469,0.44245056100574398,77.77441524146073,4.6912422059484489E-2,-17.800513741982005,-1.0737016934771486E-2,3.856761981264481E-2,0.50009999999999999,null,3.856761981264481E-2,0.5,0.73173710309290607,5.2080337077300642E-2,5.2080337077300642E-2,-0.50009999999999999,3.1248202246380377E-3,2.4998561797104309E-2,0.10693290845432397,0.10693290845428594]
[null,0.60465781922986805,1.5788568661380902E-4,2.7889574224918362E-2,-5.6129054442713024E-2,1.7422311978402798,1.165956154991552,0.66923159017982514,0.44245056100574465,77.774415241460616,4.691242205948442E-2,-17.800513741981035,-1.0737016934770902E-2,3.8567619812643665E-2,0.50009999999999999,null,3.8567619812643665E-2,0.5,0.73173710309291751,5.2080337077300642E-2,5.2080337077300642E-2,-0.50009999999999999,3.1248202246380377E-3,2.4998561797104309E-2,0.10693290845428594,0.10693290845427331]
[null,0.60465781922982398,1.5788568661380902E-4,2.7889574224918362E-2,-5.6129054442713024E-2,1.7422311978404201,1.1659561549889252,0.6692315901782635,0.44245056100574798,77.774415241459977,4.6912422059484038E-2,-17.80051374197604,-1.0737016934767888E-2,3.8567619812233105E-2,0.50009999999999988,null,3.8567619812233105E-2,0.5,0.73173710309297646,5.2080337077300642E-2,5.2080337077300642E-2,-0.50009999999999999,3.1248202246380377E-3,2.4998561797104309E-2,0.10693290845427331,0.10693290845420821]
[null,0.60465781922991613,1.5788568661380902E-4,2.7889574224918362E-2,-5.6129054442713024E-2,1.7422311978401268,1.1659561549947661,0.66923159018172873,0.44245056100574098,77.774415241461284,4.6912422059484829E-2,-17.800513741986489,-1.0737016934774191E-2,3.8567619813145021E-2,0.50009999999999999,null,3.8567619813145021E-2,0.5,0.73173710309285322,5.2080337077300642E-2,5.2080337077300642E-2,-0.50009999999999999,3.1248202246380377E-3,2.4998561797104309E-2,0.10693290845420821,0.10693290845434431]
[null,0.60465781922992168,1.5788568661380902E-4,2.7889574224918362E-2,-5.6129054442713024E-2,1.7422311978401093,1.1659561549941766,0.66923159018139711,0.44245056100574054,77.774415241461369,4.6912422059484878E-2,-17.800513741987114,-1.0737016934774567E-2,3.8567619813055405E-2,0.50009999999999999,null,3.8567619813055405E-2,0.5,0.7317371030928459,5.2080337077300642E-2,5.2080337077300642E-2,-0.50009999999999999,3.1248202246380377E-3,2.4998561797104309E-2,0.10693290845434431,0.10693290845435251]
[null,0.6046578192298262,1.5788568661380902E-4,2.7889574224918362E-2,-5.6129054442713024E-2,1.742231197840413,1.1659561549883384,0.66923159017792944,0.44245056100574781,77.774415241460019,4.6912422059484066E-2,-17.800513741976292,-1.0737016934768041E-2,3.8567619812143371E-2,0.50009999999999988,null,3.8567619812143371E-2,0.5,0.73173710309297346,5.2080337077300642E-2,5.2080337077300642E-2,-0.50009999999999999,3.1248202246380377E-3,2.4998561797104309E-2,0.10693290845435251,0.10693290845421148]
[null,0.60465781922990114,1.5788568661380902E-4,2.7889574224918362E-2,-5.6129054442713024E-2,1.7422311978401743,1.1659561549938904,0.66923159018120781,0.44245056100574204,77.774415241461085,4.6912422059484704E-2,-17.800513741984787,-1.0737016934773164E-2,3.8567619813008117E-2,0.50009999999999988,null,3.8567619813008117E-2,0.5,0.73173710309287321,5.2080337077300642E-2,5.2080337077300642E-2,-0.50009999999999999,3.1248202246380377E-3,2.4998561797104309E-2,0.10693290845421148,0.10693290845432217]
[null,0.60465781922993433,1.5788568661380902E-4,2.7889574224918362E-2,-5.6129054442713024E-2,1.7422311978400689,1.1659561549947612,0.66923159018174816,0.4424505610057396,77.77441524146154,4.6912422059484982E-2,-17.800513741988553,-1.0737016934775436E-2,3.8567619813147234E-2,0.50009999999999999,null,3.8567619813147234E-2,0.5,0.73173710309282891,5.2080337077300642E-2,5.2080337077300642E-2,-0.50009999999999999,3.1248202246380377E-3,2.4998561797104309E-2,0.10693290845432217,0.1069329084543712]
[null,0.60465781922981698,1.5788568661380902E-4,2.7889574224918362E-2,-5.6129054442713024E-2,1.7422311978404428,1.1659561549880455,0.66923159017774991,0.44245056100574864,77.774415241459906,4.6912422059483996E-2,-17.800513741975248,-1.073701693476741E-2,3.8567619812096859E-2,0.50009999999999999,null,3.8567619812096859E-2,0.5,0.7317371030929859,5.2080337077300642E-2,5.2080337077300642E-2,-0.50009999999999999,3.1248202246380377E-3,2.4998561797104309E-2,0.1069329084543712,0.10693290845419788]
[null,0.60465781922982997,1.5788568661380902E-4,2.7889574224918362E-2,-5.6129054442713024E-2,1.7422311978404008,1.1659561549900961,0.66923159017894296,0.44245056100574753,77.774415241460062,4.6912422059484087E-2,-17.800513741976719,-1.0737016934768298E-2,3.8567619812413891E-2,0.50009999999999988,null,3.8567619812413891E-2,0.5,0.73173710309296836,5.2080337077300642E-2,5.2080337077300642E-2,-0.50009999999999999,3.1248202246380377E-3,2.4998561797104309E-2,0.10693290845419788,0.10693290845421706]
[null,0.60465781922984019,1.5788568661380902E-4,2.7889574224918362E-2,-5.6129054442713024E-2,1.7422311978403686,1.1659561549903872,0.66923159017912248,0.44245056100574676,77.774415241460218,4.6912422059484184E-2,-17.800513741977877,-1.0737016934768997E-2,3.8567619812460249E-2,0.50009999999999999,null,3.8567619812460249E-2,0.5,0.73173710309295481,5.2080337077300642E-2,5.2080337077300642E-2,-0.50009999999999999,3.1248202246380377E-3,2.4998561797104309E-2,0.10693290845421706,0.10693290845423215]
[null,0.60465781922983819,1.5788568661380902E-4,2.7889574224918362E-2,-5.6129054442713024E-2,1.7422311978403751,1.1659561549900948,0.66923159017895217,0.44245056100574698,77.77441524146019,4.6912422059484163E-2,-17.80051374197765,-1.073701693476886E-2,3.8567619812415029E-2,0.50009999999999999,null,3.8567619812415029E-2,0.5,0.73173710309295747,5.2080337077300642E-2,5.2080337077300642E-2,-0.50009999999999999,3.1248202246380377E-3,2.4998561797104309E-2,0.10693290845423215,0.1069329084542292]
[null,0.60465781922986483,1.5788568661380902E-4,2.7889574224918362E-2,-5.6129054442713024E-2,1.7422311978402902,1.1659561549915542,0.66923159017982248,0.44245056100574492,77.774415241460574,4.6912422059484399E-2,-17.800513741980669,-1.0737016934770681E-2,3.8567619812643478E-2,0.50009999999999999,null,3.8567619812643478E-2,0.5,0.73173710309292184,5.2080337077300642E-2,5.2080337077300642E-2,-0.50009999999999999,3.1248202246380377E-3,2.4998561797104309E-2,0.1069329084542292,0.10693290845426855]
[null,0.60465781922979644,1.5788568661380902E-4,2.7889574224918362E-2,-5.6129054442713024E-2,1.7422311978405078,1.1659561549871742,0.66923159017722478,0.44245056100575014,77.774415241459593,4.6912422059483809E-2,-17.800513741972917,-1.0737016934766004E-2,3.8567619811959747E-2,0.50009999999999999,null,3.8567619811959747E-2,0.5,0.73173710309301332,5.2080337077300642E-2,5.2080337077300642E-2,-0.50009999999999999,3.1248202246380377E-3,2.4998561797104309E-2,0.10693290845426855,0.10693290845416754]
[null,0.60465781922994211,1.5788568661380902E-4,2.7889574224918362E-2,-5.6129054442713024E-2,1.7422311978400444,1.1659561549965192,0.66923159018276657,0.44245056100573904,77.774415241461668,4.6912422059485058E-2,-17.80051374198943,-1.0737016934775965E-2,3.856761981341842E-2,0.50009999999999999,null,3.856761981341842E-2,0.5,0.73173710309281859,5.2080337077300642E-2,5.2080337077300642E-2,-0.50009999999999999,3.1248202246380377E-3,2.4998561797104309E-2,0.10693290845416754,0.10693290845438268]
[null,0.60465781922981843,1.5788568661380902E-4,2.7889574224918362E-2,-5.6129054442713024E-2,1.7422311978404379,1.1659561549877531,0.66923159017758393,0.44245056100574842,77.774415241459906,4.6912422059483996E-2,-17.800513741975411,-1.0737016934767508E-2,3.8567619812052215E-2,0.50009999999999988,null,3.8567619812052215E-2,0.5,0.7317371030929839,5.2080337077300642E-2,5.2080337077300642E-2,-0.50009999999999999,3.1248202246380377E-3,2.4998561797104309E-2,0.10693290845438268,0.1069329084542]
[null,0.60465781922989581,1.5788568661380902E-4,2.7889574224918362E-2,-5.6129054442713024E-2,1.7422311978401914,1.1659561549935988,0.66923159018103395,0.44245056100574248,77.774415241461028,4.6912422059484669E-2,-17.800513741984183,-1.0737016934772799E-2,3.8567619812962479E-2,0.50009999999999988,null,3.8567619812962479E-2,0.5,0.73173710309288043,5.2080337077300642E-2,5.2080337077300642E-2,-0.50009999999999999,3.1248202246380377E-3,2.4998561797104309E-2,0.1069329084542,0.1069329084543143]
[null,0.60465781922992956,1.5788568661380902E-4,2.7889574224918362E-2,-5.6129054442713024E-2,1.7422311978400842,1.1659561549947617,0.66923159018174261,0.44245056100573998,77.774415241461497,4.6912422059484954E-2,-17.800513741988009,-1.0737016934775108E-2,3.8567619813146534E-2,0.5001000000000001,null,3.8567619813146534E-2,0.5,0.73173710309283535,5.2080337077300642E-2,5.2080337077300642E-2,-0.50009999999999999,3.1248202246380377E-3,2.4998561797104309E-2,0.1069329084543143,0.10693290845436415]
[null,{"$f":"MIN(0.5*(-(T1577+U1577+V1577)+SQRT((T1577+U1577+V1577)^2+4*S1577*(W1577+X1577)))/S1577,1000*$C$6)","v":0.60465781922983541},1.5788568661380902E-4,{"$f":"IF($C$2=1,C1577/($Z$1506*$Z$5),2^(1/3)*$Z$5/C1577)","v":2.7889574224918362E-2},{"$f":"IF($C$2=1,-($Z$1506-2)*C1577/$Z$5,3*($Z$5/C1577)^2)","v":-5.6129054442713024E-2},{"$f":"IF($C$2=1,0.5*($Z$1506*C1577*$F$1506/$Z$5)*(1-Y1577^2+(D1577-E1577)*(E1577^2*(1-Y1577^2)+2*E1577*(1-Y1577)+2*LN((1-E1577)/(1-E1577*Y1577)))/(E1577^3)),$F$1506*E1577*(LN((1-D1577+D1577^2)/(1+D1577)^2)/(6*D1577)+ATAN((2-D1577)/(D1577*3^0.5))/(D1577*3^0.5)-LN((Y1577^2-D1577*Y1577+D1577^2)/(Y1577+D1577)^2)/(6*D1577)-ATAN((2*Y1577-D1577)/(D1577*3^0.5))/(D1577*3^0.5)))","v":1.7422311978403839},{"$f":"IF($C$2=1,($Z$1506*C1577*$F$1506/$Z$5)*(1-Y1577^3-(D1577-E1577)*(-2*E1577^3*(1-Y1577^3)-3*E1577^2*(1-Y1577^2)-6*E1577*(1-Y1577)-6*LN((1-E1577)/(1-E1577*Y1577)))/(2*E1577^4))/3,$F$1506*E1577*(LN((1+D1577^3)/(D1577^3+Y1577^3)))/3)","v":1.1659561549892135},{"$f":"G1577/F1577","v":0.66923159017844291},{"$f":"F1577*B1577*$D$1506","v":0.44245056100574726},{"$f":"MAX(MIN($K$1506,$Q$1506*$J$1506*C1577*(B1577-$I$1506)/B1577),-$K$1506)","v":77.774415241460161},{"$f":"J1577*$H$1506","v":4.6912422059484149E-2},{"$f":"MIN($O$1506,$Q$1506*$N$1506*C1577*(C$1506-B1577-$M$1506)/B1577)","v":-17.800513741977337},{"$f":"L1577*$L$1506","v":-1.0737016934768671E-2},{"$f":"(0.5*$C$1506-B1577+H1577*B1577)*I1577+(0.5*$C$1506-$I$1506)*K1577+(0.5*$C$1506-$M$1506)*M1577","v":3.8567619812279227E-2},{"$f":"I1577+K1577-M1577","v":0.5001000000000001},null,{"$f":"N1577-P1577*O1577","v":3.8567619812279227E-2},{"$f":"R1576","v":0.5},{"$f":"F1577*$D$1506","v":0.73173710309296125},{"$f":"IF(ABS(J1576)<$K$1506,$Q$1506*C1577*$H$1506*$J$1506,IF(J1576>0,1,-1)*$H$1506*$K$1506)","v":5.2080337077300642E-2},5.2080337077300642E-2,{"$f":"-(R1577+0.0001)","v":-0.50009999999999999},{"$f":"IF(ABS(J1576)<$K$1506,$I$1506*$Q$1506*C1577*$H$1506*$J$1506,0)","v":3.1248202246380377E-3},2.4998561797104309E-2,{"$f":"IF(B1576<$C$1506,0,(B1576-$C$1506)/B1576)","v":0.10693290845436415},{"$f":"IF(B1577<=$C$1506,0,(B1577-$C$1506)/B1577)","v":0.1069329084542251}]
[null,{"$f":"MIN(0.5*(-(T1578+U1578+V1578)+SQRT((T1578+U1578+V1578)^2+4*S1578*(W1578+X1578)))/S1578,1000*$C$6)","v":0.60465781922985662},1.5788568661380902E-4,{"$f":"IF($C$2=1,C1578/($Z$1506*$Z$5),2^(1/3)*$Z$5/C1578)","v":2.7889574224918362E-2},{"$f":"IF($C$2=1,-($Z$1506-2)*C1578/$Z$5,3*($Z$5/C1578)^2)","v":-5.6129054442713024E-2},{"$f":"IF($C$2=1,0.5*($Z$1506*C1578*$F$1506/$Z$5)*(1-Y1578^2+(D1578-E1578)*(E1578^2*(1-Y1578^2)+2*E1578*(1-Y1578)+2*LN((1-E1578)/(1-E1578*Y1578)))/(E1578^3)),$F$1506*E1578*(LN((1-D1578+D1578^2)/(1+D1578)^2)/(6*D1578)+ATAN((2-D1578)/(D1578*3^0.5))/(D1578*3^0.5)-LN((Y1578^2-D1578*Y1578+D1578^2)/(Y1578+D1578)^2)/(6*D1578)-ATAN((2*Y1578-D1578)/(D1578*3^0.5))/(D1578*3^0.5)))","v":1.7422311978403164},{"$f":"IF($C$2=1,($Z$1506*C1578*$F$1506/$Z$5)*(1-Y1578^3-(D1578-E1578)*(-2*E1578^3*(1-Y1578^3)-3*E1578^2*(1-Y1578^2)-6*E1578*(1-Y1578)-6*LN((1-E1578)/(1-E1578*Y1578)))/(2*E1578^4))/3,$F$1506*E1578*(LN((1+D1578^3)/(D1578^3+Y1578^3)))/3)","v":1.1659561549912627},{"$f":"G1578/F1578","v":0.66923159017964506},{"$f":"F1578*B1578*$D$1506","v":0.44245056100574554},{"$f":"MAX(MIN($K$1506,$Q$1506*$J$1506*C1578*(B1578-$I$1506)/B1578),-$K$1506)","v":77.774415241460446},{"$f":"J1578*$H$1506","v":4.6912422059484322E-2},{"$f":"MIN($O$1506,$Q$1506*$N$1506*C1578*(C$1506-B1578-$M$1506)/B1578)","v":-17.800513741979739},{"$f":"L1578*$L$1506","v":-1.0737016934770119E-2},{"$f":"(0.5*$C$1506-B1578+H1578*B1578)*I1578+(0.5*$C$1506-$I$1506)*K1578+(0.5*$C$1506-$M$1506)*M1578","v":3.8567619812597348E-2},{"$f":"I1578+K1578-M1578","v":0.50009999999999999},null,{"$f":"N1578-P1578*O1578","v":3.8567619812597348E-2},{"$f":"R1577","v":0.5},{"$f":"F1578*$D$1506","v":0.73173710309293283},{"$f":"IF(ABS(J1577)<$K$1506,$Q$1506*C1578*$H$1506*$J$1506,IF(J1577>0,1,-1)*$H$1506*$K$1506)","v":5.2080337077300642E-2},5.2080337077300642E-2,{"$f":"-(R1578+0.0001)","v":-0.50009999999999999},{"$f":"IF(ABS(J1577)<$K$1506,$I$1506*$Q$1506*C1578*$H$1506*$J$1506,0)","v":3.1248202246380377E-3},2.4998561797104309E-2,{"$f":"IF(B1577<$C$1506,0,(B1577-$C$1506)/B1577)","v":0.1069329084542251},{"$f":"IF(B1578<=$C$1506,0,(B1578-$C$1506)/B1578)","v":0.10693290845425642}]
[null,null,{"$f":"IF(C1506*J1579/(J1579-L1579)<=0,B1578,C1506*J1579/(J1579-L1579))","v":0.55630412909126303},null,null,null,null,null,null,{"$f":"$R1578/($J1509*N1509)+($Q1578-R1508)/($M1509*N1509)","v":1.7621479290958115E-4},null,{"$f":"$R1578/($J1509*$N$1509)-($Q1578-R1508)/($M1509*N1509)","v":5.1644929116042264E-6},null,null,{"$f":"SIGN(J1579-L1579)","v":1},{"$f":"IF(Q1511=0.0001,ABS(Q1508)*($Q$6*C1578/B1578)/Q1511,IF(B1578>10*$C$6,(L1579-J1579)/$C$6,$Q$6*C1578/B1578))*IF(B1578>10*C1506,O1579*P1508,P1508)","v":7.1397501785096077E-4},null,null,null,null,null,null,null,null,null,null,{"$f":"N1578/($Q$6*C1578/B1578)","v":54.018164289115468}]
[null,{"$f":"IF(AND(B1578<>1000*$C$6,C1580<C1506,B1578<C1506),B1578,IF(AND(B1578<>1000*$C$6,C1580>C1506,B1578>C1506),B1578*C1580/C1579,IF(C1506*J1580/(J1580-L1580)<=0,B1578,C1506*J1580/(J1580-L1580))))","v":0.63923443564441784},{"$f":"IF(C1506*J1580/(J1580-L1580)<=0,B1578,C1506*J1580/(J1580-L1580))","v":0.58811569899029226},null,null,null,null,null,null,{"$f":"$R1578/($J1509*N1509)+($Q1580-R1508)/($M1509*N1509)","v":1.6766227790968231E-4},null,{"$f":"$R1578/($J1509*N1509)-($Q1580-R1508)/($M1509*N1509)","v":1.3717007911503068E-5},null,null,{"$f":"SIGN(J1580-L1580)","v":1},null,{"$f":"IF(Q1508=0,0.0001*C1506^2*D1506*F1506,0.9*Q1578)","v":3.4710857831337615E-2}]
[null,{"$f":"MIN(0.5*(-(T1581+U1581+V1581)+SQRT((T1581+U1581+V1581)^2+4*S1581*(W1581+X1581)))/S1581,1000*$C$6)","v":0.63480077988492589},{"$f":"MIN(MAX(IF(Q1508=0,0.001*Z1505,IF(OR(AND(B1578<>1000*$C$6,C1580<C1506,B1578<C1506),AND(B1578<>1000*$C$6,C1580>C1506,B1578>C1506)),C1578*J1580/J1579,IF(B1580>C1506,J1580,C1578*MIN(Q1580/Q1511,2)))),0.0001*$Z$5),0.9*K1506/(J1506*Q1506))","v":1.5022276750958376E-4},{"$f":"IF($C$2=1,C1581/($Z$1506*$Z$5),2^(1/3)*$Z$5/C1581)","v":2.6535964814715228E-2},{"$f":"IF($C$2=1,-($Z$1506-2)*C1581/$Z$5,3*($Z$5/C1581)^2)","v":-5.3404853073888335E-2},{"$f":"IF($C$2=1,0.5*($Z$1506*C1581*$F$1506/$Z$5)*(1-Y1581^2+(D1581-E1581)*(E1581^2*(1-Y1581^2)+2*E1581*(1-Y1581)+2*LN((1-E1581)/(1-E1581*Y1581)))/(E1581^3)),$F$1506*E1581*(LN((1-D1581+D1581^2)/(1+D1581)^2)/(6*D1581)+ATAN((2-D1581)/(D1581*3^0.5))/(D1581*3^0.5)-LN((Y1581^2-D1581*Y1581+D1581^2)/(Y1581+D1581)^2)/(6*D1581)-ATAN((2*Y1581-D1581)/(D1581*3^0.5))/(D1581*3^0.5)))","v":1.6621157571058696},{"$f":"IF($C$2=1,($Z$1506*C1581*$F$1506/$Z$5)*(1-Y1581^3-(D1581-E1581)*(-2*E1581^3*(1-Y1581^3)-3*E1581^2*(1-Y1581^2)-6*E1581*(1-Y1581)-6*LN((1-E1581)/(1-E1581*Y1581)))/(2*E1581^4))/3,$F$1506*E1581*(LN((1+D1581^3)/(D1581^3+Y1581^3)))/3)","v":1.1126853542358197},{"$f":"G1581/F1581","v":0.66943914674948024},{"$f":"F1581*B1581*$D$1506","v":0.44314719912532857},{"$f":"MAX(MIN($K$1506,$Q$1506*$J$1506*C1581*(B1581-$I$1506)/B1581),-$K$1506)","v":74.386749322973614},{"$f":"J1581*$H$1506","v":4.4869030117916049E-2},{"$f":"MIN($O$1506,$Q$1506*$N$1506*C1581*(C$1506-B1581-$M$1506)/B1581)","v":-20.033248407571929},{"$f":"L1581*$L$1506","v":-1.208377075675534E-2},{"$f":"(0.5*$C$1506-B1581+H1581*B1581)*I1581+(0.5*$C$1506-$I$1506)*K1581+(0.5*$C$1506-$M$1506)*M1581","v":3.3544512585726764E-2},{"$f":"I1581+K1581-M1581","v":0.50009999999999999},null,{"$f":"N1581-P1581*O1581","v":3.3544512585726764E-2},{"$f":"R1578","v":0.5},{"$f":"F1581*$D$1506","v":0.6980886179844652},{"$f":"IF(ABS(J1580)<$K$1506,$Q$1506*C1581*$H$1506*$J$1506,IF(J1580>0,1,-1)*$H$1506*$K$1506)","v":4.9552638598081858E-2},{"$f":"IF(L1578<$O$1506,$Q$1506*C1581*$L$1506*$N$1506,-$L$1506*$O$1506)","v":4.9552638598081858E-2},{"$f":"-(R1581+0.0001)","v":-0.50009999999999999},{"$f":"IF(ABS(J1580)<$K$1506,$I$1506*$Q$1506*C1581*$H$1506*$J$1506,0)","v":2.9731583158849112E-3},{"$f":"IF(L1578<$O$1506,($C$1506-$M$1506)*$Q$1506*C1581*$L$1506*$N$1506,0)","v":2.3785266527079293E-2},{"$f":"IF(B1580<$C$406,0,IF(C1578*J1580/J1579=C1581,Y1578,(B1580-$C$6)/B1580))","v":0.1069329084542251},{"$f":"IF(B1581<=$C$1506,0,(B1581-$C$1506)/B1581)","v":0.14933941937202874}]
[null,{"$f":"MIN(0.5*(-(T1582+U1582+V1582)+SQRT((T1582+U1582+V1582)^2+4*S1582*(W1582+X1582)))/S1582,1000*$C$6)","v":0.65443260843137807},{"$f":"IF(Q1581<0,IF(B1580>C1506,1.02,1.1),IF(B1580>C1506,0.98,0.9))*C1581","v":1.4721831215939207E-4},2.6005245518420921E-2,{"$f":"IF($C$2=1,-($Z$1506-2)*C1582/$Z$5,3*($Z$5/C1582)^2)","v":-5.2336756012410564E-2},{"$f":"IF($C$2=1,0.5*($Z$1506*C1582*$F$1506/$Z$5)*(1-Y1582^2+(D1582-E1582)*(E1582^2*(1-Y1582^2)+2*E1582*(1-Y1582)+2*LN((1-E1582)/(1-E1582*Y1582)))/(E1582^3)),$F$1506*E1582*(LN((1-D1582+D1582^2)/(1+D1582)^2)/(6*D1582)+ATAN((2-D1582)/(D1582*3^0.5))/(D1582*3^0.5)-LN((Y1582^2-D1582*Y1582+D1582^2)/(Y1582+D1582)^2)/(6*D1582)-ATAN((2*Y1582-D1582)/(D1582*3^0.5))/(D1582*3^0.5)))","v":1.6118908239978831},{"$f":"IF($C$2=1,($Z$1506*C1582*$F$1506/$Z$5)*(1-Y1582^3-(D1582-E1582)*(-2*E1582^3*(1-Y1582^3)-3*E1582^2*(1-Y1582^2)-6*E1582*(1-Y1582)-6*LN((1-E1582)/(1-E1582*Y1582)))/(2*E1582^4))/3,$F$1506*E1582*(LN((1+D1582^3)/(D1582^3+Y1582^3)))/3)","v":1.089293315110248},{"$f":"G1582/F1582","v":0.67578603891331446},{"$f":"F1582*B1582*$D$1506","v":0.44304704491132596},{"$f":"MAX(MIN($K$1506,$Q$1506*$J$1506*C1582*(B1582-$I$1506)/B1582),-$K$1506)","v":73.127285672014892},4.4109339541279512E-2,{"$f":"MIN($O$1506,$Q$1506*$N$1506*C1582*(C$1506-B1582-$M$1506)/B1582)","v":-21.458754123426655},-1.2943615547394597E-2,{"$f":"(0.5*$C$1506-B1582+H1582*B1582)*I1582+(0.5*$C$1506-$I$1506)*K1582+(0.5*$C$1506-$M$1506)*M1582","v":3.2163470962796217E-2},{"$f":"I1582+K1582-M1582","v":0.5001000000000001},null,{"$f":"N1582-P1582*O1582","v":3.2163470962796217E-2},{"$f":"R1581","v":0.5},0.6769941460791109,4.8561585826120204E-2,{"$f":"IF(L1581<$O$1506,$Q$1506*C1582*$L$1506*$N$1506,-$L$1506*$O$1506)","v":4.8561585826120204E-2},{"$f":"-(R1582+0.0001)","v":-0.50009999999999999},2.9136951495672128E-3,{"$f":"IF(L1581<$O$1506,($C$1506-$M$1506)*$Q$1506*C1582*$L$1506*$N$1506,0)","v":2.3309561196537706E-2},{"$f":"IF(B1581<$C$1506,0,IF(MIN(ABS($Q$1580-Q1581),ABS(Q1581-Q1580))<=0.001*Q$1580,Y1581,(B1581-$C$1506)/B1581))","v":0.14933941937202874},0.17485774235129226]
[null,0.66635742636756679,{"$f":"IF(Z1582>0,0.99*C1582,0.98*C1582)","v":1.4574612903779814E-4},2.5745193063236711E-2,-5.1813388452286453E-2,1.5825471794706059,1.0767383985754695,{"$f":"G1583/F1583","v":0.68038312698877035},0.44290766755925959,72.526782714299415,4.3747124690639273E-2,-22.290325774229704,-1.3445207750101105E-2,3.1618406599440402E-2,{"$f":"I1583+K1583-M1583","v":0.50009999999999999},null,{"$f":"N1583-P1583*O1583","v":3.1618406599440402E-2},{"$f":"R1582","v":0.5},0.66466981537765446,4.8075969967859011E-2,4.8075969967859011E-2,{"$f":"-(R1583+0.0001)","v":-0.50009999999999999},2.8845581980715407E-3,2.3076465584572329E-2,{"$f":"IF(B1582<$C$1506,0,IF(MIN(ABS($Q$1580-Q1582),ABS(Q1582-Q1581))<=0.001*Q$1580,Y1582,(B1582-$C$1506)/B1582))","v":0.17485774235129226},0.18962409867083441]
[null,0.6384239256145865,{"$f":"IF(MIN(ABS($Q$1580-Q1583),10*ABS(Q1583-Q1582))<=0.001*Q$1580,C1583,MAX(0.9*C1583,MIN($W$6,1.05*C1583,IF(C1583=$W$6,0.5*(C1583+C1582),C1583+IF(C1583=C1582,0,(C1583-C1582)*(Q1583-Q$1580)/(Q1582-Q1583))))))","v":1.5303343548968805E-4},2.7032452716398547E-2,-5.4404057874900776E-2,1.6478001432307456,1.1256085517539496,0.68309773875066826,0.44183791514925325,75.823416136116293,4.5735607123834503E-2,-20.767196351756514,-1.2526477726912323E-2,3.6878397281143172E-2,0.5001000000000001,null,3.6878397281143172E-2,0.5,0.69207606015691314,5.0479768466251962E-2,5.0479768466251962E-2,-0.50009999999999999,3.0287861079751175E-3,2.4230288863800947E-2,0.18962409867083441,0.15416703802232581]
[null,0.64325652465570837,{"$f":"IF(MIN(ABS($Q$1580-Q1584),10*ABS(Q1584-Q1583))<=0.001*Q$1580,C1584,MAX(0.9*C1584,MIN($W$6,1.05*C1584,IF(C1584=$W$6,0.5*(C1584+C1583),C1584+IF(C1584=C1583,0,(C1584-C1583)*(Q1584-Q$1580)/(Q1583-Q1584))))))","v":1.5003047879772285E-4},2.6501998149230366E-2,-5.33364935929991E-2,1.6384883902814087,1.1084926036703646,0.6765336942546063,0.44266670600088087,74.393471637371334,4.4873084922433235E-2,-20.823118341898489,-1.2560209076685919E-2,3.4199251061150369E-2,0.50009999999999999,null,3.4199251061150369E-2,0.5,0.68816512391819162,4.948921004325426E-2,4.948921004325426E-2,-0.50009999999999999,2.969352602595256E-3,2.3754820820762051E-2,0.15416703802232581,0.16052153487440265]
[null,0.6420987535790027,1.5060392005401704E-4,2.660329316098255E-2,-5.3540354476050288E-2,1.6409075948649783,1.1119277029349663,0.67762968884695851,0.44252238298847107,74.663964033214469,4.5036242091770706E-2,-20.79189387133593,-1.2541374919758258E-2,3.4705675448564788E-2,0.50009999999999999,null,3.4705675448564788E-2,0.5,0.6891811898432908,4.9678365973486766E-2,4.9678365973486766E-2,-0.50009999999999999,2.9807019584092054E-3,2.384561566727365E-2,0.16052153487440265,0.15900786757475088]
[null,0.6420987535790027,1.5060392005401704E-4,2.660329316098255E-2,-5.3540354476050288E-2,1.6409075948649783,1.1119277029349663,0.67762968884695851,0.44252238298847107,74.663964033214469,4.5036242091770706E-2,-20.79189387133593,-1.2541374919758258E-2,3.4705675448564788E-2,0.50009999999999999,null,3.4705675448564788E-2,0.5,0.6891811898432908,4.9678365973486766E-2,4.9678365973486766E-2,-0.50009999999999999,2.9807019584092054E-3,2.384561566727365E-2,0.16052153487440265,0.15900786757475088]
[null,0.6420987535790027,1.5060392005401704E-4,2.660329316098255E-2,-5.3540354476050288E-2,1.6409075948649783,1.1119277029349663,0.67762968884695851,0.44252238298847107,74.663964033214469,4.5036242091770706E-2,-20.79189387133593,-1.2541374919758258E-2,3.4705675448564788E-2,0.50009999999999999,null,3.4705675448564788E-2,0.5,0.6891811898432908,4.9678365973486766E-2,4.9678365973486766E-2,-0.50009999999999999,2.9807019584092054E-3,2.384561566727365E-2,0.16052153487440265,0.15900786757475088]
[null,0.6420987535790027,1.5060392005401704E-4,2.660329316098255E-2,-5.3540354476050288E-2,1.6409075948649783,1.1119277029349663,0.67762968884695851,0.44252238298847107,74.663964033214469,4.5036242091770706E-2,-20.79189387133593,-1.2541374919758258E-2,3.4705675448564788E-2,0.50009999999999999,null,3.4705675448564788E-2,0.5,0.6891811898432908,4.9678365973486766E-2,4.9678365973486766E-2,-0.50009999999999999,2.9807019584092054E-3,2.384561566727365E-2,0.16052153487440265,0.15900786757475088]
[null,0.6420987535790027,1.5060392005401704E-4,2.660329316098255E-2,-5.3540354476050288E-2,1.6409075948649783,1.1119277029349663,0.67762968884695851,0.44252238298847107,74.663964033214469,4.5036242091770706E-2,-20.79189387133593,-1.2541374919758258E-2,3.4705675448564788E-2,0.50009999999999999,null,3.4705675448564788E-2,0.5,0.6891811898432908,4.9678365973486766E-2,4.9678365973486766E-2,-0.50009999999999999,2.9807019584092054E-3,2.384561566727365E-2,0.16052153487440265,0.15900786757475088]
[null,0.6420987535790027,1.5060392005401704E-4,2.660329316098255E-2,-5.3540354476050288E-2,1.6409075948649783,1.1119277029349663,0.67762968884695851,0.44252238298847107,74.663964033214469,4.5036242091770706E-2,-20.79189387133593,-1.2541374919758258E-2,3.4705675448564788E-2,0.50009999999999999,null,3.4705675448564788E-2,0.5,0.6891811898432908,4.9678365973486766E-2,4.9678365973486766E-2,-0.50009999999999999,2.9807019584092054E-3,2.384561566727365E-2,0.16052153487440265,0.15900786757475088]
[null,0.6420987535790027,1.5060392005401704E-4,2.660329316098255E-2,-5.3540354476050288E-2,1.6409075948649783,1.1119277029349663,0.67762968884695851,0.44252238298847107,74.663964033214469,4.5036242091770706E-2,-20.79189387133593,-1.2541374919758258E-2,3.4705675448564788E-2,0.50009999999999999,null,3.4705675448564788E-2,0.5,0.6891811898432908,4.9678365973486766E-2,4.9678365973486766E-2,-0.50009999999999999,2.9807019584092054E-3,2.384561566727365E-2,0.16052153487440265,0.15900786757475088]
[null,0.6420987535790027,1.5060392005401704E-4,2.660329316098255E-2,-5.3540354476050288E-2,1.6409075948649783,1.1119277029349663,0.67762968884695851,0.44252238298847107,74.663964033214469,4.5036242091770706E-2,-20.79189387133593,-1.2541374919758258E-2,3.4705675448564788E-2,0.50009999999999999,null,3.4705675448564788E-2,0.5,0.6891811898432908,4.9678365973486766E-2,4.9678365973486766E-2,-0.50009999999999999,2.9807019584092054E-3,2.384561566727365E-2,0.16052153487440265,0.15900786757475088]
[null,0.6420987535790027,1.5060392005401704E-4,2.660329316098255E-2,-5.3540354476050288E-2,1.6409075948649783,1.1119277029349663,0.67762968884695851,0.44252238298847107,74.663964033214469,4.5036242091770706E-2,-20.79189387133593,-1.2541374919758258E-2,3.4705675448564788E-2,0.50009999999999999,null,3.4705675448564788E-2,0.5,0.6891811898432908,4.9678365973486766E-2,4.9678365973486766E-2,-0.50009999999999999,2.9807019584092054E-3,2.384561566727365E-2,0.16052153487440265,0.15900786757475088]
[null,0.6420987535790027,1.5060392005401704E-4,2.660329316098255E-2,-5.3540354476050288E-2,1.6409075948649783,1.1119277029349663,0.67762968884695851,0.44252238298847107,74.663964033214469,4.5036242091770706E-2,-20.79189387133593,-1.2541374919758258E-2,3.4705675448564788E-2,0.50009999999999999,null,3.4705675448564788E-2,0.5,0.6891811898432908,4.9678365973486766E-2,4.9678365973486766E-2,-0.50009999999999999,2.9807019584092054E-3,2.384561566727365E-2,0.16052153487440265,0.15900786757475088]
[null,0.6420987535790027,1.5060392005401704E-4,2.660329316098255E-2,-5.3540354476050288E-2,1.6409075948649783,1.1119277029349663,0.67762968884695851,0.44252238298847107,74.663964033214469,4.5036242091770706E-2,-20.79189387133593,-1.2541374919758258E-2,3.4705675448564788E-2,0.50009999999999999,null,3.4705675448564788E-2,0.5,0.6891811898432908,4.9678365973486766E-2,4.9678365973486766E-2,-0.50009999999999999,2.9807019584092054E-3,2.384561566727365E-2,0.16052153487440265,0.15900786757475088]
[null,0.6420987535790027,1.5060392005401704E-4,2.660329316098255E-2,-5.3540354476050288E-2,1.6409075948649783,1.1119277029349663,0.67762968884695851,0.44252238298847107,74.663964033214469,4.5036242091770706E-2,-20.79189387133593,-1.2541374919758258E-2,3.4705675448564788E-2,0.50009999999999999,null,3.4705675448564788E-2,0.5,0.6891811898432908,4.9678365973486766E-2,4.9678365973486766E-2,-0.50009999999999999,2.9807019584092054E-3,2.384561566727365E-2,0.16052153487440265,0.15900786757475088]
[null,0.6420987535790027,1.5060392005401704E-4,2.660329316098255E-2,-5.3540354476050288E-2,1.6409075948649783,1.1119277029349663,0.67762968884695851,0.44252238298847107,74.663964033214469,4.5036242091770706E-2,-20.79189387133593,-1.2541374919758258E-2,3.4705675448564788E-2,0.50009999999999999,null,{"$f":"IF(B1598>10*B1506,Q1580,IF(Q1580<0.000001,0,N1598-P1598*O1598))","v":3.4705675448564788E-2},0.5,0.6891811898432908,4.9678365973486766E-2,4.9678365973486766E-2,-0.50009999999999999,2.9807019584092054E-3,2.384561566727365E-2,0.16052153487440265,0.15900786757475088]
[null,null,null,null,null,null,null,null,null,null,null,null,null,null,null,{"$f":"IF(Q1580=0.0001,ABS(INDEX(Snitkræfter!$G$286:$U$286,B1509+1))*($Q$6*C1598/B1598)/Q1580,IF(B1598>10*$C$6,(J1580-L1580)/$C$6,$Q$6*C1598/B1598))*IF(AND(B1598>10*$C$6,O1580=O1579),P1508,P1508)","v":6.4133416859379194E-4},null,null,null,null,null,null,null,null,null,null,{"$f":"(Q1578-Q1598)/(P1579-P1599)","v":53.164912078054073}]

{"sheet":"Firsidig","index":5,"n_rows":107,"n_cols":33,"rows_kept":107,"cut":false,"hidden":false,"merged":[[38,22,38,23],[37,10,37,16],[37,17,37,23],[38,13,38,14],[38,15,38,16],[38,18,38,19],[38,20,38,21],[65,2,65,3],[65,4,65,5],[65,6,65,7],[38,11,38,12],[92,6,92,7]]}
[]
[null,null,null,{"$f":"Brand!BJ60","v":1},null,null,null,null,null,null,"Q",null,"y","Q-3",null,null,null,null,null,null,null,"Q-4"]
[null,null,null,null,null,null,null,null,null,null,null,"Punkt",null,null,1,2,3,"Midte",4,5,6]
[null,null,null,null,null,null,null,null,null,null,"x",null,null,null,{"$f":"$E$16/(4*$E$19)+(O3-1)*$E$16/(2*$E$19)","v":3.4999999999999996E-2},{"$f":"$E$16/(4*$E$19)+(P3-1)*$E$16/(2*$E$19)","v":0.10499999999999998},{"$f":"$E$16/(4*$E$19)+(Q3-1)*$E$16/(2*$E$19)","v":0.17499999999999999},{"$f":"0.5*E16","v":0.21},{"$f":"$E$16/(4*$E$19)+(S3-1)*$E$16/(2*$E$19)","v":0.245},{"$f":"$E$16/(4*$E$19)+(T3-1)*$E$16/(2*$E$19)","v":0.31499999999999995},{"$f":"$E$16/(4*$E$19)+(U3-1)*$E$16/(2*$E$19)","v":0.38500000000000001}]
[null,null,null,null,null,null,null,null,null,null,"Q-1",null,null,null,{"$f":"MAX(312*LOG10(8*$E$17+1)*EXP(-1.9*O4*$E$18/SQRT($E$17))*SIN(PI()/2-O4*$E$18/SQRT($E$17)),0)*$B$6","v":437.36019148357343},55.011433941180798,0,0,0,0,0,{"$f":"MAX(312*LOG10(8*$E$17+1)*EXP(-1.9*($E$16)*$E$18/SQRT($E$17))*SIN(PI()/2-($E$16)*$E$18/SQRT($E$17)),0)","v":0}]
[null,{"$f":"Brand!BI61","v":1},null,null,null,{"$f":"Brand!BK61","v":1},null,null,null,null,null,1,{"$f":"$E$15/(4*$E$19)+(L6-1)*$E$15/(2*$E$19)","v":4.5000000000000005E-2},{"$f":"MAX(312*LOG10(8*$E$17+1)*EXP(-1.9*M6*$E$18/SQRT($E$17))*SIN(PI()/2-M6*$E$18/SQRT($E$17)),0)*$D$2","v":343.32754592147995},{"$f":"MAX(((O$5+O$13)*$E$20/($E$20+$V$5))*(1-($N6+$V6)/$E$20)+$N6+$V6,20)","v":619.34519650779737},378.0644458838558,343.34954276884872,343.34954276884872,343.34954276884872,378.06444588385568,619.3451965077976,{"$f":"MAX(312*LOG10(8*$E$17+1)*EXP(-1.9*($E$15-M6)*$E$18/SQRT($E$17))*SIN(PI()/2-($E$15-M6)*$E$18/SQRT($E$17)),0)*$D$11","v":2.1996847368785582E-2}]
[null,null,null,null,null,null,null,null,null,null,null,2,{"$f":"$E$15/(4*$E$19)+(L7-1)*$E$15/(2*$E$19)","v":0.13500000000000001},11.341649547620246,443.37158772211797,65.682640948506446,20,20,20,65.682640948506332,443.37158772211825,0]
[null,null,null,null,null,null,null,null,null,null,null,3,{"$f":"$E$15/(4*$E$19)+(L8-1)*$E$15/(2*$E$19)","v":0.22500000000000003},0,437.36019148357343,55.011433941180798,20,20,20,55.011433941180677,437.36019148357371,0]
[null,null,null,null,null,null,null,null,null,null,null,"Midte",{"$f":"0.5*E15","v":0.27},0,437.36019148357343,55.011433941180798,20,20,20,55.011433941180677,437.36019148357371,0]
[null,null,null,null,null,null,null,null,null,null,null,4,{"$f":"$E$15/(4*$E$19)+(L10-1)*$E$15/(2*$E$19)","v":0.315},0,437.36019148357343,55.011433941180798,20,20,20,55.011433941180677,437.36019148357371,0]
[null,null,null,{"$f":"Brand!BJ62","v":1},null,null,null,{"$f":"VLOOKUP(600,Bet,5)","v":7},null,null,null,5,{"$f":"$E$15/(4*$E$19)+(L11-1)*$E$15/(2*$E$19)","v":0.40500000000000003},0,443.37158772211797,65.682640948506446,20,20,20,65.682640948506332,443.37158772211825,11.341649547620246]
[null,null,null,null,null,null,null,null,null,null,null,6,{"$f":"$E$15/(4*$E$19)+(L12-1)*$E$15/(2*$E$19)","v":0.495},2.1996847368785537E-2,619.34519650779725,378.06444588385551,343.34954276884844,343.34954276884844,343.34954276884844,378.06444588385546,619.34519650779737,343.32754592147967]
[null,"Betontværsnit",null,null,null,null,null,null,null,null,"Q-2",null,{"$f":"E15-E27","v":0.49543946646953702},null,{"$f":"MAX(312*LOG10(8*$E$17+1)*EXP(-1.9*($E$16-O4)*$E$18/SQRT($E$17))*SIN(PI()/2-($E$16-O4)*$E$18/SQRT($E$17)),0)*$F$6","v":0},0,0,0,0,55.011433941180677,437.36019148357371,{"$f":"MAX(312*LOG10(8*$E$17+1)*EXP(-1.9*($E$15-M13)*$E$18/SQRT($E$17))*SIN(PI()/2-($E$15-M13)*$E$18/SQRT($E$17)),0)*$D$11","v":347.09395985127247}]
[null,null,null,null,null,null,null,null,null,null,"z-1"]
[null,null,null,"h",{"$f":"Brand!O6/1000","v":0.54},"m",null,null,null,null,null,"Punkt",null,null,1,2,3,"Midte",4,5,6]
[null,null,null,"b",{"$f":"Brand!O7/1000","v":0.42},"m"]
[null,"Brandtid",null,"t",{"$f":"IF(D2+F6+D11+B6=0,0.0001,Brand!L29+0.0001)","v":120.0001},"min"]
[null,"Svækket tværsnit",null,"k",{"$f":"SQRT(PI()*2300*1000/(750*0.75))","v":113.33853402386262},null,null,null,null,null,null,1,null,null,{"$f":"INDEX(Bet,VLOOKUP(O6,Bet,5),2)+(INDEX(Bet,VLOOKUP(O6,Bet,5)+1,2)-INDEX(Bet,VLOOKUP(O6,Bet,5),2))*(O6-INDEX(Bet,VLOOKUP(O6,Bet,5),1))/(INDEX(Bet,VLOOKUP(O6,Bet,5)+1,1)-INDEX(Bet,VLOOKUP(O6,Bet,5),1))","v":0.56130960698440535},0.8812903100559476,0.90443359037091997,null,{"$f":"INDEX(Bet,VLOOKUP(S6,Bet,5),2)+(INDEX(Bet,VLOOKUP(S6,Bet,5)+1,2)-INDEX(Bet,VLOOKUP(S6,Bet,5),2))*(S6-INDEX(Bet,VLOOKUP(S6,Bet,5),1))/(INDEX(Bet,VLOOKUP(S6,Bet,5)+1,1)-INDEX(Bet,VLOOKUP(S6,Bet,5),1))","v":0.90443359037091997},0.8812903100559476,0.56130960698440491]
[null,null,null,"n",3,null,null,null,null,null,null,2,null,null,0.83775223709964652,1,1,null,1,1,0.83775223709964641]
[null,null,null,"Q-maks",{"$f":"MAX(312*LOG10(8*$E$17+1)*EXP(-1.9*0*$E$18/SQRT($E$17))*SIN(PI()/2-0*$E$18/SQRT($E$17)),0.0001)","v":930.60980975160555},null,"ecu",null,null,null,null,3,null,null,0.84175983058441206,1,1,null,1,1,0.84175983058441195]
[null,null,null,"z-M / e1",{"$f":"R21","v":1},{"$f":"INDEX(Bet,VLOOKUP(R9,Bet,5),3)+(INDEX(Bet,VLOOKUP(R9,Bet,5)+1,3)-INDEX(Bet,VLOOKUP(R9,Bet,5),3))*(R9-INDEX(Bet,VLOOKUP(R9,Bet,5),1))/(INDEX(Bet,VLOOKUP(R9,Bet,5)+1,1)-INDEX(Bet,VLOOKUP(R9,Bet,5),1))","v":2.5000000000000001E-3},{"$f":"INDEX(Bet,VLOOKUP(R9,Bet,5),4)+(INDEX(Bet,VLOOKUP(R9,Bet,5)+1,4)-INDEX(Bet,VLOOKUP(R9,Bet,5),4))*(R9-INDEX(Bet,VLOOKUP(R9,Bet,5),1))/(INDEX(Bet,VLOOKUP(R9,Bet,5)+1,1)-INDEX(Bet,VLOOKUP(R9,Bet,5),1))","v":0.02},null,null,null,null,"Midte",null,null,null,null,null,{"$f":"INDEX(Bet,VLOOKUP(R9,Bet,5),2)+(INDEX(Bet,VLOOKUP(R9,Bet,5)+1,2)-INDEX(Bet,VLOOKUP(R9,Bet,5),2))*(R9-INDEX(Bet,VLOOKUP(R9,Bet,5),1))/(INDEX(Bet,VLOOKUP(R9,Bet,5)+1,1)-INDEX(Bet,VLOOKUP(R9,Bet,5),1))","v":1}]
[null,null,null,"z-middel",{"$f":"((1-0.2/E19)/(2*E19)^2)*IF(AND(D2=1,D11=0),2*SUM(O18:U20),IF(AND(D11=1,D2=0),2*SUM(O22:U24),SUM(O18:U20)+SUM(O22:U24)))","v":0.83238250408396008},null,null,null,null,null,null,4,null,null,{"$f":"INDEX(Bet,VLOOKUP(O10,Bet,5),2)+(INDEX(Bet,VLOOKUP(O10,Bet,5)+1,2)-INDEX(Bet,VLOOKUP(O10,Bet,5),2))*(O10-INDEX(Bet,VLOOKUP(O10,Bet,5),1))/(INDEX(Bet,VLOOKUP(O10,Bet,5)+1,1)-INDEX(Bet,VLOOKUP(O10,Bet,5),1))","v":0.84175983058441206},1,1,null,{"$f":"INDEX(Bet,VLOOKUP(S10,Bet,5),2)+(INDEX(Bet,VLOOKUP(S10,Bet,5)+1,2)-INDEX(Bet,VLOOKUP(S10,Bet,5),2))*(S10-INDEX(Bet,VLOOKUP(S10,Bet,5),1))/(INDEX(Bet,VLOOKUP(S10,Bet,5)+1,1)-INDEX(Bet,VLOOKUP(S10,Bet,5),1))","v":1},1,0.84175983058441195]
[null,null,null,"a (bjælke)",{"$f":"IF(D11+B6+D2+F6=0,0,0.5*IF(B6=0,E15,MIN(E15,E16))*(1-E22/E21))","v":3.5199674142368381E-2},"m",null,null,null,null,null,5,null,null,0.83775223709964652,1,1,null,1,1,0.83775223709964641]
[null,null,null,"a (instabilitet)",{"$f":"IF(D11+B6+D2+F6=0,0,0.5*IF(B6=0,E15,MIN(E15,E16))*(1-(E22/E21)^1.3))","v":4.4560533530463034E-2},"m",null,null,null,null,null,6,null,null,0.56130960698440557,0.88129031005594771,0.90443359037092019,null,0.90443359037092019,0.88129031005594782,0.56130960698440535]
[null,"Randzoner",null,"atop",{"$f":"E24*D2","v":4.4560533530463034E-2},"m"]
[null,null,null,"aside",{"$f":"E24*MAX(B6,F6)","v":4.4560533530463034E-2},"m"]
[null,null,null,"abund",{"$f":"E24*D11","v":4.4560533530463034E-2},"m"]
[null,"Stål-gen","type",{"$f":"IF($E$28=\"Q\",1,IF($E$28=\"AC\",3,5))","v":3},{"$f":"Brand!BE42","v":"AC"},null,null,null,null,null,"Trykarmering",null,{"$f":"M85","v":0.06},0.21,0.36,0.36,0.36,0.36,0.36,0.36,0.36,0.36]
[null,null,"side-\"dæklag\"",null,{"$f":"Brand!N11/1000","v":0.06},"m",null,null,null,null,null,null,{"$f":"MAX(312*LOG10(8*$E$17+1)*EXP(-1.9*M28*$E$18/SQRT($E$17))*SIN(PI()/2-M28*$E$18/SQRT($E$17)),0)*$B$6","v":232.72449588471071},{"$f":"IF(N28=M28,0,MAX(312*LOG10(8*$E$17+1)*EXP(-1.9*N28*$E$18/SQRT($E$17))*SIN(PI()/2-N28*$E$18/SQRT($E$17)),0))*$B$6","v":0},0,0,0,0,0,0,0,0]
[null,"Trykarmering",null,"nc",{"$f":"MAX(Brand!O9,1)","v":3},null,null,null,null,null,{"$f":"-M88","v":0.06},{"$f":"MAX(312*LOG10(8*$E$17+1)*EXP(-1.9*K30*$E$18/SQRT($E$17))*SIN(PI()/2-K30*$E$18/SQRT($E$17)),0)*$D$2","v":232.72449588471071},{"$f":"MAX(((M$29+M$31)*$E$20/($E$20+$V$5))*(1-($L30+$W30)/$E$20)+$L30+$W30,20)","v":407.26383922595556},{"$f":"IF(N28=M28,0,MAX(((N$29+N$31)*$E$20/($E$20+$V$5))*(1-($L30+$W30)/$E$20)+$L30+$W30,20))","v":232.74314829892722},407.26383922595556,0,0,0,0,0,0,0,{"$f":"MAX(312*LOG10(8*$E$17+1)*EXP(-1.9*($E$15-K30)*$E$18/SQRT($E$17))*SIN(PI()/2-($E$15-K30)*$E$18/SQRT($E$17)),0)*$D$11","v":1.8652414216509587E-2},{"$f":"(SUM(D44:D53)+0.5*(E30-E31)*(D48+D49))/E30-20","v":329.09027558361277}]
[null,null,null,"reduc nc",{"$f":"MIN(FLOOR(E30,1),10)","v":3},null,null,null,null,null,null,null,{"$f":"MAX(312*LOG10(8*$E$17+1)*EXP(-1.9*($E$16-M28)*$E$18/SQRT($E$17))*SIN(PI()/2-($E$16-M28)*$E$18/SQRT($E$17)),0)*$F$6","v":0},{"$f":"IF(N28=M28,0,MAX(312*LOG10(8*$E$17+1)*EXP(-1.9*($E$16-N28)*$E$18/SQRT($E$17))*SIN(PI()/2-($E$16-N28)*$E$18/SQRT($E$17)),0))*$F$6","v":0},232.72449588471071,0,0,0,0,0,0,0]
[null,null,null,"ac",{"$f":"Brand!N9/1000","v":0.06},"m",null,null,null,null,"Trækarmering",null,{"$f":"W85","v":0.06},0.21,0.36,0.36,0.36,0.36,0.36,0.36,0.36,0.36]
[null,null,null,"dc",{"$f":"(E16-2*E29)/(E31-1)","v":0.15},"m",null,null,null,null,null,null,{"$f":"MAX(312*LOG10(8*$E$17+1)*EXP(-1.9*M32*$E$18/SQRT($E$17))*SIN(PI()/2-M32*$E$18/SQRT($E$17)),0)*$B$6","v":232.72449588471071},{"$f":"IF(N32=M32,0,MAX(312*LOG10(8*$E$17+1)*EXP(-1.9*N32*$E$18/SQRT($E$17))*SIN(PI()/2-N32*$E$18/SQRT($E$17)),0))*$B$6","v":0},0,0,0,0,0,0,0,0]
[null,null,null,"E/Ek",{"$f":"(SUM(E44:E53)+0.5*(E30-E31)*(E48+E49))/E30","v":0.96400954393395277},null,null,null,null,null,{"$f":"-W89","v":0.48000000000000004},{"$f":"MAX(312*LOG10(8*$E$17+1)*EXP(-1.9*K34*$E$18/SQRT($E$17))*SIN(PI()/2-K34*$E$18/SQRT($E$17)),0)*$D$2","v":1.8652414216509587E-2},{"$f":"MAX(((M$33+M$35)*$E$20/($E$20+$V$5))*(1-($L34+$W34)/$E$20)+$L34+$W34,20)","v":407.26383922595562},{"$f":"IF(N32=M32,0,MAX(((N$33+N$35)*$E$20/($E$20+$V$5))*(1-($L34+$W34)/$E$20)+$L34+$W34,20))","v":232.74314829892722},407.26383922595562,0,0,0,0,0,0,0,{"$f":"MAX(312*LOG10(8*$E$17+1)*EXP(-1.9*($E$15-K34)*$E$18/SQRT($E$17))*SIN(PI()/2-($E$15-K34)*$E$18/SQRT($E$17)),0)*$D$11","v":232.72449588471071},{"$f":"(SUM(D54:D63)+0.5*(E36-E37)*(D58+D59))/E36-20","v":329.09027558361277}]
[null,null,null,"fy/fyk",{"$f":"(SUM(F44:F53)+0.5*(E30-E31)*(F48+F49))/E30","v":0.81673825513704701},null,null,null,null,null,null,null,{"$f":"MAX(312*LOG10(8*$E$17+1)*EXP(-1.9*($E$16-M32)*$E$18/SQRT($E$17))*SIN(PI()/2-($E$16-M32)*$E$18/SQRT($E$17)),0)*$F$6","v":0},{"$f":"IF(N32=M32,0,MAX(312*LOG10(8*$E$17+1)*EXP(-1.9*($E$16-N32)*$E$18/SQRT($E$17))*SIN(PI()/2-($E$16-N32)*$E$18/SQRT($E$17)),0))*$F$6","v":0},232.72449588471071,0,0,0,0,0,0,0]
[null,"Trækarmering",null,"nt",{"$f":"MAX(Brand!O10,1)","v":3}]
[null,null,null,"reduc nt",{"$f":"MIN(FLOOR(E36,1),10)","v":3}]
[null,null,null,"at",{"$f":"Brand!N10/1000","v":0.06},"m",null,null,null,null,"Trykarmering",null,null,null,null,null,null,"Trækarmering"]
[null,null,null,"dt",{"$f":"(E16-2*E29)/(E37-1)","v":0.15},"m",null,null,null,null,"Tabel","type (+Q)",null,"type (+AC)",null,"type (+C)",null,"Tabel","type (+Q)",null,"type (+AC)",null,"type (+C)"]
[null,null,null,"E/Ek",{"$f":"(SUM(E54:E63)+0.5*(E36-E37)*(E58+E59))/E36","v":0.96400954393395277},null,null,null,null,null,"Q-stål","E/Ek","fy/fyk","E/Ek","fy/fyk","E/Ek","fy/fyk","Q-stål","E/Ek","fy/fyk","E/Ek","fy/fyk","E/Ek","fy/fyk"]
[null,null,null,"fy/fyk",{"$f":"(SUM(F54:F63)+0.5*(E36-E37)*(F58+F59))/E36","v":0.8167382551370469},null,null,null,null,null,"Temp-1",null,null,null,null,null,null,"Temp-11"]
[null,null,null,null,null,null,null,null,null,null,{"$f":"D44","v":407.26383922595556},{"$f":"IF(K42=K44,L44,L44+(L43-L44)*(K42-K44)/(K43-K44))","v":0.69273616077404443},{"$f":"IF(K42=K44,M44,M44+(M43-M44)*(K42-K44)/(K43-K44))","v":0.63692508939327996},{"$f":"IF(K42=K44,N44,N44+(N43-N44)*(K42-K44)/(K43-K44))","v":0.94765147331587551},{"$f":"IF(K42=K44,O44,O44+(O43-O44)*(K42-K44)/(K43-K44))","v":0.76329316978030226},{"$f":"IF(K42=K44,P44,P44+(P43-P44)*(K42-K44)/(K43-K44))","v":0.5483778572384711},{"$f":"IF(K42=K44,Q44,Q44+(Q43-Q44)*(K42-K44)/(K43-K44))","v":0.76474593762549337},{"$f":"D54","v":407.26383922595562},{"$f":"IF(R42=R44,S44,S44+(S43-S44)*(R42-R44)/(R43-R44))","v":0.69273616077404432},{"$f":"IF(R42=R44,T44,T44+(T43-T44)*(R42-R44)/(R43-R44))","v":0.63692508939327985},{"$f":"IF(R42=R44,U44,U44+(U43-U44)*(R42-R44)/(R43-R44))","v":0.9476514733158754},{"$f":"IF(R42=R44,V44,V44+(V43-V44)*(R42-R44)/(R43-R44))","v":0.76329316978030215},{"$f":"IF(R42=R44,W44,W44+(W43-W44)*(R42-R44)/(R43-R44))","v":0.5483778572384711},{"$f":"IF(R42=R44,X44,X44+(X43-X44)*(R42-R44)/(R43-R44))","v":0.76474593762549326}]
[null,null,null,"Temp","E/Ek","fy/fyk",null,null,null,null,{"$f":"CEILING(K42,100)","v":500},{"$f":"VLOOKUP(K43,$B$68:$H$80,2,TRUE)","v":0.6},{"$f":"VLOOKUP(K43,$B$68:$H$80,3,TRUE)","v":0.47},{"$f":"VLOOKUP(K43,$B$68:$H$80,4,TRUE)","v":0.79},{"$f":"VLOOKUP(K43,$B$68:$H$80,5,TRUE)","v":0.55000000000000004},{"$f":"VLOOKUP(K43,$B$68:$H$80,6,TRUE)","v":0.4},{"$f":"VLOOKUP(K43,$B$68:$H$80,7,TRUE)","v":0.56999999999999995},{"$f":"CEILING(R42,100)","v":500},{"$f":"VLOOKUP(R43,$B$68:$H$80,2,TRUE)","v":0.6},{"$f":"VLOOKUP(R43,$B$68:$H$80,3,TRUE)","v":0.47},{"$f":"VLOOKUP(R43,$B$68:$H$80,4,TRUE)","v":0.79},{"$f":"VLOOKUP(R43,$B$68:$H$80,5,TRUE)","v":0.55000000000000004},{"$f":"VLOOKUP(R43,$B$68:$H$80,6,TRUE)","v":0.4},{"$f":"VLOOKUP(R43,$B$68:$H$80,7,TRUE)","v":0.56999999999999995}]
[null,"Trykarm.",1,{"$f":"M30","v":407.26383922595556},{"$f":"IF(D44=0,0,INDEX($L$41:$Q$80,2+(C44-1)*4,$D$28))","v":0.94765147331587551},{"$f":"IF(D44=0,0,INDEX($L$41:$Q$80,2+(C44-1)*4,$D$28+1))","v":0.76329316978030226},null,null,null,null,{"$f":"MAX(FLOOR(K42,100),20)","v":400},{"$f":"VLOOKUP(K44,$B$68:$H$80,2,TRUE)","v":0.7},{"$f":"VLOOKUP(K44,$B$68:$H$80,3,TRUE)","v":0.65},{"$f":"VLOOKUP(K44,$B$68:$H$80,4,TRUE)","v":0.96},{"$f":"VLOOKUP(K44,$B$68:$H$80,5,TRUE)","v":0.78},{"$f":"VLOOKUP(K44,$B$68:$H$80,6,TRUE)","v":0.56000000000000005},{"$f":"VLOOKUP(K44,$B$68:$H$80,7,TRUE)","v":0.78},{"$f":"MAX(FLOOR(R42,100),20)","v":400},{"$f":"VLOOKUP(R44,$B$68:$H$80,2,TRUE)","v":0.7},{"$f":"VLOOKUP(R44,$B$68:$H$80,3,TRUE)","v":0.65},{"$f":"VLOOKUP(R44,$B$68:$H$80,4,TRUE)","v":0.96},{"$f":"VLOOKUP(R44,$B$68:$H$80,5,TRUE)","v":0.78},{"$f":"VLOOKUP(R44,$B$68:$H$80,6,TRUE)","v":0.56000000000000005},{"$f":"VLOOKUP(R44,$B$68:$H$80,7,TRUE)","v":0.78}]
[null,null,2,{"$f":"N30","v":232.74314829892722},0.99672568517010729,0.92362842585053639,null,null,null,null,"Temp-2",null,null,null,null,null,null,"Temp-12"]
[null,null,3,{"$f":"O30","v":407.26383922595556},0.94765147331587551,0.76329316978030226,null,null,null,null,{"$f":"D45","v":232.74314829892722},{"$f":"IF(K46=K48,L48,L48+(L47-L48)*(K46-K48)/(K47-K48))","v":0.86725685170107281},{"$f":"IF(K46=K48,M48,M48+(M47-M48)*(K46-K48)/(K47-K48))","v":0.84398253687118008},{"$f":"IF(K46=K48,N48,N48+(N47-N48)*(K46-K48)/(K47-K48))","v":0.99672568517010729},{"$f":"IF(K46=K48,O48,O48+(O47-O48)*(K46-K48)/(K47-K48))","v":0.92362842585053639},{"$f":"IF(K46=K48,P48,P48+(P47-P48)*(K46-K48)/(K47-K48))","v":0.82088527755160912},{"$f":"IF(K46=K48,Q48,Q48+(Q47-Q48)*(K46-K48)/(K47-K48))","v":0.93035411102064369},{"$f":"D55","v":232.74314829892722},{"$f":"IF(R46=R48,S48,S48+(S47-S48)*(R46-R48)/(R47-R48))","v":0.86725685170107281},{"$f":"IF(R46=R48,T48,T48+(T47-T48)*(R46-R48)/(R47-R48))","v":0.84398253687118008},{"$f":"IF(R46=R48,U48,U48+(U47-U48)*(R46-R48)/(R47-R48))","v":0.99672568517010729},{"$f":"IF(R46=R48,V48,V48+(V47-V48)*(R46-R48)/(R47-R48))","v":0.92362842585053639},{"$f":"IF(R46=R48,W48,W48+(W47-W48)*(R46-R48)/(R47-R48))","v":0.82088527755160912},{"$f":"IF(R46=R48,X48,X48+(X47-X48)*(R46-R48)/(R47-R48))","v":0.93035411102064369}]
[null,null,4,{"$f":"P30","v":0},0,0,null,null,null,null,{"$f":"CEILING(K46,100)","v":300},{"$f":"VLOOKUP(K47,$B$68:$H$80,2,TRUE)","v":0.8},{"$f":"VLOOKUP(K47,$B$68:$H$80,3,TRUE)","v":0.77},{"$f":"VLOOKUP(K47,$B$68:$H$80,4,TRUE)","v":0.99},{"$f":"VLOOKUP(K47,$B$68:$H$80,5,TRUE)","v":0.89},{"$f":"VLOOKUP(K47,$B$68:$H$80,6,TRUE)","v":0.72},{"$f":"VLOOKUP(K47,$B$68:$H$80,7,TRUE)","v":0.89},{"$f":"CEILING(R46,100)","v":300},{"$f":"VLOOKUP(R47,$B$68:$H$80,2,TRUE)","v":0.8},{"$f":"VLOOKUP(R47,$B$68:$H$80,3,TRUE)","v":0.77},{"$f":"VLOOKUP(R47,$B$68:$H$80,4,TRUE)","v":0.99},{"$f":"VLOOKUP(R47,$B$68:$H$80,5,TRUE)","v":0.89},{"$f":"VLOOKUP(R47,$B$68:$H$80,6,TRUE)","v":0.72},{"$f":"VLOOKUP(R47,$B$68:$H$80,7,TRUE)","v":0.89}]
[null,null,5,{"$f":"Q30","v":0},0,0,null,null,null,null,{"$f":"MAX(FLOOR(K46,100),20)","v":200},{"$f":"VLOOKUP(K48,$B$68:$H$80,2,TRUE)","v":0.9},{"$f":"VLOOKUP(K48,$B$68:$H$80,3,TRUE)","v":0.88},{"$f":"VLOOKUP(K48,$B$68:$H$80,4,TRUE)","v":1},{"$f":"VLOOKUP(K48,$B$68:$H$80,5,TRUE)","v":0.94},{"$f":"VLOOKUP(K48,$B$68:$H$80,6,TRUE)","v":0.87},{"$f":"VLOOKUP(K48,$B$68:$H$80,7,TRUE)","v":0.95},{"$f":"MAX(FLOOR(R46,100),20)","v":200},{"$f":"VLOOKUP(R48,$B$68:$H$80,2,TRUE)","v":0.9},{"$f":"VLOOKUP(R48,$B$68:$H$80,3,TRUE)","v":0.88},{"$f":"VLOOKUP(R48,$B$68:$H$80,4,TRUE)","v":1},{"$f":"VLOOKUP(R48,$B$68:$H$80,5,TRUE)","v":0.94},{"$f":"VLOOKUP(R48,$B$68:$H$80,6,TRUE)","v":0.87},{"$f":"VLOOKUP(R48,$B$68:$H$80,7,TRUE)","v":0.95}]
[null,null,6,{"$f":"R30","v":0},0,0,null,null,null,null,"Temp-3",null,null,null,null,null,null,"Temp-13"]
[null,null,7,{"$f":"S30","v":0},0,0,null,null,null,null,{"$f":"D46","v":407.26383922595556},{"$f":"IF(K50=K52,L52,L52+(L51-L52)*(K50-K52)/(K51-K52))","v":0.69273616077404443},{"$f":"IF(K50=K52,M52,M52+(M51-M52)*(K50-K52)/(K51-K52))","v":0.63692508939327996},{"$f":"IF(K50=K52,N52,N52+(N51-N52)*(K50-K52)/(K51-K52))","v":0.94765147331587551},{"$f":"IF(K50=K52,O52,O52+(O51-O52)*(K50-K52)/(K51-K52))","v":0.76329316978030226},{"$f":"IF(K50=K52,P52,P52+(P51-P52)*(K50-K52)/(K51-K52))","v":0.5483778572384711},{"$f":"IF(K50=K52,Q52,Q52+(Q51-Q52)*(K50-K52)/(K51-K52))","v":0.76474593762549337},{"$f":"D56","v":407.26383922595562},{"$f":"IF(R50=R52,S52,S52+(S51-S52)*(R50-R52)/(R51-R52))","v":0.69273616077404432},{"$f":"IF(R50=R52,T52,T52+(T51-T52)*(R50-R52)/(R51-R52))","v":0.63692508939327985},{"$f":"IF(R50=R52,U52,U52+(U51-U52)*(R50-R52)/(R51-R52))","v":0.9476514733158754},{"$f":"IF(R50=R52,V52,V52+(V51-V52)*(R50-R52)/(R51-R52))","v":0.76329316978030215},{"$f":"IF(R50=R52,W52,W52+(W51-W52)*(R50-R52)/(R51-R52))","v":0.5483778572384711},{"$f":"IF(R50=R52,X52,X52+(X51-X52)*(R50-R52)/(R51-R52))","v":0.76474593762549326}]
[null,null,8,{"$f":"T30","v":0},0,0,null,null,null,null,{"$f":"CEILING(K50,100)","v":500},{"$f":"VLOOKUP(K51,$B$68:$H$80,2,TRUE)","v":0.6},{"$f":"VLOOKUP(K51,$B$68:$H$80,3,TRUE)","v":0.47},{"$f":"VLOOKUP(K51,$B$68:$H$80,4,TRUE)","v":0.79},{"$f":"VLOOKUP(K51,$B$68:$H$80,5,TRUE)","v":0.55000000000000004},{"$f":"VLOOKUP(K51,$B$68:$H$80,6,TRUE)","v":0.4},{"$f":"VLOOKUP(K51,$B$68:$H$80,7,TRUE)","v":0.56999999999999995},{"$f":"CEILING(R50,100)","v":500},{"$f":"VLOOKUP(R51,$B$68:$H$80,2,TRUE)","v":0.6},{"$f":"VLOOKUP(R51,$B$68:$H$80,3,TRUE)","v":0.47},{"$f":"VLOOKUP(R51,$B$68:$H$80,4,TRUE)","v":0.79},{"$f":"VLOOKUP(R51,$B$68:$H$80,5,TRUE)","v":0.55000000000000004},{"$f":"VLOOKUP(R51,$B$68:$H$80,6,TRUE)","v":0.4},{"$f":"VLOOKUP(R51,$B$68:$H$80,7,TRUE)","v":0.56999999999999995}]
[null,null,9,{"$f":"U30","v":0},0,0,null,null,null,null,{"$f":"MAX(FLOOR(K50,100),20)","v":400},{"$f":"VLOOKUP(K52,$B$68:$H$80,2,TRUE)","v":0.7},{"$f":"VLOOKUP(K52,$B$68:$H$80,3,TRUE)","v":0.65},{"$f":"VLOOKUP(K52,$B$68:$H$80,4,TRUE)","v":0.96},{"$f":"VLOOKUP(K52,$B$68:$H$80,5,TRUE)","v":0.78},{"$f":"VLOOKUP(K52,$B$68:$H$80,6,TRUE)","v":0.56000000000000005},{"$f":"VLOOKUP(K52,$B$68:$H$80,7,TRUE)","v":0.78},{"$f":"MAX(FLOOR(R50,100),20)","v":400},{"$f":"VLOOKUP(R52,$B$68:$H$80,2,TRUE)","v":0.7},{"$f":"VLOOKUP(R52,$B$68:$H$80,3,TRUE)","v":0.65},{"$f":"VLOOKUP(R52,$B$68:$H$80,4,TRUE)","v":0.96},{"$f":"VLOOKUP(R52,$B$68:$H$80,5,TRUE)","v":0.78},{"$f":"VLOOKUP(R52,$B$68:$H$80,6,TRUE)","v":0.56000000000000005},{"$f":"VLOOKUP(R52,$B$68:$H$80,7,TRUE)","v":0.78}]
[null,null,10,{"$f":"V30","v":0},0,0,null,null,null,null,"Temp-4",null,null,null,null,null,null,"Temp-14"]
[null,"trækarm",11,{"$f":"M34","v":407.26383922595562},{"$f":"IF(D54=0,0,INDEX($S$41:$X$80,2+(C54-11)*4,$D$28))","v":0.9476514733158754},{"$f":"IF(D54=0,0,INDEX($S$41:$X$80,2+(C54-11)*4,$D$28+1))","v":0.76329316978030215},null,null,null,null,{"$f":"D47","v":0},{"$f":"IF(K54=K56,L56,L56+(L55-L56)*(K54-K56)/(K55-K56))","v":{"$error":"#N/A"}},{"$f":"IF(K54=K56,M56,M56+(M55-M56)*(K54-K56)/(K55-K56))","v":{"$error":"#N/A"}},{"$f":"IF(K54=K56,N56,N56+(N55-N56)*(K54-K56)/(K55-K56))","v":{"$error":"#N/A"}},{"$f":"IF(K54=K56,O56,O56+(O55-O56)*(K54-K56)/(K55-K56))","v":{"$error":"#N/A"}},{"$f":"IF(K54=K56,P56,P56+(P55-P56)*(K54-K56)/(K55-K56))","v":{"$error":"#N/A"}},{"$f":"IF(K54=K56,Q56,Q56+(Q55-Q56)*(K54-K56)/(K55-K56))","v":{"$error":"#N/A"}},{"$f":"D57","v":0},{"$f":"IF(R54=R56,S56,S56+(S55-S56)*(R54-R56)/(R55-R56))","v":{"$error":"#N/A"}},{"$f":"IF(R54=R56,T56,T56+(T55-T56)*(R54-R56)/(R55-R56))","v":{"$error":"#N/A"}},{"$f":"IF(R54=R56,U56,U56+(U55-U56)*(R54-R56)/(R55-R56))","v":{"$error":"#N/A"}},{"$f":"IF(R54=R56,V56,V56+(V55-V56)*(R54-R56)/(R55-R56))","v":{"$error":"#N/A"}},{"$f":"IF(R54=R56,W56,W56+(W55-W56)*(R54-R56)/(R55-R56))","v":{"$error":"#N/A"}},{"$f":"IF(R54=R56,X56,X56+(X55-X56)*(R54-R56)/(R55-R56))","v":{"$error":"#N/A"}}]
[null,null,12,{"$f":"N34","v":232.74314829892722},0.99672568517010729,0.92362842585053639,null,null,null,null,{"$f":"CEILING(K54,100)","v":0},{"$f":"VLOOKUP(K55,$B$68:$H$80,2,TRUE)","v":{"$error":"#N/A"}},{"$f":"VLOOKUP(K55,$B$68:$H$80,3,TRUE)","v":{"$error":"#N/A"}},{"$f":"VLOOKUP(K55,$B$68:$H$80,4,TRUE)","v":{"$error":"#N/A"}},{"$f":"VLOOKUP(K55,$B$68:$H$80,5,TRUE)","v":{"$error":"#N/A"}},{"$f":"VLOOKUP(K55,$B$68:$H$80,6,TRUE)","v":{"$error":"#N/A"}},{"$f":"VLOOKUP(K55,$B$68:$H$80,7,TRUE)","v":{"$error":"#N/A"}},{"$f":"CEILING(R54,100)","v":0},{"$f":"VLOOKUP(R55,$B$68:$H$80,2,TRUE)","v":{"$error":"#N/A"}},{"$f":"VLOOKUP(R55,$B$68:$H$80,3,TRUE)","v":{"$error":"#N/A"}},{"$f":"VLOOKUP(R55,$B$68:$H$80,4,TRUE)","v":{"$error":"#N/A"}},{"$f":"VLOOKUP(R55,$B$68:$H$80,5,TRUE)","v":{"$error":"#N/A"}},{"$f":"VLOOKUP(R55,$B$68:$H$80,6,TRUE)","v":{"$error":"#N/A"}},{"$f":"VLOOKUP(R55,$B$68:$H$80,7,TRUE)","v":{"$error":"#N/A"}}]
[null,null,13,{"$f":"O34","v":407.26383922595562},0.9476514733158754,0.76329316978030215,null,null,null,null,{"$f":"MAX(FLOOR(K54,100),20)","v":20},{"$f":"VLOOKUP(K56,$B$68:$H$80,2,TRUE)","v":1},{"$f":"VLOOKUP(K56,$B$68:$H$80,3,TRUE)","v":1},{"$f":"VLOOKUP(K56,$B$68:$H$80,4,TRUE)","v":1},{"$f":"VLOOKUP(K56,$B$68:$H$80,5,TRUE)","v":1},{"$f":"VLOOKUP(K56,$B$68:$H$80,6,TRUE)","v":1},{"$f":"VLOOKUP(K56,$B$68:$H$80,7,TRUE)","v":1},{"$f":"MAX(FLOOR(R54,100),20)","v":20},{"$f":"VLOOKUP(R56,$B$68:$H$80,2,TRUE)","v":1},{"$f":"VLOOKUP(R56,$B$68:$H$80,3,TRUE)","v":1},{"$f":"VLOOKUP(R56,$B$68:$H$80,4,TRUE)","v":1},{"$f":"VLOOKUP(R56,$B$68:$H$80,5,TRUE)","v":1},{"$f":"VLOOKUP(R56,$B$68:$H$80,6,TRUE)","v":1},{"$f":"VLOOKUP(R56,$B$68:$H$80,7,TRUE)","v":1}]
[null,null,14,{"$f":"P34","v":0},0,0,null,null,null,null,"Temp-5",null,null,null,null,null,null,"Temp-15"]
[null,null,15,{"$f":"Q34","v":0},0,0,null,null,null,null,{"$f":"D48","v":0},{"$f":"IF(K58=K60,L60,L60+(L59-L60)*(K58-K60)/(K59-K60))","v":{"$error":"#N/A"}},{"$f":"IF(K58=K60,M60,M60+(M59-M60)*(K58-K60)/(K59-K60))","v":{"$error":"#N/A"}},{"$f":"IF(K58=K60,N60,N60+(N59-N60)*(K58-K60)/(K59-K60))","v":{"$error":"#N/A"}},{"$f":"IF(K58=K60,O60,O60+(O59-O60)*(K58-K60)/(K59-K60))","v":{"$error":"#N/A"}},{"$f":"IF(K58=K60,P60,P60+(P59-P60)*(K58-K60)/(K59-K60))","v":{"$error":"#N/A"}},{"$f":"IF(K58=K60,Q60,Q60+(Q59-Q60)*(K58-K60)/(K59-K60))","v":{"$error":"#N/A"}},{"$f":"D58","v":0},{"$f":"IF(R58=R60,S60,S60+(S59-S60)*(R58-R60)/(R59-R60))","v":{"$error":"#N/A"}},{"$f":"IF(R58=R60,T60,T60+(T59-T60)*(R58-R60)/(R59-R60))","v":{"$error":"#N/A"}},{"$f":"IF(R58=R60,U60,U60+(U59-U60)*(R58-R60)/(R59-R60))","v":{"$error":"#N/A"}},{"$f":"IF(R58=R60,V60,V60+(V59-V60)*(R58-R60)/(R59-R60))","v":{"$error":"#N/A"}},{"$f":"IF(R58=R60,W60,W60+(W59-W60)*(R58-R60)/(R59-R60))","v":{"$error":"#N/A"}},{"$f":"IF(R58=R60,X60,X60+(X59-X60)*(R58-R60)/(R59-R60))","v":{"$error":"#N/A"}}]
[null,null,16,{"$f":"R34","v":0},0,0,null,null,null,null,{"$f":"CEILING(K58,100)","v":0},{"$f":"VLOOKUP(K59,$B$68:$H$80,2,TRUE)","v":{"$error":"#N/A"}},{"$f":"VLOOKUP(K59,$B$68:$H$80,3,TRUE)","v":{"$error":"#N/A"}},{"$f":"VLOOKUP(K59,$B$68:$H$80,4,TRUE)","v":{"$error":"#N/A"}},{"$f":"VLOOKUP(K59,$B$68:$H$80,5,TRUE)","v":{"$error":"#N/A"}},{"$f":"VLOOKUP(K59,$B$68:$H$80,6,TRUE)","v":{"$error":"#N/A"}},{"$f":"VLOOKUP(K59,$B$68:$H$80,7,TRUE)","v":{"$error":"#N/A"}},{"$f":"CEILING(R58,100)","v":0},{"$f":"VLOOKUP(R59,$B$68:$H$80,2,TRUE)","v":{"$error":"#N/A"}},{"$f":"VLOOKUP(R59,$B$68:$H$80,3,TRUE)","v":{"$error":"#N/A"}},{"$f":"VLOOKUP(R59,$B$68:$H$80,4,TRUE)","v":{"$error":"#N/A"}},{"$f":"VLOOKUP(R59,$B$68:$H$80,5,TRUE)","v":{"$error":"#N/A"}},{"$f":"VLOOKUP(R59,$B$68:$H$80,6,TRUE)","v":{"$error":"#N/A"}},{"$f":"VLOOKUP(R59,$B$68:$H$80,7,TRUE)","v":{"$error":"#N/A"}}]
[null,null,17,{"$f":"S34","v":0},0,0,null,null,null,null,{"$f":"MAX(FLOOR(K58,100),20)","v":20},{"$f":"VLOOKUP(K60,$B$68:$H$80,2,TRUE)","v":1},{"$f":"VLOOKUP(K60,$B$68:$H$80,3,TRUE)","v":1},{"$f":"VLOOKUP(K60,$B$68:$H$80,4,TRUE)","v":1},{"$f":"VLOOKUP(K60,$B$68:$H$80,5,TRUE)","v":1},{"$f":"VLOOKUP(K60,$B$68:$H$80,6,TRUE)","v":1},{"$f":"VLOOKUP(K60,$B$68:$H$80,7,TRUE)","v":1},{"$f":"MAX(FLOOR(R58,100),20)","v":20},{"$f":"VLOOKUP(R60,$B$68:$H$80,2,TRUE)","v":1},{"$f":"VLOOKUP(R60,$B$68:$H$80,3,TRUE)","v":1},{"$f":"VLOOKUP(R60,$B$68:$H$80,4,TRUE)","v":1},{"$f":"VLOOKUP(R60,$B$68:$H$80,5,TRUE)","v":1},{"$f":"VLOOKUP(R60,$B$68:$H$80,6,TRUE)","v":1},{"$f":"VLOOKUP(R60,$B$68:$H$80,7,TRUE)","v":1}]
[null,null,18,{"$f":"T34","v":0},0,0,null,null,null,null,"Temp-6",null,null,null,null,null,null,"Temp-16"]
[null,null,19,{"$f":"U34","v":0},0,0,null,null,null,null,{"$f":"D49","v":0},{"$f":"IF(K62=K64,L64,L64+(L63-L64)*(K62-K64)/(K63-K64))","v":{"$error":"#N/A"}},{"$f":"IF(K62=K64,M64,M64+(M63-M64)*(K62-K64)/(K63-K64))","v":{"$error":"#N/A"}},{"$f":"IF(K62=K64,N64,N64+(N63-N64)*(K62-K64)/(K63-K64))","v":{"$error":"#N/A"}},{"$f":"IF(K62=K64,O64,O64+(O63-O64)*(K62-K64)/(K63-K64))","v":{"$error":"#N/A"}},{"$f":"IF(K62=K64,P64,P64+(P63-P64)*(K62-K64)/(K63-K64))","v":{"$error":"#N/A"}},{"$f":"IF(K62=K64,Q64,Q64+(Q63-Q64)*(K62-K64)/(K63-K64))","v":{"$error":"#N/A"}},{"$f":"D59","v":0},{"$f":"IF(R62=R64,S64,S64+(S63-S64)*(R62-R64)/(R63-R64))","v":{"$error":"#N/A"}},{"$f":"IF(R62=R64,T64,T64+(T63-T64)*(R62-R64)/(R63-R64))","v":{"$error":"#N/A"}},{"$f":"IF(R62=R64,U64,U64+(U63-U64)*(R62-R64)/(R63-R64))","v":{"$error":"#N/A"}},{"$f":"IF(R62=R64,V64,V64+(V63-V64)*(R62-R64)/(R63-R64))","v":{"$error":"#N/A"}},{"$f":"IF(R62=R64,W64,W64+(W63-W64)*(R62-R64)/(R63-R64))","v":{"$error":"#N/A"}},{"$f":"IF(R62=R64,X64,X64+(X63-X64)*(R62-R64)/(R63-R64))","v":{"$error":"#N/A"}}]
[null,null,20,{"$f":"V34","v":0},0,0,null,null,null,null,{"$f":"CEILING(K62,100)","v":0},{"$f":"VLOOKUP(K63,$B$68:$H$80,2,TRUE)","v":{"$error":"#N/A"}},{"$f":"VLOOKUP(K63,$B$68:$H$80,3,TRUE)","v":{"$error":"#N/A"}},{"$f":"VLOOKUP(K63,$B$68:$H$80,4,TRUE)","v":{"$error":"#N/A"}},{"$f":"VLOOKUP(K63,$B$68:$H$80,5,TRUE)","v":{"$error":"#N/A"}},{"$f":"VLOOKUP(K63,$B$68:$H$80,6,TRUE)","v":{"$error":"#N/A"}},{"$f":"VLOOKUP(K63,$B$68:$H$80,7,TRUE)","v":{"$error":"#N/A"}},{"$f":"CEILING(R62,100)","v":0},{"$f":"VLOOKUP(R63,$B$68:$H$80,2,TRUE)","v":{"$error":"#N/A"}},{"$f":"VLOOKUP(R63,$B$68:$H$80,3,TRUE)","v":{"$error":"#N/A"}},{"$f":"VLOOKUP(R63,$B$68:$H$80,4,TRUE)","v":{"$error":"#N/A"}},{"$f":"VLOOKUP(R63,$B$68:$H$80,5,TRUE)","v":{"$error":"#N/A"}},{"$f":"VLOOKUP(R63,$B$68:$H$80,6,TRUE)","v":{"$error":"#N/A"}},{"$f":"VLOOKUP(R63,$B$68:$H$80,7,TRUE)","v":{"$error":"#N/A"}}]
[null,null,null,null,null,null,null,null,null,null,{"$f":"MAX(FLOOR(K62,100),20)","v":20},{"$f":"VLOOKUP(K64,$B$68:$H$80,2,TRUE)","v":1},{"$f":"VLOOKUP(K64,$B$68:$H$80,3,TRUE)","v":1},{"$f":"VLOOKUP(K64,$B$68:$H$80,4,TRUE)","v":1},{"$f":"VLOOKUP(K64,$B$68:$H$80,5,TRUE)","v":1},{"$f":"VLOOKUP(K64,$B$68:$H$80,6,TRUE)","v":1},{"$f":"VLOOKUP(K64,$B$68:$H$80,7,TRUE)","v":1},{"$f":"MAX(FLOOR(R62,100),20)","v":20},{"$f":"VLOOKUP(R64,$B$68:$H$80,2,TRUE)","v":1},{"$f":"VLOOKUP(R64,$B$68:$H$80,3,TRUE)","v":1},{"$f":"VLOOKUP(R64,$B$68:$H$80,4,TRUE)","v":1},{"$f":"VLOOKUP(R64,$B$68:$H$80,5,TRUE)","v":1},{"$f":"VLOOKUP(R64,$B$68:$H$80,6,TRUE)","v":1},{"$f":"VLOOKUP(R64,$B$68:$H$80,7,TRUE)","v":1}]
[null,null,null,null,null,null,null,null,null,null,"Temp-7",null,null,null,null,null,null,"Temp-17"]
[null,"Tabel","type (+Q)",null,"type (+AC)",null,"type (+C)",null,null,null,{"$f":"D50","v":0},{"$f":"IF(K66=K68,L68,L68+(L67-L68)*(K66-K68)/(K67-K68))","v":{"$error":"#N/A"}},{"$f":"IF(K66=K68,M68,M68+(M67-M68)*(K66-K68)/(K67-K68))","v":{"$error":"#N/A"}},{"$f":"IF(K66=K68,N68,N68+(N67-N68)*(K66-K68)/(K67-K68))","v":{"$error":"#N/A"}},{"$f":"IF(K66=K68,O68,O68+(O67-O68)*(K66-K68)/(K67-K68))","v":{"$error":"#N/A"}},{"$f":"IF(K66=K68,P68,P68+(P67-P68)*(K66-K68)/(K67-K68))","v":{"$error":"#N/A"}},{"$f":"IF(K66=K68,Q68,Q68+(Q67-Q68)*(K66-K68)/(K67-K68))","v":{"$error":"#N/A"}},{"$f":"D60","v":0},{"$f":"IF(R66=R68,S68,S68+(S67-S68)*(R66-R68)/(R67-R68))","v":{"$error":"#N/A"}},{"$f":"IF(R66=R68,T68,T68+(T67-T68)*(R66-R68)/(R67-R68))","v":{"$error":"#N/A"}},{"$f":"IF(R66=R68,U68,U68+(U67-U68)*(R66-R68)/(R67-R68))","v":{"$error":"#N/A"}},{"$f":"IF(R66=R68,V68,V68+(V67-V68)*(R66-R68)/(R67-R68))","v":{"$error":"#N/A"}},{"$f":"IF(R66=R68,W68,W68+(W67-W68)*(R66-R68)/(R67-R68))","v":{"$error":"#N/A"}},{"$f":"IF(R66=R68,X68,X68+(X67-X68)*(R66-R68)/(R67-R68))","v":{"$error":"#N/A"}}]
[null,"Q-stål","E/Ek","fy/fyk","E/Ek","fy/fyk","E/Ek","fy/fyk",null,null,{"$f":"CEILING(K66,100)","v":0},{"$f":"VLOOKUP(K67,$B$68:$H$80,2,TRUE)","v":{"$error":"#N/A"}},{"$f":"VLOOKUP(K67,$B$68:$H$80,3,TRUE)","v":{"$error":"#N/A"}},{"$f":"VLOOKUP(K67,$B$68:$H$80,4,TRUE)","v":{"$error":"#N/A"}},{"$f":"VLOOKUP(K67,$B$68:$H$80,5,TRUE)","v":{"$error":"#N/A"}},{"$f":"VLOOKUP(K67,$B$68:$H$80,6,TRUE)","v":{"$error":"#N/A"}},{"$f":"VLOOKUP(K67,$B$68:$H$80,7,TRUE)","v":{"$error":"#N/A"}},{"$f":"CEILING(R66,100)","v":0},{"$f":"VLOOKUP(R67,$B$68:$H$80,2,TRUE)","v":{"$error":"#N/A"}},{"$f":"VLOOKUP(R67,$B$68:$H$80,3,TRUE)","v":{"$error":"#N/A"}},{"$f":"VLOOKUP(R67,$B$68:$H$80,4,TRUE)","v":{"$error":"#N/A"}},{"$f":"VLOOKUP(R67,$B$68:$H$80,5,TRUE)","v":{"$error":"#N/A"}},{"$f":"VLOOKUP(R67,$B$68:$H$80,6,TRUE)","v":{"$error":"#N/A"}},{"$f":"VLOOKUP(R67,$B$68:$H$80,7,TRUE)","v":{"$error":"#N/A"}}]
[null,20,1,1,1,1,1,1,null,null,{"$f":"MAX(FLOOR(K66,100),20)","v":20},{"$f":"VLOOKUP(K68,$B$68:$H$80,2,TRUE)","v":1},{"$f":"VLOOKUP(K68,$B$68:$H$80,3,TRUE)","v":1},{"$f":"VLOOKUP(K68,$B$68:$H$80,4,TRUE)","v":1},{"$f":"VLOOKUP(K68,$B$68:$H$80,5,TRUE)","v":1},{"$f":"VLOOKUP(K68,$B$68:$H$80,6,TRUE)","v":1},{"$f":"VLOOKUP(K68,$B$68:$H$80,7,TRUE)","v":1},{"$f":"MAX(FLOOR(R66,100),20)","v":20},{"$f":"VLOOKUP(R68,$B$68:$H$80,2,TRUE)","v":1},{"$f":"VLOOKUP(R68,$B$68:$H$80,3,TRUE)","v":1},{"$f":"VLOOKUP(R68,$B$68:$H$80,4,TRUE)","v":1},{"$f":"VLOOKUP(R68,$B$68:$H$80,5,TRUE)","v":1},{"$f":"VLOOKUP(R68,$B$68:$H$80,6,TRUE)","v":1},{"$f":"VLOOKUP(R68,$B$68:$H$80,7,TRUE)","v":1}]
[null,100,1,0.96,1,0.98,1,0.99,null,null,"Temp-8",null,null,null,null,null,null,"Temp-18"]
[null,200,0.9,0.88,1,0.94,0.87,0.95,null,null,{"$f":"D51","v":0},{"$f":"IF(K70=K72,L72,L72+(L71-L72)*(K70-K72)/(K71-K72))","v":{"$error":"#N/A"}},{"$f":"IF(K70=K72,M72,M72+(M71-M72)*(K70-K72)/(K71-K72))","v":{"$error":"#N/A"}},{"$f":"IF(K70=K72,N72,N72+(N71-N72)*(K70-K72)/(K71-K72))","v":{"$error":"#N/A"}},{"$f":"IF(K70=K72,O72,O72+(O71-O72)*(K70-K72)/(K71-K72))","v":{"$error":"#N/A"}},{"$f":"IF(K70=K72,P72,P72+(P71-P72)*(K70-K72)/(K71-K72))","v":{"$error":"#N/A"}},{"$f":"IF(K70=K72,Q72,Q72+(Q71-Q72)*(K70-K72)/(K71-K72))","v":{"$error":"#N/A"}},{"$f":"D61","v":0},{"$f":"IF(R70=R72,S72,S72+(S71-S72)*(R70-R72)/(R71-R72))","v":{"$error":"#N/A"}},{"$f":"IF(R70=R72,T72,T72+(T71-T72)*(R70-R72)/(R71-R72))","v":{"$error":"#N/A"}},{"$f":"IF(R70=R72,U72,U72+(U71-U72)*(R70-R72)/(R71-R72))","v":{"$error":"#N/A"}},{"$f":"IF(R70=R72,V72,V72+(V71-V72)*(R70-R72)/(R71-R72))","v":{"$error":"#N/A"}},{"$f":"IF(R70=R72,W72,W72+(W71-W72)*(R70-R72)/(R71-R72))","v":{"$error":"#N/A"}},{"$f":"IF(R70=R72,X72,X72+(X71-X72)*(R70-R72)/(R71-R72))","v":{"$error":"#N/A"}}]
[null,300,0.8,0.77,0.99,0.89,0.72,0.89,null,null,{"$f":"CEILING(K70,100)","v":0},{"$f":"VLOOKUP(K71,$B$68:$H$80,2,TRUE)","v":{"$error":"#N/A"}},{"$f":"VLOOKUP(K71,$B$68:$H$80,3,TRUE)","v":{"$error":"#N/A"}},{"$f":"VLOOKUP(K71,$B$68:$H$80,4,TRUE)","v":{"$error":"#N/A"}},{"$f":"VLOOKUP(K71,$B$68:$H$80,5,TRUE)","v":{"$error":"#N/A"}},{"$f":"VLOOKUP(K71,$B$68:$H$80,6,TRUE)","v":{"$error":"#N/A"}},{"$f":"VLOOKUP(K71,$B$68:$H$80,7,TRUE)","v":{"$error":"#N/A"}},{"$f":"CEILING(R70,100)","v":0},{"$f":"VLOOKUP(R71,$B$68:$H$80,2,TRUE)","v":{"$error":"#N/A"}},{"$f":"VLOOKUP(R71,$B$68:$H$80,3,TRUE)","v":{"$error":"#N/A"}},{"$f":"VLOOKUP(R71,$B$68:$H$80,4,TRUE)","v":{"$error":"#N/A"}},{"$f":"VLOOKUP(R71,$B$68:$H$80,5,TRUE)","v":{"$error":"#N/A"}},{"$f":"VLOOKUP(R71,$B$68:$H$80,6,TRUE)","v":{"$error":"#N/A"}},{"$f":"VLOOKUP(R71,$B$68:$H$80,7,TRUE)","v":{"$error":"#N/A"}}]
[null,400,0.7,0.65,0.96,0.78,0.56000000000000005,0.78,null,null,{"$f":"MAX(FLOOR(K70,100),20)","v":20},{"$f":"VLOOKUP(K72,$B$68:$H$80,2,TRUE)","v":1},{"$f":"VLOOKUP(K72,$B$68:$H$80,3,TRUE)","v":1},{"$f":"VLOOKUP(K72,$B$68:$H$80,4,TRUE)","v":1},{"$f":"VLOOKUP(K72,$B$68:$H$80,5,TRUE)","v":1},{"$f":"VLOOKUP(K72,$B$68:$H$80,6,TRUE)","v":1},{"$f":"VLOOKUP(K72,$B$68:$H$80,7,TRUE)","v":1},{"$f":"MAX(FLOOR(R70,100),20)","v":20},{"$f":"VLOOKUP(R72,$B$68:$H$80,2,TRUE)","v":1},{"$f":"VLOOKUP(R72,$B$68:$H$80,3,TRUE)","v":1},{"$f":"VLOOKUP(R72,$B$68:$H$80,4,TRUE)","v":1},{"$f":"VLOOKUP(R72,$B$68:$H$80,5,TRUE)","v":1},{"$f":"VLOOKUP(R72,$B$68:$H$80,6,TRUE)","v":1},{"$f":"VLOOKUP(R72,$B$68:$H$80,7,TRUE)","v":1}]
[null,500,0.6,0.47,0.79,0.55000000000000004,0.4,0.56999999999999995,null,null,"Temp-9",null,null,null,null,null,null,"Temp-19"]
[null,600,0.31,0.27,0.48,0.27,0.24,0.3,null,null,{"$f":"D52","v":0},{"$f":"IF(K74=K76,L76,L76+(L75-L76)*(K74-K76)/(K75-K76))","v":{"$error":"#N/A"}},{"$f":"IF(K74=K76,M76,M76+(M75-M76)*(K74-K76)/(K75-K76))","v":{"$error":"#N/A"}},{"$f":"IF(K74=K76,N76,N76+(N75-N76)*(K74-K76)/(K75-K76))","v":{"$error":"#N/A"}},{"$f":"IF(K74=K76,O76,O76+(O75-O76)*(K74-K76)/(K75-K76))","v":{"$error":"#N/A"}},{"$f":"IF(K74=K76,P76,P76+(P75-P76)*(K74-K76)/(K75-K76))","v":{"$error":"#N/A"}},{"$f":"IF(K74=K76,Q76,Q76+(Q75-Q76)*(K74-K76)/(K75-K76))","v":{"$error":"#N/A"}},{"$f":"D62","v":0},{"$f":"IF(R74=R76,S76,S76+(S75-S76)*(R74-R76)/(R75-R76))","v":{"$error":"#N/A"}},{"$f":"IF(R74=R76,T76,T76+(T75-T76)*(R74-R76)/(R75-R76))","v":{"$error":"#N/A"}},{"$f":"IF(R74=R76,U76,U76+(U75-U76)*(R74-R76)/(R75-R76))","v":{"$error":"#N/A"}},{"$f":"IF(R74=R76,V76,V76+(V75-V76)*(R74-R76)/(R75-R76))","v":{"$error":"#N/A"}},{"$f":"IF(R74=R76,W76,W76+(W75-W76)*(R74-R76)/(R75-R76))","v":{"$error":"#N/A"}},{"$f":"IF(R74=R76,X76,X76+(X75-X76)*(R74-R76)/(R75-R76))","v":{"$error":"#N/A"}}]
[null,700,0.13,0.13,0.21,0.1,0.08,0.12,null,null,{"$f":"CEILING(K74,100)","v":0},{"$f":"VLOOKUP(K75,$B$68:$H$80,2,TRUE)","v":{"$error":"#N/A"}},{"$f":"VLOOKUP(K75,$B$68:$H$80,3,TRUE)","v":{"$error":"#N/A"}},{"$f":"VLOOKUP(K75,$B$68:$H$80,4,TRUE)","v":{"$error":"#N/A"}},{"$f":"VLOOKUP(K75,$B$68:$H$80,5,TRUE)","v":{"$error":"#N/A"}},{"$f":"VLOOKUP(K75,$B$68:$H$80,6,TRUE)","v":{"$error":"#N/A"}},{"$f":"VLOOKUP(K75,$B$68:$H$80,7,TRUE)","v":{"$error":"#N/A"}},{"$f":"CEILING(R74,100)","v":0},{"$f":"VLOOKUP(R75,$B$68:$H$80,2,TRUE)","v":{"$error":"#N/A"}},{"$f":"VLOOKUP(R75,$B$68:$H$80,3,TRUE)","v":{"$error":"#N/A"}},{"$f":"VLOOKUP(R75,$B$68:$H$80,4,TRUE)","v":{"$error":"#N/A"}},{"$f":"VLOOKUP(R75,$B$68:$H$80,5,TRUE)","v":{"$error":"#N/A"}},{"$f":"VLOOKUP(R75,$B$68:$H$80,6,TRUE)","v":{"$error":"#N/A"}},{"$f":"VLOOKUP(R75,$B$68:$H$80,7,TRUE)","v":{"$error":"#N/A"}}]
[null,800,0.09,0.05,0.08,0,0.06,0.05,null,null,{"$f":"MAX(FLOOR(K74,100),20)","v":20},{"$f":"VLOOKUP(K76,$B$68:$H$80,2,TRUE)","v":1},{"$f":"VLOOKUP(K76,$B$68:$H$80,3,TRUE)","v":1},{"$f":"VLOOKUP(K76,$B$68:$H$80,4,TRUE)","v":1},{"$f":"VLOOKUP(K76,$B$68:$H$80,5,TRUE)","v":1},{"$f":"VLOOKUP(K76,$B$68:$H$80,6,TRUE)","v":1},{"$f":"VLOOKUP(K76,$B$68:$H$80,7,TRUE)","v":1},{"$f":"MAX(FLOOR(R74,100),20)","v":20},{"$f":"VLOOKUP(R76,$B$68:$H$80,2,TRUE)","v":1},{"$f":"VLOOKUP(R76,$B$68:$H$80,3,TRUE)","v":1},{"$f":"VLOOKUP(R76,$B$68:$H$80,4,TRUE)","v":1},{"$f":"VLOOKUP(R76,$B$68:$H$80,5,TRUE)","v":1},{"$f":"VLOOKUP(R76,$B$68:$H$80,6,TRUE)","v":1},{"$f":"VLOOKUP(R76,$B$68:$H$80,7,TRUE)","v":1}]
[null,900,7.0000000000000007E-2,0.02,0.03,0,0.05,0.02,null,null,"Temp-10",null,null,null,null,null,null,"Temp-20"]
[null,1000,0.04,0.01,0,0,0.03,0.01,null,null,{"$f":"D53","v":0},{"$f":"IF(K78=K80,L80,L80+(L79-L80)*(K78-K80)/(K79-K80))","v":{"$error":"#N/A"}},{"$f":"IF(K78=K80,M80,M80+(M79-M80)*(K78-K80)/(K79-K80))","v":{"$error":"#N/A"}},{"$f":"IF(K78=K80,N80,N80+(N79-N80)*(K78-K80)/(K79-K80))","v":{"$error":"#N/A"}},{"$f":"IF(K78=K80,O80,O80+(O79-O80)*(K78-K80)/(K79-K80))","v":{"$error":"#N/A"}},{"$f":"IF(K78=K80,P80,P80+(P79-P80)*(K78-K80)/(K79-K80))","v":{"$error":"#N/A"}},{"$f":"IF(K78=K80,Q80,Q80+(Q79-Q80)*(K78-K80)/(K79-K80))","v":{"$error":"#N/A"}},{"$f":"D63","v":0},{"$f":"IF(R78=R80,S80,S80+(S79-S80)*(R78-R80)/(R79-R80))","v":{"$error":"#N/A"}},{"$f":"IF(R78=R80,T80,T80+(T79-T80)*(R78-R80)/(R79-R80))","v":{"$error":"#N/A"}},{"$f":"IF(R78=R80,U80,U80+(U79-U80)*(R78-R80)/(R79-R80))","v":{"$error":"#N/A"}},{"$f":"IF(R78=R80,V80,V80+(V79-V80)*(R78-R80)/(R79-R80))","v":{"$error":"#N/A"}},{"$f":"IF(R78=R80,W80,W80+(W79-W80)*(R78-R80)/(R79-R80))","v":{"$error":"#N/A"}},{"$f":"IF(R78=R80,X80,X80+(X79-X80)*(R78-R80)/(R79-R80))","v":{"$error":"#N/A"}}]
[null,1100,0.02,0.01,0,0,0.02,0,null,null,{"$f":"CEILING(K78,100)","v":0},{"$f":"VLOOKUP(K79,$B$68:$H$80,2,TRUE)","v":{"$error":"#N/A"}},{"$f":"VLOOKUP(K79,$B$68:$H$80,3,TRUE)","v":{"$error":"#N/A"}},{"$f":"VLOOKUP(K79,$B$68:$H$80,4,TRUE)","v":{"$error":"#N/A"}},{"$f":"VLOOKUP(K79,$B$68:$H$80,5,TRUE)","v":{"$error":"#N/A"}},{"$f":"VLOOKUP(K79,$B$68:$H$80,6,TRUE)","v":{"$error":"#N/A"}},{"$f":"VLOOKUP(K79,$B$68:$H$80,7,TRUE)","v":{"$error":"#N/A"}},{"$f":"CEILING(R78,100)","v":0},{"$f":"VLOOKUP(R79,$B$68:$H$80,2,TRUE)","v":{"$error":"#N/A"}},{"$f":"VLOOKUP(R79,$B$68:$H$80,3,TRUE)","v":{"$error":"#N/A"}},{"$f":"VLOOKUP(R79,$B$68:$H$80,4,TRUE)","v":{"$error":"#N/A"}},{"$f":"VLOOKUP(R79,$B$68:$H$80,5,TRUE)","v":{"$error":"#N/A"}},{"$f":"VLOOKUP(R79,$B$68:$H$80,6,TRUE)","v":{"$error":"#N/A"}},{"$f":"VLOOKUP(R79,$B$68:$H$80,7,TRUE)","v":{"$error":"#N/A"}}]
[null,1200,0,0,0,0,0,0,null,null,{"$f":"MAX(FLOOR(K78,100),20)","v":20},{"$f":"VLOOKUP(K80,$B$68:$H$80,2,TRUE)","v":1},{"$f":"VLOOKUP(K80,$B$68:$H$80,3,TRUE)","v":1},{"$f":"VLOOKUP(K80,$B$68:$H$80,4,TRUE)","v":1},{"$f":"VLOOKUP(K80,$B$68:$H$80,5,TRUE)","v":1},{"$f":"VLOOKUP(K80,$B$68:$H$80,6,TRUE)","v":1},{"$f":"VLOOKUP(K80,$B$68:$H$80,7,TRUE)","v":1},{"$f":"MAX(FLOOR(R78,100),20)","v":20},{"$f":"VLOOKUP(R80,$B$68:$H$80,2,TRUE)","v":1},{"$f":"VLOOKUP(R80,$B$68:$H$80,3,TRUE)","v":1},{"$f":"VLOOKUP(R80,$B$68:$H$80,4,TRUE)","v":1},{"$f":"VLOOKUP(R80,$B$68:$H$80,5,TRUE)","v":1},{"$f":"VLOOKUP(R80,$B$68:$H$80,6,TRUE)","v":1},{"$f":"VLOOKUP(R80,$B$68:$H$80,7,TRUE)","v":1}]
[]
[]
[]
[null,"GRAF",null,null,null,null,null,null,null,null,null,null,1,2,3,4,5,6,7,8,9,10,1,2,3,4,5,6,7,8,9,10]
[null,"x",0,{"$f":"E16","v":0.42},{"$f":"E16","v":0.42},0,0,{"$f":"E26","v":4.4560533530463034E-2},{"$f":"D85-E26","v":0.37543946646953696},{"$f":"E85-E26","v":0.37543946646953696},{"$f":"E26","v":4.4560533530463034E-2},{"$f":"E26","v":4.4560533530463034E-2},{"$f":"E29","v":0.06},{"$f":"IF(N84>$E$31,M85,M85+$E$33)","v":0.21},0.36,0.36,0.36,0.36,0.36,0.36,0.36,0.36,{"$f":"E29","v":0.06},{"$f":"IF(X84>$E$37,W85,W85+$E$39)","v":0.21},0.36,0.36,0.36,0.36,0.36,0.36,0.36,0.36,{"$f":"IF(E15>E16,E15,E16)","v":0.54}]
[null,"Opr rand",0,0,{"$f":"-E15","v":-0.54},{"$f":"-E15","v":-0.54},0]
[null,"Reduc rand",null,null,null,null,null,{"$f":"-E25","v":-4.4560533530463034E-2},{"$f":"-E25","v":-4.4560533530463034E-2},{"$f":"E86+E27","v":-0.49543946646953702},{"$f":"F86+E27","v":-0.49543946646953702},{"$f":"-E25","v":-4.4560533530463034E-2}]
[null,"Trykarm",null,null,null,null,null,null,null,null,null,null,{"$f":"-$E$32","v":-0.06},-0.06,-0.06,-0.06,-0.06,-0.06,-0.06,-0.06,-0.06,-0.06]
[null,"Trækarm",null,null,null,null,null,null,null,null,null,null,null,null,null,null,null,null,null,null,null,null,{"$f":"-$E$15+$E$38","v":-0.48000000000000004},-0.48000000000000004,-0.48000000000000004,-0.48000000000000004,-0.48000000000000004,-0.48000000000000004,-0.48000000000000004,-0.48000000000000004,-0.48000000000000004,-0.48000000000000004]
[null,"Skala",null,null,null,null,null,null,null,null,null,null,null,null,null,null,null,null,null,null,null,null,null,null,null,null,null,null,null,null,null,null,{"$f":"IF(E15>E16,-E15,-E16)","v":-0.54}]
[]
[null,"Betontype",{"$f":"Brand!BE35","v":2}]
[null,"Reduktionsparametre, beton",null,null,null,null,"Betontype,  fc,t/fck"]
[null,"q","fc,t/fck","ec1","ecu1,t","Indeks",1,2]
[null,20,{"$f":"IF($C$92=1,G95,H95)","v":1},2.5000000000000001E-3,0.02,1,1,1]
[null,100,1,4.0000000000000001E-3,2.2499999999999999E-2,2,1,1]
[null,200,1,5.4999999999999997E-3,2.5000000000000001E-2,3,0.95,1]
[null,300,0.93333330000000003,7.0000000000000001E-3,2.75E-2,4,0.85,{"$f":"H97-0.0666667","v":0.93333330000000003}]
[null,400,0.86666660000000006,0.01,0.03,5,0.75,{"$f":"H98-0.0666667","v":0.86666660000000006}]
[null,500,0.8,1.4999999999999999E-2,3.2500000000000001E-2,6,0.6,0.8]
[null,600,0.60000000000000009,2.5000000000000001E-2,3.5000000000000003E-2,7,0.45,{"$f":"H100-0.2","v":0.60000000000000009}]
[null,700,0.40000000000000008,2.5000000000000001E-2,3.7499999999999999E-2,8,0.3,{"$f":"H101-0.2","v":0.40000000000000008}]
[null,800,0.20000000000000007,2.5000000000000001E-2,0.04,9,0.15,{"$f":"H102-0.2","v":0.20000000000000007}]
[null,900,0,2.5000000000000001E-2,4.2500000000000003E-2,10,0.08,0]
[null,1000,0,2.5000000000000001E-2,4.4999999999999998E-2,11,0.04,0]
[null,1100,2.0426489726352815E-3,2.5000000000000001E-2,4.7500000000000001E-2,12,0.01,{"$f":"0+(1-0)/(1+(B106/100000)+(B106/1080)^2+(B106/690)^8+(B106/1000)^64)","v":2.0426489726352815E-3}]
[null,1200,8.5522613031592085E-6,null,null,13,0,{"$f":"0+(1-0)/(1+(B107/100000)+(B107/1080)^2+(B107/690)^8+(B107/1000)^64)","v":8.5522613031592085E-6}]