{"text_format":"1","workbook":"xlsx","n_sheets":5,"sheets":["Kold","BRAND","Sheet3","Firsidig","Makro"],"not_rendered":{"charts":12,"images":3,"macros":1,"external_links":0,"defined_names":16,"comments":3,"pivot_tables":0},"unopened":[],"bounds":{"document_bytes":16777216,"sheet_cells":100000,"rows_first":2000,"rows_last":500,"rows_between":2000,"halvings":0,"cell_chars":16384,"cell_head_chars":4096},"cells_cut":0,"cells_raw":0,"read":"whole","date_system":"1900"}

{"sheet":"Kold","index":0,"n_rows":160,"n_cols":119,"rows_kept":160,"cut":false,"hidden":false,"merged":[[7,44,7,45],[6,98,6,101],[7,58,7,59],[20,57,20,58],[20,53,20,54],[7,52,7,53],[7,54,7,55],[7,56,7,57],[20,55,20,56],[98,49,98,50],[98,47,98,48],[6,90,6,93],[6,94,6,97],[97,51,97,52],[97,53,97,54],[97,47,97,48],[97,49,97,50],[97,55,97,56],[97,57,97,58],[17,46,17,47],[17,48,17,49],[94,67,94,69],[94,71,94,73],[7,46,7,47],[7,48,7,49],[6,2,6,9],[20,8,20,9],[18,8,19,9],[1,2,1,9],[4,2,4,6],[4,8,4,9],[2,2,2,6],[2,8,2,9],[3,2,3,6],[3,8,3,9],[8,20,13,23],[37,20,39,23],[1,10,1,13],[1,14,1,18],[2,10,4,18],[27,13,27,15],[26,14,26,15],[25,14,25,15],[22,10,22,12],[22,13,22,15],[22,16,22,18],[22,20,22,22]]}
[]
[null,"Bruger:",{"$f":"Makro!D20","v":0},null,null,null,null,null,null,null,"Hele vægelementer",null,null,null,"Betonelement-Foreningen Feb 2019",null,null,null,null,null,null,null,null,null,null,null,null,null,null,null,null,null,null,null,null,null,null,"Tværvæg 1",null,"x =",3000]
[null,"Sagsnavn:","Betonelementhuset",null,null,null,null,"Sag nr.:","23 - 4545",null,{"$f":"IF(AN145=1,AM145,AM115&AM116&AM117&AM118&AM119&AM120&AM121&AM122&AM123&AM124&AM125&AM126&AM127&AM128&AM129&AM130&AM131&AM132&AM133&AM134&AM135&AM136&AM137&AM138&AM139&AM140&AM141&AM142&AM143&AM144&AM145)","v":"For ny bruger: Klik på knappen 'angiv nyt brugernavn' for ibrugtagning."},null,null,null,null,null,null,null,null,null,null,null,null,null,null,null,null,null,null,null,null,null,null,null,null,null,null,"Tværvæg 2",null,"x =",6750]
[null,"Bygningsdel:","Væg i modul B-C/3",null,null,null,null,"Dato:","2007-01-02"]
[null,"Emne:","Normale lastkombinationer",null,null,null,null,"Init:","JFJ",null,null,null,null,null,null,null,null,null,null,null,null,null,null,null,null,null,null,null,null,null,null,null,null,null,null,null,null,null,null,-1,1,-1]
[]
[null,null,{"$f":"IF(Makro!A1=1,\"Resultater for felt #1\",IF(Makro!A1=2,\"Resultater for felt #2\",IF(Makro!A1=3,\"Resultater for felt #3\",IF(Makro!A1=4,\"Resultater for felt #4\",\"Vælg et felt og ikke alle felter i nedfaldsmenu\"))))","v":"Resultater for felt #1"},null,null,null,null,null,null,null,"Materialer",null,"Armering",null,"Krybetal",null,null,"Søjlebæreevne",null,null,null,null,null,null,null,null,null,null,null,null,null,null,null,null,null,null,null,"HOVEDGEOMETRI",null,null,null,null,null,"ELEMENTGRAFIK",null,null,null,null,null,null,null,"VÆGFELTER",null,null,null,null,null,null,null,null,null,null,null,null,null,null,null,null,null,null,null,null,null,null,null,null,null,null,null,null,null,null,null,null,null,null,null,null,null,null,"Venstre",null,null,null,"Midt",null,null,null,"Højre"]
[null,null,"nEd","m0Ed","m0Rd","u","e0 / (1+f) ","ssc","sst","x","fck =",20,"Trykarmering",null,"RH",55,"%","for central last",null,null,"Kommentar",null,null,null,null,null,null,null,null,null,null,null,null,null,null,null,null,null,null,null,null,null,null,null,"Elementrand",null,"Vindue 2",null,"Vindue 1",null,null,null,"Felt 1",null,"Felt 2",null,"Felt 3",null,"Felt 4",null,null,null,null,"NcR","t","Ls","B","b1","b2","h1","h2","Nabo","L1","L2","Tilf","b_v/H","b_h/H","s1'","s2'","n","en","N1","eN1","N2","eN2","w","mw","s1","s0","s2","n-s1","m-s1","sMIN","sMAX","n-s0","m-s0","sMIN","sMAX","n-s2","m-s2","sMIN","sMAX"]
[null,"Lasttilfælde","(KN/m)","(kNm/m)","(kNm/m)","(mm)","(0/00)","(MPa)","(MPa)","(mm)","fyk =",550,"da",8,"to",28,"døgn","scrd =",{"$f":"L8/L10*AC12","v":10.784605162737938},null,"Brudmåde 1 angiver den udbøjningsretning, hvor nv er den drivende normalkraft og omvendt for brudmåde 2. \nLinielast fra vind på døre/vinduer samt last fra bjælker fordeles elastisk i nabovægfelt ",null,null,null,null,null,null,null,null,null,null,null,null,null,null,null,null,null,"H","B",null,null,null,null,"x","y","x","y","x","y",null,null,"x","y","x","y","x","y","x","y",null,"Felt 1",null,{"$f":"$AC$13/1000","v":0},{"$f":"$M$18/1000","v":0.15},{"$f":"$BA$107/1000","v":3},{"$f":"($BA$11-$BA$10)/1000","v":1},{"$f":"($BA$16-$BA$17)/1000","v":0.15},{"$f":"($BA$12-$BA$13)/1000","v":0},{"$f":"$BB$16/1000","v":2.5},{"$f":"$BB$13/1000","v":2.5},{"$f":"IF($BC$10=1000000,FALSE,TRUE)","v":true},{"$f":"IF(AND(Makro!$D$1,Makro!$A$3=1),$AU$80,0)","v":0},{"$f":"IF(BT9,0.5*$BB$21/1000,IF(AND(Makro!$D$5,Makro!$A$4=1),$BC$80,0))","v":0.75},{"$f":"BA105","v":0},{"$f":"BA110/M16","v":0.33333333333333331},{"$f":"BA112/M16","v":0.33333333333333331},{"$f":"BP9+BR9/6","v":0.56666666666666665},{"$f":"BQ9+BS9/6","v":0.41666666666666669}]
[null,{"$f":"K31","v":"A"},{"$f":"IF(Makro!A1=5,\"#\",Sheet3!Y87*1000)","v":445.19999999999993},{"$f":"IF(Makro!$A$1=1,DF55,IF(Makro!$A$1=2,DF65,IF(Makro!$A$1=3,DF75,IF(Makro!$A$1=4,DF85,\"#\"))))","v":8.7983624999999996},{"$f":"IF(Makro!A1=5,\"#\",Sheet3!AO87*1000)","v":13.163920343986309},{"$f":"IF(Makro!A1=5,\"#\",Sheet3!AM87*1000)","v":29.00746803279225},{"$f":"IF(Makro!A1=5,\"#\",Sheet3!AA87*1000)","v":0.68114345369663054},{"$f":"IF(Makro!A$1=5,\"#\",Sheet3!$O$31*Sheet3!$O$30*G10/1000-(G10/1000)^2)*($L$8/$L$10)/(Sheet3!$O$30^2+(Sheet3!$O$31-2)*Sheet3!$O$30*G10/1000)","v":9.8587453877724229},{"$f":"IF(Makro!A1=5,\"#\",Sheet3!AJ87)","v":213.99756027898886},{"$f":"IF(Makro!A1=5,\"#\",Sheet3!Z87*1000)","v":76.802031112580593},"gc =",1.4,"Antal",6.67,"fo",{"$f":"AM160","v":2.9268201534720455},null,"fc",{"$f":"PI()/4*N9^2*N10/(M18*1000)","v":2.2351384532740184E-3},null,null,null,null,null,null,null,null,null,null,null,null,null,null,null,null,null,null,null,{"$f":"M16","v":3000},{"$f":"M17","v":7000},null,null,null,null,0,0,{"$f":"AO16","v":5500},{"$f":"AP16","v":1000},{"$f":"AO14","v":1000},{"$f":"AP14","v":1000},null,1,{"$f":"INDEX(Felt1,AZ10,1+($AV$26-1)*2)","v":0},{"$f":"INDEX(Felt1,AZ10,2+($AV$26-1)*2)","v":0},{"$f":"INDEX(Felt2,AZ10,1+($AV$26-1)*2)","v":2500},{"$f":"INDEX(Felt2,AZ10,2+($AV$26-1)*2)","v":0},{"$f":"INDEX(Felt3,AZ10,1+($AV$26-1)*2)","v":4500},{"$f":"INDEX(Felt3,AZ10,2+($AV$26-1)*2)","v":0},{"$f":"INDEX(Felt4,AZ10,1+($AV$26-1)*2)","v":6200},{"$f":"INDEX(Felt4,AZ10,2+($AV$26-1)*2)","v":0},null,"Lasttilfælde",{"$f":"K31","v":"A"},{"$f":"BL9","v":0},{"$f":"BM9","v":0.15},{"$f":"BN9","v":3},{"$f":"BO9","v":1},{"$f":"BP9","v":0.15},{"$f":"BQ9","v":0},{"$f":"BR9","v":2.5},{"$f":"BS9","v":2.5},{"$f":"BT9","v":true},{"$f":"BU9","v":0},0.75,{"$f":"BW9","v":0},{"$f":"BX9","v":0.33333333333333331},{"$f":"BY9","v":0.33333333333333331},{"$f":"BZ9","v":0.56666666666666665},{"$f":"CA9","v":0.41666666666666669},{"$f":"SUM(N31:P31)/1000","v":0.159},{"$f":"IF(CB10=0,0,(N31*$N$41+O31*$O$41-P31*$P$41)/(1000000*CB10))","v":1.5345911949685535E-2},{"$f":"AU84/1000","v":0},{"$f":"AV84/1000","v":0},{"$f":"IF(BT10,BV10*CB10,$BC$84/1000)","v":0.11924999999999999},{"$f":"IF(BT10,CC10,$BD$84/1000)","v":1.5345911949685535E-2},{"$f":"S31/1000","v":9.3999999999999997E-4},{"$f":"0.125*CH10*BN10^2","v":1.0575000000000001E-3},{"$f":"IF(BZ10+CA10<=BO10,BZ10,MIN(IF(CD10=0,0,BO10*CD10/(CD10+CF10)),BZ10))","v":0.56666666666666665},{"$f":"BO10-CJ10-CL10","v":1.6666666666666663E-2},{"$f":"IF(BZ10+CA10<=BO10,CA10,MIN(IF(CF10=0,0,BO10*CF10/(CD10+CF10)),CA10))","v":0.41666666666666669},{"$f":"IF(CJ10=0,0,CB10+CD10/CJ10)","v":0.159},{"$f":"IF(CJ10=0,CC10*CB10,CC10*CB10+CE10*CD10/CJ10)+CI10+IF(BW10=0,CH10*BU10*BN10*IF(BX10>1,0.27,BX10^-1/8-29*BX10^2/800+141*BX10/800)+CH10*BV10*BN10*IF(BY10>1.5,0,BY10^-1/8+2*BY10^2/27-BY10/6),IF(BX10<0.2,CH10*BU10*BN10*0.6*BX10,CH10*BU10*BN10*IF(BX10<1,(1125*BX10^3-3225*BX10^2+3075*BX10-111)/3200,0.27)))","v":4.1905324074074084E-3},{"$f":"CM10/($BM10)-6*($BL10/($BL10-CM10))*(CN10/$BM10^2)","v":1.06},{"$f":"CM10/($BM10)+6*($BL10/($BL10-CM10))*(CN10/$BM10^2)","v":1.06},{"$f":"IF(CK10=0,CM10,CB10)","v":0.159},{"$f":"IF(CK10=0,CN10,CC10*CB10+CI10+IF(BW10=0,CH10*(BU10+BV10)/BO10,0))","v":4.2025000000000005E-3},{"$f":"CQ10/($BM10)-6*($BL10/($BL10-CQ10))*(CR10/$BM10^2)","v":1.06},{"$f":"CQ10/($BM10)+6*($BL10/($BL10-CQ10))*(CR10/$BM10^2)","v":1.06},{"$f":"IF(CL10=0,0,CB10+CF10/CL10)","v":0.44519999999999993},{"$f":"IF(CL10=0,CC10*CB10,CC10*CB10+CF10*CG10/CL10)+CI10+IF(BW10=0,CH10*BV10*BN10*IF(BY10>1,0.27,BY10^-1/8-29*BY10^2/800+141*BY10/800)+CH10*BU10*BN10*IF(BX10>1.5,0,BX10^-1/8+2*BX10^2/27-BX10/6),IF(BY10<0.2,CH10*BV10*BN10*0.6*BY10,CH10*BV10*BN10*IF(BY10<1,(1125*BY10^3-3225*BY10^2+3075*BY10-111)/3200,0.27)))","v":8.7983625000000003E-3},{"$f":"CU10/($BM10)-6*($BL10/($BL10-CU10))*(CV10/$BM10^2)","v":2.9679999999999995},{"$f":"CU10/($BM10)+6*($BL10/($BL10-CU10))*(CV10/$BM10^2)","v":2.9679999999999995}]
[null,"B",{"$f":"IF(Makro!A1=5,\"#\",Sheet3!Y92*1000)","v":453.6},{"$f":"IF(Makro!$A$1=1,DF56,IF(Makro!$A$1=2,DF66,IF(Makro!$A$1=3,DF76,IF(Makro!$A$1=4,DF86,\"#\"))))","v":9.1203624999999988},{"$f":"IF(Makro!A1=5,\"#\",Sheet3!AO92*1000)","v":13.106376766760944},{"$f":"IF(Makro!A1=5,\"#\",Sheet3!AM92*1000)","v":25.4266261765544},{"$f":"IF(Makro!A1=5,\"#\",Sheet3!AA92*1000)","v":0.62706528923273086},{"$f":"IF(Makro!A$1=5,\"#\",Sheet3!$O$31*Sheet3!$O$30*G11/1000-(G11/1000)^2)*($L$8/$L$10)/(Sheet3!$O$30^2+(Sheet3!$O$31-2)*Sheet3!$O$30*G11/1000)","v":9.3712544695388207},{"$f":"IF(Makro!A1=5,\"#\",Sheet3!AJ92)","v":165.77137444345055},{"$f":"IF(Makro!A1=5,\"#\",Sheet3!Z92*1000)","v":80.661810190005497},"gs =",1.2,"Trækarmering",null,"M0Eqp/M0Ed",0.9,null,"ft",{"$f":"PI()/4*N12^2*N13/(M18*1000)","v":2.2351384532740184E-3},null,null,null,null,null,null,null,null,null,null,null,null,null,null,null,null,null,null,null,null,null,null,null,null,null,{"$f":"AO15","v":3500},0,{"$f":"AU10+AN16","v":6200},{"$f":"AV10","v":1000},{"$f":"AW10+AN14","v":2500},{"$f":"AX10","v":1000},null,2,1000,0,3500,0,5500,0,7000,0,null,null,"B",{"$f":"BL10","v":0},0.15,{"$f":"BN10","v":3},{"$f":"BO10","v":1},0.15,0,2.5,2.5,true,0,0.75,{"$f":"BW10","v":0},0.33333333333333331,0.33333333333333331,0.56666666666666665,0.41666666666666669,0.16200000000000001,1.5771604938271604E-2,{"$f":"AU85/1000","v":0},{"$f":"AV85/1000","v":0},0.1215,{"$f":"IF(BT11,CC11,BD85/1000)","v":1.5771604938271604E-2},9.3999999999999997E-4,1.0575000000000001E-3,{"$f":"IF(BZ11+CA11<=BO11,BZ11,MIN(IF(CD11=0,0,BO11*CD11/(CD11+CF11)),BZ11))","v":0.56666666666666665},{"$f":"BO11-CJ11-CL11","v":1.6666666666666663E-2},{"$f":"IF(BZ11+CA11<=BO11,CA11,MIN(IF(CF11=0,0,BO11*CF11/(CD11+CF11)),CA11))","v":0.41666666666666669},{"$f":"IF(CJ11=0,0,CB11+CD11/CJ11)","v":0.16200000000000001},{"$f":"IF(CJ11=0,CC11*CB11,CC11*CB11+CE11*CD11/CJ11)+CI11+IF(BW11=0,CH11*BU11*BN11*IF(BX11>1,0.27,BX11^-1/8-29*BX11^2/800+141*BX11/800)+CH11*BV11*BN11*IF(BY11>1.5,0,BY11^-1/8+2*BY11^2/27-BY11/6),IF(BX11<0.2,CH11*BU11*BN11*0.6*BX11,CH11*BU11*BN11*IF(BX11<1,(1125*BX11^3-3225*BX11^2+3075*BX11-111)/3200,0.27)))","v":4.3055324074074081E-3},{"$f":"CM11/($BM11)-6*($BL11/($BL11-CM11))*(CN11/$BM11^2)","v":1.08},{"$f":"CM11/($BM11)+6*($BL11/($BL11-CM11))*(CN11/$BM11^2)","v":1.08},{"$f":"IF(CK11=0,CM11,CB11)","v":0.16200000000000001},{"$f":"IF(CK11=0,CN11,CC11*CB11+CI11+IF(BW11=0,CH11*(BU11+BV11)/BO11,0))","v":4.3175000000000002E-3},{"$f":"CQ11/($BM11)-6*($BL11/($BL11-CQ11))*(CR11/$BM11^2)","v":1.08},{"$f":"CQ11/($BM11)+6*($BL11/($BL11-CQ11))*(CR11/$BM11^2)","v":1.08},{"$f":"IF(CL11=0,0,CB11+CF11/CL11)","v":0.4536},{"$f":"IF(CL11=0,CC11*CB11,CC11*CB11+CF11*CG11/CL11)+CI11+IF(BW11=0,CH11*BV11*BN11*IF(BY11>1,0.27,BY11^-1/8-29*BY11^2/800+141*BY11/800)+CH11*BU11*BN11*IF(BX11>1.5,0,BX11^-1/8+2*BX11^2/27-BX11/6),IF(BY11<0.2,CH11*BV11*BN11*0.6*BY11,CH11*BV11*BN11*IF(BY11<1,(1125*BY11^3-3225*BY11^2+3075*BY11-111)/3200,0.27)))","v":9.1203624999999997E-3},{"$f":"CU11/($BM11)-6*($BL11/($BL11-CU11))*(CV11/$BM11^2)","v":3.024},{"$f":"CU11/($BM11)+6*($BL11/($BL11-CU11))*(CV11/$BM11^2)","v":3.024}]
[null,"C",{"$f":"IF(Makro!A1=5,\"#\",Sheet3!Y97*1000)","v":565.60000000000014},{"$f":"IF(Makro!$A$1=1,DF57,IF(Makro!$A$1=2,DF67,IF(Makro!$A$1=3,DF77,IF(Makro!$A$1=4,DF87,\"#\"))))","v":10.8003625},{"$f":"IF(Makro!A1=5,\"#\",Sheet3!AO97*1000)","v":12.567939181061625},{"$f":"IF(Makro!A1=5,\"#\",Sheet3!AM97*1000)","v":19.112716494971437},{"$f":"IF(Makro!A1=5,\"#\",Sheet3!AA97*1000)","v":0.57760240667823948},{"$f":"IF(Makro!A$1=5,\"#\",Sheet3!$O$31*Sheet3!$O$30*G12/1000-(G12/1000)^2)*($L$8/$L$10)/(Sheet3!$O$30^2+(Sheet3!$O$31-2)*Sheet3!$O$30*G12/1000)","v":8.8916195575798707},{"$f":"IF(Makro!A1=5,\"#\",Sheet3!AJ97)","v":47.382349587329315},{"$f":"IF(Makro!A1=5,\"#\",Sheet3!Z97*1000)","v":98.844046674418024},"Ecd =",{"$f":"1000*22*((L8+8)/10)^0.3/L10","v":21401.393610457362},"da",8,"fef",{"$f":"P10*P11","v":2.634138138124841},null,"Ncr",{"$f":"MIN(M18*1000*S9*(1+(200000/L12)*2*MIN(S10,S11)),M18*1000*S9*(1+(L9/L11/S9)*2*MIN(S10,S11)))/1000","v":1685.2707259074043},null,null,null,null,null,null,null,null," ",{"$f":"1/(1+12*($L$8/($L$13*PI()^2))*(M16/$M$18)^2)","v":0.75492236139165558},null,null,null,null,null,null,null,null,null,"h","b","x","y",null,null,{"$f":"AS11","v":3500},{"$f":"AM15","v":2500},{"$f":"AU11","v":6200},{"$f":"AV11+AM16","v":2500},{"$f":"AW11","v":2500},{"$f":"AX11+AM14","v":2500},null,3,1000,2500,3500,2500,5500,2500,7000,3000,null,null,"C",0,0.15,3,1,0.15,0,2.5,2.5,true,0,0.75,0,0.33333333333333331,0.33333333333333331,0.56666666666666665,0.41666666666666669,0.20200000000000001,1.5618811881188119E-2,0,0,0.15150000000000002,1.5618811881188119E-2,9.3999999999999997E-4,1.0575000000000001E-3,0.56666666666666665,1.6666666666666663E-2,0.41666666666666669,0.20200000000000001,4.9055324074074079E-3,1.3466666666666669,1.3466666666666669,0.20200000000000001,4.9175E-3,1.3466666666666669,1.3466666666666669,0.5656000000000001,1.0800362500000001E-2,3.7706666666666675,3.7706666666666675]
[null,"D",{"$f":"IF(Makro!A1=5,\"#\",Sheet3!Y102*1000)","v":585.19999999999993},{"$f":"IF(Makro!$A$1=1,DF58,IF(Makro!$A$1=2,DF68,IF(Makro!$A$1=3,DF78,IF(Makro!$A$1=4,DF88,\"#\"))))","v":10.539029166666666},{"$f":"IF(Makro!A1=5,\"#\",Sheet3!AO102*1000)","v":12.462605459934426},{"$f":"IF(Makro!A1=5,\"#\",Sheet3!AM102*1000)","v":18.836450816888288},{"$f":"IF(Makro!A1=5,\"#\",Sheet3!AA102*1000)","v":0.58212922402484479},{"$f":"IF(Makro!A$1=5,\"#\",Sheet3!$O$31*Sheet3!$O$30*G13/1000-(G13/1000)^2)*($L$8/$L$10)/(Sheet3!$O$30^2+(Sheet3!$O$31-2)*Sheet3!$O$30*G13/1000)","v":8.9369117068735235},{"$f":"IF(Makro!A1=5,\"#\",Sheet3!AJ102)","v":37.338972654794297},{"$f":"IF(Makro!A1=5,\"#\",Sheet3!Z102*1000)","v":101.07977513492472},"Ecm =",{"$f":"L12*L10","v":29961.951054640303},"Antal",6.67,null,null,null,null,null,null,null,null,null,null,null,null,null,null,null,null,null,null,null,null,null,null,null,null,{"$f":"P15","v":500},150,null,null,null,null,{"$f":"AS12+AN15","v":4500},{"$f":"AT12","v":2500},{"$f":"AU10","v":5500},{"$f":"AV12","v":2500},{"$f":"AW10","v":1000},{"$f":"AX12","v":2500},null,4,1000,2500,3500,2500,5500,2500,7000,3000,null,null,"D",0,0.15,3,1,0.15,0,2.5,2.5,true,0,0.75,0,0.33333333333333331,0.33333333333333331,0.56666666666666665,0.41666666666666669,0.20899999999999999,1.4649122807017544E-2,0,0,0.15675,1.4649122807017544E-2,9.3999999999999997E-4,1.0575000000000001E-3,0.56666666666666665,1.6666666666666663E-2,0.41666666666666669,0.20899999999999999,4.8121990740740746E-3,1.3933333333333333,1.3933333333333333,0.20899999999999999,4.8241666666666667E-3,1.3933333333333333,1.3933333333333333,0.58519999999999994,1.0539029166666665E-2,3.9013333333333331,3.9013333333333331]
[null,"E",{"$f":"IF(Makro!A1=5,\"#\",Sheet3!Y107*1000)","v":464.8},{"$f":"IF(Makro!$A$1=1,DF59,IF(Makro!$A$1=2,DF69,IF(Makro!$A$1=3,DF79,IF(Makro!$A$1=4,DF89,\"#\"))))","v":8.5665145833333334},{"$f":"IF(Makro!A1=5,\"#\",Sheet3!AO107*1000)","v":13.041845575709511},{"$f":"IF(Makro!A1=5,\"#\",Sheet3!AM107*1000)","v":24.093033736847367},{"$f":"IF(Makro!A1=5,\"#\",Sheet3!AA107*1000)","v":0.61123142712754308},{"$f":"IF(Makro!A$1=5,\"#\",Sheet3!$O$31*Sheet3!$O$30*G14/1000-(G14/1000)^2)*($L$8/$L$10)/(Sheet3!$O$30^2+(Sheet3!$O$31-2)*Sheet3!$O$30*G14/1000)","v":9.2213263059930171},{"$f":"IF(Makro!A1=5,\"#\",Sheet3!AJ107)","v":144.68093656955537},{"$f":"IF(Makro!A1=5,\"#\",Sheet3!Z107*1000)","v":82.977076209075506},"Geometri - alle mål i mm",null,null,"Udsparinger",null,"h","b","x","y",null,null,null,null,null,null,null,null,null,null,null,null,null,null,null,null,null,null,null,1500,1500,{"$f":"R16","v":1000},{"$f":"S16","v":1000},null,null,{"$f":"AS13","v":4500},{"$f":"0","v":0},{"$f":"AU10","v":5500},{"$f":"AV10","v":1000},{"$f":"AW10","v":1000},{"$f":"AX10","v":1000},null,5,1000,3000,3500,3000,5500,3000,7000,3000,null,null,"E",0,0.15,3,1,0.15,0,2.5,2.5,true,0,0.75,0,0.33333333333333331,0.33333333333333331,0.56666666666666665,0.41666666666666669,0.16600000000000001,1.6315261044176708E-2,0,0,0.1245,1.6315261044176708E-2,4.6999999999999999E-4,5.2875000000000003E-4,0.56666666666666665,1.6666666666666663E-2,0.41666666666666669,0.16600000000000001,3.5835995370370379E-3,1.1066666666666667,1.1066666666666667,0.16600000000000001,3.5895833333333339E-3,1.1066666666666667,1.1066666666666667,0.46479999999999999,8.5665145833333338E-3,3.0986666666666669,3.0986666666666669]
[null,"F",{"$f":"IF(Makro!A1=5,\"#\",Sheet3!Y112*1000)","v":576.79999999999995},{"$f":"IF(Makro!$A$1=1,DF60,IF(Makro!$A$1=2,DF70,IF(Makro!$A$1=3,DF80,IF(Makro!$A$1=4,DF90,\"#\"))))","v":10.246514583333331},{"$f":"IF(Makro!A1=5,\"#\",Sheet3!AO112*1000)","v":12.509270447908289},{"$f":"IF(Makro!A1=5,\"#\",Sheet3!AM112*1000)","v":18.95336499193882},{"$f":"IF(Makro!A1=5,\"#\",Sheet3!AA112*1000)","v":0.5801887420960854},{"$f":"IF(Makro!A$1=5,\"#\",Sheet3!$O$31*Sheet3!$O$30*G15/1000-(G15/1000)^2)*($L$8/$L$10)/(Sheet3!$O$30^2+(Sheet3!$O$31-2)*Sheet3!$O$30*G15/1000)","v":8.9175317363587752},{"$f":"IF(Makro!A1=5,\"#\",Sheet3!AJ112)","v":41.607270588314421},{"$f":"IF(Makro!A1=5,\"#\",Sheet3!Z112*1000)","v":100.12139967087384}," Centerafstand,      c =",null,40,"  Bjælke A",null,500,150,null,null,null,null,null,null,null,null,null,null,null,null,null,null,null,null,null,null,null,null,null,2500,1000,{"$f":"R17","v":3500},null,null,null,{"$f":"AN10","v":7000},0,null,null,null,null,null,6,150,3000,2500,3000,4500,3000,6200,3000,null,null,"F",0,0.15,3,1,0.15,0,2.5,2.5,true,0,0.75,0,0.33333333333333331,0.33333333333333331,0.56666666666666665,0.41666666666666669,0.20599999999999999,1.6059870550161812E-2,0,0,0.1545,1.6059870550161812E-2,4.6999999999999999E-4,5.2875000000000003E-4,0.56666666666666665,1.6666666666666663E-2,0.41666666666666669,0.20599999999999999,4.1835995370370369E-3,1.3733333333333333,1.3733333333333333,0.20599999999999999,4.1895833333333334E-3,1.3733333333333333,1.3733333333333333,0.57679999999999998,1.0246514583333331E-2,3.8453333333333335,3.8453333333333335]
[null,"G",{"$f":"IF(Makro!A1=5,\"#\",Sheet3!Y117*1000)","v":644},{"$f":"IF(Makro!$A$1=1,DF61,IF(Makro!$A$1=2,DF71,IF(Makro!$A$1=3,DF81,IF(Makro!$A$1=4,DF91,\"#\"))))","v":9.3505145833333341},{"$f":"IF(Makro!A1=5,\"#\",Sheet3!AO117*1000)","v":12.064923560362789},{"$f":"IF(Makro!A1=5,\"#\",Sheet3!AM117*1000)","v":18.034480707497394},{"$f":"IF(Makro!A1=5,\"#\",Sheet3!AA117*1000)","v":0.59489999813021055},{"$f":"IF(Makro!A$1=5,\"#\",Sheet3!$O$31*Sheet3!$O$30*G16/1000-(G16/1000)^2)*($L$8/$L$10)/(Sheet3!$O$30^2+(Sheet3!$O$31-2)*Sheet3!$O$30*G16/1000)","v":9.0631504772031217},{"$f":"IF(Makro!A1=5,\"#\",Sheet3!AJ117)","v":8.4531074237463102},{"$f":"IF(Makro!A1=5,\"#\",Sheet3!Z117*1000)","v":107.89076358649768},"  Væghøjde,    H = Ls =",null,3000,"  Vindue 1",null,1500,1500,1000,1000,null,null,null,null,null,null,null,null,null,null,null,null,null,null,null,null,null,null,null,1500,700,{"$f":"R18","v":5500},{"$f":"S18","v":1000},null,null,{"$f":"AS15","v":7000},{"$f":"AM10-AM17","v":3000},null,null,null,null,null,7,150,2500,2500,2500,4500,2500,6200,2500,null,null,"G",0,0.15,3,1,0.15,0,2.5,2.5,true,0,0.75,0,0.33333333333333331,0.33333333333333331,0.56666666666666665,0.41666666666666669,0.23,1.2992753623188406E-2,0,0,0.17250000000000001,1.2992753623188406E-2,4.6999999999999999E-4,5.2875000000000003E-4,0.56666666666666665,1.6666666666666663E-2,0.41666666666666669,0.23,3.8635995370370378E-3,1.5333333333333334,1.5333333333333334,0.23,3.8695833333333338E-3,1.5333333333333334,1.5333333333333334,0.64400000000000002,9.3505145833333338E-3,4.2933333333333339,4.2933333333333339]
[null,"H",{"$f":"IF(Makro!A1=5,\"#\",Sheet3!Y122*1000)","v":604.79999999999995},{"$f":"IF(Makro!$A$1=1,DF62,IF(Makro!$A$1=2,DF72,IF(Makro!$A$1=3,DF82,IF(Makro!$A$1=4,DF92,\"#\"))))","v":10.666514583333335},{"$f":"IF(Makro!A1=5,\"#\",Sheet3!AO122*1000)","v":12.344380132496001},{"$f":"IF(Makro!A1=5,\"#\",Sheet3!AM122*1000)","v":18.570346490269042},{"$f":"IF(Makro!A1=5,\"#\",Sheet3!AA122*1000)","v":0.58662699092977777},{"$f":"IF(Makro!A$1=5,\"#\",Sheet3!$O$31*Sheet3!$O$30*G17/1000-(G17/1000)^2)*($L$8/$L$10)/(Sheet3!$O$30^2+(Sheet3!$O$31-2)*Sheet3!$O$30*G17/1000)","v":8.981629870419475},{"$f":"IF(Makro!A1=5,\"#\",Sheet3!AJ122)","v":27.565098977201394},{"$f":"IF(Makro!A1=5,\"#\",Sheet3!Z122*1000)","v":103.32037528419809},"  Vægbredde,  B",null,7000,"  Dør",null,2500,1000,3500,null,null,null,null,null,null,null,null,null,null,null,null,null,null,null,null,null,null,null,null,0,0,null,null,null,null,{"$f":"AS16-AN17","v":7000},{"$f":"AT16","v":3000},null,null,null,null,null,8,0,2500,2500,2500,4500,2500,6200,2500,null,null,"H",0,0.15,3,1,0.15,0,2.5,2.5,true,0,0.75,0,0.33333333333333331,0.33333333333333331,0.56666666666666665,0.41666666666666669,0.216,1.6010802469135804E-2,0,0,0.16200000000000001,1.6010802469135804E-2,4.6999999999999999E-4,5.2875000000000003E-4,0.56666666666666665,1.6666666666666663E-2,0.41666666666666669,0.216,4.3335995370370377E-3,1.44,1.44,0.216,4.3395833333333342E-3,1.44,1.44,0.6048,1.0666514583333335E-2,4.032,4.032]
[null,"I",{"$f":"IF(Makro!A1=5,\"#\",Sheet3!Y127*1000)","v":671.99999999999989},{"$f":"IF(Makro!$A$1=1,DF63,IF(Makro!$A$1=2,DF73,IF(Makro!$A$1=3,DF83,IF(Makro!$A$1=4,DF93,\"#\"))))","v":9.7705145833333322},{"$f":"IF(Makro!A1=5,\"#\",Sheet3!AO127*1000)","v":11.828044039755946},{"$f":"IF(Makro!A1=5,\"#\",Sheet3!AM127*1000)","v":17.678425045023378},{"$f":"IF(Makro!A1=5,\"#\",Sheet3!AA127*1000)","v":0.60081397598106956},{"$f":"IF(Makro!A$1=5,\"#\",Sheet3!$O$31*Sheet3!$O$30*G18/1000-(G18/1000)^2)*($L$8/$L$10)/(Sheet3!$O$30^2+(Sheet3!$O$31-2)*Sheet3!$O$30*G18/1000)","v":9.1208487822823141},{"$f":"IF(Makro!A1=5,\"#\",Sheet3!AJ127)","v":-4.548917927896162},{"$f":"IF(Makro!A1=5,\"#\",Sheet3!Z127*1000)","v":111.15791596951648},"  Vægtykkelse, t",null,150,"  Vindue 2",null,1500,700,5500,1000,null,null,null,null,null,null,null,null,null,null,null,null,null,null,null,null,null,null,null,null,null,null,null,null,null,{"$f":"AS17","v":7000},{"$f":"AM10","v":3000},"NA",null,"NB",null,null,9,0,0,2500,0,4500,0,6200,0,null,null,"I",0,0.15,3,1,0.15,0,2.5,2.5,true,0,0.75,0,0.33333333333333331,0.33333333333333331,0.56666666666666665,0.41666666666666669,0.24,1.3076388888888889E-2,0,0,0.18,1.3076388888888889E-2,4.6999999999999999E-4,5.2875000000000003E-4,0.56666666666666665,1.6666666666666663E-2,0.41666666666666669,{"$f":"IF(CJ18=0,0,CB18+CD18/CJ18)","v":0.24},4.0135995370370369E-3,{"$f":"CM18/($BM18)-6*($BL18/($BL18-CM18))*(CN18/$BM18^2)","v":1.6},{"$f":"CM18/($BM18)+6*($BL18/($BL18-CM18))*(CN18/$BM18^2)","v":1.6},0.24,4.0195833333333333E-3,{"$f":"CQ18/($BM18)-6*($BL18/($BL18-CQ18))*(CR18/$BM18^2)","v":1.6},{"$f":"CQ18/($BM18)+6*($BL18/($BL18-CQ18))*(CR18/$BM18^2)","v":1.6},{"$f":"IF(CL18=0,0,CB18+CF18/CL18)","v":0.67199999999999993},9.7705145833333323E-3,{"$f":"CU18/($BM18)-6*($BL18/($BL18-CU18))*(CV18/$BM18^2)","v":4.4799999999999995},4.4799999999999995]
[null,null,null,null,null,null,null,null,"Vælg et felt nr.",null,null,null,null,"  Bjælke B",null,null,null,null,null,null,null,null,null,null,null,null,null,null,null,null,null,null,null,null,null,null,null,null,null,null,null,null,null,null,{"$f":"AN13","v":150},{"$f":"AT18","v":3000},"x","y","x","y",null,null,null,null,null,null,null,null,null,null,null,"Felt 2",null,{"$f":"$AC$13/1000","v":0},{"$f":"$M$18/1000","v":0.15},{"$f":"$BC$107/1000","v":3},{"$f":"($BC$11-$BC$10)/1000","v":1},{"$f":"($BC$16-$BC$17)/1000","v":0},{"$f":"($BC$12-$BC$13)/1000","v":0},{"$f":"$BD$16/1000","v":2.5},{"$f":"$BD$13/1000","v":2.5},{"$f":"IF($BE$10=1000000,FALSE,TRUE)","v":true},{"$f":"BV9","v":0.75},{"$f":"IF(BT19,0.5*$BD$21/1000,IF(AND(Makro!$D$5,Makro!$A$4=1),$BC$80,0))","v":0.5},{"$f":"BC105","v":0},{"$f":"BC110/M16","v":0.33333333333333331},{"$f":"BC112/M16","v":0.33333333333333331},{"$f":"BP19+BR19/6","v":0.41666666666666669},{"$f":"BQ19+BS19/6","v":0.41666666666666669}]
[null,null,null,null,null,null,null,null,null,null,"h og b er hhv højde og bredde af hullet i væggen. x og y angiver koordinaten til det nederste venstre hjørne.",null,null,null,null,null,null,null,null,null,null,null,null,null,null,null,null,null,null,null,null,null,null,null,null,null,null,null,"Vederlagsdybder",null,null,{"$f":"X15","v":0},null,null,{"$f":"AS19","v":150},{"$f":"AT19-AM13","v":2500},{"$f":"IF(Makro!D1,0.5*(AS21+AS20),1000000)","v":75},{"$f":"IF(Makro!D1,AT20,1000000)","v":2500},{"$f":"IF(Makro!D5,0.5*(AS16+AS17),1000000)","v":7000},{"$f":"IF(Makro!D5,AT16,1000000)","v":3000},null,"OVERLIGGERE",null,null,null,null,null,null,null,null,null,"Lasttilfælde",{"$f":"K31","v":"A"},{"$f":"BL19","v":0},{"$f":"BM19","v":0.15},{"$f":"BN19","v":3},{"$f":"BO19","v":1},{"$f":"BP19","v":0},{"$f":"BQ19","v":0},{"$f":"BR19","v":2.5},{"$f":"BS19","v":2.5},{"$f":"BT19","v":true},{"$f":"BU19","v":0.75},0.5,{"$f":"BW19","v":0},{"$f":"BX19","v":0.33333333333333331},{"$f":"BY19","v":0.33333333333333331},{"$f":"BZ19","v":0.41666666666666669},{"$f":"CA19","v":0.41666666666666669},{"$f":"CB10","v":0.159},{"$f":"CC10","v":1.5345911949685535E-2},{"$f":"CF10","v":0.11924999999999999},{"$f":"CG10","v":1.5345911949685535E-2},{"$f":"IF(BT20,BV20*CB20,BC84/1000)","v":7.9500000000000001E-2},{"$f":"IF(BT20,CC20,BD84/1000)","v":1.5345911949685535E-2},{"$f":"CH10","v":9.3999999999999997E-4},{"$f":"0.125*CH20*BN20^2","v":1.0575000000000001E-3},{"$f":"IF(BZ20+CA20<=BO20,BZ20,MIN(IF(CD20=0,0,BO20*CD20/(CD20+CF20)),BZ20))","v":0.41666666666666669},{"$f":"BO20-CJ20-CL20","v":0.16666666666666657},{"$f":"IF(BZ20+CA20<=BO20,CA20,MIN(IF(CF20=0,0,BO20*CF20/(CD20+CF20)),CA20))","v":0.41666666666666669},{"$f":"IF(CJ20=0,0,CB20+CD20/CJ20)","v":0.44519999999999993},{"$f":"IF(BT10,IF(CJ20=0,CC20*CB20,CC20*CB20+CE20*CD20/CJ20)+CI20+IF(BW20=0,CH20*BU20*BN20*IF(BX20>1,0.27,BX20^-1/8-29*BX20^2/800+141*BX20/800)+CH20*BV20*BN20*IF(BY20>1.5,0,BY20^-1/8+2*BY20^2/27-BY20/6),IF(BX20<0.2,CH20*BU20*BN20*0.6*BX20,CH20*BU20*BN20*IF(BX20<1,(1125*BX20^3-3225*BX20^2+3075*BX20-111)/3200,0.27))),0)","v":9.2603841049382733E-3},{"$f":"CM20/($BM20)-6*($BL20/($BL20-CM20))*(CN20/$BM20^2)","v":2.9679999999999995},{"$f":"CM20/($BM20)+6*($BL20/($BL20-CM20))*(CN20/$BM20^2)","v":2.9679999999999995},{"$f":"IF(CK20=0,CM20,CB20)","v":0.159},{"$f":"IF(CK20=0,CN20,CC20*CB20+CI20+IF(BW20=0,CH20*(BU20+BV20)/BO20,0))","v":4.6725000000000004E-3},{"$f":"CQ20/($BM20)-6*($BL20/($BL20-CQ20))*(CR20/$BM20^2)","v":1.06},{"$f":"CQ20/($BM20)+6*($BL20/($BL20-CQ20))*(CR20/$BM20^2)","v":1.06},{"$f":"IF(CL20=0,0,CB20+CF20/CL20)","v":0.3498},{"$f":"IF(BT10,IF(CL20=0,CC20*CB20,CC20*CB20+CF20*CG20/CL20)+CI20+IF(BW20=0,CH20*BV20*BN20*IF(BY20>1,0.27,BY20^-1/8-29*BY20^2/800+141*BY20/800)+CH20*BU20*BN20*IF(BX20>1.5,0,BX20^-1/8+2*BX20^2/27-BX20/6),IF(BY20<0.2,CH20*BV20*BN20*0.6*BY20,CH20*BV20*BN20*IF(BY20<1,(1125*BY20^3-3225*BY20^2+3075*BY20-111)/3200,0.27))),0)","v":7.7244407407407421E-3},{"$f":"CU20/($BM20)-6*($BL20/($BL20-CU20))*(CV20/$BM20^2)","v":2.3320000000000003},{"$f":"CU20/($BM20)+6*($BL20/($BL20-CU20))*(CV20/$BM20^2)","v":2.3320000000000003}]
[null,null,null,null,null,null,null,null,{"$f":"IF(Makro!A1=5,\"Alle felter\",\"Felt #\" &TEXT(Makro!A1,\"0\"))","v":"Felt #1"},null,"Hvis væggen forsynes med kun ét lag armering skal dette være træklaget aht. beregningerne ",null,null,null,null,null,null,null,null,null,null,null,null,null,null,null,null,null,null,null,null,null,null,null,null,null,null,null,null,null,null,null,null,null,0,{"$f":"AT20","v":2500},{"$f":"AU20","v":75},{"$f":"AV20+400","v":2900},{"$f":"AW20","v":7000},{"$f":"AX20+400","v":3400},null,null,null,{"$f":"IF(BC10=1000000,0,BC15-BA13-2*AP20)","v":1500},null,{"$f":"IF(BE10=1000000,0,BE15-BC13-2*AP20)","v":1000},null,{"$f":"IF(BG10=1000000,0,BG15-BE13-2*AP20)","v":700},null,null,null,null,"B",{"$f":"BL20","v":0},0.15,{"$f":"BN20","v":3},{"$f":"BO20","v":1},0,0,2.5,2.5,true,0.75,0.5,0,0.33333333333333331,0.33333333333333331,0.41666666666666669,0.41666666666666669,0.16200000000000001,1.5771604938271604E-2,{"$f":"CF11","v":0.1215},{"$f":"CG11","v":1.5771604938271604E-2},8.1000000000000003E-2,1.5771604938271604E-2,9.3999999999999997E-4,1.0575000000000001E-3,{"$f":"IF(BZ21+CA21<=BO21,BZ21,MIN(IF(CD21=0,0,BO21*CD21/(CD21+CF21)),BZ21))","v":0.41666666666666669},0.16666666666666657,{"$f":"IF(BZ21+CA21<=BO21,CA21,MIN(IF(CF21=0,0,BO21*CF21/(CD21+CF21)),CA21))","v":0.41666666666666669},{"$f":"IF(CJ21=0,0,CB21+CD21/CJ21)","v":0.4536},{"$f":"IF(BT11,IF(CJ21=0,CC21*CB21,CC21*CB21+CE21*CD21/CJ21)+CI21+IF(BW21=0,CH21*BU21*BN21*IF(BX21>1,0.27,BX21^-1/8-29*BX21^2/800+141*BX21/800)+CH21*BV21*BN21*IF(BY21>1.5,0,BY21^-1/8+2*BY21^2/27-BY21/6),IF(BX21<0.2,CH21*BU21*BN21*0.6*BX21,CH21*BU21*BN21*IF(BX21<1,(1125*BX21^3-3225*BX21^2+3075*BX21-111)/3200,0.27))),0)","v":9.5823841049382727E-3},{"$f":"CM21/($BM21)-6*($BL21/($BL21-CM21))*(CN21/$BM21^2)","v":3.024},{"$f":"CM21/($BM21)+6*($BL21/($BL21-CM21))*(CN21/$BM21^2)","v":3.024},{"$f":"IF(CK21=0,CM21,CB21)","v":0.16200000000000001},{"$f":"IF(CK21=0,CN21,CC21*CB21+CI21+IF(BW21=0,CH21*(BU21+BV21)/BO21,0))","v":4.7875000000000001E-3},{"$f":"CQ21/($BM21)-6*($BL21/($BL21-CQ21))*(CR21/$BM21^2)","v":1.08},{"$f":"CQ21/($BM21)+6*($BL21/($BL21-CQ21))*(CR21/$BM21^2)","v":1.08},{"$f":"IF(CL21=0,0,CB21+CF21/CL21)","v":0.35639999999999999},{"$f":"IF(BT11,IF(CL21=0,CC21*CB21,CC21*CB21+CF21*CG21/CL21)+CI21+IF(BW21=0,CH21*BV21*BN21*IF(BY21>1,0.27,BY21^-1/8-29*BY21^2/800+141*BY21/800)+CH21*BU21*BN21*IF(BX21>1.5,0,BX21^-1/8+2*BX21^2/27-BX21/6),IF(BY21<0.2,CH21*BV21*BN21*0.6*BY21,CH21*BV21*BN21*IF(BY21<1,(1125*BY21^3-3225*BY21^2+3075*BY21-111)/3200,0.27))),0)","v":7.9774407407407402E-3},{"$f":"CU21/($BM21)-6*($BL21/($BL21-CU21))*(CV21/$BM21^2)","v":2.3759999999999999},{"$f":"CU21/($BM21)+6*($BL21/($BL21-CU21))*(CV21/$BM21^2)","v":2.3759999999999999}]
[null,null,null,null,null,null,null,null,null,null,"Jævnt fordelte laste på vægoverside",null,null,null,null,null,null,null,null,null,null,null,null,null,null,null,null,null,null,null,null,null,null,null,null,null,null,null,null,null,null,null,null,null,0,0,null,null,null,null,null,null,null,null,null,null,null,null,null,null,null,null,"C",0,0.15,3,1,0,0,2.5,2.5,true,0.75,0.5,0,0.33333333333333331,0.33333333333333331,0.41666666666666669,0.41666666666666669,0.20200000000000001,1.5618811881188119E-2,0.15150000000000002,1.5618811881188119E-2,0.10100000000000001,1.5618811881188119E-2,9.3999999999999997E-4,1.0575000000000001E-3,0.41666666666666669,0.16666666666666657,0.41666666666666669,0.5656000000000001,1.1262384104938274E-2,3.7706666666666675,3.7706666666666675,0.20200000000000001,5.3874999999999999E-3,1.3466666666666669,1.3466666666666669,0.44440000000000002,9.2974407407407419E-3,2.9626666666666668,2.9626666666666668]
[null,null,null,null,null,null,null,null,null,null,"Maksimallaste (kN/m)",null,null,"Reducerede laste (kN/m)",null,null,"Minimallaste (kN/m)",null,null,null,null,null,null,null,null,null,null,null,null,null,null,null,null,null,null,null,null,null,null,null,null,null,null,null,null,null,null,null,null,null,null,null,null,null,null,null,null,null,null,null,null,null,"D",0,0.15,3,1,0,0,2.5,2.5,true,0.75,0.5,0,0.33333333333333331,0.33333333333333331,0.41666666666666669,0.41666666666666669,0.20899999999999999,1.4649122807017544E-2,0.15675,1.4649122807017544E-2,0.1045,1.4649122807017544E-2,9.3999999999999997E-4,1.0575000000000001E-3,0.41666666666666669,0.16666666666666657,0.41666666666666669,0.58519999999999994,1.1001050771604938E-2,3.9013333333333331,3.9013333333333331,0.20899999999999999,5.2941666666666666E-3,1.3933333333333333,1.3933333333333333,0.45979999999999999,9.0921074074074067E-3,3.0653333333333332,3.0653333333333332]
[null,null,null,null,null,null,null,null,null,null,"nv","no","nh","nv","no","nh","nv","no","nh",null,null,null,null,null,null,null,null,null,null,null,null,null,null,null,null,null,null,null,null,null,null,null,null,null,null,null,null,null,null,null,null,null,null,null,null,null,null,null,null,null,null,null,"E",0,0.15,3,1,0,0,2.5,2.5,true,0.75,0.5,0,0.33333333333333331,0.33333333333333331,0.41666666666666669,0.41666666666666669,0.16600000000000001,1.6315261044176708E-2,0.1245,1.6315261044176708E-2,8.3000000000000004E-2,1.6315261044176708E-2,4.6999999999999999E-4,5.2875000000000003E-4,0.41666666666666669,0.16666666666666657,0.41666666666666669,0.46479999999999999,8.7975253858024703E-3,3.0986666666666669,3.0986666666666669,0.16600000000000001,3.8245833333333339E-3,1.1066666666666667,1.1066666666666667,0.36519999999999997,7.136553703703705E-3,{"$f":"CU24/($BM24)-6*($BL24/($BL24-CU24))*(CV24/$BM24^2)","v":2.4346666666666668},2.4346666666666668]
[null,null,null,null,null,null,null,null,null,null,13,200,27,9,190,10,6,150,3,null,null,null,null,null,null,null,null,null,null,null,null,null,null,null,null,null,null,null,null,null,null,null,null,null,null,null,null,null,null,null,null,null,null,null,null,null,null,null,null,null,null,null,"F",0,0.15,3,1,0,0,2.5,2.5,true,0.75,0.5,0,0.33333333333333331,0.33333333333333331,0.41666666666666669,0.41666666666666669,0.20599999999999999,1.6059870550161812E-2,0.1545,1.6059870550161812E-2,0.10299999999999999,1.6059870550161812E-2,4.6999999999999999E-4,5.2875000000000003E-4,0.41666666666666669,0.16666666666666657,0.41666666666666669,0.57679999999999998,1.0477525385802468E-2,3.8453333333333335,3.8453333333333335,0.20599999999999999,4.4245833333333333E-3,1.3733333333333333,1.3733333333333333,0.45319999999999994,8.4565537037037033E-3,3.0213333333333332,3.0213333333333332]
[null,null,null,null,null,null,null,null,null,null,"  Belastning fra bjælke A (venstre side) som:",null,null,null,{"$f":"INDEX(AQ76:AQ77,Makro!A3,1)","v":"Vægoverligger"},null,null,null,null,null,null,null,null,null,null,null,null,null,null,null,null,null,null,null,null,null,null,"INDDATAFORMATER",null,null,null,null,null,"BASISTILFÆLDE:",null,null,null,{"$f":"MIN(AR32:BF32)","v":4},null,null,null,null,null,null,null,null,null,null,null,null,null,null,"G",0,0.15,3,1,0,0,2.5,2.5,true,0.75,0.5,0,0.33333333333333331,0.33333333333333331,0.41666666666666669,0.41666666666666669,0.23,1.2992753623188406E-2,0.17250000000000001,1.2992753623188406E-2,0.115,1.2992753623188406E-2,4.6999999999999999E-4,5.2875000000000003E-4,0.41666666666666669,0.16666666666666657,0.41666666666666669,0.64400000000000002,9.5815253858024703E-3,4.2933333333333339,4.2933333333333339,0.23,4.1045833333333342E-3,1.5333333333333334,1.5333333333333334,0.50600000000000001,7.7525537037037044E-3,3.3733333333333335,3.3733333333333335]
[null,null,null,null,null,null,null,null,null,null,"  Belastning fra bjælke B (højre side) som:",null,null,null,{"$f":"INDEX(AQ76:AQ77,Makro!A4,1)","v":"Vægoverligger"},null,null,null,null,null,null,null,null,null,null,null,null,null,null,null,null,null,null,null,null,null,null,null,null,null,null,null,null,null,null,null,null,null,null,null,null,null,null,null,null,null,null,null,null,null,null,null,"H",0,0.15,3,1,0,0,2.5,2.5,true,0.75,0.5,0,0.33333333333333331,0.33333333333333331,0.41666666666666669,0.41666666666666669,0.216,1.6010802469135804E-2,0.16200000000000001,1.6010802469135804E-2,0.108,1.6010802469135804E-2,4.6999999999999999E-4,5.2875000000000003E-4,0.41666666666666669,0.16666666666666657,0.41666666666666669,0.6048,1.0897525385802471E-2,4.032,4.032,0.216,4.5745833333333341E-3,1.44,1.44,0.47519999999999996,8.7865537037037037E-3,3.1679999999999997,3.1679999999999997]
[null,null,null,null,null,null,null,null,null,null,"Brudmåde :",null,null,"Jævnt fordelt last, overside",null,null,"Bjælkereaktioner",null,"Vind",null,null,null,null,null,null,null,null,null,null,null,null,null,null,null,null,null,null,null,null,null,null,null,{"$f":"Makro!D1","v":true},1,null,2,null,3,null,4,null,5,null,6,null,7,null,8,null,null,null,null,"I",0,0.15,3,1,0,0,2.5,2.5,true,0.75,0.5,0,0.33333333333333331,0.33333333333333331,0.41666666666666669,0.41666666666666669,0.24,1.3076388888888889E-2,0.18,1.3076388888888889E-2,0.12,1.3076388888888889E-2,4.6999999999999999E-4,5.2875000000000003E-4,0.41666666666666669,0.16666666666666657,0.41666666666666669,0.67199999999999993,1.0001525385802469E-2,4.4799999999999995,4.4799999999999995,0.24,4.2545833333333333E-3,1.6,1.6,0.52800000000000002,8.0825537037037039E-3,3.5200000000000005,3.5200000000000005]
[null,null,null,null,null,null,null,null,null,null,null,null,null,"n1","n0","n2","NA","NB","w",null,null,null,null,null,null,null,null,null,null,null,null,null,null,null,null,null,null,null,null,null,null,null,{"$f":"Makro!D2","v":true},false,null,true,null,true,null,true,null,true,null,false,null,false,null,false,null,null,null,"Felt 3",null,{"$f":"$AC$13/1000","v":0},{"$f":"$M$18/1000","v":0.15},{"$f":"$BE$107/1000","v":3},{"$f":"($BE$11-$BE$10)/1000","v":1},{"$f":"($BE$16-$BE$17)/1000","v":0},{"$f":"($BE$12-$BE$13)/1000","v":0},{"$f":"$BF$16/1000","v":2.5},{"$f":"$BF$13/1000","v":2.5},{"$f":"IF($BG$10=1000000,FALSE,TRUE)","v":true},{"$f":"BV19","v":0.5},{"$f":"IF(BT29,0.5*$BF$21/1000,IF(AND(Makro!$D$5,Makro!$A$4=1),$BC$80,0))","v":0.35},{"$f":"BE105","v":0},{"$f":"BE110/M16","v":0.33333333333333331},{"$f":"BE112/M16","v":0.33333333333333331},{"$f":"BP29+BR29/6","v":0.41666666666666669},{"$f":"BQ29+BS29/6","v":0.41666666666666669}]
[null,null,null,null,null,null,null,null,null,null,null,null,null,"(kN/m)","(kN/m)","(kN/m)","(kN)  ","(kN)  ","(kN/m2)",null,null,null,null,null,null,null,null,null,null,null,null,null,null,null,null,null,null,null,null,null,null,null,{"$f":"Makro!D3","v":true},false,null,false,null,true,null,true,null,false,null,true,null,true,null,false,null,null,null,"Lasttilfælde",{"$f":"K31","v":"A"},{"$f":"BL29","v":0},{"$f":"BM29","v":0.15},{"$f":"BN29","v":3},{"$f":"BO29","v":1},{"$f":"BP29","v":0},{"$f":"BQ29","v":0},{"$f":"BR29","v":2.5},{"$f":"BS29","v":2.5},{"$f":"BT29","v":true},{"$f":"BU29","v":0.5},0.35,{"$f":"BW29","v":0},{"$f":"BX29","v":0.33333333333333331},{"$f":"BY29","v":0.33333333333333331},{"$f":"BZ29","v":0.41666666666666669},{"$f":"CA29","v":0.41666666666666669},{"$f":"CB20","v":0.159},{"$f":"CC20","v":1.5345911949685535E-2},{"$f":"CF20","v":7.9500000000000001E-2},{"$f":"CG20","v":1.5345911949685535E-2},{"$f":"IF(BT30,BV30*CB30,BC84/1000)","v":5.5649999999999998E-2},{"$f":"IF(BT30,CC30,BD84/1000)","v":1.5345911949685535E-2},{"$f":"CH20","v":9.3999999999999997E-4},{"$f":"0.125*CH30*BN30^2","v":1.0575000000000001E-3},{"$f":"IF(BZ30+CA30<=BO30,BZ30,MIN(IF(CD30=0,0,BO30*CD30/(CD30+CF30)),BZ30))","v":0.41666666666666669},{"$f":"BO30-CJ30-CL30","v":0.16666666666666657},{"$f":"IF(BZ30+CA30<=BO30,CA30,MIN(IF(CF30=0,0,BO30*CF30/(CD30+CF30)),CA30))","v":0.41666666666666669},{"$f":"IF(CJ30=0,0,CB30+CD30/CJ30)","v":0.3498},{"$f":"IF(BT20,IF(CJ30=0,CC30*CB30,CC30*CB30+CE30*CD30/CJ30)+CI30+IF(BW30=0,CH30*BU30*BN30*IF(BX30>1,0.27,BX30^-1/8-29*BX30^2/800+141*BX30/800)+CH30*BV30*BN30*IF(BY30>1.5,0,BY30^-1/8+2*BY30^2/27-BY30/6),IF(BX30<0.2,CH30*BU30*BN30*0.6*BX30,CH30*BU30*BN30*IF(BX30<1,(1125*BX30^3-3225*BX30^2+3075*BX30-111)/3200,0.27))),0)","v":7.3548234567901247E-3},{"$f":"CM30/($BM30)-6*($BL30/($BL30-CM30))*(CN30/$BM30^2)","v":2.3320000000000003},{"$f":"CM30/($BM30)+6*($BL30/($BL30-CM30))*(CN30/$BM30^2)","v":2.3320000000000003},{"$f":"IF(CK30=0,CM30,CB30)","v":0.159},{"$f":"IF(CK30=0,CN30,CC30*CB30+CI30+IF(BW30=0,CH30*(BU30+BV30)/BO30,0))","v":4.2965000000000008E-3},{"$f":"CQ30/($BM30)-6*($BL30/($BL30-CQ30))*(CR30/$BM30^2)","v":1.06},{"$f":"CQ30/($BM30)+6*($BL30/($BL30-CQ30))*(CR30/$BM30^2)","v":1.06},{"$f":"IF(CL30=0,0,CB30+CF30/CL30)","v":0.29255999999999999},{"$f":"IF(BT20,IF(CL30=0,CC30*CB30,CC30*CB30+CF30*CG30/CL30)+CI30+IF(BW30=0,CH30*BV30*BN30*IF(BY30>1,0.27,BY30^-1/8-29*BY30^2/800+141*BY30/800)+CH30*BU30*BN30*IF(BX30>1.5,0,BX30^-1/8+2*BX30^2/27-BX30/6),IF(BY30<0.2,CH30*BV30*BN30*0.6*BY30,CH30*BV30*BN30*IF(BY30<1,(1125*BY30^3-3225*BY30^2+3075*BY30-111)/3200,0.27))),0)","v":6.4332574382716052E-3},{"$f":"CU30/($BM30)-6*($BL30/($BL30-CU30))*(CV30/$BM30^2)","v":1.9503999999999999},{"$f":"CU30/($BM30)+6*($BL30/($BL30-CU30))*(CV30/$BM30^2)","v":1.9503999999999999}]
[null,null,null,null,null,null,null,null,null,null,"A","Med maksimal vind",null,{"$f":"INDEX(Laste,ROW()-30+9*(2-Makro!$A$2),1)","v":6},{"$f":"INDEX(Laste,ROW()-30+9*(2-Makro!$A$2),2)","v":150},{"$f":"INDEX(Laste,ROW()-30+9*(2-Makro!$A$2),3)","v":3},12,15,0.94,null,null,null,null,null,null,null,null,null,null,null,null,null,null,null,null,null,null,null,null,null,null,null,{"$f":"Makro!D4","v":true},false,null,false,null,false,null,true,null,true,null,false,null,true,null,true,null,null,null,null,"B",{"$f":"BL30","v":0},0.15,{"$f":"BN30","v":3},{"$f":"BO30","v":1},0,0,2.5,2.5,true,0.5,0.35,0,0.33333333333333331,0.33333333333333331,0.41666666666666669,0.41666666666666669,0.16200000000000001,1.5771604938271604E-2,{"$f":"CF21","v":8.1000000000000003E-2},{"$f":"CG21","v":1.5771604938271604E-2},5.67E-2,1.5771604938271604E-2,9.3999999999999997E-4,1.0575000000000001E-3,{"$f":"IF(BZ31+CA31<=BO31,BZ31,MIN(IF(CD31=0,0,BO31*CD31/(CD31+CF31)),BZ31))","v":0.41666666666666669},0.16666666666666657,{"$f":"IF(BZ31+CA31<=BO31,CA31,MIN(IF(CF31=0,0,BO31*CF31/(CD31+CF31)),CA31))","v":0.41666666666666669},{"$f":"IF(CJ31=0,0,CB31+CD31/CJ31)","v":0.35639999999999999},{"$f":"IF(BT21,IF(CJ31=0,CC31*CB31,CC31*CB31+CE31*CD31/CJ31)+CI31+IF(BW31=0,CH31*BU31*BN31*IF(BX31>1,0.27,BX31^-1/8-29*BX31^2/800+141*BX31/800)+CH31*BV31*BN31*IF(BY31>1.5,0,BY31^-1/8+2*BY31^2/27-BY31/6),IF(BX31<0.2,CH31*BU31*BN31*0.6*BX31,CH31*BU31*BN31*IF(BX31<1,(1125*BX31^3-3225*BX31^2+3075*BX31-111)/3200,0.27))),0)","v":7.6078234567901228E-3},{"$f":"CM31/($BM31)-6*($BL31/($BL31-CM31))*(CN31/$BM31^2)","v":2.3759999999999999},{"$f":"CM31/($BM31)+6*($BL31/($BL31-CM31))*(CN31/$BM31^2)","v":2.3759999999999999},{"$f":"IF(CK31=0,CM31,CB31)","v":0.16200000000000001},{"$f":"IF(CK31=0,CN31,CC31*CB31+CI31+IF(BW31=0,CH31*(BU31+BV31)/BO31,0))","v":4.4115000000000005E-3},{"$f":"CQ31/($BM31)-6*($BL31/($BL31-CQ31))*(CR31/$BM31^2)","v":1.08},{"$f":"CQ31/($BM31)+6*($BL31/($BL31-CQ31))*(CR31/$BM31^2)","v":1.08},{"$f":"IF(CL31=0,0,CB31+CF31/CL31)","v":0.29808000000000001},{"$f":"IF(BT21,IF(CL31=0,CC31*CB31,CC31*CB31+CF31*CG31/CL31)+CI31+IF(BW31=0,CH31*BV31*BN31*IF(BY31>1,0.27,BY31^-1/8-29*BY31^2/800+141*BY31/800)+CH31*BU31*BN31*IF(BX31>1.5,0,BX31^-1/8+2*BX31^2/27-BX31/6),IF(BY31<0.2,CH31*BV31*BN31*0.6*BY31,CH31*BV31*BN31*IF(BY31<1,(1125*BY31^3-3225*BY31^2+3075*BY31-111)/3200,0.27))),0)","v":6.6448574382716053E-3},{"$f":"CU31/($BM31)-6*($BL31/($BL31-CU31))*(CV31/$BM31^2)","v":1.9872000000000001},{"$f":"CU31/($BM31)+6*($BL31/($BL31-CU31))*(CV31/$BM31^2)","v":1.9872000000000001}]
[null,null,null,null,null,null,null,null,null,null,"B",null,null,{"$f":"INDEX(Laste,ROW()-30+9*(2-Makro!$A$2),1)","v":9},{"$f":"INDEX(Laste,ROW()-30+9*(2-Makro!$A$2),2)","v":150},{"$f":"INDEX(Laste,ROW()-30+9*(2-Makro!$A$2),3)","v":3},13,16,{"$f":"S31","v":0.94},null,null,null,null,null,null,null,null,null,null,null,null,null,null,null,null,null,null,null,null,null,null,null,{"$f":"Makro!D5","v":true},{"$f":"IF(AND(AR29=$AQ29,AR30=$AQ30,AR31=$AQ31),AR28,1000)","v":1000},null,{"$f":"IF(AND(AT29=$AQ29,AT30=$AQ30,AT31=$AQ31),AT28,1000)","v":1000},null,1000,null,4,null,1000,null,1000,null,1000,null,1000,null,null,null,null,"C",0,0.15,3,1,0,0,2.5,2.5,true,0.5,0.35,0,0.33333333333333331,0.33333333333333331,0.41666666666666669,0.41666666666666669,0.20200000000000001,1.5618811881188119E-2,0.10100000000000001,1.5618811881188119E-2,7.0699999999999999E-2,1.5618811881188119E-2,9.3999999999999997E-4,1.0575000000000001E-3,0.41666666666666669,0.16666666666666657,0.41666666666666669,0.44440000000000002,8.9278234567901245E-3,2.9626666666666668,2.9626666666666668,0.20200000000000001,5.0115000000000003E-3,1.3466666666666669,1.3466666666666669,0.37168000000000001,7.7488574382716053E-3,2.4778666666666669,2.4778666666666669]
[null,null,null,null,null,null,null,null,null,null,"C",null,null,{"$f":"INDEX(Laste,ROW()-30+9*(2-Makro!$A$2),1)","v":9},{"$f":"INDEX(Laste,ROW()-30+9*(2-Makro!$A$2),2)","v":190},{"$f":"INDEX(Laste,ROW()-30+9*(2-Makro!$A$2),3)","v":3},13,16,{"$f":"S32","v":0.94},null,null,null,null,null,null,null,null,null,null,null,null,null,null,null,null,null,null,null,null,null,null,null,null,null,null,null,null,null,null,null,null,null,null,null,null,null,null,null,null,null,null,null,"D",0,0.15,3,1,0,0,2.5,2.5,true,0.5,0.35,0,0.33333333333333331,0.33333333333333331,0.41666666666666669,0.41666666666666669,0.20899999999999999,1.4649122807017544E-2,0.1045,1.4649122807017544E-2,7.3149999999999993E-2,1.4649122807017544E-2,9.3999999999999997E-4,1.0575000000000001E-3,0.41666666666666669,0.16666666666666657,0.41666666666666669,0.45979999999999999,8.7224901234567893E-3,3.0653333333333332,3.0653333333333332,0.20899999999999999,4.918166666666667E-3,1.3933333333333333,1.3933333333333333,0.38455999999999996,7.5771241049382718E-3,2.563733333333333,2.563733333333333]
[null,null,null,null,null,null,null,null,null,null,"D",null,null,{"$f":"INDEX(Laste,ROW()-30+9*(2-Makro!$A$2),1)","v":9},{"$f":"INDEX(Laste,ROW()-30+9*(2-Makro!$A$2),2)","v":190},{"$f":"INDEX(Laste,ROW()-30+9*(2-Makro!$A$2),3)","v":10},13,16,{"$f":"S33","v":0.94},null,null,null,null,null,null,null,null,null,null,null,null,null,null,null,null,null,null,null,null,null,null,null,null,null,null,null,null,null,null,null,null,null,null,null,null,null,null,null,null,null,null,null,"E",0,0.15,3,1,0,0,2.5,2.5,true,0.5,0.35,0,0.33333333333333331,0.33333333333333331,0.41666666666666669,0.41666666666666669,0.16600000000000001,1.6315261044176708E-2,8.3000000000000004E-2,1.6315261044176708E-2,5.8099999999999999E-2,1.6315261044176708E-2,4.6999999999999999E-4,5.2875000000000003E-4,0.41666666666666669,0.16666666666666657,0.41666666666666669,0.36519999999999997,6.9517450617283963E-3,2.4346666666666668,2.4346666666666668,0.16600000000000001,3.6365833333333341E-3,1.1066666666666667,1.1066666666666667,0.30543999999999999,5.9551620524691366E-3,2.0362666666666667,2.0362666666666667]
[null,null,null,null,null,null,null,null,null,null,"E","Med reduceret vind",null,{"$f":"INDEX(Laste,ROW()-30+9*(2-Makro!$A$2),1)","v":13},{"$f":"INDEX(Laste,ROW()-30+9*(2-Makro!$A$2),2)","v":150},{"$f":"INDEX(Laste,ROW()-30+9*(2-Makro!$A$2),3)","v":3},13,16,0.47,null,null,null,null,null,null,null,null,null,null,null,null,null,null,null,null,null,null,null,null,null,null,null,null,null,null,null,null,null,null,null,null,null,null,null,null,null,null,null,null,null,null,null,"F",0,0.15,3,1,0,0,2.5,2.5,true,0.5,0.35,0,0.33333333333333331,0.33333333333333331,0.41666666666666669,0.41666666666666669,0.20599999999999999,1.6059870550161812E-2,0.10299999999999999,1.6059870550161812E-2,7.2099999999999997E-2,1.6059870550161812E-2,4.6999999999999999E-4,5.2875000000000003E-4,0.41666666666666669,0.16666666666666657,0.41666666666666669,0.45319999999999994,8.2717450617283937E-3,3.0213333333333332,3.0213333333333332,0.20599999999999999,4.2365833333333335E-3,1.3733333333333333,1.3733333333333333,0.37903999999999999,7.0591620524691357E-3,2.5269333333333335,2.5269333333333335]
[null,null,null,null,null,null,null,null,null,null,"F",null,null,{"$f":"INDEX(Laste,ROW()-30+9*(2-Makro!$A$2),1)","v":13},{"$f":"INDEX(Laste,ROW()-30+9*(2-Makro!$A$2),2)","v":190},{"$f":"INDEX(Laste,ROW()-30+9*(2-Makro!$A$2),3)","v":3},13,16,{"$f":"S35","v":0.47},null,null,null,null,null,null,null,null,null,null,null,null,null,null,null,null,null,null,null,null,null,null,null,null,null,null,null,null,null,null,null,null,null,null,null,null,null,null,null,null,null,null,null,"G",0,0.15,3,1,0,0,2.5,2.5,true,0.5,0.35,0,0.33333333333333331,0.33333333333333331,0.41666666666666669,0.41666666666666669,0.23,1.2992753623188406E-2,0.115,1.2992753623188406E-2,8.0500000000000002E-2,1.2992753623188406E-2,4.6999999999999999E-4,5.2875000000000003E-4,0.41666666666666669,0.16666666666666657,0.41666666666666669,0.50600000000000001,7.5677450617283957E-3,3.3733333333333335,3.3733333333333335,0.23,3.9165833333333335E-3,1.5333333333333334,1.5333333333333334,0.42320000000000002,6.4703620524691361E-3,2.8213333333333335,2.8213333333333335]
[null,null,null,null,null,null,null,null,null,null,"G",null,null,{"$f":"INDEX(Laste,ROW()-30+9*(2-Makro!$A$2),1)","v":13},{"$f":"INDEX(Laste,ROW()-30+9*(2-Makro!$A$2),2)","v":190},{"$f":"INDEX(Laste,ROW()-30+9*(2-Makro!$A$2),3)","v":27},13,16,{"$f":"S36","v":0.47},null,null,null,null,null,null,null,null,null,null,null,null,null,null,null,null,null,null,null,null,null,null,null,null,"x","y","x","y","x","y","x","y","x","y","x","y","x","y","x","y",null,null,null,"H",0,0.15,3,1,0,0,2.5,2.5,true,0.5,0.35,0,0.33333333333333331,0.33333333333333331,0.41666666666666669,0.41666666666666669,0.216,1.6010802469135804E-2,0.108,1.6010802469135804E-2,7.5600000000000001E-2,1.6010802469135804E-2,4.6999999999999999E-4,5.2875000000000003E-4,0.41666666666666669,0.16666666666666657,0.41666666666666669,0.47519999999999996,8.6017450617283941E-3,3.1679999999999997,3.1679999999999997,0.216,4.3865833333333335E-3,1.44,1.44,0.39744000000000002,7.3351620524691359E-3,2.6496000000000004,2.6496000000000004]
[null,null,null,null,null,null,null,null,null,null,"H",null,null,{"$f":"INDEX(Laste,ROW()-30+9*(2-Makro!$A$2),1)","v":13},{"$f":"INDEX(Laste,ROW()-30+9*(2-Makro!$A$2),2)","v":200},{"$f":"INDEX(Laste,ROW()-30+9*(2-Makro!$A$2),3)","v":3},13,16,{"$f":"S37","v":0.47},null," NB:  Resultaterne skal altid kontrolleres af ansvarlig statiker",null,null,null,null,null,null,null,null,null,null,null,null,null,null,null,null,"VÆGFELT:",1,null,null,null,null,{"$f":"AS10","v":0},{"$f":"AT10","v":0},{"$f":"AS10","v":0},{"$f":"AT10","v":0},{"$f":"AT38","v":0},{"$f":"AU38","v":0},{"$f":"AT38","v":0},{"$f":"AU38","v":0},{"$f":"AT38","v":0},{"$f":"AU38","v":0},{"$f":"AT38","v":0},{"$f":"AU38","v":0},{"$f":"BB38","v":0},{"$f":"BC38","v":0},{"$f":"BD38","v":0},{"$f":"BE38","v":0},null,null,null,"I",0,0.15,3,1,0,0,2.5,2.5,true,0.5,0.35,0,0.33333333333333331,0.33333333333333331,0.41666666666666669,0.41666666666666669,0.24,1.3076388888888889E-2,0.12,1.3076388888888889E-2,8.3999999999999991E-2,1.3076388888888889E-2,4.6999999999999999E-4,5.2875000000000003E-4,0.41666666666666669,0.16666666666666657,0.41666666666666669,0.52800000000000002,7.8977450617283944E-3,3.5200000000000005,3.5200000000000005,0.24,4.0665833333333335E-3,1.6,1.6,0.44159999999999999,6.7463620524691355E-3,2.944,2.944]
[null,null,null,null,null,null,null,null,null,null,"I",null,null,{"$f":"INDEX(Laste,ROW()-30+9*(2-Makro!$A$2),1)","v":13},{"$f":"INDEX(Laste,ROW()-30+9*(2-Makro!$A$2),2)","v":200},{"$f":"INDEX(Laste,ROW()-30+9*(2-Makro!$A$2),3)","v":27},13,16,{"$f":"S38","v":0.47},null,null,null,null,null,null,null,null,null,null,null,null,null,null,null,null,null,null,null,null,null,null,null,null,{"$f":"AS15","v":7000},0,{"$f":"AW10","v":1000},{"$f":"AU38","v":0},1000,0,1000,0,1000,0,{"$f":"AS11","v":3500},{"$f":"AU39","v":0},3500,0,{"$f":"AU10","v":5500},0,null,null,"Felt 4",null,{"$f":"$AC$13/1000","v":0},{"$f":"$M$18/1000","v":0.15},{"$f":"$BG$107/1000","v":3},{"$f":"($BG$11-$BG$10)/1000","v":0.8},{"$f":"($BG$16-$BG$17)/1000","v":0},{"$f":"($BG$12-$BG$13)/1000","v":0},{"$f":"$BH$16/1000","v":2.5},{"$f":"$BH$13/1000","v":3},false,{"$f":"BV29","v":0.35},{"$f":"IF(AND(Makro!$D$5,Makro!$A$4=1),$BC$80,0)","v":0},{"$f":"BG105","v":0},{"$f":"BG110/M16","v":0.26666666666666666},{"$f":"BG112/M16","v":0.26666666666666666},{"$f":"BP39+BR39/6","v":0.41666666666666669},{"$f":"BQ39+BS39/6","v":0.5}]
[null,null,null,null,null,null,null,null,null,null," Excentricitet, top (mm):",null,null,50,15,40,40,40,null,null,null,null,null,null,null,null,null,null,null,null,null,null,null,null,null,null,null,null,null,null,null,null,null,7000,3000,{"$f":"AT39","v":1000},{"$f":"AX13","v":2500},1000,2500,1000,2500,1000,2500,{"$f":"BB39","v":3500},{"$f":"AT12","v":2500},3500,2500,{"$f":"BF39","v":5500},{"$f":"AV13","v":2500},null,null,"Lasttilfælde",{"$f":"K31","v":"A"},{"$f":"BL39","v":0},{"$f":"BM39","v":0.15},{"$f":"BN39","v":3},{"$f":"BO39","v":0.8},{"$f":"BP39","v":0},{"$f":"BQ39","v":0},{"$f":"BR39","v":2.5},{"$f":"BS39","v":3},{"$f":"BT39","v":false},{"$f":"BU39","v":0.35},{"$f":"BV39","v":0},{"$f":"BW39","v":0},{"$f":"BX39","v":0.26666666666666666},{"$f":"BY39","v":0.26666666666666666},{"$f":"BZ39","v":0.41666666666666669},{"$f":"CA39","v":0.5},{"$f":"CB30","v":0.159},{"$f":"CC30","v":1.5345911949685535E-2},{"$f":"CF30","v":5.5649999999999998E-2},{"$f":"CG30","v":1.5345911949685535E-2},{"$f":"BC84/1000","v":0},{"$f":"BD84/1000","v":{"$error":"#DIV/0!"}},{"$f":"CH30","v":9.3999999999999997E-4},{"$f":"0.125*CH40*BN40^2","v":1.0575000000000001E-3},{"$f":"IF(BZ40+CA40<=BO40,BZ40,MIN(IF(CD40=0,0,BO40*CD40/(CD40+CF40)),BZ40))","v":0.41666666666666669},{"$f":"BO40-CJ40-CL40","v":0.38333333333333336},{"$f":"IF(BZ40+CA40<=BO40,CA40,MIN(IF(CF40=0,0,BO40*CF40/(CD40+CF40)),CA40))","v":0},{"$f":"IF(CJ40=0,0,CB40+CD40/CJ40)","v":0.29255999999999999},{"$f":"IF(BT30,IF(CJ40=0,CC40*CB40,CC40*CB40+CE40*CD40/CJ40)+CI40+IF(BW40=0,CH40*BU40*BN40*IF(BX40>1,0.27,BX40^-1/8-29*BX40^2/800+141*BX40/800)+CH40*BV40*BN40*IF(BY40>1.5,0,BY40^-1/8+2*BY40^2/27-BY40/6),IF(BX40<0.2,CH40*BU40*BN40*0.6*BX40,CH40*BU40*BN40*IF(BX40<1,(1125*BX40^3-3225*BX40^2+3075*BX40-111)/3200,0.27))),0)","v":6.0536009833333333E-3},{"$f":"CM40/($BM40)-6*($BL40/($BL40-CM40))*(CN40/$BM40^2)","v":1.9503999999999999},{"$f":"CM40/($BM40)+6*($BL40/($BL40-CM40))*(CN40/$BM40^2)","v":1.9503999999999999},{"$f":"IF(CK40=0,CM40,CB40)","v":0.159},{"$f":"IF(CK40=0,CN40,CC40*CB40+CI40+IF(BW40=0,CH40*(BU40+BV40)/BO40,0))","v":3.9087500000000008E-3},{"$f":"CQ40/($BM40)-6*($BL40/($BL40-CQ40))*(CR40/$BM40^2)","v":1.06},{"$f":"CQ40/($BM40)+6*($BL40/($BL40-CQ40))*(CR40/$BM40^2)","v":1.06},{"$f":"IF(CL40=0,0,CB40+CF40/CL40)","v":0},{"$f":"IF(BT30,IF(CL40=0,CC40*CB40,CC40*CB40+CF40*CG40/CL40)+CI40+IF(BW40=0,CH40*BV40*BN40*IF(BY40>1,0.27,BY40^-1/8-29*BY40^2/800+141*BY40/800)+CH40*BU40*BN40*IF(BX40>1.5,0,BX40^-1/8+2*BX40^2/27-BX40/6),IF(BY40<0.2,CH40*BV40*BN40*0.6*BY40,CH40*BV40*BN40*IF(BY40<1,(1125*BY40^3-3225*BY40^2+3075*BY40-111)/3200,0.27))),0)","v":3.9214885956790129E-3},{"$f":"CU40/($BM40)-6*($BL40/($BL40-CU40))*(CV40/$BM40^2)","v":{"$error":"#DIV/0!"}},{"$f":"CU40/($BM40)+6*($BL40/($BL40-CU40))*(CV40/$BM40^2)","v":{"$error":"#DIV/0!"}}]
[null,null,null,null,null,null,null,null,null,null," Excentricitet, eff. (mm) :",null,null,{"$f":"2*N40/3+$O$40/3","v":38.333333333333336},{"$f":"2*O40/3+$O$40/3","v":15},{"$f":"2*P40/3-$P$40/3","v":13.333333333333334},null,{"$f":"2*R40/3+$AC$11","v":26.666666666666668},null,null,"Vejledning:","Betonelementbyggeriers statik",null,null,null,null,null,null,null,null,null,null,null,null,null,null,null,null,null,null,null,null,null,7000,3000,{"$f":"AT40-$AP$20","v":1000},{"$f":"AU40","v":2500},1000,2500,1000,2500,1000,2500,{"$f":"BB40-$AP$20","v":3500},{"$f":"BC40","v":2500},3500,2500,{"$f":"BF40-$AP$20","v":5500},{"$f":"BG40","v":2500},null,null,null,"B",{"$f":"BL40","v":0},0.15,{"$f":"BN40","v":3},{"$f":"BO40","v":0.8},0,0,2.5,3,false,0.35,0,0,0.26666666666666666,0.26666666666666666,0.41666666666666669,0.5,0.16200000000000001,1.5771604938271604E-2,{"$f":"CF31","v":5.67E-2},{"$f":"CG31","v":1.5771604938271604E-2},{"$f":"BC85/1000","v":0},{"$f":"BD85/1000","v":{"$error":"#DIV/0!"}},9.3999999999999997E-4,1.0575000000000001E-3,{"$f":"IF(BZ41+CA41<=BO41,BZ41,MIN(IF(CD41=0,0,BO41*CD41/(CD41+CF41)),BZ41))","v":0.41666666666666669},0.38333333333333336,{"$f":"IF(BZ41+CA41<=BO41,CA41,MIN(IF(CF41=0,0,BO41*CF41/(CD41+CF41)),CA41))","v":0},{"$f":"IF(CJ41=0,0,CB41+CD41/CJ41)","v":0.29808000000000001},{"$f":"IF(BT31,IF(CJ41=0,CC41*CB41,CC41*CB41+CE41*CD41/CJ41)+CI41+IF(BW41=0,CH41*BU41*BN41*IF(BX41>1,0.27,BX41^-1/8-29*BX41^2/800+141*BX41/800)+CH41*BV41*BN41*IF(BY41>1.5,0,BY41^-1/8+2*BY41^2/27-BY41/6),IF(BX41<0.2,CH41*BU41*BN41*0.6*BX41,CH41*BU41*BN41*IF(BX41<1,(1125*BX41^3-3225*BX41^2+3075*BX41-111)/3200,0.27))),0)","v":6.2652009833333334E-3},{"$f":"CM41/($BM41)-6*($BL41/($BL41-CM41))*(CN41/$BM41^2)","v":1.9872000000000001},{"$f":"CM41/($BM41)+6*($BL41/($BL41-CM41))*(CN41/$BM41^2)","v":1.9872000000000001},{"$f":"IF(CK41=0,CM41,CB41)","v":0.16200000000000001},{"$f":"IF(CK41=0,CN41,CC41*CB41+CI41+IF(BW41=0,CH41*(BU41+BV41)/BO41,0))","v":4.0237500000000004E-3},{"$f":"CQ41/($BM41)-6*($BL41/($BL41-CQ41))*(CR41/$BM41^2)","v":1.08},{"$f":"CQ41/($BM41)+6*($BL41/($BL41-CQ41))*(CR41/$BM41^2)","v":1.08},{"$f":"IF(CL41=0,0,CB41+CF41/CL41)","v":0},{"$f":"IF(BT31,IF(CL41=0,CC41*CB41,CC41*CB41+CF41*CG41/CL41)+CI41+IF(BW41=0,CH41*BV41*BN41*IF(BY41>1,0.27,BY41^-1/8-29*BY41^2/800+141*BY41/800)+CH41*BU41*BN41*IF(BX41>1.5,0,BX41^-1/8+2*BX41^2/27-BX41/6),IF(BY41<0.2,CH41*BV41*BN41*0.6*BY41,CH41*BV41*BN41*IF(BY41<1,(1125*BY41^3-3225*BY41^2+3075*BY41-111)/3200,0.27))),0)","v":4.0364885956790126E-3},{"$f":"CU41/($BM41)-6*($BL41/($BL41-CU41))*(CV41/$BM41^2)","v":{"$error":"#DIV/0!"}},{"$f":"CU41/($BM41)+6*($BL41/($BL41-CU41))*(CV41/$BM41^2)","v":{"$error":"#DIV/0!"}}]
[null,null,null,null,null,null,null,null,null,null,null,null,null,null,null,null,null,null,null,null,null,null,null,null,null,null,null,null,null,null,null,null,null,null,null,null,null,null,null,null,null,null,null,7000,3000,{"$f":"AT41","v":1000},{"$f":"AS42","v":3000},1000,3000,1000,3000,1000,3000,{"$f":"BB41","v":3500},{"$f":"AU42","v":3000},3500,3000,{"$f":"BF41","v":5500},3000,null,null,null,"C",0,0.15,3,0.8,0,0,2.5,3,false,0.35,0,0,0.26666666666666666,0.26666666666666666,0.41666666666666669,0.5,0.20200000000000001,1.5618811881188119E-2,7.0699999999999999E-2,1.5618811881188119E-2,0,{"$error":"#DIV/0!"},9.3999999999999997E-4,1.0575000000000001E-3,0.41666666666666669,0.38333333333333336,0,0.37168000000000001,7.3692009833333334E-3,2.4778666666666669,2.4778666666666669,0.20200000000000001,4.6237500000000003E-3,1.3466666666666669,1.3466666666666669,0,4.6364885956790124E-3,{"$error":"#DIV/0!"},{"$error":"#DIV/0!"}]
[null,null,null,null,null,null,null,null,null,null,null,null,null,null,null,null,null,null,null,null,null,null,null,null,null,null,null,null,null,null,null,null,null,null,null,null,null,null,null,null,null,null,null,150,3000,{"$f":"AR43","v":150},{"$f":"AS43","v":3000},150,3000,150,3000,150,3000,{"$f":"AT43","v":150},3000,150,3000,{"$f":"BD43","v":150},3000,null,null,null,"D",0,0.15,3,0.8,0,0,2.5,3,false,0.35,0,0,0.26666666666666666,0.26666666666666666,0.41666666666666669,0.5,0.20899999999999999,1.4649122807017544E-2,7.3149999999999993E-2,1.4649122807017544E-2,0,{"$error":"#DIV/0!"},9.3999999999999997E-4,1.0575000000000001E-3,0.41666666666666669,0.38333333333333336,0,0.38455999999999996,7.1974676499999999E-3,2.563733333333333,2.563733333333333,0.20899999999999999,4.530416666666667E-3,1.3933333333333333,1.3933333333333333,0,4.5431552623456791E-3,{"$error":"#DIV/0!"},{"$error":"#DIV/0!"}]
[null,null,null,null,null,null,null,null,null,null,null,null,null,null,null,null,null,null,null,null,null,null,null,null,null,null,null,null,null,null,null,null,null,null,null,null,null,null,null,null,null,null,null,150,2500,{"$f":"AR44","v":150},{"$f":"AS44","v":2500},150,2500,150,2500,150,2500,{"$f":"AT44","v":150},2500,150,2500,{"$f":"BD44","v":150},2500,null,null,null,"E",0,0.15,3,0.8,0,0,2.5,3,false,0.35,0,0,0.26666666666666666,0.26666666666666666,0.41666666666666669,0.5,0.16600000000000001,1.6315261044176708E-2,5.8099999999999999E-2,1.6315261044176708E-2,0,{"$error":"#DIV/0!"},4.6999999999999999E-4,5.2875000000000003E-4,0.41666666666666669,0.38333333333333336,0,0.30543999999999999,5.7653338250000007E-3,2.0362666666666667,2.0362666666666667,0.16600000000000001,3.4427083333333341E-3,1.1066666666666667,1.1066666666666667,0,3.4490776311728402E-3,{"$error":"#DIV/0!"},{"$error":"#DIV/0!"}]
[null,null,null,null,null,null,null,null,null,null,null,null,null,null,null,null,null,null,null,null,null,null,null,null,null,null,null,null,null,null,null,null,null,null,null,null,null,null,null,null,null,null,null,0,2500,{"$f":"AR45","v":0},{"$f":"AS45","v":2500},0,2500,0,2500,0,2500,{"$f":"AT45","v":0},2500,0,2500,{"$f":"BD45","v":0},2500,null,null,null,"F",0,0.15,3,0.8,0,0,2.5,3,false,0.35,0,0,0.26666666666666666,0.26666666666666666,0.41666666666666669,0.5,0.20599999999999999,1.6059870550161812E-2,7.2099999999999997E-2,1.6059870550161812E-2,0,{"$error":"#DIV/0!"},4.6999999999999999E-4,5.2875000000000003E-4,{"$f":"IF(BZ45+CA45<=BO45,BZ45,MIN(IF(CD45=0,0,BO45*CD45/(CD45+CF45)),BZ45))","v":0.41666666666666669},0.38333333333333336,0,0.37903999999999999,6.8693338249999998E-3,2.5269333333333335,2.5269333333333335,0.20599999999999999,4.042708333333333E-3,1.3733333333333333,1.3733333333333333,0,4.0490776311728396E-3,{"$error":"#DIV/0!"},{"$error":"#DIV/0!"}]
[null,null,null,null,null,null,null,null,null,null,null,null,null,null,null,null,null,null,null,null,null,null,null,null,null,null,null,null,null,null,null,null,null,null,null,null,null,null,null,null,null,null,null,0,0,{"$f":"AR46","v":0},{"$f":"AS46","v":0},0,0,0,0,0,0,{"$f":"AT46","v":0},0,0,0,{"$f":"BD46","v":0},0,null,null,null,"G",0,0.15,3,0.8,0,0,2.5,3,false,0.35,0,0,0.26666666666666666,0.26666666666666666,0.41666666666666669,0.5,0.23,1.2992753623188406E-2,8.0500000000000002E-2,1.2992753623188406E-2,0,{"$error":"#DIV/0!"},4.6999999999999999E-4,5.2875000000000003E-4,0.41666666666666669,0.38333333333333336,0,0.42320000000000002,6.2805338250000002E-3,2.8213333333333335,2.8213333333333335,0.23,3.7227083333333339E-3,1.5333333333333334,1.5333333333333334,0,3.72907763117284E-3,{"$error":"#DIV/0!"},{"$error":"#DIV/0!"}]
[null,null,null,null,null,null,null,null,null,null,null,null,null,null,null,null,null,null,null,null,null,null,null,null,null,null,null,null,null,null,null,null,null,null,null,null,null,"VÆGFELT:",2,null,null,null,null,1000000,1000000,{"$f":"AW11","v":2500},0,{"$f":"AW11","v":2500},0,{"$f":"AV47","v":2500},{"$f":"AW47","v":0},{"$f":"AW11","v":2500},0,{"$f":"AS14","v":4500},0,4500,0,{"$f":"AU11","v":6200},0,null,null,null,"H",0,0.15,3,0.8,0,0,2.5,3,false,0.35,0,0,0.26666666666666666,0.26666666666666666,0.41666666666666669,0.5,0.216,1.6010802469135804E-2,7.5600000000000001E-2,1.6010802469135804E-2,0,{"$error":"#DIV/0!"},4.6999999999999999E-4,5.2875000000000003E-4,0.41666666666666669,0.38333333333333336,0,0.39744000000000002,7.145333825E-3,2.6496000000000004,2.6496000000000004,0.216,4.1927083333333339E-3,1.44,1.44,0,4.1990776311728404E-3,{"$error":"#DIV/0!"},{"$error":"#DIV/0!"}]
[null,null,null,null,null,null,null,null,null,null,null,null,null,null,null,null,null,null,null,null,null,null,null,null,null,null,null,null,null,null,null,null,null,null,null,null,null,null,null,null,null,null,null,1000000,1000000,{"$f":"AS15","v":7000},0,{"$f":"AS11","v":3500},{"$f":"AT11","v":0},3500,0,{"$f":"AU10","v":5500},0,{"$f":"AT48","v":7000},0,{"$f":"AZ48","v":5500},0,{"$f":"AT48","v":7000},0,null,null,null,"I",0,0.15,3,0.8,0,0,2.5,3,false,0.35,0,0,0.26666666666666666,0.26666666666666666,0.41666666666666669,0.5,0.24,1.3076388888888889E-2,8.3999999999999991E-2,1.3076388888888889E-2,0,{"$error":"#DIV/0!"},4.6999999999999999E-4,5.2875000000000003E-4,0.41666666666666669,0.38333333333333336,0,0.44159999999999999,6.5565338249999995E-3,2.944,2.944,0.24,3.8727083333333335E-3,1.6,1.6,0,3.8790776311728396E-3,{"$error":"#DIV/0!"},{"$error":"#DIV/0!"}]
[null,null,null,null,null,null,null,null,null,null,null,null,null,null,null,null,null,null,null,null,null,null,null,null,null,null,null,null,null,null,null,null,null,null,null,null,null,null,null,null,null,null,null,1000000,1000000,7000,3000,{"$f":"AV48","v":3500},{"$f":"AT12","v":2500},3500,2500,{"$f":"AZ48","v":5500},{"$f":"AV13","v":2500},7000,3000,5500,2500,7000,3000]
[null,null,null,null,null,null,null,null,null,null,null,null,null,null,null,null,null,null,null,null,null,null,null,null,null,null,null,null,null,null,null,null,null,null,null,null,null,null,null,null,null,null,null,1000000,1000000,7000,3000,{"$f":"AV49-$AP$20","v":3500},{"$f":"AW49","v":2500},3500,2500,{"$f":"AZ49-$AP$20","v":5500},{"$f":"BA49","v":2500},7000,3000,5500,2500,7000,3000]
[null,null,null,null,null,null,null,null,null,null,null,null,null,null,null,null,null,null,null,null,null,null,null,null,null,null,null,null,null,null,null,null,null,null,null,null,null,null,null,null,null,null,null,1000000,1000000,7000,3000,{"$f":"AV50","v":3500},{"$f":"AU51","v":3000},3500,3000,{"$f":"AZ50","v":5500},{"$f":"AY51","v":3000},7000,3000,5500,3000,7000,3000]
[null,null,null,null,null,null,null,null,null,null,null,null,null,null,null,null,null,null,null,null,null,null,null,null,null,null,null,null,null,null,null,null,null,null,null,null,null,null,null,null,null,null,null,1000000,1000000,{"$f":"AT47+$AP$20","v":2500},{"$f":"AU51","v":3000},{"$f":"AT52","v":2500},{"$f":"AU52","v":3000},2500,3000,{"$f":"AT52","v":2500},3000,{"$f":"AS13+$AP$20","v":4500},{"$f":"BC51","v":3000},{"$f":"BB52","v":4500},3000,{"$f":"BF47+$AP$20","v":6200},{"$f":"BG51","v":3000},null,null,null,null,null,null,null,null,null,null,null,null,null,null,null,null,null,null,null,null,null,null,null,null,null,null,null,null,null,null,null,null,null,"Venstre",null,null,null,"Midt",null,null,null,"Højre",null,null,null,null,null,null,null,null,null,"Momentbæreevne (n)",null,"Momentbæreevne (n)",null,"Momentbæreevne (n)",null,"Brud"]
[null,null,null,null,null,null,null,null,null,null,null,null,null,null,null,null,null,null,null,null,null,null,null,null,null,null,null,null,null,null,null,null,null,null,null,null,null,null,null,null,null,null,null,1000000,1000000,{"$f":"AT52","v":2500},{"$f":"AX12","v":2500},{"$f":"AT53","v":2500},{"$f":"AU53","v":2500},2500,2500,2500,2500,{"$f":"BB52","v":4500},{"$f":"AT13","v":2500},4500,2500,{"$f":"BF52","v":6200},{"$f":"AV12","v":2500},null,null,null,null,null,null,null,null,null,null,null,null,null,null,null,null,null,null,null,null,null,null,null,null,null,null,null,null,null,null,null,null,null,"n-s1","m-s1","n (kN/m)","m (kNm/m)","n-s0","m-s0","n (kN/m)","m (kNm/m)","n-s2","m-s2","n (kN/m)","m (kNm/m)",null,null,null,null,null,null,"Opslagsværdi","bæreevne","Opslagsværdi","bæreevne","Opslagsværdi","bæreevne","1 = ja"]
[null,null,null,null,null,null,null,null,null,null,null,null,null,null,null,null,null,null,null,null,null,null,null,null,null,null,null,null,null,null,null,null,null,null,null,null,null,null,null,null,null,null,null,1000000,1000000,{"$f":"AT53-$AP$20","v":2500},{"$f":"AU53","v":2500},{"$f":"AT54","v":2500},{"$f":"AU54","v":2500},2500,2500,2500,2500,{"$f":"BB53-$AP$20","v":4500},{"$f":"BC53","v":2500},4500,2500,{"$f":"BF53-$AP$20","v":6200},{"$f":"BG53","v":2500},null,null,null,null,null,null,null,null,null,null,null,null,null,null,null,null,null,null,null,null,null,null,null,null,null,null,null,null,null,null,null,"FELT #1: ",null,null,null,null,null,null,null,null,null,null,null,null,null,null,null,null,null,null,null,null,null,null,null,null,null,{"$f":"MAX(DM55:DM63)","v":{"$error":"#VALUE!"}},{"$f":"IF(MAX(DM55:DM63)=0,\"\",CM54&\"Last \"&DN55&DN56&DN57&DN58&DN59&DN60&DN61&DN62&DN63)","v":{"$error":"#VALUE!"}}]
[null,null,null,null,null,null,null,null,null,null,null,null,null,null,null,null,null,null,null,null,null,null,null,null,null,null,null,null,null,null,null,null,null,null,null,null,null,null,null,null,null,null,null,1000000,1000000,{"$f":"AT47","v":2500},{"$f":"AU47","v":0},{"$f":"AT55","v":2500},{"$f":"AU55","v":0},2500,0,2500,0,{"$f":"BB47","v":4500},{"$f":"BC47","v":0},4500,0,{"$f":"BF47","v":6200},{"$f":"BG47","v":0},null,null,null,null,null,null,null,null,null,null,null,null,null,null,null,null,null,null,null,null,null,null,null,null,null,null,null,null,null,null,true,"Lasttilfælde","A, ",{"$f":"CM10*1000","v":159},{"$f":"CN10","v":4.1905324074074084E-3},{"$f":"IF($CM$56=TRUE,IF($CL55=TRUE,CO55,-10),-10)","v":159},{"$f":"IF($CM$56=TRUE,IF($CL55=TRUE,CP55*1000,-10),-10)","v":4.1905324074074084},{"$f":"CQ10*1000","v":159},{"$f":"CR10","v":4.2025000000000005E-3},{"$f":"IF($CM$56=TRUE,IF($CL55=TRUE,CS55,-10),-10)","v":159},{"$f":"IF($CM$56=TRUE,IF($CL55=TRUE,CT55*1000,-10),-10)","v":4.2025000000000006},{"$f":"CU10*1000","v":445.19999999999993},{"$f":"CV10","v":8.7983625000000003E-3},{"$f":"IF($CM$56=TRUE,IF($CL55=TRUE,CW55,-10),-10)","v":445.19999999999993},{"$f":"IF($CM$56=TRUE,IF($CL55=TRUE,CX55*1000,-10),-10)","v":8.7983624999999996},null,{"$f":"MAX(CQ55,CU55,CY55)","v":445.19999999999993},{"$f":"DB55-CQ55","v":286.19999999999993},{"$f":"CU55-DB55","v":-286.19999999999993},{"$f":"CY55-DB55","v":0},{"$f":"IF(DC55=0,CR55,IF(DD55=0,CV55,IF(DE55=0,CZ55,\"FEJL\")))","v":8.7983624999999996},{"$f":"MATCH(VLOOKUP(CO55,$B$109:$C$130,1),$B$109:$B$130,0)","v":5},{"$f":"INDEX($B$109:$C$130,DG55,2,1)\n+(INDEX($B$109:$C$130,DG55+1,2,1)-INDEX($B$109:$C$130,DG55,2,1))\n*(CO55-INDEX($B$109:$C$130,DG55,1,1))\n/(INDEX($B$109:$C$130,DG55+1,1,1)-INDEX($B$109:$C$130,DG55,1,1))","v":{"$error":"#VALUE!"}},{"$f":"MATCH(VLOOKUP(CS55,$B$109:$C$130,1),$B$109:$B$130,0)","v":5},{"$f":"INDEX($B$109:$C$130,DI55,2,1)\n+(INDEX($B$109:$C$130,DI55+1,2,1)-INDEX($B$109:$C$130,DI55,2,1))\n*(CS55-INDEX($B$109:$C$130,DI55,1,1))\n/(INDEX($B$109:$C$130,DI55+1,1,1)-INDEX($B$109:$C$130,DI55,1,1))","v":{"$error":"#VALUE!"}},{"$f":"MATCH(VLOOKUP(CW55,$B$109:$C$130,1),$B$109:$B$130,0)","v":11},{"$f":"INDEX($B$109:$C$130,DK55,2,1)\n+(INDEX($B$109:$C$130,DK55+1,2,1)-INDEX($B$109:$C$130,DK55,2,1))\n*(CW55-INDEX($B$109:$C$130,DK55,1,1))\n/(INDEX($B$109:$C$130,DK55+1,1,1)-INDEX($B$109:$C$130,DK55,1,1))","v":{"$error":"#VALUE!"}},{"$f":"IF(DH55<CP55*1000,1,IF(DJ55<CT55*1000,1,IF(DL55<CX55*1000,1,0)))","v":{"$error":"#VALUE!"}},{"$f":"IF(DM55=0,\"\",CN55)","v":{"$error":"#VALUE!"}}]
[null,null,null,null,null,null,null,null,null,null,null,null,null,null,null,null,null,null,null,null,null,null,null,null,null,null,null,null,null,null,null,null,null,null,null,null,null,"VÆGFELT:",3,null,null,null,null,1000000,1000000,1000000,1000000,{"$f":"BB47","v":4500},{"$f":"BC47","v":0},{"$f":"BD47","v":4500},{"$f":"BE47","v":0},{"$f":"BF47","v":6200},{"$f":"BG47","v":0},1000000,1000000,{"$f":"AZ56","v":6200},{"$f":"BA56","v":0},1000000,1000000,null,null,null,null,null,null,null,null,null,null,null,null,null,null,null,null,null,null,null,null,null,null,null,null,null,null,null,null,null,null,true,{"$f":"IF(Makro!A1=1,TRUE,IF(Makro!A1=5,TRUE,FALSE))","v":true},"B, ",{"$f":"CM11*1000","v":162},4.3055324074074081E-3,{"$f":"IF($CM$56=TRUE,IF($CL56=TRUE,CO56,-10),-10)","v":162},4.3055324074074077,{"$f":"CQ11*1000","v":162},4.3175000000000002E-3,{"$f":"IF($CM$56=TRUE,IF($CL56=TRUE,CS56,-10),-10)","v":162},4.3174999999999999,{"$f":"CU11*1000","v":453.6},9.1203624999999997E-3,{"$f":"IF($CM$56=TRUE,IF($CL56=TRUE,CW56,-10),-10)","v":453.6},9.1203624999999988,null,{"$f":"MAX(CQ56,CU56,CY56)","v":453.6},{"$f":"DB56-CQ56","v":291.60000000000002},{"$f":"CU56-DB56","v":-291.60000000000002},{"$f":"CY56-DB56","v":0},{"$f":"IF(DC56=0,CR56,IF(DD56=0,CV56,IF(DE56=0,CZ56,\"FEJL\")))","v":9.1203624999999988},6,{"$error":"#VALUE!"},6,{"$error":"#VALUE!"},11,{"$error":"#VALUE!"},{"$f":"IF(DH56<CP56*1000,1,IF(DJ56<CT56*1000,1,IF(DL56<CX56*1000,1,0)))","v":{"$error":"#VALUE!"}},{"$error":"#VALUE!"}]
[null,null,null,null,null,null,null,null,null,null,null,null,null,null,null,null,null,null,null,null,null,null,null,null,null,null,null,null,null,null,null,null,null,null,null,null,null,null,null,null,null,null,null,1000000,1000000,1000000,1000000,7000,0,5500,0,7000,0,1000000,1000000,{"$f":"AZ57","v":7000},0,1000000,1000000,null,null,null,null,null,null,null,null,null,null,null,null,null,null,null,null,null,null,null,null,null,null,null,null,null,null,null,null,null,null,true,null,"C, ",202,4.9055324074074079E-3,202,4.9055324074074083,202,4.9175E-3,202,4.9175000000000004,{"$f":"CU12*1000","v":565.60000000000014},1.0800362500000001E-2,565.60000000000014,10.8003625,null,565.60000000000014,363.60000000000014,-363.60000000000014,0,10.8003625,6,{"$error":"#VALUE!"},6,{"$error":"#VALUE!"},14,{"$error":"#VALUE!"},{"$error":"#VALUE!"},{"$error":"#VALUE!"}]
[null,null,null,null,null,null,null,null,null,null,null,null,null,null,null,null,null,null,null,null,null,null,null,null,null,null,null,null,null,null,null,null,null,null,null,null,null,null,null,null,null,null,null,1000000,1000000,1000000,1000000,7000,3000,5500,2500,7000,3000,1000000,1000000,7000,3000,1000000,1000000,null,null,null,null,null,null,null,null,null,null,null,null,null,null,null,null,null,null,null,null,null,null,null,null,null,null,null,null,null,null,true,null,"D, ",209,4.8121990740740746E-3,209,4.8121990740740745,209,4.8241666666666667E-3,209,4.8241666666666667,585.19999999999993,1.0539029166666665E-2,585.19999999999993,10.539029166666666,null,585.19999999999993,376.19999999999993,-376.19999999999993,0,10.539029166666666,6,{"$error":"#VALUE!"},6,{"$error":"#VALUE!"},14,{"$error":"#VALUE!"},{"$error":"#VALUE!"},{"$error":"#VALUE!"}]
[null,null,null,null,null,null,null,null,null,null,null,null,null,null,null,null,null,null,null,null,null,null,null,null,null,null,null,null,null,null,null,null,null,null,null,null,null,null,null,null,null,null,null,1000000,1000000,1000000,1000000,7000,3000,5500,2500,7000,3000,1000000,1000000,7000,3000,1000000,1000000,null,null,null,null,null,null,null,null,null,null,null,null,null,null,null,null,null,null,null,null,null,null,null,null,null,null,null,null,null,null,true,null,"E, ",166,3.5835995370370379E-3,166,3.5835995370370379,166,3.5895833333333339E-3,166,3.589583333333334,464.8,8.5665145833333338E-3,464.8,8.5665145833333334,null,464.8,298.8,-298.8,0,8.5665145833333334,6,{"$error":"#VALUE!"},6,{"$error":"#VALUE!"},12,{"$error":"#VALUE!"},{"$error":"#VALUE!"},{"$error":"#VALUE!"},1]
[null,null,null,null,null,null,null,null,null,null,null,null,null,null,null,null,null,null,null,null,null,null,null,null,null,null,null,null,null,null,null,null,null,null,null,null,null,null,null,null,null,null,null,1000000,1000000,1000000,1000000,7000,3000,5500,3000,7000,3000,1000000,1000000,7000,3000,1000000,1000000,null,null,null,null,null,null,null,null,null,null,null,null,null,null,null,null,null,null,null,null,null,null,null,null,null,null,null,null,null,null,true,null,"F, ",206,4.1835995370370369E-3,206,4.1835995370370371,206,4.1895833333333334E-3,206,4.1895833333333332,576.79999999999995,1.0246514583333331E-2,576.79999999999995,10.246514583333331,null,576.79999999999995,370.79999999999995,-370.79999999999995,0,10.246514583333331,6,{"$error":"#VALUE!"},6,{"$error":"#VALUE!"},14,{"$error":"#VALUE!"},{"$error":"#VALUE!"},{"$error":"#VALUE!"}]
[null,null,null,null,null,null,null,null,null,null,null,null,null,null,null,null,null,null,null,null,null,null,null,null,null,null,null,null,null,null,null,null,null,null,null,null,null,null,null,null,null,null,null,1000000,1000000,1000000,1000000,4500,3000,4500,3000,6200,3000,1000000,1000000,6200,3000,1000000,1000000,null,null,null,null,null,null,null,null,null,null,null,null,null,null,null,null,null,null,null,null,null,null,null,null,null,null,null,null,null,null,true,null,"G, ",230,3.8635995370370378E-3,230,3.8635995370370377,230,3.8695833333333338E-3,230,3.8695833333333338,644,9.3505145833333338E-3,644,9.3505145833333341,null,644,414,-414,0,9.3505145833333341,7,{"$error":"#VALUE!"},7,{"$error":"#VALUE!"},15,{"$error":"#VALUE!"},{"$error":"#VALUE!"},{"$error":"#VALUE!"}]
[null,null,null,null,null,null,null,null,null,null,null,null,null,null,null,null,null,null,null,null,null,null,null,null,null,null,null,null,null,null,null,null,null,null,null,null,null,null,null,null,null,null,null,1000000,1000000,1000000,1000000,4500,2500,4500,2500,6200,2500,1000000,1000000,6200,2500,1000000,1000000,null,null,null,null,null,null,null,null,null,null,null,null,null,null,null,null,null,null,null,null,null,null,null,null,null,null,null,null,null,null,true,null,"H, ",216,4.3335995370370377E-3,216,4.3335995370370375,216,4.3395833333333342E-3,216,4.3395833333333345,604.79999999999995,1.0666514583333335E-2,604.79999999999995,10.666514583333335,null,604.79999999999995,388.79999999999995,-388.79999999999995,0,10.666514583333335,6,{"$error":"#VALUE!"},6,{"$error":"#VALUE!"},15,{"$error":"#VALUE!"},{"$error":"#VALUE!"},{"$error":"#VALUE!"}]
[null,null,null,null,null,null,null,null,null,null,null,null,null,null,null,null,null,null,null,null,null,null,null,null,null,null,null,null,null,null,null,null,null,null,null,null,null,null,null,null,null,null,null,1000000,1000000,1000000,1000000,4500,2500,4500,2500,6200,2500,1000000,1000000,6200,2500,1000000,1000000,null,null,null,null,null,null,null,null,null,null,null,null,null,null,null,null,null,null,null,null,null,null,null,null,null,null,null,null,null,null,true,null,"I, ",240,4.0135995370370369E-3,240,4.0135995370370372,240,4.0195833333333333E-3,240,4.0195833333333333,671.99999999999989,9.7705145833333323E-3,671.99999999999989,9.7705145833333322,null,671.99999999999989,431.99999999999989,-431.99999999999989,0,9.7705145833333322,7,{"$error":"#VALUE!"},7,{"$error":"#VALUE!"},15,{"$error":"#VALUE!"},{"$error":"#VALUE!"},{"$error":"#VALUE!"}]
[null,null,null,null,null,null,null,null,null,null,null,null,null,null,null,null,null,null,null,null,null,null,null,null,null,null,null,null,null,null,null,null,null,null,null,null,null,null,null,null,null,null,null,1000000,1000000,1000000,1000000,4500,0,4500,0,6200,0,1000000,1000000,6200,0,1000000,1000000,null,null,null,null,null,null,null,null,null,null,null,null,null,null,null,null,null,null,null,null,null,null,null,null,null,null,null,null,null,null,null,"FELT #2: ",null,null,null,null,null,null,null,null,null,null,null,null,null,null,null,null,null,null,null,null,null,null,null,null,null,{"$f":"MAX(DM65:DM73)","v":{"$error":"#VALUE!"}},{"$f":"IF(MAX(DM65:DM73)=0,\"\",CM64&\"Last \"&DN65&DN66&DN67&DN68&DN69&DN70&DN71&DN72&DN73)","v":{"$error":"#VALUE!"}}]
[null,null,null,null,null,null,null,null,null,null,null,null,null,null,null,null,null,null,null,null,null,null,null,null,null,null,null,null,null,null,null,null,null,null,null,null,null,"VÆGFELT:",4,null,null,null,null,1000000,1000000,1000000,1000000,1000000,1000000,{"$f":"AZ56","v":6200},{"$f":"BA56","v":0},1000000,1000000,1000000,1000000,1000000,1000000,1000000,1000000,null,null,null,null,null,null,null,null,null,null,null,null,null,null,null,null,null,null,null,null,null,null,null,null,null,null,null,null,null,null,{"$f":"CL55","v":true},"Lasttilfælde","A, ",{"$f":"CM20*1000","v":445.19999999999993},{"$f":"CN20","v":9.2603841049382733E-3},{"$f":"IF($CM$66=TRUE,IF($CL65=TRUE,CO65,-10),-10)","v":-10},{"$f":"IF($CM$66=TRUE,IF(CL65=TRUE,CP65*1000,-10),-10)","v":-10},{"$f":"CQ20*1000","v":159},{"$f":"CR20","v":4.6725000000000004E-3},{"$f":"IF($CM$66=TRUE,IF($CL65=TRUE,CS65,-10),-10)","v":-10},{"$f":"IF($CM$66=TRUE,IF($CL65=TRUE,CT65*1000,-10),-10)","v":-10},{"$f":"CU20*1000","v":349.8},{"$f":"CV20","v":7.7244407407407421E-3},{"$f":"IF($CM$66=TRUE,IF($CL65=TRUE,CW65,-10),-10)","v":-10},{"$f":"IF($CM$66=TRUE,IF($CL65=TRUE,CX65*1000,-10),-10)","v":-10},null,-10,{"$f":"DB65-CQ65","v":0},{"$f":"CU65-DB65","v":0},{"$f":"CY65-DB65","v":0},{"$f":"IF(DC65=0,CR65,IF(DD65=0,CV65,IF(DE65=0,CZ65,\"FEJL\")))","v":-10},{"$f":"MATCH(VLOOKUP(CO65,$B$109:$C$130,1),$B$109:$B$130,0)","v":11},{"$f":"INDEX($B$109:$C$130,DG65,2,1)\n+(INDEX($B$109:$C$130,DG65+1,2,1)-INDEX($B$109:$C$130,DG65,2,1))\n*(CO65-INDEX($B$109:$C$130,DG65,1,1))\n/(INDEX($B$109:$C$130,DG65+1,1,1)-INDEX($B$109:$C$130,DG65,1,1))","v":{"$error":"#VALUE!"}},{"$f":"MATCH(VLOOKUP(CS65,$B$109:$C$130,1),$B$109:$B$130,0)","v":5},{"$f":"INDEX($B$109:$C$130,DI65,2,1)\n+(INDEX($B$109:$C$130,DI65+1,2,1)-INDEX($B$109:$C$130,DI65,2,1))\n*(CS65-INDEX($B$109:$C$130,DI65,1,1))\n/(INDEX($B$109:$C$130,DI65+1,1,1)-INDEX($B$109:$C$130,DI65,1,1))","v":{"$error":"#VALUE!"}},{"$f":"MATCH(VLOOKUP(CW65,$B$109:$C$130,1),$B$109:$B$130,0)","v":8},{"$f":"INDEX($B$109:$C$130,DK65,2,1)\n+(INDEX($B$109:$C$130,DK65+1,2,1)-INDEX($B$109:$C$130,DK65,2,1))\n*(CW65-INDEX($B$109:$C$130,DK65,1,1))\n/(INDEX($B$109:$C$130,DK65+1,1,1)-INDEX($B$109:$C$130,DK65,1,1))","v":{"$error":"#VALUE!"}},{"$f":"IF(DH65<CP65*1000,1,IF(DJ65<CT65*1000,1,IF(DL65<CX65*1000,1,0)))","v":{"$error":"#VALUE!"}},{"$f":"IF(DM65=0,\"\",CN65)","v":{"$error":"#VALUE!"}}]
[null,null,null,null,null,null,null,null,null,null,null,null,null,null,null,null,null,null,null,null,null,null,null,null,null,null,null,null,null,null,null,null,null,null,null,null,null,null,null,null,null,null,null,1000000,1000000,1000000,1000000,1000000,1000000,7000,0,1000000,1000000,1000000,1000000,1000000,1000000,1000000,1000000,null,null,null,null,null,null,null,null,null,null,null,null,null,null,null,null,null,null,null,null,null,null,null,null,null,null,null,null,null,null,{"$f":"CL56","v":true},{"$f":"IF(Makro!A1=2,TRUE,IF(Makro!A1=5,TRUE,FALSE))","v":false},"B, ",{"$f":"CM21*1000","v":453.6},9.5823841049382727E-3,{"$f":"IF($CM$66=TRUE,IF($CL66=TRUE,CO66,-10),-10)","v":-10},-10,{"$f":"CQ21*1000","v":162},4.7875000000000001E-3,{"$f":"IF($CM$66=TRUE,IF($CL66=TRUE,CS66,-10),-10)","v":-10},-10,{"$f":"CU21*1000","v":356.4},7.9774407407407402E-3,{"$f":"IF($CM$66=TRUE,IF($CL66=TRUE,CW66,-10),-10)","v":-10},-10,null,-10,0,0,0,-10,11,{"$error":"#VALUE!"},6,{"$error":"#VALUE!"},8,{"$error":"#VALUE!"},{"$f":"IF(DH66<CP66*1000,1,IF(DJ66<CT66*1000,1,IF(DL66<CX66*1000,1,0)))","v":{"$error":"#VALUE!"}},{"$error":"#VALUE!"}]
[null,null,null,null,null,null,null,null,null,null,null,null,null,null,null,null,null,null,null,null,null,null,null,null,null,null,null,null,null,null,null,null,null,null,null,null,null,null,null,null,null,null,null,1000000,1000000,1000000,1000000,1000000,1000000,7000,3000,1000000,1000000,1000000,1000000,1000000,1000000,1000000,1000000,null,null,null,null,null,null,null,null,null,null,null,null,null,null,null,null,null,null,null,null,null,null,null,null,null,null,null,null,null,null,true,null,"C, ",565.60000000000014,1.1262384104938274E-2,-10,-10,202,5.3874999999999999E-3,-10,-10,{"$f":"CU22*1000","v":444.40000000000003},9.2974407407407419E-3,-10,-10,null,-10,0,0,0,-10,14,{"$error":"#VALUE!"},6,{"$error":"#VALUE!"},11,{"$error":"#VALUE!"},{"$error":"#VALUE!"},{"$error":"#VALUE!"}]
[null,null,null,null,null,null,null,null,null,null,null,null,null,null,null,null,null,null,null,null,null,null,null,null,null,null,null,null,null,null,null,null,null,null,null,null,null,null,null,null,null,null,null,1000000,1000000,1000000,1000000,1000000,1000000,7000,3000,1000000,1000000,1000000,1000000,1000000,1000000,1000000,1000000,null,null,null,null,null,null,null,null,null,null,null,null,null,null,null,null,null,null,null,null,null,null,null,null,null,null,null,null,null,null,true,null,"D, ",585.19999999999993,1.1001050771604938E-2,-10,-10,209,5.2941666666666666E-3,-10,-10,459.8,9.0921074074074067E-3,-10,-10,null,-10,0,0,0,-10,14,{"$error":"#VALUE!"},6,{"$error":"#VALUE!"},12,{"$error":"#VALUE!"},{"$error":"#VALUE!"},{"$error":"#VALUE!"}]
[null,null,null,null,null,null,null,null,null,null,null,null,null,null,null,null,null,null,null,null,null,null,null,null,null,null,null,null,null,null,null,null,null,null,null,null,null,null,null,null,null,null,null,1000000,1000000,1000000,1000000,1000000,1000000,7000,3000,1000000,1000000,1000000,1000000,1000000,1000000,1000000,1000000,null,null,null,null,null,null,null,null,null,null,null,null,null,null,null,null,null,null,null,null,null,null,null,null,null,null,null,null,null,null,true,null,"E, ",464.8,8.7975253858024703E-3,-10,-10,166,3.8245833333333339E-3,-10,-10,365.2,7.136553703703705E-3,-10,-10,null,-10,0,0,0,-10,12,{"$error":"#VALUE!"},6,{"$error":"#VALUE!"},8,{"$error":"#VALUE!"},{"$error":"#VALUE!"},{"$error":"#VALUE!"}]
[null,null,null,null,null,null,null,null,null,null,null,null,null,null,null,null,null,null,null,null,null,null,null,null,null,null,null,null,null,null,null,null,null,null,null,null,null,null,null,null,null,null,null,1000000,1000000,1000000,1000000,1000000,1000000,6200,3000,1000000,1000000,1000000,1000000,1000000,1000000,1000000,1000000,null,null,null,null,null,null,null,null,null,null,null,null,null,null,null,null,null,null,null,null,null,null,null,null,null,null,null,null,null,null,true,null,"F, ",576.79999999999995,1.0477525385802468E-2,-10,-10,206,4.4245833333333333E-3,-10,-10,453.19999999999993,8.4565537037037033E-3,-10,-10,null,-10,0,0,0,-10,14,{"$error":"#VALUE!"},6,{"$error":"#VALUE!"},11,{"$error":"#VALUE!"},{"$error":"#VALUE!"},{"$error":"#VALUE!"}]
[null,null,null,null,null,null,null,null,null,null,null,null,null,null,null,null,null,null,null,null,null,null,null,null,null,null,null,null,null,null,null,null,null,null,null,null,null,null,null,null,null,null,null,1000000,1000000,1000000,1000000,1000000,1000000,6200,2500,1000000,1000000,1000000,1000000,1000000,1000000,1000000,1000000,null,null,null,null,null,null,null,null,null,null,null,null,null,null,null,null,null,null,null,null,null,null,null,null,null,null,null,null,null,null,true,null,"G, ",644,9.5815253858024703E-3,-10,-10,230,4.1045833333333342E-3,-10,-10,506,7.7525537037037044E-3,-10,-10,null,-10,0,0,0,-10,15,{"$error":"#VALUE!"},7,{"$error":"#VALUE!"},13,{"$error":"#VALUE!"},{"$error":"#VALUE!"},{"$error":"#VALUE!"}]
[null,null,null,null,null,null,null,null,null,null,null,null,null,null,null,null,null,null,null,null,null,null,null,null,null,null,null,null,null,null,null,null,null,null,null,null,null,null,null,null,null,null,null,1000000,1000000,1000000,1000000,1000000,1000000,6200,2500,1000000,1000000,1000000,1000000,1000000,1000000,1000000,1000000,null,null,null,null,null,null,null,null,null,null,null,null,null,null,null,null,null,null,null,null,null,null,null,null,null,null,null,null,null,null,true,null,"H, ",604.79999999999995,1.0897525385802471E-2,-10,-10,216,4.5745833333333341E-3,-10,-10,475.19999999999993,8.7865537037037037E-3,-10,-10,null,-10,0,0,0,-10,15,{"$error":"#VALUE!"},6,{"$error":"#VALUE!"},12,{"$error":"#VALUE!"},{"$error":"#VALUE!"},{"$error":"#VALUE!"}]
[null,null,null,null,null,null,null,null,null,null,null,null,null,null,null,null,null,null,null,null,null,null,null,null,null,null,null,null,null,null,null,null,null,null,null,null,null,null,null,null,null,null,null,1000000,1000000,1000000,1000000,1000000,1000000,6200,0,1000000,1000000,1000000,1000000,1000000,1000000,1000000,1000000,null,null,null,null,null,null,null,null,null,null,null,null,null,null,null,null,null,null,null,null,null,null,null,null,null,null,null,null,null,null,true,null,"I, ",671.99999999999989,1.0001525385802469E-2,-10,-10,240,4.2545833333333333E-3,-10,-10,528,8.0825537037037039E-3,-10,-10,null,-10,0,0,0,-10,15,{"$error":"#VALUE!"},7,{"$error":"#VALUE!"},13,{"$error":"#VALUE!"},{"$error":"#VALUE!"},{"$error":"#VALUE!"}]
[null,null,null,null,null,null,null,null,null,null,null,null,null,null,null,null,null,null,null,null,null,null,null,null,null,null,null,null,null,null,null,null,null,null,null,null,null,null,null,null,null,null,null,null,null,null,null,null,null,null,null,null,null,null,null,null,null,null,null,null,null,null,null,null,null,null,null,null,null,null,null,null,null,null,null,null,null,null,null,null,null,null,null,null,null,null,null,null,null,null,"FELT #3: ",null,null,null,null,null,null,null,null,null,null,null,null,null,null,null,null,null,null,null,null,null,null,null,null,null,{"$f":"MAX(DM75:DM83)","v":{"$error":"#VALUE!"}},{"$f":"IF(MAX(DM75:DM83)=0,\"\",CM74&\"Last \"&DN75&DN76&DN77&DN78&DN79&DN80&DN81&DN82&DN83)","v":{"$error":"#VALUE!"}}]
[null,null,null,null,null,null,null,null,null,null,null,null,null,null,null,null,null,null,null,null,null,null,null,null,null,null,null,null,null,null,null,null,null,null,null,null,null,null,null,null,null,null,null,null,null,null,null,null,null,null,null,null,null,null,null,null,null,null,null,null,null,null,null,null,null,null,null,null,null,null,null,null,null,null,null,null,null,null,null,null,null,null,null,null,null,null,null,null,null,true,"Lasttilfælde","A, ",{"$f":"CM30*1000","v":349.8},{"$f":"CN30","v":7.3548234567901247E-3},{"$f":"IF($CM$76=TRUE,IF($CL75=TRUE,CO75,-10),-10)","v":-10},{"$f":"IF($CM$76=TRUE,IF(CL75=TRUE,CP75*1000,-10),-10)","v":-10},{"$f":"CQ30*1000","v":159},{"$f":"CR30","v":4.2965000000000008E-3},{"$f":"IF($CM$76=TRUE,IF($CL75=TRUE,CS75,-10),-10)","v":-10},{"$f":"IF($CM$76=TRUE,IF($CL75=TRUE,CT75*1000,-10),-10)","v":-10},{"$f":"CU30*1000","v":292.56},{"$f":"CV30","v":6.4332574382716052E-3},{"$f":"IF($CM$76=TRUE,IF($CL75=TRUE,CW75,-10),-10)","v":-10},{"$f":"IF($CM$76=TRUE,IF($CL75=TRUE,CX75*1000,-10),-10)","v":-10},null,-10,{"$f":"DB75-CQ75","v":0},{"$f":"CU75-DB75","v":0},{"$f":"CY75-DB75","v":0},{"$f":"IF(DC75=0,CR75,IF(DD75=0,CV75,IF(DE75=0,CZ75,\"FEJL\")))","v":-10},{"$f":"MATCH(VLOOKUP(CO75,$B$109:$C$130,1),$B$109:$B$130,0)","v":8},{"$f":"INDEX($B$109:$C$130,DG75,2,1)\n+(INDEX($B$109:$C$130,DG75+1,2,1)-INDEX($B$109:$C$130,DG75,2,1))\n*(CO75-INDEX($B$109:$C$130,DG75,1,1))\n/(INDEX($B$109:$C$130,DG75+1,1,1)-INDEX($B$109:$C$130,DG75,1,1))","v":{"$error":"#VALUE!"}},{"$f":"MATCH(VLOOKUP(CS75,$B$109:$C$130,1),$B$109:$B$130,0)","v":5},{"$f":"INDEX($B$109:$C$130,DI75,2,1)\n+(INDEX($B$109:$C$130,DI75+1,2,1)-INDEX($B$109:$C$130,DI75,2,1))\n*(CS75-INDEX($B$109:$C$130,DI75,1,1))\n/(INDEX($B$109:$C$130,DI75+1,1,1)-INDEX($B$109:$C$130,DI75,1,1))","v":{"$error":"#VALUE!"}},{"$f":"MATCH(VLOOKUP(CW75,$B$109:$C$130,1),$B$109:$B$130,0)","v":8},{"$f":"INDEX($B$109:$C$130,DK75,2,1)\n+(INDEX($B$109:$C$130,DK75+1,2,1)-INDEX($B$109:$C$130,DK75,2,1))\n*(CW75-INDEX($B$109:$C$130,DK75,1,1))\n/(INDEX($B$109:$C$130,DK75+1,1,1)-INDEX($B$109:$C$130,DK75,1,1))","v":{"$error":"#VALUE!"}},{"$f":"IF(DH75<CP75*1000,1,IF(DJ75<CT75*1000,1,IF(DL75<CX75*1000,1,0)))","v":{"$error":"#VALUE!"}},{"$f":"IF(DM75=0,\"\",CN75)","v":{"$error":"#VALUE!"}}]
[null,null,null,null,null,null,null,null,null,null,null,null,null,null,null,null,null,null,null,null,null,null,null,null,null,null,null,null,null,null,null,null,null,null,null,null,null,"B =",1,null,null,null,"Vægoverligger",null,"Bjælke A",1,null,null,null,null,null,null,null,null,null,null,null,null,null,null,"Interne overliggere ",null,null,null,null,null,"Afskalningsbrud",null,null,null,"Vederlagstryk",null,null,null,null,null,null,null,null,null,null,null,null,null,null,null,null,null,null,true,{"$f":"IF(Makro!A1=3,TRUE,IF(Makro!A1=5,TRUE,FALSE))","v":false},"B, ",{"$f":"CM31*1000","v":356.4},7.6078234567901228E-3,{"$f":"IF($CM$76=TRUE,IF($CL76=TRUE,CO76,-10),-10)","v":-10},-10,{"$f":"CQ31*1000","v":162},4.4115000000000005E-3,{"$f":"IF($CM$76=TRUE,IF($CL76=TRUE,CS76,-10),-10)","v":-10},-10,{"$f":"CU31*1000","v":298.08},6.6448574382716053E-3,{"$f":"IF($CM$76=TRUE,IF($CL76=TRUE,CW76,-10),-10)","v":-10},-10,null,-10,0,0,0,-10,8,{"$error":"#VALUE!"},6,{"$error":"#VALUE!"},8,{"$error":"#VALUE!"},{"$f":"IF(DH76<CP76*1000,1,IF(DJ76<CT76*1000,1,IF(DL76<CX76*1000,1,0)))","v":{"$error":"#VALUE!"}},{"$error":"#VALUE!"}]
[null,null,null,null,null,null,null,null,null,null,null,null,null,null,null,null,null,null,null,null,null,null,null,null,null,null,null,null,null,null,null,null,null,null,null,null,null,"N1   (kN)","N0   (kN)","N2    (kN)",null,null,"Separat bjælke",null,"Bjælke B",2,null,null,null,null,null,null,null,null,null,null,null,null,null,null,"  Vægtykkelse, t [mm]",null,{"$f":"M18","v":150},"Væg 1-2","Væg 2-3","Væg 3-4",null,null,null,null,null,null,null,null,null,null,null,null,null,null,null,null,null,null,null,null,null,null,null,true,null,"C, ",444.40000000000003,8.9278234567901245E-3,-10,-10,202,5.0115000000000003E-3,-10,-10,{"$f":"CU32*1000","v":371.68},7.7488574382716053E-3,-10,-10,null,-10,0,0,0,-10,11,{"$error":"#VALUE!"},6,{"$error":"#VALUE!"},8,{"$error":"#VALUE!"},{"$error":"#VALUE!"},{"$error":"#VALUE!"}]
[null,null,null,null,null,null,null,null,null,null,null,null,null,null,null,null,null,null,null,null,null,null,null,null,null,null,null,null,null,null,null,null,null,null,null,null,null,{"$f":"AM76*S25","v":3},{"$f":"AM76*R25","v":150},{"$f":"AM76*Q25","v":6},null,null,null,null,null,null,null,null,null,null,null,null,null,null,null,null,null,null,null,null,"  Vederlagsdybder [mm]",null,{"$f":"X15","v":0},null,null,null,null,null,null,null,null,null,null,null,null,null,null,null,null,null,null,null,null,null,null,null,null,null,null,true,null,"D, ",459.8,8.7224901234567893E-3,-10,-10,209,4.918166666666667E-3,-10,-10,384.55999999999995,7.5771241049382718E-3,-10,-10,null,-10,0,0,0,-10,12,{"$error":"#VALUE!"},6,{"$error":"#VALUE!"},9,{"$error":"#VALUE!"},{"$error":"#VALUE!"},{"$error":"#VALUE!"}]
[null,null,null,null,null,null,null,null,null,null,null,null,null,null,null,null,null,null,null,null,null,null,null,null,null,null,null,null,null,null,null,null,null,null,null,null,null,{"$f":"AM76*P25","v":10},{"$f":"AM76*R25","v":150},{"$f":"AM76*Q25","v":6},null,null,null,null,null,null,"LA (m)",null,null,null,null,null,null,null,"LB (m)",null,null,null,null,null,null,null,null,"L (m)","L (m)","L (m)",null,null,null,null,null,null,null,null,null,null,null,null,null,null,null,null,null,null,null,null,null,null,null,true,null,"E, ",365.2,6.9517450617283963E-3,-10,-10,166,3.6365833333333341E-3,-10,-10,305.44,5.9551620524691366E-3,-10,-10,null,-10,0,0,0,-10,8,{"$error":"#VALUE!"},6,{"$error":"#VALUE!"},8,{"$error":"#VALUE!"},{"$error":"#VALUE!"},{"$error":"#VALUE!"}]
[null,null,null,null,null,null,null,null,null,null,null,null,null,null,null,null,null,null,null,null,null,null,null,null,null,null,null,null,null,null,null,null,null,null,null,null,null,{"$f":"AM76*P25","v":10},{"$f":"AM76*(O25+MAX(AO47,AP47))","v":190},{"$f":"AM76*Q25","v":6},null,null,null,null,null,null,{"$f":"$Q$27/2","v":0},null,null,null,null,null,null,null,{"$f":"$R$27/2","v":0},null,null,null,null,null,"ftld",{"$f":"AC9","v":0},"MPa",{"$f":"(Q16+2*X15)/1000","v":1.5},{"$f":"(Q17+2*X15)/1000","v":1},{"$f":"(Q18+2*X15)/1000","v":0.7},null,null,null,null,null,null,null,null,null,null,null,null,null,null,null,null,null,null,null,null,null,null,null,true,null,"F, ",453.19999999999993,8.2717450617283937E-3,-10,-10,206,4.2365833333333335E-3,-10,-10,379.03999999999996,7.0591620524691357E-3,-10,-10,null,-10,0,0,0,-10,11,{"$error":"#VALUE!"},6,{"$error":"#VALUE!"},9,{"$error":"#VALUE!"},{"$error":"#VALUE!"},{"$error":"#VALUE!"}]
[null,null,null,null,null,null,null,null,null,null,null,null,null,null,null,null,null,null,null,null,null,null,null,null,null,null,null,null,null,null,null,null,null,null,null,null,null,{"$f":"AM76*P25","v":10},{"$f":"AM76*(O25+MAX(AO47,AP47))","v":190},{"$f":"AM76*N25","v":9},null,null,null,null,null,null,null,null,null,null,null,null,null,null,null,null,null,null,null,null,"fcd",{"$f":"AC8","v":0},"MPa",null,null,null,null,null,null,null,null,null,null,null,null,null,null,null,null,null,null,null,null,null,null,null,null,null,null,true,null,"G, ",506,7.5677450617283957E-3,-10,-10,230,3.9165833333333335E-3,-10,-10,423.20000000000005,6.4703620524691361E-3,-10,-10,null,-10,0,0,0,-10,13,{"$error":"#VALUE!"},7,{"$error":"#VALUE!"},10,{"$error":"#VALUE!"},{"$error":"#VALUE!"},{"$error":"#VALUE!"}]
[null,null,null,null,null,null,null,null,null,null,null,null,null,null,null,null,null,null,null,null,null,null,null,null,null,null,null,null,null,null,null,null,null,null,null,null,null,{"$f":"AM76*M25","v":27},{"$f":"AM76*R25","v":150},{"$f":"AM76*Q25","v":6},null,null,null,null,null,null,"NA","exc","NA-o",null,null,null,null,null,"NB","exc","NB-o",null,null,null,"NB","exc","beff","NB","NB","NB","bæreevne ",null,null,null,"bæreevne ",null,null,null,null,null,null,null,null,null,null,null,null,null,null,null,null,null,null,true,null,"H, ",475.19999999999993,8.6017450617283941E-3,-10,-10,216,4.3865833333333335E-3,-10,-10,397.44,7.3351620524691359E-3,-10,-10,null,-10,0,0,0,-10,12,{"$error":"#VALUE!"},6,{"$error":"#VALUE!"},9,{"$error":"#VALUE!"},{"$error":"#VALUE!"},{"$error":"#VALUE!"}]
[null,null,null,null,null,null,null,null,null,null,null,null,null,null,null,null,null,null,null,null,null,null,null,null,null,null,null,null,null,null,null,null,null,null,null,null,null,{"$f":"AM76*M25","v":27},{"$f":"AM76*(O25+MAX(AO47,AP47))","v":190},{"$f":"AM76*Q25","v":6},null,null,null,null,null,null,"(kN)  ","(mm)",null,null,null,null,null,null,"(kN)  ","(mm)",null,null,null,null,"(kN/m)  ","(mm)","(mm)","kN","kN","kN","kN",null,null,null,"kN",null,null,null,null,null,null,null,null,null,null,null,null,null,null,null,null,null,null,true,null,"I, ",528,7.8977450617283944E-3,-10,-10,240,4.0665833333333335E-3,-10,-10,441.59999999999997,6.7463620524691355E-3,-10,-10,null,-10,0,0,0,-10,13,{"$error":"#VALUE!"},7,{"$error":"#VALUE!"},11,{"$error":"#VALUE!"},{"$error":"#VALUE!"},{"$error":"#VALUE!"}]
[null,null,null,null,null,null,null,null,null,null,null,null,null,null,null,null,null,null,null,null,null,null,null,null,null,null,null,null,null,null,null,null,null,null,null,null,null,{"$f":"AM76*M25","v":27},{"$f":"AM76*(O25+MAX(AO47,AP47))","v":190},{"$f":"AM76*K25","v":13},null,null,null,null,null,null,{"$f":"IF(Makro!$D$1,IF(Makro!$A$3=1,($N31+$O31+$P31)*AU$80,$Q31),0)","v":0},{"$f":"IF(Makro!$A$3=1,IF(Makro!$D$1,IF(AU84=0,0,($N$41*$N31+$O$41*$O31-$P$41*$P31)/($AU84/$AU$80)),0),$Q$41)","v":0},{"$f":"IF(Makro!$D$1,($N31+$O31+$P31)*AU$80,0)","v":0},null,null,null,null,null,{"$f":"IF(Makro!$D$5,IF(Makro!$A$4=1,($N31+$O31+$P31)*BC$80,$R31))","v":0},{"$f":"IF(Makro!$A$4=1,IF(Makro!$D$5,($N$41*$N31+$O$41*$O31-$P$41*$P31)/(BC84/$BC$80),0),$R$41)","v":{"$error":"#DIV/0!"}},{"$f":"IF(Makro!$D$5,($N31+$O31+$P31)*BC$80,0)","v":0},null,null,null,{"$f":"N31+O31+P31","v":159},{"$f":"(N31*$N$40+O31*$O$40+P31*$P$40)/BI84","v":16.79245283018868},{"$f":"$BK$77-2*BJ84","v":116.41509433962264},{"$f":"$BI84*BL$80*0.5","v":119.25},{"$f":"$BI84*BM$80*0.5","v":79.5},{"$f":"$BI84*BN$80*0.5","v":55.65},{"$f":"5/4*$BK$78*BK84*$BJ$80*10^-3","v":0},{"$f":"IF(BL84>$BO84,\"Brud\",\"OK\")","v":"Brud"},{"$f":"IF(BM84>$BO84,\"Brud\",\"OK\")","v":"Brud"},"Brud",{"$f":"0.8*BK84*$BK$78*$BJ$81*10^-3","v":0},{"$f":"IF(BL84>$BS84,\"Brud\",\"OK\")","v":"Brud"},{"$f":"IF(BM84>$BS84,\"Brud\",\"OK\")","v":"Brud"},"Brud",null,null,null,null,null,null,null,null,null,null,null,null,null,null,null,null,"FELT #4: ",null,null,null,null,null,null,null,null,null,null,null,null,null,null,null,null,null,null,null,null,null,null,null,null,null,{"$f":"MAX(DM85:DM93)","v":{"$error":"#VALUE!"}},{"$f":"IF(MAX(DM85:DM93)=0,\"\",CM84&\"Last \"&DN85&DN86&DN87&DN88&DN89&DN90&DN91&DN92&DN93)","v":{"$error":"#VALUE!"}}]
[null,null,null,null,null,null,null,null,null,null,null,null,null,null,null,null,null,null,null,null,null,null,null,null,null,null,null,null,null,null,null,null,null,null,null,null,null,{"$f":"AM76*M25","v":27},{"$f":"AM76*(L25+MAX(AN47,AQ47))","v":200},{"$f":"AM76*Q25","v":6},null,null,null,null,null,null,{"$f":"IF(Makro!$D$1,IF(Makro!$A$3=1,($N32+$O32+$P32)*AU$80,$Q32),0)","v":0},{"$f":"IF(Makro!$A$3=1,IF(Makro!$D$1,IF(AU85=0,0,($N$41*$N32+$O$41*$O32-$P$41*$P32)/($AU85/$AU$80)),0),$Q$41)","v":0},{"$f":"IF(Makro!$D$1,($N32+$O32+$P32)*AU$80,0)","v":0},null,null,null,null,null,{"$f":"IF(Makro!$D$5,IF(Makro!$A$4=1,($N32+$O32+$P32)*BC$80,$R32))","v":0},{"$f":"IF(Makro!$A$4=1,IF(Makro!$D$5,($N$41*$N32+$O$41*$O32-$P$41*$P32)/(BC85/$BC$80),0),$R$41)","v":{"$error":"#DIV/0!"}},{"$f":"IF(Makro!$D$5,($N32+$O32+$P32)*BC$80,0)","v":0},null,null,null,162,17.407407407407408,{"$f":"$BK$77-2*BJ85","v":115.18518518518519},{"$f":"$BI85*BL$80*0.5","v":121.5},81,56.699999999999996,{"$f":"5/4*$BK$78*BK85*$BJ$80*10^-3","v":0},{"$f":"IF(BL85>$BO85,\"Brud\",\"OK\")","v":"Brud"},"Brud","Brud",{"$f":"0.8*BK85*$BK$78*$BJ$81*10^-3","v":0},{"$f":"IF(BL85>$BS85,\"Brud\",\"OK\")","v":"Brud"},"Brud","Brud",null,null,null,null,null,null,null,null,null,null,null,null,null,null,null,true,"Lasttilfælde","A, ",{"$f":"CM40*1000","v":292.56},{"$f":"CN40","v":6.0536009833333333E-3},{"$f":"IF($CM$86=TRUE,IF($CL85=TRUE,CO85,-10),-10)","v":-10},{"$f":"IF($CM$86=TRUE,IF(CL85=TRUE,CP85*1000,-10),-10)","v":-10},{"$f":"CQ40*1000","v":159},{"$f":"CR40","v":3.9087500000000008E-3},{"$f":"IF($CM$86=TRUE,IF($CL85=TRUE,CS85,-10),-10)","v":-10},{"$f":"IF($CM$86=TRUE,IF($CL85=TRUE,CT85*1000,-10),-10)","v":-10},{"$f":"CU40*1000","v":0},{"$f":"CV40","v":3.9214885956790129E-3},{"$f":"IF($CM$86=TRUE,IF($CL85=TRUE,CW85,-10),-10)","v":-10},{"$f":"IF($CM$86=TRUE,IF($CL85=TRUE,CX85*1000,-10),-10)","v":-10},null,-10,{"$f":"DB85-CQ85","v":0},{"$f":"CU85-DB85","v":0},{"$f":"CY85-DB85","v":0},{"$f":"IF(DC85=0,CR85,IF(DD85=0,CV85,IF(DE85=0,CZ85,\"FEJL\")))","v":-10},{"$f":"MATCH(VLOOKUP(CO85,$B$109:$C$130,1),$B$109:$B$130,0)","v":8},{"$f":"INDEX($B$109:$C$130,DG85,2,1)\n+(INDEX($B$109:$C$130,DG85+1,2,1)-INDEX($B$109:$C$130,DG85,2,1))\n*(CO85-INDEX($B$109:$C$130,DG85,1,1))\n/(INDEX($B$109:$C$130,DG85+1,1,1)-INDEX($B$109:$C$130,DG85,1,1))","v":{"$error":"#VALUE!"}},{"$f":"MATCH(VLOOKUP(CS85,$B$109:$C$130,1),$B$109:$B$130,0)","v":5},{"$f":"INDEX($B$109:$C$130,DI85,2,1)\n+(INDEX($B$109:$C$130,DI85+1,2,1)-INDEX($B$109:$C$130,DI85,2,1))\n*(CS85-INDEX($B$109:$C$130,DI85,1,1))\n/(INDEX($B$109:$C$130,DI85+1,1,1)-INDEX($B$109:$C$130,DI85,1,1))","v":{"$error":"#VALUE!"}},{"$f":"MATCH(VLOOKUP(CW85,$B$109:$C$130,1),$B$109:$B$130,0)","v":1},{"$f":"INDEX($B$109:$C$130,DK85,2,1)\n+(INDEX($B$109:$C$130,DK85+1,2,1)-INDEX($B$109:$C$130,DK85,2,1))\n*(CW85-INDEX($B$109:$C$130,DK85,1,1))\n/(INDEX($B$109:$C$130,DK85+1,1,1)-INDEX($B$109:$C$130,DK85,1,1))","v":{"$error":"#VALUE!"}},{"$f":"IF(DH85<CP85*1000,1,IF(DJ85<CT85*1000,1,IF(DL85<CX85*1000,1,0)))","v":{"$error":"#VALUE!"}},{"$f":"IF(DM85=0,\"\",CN85)","v":{"$error":"#VALUE!"}}]
[null,null,null,null,null,null,null,null,null,null,null,null,null,null,null,null,null,null,null,null,null,null,null,null,null,null,null,null,null,null,null,null,null,null,null,null,null,{"$f":"AM76*M25","v":27},{"$f":"AM76*(L25+MAX(AN47,AQ47))","v":200},{"$f":"AM76*K25","v":13},null,null,null,null,null,null,{"$f":"IF(Makro!$D$1,IF(Makro!$A$3=1,($N33+$O33+$P33)*AU$80,$Q33),0)","v":0},{"$f":"IF(Makro!$A$3=1,IF(Makro!$D$1,IF(AU86=0,0,($N$41*$N33+$O$41*$O33-$P$41*$P33)/($AU86/$AU$80)),0),$Q$41)","v":0},{"$f":"IF(Makro!$D$1,($N33+$O33+$P33)*AU$80,0)","v":0},null,null,null,null,null,{"$f":"IF(Makro!$D$5,IF(Makro!$A$4=1,($N33+$O33+$P33)*BC$80,$R33))","v":0},{"$f":"IF(Makro!$A$4=1,IF(Makro!$D$5,($N$41*$N33+$O$41*$O33-$P$41*$P33)/(BC86/$BC$80),0),$R$41)","v":{"$error":"#DIV/0!"}},{"$f":"IF(Makro!$D$5,($N33+$O33+$P33)*BC$80,0)","v":0},null,null,null,202,16.93069306930693,116.13861386138615,151.5,101,70.699999999999989,0,"Brud","Brud","Brud",0,"Brud","Brud","Brud",null,null,null,null,null,null,null,null,null,null,null,null,null,null,null,true,{"$f":"IF(Makro!A1=4,TRUE,IF(Makro!A1=5,TRUE,FALSE))","v":false},"B, ",{"$f":"CM41*1000","v":298.08},6.2652009833333334E-3,{"$f":"IF($CM$86=TRUE,IF($CL86=TRUE,CO86,-10),-10)","v":-10},-10,{"$f":"CQ41*1000","v":162},4.0237500000000004E-3,{"$f":"IF($CM$86=TRUE,IF($CL86=TRUE,CS86,-10),-10)","v":-10},-10,{"$f":"CU41*1000","v":0},4.0364885956790126E-3,{"$f":"IF($CM$86=TRUE,IF($CL86=TRUE,CW86,-10),-10)","v":-10},-10,null,-10,0,0,0,-10,8,{"$error":"#VALUE!"},6,{"$error":"#VALUE!"},1,{"$error":"#VALUE!"},{"$f":"IF(DH86<CP86*1000,1,IF(DJ86<CT86*1000,1,IF(DL86<CX86*1000,1,0)))","v":{"$error":"#VALUE!"}},{"$error":"#VALUE!"}]
[null,null,null,null,null,null,null,null,null,null,null,null,null,null,null,null,null,null,null,null,null,null,null,null,null,null,null,null,null,null,null,null,null,null,null,null,null,{"$f":"AM76*Q25","v":6},{"$f":"AM76*R25","v":150},{"$f":"AM76*S25","v":3},null,null,null,null,null,null,{"$f":"IF(Makro!$D$1,IF(Makro!$A$3=1,($N34+$O34+$P34)*AU$80,$Q34),0)","v":0},{"$f":"IF(Makro!$A$3=1,IF(Makro!$D$1,IF(AU87=0,0,($N$41*$N34+$O$41*$O34-$P$41*$P34)/($AU87/$AU$80)),0),$Q$41)","v":0},{"$f":"IF(Makro!$D$1,($N34+$O34+$P34)*AU$80,0)","v":0},null,null,null,null,null,{"$f":"IF(Makro!$D$5,IF(Makro!$A$4=1,($N34+$O34+$P34)*BC$80,$R34))","v":0},{"$f":"IF(Makro!$A$4=1,IF(Makro!$D$5,($N$41*$N34+$O$41*$O34-$P$41*$P34)/(BC87/$BC$80),0),$R$41)","v":{"$error":"#DIV/0!"}},{"$f":"IF(Makro!$D$5,($N34+$O34+$P34)*BC$80,0)","v":0},null,null,null,209,17.703349282296649,114.5933014354067,156.75,104.5,73.149999999999991,0,"Brud","Brud","Brud",0,"Brud","Brud","Brud",null,null,null,null,null,null,null,null,null,null,null,null,null,null,null,true,null,"C, ",371.68,7.3692009833333334E-3,-10,-10,202,4.6237500000000003E-3,-10,-10,{"$f":"CU42*1000","v":0},4.6364885956790124E-3,-10,-10,null,-10,0,0,0,-10,8,{"$error":"#VALUE!"},6,{"$error":"#VALUE!"},1,{"$error":"#VALUE!"},{"$error":"#VALUE!"},{"$error":"#VALUE!"}]
[null,null,null,null,null,null,null,null,null,null,null,null,null,null,null,null,null,null,null,null,null,null,null,null,null,null,null,null,null,null,null,null,null,null,null,null,null,{"$f":"AM76*N25","v":9},{"$f":"AM76*R25","v":150},{"$f":"AM76*S25","v":3},null,null,null,null,null,null,{"$f":"IF(Makro!$D$1,IF(Makro!$A$3=1,($N35+$O35+$P35)*AU$80,$Q35),0)","v":0},{"$f":"IF(Makro!$A$3=1,IF(Makro!$D$1,IF(AU88=0,0,($N$41*$N35+$O$41*$O35-$P$41*$P35)/($AU88/$AU$80)),0),$Q$41)","v":0},{"$f":"IF(Makro!$D$1,($N35+$O35+$P35)*AU$80,0)","v":0},null,null,null,null,null,{"$f":"IF(Makro!$D$5,IF(Makro!$A$4=1,($N35+$O35+$P35)*BC$80,$R35))","v":0},{"$f":"IF(Makro!$A$4=1,IF(Makro!$D$5,($N$41*$N35+$O$41*$O35-$P$41*$P35)/(BC88/$BC$80),0),$R$41)","v":{"$error":"#DIV/0!"}},{"$f":"IF(Makro!$D$5,($N35+$O35+$P35)*BC$80,0)","v":0},null,null,null,166,18.192771084337348,113.6144578313253,124.5,83,58.099999999999994,0,"Brud","Brud","Brud",0,"Brud","Brud","Brud",null,null,null,null,null,null,null,null,null,null,null,null,null,null,null,true,null,"D, ",384.55999999999995,7.1974676499999999E-3,-10,-10,209,4.530416666666667E-3,-10,-10,0,4.5431552623456791E-3,-10,-10,null,-10,0,0,0,-10,9,{"$error":"#VALUE!"},6,{"$error":"#VALUE!"},1,{"$error":"#VALUE!"},{"$error":"#VALUE!"},{"$error":"#VALUE!"}]
[null,null,null,null,null,null,null,null,null,null,null,null,null,null,null,null,null,null,null,null,null,null,null,null,null,null,null,null,null,null,null,null,null,null,null,null,null,{"$f":"AM76*N25","v":9},{"$f":"AM76*(O25+MAX(AO47,AP47))","v":190},{"$f":"AM76*S25","v":3},null,null,null,null,null,null,{"$f":"IF(Makro!$D$1,IF(Makro!$A$3=1,($N36+$O36+$P36)*AU$80,$Q36),0)","v":0},{"$f":"IF(Makro!$A$3=1,IF(Makro!$D$1,IF(AU89=0,0,($N$41*$N36+$O$41*$O36-$P$41*$P36)/($AU89/$AU$80)),0),$Q$41)","v":0},{"$f":"IF(Makro!$D$1,($N36+$O36+$P36)*AU$80,0)","v":0},null,null,null,null,null,{"$f":"IF(Makro!$D$5,IF(Makro!$A$4=1,($N36+$O36+$P36)*BC$80,$R36))","v":0},{"$f":"IF(Makro!$A$4=1,IF(Makro!$D$5,($N$41*$N36+$O$41*$O36-$P$41*$P36)/(BC89/$BC$80),0),$R$41)","v":{"$error":"#DIV/0!"}},{"$f":"IF(Makro!$D$5,($N36+$O36+$P36)*BC$80,0)","v":0},null,null,null,206,17.572815533980581,114.85436893203884,154.5,103,72.099999999999994,0,"Brud","Brud","Brud",0,"Brud","Brud","Brud",null,null,null,null,null,null,null,null,null,null,null,null,null,null,null,true,null,"E, ",305.44,5.7653338250000007E-3,-10,-10,166,3.4427083333333341E-3,-10,-10,0,3.4490776311728402E-3,-10,-10,null,-10,0,0,0,-10,8,{"$error":"#VALUE!"},6,{"$error":"#VALUE!"},1,{"$error":"#VALUE!"},{"$error":"#VALUE!"},{"$error":"#VALUE!"}]
[null,null,null,null,null,null,null,null,null,null,null,null,null,null,null,null,null,null,null,null,null,null,null,null,null,null,null,null,null,null,null,null,null,null,null,null,null,{"$f":"AM76*N25","v":9},{"$f":"AM76*(O25+MAX(AO47,AP47))","v":190},{"$f":"AM76*P25","v":10},null,null,null,null,null,null,{"$f":"IF(Makro!$D$1,IF(Makro!$A$3=1,($N37+$O37+$P37)*AU$80,$Q37),0)","v":0},{"$f":"IF(Makro!$A$3=1,IF(Makro!$D$1,IF(AU90=0,0,($N$41*$N37+$O$41*$O37-$P$41*$P37)/($AU90/$AU$80)),0),$Q$41)","v":0},{"$f":"IF(Makro!$D$1,($N37+$O37+$P37)*AU$80,0)","v":0},null,null,null,null,null,{"$f":"IF(Makro!$D$5,IF(Makro!$A$4=1,($N37+$O37+$P37)*BC$80,$R37))","v":0},{"$f":"IF(Makro!$A$4=1,IF(Makro!$D$5,($N$41*$N37+$O$41*$O37-$P$41*$P37)/(BC90/$BC$80),0),$R$41)","v":{"$error":"#DIV/0!"}},{"$f":"IF(Makro!$D$5,($N37+$O37+$P37)*BC$80,0)","v":0},null,null,null,230,19.913043478260871,110.17391304347825,172.5,115,80.5,0,"Brud","Brud","Brud",0,"Brud","Brud","Brud",null,null,null,null,null,null,null,null,null,null,null,null,null,null,null,true,null,"F, ",379.03999999999996,6.8693338249999998E-3,-10,-10,206,4.042708333333333E-3,-10,-10,0,4.0490776311728396E-3,-10,-10,null,-10,0,0,0,-10,9,{"$error":"#VALUE!"},6,{"$error":"#VALUE!"},1,{"$error":"#VALUE!"},{"$error":"#VALUE!"},{"$error":"#VALUE!"}]
[null,null,null,null,null,null,null,null,null,null,null,null,null,null,null,null,null,null,null,null,null,null,null,null,null,null,null,null,null,null,null,null,null,null,null,null,null,{"$f":"AM76*K25","v":13},{"$f":"AM76*R25","v":150},{"$f":"AM76*S25","v":3},null,null,null,null,null,null,{"$f":"IF(Makro!$D$1,IF(Makro!$A$3=1,($N38+$O38+$P38)*AU$80,$Q38),0)","v":0},{"$f":"IF(Makro!$A$3=1,IF(Makro!$D$1,IF(AU91=0,0,($N$41*$N38+$O$41*$O38-$P$41*$P38)/($AU91/$AU$80)),0),$Q$41)","v":0},{"$f":"IF(Makro!$D$1,($N38+$O38+$P38)*AU$80,0)","v":0},null,null,null,null,null,{"$f":"IF(Makro!$D$5,IF(Makro!$A$4=1,($N38+$O38+$P38)*BC$80,$R38))","v":0},{"$f":"IF(Makro!$A$4=1,IF(Makro!$D$5,($N$41*$N38+$O$41*$O38-$P$41*$P38)/(BC91/$BC$80),0),$R$41)","v":{"$error":"#DIV/0!"}},{"$f":"IF(Makro!$D$5,($N38+$O38+$P38)*BC$80,0)","v":0},null,null,null,216,17.453703703703702,115.0925925925926,162,108,75.599999999999994,0,"Brud","Brud","Brud",0,"Brud","Brud","Brud",null,null,null,null,null,null,null,null,null,null,null,null,null,null,null,true,null,"G, ",423.20000000000005,6.2805338250000002E-3,-10,-10,230,3.7227083333333339E-3,-10,-10,0,3.72907763117284E-3,-10,-10,null,-10,0,0,0,-10,10,{"$error":"#VALUE!"},7,{"$error":"#VALUE!"},1,{"$error":"#VALUE!"},{"$error":"#VALUE!"},{"$error":"#VALUE!"}]
[null,null,null,null,null,null,null,null,null,null,null,null,null,null,null,null,null,null,null,null,null,null,null,null,null,null,null,null,null,null,null,null,null,null,null,null,null,{"$f":"AM76*K25","v":13},{"$f":"AM76*(O25+MAX(AO47,AP47))","v":190},{"$f":"AM76*S25","v":3},null,null,null,null,null,null,{"$f":"IF(Makro!$D$1,IF(Makro!$A$3=1,($N39+$O39+$P39)*AU$80,$Q39),0)","v":0},{"$f":"IF(Makro!$A$3=1,IF(Makro!$D$1,IF(AU92=0,0,($N$41*$N39+$O$41*$O39-$P$41*$P39)/($AU92/$AU$80)),0),$Q$41)","v":0},{"$f":"IF(Makro!$D$1,($N39+$O39+$P39)*AU$80,0)","v":0},null,null,null,null,null,{"$f":"IF(Makro!$D$5,IF(Makro!$A$4=1,($N39+$O39+$P39)*BC$80,$R39))","v":0},{"$f":"IF(Makro!$A$4=1,IF(Makro!$D$5,($N$41*$N39+$O$41*$O39-$P$41*$P39)/(BC92/$BC$80),0),$R$41)","v":{"$error":"#DIV/0!"}},{"$f":"IF(Makro!$D$5,($N39+$O39+$P39)*BC$80,0)","v":0},null,null,null,240,19.708333333333332,110.58333333333334,180,120,84,0,"Brud","Brud","Brud",0,"Brud","Brud","Brud",null,null,null,null,null,null,null,null,null,null,null,null,null,null,null,true,null,"H, ",397.44,7.145333825E-3,-10,-10,216,4.1927083333333339E-3,-10,-10,0,4.1990776311728404E-3,-10,-10,null,-10,0,0,0,-10,9,{"$error":"#VALUE!"},6,{"$error":"#VALUE!"},1,{"$error":"#VALUE!"},{"$error":"#VALUE!"},{"$error":"#VALUE!"}]
[null,null,null,null,null,null,null,null,null,null,null,null,null,null,null,null,null,null,null,null,null,null,null,null,null,null,null,null,null,null,null,null,null,null,null,null,null,{"$f":"AM76*K25","v":13},{"$f":"AM76*(O25+MAX(AO47,AP47))","v":190},{"$f":"AM76*M25","v":27},null,null,null,null,null,null,null,null,null,null,null,null,null,null,null,null,null,null,null,null,null,null,null,null,null,null,"Brud",{"$f":"COUNTIF(BP84:BP92,\"Brud\")","v":9},{"$f":"COUNTIF(BQ84:BQ92,\"Brud\")","v":9},{"$f":"COUNTIF(BR84:BR92,\"Brud\")","v":9},"Brud",{"$f":"COUNTIF(BT84:BT92,\"Brud\")","v":9},{"$f":"COUNTIF(BU84:BU92,\"Brud\")","v":9},{"$f":"COUNTIF(BV84:BV92,\"Brud\")","v":9},null,null,null,null,null,null,null,null,null,null,null,null,null,null,null,true,null,"I, ",441.59999999999997,6.5565338249999995E-3,-10,-10,240,3.8727083333333335E-3,-10,-10,0,3.8790776311728396E-3,-10,-10,null,-10,0,0,0,-10,11,{"$error":"#VALUE!"},7,{"$error":"#VALUE!"},1,{"$error":"#VALUE!"},{"$error":"#VALUE!"},{"$error":"#VALUE!"}]
[null,null,null,null,null,null,null,null,null,null,null,null,null,null,null,null,null,null,null,null,null,null,null,null,null,null,null,null,null,null,null,null,null,null,null,null,null,{"$f":"AM76*K25","v":13},{"$f":"AM76*(L25+MAX(AN47,AQ47))","v":200},{"$f":"AM76*S25","v":3},null,null,null,{"$f":"2*Makro!I15/3+$AC$11","v":26.666666666666668},null,null,null,null,null,null,null,null,null,null,null,null,null,null,null,null,null,null,null,null,null,null,"Eksist.",{"$f":"Makro!D2","v":true},{"$f":"Makro!D3","v":true},{"$f":"Makro!D4","v":true},"Eksist.",{"$f":"Makro!D2","v":true},{"$f":"Makro!D3","v":true},{"$f":"Makro!D4","v":true}]
[null,null,null,null,null,null,null,null,null,null,null,null,null,null,null,null,null,null,null,null,null,null,null,null,null,null,null,null,null,null,null,null,null,null,null,null,null,{"$f":"AM76*K25","v":13},{"$f":"AM76*(L25+MAX(AN47,AQ47))","v":200},{"$f":"AM76*M25","v":27},null,null,null,null,null,null,null,null,null,null,null,null,null,null,null,null,null,null,null,null,null,null,null,null,null,null,"Besked:",{"$f":"IF(OR(AND(BP94,BP93>0),AND(BQ94,BQ93>0),AND(BR94,BR93>0)),\"(intern overligger)\",\"\")","v":"(intern overligger)"},null,null,"Besked:",{"$f":"IF(OR(AND(BT94,BT93>0),AND(BU94,BU93>0),AND(BV94,BV93>0)),\"(intern overligger)\",\"\")","v":"(intern overligger)"}]
[]
[null,null,null,null,null,null,null,null,null,null,null,null,null,null,null,null,null,null,null,null,null,null,null,null,null,null,null,null,null,null,null,null,null,null,null,null,null,null,null,null,null,null,null,null,null,null,null,null,null,null,null,null,null,null,null,null,null,null,null,null,"Eksterne overliggere ",null,null,null,null,null,"Afskalningsbrud",null,null,null,"Vederlagstryk"]
[null,null,null,null,null,null,null,null,null,null,null,null,null,null,null,null,null,null,null,null,null,null,null,null,null,null,null,null,null,null,null,null,null,null,null,null,null,"Brudlasttilfælde",null,null,null,null,null,null,null,null,null,"Tværvæg",null,"Tværvæg",null,"Felt 1",null,"Felt 2",null,"Felt 3",null,"Felt 4",null,null,"  Vægtykkelse, t [mm]",null,{"$f":"M18","v":150},"Bjælke A","Bjælke B",null,"Bjælke A",null,"Bjælke B",null,"Bjælke A",null,"Bjælke B"]
[null,null,null,null,null,null,null,null,null,null,null,null,null,null,null,null,null,null,null,null,null,null,null,null,null,null,null,null,null,null,null,null,null,null,null,null,null,null,1,null,null,null,null,null,null,null,null,1,null,2,null,"tv 1",{"$f":"IF(AND($AV$101>=BA10,$AV$101<=BA11),TRUE,FALSE)","v":false},"tv 1",{"$f":"IF(AND($AV$101>=BC10,$AV$101<=BC11),TRUE,FALSE)","v":false},"tv 1",{"$f":"IF(AND($AV$101>=BE10,$AV$101<=BE11),TRUE,FALSE)","v":false},"tv 1",{"$f":"IF(AND($AV$101>=BG10,$AV$101<=BG11),TRUE,FALSE)","v":false},null,"  Vederlagsdybder [mm]",null,{"$f":"Q15","v":150}]
[null,null,null,null,null,null,null,null,null,null,null,null,null,null,null,null,null,null,null,null,null,null,null,null,null,null,null,null,null,null,null,null,null,null,null,null,null,null,2,null,null,null,null,null,null,null,null,"x","y","x","y","tv2",{"$f":"IF(AND($AX$101>=BA10,$AX$101<=BA11),TRUE,FALSE)","v":false},"tv2",{"$f":"IF(AND($AX$101>=BC10,$AX$101<=BC11),TRUE,FALSE)","v":false},"tv2",{"$f":"IF(AND($AX$101>=BE10,$AX$101<=BE11),TRUE,FALSE)","v":false},"tv2",{"$f":"IF(AND($AX$101>=BG10,$AX$101<=BG11),TRUE,FALSE)","v":false},null,"  Vederlagsdybder [mm]",null,{"$f":"Q19","v":0},"L (m)","L (m)"]
[null,null,null,null,null,null,null,null,null,null,null,null,null,null,null,null,null,null,null,null,null,null,null,null,null,null,null,null,null,null,null,null,null,null,null,null,null,null,null,null,null,null,null,null,null,null,null,{"$f":"IF(AV103,AO2,1000000)","v":1000000},0,{"$f":"IF(AX103,AO3,1000000)","v":1000000},0,"b-tv1",{"$f":"IF(BA99,MAX($AV$101-BA10,IF(BA100,$AX$101,BA11)-$AV$101),IF(BA100,0,BA11-BA10))","v":1000},"b-tv1",{"$f":"IF(BC99,MAX($AV$101-BC10,IF(BC100,$AX$101,BC11)-$AV$101),IF(BC100,0,BC11-BC10))","v":1000},"b-tv1",{"$f":"IF(BE99,MAX($AV$101-BE10,IF(BE100,$AX$101,BE11)-$AV$101),IF(BE100,0,BE11-BE10))","v":1000},"b-tv1",{"$f":"IF(BG99,MAX($AV$101-BG10,IF(BG100,$AX$101,BG11)-$AV$101),IF(BG100,0,BG11-BG10))","v":800},null,"ftld",{"$f":"AC9","v":0},"MPa",{"$f":"Q27","v":0},{"$f":"R27","v":0}]
[null,null,null,null,null,null,null,null,null,null,null,null,null,null,null,null,null,null,null,null,null,null,null,null,null,null,null,null,null,null,null,null,null,null,null,null,null,null,null,null,null,null,null,null,null,null,null,{"$f":"AV101","v":1000000},{"$f":"$AM$10","v":3000},{"$f":"AX101","v":1000000},{"$f":"$AM$10","v":3000},"b-tv2",{"$f":"IF(BA100,MAX($AX$101-IF(BA99,$AV$101,BA10),BA11-$AX$101),IF(BA99,0,BA11-BA10))","v":1000},"b-tv2",{"$f":"IF(BC100,MAX($AX$101-IF(BC99,$AV$101,BC10),BC11-$AX$101),IF(BC99,0,BC11-BC10))","v":1000},"b-tv2",{"$f":"IF(BE100,MAX($AX$101-IF(BE99,$AV$101,BE10),BE11-$AX$101),IF(BE99,0,BE11-BE10))","v":1000},"b-tv2",{"$f":"IF(BG100,MAX($AX$101-IF(BG99,$AV$101,BG10),BG11-$AX$101),IF(BG99,0,BG11-BG10))","v":800},null,"fcd",{"$f":"AC8","v":0},"MPa"]
[null,null,null,null,null,null,null,null,null,null,null,null,null,null,null,null,null,null,null,null,null,null,null,null,null,null,null,null,null,null,null,null,null,null,null,null,null,"Grafvisning",5,null,null,null,null,null,null,null,null,false,null,false,null,"beff",{"$f":"MAX(BA101:BA102,0.5*BA111,0.01)","v":1000},"beff",{"$f":"MAX(BC101:BC102,0.5*BC111,0.01)","v":1000},"beff",{"$f":"MAX(BE101:BE102,0.5*BE111,0.01)","v":1000},"beff",{"$f":"MAX(BG101:BG102,0.5*BG111,0.01)","v":800},null,"NB","exc","beff","NB","NB",null,"bæreevne ",null,"bæreevne ",null,"bæreevne ",null,"bæreevne "]
[null,null,null,null,null,null,null,null,null,null,null,null,null,null,null,null,null,null,null,null,null,null,null,null,null,null,null,null,null,null,null,null,null,null,null,null,null,"Felt #1",1,null,null,null,null,null,null,null,null,null,null,null,null,"H",{"$f":"$AM$10","v":3000},"H",{"$f":"$AM$10","v":3000},"H",{"$f":"$AM$10","v":3000},"H",{"$f":"$AM$10","v":3000},null,"(kN/m)  ","(mm)","(mm)","kN","kN",null,"kN",null,"kN",null,"kN",null,"kN"]
[null,null,null,null,null,null,null,null,null,null,null,null,null,null,null,null,null,null,null,null,null,null,null,null,null,null,null,null,null,null,null,null,null,null,null,null,null,"Felt #2",2,null,null,"Minimumsarmering",null,null,null,null,null,null,null,null,null,"Tilf.",{"$f":"IF(BA99<>BA100,1,IF(AND(BA99,BA100),2,0))","v":0},"Tilf.",{"$f":"IF(BC99<>BC100,1,IF(AND(BC99,BC100),2,0))","v":0},"Tilf.",{"$f":"IF(BE99<>BE100,1,IF(AND(BE99,BE100),2,0))","v":0},"Tilf.",{"$f":"IF(BG99<>BG100,1,IF(AND(BG99,BG100),2,0))","v":0},null,{"$f":"N31+O31+P31","v":159},{"$f":"(N31*$N$40+O31*$O$40+P31*$P$40)/BI84","v":16.79245283018868},{"$f":"$BK$98-2*BJ105","v":116.41509433962264},{"$f":"IF(BL$101=0,Q31,$BI105*BL$101*0.5)","v":12},15,null,{"$f":"5/4*$BK$99*BK105*$BJ$101*10^-3","v":0},{"$f":"IF(BL105>$BO105,\"Brud\",\"OK\")","v":"Brud"},{"$f":"5/4*$BK$100*BK105*$BJ$101*10^-3","v":0},{"$f":"IF(BM105>$BQ105,\"Brud\",\"OK\")","v":"Brud"},{"$f":"0.8*BK105*$BK$99*$BJ$102*10^-3","v":0},{"$f":"IF(BL105>$BS105,\"Brud\",\"OK\")","v":"Brud"},{"$f":"0.8*BK105*$BK$100*$BJ$102*10^-3","v":0},{"$f":"IF(BN105>$BS105,\"Brud\",\"OK\")","v":"OK"}]
[null,null,null,null,{"$f":"IF(Makro!A1=AM104,AL104,IF(Makro!A1=AM105,AL105,IF(Makro!A1=AM106,AL106,IF(Makro!A1=AM107,AL107,\"\"))))","v":"Felt #1"},null,null,null,null,null,null,null,null,null,null,null,null,null,null,null,null,null,null,null,null,null,null,null,null,null,null,null,null,null,null,null,null,"Felt #3",3,null,null,null,"Maks N",{"$f":"MAX(AQ120:AQ128)*1000","v":225000},"N",null,null,null,null,null,null,null,{"$f":"IF(BA105=0,1,IF(BA105=1,1/(1+(BA104/(3*BA103))^2),IF(BA103>=BA104,1/(1+(BA104/BA103)^2),BA103/(2*BA104))))","v":1},null,{"$f":"IF(BC105=0,1,IF(BC105=1,1/(1+(BC104/(3*BC103))^2),IF(BC103>=BC104,1/(1+(BC104/BC103)^2),BC103/(2*BC104))))","v":1},null,{"$f":"IF(BE105=0,1,IF(BE105=1,1/(1+(BE104/(3*BE103))^2),IF(BE103>=BE104,1/(1+(BE104/BE103)^2),BE103/(2*BE104))))","v":1},null,{"$f":"IF(BG105=0,1,IF(BG105=1,1/(1+(BG104/(3*BG103))^2),IF(BG103>=BG104,1/(1+(BG104/BG103)^2),BG103/(2*BG104))))","v":1},null,{"$f":"N32+O32+P32","v":162},{"$f":"(N32*$N$40+O32*$O$40+P32*$P$40)/BI85","v":17.407407407407408},{"$f":"$BK$98-2*BJ106","v":115.18518518518519},13,16,null,{"$f":"5/4*$BK$99*BK106*$BJ$101*10^-3","v":0},{"$f":"IF(BL106>$BO106,\"Brud\",\"OK\")","v":"Brud"},{"$f":"5/4*$BK$100*BK106*$BJ$101*10^-3","v":0},{"$f":"IF(BM106>$BQ106,\"Brud\",\"OK\")","v":"Brud"},0,{"$f":"IF(BL106>$BS106,\"Brud\",\"OK\")","v":"Brud"},{"$f":"0.8*BK106*$BK$100*$BJ$102*10^-3","v":0},"OK"]
[null,"Bæreevnekurve",null,null,null,null,null,null,null,null,null,null,null,null,null,null,null,null,null,null,null,null,null,null,null,null,null,null,null,null,null,null,null,null,null,null,null,"Felt #4",4,null,null,null,"Ac",{"$f":"$M$18*1000","v":150000},"mm2",null,null,null,null,null,null,"Ls",{"$f":"BA106*BA104","v":3000},null,{"$f":"BC106*BC104","v":3000},null,{"$f":"BE106*BE104","v":3000},null,{"$f":"BG106*BG104","v":3000},null,{"$f":"N33+O33+P33","v":202},{"$f":"(N33*$N$40+O33*$O$40+P33*$P$40)/BI86","v":16.93069306930693},116.13861386138615,13,16,null,0,"Brud",0,"Brud",0,"Brud",0,"OK"]
[null,"n","m",null,null,null,null,null,null,null,null,null,null,null,null,null,null,null,null,null,null,null,null,null,null,null,null,null,null,null,null,null,null,null,null,null,null,"Alle Felter",5,null,null,null,"Asmin",{"$f":"ROUND(0.002*AR107,0)","v":300},"mm2","Asmax",{"$f":"ROUND(MAX(0.04*AR107,0.1*AR106/(L9/L11)),0)","v":6000},null,null,null,null,"B",{"$f":"BA11-BA10","v":1000},null,{"$f":"BC11-BC10","v":1000},null,{"$f":"BE11-BE10","v":1000},null,{"$f":"BG11-BG10","v":800},null,{"$f":"N34+O34+P34","v":209},{"$f":"(N34*$N$40+O34*$O$40+P34*$P$40)/BI87","v":17.703349282296649},114.5933014354067,13,16,null,0,"Brud",0,"Brud",0,"Brud",0,"OK"]
[null,0,{"$f":"IF(Makro!$E$20=1,\"-\",D109)","v":"-"},{"$f":"C110","v":"-"},null,null,null,null,null,null,null,null,null,null,null,null,null,null,null,null,null,null,null,null,null,null,null,null,null,null,null,null,null,null,null,null,null,null,null,null,null,null,"½ Asmin",{"$f":"ROUND(AR108/2,0)","v":150},"mm2","½ Asmax",{"$f":"AU108*0.5","v":3000}]
[null,{"$f":"IF($AO$5=1,Sheet3!M10*1000,0)","v":9.9999999999961231E-2},{"$f":"IF(Makro!$E$20=1,\"-\",D110)","v":"-"},{"$f":"IF($AO$5=1,Sheet3!N10*1000,0)","v":14.592630299794346},9.9999999999933475E-2,13.855618951320432,null,{"$f":"F110-C110","v":{"$error":"#VALUE!"}},null,null,null,null,null,null,null,null,null,null,null,null,null,null,null,null,null,null,null,null,null,null,null,null,null,null,null,null,null,"Trykarmering",{"$f":"N9^2*N10*PI()/4","v":335.27076799110273},"mm^2",null,null,null,null,null,null,null,null,null,null,null,"b_v",{"$f":"MAX(IF(BA99,MIN($AV$101,IF(BA100,$AX$101,1000000))-BA10,0),IF(BA100,MIN(IF(BA99,$AV$101,1000000),$AX$101)-BA10,0),IF(OR(BA99,BA100),0,BA108))","v":1000},null,{"$f":"MAX(IF(BC99,MIN($AV$101,IF(BC100,$AX$101,1000000))-BC10,0),IF(BC100,MIN(IF(BC99,$AV$101,1000000),$AX$101)-BC10,0),IF(OR(BC99,BC100),0,BC108))","v":1000},null,{"$f":"MAX(IF(BE99,MIN($AV$101,IF(BE100,$AX$101,1000000))-BE10,0),IF(BE100,MIN(IF(BE99,$AV$101,1000000),$AX$101)-BE10,0),IF(OR(BE99,BE100),0,BE108))","v":1000},null,{"$f":"MAX(IF(BG99,MIN($AV$101,IF(BG100,$AX$101,1000000))-BG10,0),IF(BG100,MIN(IF(BG99,$AV$101,1000000),$AX$101)-BG10,0),IF(OR(BG99,BG100),0,BG108))","v":800},null,{"$f":"N35+O35+P35","v":166},{"$f":"(N35*$N$40+O35*$O$40+P35*$P$40)/BI88","v":18.192771084337348},113.6144578313253,{"$f":"IF(BL$101=0,Q35,$BI110*BL$101*0.5)","v":13},16,null,0,"Brud",0,"Brud",0,"Brud",0,"OK"]
[null,{"$f":"IF($AO$5=1,Sheet3!M11*1000,0)","v":32.629379559370868},{"$f":"IF(Makro!$E$20=1,\"-\",D111)","v":"-"},{"$f":"IF($AO$5=1,Sheet3!N11*1000,0)","v":15.183753263169971},32.423297868101024,14.237257769917802,null,{"$f":"F111-C111","v":{"$error":"#VALUE!"}},null,null,null,null,null,null,null,null,null,null,null,null,null,null,null,null,null,null,null,null,null,null,null,null,null,null,null,null,null,"Trækarmering",{"$f":"N12^2*N13*PI()/4","v":335.27076799110273},"mm^2",null,null,null,null,null,null,null,null,null,null,null,"b_m",{"$f":"IF(BA110+BA112<BA108,BA108-BA110-BA112,BA108)","v":1000},null,{"$f":"IF(BC110+BC112<BC108,BC108-BC110-BC112,BC108)","v":1000},null,{"$f":"IF(BE110+BE112<BE108,BE108-BE110-BE112,BE108)","v":1000},null,{"$f":"IF(BG110+BG112<BG108,BG108-BG110-BG112,BG108)","v":800},null,{"$f":"N36+O36+P36","v":206},{"$f":"(N36*$N$40+O36*$O$40+P36*$P$40)/BI89","v":17.572815533980581},114.85436893203884,13,16,null,0,"Brud",0,"Brud",0,"Brud",0,"OK"]
[null,{"$f":"IF($AO$5=1,Sheet3!M12*1000,0)","v":66.438092790716084},{"$f":"IF(Makro!$E$20=1,\"-\",D112)","v":"-"},{"$f":"IF($AO$5=1,Sheet3!N12*1000,0)","v":15.652720559219308},60.264987180372572,14.401691419901091,null,{"$error":"#VALUE!"},null,null,null,null,null,null,null,null,null,null,null,null,null,null,null,null,null,null,null,null,null,null,null,null,null,null,null,null,null,null,null,null,null,null,null,null,null,null,null,null,null,null,null,"b_h",{"$f":"MAX(IF(BA99,BA11-MAX($AV$101,IF(BA100,$AX$101,0)),0),IF(BA100,BA11-MAX(IF(BA99,$AV$101,0),$AX$101),0),IF(OR(BA99,BA100),0,BA108))","v":1000},null,{"$f":"MAX(IF(BC99,BC11-MAX($AV$101,IF(BC100,$AX$101,0)),0),IF(BC100,BC11-MAX(IF(BC99,$AV$101,0),$AX$101),0),IF(OR(BC99,BC100),0,BC108))","v":1000},null,{"$f":"MAX(IF(BE99,BE11-MAX($AV$101,IF(BE100,$AX$101,0)),0),IF(BE100,BE11-MAX(IF(BE99,$AV$101,0),$AX$101),0),IF(OR(BE99,BE100),0,BE108))","v":1000},null,{"$f":"MAX(IF(BG99,BG11-MAX($AV$101,IF(BG100,$AX$101,0)),0),IF(BG100,BG11-MAX(IF(BG99,$AV$101,0),$AX$101),0),IF(OR(BG99,BG100),0,BG108))","v":800},null,{"$f":"N37+O37+P37","v":230},{"$f":"(N37*$N$40+O37*$O$40+P37*$P$40)/BI90","v":19.913043478260871},110.17391304347825,13,16,null,0,"Brud",0,"Brud",0,"Brud",0,"OK"]
[null,{"$f":"IF($AO$5=1,Sheet3!M13*1000,0)","v":94.834691359391016},{"$f":"IF(Makro!$E$20=1,\"-\",D113)","v":"-"},{"$f":"IF($AO$5=1,Sheet3!N13*1000,0)","v":15.958723960417702},102.35313330358034,14.400855663729523,null,{"$error":"#VALUE!"},null,null,null,null,null,null,null,null,null,null,null,null,null,null,null,null,null,null,null,null,null,null,null,null,null,null,null,null,null,null,null,null,null,null,null,null,null,null,null,null,null,null,null,"ks",{"$f":"1/(1+12*($L$8/($L$13*PI()^2))*(BA107/($M$18))^2)","v":0.75492236139165558},null,{"$f":"1/(1+12*($L$8/($L$13*PI()^2))*(BC107/($M$18))^2)","v":0.75492236139165558},null,{"$f":"1/(1+12*($L$8/($L$13*PI()^2))*(BE107/($M$18))^2)","v":0.75492236139165558},null,{"$f":"1/(1+12*($L$8/($L$13*PI()^2))*(BG107/($M$18))^2)","v":0.75492236139165558},null,{"$f":"N38+O38+P38","v":216},{"$f":"(N38*$N$40+O38*$O$40+P38*$P$40)/BI91","v":17.453703703703702},115.0925925925926,13,16,null,0,"Brud",0,"Brud",0,"Brud",0,"OK"]
[null,{"$f":"IF($AO$5=1,Sheet3!M14*1000,0)","v":160.43648335628694},{"$f":"IF(Makro!$E$20=1,\"-\",D114)","v":"-"},{"$f":"IF($AO$5=1,Sheet3!N14*1000,0)","v":16.137343000308192},142.97975515563516,14.348270933289982,null,{"$error":"#VALUE!"},null,null,null,null,null,null,null,null,null,null,null,null,null,null,null,null,null,null,null,null,null,null,null,null,null,null,null,null,null,"Fejltabel",null,{"$f":"IF(AN145=1,AM145,IF(MAX(AN115:AN145)=0,TRUE,FALSE))","v":"For ny bruger: Klik på knappen 'angiv nyt brugernavn' for ibrugtagning."},null,"Bredder",null,null,null,null,null,null,null,null,null,"NCR",{"$f":"BA113*$AC$8*($M$18-2*$AC$11)","v":0},null,{"$f":"BC113*$AC$8*($M$18-2*$AC$11)","v":0},null,{"$f":"BE113*$AC$8*($M$18-2*$AC$11)","v":0},null,{"$f":"BG113*$AC$8*($M$18-2*$AC$11)","v":0},null,{"$f":"N39+O39+P39","v":240},{"$f":"(N39*$N$40+O39*$O$40+P39*$P$40)/BI92","v":19.708333333333332},110.58333333333334,13,16,null,0,"Brud",0,"Brud",0,"Brud",0,"OK"]
[null,{"$f":"IF($AO$5=1,Sheet3!M15*1000,0)","v":222.96004297027264},{"$f":"IF(Makro!$E$20=1,\"-\",D115)","v":"-"},{"$f":"IF($AO$5=1,Sheet3!N15*1000,0)","v":15.956815759555521},212.66960422804877,13.608601767869708,null,{"$error":"#VALUE!"},null,null,null,null,null,null,null,null,null,null,null,null,null,null,null,null,null,null,null,null,null,null,null,null,null,null,null,null,null,"Programmet modtager ikke negative inddata. ",{"$f":"IF(AN115=0,\"\",AL115)","v":""},{"$f":"IF(MIN(L8:L11,N12:N13,N9:N10,M15:M18,P15:S19,P11,P8:P9,K25:S25,Q27:R27,Q31:R40,N40:P40,S31,S35)<0,1,0)","v":0},null,"b1 =",{"$f":"BA11-BA10","v":1000},null,null,null,null,null,null,null,null,null,null,null,null,null,null,null,null,null,null,null,null,null,null,null,"Brud",{"$f":"COUNTIF(BP105:BP114,\"Brud\")","v":9},null,{"$f":"COUNTIF(BR105:BR114,\"Brud\")","v":9},"Brud",{"$f":"COUNTIF(BT105:BT114,\"Brud\")","v":9},null,{"$f":"COUNTIF(BV105:BV114,\"Brud\")","v":0}]
[null,{"$f":"IF($AO$5=1,Sheet3!M16*1000,0)","v":281.26395607584953},{"$f":"IF(Makro!$E$20=1,\"-\",D116)","v":"-"},{"$f":"IF($AO$5=1,Sheet3!N16*1000,0)","v":15.726266064008323},290.2392524806811,11.991541221448939,null,{"$error":"#VALUE!"},null,null,null,null,null,null,null,null,null,null,null,null,null,null,null,null,null,null,null,null,null,null,null,null,null,null,null,null,null,null,null,null,null,"b2 =",{"$f":"BC11-BC10","v":1000},null,null,null,null,null,null,null,null,null,null,null,null,null,null,null,null,null,null,null,null,null,null,null,"Eksist.",{"$f":"Makro!D1","v":true},null,{"$f":"Makro!D5","v":true},"Eksist.",{"$f":"Makro!D1","v":true},null,{"$f":"Makro!D5","v":true}]
[null,{"$f":"IF($AO$5=1,Sheet3!M17*1000,0)","v":372.55211062345927},{"$f":"IF(Makro!$E$20=1,\"-\",D117)","v":"-"},{"$f":"IF($AO$5=1,Sheet3!N17*1000,0)","v":14.215787599301684},320.42135514782677,11.405583284483372,null,{"$error":"#VALUE!"},null,null,null,null,null,null,null,null,null,null,null,null,null,null,null,null,null,null,null,null,null,null,null,null,null,null,null,null,null,"Partialkoefficienter skal være mellem 1 og 2. ",{"$f":"IF(AN117=0,\"\",AL117)","v":""},{"$f":"IF(OR(L10<1,L11<1,L10>2,L11>2),1,0)","v":0},null,"b3 =",{"$f":"BE11-BE10","v":1000},null,null,null,null,null,null,null,null,null,null,null,null,null,null,null,null,null,null,null,null,null,null,null,"Besked:",{"$f":"IF(AND(BP116,BP115>0),\"(Bjælke A)\",\"\")","v":"(Bjælke A)"},null,{"$f":"IF(AND(BR116,BR115>0),\"(Bjælke B)\",\"\")","v":"(Bjælke B)"},"Besked:",{"$f":"IF(AND(BT116,BT115>0),\"(Bjælke A)\",\"\")","v":"(Bjælke A)"},null,{"$f":"IF(AND(BV116,BV115>0),\"(Bjælke B)\",\"\")","v":""}]
[null,{"$f":"IF($AO$5=1,Sheet3!M18*1000,0)","v":409.2976295214533},{"$f":"IF(Makro!$E$20=1,\"-\",D118)","v":"-"},{"$f":"IF($AO$5=1,Sheet3!N18*1000,0)","v":13.511971415262092},340.97533614800102,11.224588418694184,null,{"$error":"#VALUE!"},null,null,null,null,null,null,null,null,null,null,null,null,null,null,null,null,null,null,null,null,null,null,null,null,null,null,null,null,null,"Geometrikonflikt. ",{"$f":"IF(AN118=0,\"\",AL118)","v":""},{"$f":"IF(OR(BA14<BA15,BC14<BC15,BE14<BE15,BG14<BG15),1,0)","v":0},null,"b4 =",{"$f":"BG11-BG10","v":800}]
[null,{"$f":"IF($AO$5=1,Sheet3!M19*1000,0)","v":438.72337557730248},{"$f":"IF(Makro!$E$20=1,\"-\",D119)","v":"-"},{"$f":"IF($AO$5=1,Sheet3!N19*1000,0)","v":13.20641488207086},360.42001108427149,11.147833622448594,null,{"$error":"#VALUE!"},null,null,null,null,null,null,null,null,null,null,null,null,null,null,null,null,null,null,null,null,null,null,null,null,null,null,null,null,null,"Geometrikonflikt. ",{"$f":"IF(AN119=0,\"\",AL119)","v":""},{"$f":"IF(OR(BC10<BA14,BE10<BC14,BG10<BE14),1,0)","v":0}]
[null,{"$f":"IF($AO$5=1,Sheet3!M20*1000,0)","v":454.01222980350781},{"$f":"IF(Makro!$E$20=1,\"-\",D120)","v":"-"},{"$f":"IF($AO$5=1,Sheet3!N20*1000,0)","v":13.101822519610264},397.1975763516881,11.129393762181509,null,{"$error":"#VALUE!"},null,null,null,null,null,null,null,null,null,null,null,null,null,null,null,null,null,null,null,null,null,null,null,null,null,null,null,null,null,"Overligger under 200 mm. ",{"$f":"IF(AN120=0,\"\",AL120)","v":""},{"$f":"IF(MAX(AT12,AV12,AX12)>AM10-200,1,0)","v":0},null,"A",159,"kN"]
[null,{"$f":"IF($AO$5=1,Sheet3!M21*1000,0)","v":486.15262156283745},{"$f":"IF(Makro!$E$20=1,\"-\",D121)","v":"-"},{"$f":"IF($AO$5=1,Sheet3!N21*1000,0)","v":12.928269277499156},431.64008926719617,11.143080004223235,null,{"$error":"#VALUE!"},null,null,null,null,null,null,null,null,null,null,null,null,null,null,null,null,null,null,null,null,null,null,null,null,null,null,null,null,null,"Lodret bæreevne overskredet: ",{"$f":"IF(AN121=0,\"\",AL121)","v":{"$error":"#VALUE!"}},{"$f":"IF(MAX(AN122:AN125)=0,0,1)","v":{"$error":"#VALUE!"}},null,"B",162,"kN"]
[null,{"$f":"IF($AO$5=1,Sheet3!M22*1000,0)","v":531.30694956371678},{"$f":"IF(Makro!$E$20=1,\"-\",D122)","v":"-"},{"$f":"IF($AO$5=1,Sheet3!N22*1000,0)","v":12.72411883741213},458.74719518891641,11.107813445229453,null,{"$error":"#VALUE!"},null,null,null,null,null,null,null,null,null,null,null,null,null,null,null,null,null,null,null,null,null,null,null,null,null,null,null,null,null," Vægfeltet skal beregnes som søjle. ",{"$f":"IF(AN122=0,\"\",DN54&AL122)","v":{"$error":"#VALUE!"}},{"$f":"IF(DM54=0,0,1)","v":{"$error":"#VALUE!"}},null,"C",202,"kN"]
[null,{"$f":"IF($AO$5=1,Sheet3!M23*1000,0)","v":603.24343691634681},{"$f":"IF(Makro!$E$20=1,\"-\",D123)","v":"-"},{"$f":"IF($AO$5=1,Sheet3!N23*1000,0)","v":12.354297000115572},548.89771510685034,10.993835935587645,null,{"$error":"#VALUE!"},null,null,null,null,null,null,null,null,null,null,null,null,null,null,null,null,null,null,null,null,null,null,null,null,null,null,null,null,null," Vægfeltet skal beregnes som søjle. ",{"$f":"IF(AN123=0,\"\",DN64&AL123)","v":{"$error":"#VALUE!"}},{"$f":"IF(DM64=0,0,1)","v":{"$error":"#VALUE!"}},null,"D",209,"kN"]
[null,{"$f":"IF($AO$5=1,Sheet3!M24*1000,0)","v":681.89283255758096},{"$f":"IF(Makro!$E$20=1,\"-\",D124)","v":"-"},{"$f":"IF($AO$5=1,Sheet3!N24*1000,0)","v":11.736459729850106},644.96012598385937,10.484906499365279,null,{"$error":"#VALUE!"},null,null,null,null,null,null,null,null,null,null,null,null,null,null,null,null,null,null,null,null,null,null,null,null,null,null,null,null,null," Vægfeltet skal beregnes som søjle. ",{"$f":"IF(AN124=0,\"\",DN74&AL124)","v":{"$error":"#VALUE!"}},{"$f":"IF(DM74=0,0,1)","v":{"$error":"#VALUE!"}},null,"E",163,"kN"]
[null,{"$f":"IF($AO$5=1,Sheet3!M25*1000,0)","v":802.62716350397295},{"$f":"IF(Makro!$E$20=1,\"-\",D125)","v":"-"},{"$f":"IF($AO$5=1,Sheet3!N25*1000,0)","v":10.353083040728242},784.99849928688843,9.0473330518759489,null,{"$error":"#VALUE!"},null,null,null,null,null,null,null,null,null,null,null,null,null,null,null,null,null,null,null,null,null,null,null,null,null,null,null,null,null," Vægfeltet skal beregnes som søjle. ",{"$f":"IF(AN125=0,\"\",DN84&AL125)","v":{"$error":"#VALUE!"}},{"$f":"IF(DM84=0,0,1)","v":{"$error":"#VALUE!"}},null,"F",203,"kN"]
[null,{"$f":"IF($AO$5=1,Sheet3!M26*1000,0)","v":998.52543165100712},{"$f":"IF(Makro!$E$20=1,\"-\",D126)","v":"-"},{"$f":"IF($AO$5=1,Sheet3!N26*1000,0)","v":6.8714404032500269},1019.6497254110901,4.7369291846558017,null,{"$error":"#VALUE!"},null,null,null,null,null,null,null,null,null,null,null,null,null,null,null,null,null,null,null,null,null,null,null,null,null,null,null,null,null,null,{"$f":"IF(AN126=0,\"\",AL126)","v":""},null,null,"G",215,"kN"]
[null,{"$f":"IF($AO$5=1,Sheet3!M27*1000,0)","v":998.52543165100712},{"$f":"IF(Makro!$E$20=1,\"-\",D127)","v":"-"},{"$f":"IF($AO$5=1,Sheet3!N27*1000,0)","v":6.8714404032500269},1019.6497254110901,4.7369291846558017,null,{"$error":"#VALUE!"},null,null,null,null,null,null,null,null,null,null,null,null,null,null,null,null,null,null,null,null,null,null,null,null,null,null,null,null,null,"f_yk højst 600 MPa. ",{"$f":"IF(AN127=1,AL127&\" !   \",\"\")","v":""},{"$f":"IF(L9>600,1,0)","v":0},null,"H",213,"kN"]
[null,{"$f":"IF($AO$5=1,Sheet3!M28*1000,0)","v":998.52543165100712},{"$f":"IF(Makro!$E$20=1,\"-\",D128)","v":"-"},{"$f":"IF($AO$5=1,Sheet3!N28*1000,0)","v":6.8714404032500269},1019.6497254110901,4.7369291846558017,null,{"$error":"#VALUE!"},null,null,null,null,null,null,null,null,null,null,null,null,null,null,null,null,null,null,null,null,null,null,null,null,null,null,null,null,null,"Søjlelængde må højst være 60 h. ",{"$f":"IF(AN128=1,AL128&\" !   \",\"\")","v":""},{"$f":"IF(M16>60*M18,1,0)","v":0},null,"I",225,"kN"]
[null,{"$f":"B128","v":998.52543165100712},{"$f":"IF(Makro!$E$20=1,\"-\",D129)","v":"-"},{"$f":"IF($AO$5=1,0.1,0)","v":0.1}]
[null,{"$f":"IF($AO$5=1,S12,0)","v":1685.2707259074043},{"$f":"IF(Makro!$E$20=1,\"-\",D130)","v":"-"},0,null,null,null,null,null,null,null,null,null,null,null,null,null,null,null,null,null,null,null,null,null,null,null,null,null,null,null,null,null,null,null,null,null,"f_ck højst 50 MPa. ",{"$f":"IF(AN130=1,AL130&\" !   \",\"\")","v":""},{"$f":"IF(L8>50,1,0)","v":0}]
[null,null,null,null,null,null,null,null,null,null,null,null,null,null,null,null,null,null,null,null,null,null,null,null,null,null,null,null,null,null,null,null,null,null,null,null,null,"f_ck mindst 20 MPa. ","",{"$f":"IF(L8<20,1,0)","v":0}]
[null,null,null,null,null,null,null,null,null,null,null,null,null,null,null,null,null,null,null,null,null,null,null,null,null,null,null,null,null,null,null,null,null,null,null,null,null,"t mindst 90 mm. ","",{"$f":"IF(M18<90,1,0)","v":0}]
[null,null,null,null,null,null,null,null,null,null,null,null,null,null,null,null,null,null,null,null,null,null,null,null,null,null,null,null,null,null,null,null,null,null,null,null,null,{"$f":"\"A_c og A_t må højst være \"&AU109&\" mm^2. \"","v":"A_c og A_t må højst være 3000 mm^2. "},"",{"$f":"IF(OR(AM110>AU109,AM111>AU109),1,0)","v":0}]
[null,null,null,null,null,null,null,null,null,null,null,null,null,null,null,null,null,null,null,null,null,null,null,null,null,null,null,null,null,null,null,null,null,null,null,null,null,"c højst h/3 ved to lag armering. ","",{"$f":"IF(AND(M15>M18/3,AM110>0),1,0)","v":0}]
[null,null,null,null,null,null,null,null,null,null,null,null,null,null,null,null,null,null,null,null,null,null,null,null,null,null,null,null,null,null,null,null,null,null,null,null,null,{"$f":"\"A_eff > \"&TEXT(0.65*M18*1000/L9,0)&\" mm^2/m symmetrisk om vægmidte ikke opfyldt. \"","v":"A_eff > 177 mm^2/m symmetrisk om vægmidte ikke opfyldt. "},"",{"$f":"IF(MIN(AM110,AM111)*2<0.65*M18*1000/L9,IF(AND(AM111>0.65*M18*1000/L9,M15>=M18/2-20,M15<=M18/2+20),0,1),0)","v":0}]
[null,null,null,null,null,null,null,null,null,null,null,null,null,null,null,null,null,null,null,null,null,null,null,null,null,null,null,null,null,null,null,null,null,null,null,null,null,"Reduceret laste skal være mindre end maskimallaste. ","",{"$f":"IF(K25<N25,1,IF(L25<O25,1,IF(M25<P25,1,0)))","v":0}]
[null,null,null,null,null,null,null,null,null,null,null,null,null,null,null,null,null,null,null,null,null,null,null,null,null,null,null,null,null,null,null,null,null,null,null,null,null,"Minimallaste skal være mindre end reduceret last laste. ","",{"$f":"IF(N25<Q25,1,IF(O25<R25,1,IF(P25<S25,1,0)))","v":0}]
[]
[null,null,null,null,null,null,null,null,null,null,null,null,null,null,null,null,null,null,null,null,null,null,null,null,null,null,null,null,null,null,null,null,null,null,null,null,null,"Vægfelt 1 skal beregnes som søjle, da b er mindre end 4 t. ",{"$f":"IF(AN139=1,AL139&\" !   \",\"\")","v":""},{"$f":"IF(AQ115=0,0,IF($M$18>AQ115/4,1,0))","v":0}]
[null,null,null,null,null,null,null,null,null,null,null,null,null,null,null,null,null,null,null,null,null,null,null,null,null,null,null,null,null,null,null,null,null,null,null,null,null,"Vægfelt 2 skal beregnes som søjle, da b er mindre end 4 t. ",{"$f":"IF(AN140=1,AL140&\" !   \",\"\")","v":""},{"$f":"IF(AQ116=0,0,IF($M$18>AQ116/4,1,0))","v":0}]
[null,null,null,null,null,null,null,null,null,null,null,null,null,null,null,null,null,null,null,null,null,null,null,null,null,null,null,null,null,null,null,null,null,null,null,null,null,"Vægfelt 3 skal beregnes som søjle, da b er mindre end 4 t. ",{"$f":"IF(AN141=1,AL141&\" !   \",\"\")","v":""},{"$f":"IF(AQ117=0,0,IF($M$18>AQ117/4,1,0))","v":0}]
[null,null,null,null,null,null,null,null,null,null,null,null,null,null,null,null,null,null,null,null,null,null,null,null,null,null,null,null,null,null,null,null,null,null,null,null,null,"Vægfelt 4 skal beregnes som søjle, da b er mindre end 4 t. ",{"$f":"IF(AN142=1,AL142&\" !   \",\"\")","v":""},{"$f":"IF(AQ118=0,0,IF($M$18>AQ118/4,1,0))","v":0}]
[null,null,null,null,null,null,null,null,null,null,null,null,null,null,null,null,null,null,null,null,null,null,null,null,null,null,null,null,null,null,null,null,null,null,null,null,null,null,{"$f":"IF(AN143=0,\"\",AL143)","v":""}]
[null,null,null,null,null,null,null,null,null,null,null,null,null,null,null,null,null,null,null,null,null,null,null,null,null,null,null,null,null,null,null,null,null,null,null,null,null,null,{"$f":"IF(AN144=0,\"\",AL144)","v":""}]
[null,null,null,null,null,null,null,null,null,null,null,null,null,null,null,null,null,null,null,null,null,null,null,null,null,null,null,null,null,null,null,null,null,null,null,null,null,"For ny bruger: Klik på knappen 'angiv nyt brugernavn' for ibrugtagning.",{"$f":"IF(AN145=1,AL145,\"\")","v":"For ny bruger: Klik på knappen 'angiv nyt brugernavn' for ibrugtagning."},{"$f":"Makro!E20","v":1}]
[]
[]
[]
[]
[null,null,null,null,null,null,null,null,null,null,null,null,null,null,null,null,null,null,null,null,null,null,null,null,null,null,null,null,null,null,null,null,null,null,null,null,null,"Beregning af krybetal"]
[null,null,null,null,null,null,null,null,null,null,null,null,null,null,null,null,null,null,null,null,null,null,null,null,null,null,null,null,null,null,null,null,null,null,null,null,null,"to",{"$f":"P9","v":28}]
[null,null,null,null,null,null,null,null,null,null,null,null,null,null,null,null,null,null,null,null,null,null,null,null,null,null,null,null,null,null,null,null,null,null,null,null,null,"RH",{"$f":"P8","v":55}]
[null,null,null,null,null,null,null,null,null,null,null,null,null,null,null,null,null,null,null,null,null,null,null,null,null,null,null,null,null,null,null,null,null,null,null,null,null,"h",{"$f":"M18","v":150}]
[null,null,null,null,null,null,null,null,null,null,null,null,null,null,null,null,null,null,null,null,null,null,null,null,null,null,null,null,null,null,null,null,null,null,null,null,null,"b",1000]
[null,null,null,null,null,null,null,null,null,null,null,null,null,null,null,null,null,null,null,null,null,null,null,null,null,null,null,null,null,null,null,null,null,null,null,null,null,"ho",{"$f":"2*AM153*AM154/(2*(AM153+AM154))","v":130.43478260869566}]
[null,null,null,null,null,null,null,null,null,null,null,null,null,null,null,null,null,null,null,null,null,null,null,null,null,null,null,null,null,null,null,null,null,null,null,null,null,"fck",{"$f":"L8","v":20}]
[null,null,null,null,null,null,null,null,null,null,null,null,null,null,null,null,null,null,null,null,null,null,null,null,null,null,null,null,null,null,null,null,null,null,null,null,null,"fcm",{"$f":"AM156+8","v":28}]
[null,null,null,null,null,null,null,null,null,null,null,null,null,null,null,null,null,null,null,null,null,null,null,null,null,null,null,null,null,null,null,null,null,null,null,null,null,"a1",{"$f":"IF(AM157<35,1,(35/AM157)^0.7)","v":1}]
[null,null,null,null,null,null,null,null,null,null,null,null,null,null,null,null,null,null,null,null,null,null,null,null,null,null,null,null,null,null,null,null,null,null,null,null,null,"a2",{"$f":"IF(AM157<35,1,(35/AM157)^0.2)","v":1}]
[null,null,null,null,null,null,null,null,null,null,null,null,null,null,null,null,null,null,null,null,null,null,null,null,null,null,null,null,null,null,null,null,null,null,null,null,null,"f",{"$f":"(1/(0.1+AM151^0.2))*(16.8/AM157^0.5)*(1+10*AM158*(1-AM152/100)/AM155^(1/3))*AM159","v":2.9268201534720455}]

{"sheet":"BRAND","index":1,"n_rows":190,"n_cols":212,"rows_kept":190,"cut":false,"hidden":false,"merged":[[6,96,6,99],[7,56,7,57],[4,2,4,6],[4,8,4,9],[7,52,7,53],[7,54,7,55],[3,10,4,18],[7,46,7,47],[7,42,7,43],[3,2,3,6],[3,8,3,9],[6,92,6,95],[6,88,6,91],[2,10,2,18],[20,53,20,54],[17,44,17,45],[7,44,7,45],[17,46,17,47],[6,19,12,22],[2,2,2,6],[162,73,162,75],[28,10,29,11],[94,65,94,67],[94,69,94,71],[98,47,98,48],[98,45,98,46],[97,49,97,50],[97,51,97,52],[28,12,29,12],[97,53,97,54],[97,55,97,56],[97,45,97,46],[97,47,97,48],[20,51,20,52],[7,50,7,51],[2,8,2,9],[22,16,22,18],[20,55,20,56],[36,19,38,22],[40,19,40,22],[20,8,20,9],[18,8,19,9],[27,13,27,15],[26,14,26,15],[25,14,25,15],[22,10,22,12],[22,13,22,15],[6,2,6,9],[1,10,1,13],[1,14,1,18],[1,2,1,9]]}
[]
[null,"Bruger:",{"$f":"Kold!C2","v":0},null,null,null,null,null,null,null,{"$f":"Kold!K2","v":"Hele vægelementer"},null,null,null,{"$f":"Kold!O2","v":"Betonelement-Foreningen Feb 2019"},null,null,null,null,null,null,null,null,null,null,null,null,null,null,null,null,null,null,null,null,"Tværvæg 1",null,"x =",3000]
[null,"Sagsnavn:",{"$f":"Kold!C3","v":"Betonelementhuset"},null,null,null,null,"Sag nr.:",{"$f":"Kold!I3","v":"23 - 4545"},null,null,null,null,null,null,null,null,null,null,null,null,null,null,null,null,null,null,null,null,null,null,null,null,null,null,"Tværvæg 2",null,"x =",6750]
[null,"Bygningsdel:",{"$f":"Kold!C4","v":"Væg i modul B-C/3"},null,null,null,null,"Dato:",{"$f":"Kold!I4","v":"2007-01-02"},null,{"$f":"AK115&AK116&AK117&AK118&AK119&AK120&AK121&AK122&AK123&AK124&AK125&AK126&AK127&AK128&AK129&AK130&AK131&AK132&AK133&AK134&AK135&AK136&AK137&AK138&AK139&AK140&AK141&AK142&AK143&AK144&AK145","v":{"$error":"#DIV/0!"}}]
[null,"Emne:","Brandlastkombinationer",null,null,null,null,"Init:",{"$f":"Kold!I5","v":"JFJ"},null,null,null,null,null,null,null,null,null,null,"Kommentar"]
[]
[null,null,{"$f":"IF(Makro!B1=1,\"Resultater for felt #1\",IF(Makro!B1=2,\"Resultater for felt #2\",IF(Makro!B1=3,\"Resultater for felt #3\",IF(Makro!B1=4,\"Resultater for felt #4\",\"Vælg et felt og ikke alle felter i nedfaldsmenu\"))))","v":"Vælg et felt og ikke alle felter i nedfaldsmenu"},null,null,null,null,null,null,null,"Materialer",null,"Armering",null,"Brandpåvirkning",null,"Reduktionsparametre",null,null,"Brudmåde 1 angiver den udbøjningsretning, hvor nv er den drivende normalkraft og omvendt for brudmåde 2 Linielast fra vind på døre/vinduer samt last fra bjælker fordeles elastisk i nabovægfelt.",null,null,null,null,null,null,null,null,null,null,null,null,null,null,null,"HOVEDGEOMETRI",null,null,null,null,null,"ELEMENTGRAFIK",null,null,null,null,null,null,null,"VÆGFELTER",null,null,null,null,null,null,null,null,null,null,null,null,null,null,null,null,null,null,null,null,null,null,null,null,null,null,null,null,null,null,null,null,null,null,null,null,null,null,"Venstre",null,null,null,"Midt",null,null,null,"Højre"]
[null,null,"nEd","m0Ed","m0Rd","u","e0 / (1+f) ","ssc","sst","x","fck =",{"$f":"Kold!L8","v":20},"Trykarmering",null,"Tid :",60,"Randzone:","a",{"$f":"Firsidig!E24*1000","v":17.991000332005289},null,null,null,null,null,null,null,null,null,null,null,null,null,null,null,null,null,null,null,null,null,null,null,"Elementrand",null,"Vindue 2",null,"Vindue 1",null,null,null,"Felt 1",null,"Felt 2",null,"Felt 3",null,"Felt 4",null,null,null,null,"NcR","t","Ls","B","b1","b2","h1","h2","Nabo","L1","L2","Tilf","b_v/H","b_h/H","s1'","s2'","n","en","N1","eN1","N2","eN2","w","mw","s1","s0","s2","n-s1","m-s1","sMIN","sMAX","n-s0","m-s0","sMIN","sMAX","n-s2","m-s2","sMIN","sMAX"]
[null,"Lasttilfælde","(KN/m)","(kNm/m)","(kNm/m)","(mm)","(0/00)","(MPa)","(MPa)","(mm)","fyk =",{"$f":"Kold!L9","v":550},"da",{"$f":"Kold!N9","v":8},"Brand",null,"Beton:","kc,M",{"$f":"Firsidig!E21","v":1},null,null,null,null,null,null,null,null,null,null,null,null,"Krybning",null,null,null,null,"H","B",null,null,null,null,"x","y","x","y","x","y",null,null,"x","y","x","y","x","y","x","y",null,"Felt 1",null,{"$f":"$AA$13/1000","v":0},{"$f":"$M$18/1000","v":0.15},{"$f":"$AY$107/1000","v":3},{"$f":"($AY$11-$AY$10)/1000","v":1},{"$f":"($AY$16-$AY$17)/1000","v":0.15},{"$f":"($AY$12-$AY$13)/1000","v":0},{"$f":"$AZ$16/1000","v":2.5},{"$f":"$AZ$13/1000","v":2.5},{"$f":"IF($BA$10=1000000,FALSE,TRUE)","v":true},{"$f":"IF(AND($AO$13,$AR$76=1),$AS$80,0)","v":0},{"$f":"IF(BR9,0.5*$AZ$21/1000,IF(AND($AO$17,$AR$77=1),$BA$80,0))","v":0.75},{"$f":"AY105","v":0},{"$f":"AY110/M16","v":0.33333333333333331},{"$f":"AY112/M16","v":0.33333333333333331},{"$f":"BN9+BP9/6","v":0.56666666666666665},{"$f":"BO9+BQ9/6","v":0.41666666666666669},null,null,null,null,null,null,null,null,null,null,null,null,null,null,null,null,null,null,null,null,null,null,null,null,null,null,null,null,null,null,null,null,null,null,null,null,null,null,null,null,null,null,null,null,null,null,null,null,null,null,null,null,null,null,null,null,null,null,null,null,null,null,null,null,null,null,null,null,null,null,null,null,null,null,null,null,null,null,null,null,null,null,null,null,null,null,null,null,null,null,null,null,null,null,null,null,null,null,null,null,null,null,null,null,null,null,null,null,null,null,null,null,null,null,null,null,null,null,null,null,null,null,null,null,null,null,null,null,null,null,null,null,null,"Bruger skal registreres",1]
[null,{"$f":"K31","v":"A"},{"$f":"IF(Makro!B1=5,\"#\",Sheet3!Y87*1000)","v":"#"},{"$f":"IF(Makro!$B$1=1,DD55,IF(Makro!$B$1=2,DD65,IF(Makro!$B$1=3,DD75,IF(Makro!$B$1=4,DD85,\"#\"))))","v":"#"},{"$f":"IF(Makro!B1=5,\"#\",Sheet3!AO87*1000)","v":"#"},{"$f":"IF(Makro!B1=5,\"#\",Sheet3!AM87*1000)","v":"#"},{"$f":"IF(Makro!B1=5,\"#\",Sheet3!AA87*1000)","v":"#"},{"$f":"IF(Makro!$B$1=5,\"#\",3*(G10/1000)*($L$8/$L$10*$S$9)/(Firsidig!$F$21*(2+((G10/1000)/Firsidig!$F$21)^3)))","v":"#"},{"$f":"IF(Makro!B1=5,\"#\",Sheet3!AJ87)","v":"#"},{"$f":"IF(Makro!B1=5,\"#\",Sheet3!AL87*1000)","v":"#"},"gc =",1,"Antal",{"$f":"Kold!N10","v":6.67},"Trykside",{"$f":"IF(Makro!B5=2,\"JA\",\"NEJ\")","v":"JA"},"Trykarm:","fsy,q / fyk",{"$f":"Firsidig!E35","v":0.9252913198950935},null,null,null,null,null,null,null,null,null,null,null,null,null,"fo",{"$f":"Kold!P10","v":2.9268201534720455},null,null,{"$f":"M16","v":3000},{"$f":"M17","v":7000},null,null,null,null,0,0,{"$f":"AM16","v":5500},{"$f":"AN16","v":1000},{"$f":"AM14","v":1000},{"$f":"AN14","v":1000},null,1,{"$f":"INDEX(Felt1,AX10,1+($AT$26-1)*2)","v":0},{"$f":"INDEX(Felt1,AX10,2+($AT$26-1)*2)","v":0},{"$f":"INDEX(Felt2,AX10,1+($AT$26-1)*2)","v":2500},{"$f":"INDEX(Felt2,AX10,2+($AT$26-1)*2)","v":0},{"$f":"INDEX(Felt3,AX10,1+($AT$26-1)*2)","v":4500},{"$f":"INDEX(Felt3,AX10,2+($AT$26-1)*2)","v":0},{"$f":"INDEX(Felt4,AX10,1+($AT$26-1)*2)","v":6200},{"$f":"INDEX(Felt4,AX10,2+($AT$26-1)*2)","v":0},null,"Lasttilfælde",{"$f":"K31","v":"A"},{"$f":"BJ9","v":0},{"$f":"BK9","v":0.15},{"$f":"BL9","v":3},{"$f":"BM9","v":1},{"$f":"BN9","v":0.15},{"$f":"BO9","v":0},{"$f":"BP9","v":2.5},{"$f":"BQ9","v":2.5},{"$f":"BR9","v":true},{"$f":"BS9","v":0},{"$f":"BT9","v":0.75},{"$f":"BU9","v":0},{"$f":"BV9","v":0.33333333333333331},{"$f":"BW9","v":0.33333333333333331},{"$f":"BX9","v":0.56666666666666665},{"$f":"BY9","v":0.41666666666666669},{"$f":"SUM(N31:P31)/1000","v":0.159},{"$f":"IF(BZ10=0,0,(N31*$N$41+O31*$O$41-P31*$P$41)/(1000000*BZ10))","v":1.518867924528302E-2},{"$f":"AS84/1000","v":0},{"$f":"AT84/1000","v":0},{"$f":"IF(BR10,BT10*BZ10,$BA$84/1000)","v":0.11924999999999999},{"$f":"IF(BR10,CA10,$BB$84/1000)","v":1.518867924528302E-2},{"$f":"S31/1000","v":9.3999999999999997E-4},{"$f":"0.125*CF10*BL10^2","v":1.0575000000000001E-3},{"$f":"IF(BX10+BY10<=BM10,BX10,MIN(IF(CB10=0,0,BM10*CB10/(CB10+CD10)),BX10))","v":0.56666666666666665},{"$f":"BM10-CH10-CJ10","v":1.6666666666666663E-2},{"$f":"IF(BX10+BY10<=BM10,BY10,MIN(IF(CD10=0,0,BM10*CD10/(CB10+CD10)),BY10))","v":0.41666666666666669},{"$f":"IF(CH10=0,0,BZ10+CB10/CH10)","v":0.159},{"$f":"IF(CH10=0,CA10*BZ10,CA10*BZ10+CC10*CB10/CH10)+CG10+IF(BU10=0,CF10*BS10*BL10*IF(BV10>1,0.27,BV10^-1/8-29*BV10^2/800+141*BV10/800)+CF10*BT10*BL10*IF(BW10>1.5,0,BW10^-1/8+2*BW10^2/27-BW10/6),IF(BV10<0.2,CF10*BS10*BL10*0.6*BV10,CF10*BS10*BL10*IF(BV10<1,(1125*BV10^3-3225*BV10^2+3075*BV10-111)/3200,0.27)))","v":4.1655324074074077E-3},{"$f":"CK10/($BK10)-6*($BJ10/($BJ10-CK10))*(CL10/$BK10^2)","v":1.06},{"$f":"CK10/($BK10)+6*($BJ10/($BJ10-CK10))*(CL10/$BK10^2)","v":1.06},{"$f":"IF(CI10=0,CK10,BZ10)","v":0.159},{"$f":"IF(CI10=0,CL10,CA10*BZ10+CG10+IF(BU10=0,CF10*(BS10+BT10)/BM10,0))","v":4.1774999999999998E-3},{"$f":"CO10/($BK10)-6*($BJ10/($BJ10-CO10))*(CP10/$BK10^2)","v":1.06},{"$f":"CO10/($BK10)+6*($BJ10/($BJ10-CO10))*(CP10/$BK10^2)","v":1.06},{"$f":"IF(CJ10=0,0,BZ10+CD10/CJ10)","v":0.44519999999999993},{"$f":"IF(CJ10=0,CA10*BZ10,CA10*BZ10+CD10*CE10/CJ10)+CG10+IF(BU10=0,CF10*BT10*BL10*IF(BW10>1,0.27,BW10^-1/8-29*BW10^2/800+141*BW10/800)+CF10*BS10*BL10*IF(BV10>1.5,0,BV10^-1/8+2*BV10^2/27-BV10/6),IF(BW10<0.2,CF10*BT10*BL10*0.6*BW10,CF10*BT10*BL10*IF(BW10<1,(1125*BW10^3-3225*BW10^2+3075*BW10-111)/3200,0.27)))","v":8.7283624999999979E-3},{"$f":"CS10/($BK10)-6*($BJ10/($BJ10-CS10))*(CT10/$BK10^2)","v":2.9679999999999995},{"$f":"CS10/($BK10)+6*($BJ10/($BJ10-CS10))*(CT10/$BK10^2)","v":2.9679999999999995}]
[null,"B",{"$f":"IF(Makro!B1=5,\"#\",Sheet3!Y92*1000)","v":"#"},{"$f":"IF(Makro!$B$1=1,DD56,IF(Makro!$B$1=2,DD66,IF(Makro!$B$1=3,DD76,IF(Makro!$B$1=4,DD86,\"#\"))))","v":"#"},{"$f":"IF(Makro!B1=5,\"#\",Sheet3!AO92*1000)","v":"#"},{"$f":"IF(Makro!B1=5,\"#\",Sheet3!AM92*1000)","v":"#"},{"$f":"IF(Makro!B1=5,\"#\",Sheet3!AA92*1000)","v":"#"},{"$f":"IF(Makro!$B$1=5,\"#\",3*(G11/1000)*($L$8/$L$10*$S$9)/(Firsidig!$F$21*(2+((G11/1000)/Firsidig!$F$21)^3)))","v":"#"},{"$f":"IF(Makro!B1=5,\"#\",Sheet3!AJ92)","v":"#"},{"$f":"IF(Makro!B1=5,\"#\",Sheet3!AL92*1000)","v":"#"},"gs =",1,"Trækarmering",null,"Trækside",{"$f":"IF(Makro!B6=2,\"JA\",\"NEJ\")","v":"NEJ"},null,"Es,q / Es",{"$f":"Firsidig!E34","v":0.99705826397901876},null,null,null,null,null,null,null,null,null,null,null,null,null,"M0Eqp/M0Ed",1,null,null,null,null,null,null,null,null,{"$f":"AM15","v":3500},0,{"$f":"AS10+AL16","v":6200},{"$f":"AT10","v":1000},{"$f":"AU10+AL14","v":2500},{"$f":"AV10","v":1000},null,2,1000,0,3500,0,5500,0,7000,0,null,null,"B",0,0.15,3,1,0.15,0,2.5,2.5,true,0,0.75,0,0.33333333333333331,0.33333333333333331,0.56666666666666665,0.41666666666666669,0.16200000000000001,1.5617283950617284E-2,0,0,0.1215,{"$f":"IF(BR11,CA11,BB85/1000)","v":1.5617283950617284E-2},9.3999999999999997E-4,1.0575000000000001E-3,0.56666666666666665,1.6666666666666663E-2,0.41666666666666669,0.16200000000000001,4.2805324074074082E-3,1.08,1.08,0.16200000000000001,4.2925000000000003E-3,1.08,1.08,0.4536,9.050362499999999E-3,3.024,3.024]
[null,"C",{"$f":"IF(Makro!B1=5,\"#\",Sheet3!Y97*1000)","v":"#"},{"$f":"IF(Makro!$B$1=1,DD57,IF(Makro!$B$1=2,DD67,IF(Makro!$B$1=3,DD77,IF(Makro!$B$1=4,DD87,\"#\"))))","v":"#"},{"$f":"IF(Makro!B1=5,\"#\",Sheet3!AO97*1000)","v":"#"},{"$f":"IF(Makro!B1=5,\"#\",Sheet3!AM97*1000)","v":"#"},{"$f":"IF(Makro!B1=5,\"#\",Sheet3!AA97*1000)","v":"#"},{"$f":"IF(Makro!$B$1=5,\"#\",3*(G12/1000)*($L$8/$L$10*$S$9)/(Firsidig!$F$21*(2+((G12/1000)/Firsidig!$F$21)^3)))","v":"#"},{"$f":"IF(Makro!B1=5,\"#\",Sheet3!AJ97)","v":"#"},{"$f":"IF(Makro!B1=5,\"#\",Sheet3!AL97*1000)","v":"#"},"Ecd =",{"$f":"1000*22*((L8+8)/10)^0.3/L10","v":29961.951054640307},"da",{"$f":"Kold!N12","v":8},{"$f":"INDEX($AN$141:$AN$142,Makro!$B$7,1)","v":"Tilslag: Søsand / granit"},null,"Trækarm:","fsy,q / fyk",{"$f":"Firsidig!E41","v":1},null,null,null,null,null,null,null,null,null,null,null,null,null,"fef",{"$f":"AH10*AH11","v":2.9268201534720455},null,null,"h","b","x","y",null,null,{"$f":"AQ11","v":3500},{"$f":"AK15","v":2500},{"$f":"AS11","v":6200},{"$f":"AT11+AK16","v":2500},{"$f":"AU11","v":2500},{"$f":"AV11+AK14","v":2500},null,3,1000,2500,3500,2500,5500,2500,7000,3000,null,null,"C",0,0.15,3,1,0.15,0,2.5,2.5,true,0,0.75,0,0.33333333333333331,0.33333333333333331,0.56666666666666665,0.41666666666666669,0.20200000000000001,1.5495049504950495E-2,0,0,0.15150000000000002,1.5495049504950495E-2,9.3999999999999997E-4,1.0575000000000001E-3,0.56666666666666665,1.6666666666666663E-2,0.41666666666666669,0.20200000000000001,4.8805324074074081E-3,1.3466666666666669,1.3466666666666669,0.20200000000000001,4.8925000000000001E-3,1.3466666666666669,1.3466666666666669,0.5656000000000001,1.07303625E-2,3.7706666666666675,3.7706666666666675]
[null,"D",{"$f":"IF(Makro!B1=5,\"#\",Sheet3!Y102*1000)","v":"#"},{"$f":"IF(Makro!$B$1=1,DD58,IF(Makro!$B$1=2,DD68,IF(Makro!$B$1=3,DD78,IF(Makro!$B$1=4,DD88,\"#\"))))","v":"#"},{"$f":"IF(Makro!B1=5,\"#\",Sheet3!AO102*1000)","v":"#"},{"$f":"IF(Makro!B1=5,\"#\",Sheet3!AM102*1000)","v":"#"},{"$f":"IF(Makro!B1=5,\"#\",Sheet3!AA102*1000)","v":"#"},{"$f":"IF(Makro!$B$1=5,\"#\",3*(G13/1000)*($L$8/$L$10*$S$9)/(Firsidig!$F$21*(2+((G13/1000)/Firsidig!$F$21)^3)))","v":"#"},{"$f":"IF(Makro!B1=5,\"#\",Sheet3!AJ102)","v":"#"},{"$f":"IF(Makro!B1=5,\"#\",Sheet3!AL102*1000)","v":"#"},"Ecm =",{"$f":"L12*L10","v":29961.951054640307},"Antal",{"$f":"Kold!N13","v":6.67},{"$f":"INDEX($AN$150:$AN$152,Makro!$B$8,1)","v":"Stål: Bratkølet"},null,null,"Es,q / Es",{"$f":"Firsidig!E40","v":1},null,null,null,null,null,null,null,null,null,null,null,null,null,{"$f":"IF(OR(Makro!B3=10,AN178=1),\"Der regnes med fuld krybning\",\"Udbøjningstillæg fra krybning:\")","v":"Udbøjningstillæg fra krybning:"},null,null,null,{"$f":"P15","v":500},150,null,null,{"$f":"Makro!D1","v":true},null,{"$f":"AQ12+AL15","v":4500},{"$f":"AR12","v":2500},{"$f":"AS10","v":5500},{"$f":"AT12","v":2500},{"$f":"AU10","v":1000},{"$f":"AV12","v":2500},null,4,1000,2500,3500,2500,5500,2500,7000,3000,null,null,"D",0,0.15,3,1,0.15,0,2.5,2.5,true,0,0.75,0,0.33333333333333331,0.33333333333333331,0.56666666666666665,0.41666666666666669,0.20899999999999999,1.4250398724082935E-2,0,0,0.15675,1.4250398724082935E-2,9.3999999999999997E-4,1.0575000000000001E-3,0.56666666666666665,1.6666666666666663E-2,0.41666666666666669,0.20899999999999999,4.7288657407407409E-3,1.3933333333333333,1.3933333333333333,0.20899999999999999,4.740833333333333E-3,1.3933333333333333,1.3933333333333333,0.58519999999999994,1.0305695833333333E-2,3.9013333333333331,3.9013333333333331]
[null,"E",{"$f":"IF(Makro!B1=5,\"#\",Sheet3!Y107*1000)","v":"#"},{"$f":"IF(Makro!$B$1=1,DD59,IF(Makro!$B$1=2,DD69,IF(Makro!$B$1=3,DD79,IF(Makro!$B$1=4,DD89,\"#\"))))","v":"#"},{"$f":"IF(Makro!B1=5,\"#\",Sheet3!AO107*1000)","v":"#"},{"$f":"IF(Makro!B1=5,\"#\",Sheet3!AM107*1000)","v":"#"},{"$f":"IF(Makro!B1=5,\"#\",Sheet3!AA107*1000)","v":"#"},{"$f":"IF(Makro!$B$1=5,\"#\",3*(G14/1000)*($L$8/$L$10*$S$9)/(Firsidig!$F$21*(2+((G14/1000)/Firsidig!$F$21)^3)))","v":"#"},{"$f":"IF(Makro!B1=5,\"#\",Sheet3!AJ107)","v":"#"},{"$f":"IF(Makro!B1=5,\"#\",Sheet3!AL107*1000)","v":"#"},"Geometri - alle mål i mm",null,null,"Udsparinger",null,"h","b","x","y",null,null,null,null,null,null,null,null,null,null,null,null,null,"Dukrybning",{"$f":"IF(OR(Makro!B3=10,AN178=1),\"-          \",AO185*1000)","v":1.0114739507920325},null,null,1500,1500,{"$f":"R16","v":1000},{"$f":"S16","v":1000},{"$f":"Makro!D2","v":true},null,{"$f":"AQ13","v":4500},{"$f":"0","v":0},{"$f":"AS10","v":5500},{"$f":"AT10","v":1000},{"$f":"AU10","v":1000},{"$f":"AV10","v":1000},null,5,1000,3000,3500,3000,5500,3000,7000,3000,null,null,"E",0,0.15,3,1,0.15,0,2.5,2.5,true,0,0.75,0,0.33333333333333331,0.33333333333333331,0.56666666666666665,0.41666666666666669,0.16600000000000001,1.6164658634538153E-2,0,0,0.1245,1.6164658634538153E-2,4.6999999999999999E-4,5.2875000000000003E-4,0.56666666666666665,1.6666666666666663E-2,0.41666666666666669,0.16600000000000001,3.5585995370370376E-3,1.1066666666666667,1.1066666666666667,0.16600000000000001,3.5645833333333337E-3,1.1066666666666667,1.1066666666666667,0.46479999999999999,8.4965145833333332E-3,3.0986666666666669,3.0986666666666669]
[null,"F",{"$f":"IF(Makro!B1=5,\"#\",Sheet3!Y112*1000)","v":"#"},{"$f":"IF(Makro!$B$1=1,DD60,IF(Makro!$B$1=2,DD70,IF(Makro!$B$1=3,DD80,IF(Makro!$B$1=4,DD90,\"#\"))))","v":"#"},{"$f":"IF(Makro!B1=5,\"#\",Sheet3!AO112*1000)","v":"#"},{"$f":"IF(Makro!B1=5,\"#\",Sheet3!AM112*1000)","v":"#"},{"$f":"IF(Makro!B1=5,\"#\",Sheet3!AA112*1000)","v":"#"},{"$f":"IF(Makro!$B$1=5,\"#\",3*(G15/1000)*($L$8/$L$10*$S$9)/(Firsidig!$F$21*(2+((G15/1000)/Firsidig!$F$21)^3)))","v":"#"},{"$f":"IF(Makro!B1=5,\"#\",Sheet3!AJ112)","v":"#"},{"$f":"IF(Makro!B1=5,\"#\",Sheet3!AL112*1000)","v":"#"},"  Dæklag,       c =",null,{"$f":"Kold!M15","v":40},"  Bjælke A",null,500,150,null,null,null,null,null,null,null,null,null,null,null,null,null,null,null,null,null,null,null,2500,1000,{"$f":"R17","v":3500},null,{"$f":"Makro!D3","v":true},null,{"$f":"AL10","v":7000},0,null,null,null,null,null,6,150,3000,2500,3000,4500,3000,6200,3000,null,null,"F",0,0.15,3,1,0.15,0,2.5,2.5,true,0,0.75,0,0.33333333333333331,0.33333333333333331,0.56666666666666665,0.41666666666666669,0.20599999999999999,1.5938511326860843E-2,0,0,0.1545,1.5938511326860843E-2,4.6999999999999999E-4,5.2875000000000003E-4,0.56666666666666665,1.6666666666666663E-2,0.41666666666666669,0.20599999999999999,4.158599537037037E-3,1.3733333333333333,1.3733333333333333,0.20599999999999999,4.1645833333333335E-3,1.3733333333333333,1.3733333333333333,0.57679999999999998,1.0176514583333334E-2,3.8453333333333335,3.8453333333333335]
[null,"G",{"$f":"IF(Makro!B1=5,\"#\",Sheet3!Y117*1000)","v":"#"},{"$f":"IF(Makro!$B$1=1,DD61,IF(Makro!$B$1=2,DD71,IF(Makro!$B$1=3,DD81,IF(Makro!$B$1=4,DD91,\"#\"))))","v":"#"},{"$f":"IF(Makro!B1=5,\"#\",Sheet3!AO117*1000)","v":"#"},{"$f":"IF(Makro!B1=5,\"#\",Sheet3!AM117*1000)","v":"#"},{"$f":"IF(Makro!B1=5,\"#\",Sheet3!AA117*1000)","v":"#"},{"$f":"IF(Makro!$B$1=5,\"#\",3*(G16/1000)*($L$8/$L$10*$S$9)/(Firsidig!$F$21*(2+((G16/1000)/Firsidig!$F$21)^3)))","v":"#"},{"$f":"IF(Makro!B1=5,\"#\",Sheet3!AJ117)","v":"#"},{"$f":"IF(Makro!B1=5,\"#\",Sheet3!AL117*1000)","v":"#"},"  Væghøjde,    H =",null,{"$f":"Kold!M16","v":3000},"  Vindue 1",null,1500,1500,1000,1000,null,null,null,null,null,null,null,null,null,null,null,null,null,"Søjlebæreevne",null,null,null,1500,700,{"$f":"R18","v":5500},{"$f":"S18","v":1000},{"$f":"Makro!D4","v":true},null,{"$f":"AQ15","v":7000},{"$f":"AK10-AK17","v":3000},null,null,null,null,null,7,150,2500,2500,2500,4500,2500,6200,2500,null,null,"G",0,0.15,3,1,0.15,0,2.5,2.5,true,0,0.75,0,0.33333333333333331,0.33333333333333331,0.56666666666666665,0.41666666666666669,0.23,1.201449275362319E-2,0,0,0.17250000000000001,1.201449275362319E-2,4.6999999999999999E-4,5.2875000000000003E-4,0.56666666666666665,1.6666666666666663E-2,0.41666666666666669,0.23,3.6385995370370378E-3,1.5333333333333334,1.5333333333333334,0.23,3.6445833333333339E-3,1.5333333333333334,1.5333333333333334,0.64400000000000002,8.7205145833333352E-3,4.2933333333333339,4.2933333333333339]
[null,"H",{"$f":"IF(Makro!B1=5,\"#\",Sheet3!Y122*1000)","v":"#"},{"$f":"IF(Makro!$B$1=1,DD62,IF(Makro!$B$1=2,DD72,IF(Makro!$B$1=3,DD82,IF(Makro!$B$1=4,DD92,\"#\"))))","v":"#"},{"$f":"IF(Makro!B1=5,\"#\",Sheet3!AO122*1000)","v":"#"},{"$f":"IF(Makro!B1=5,\"#\",Sheet3!AM122*1000)","v":"#"},{"$f":"IF(Makro!B1=5,\"#\",Sheet3!AA122*1000)","v":"#"},{"$f":"IF(Makro!$B$1=5,\"#\",3*(G17/1000)*($L$8/$L$10*$S$9)/(Firsidig!$F$21*(2+((G17/1000)/Firsidig!$F$21)^3)))","v":"#"},{"$f":"IF(Makro!B1=5,\"#\",Sheet3!AJ122)","v":"#"},{"$f":"IF(Makro!B1=5,\"#\",Sheet3!AL122*1000)","v":"#"},"  Vægbredde,  B",null,{"$f":"Kold!M17","v":7000},"  Dør",null,2500,1000,3500,null,null,null,null,null,null,null,null,null,null,null,null,null,null,"for e = 0 mm",null,null,null,0,0,null,null,{"$f":"Makro!D5","v":true},null,{"$f":"AQ16-AL17","v":7000},{"$f":"AR16","v":3000},null,null,null,null,null,8,0,2500,2500,2500,4500,2500,6200,2500,null,null,"H",0,0.15,3,1,0.15,0,2.5,2.5,true,0,0.75,0,0.33333333333333331,0.33333333333333331,0.56666666666666665,0.41666666666666669,0.216,1.5895061728395062E-2,0,0,0.16200000000000001,1.5895061728395062E-2,4.6999999999999999E-4,5.2875000000000003E-4,0.56666666666666665,1.6666666666666663E-2,0.41666666666666669,0.216,4.308599537037037E-3,1.44,1.44,0.216,4.3145833333333335E-3,1.44,1.44,0.6048,1.0596514583333333E-2,4.032,4.032]
[null,"I",{"$f":"IF(Makro!B1=5,\"#\",Sheet3!Y127*1000)","v":"#"},{"$f":"IF(Makro!$B$1=1,DD63,IF(Makro!$B$1=2,DD73,IF(Makro!$B$1=3,DD83,IF(Makro!$B$1=4,DD93,\"#\"))))","v":"#"},{"$f":"IF(Makro!B1=5,\"#\",Sheet3!AO127*1000)","v":"#"},{"$f":"IF(Makro!B1=5,\"#\",Sheet3!AM127*1000)","v":"#"},{"$f":"IF(Makro!B1=5,\"#\",Sheet3!AA127*1000)","v":"#"},{"$f":"IF(Makro!$B$1=5,\"#\",3*(G18/1000)*($L$8/$L$10*$S$9)/(Firsidig!$F$21*(2+((G18/1000)/Firsidig!$F$21)^3)))","v":"#"},{"$f":"IF(Makro!B1=5,\"#\",Sheet3!AJ127)","v":"#"},{"$f":"IF(Makro!B1=5,\"#\",Sheet3!AL127*1000)","v":"#"},"  Vægtykkelse, t",null,{"$f":"Kold!M18","v":150},"  Vindue 2",null,1500,700,5500,1000,null,null,null,null,null,null,null,null,null,null,null,null,null,"fcd",{"$f":"L8/L10*S9","v":20},null,null,null,null,null,null,null,null,{"$f":"AQ17","v":7000},{"$f":"AK10","v":3000},"NA",null,"NB",null,null,9,0,0,2500,0,4500,0,6200,0,null,null,"I",0,0.15,3,1,0.15,0,2.5,2.5,true,0,0.75,0,0.33333333333333331,0.33333333333333331,0.56666666666666665,0.41666666666666669,0.24,1.213888888888889E-2,0,0,0.18,1.213888888888889E-2,4.6999999999999999E-4,5.2875000000000003E-4,0.56666666666666665,1.6666666666666663E-2,0.41666666666666669,0.24,3.7885995370370374E-3,1.6,1.6,0.24,3.7945833333333334E-3,1.6,1.6,0.67199999999999993,9.1405145833333337E-3,4.4799999999999995,4.4799999999999995]
[null,null,null,null,null,null,null,null,"Vælg et felt nr.",null,"  Søjlelængde,   Ls =",null,{"$f":"AN131","v":"0,7·H"},"  Bjælke B",null,null,null,null,null,null,null,null,null,null,null,null,null,null,null,null,null,null,"E0",{"$f":"2*AH18/Firsidig!F21","v":13270.53457580079},null,null,null,null,null,null,null,null,{"$f":"AL13","v":150},{"$f":"AR18","v":3000},"x","y","x","y",null,null,null,null,null,null,null,null,null,null,null,"Felt 2",null,{"$f":"$AA$13/1000","v":0},{"$f":"$M$18/1000","v":0.15},{"$f":"$BA$107/1000","v":3},{"$f":"($BA$11-$BA$10)/1000","v":1},{"$f":"($BA$16-$BA$17)/1000","v":0},{"$f":"($BA$12-$BA$13)/1000","v":0},{"$f":"$BB$16/1000","v":2.5},{"$f":"$BB$13/1000","v":2.5},{"$f":"IF($BC$10=1000000,FALSE,TRUE)","v":true},{"$f":"BT9","v":0.75},{"$f":"IF(BR19,0.5*$BB$21/1000,IF(AND($AO$17,$AR$77=1),$BA$80,0))","v":0.5},{"$f":"BA105","v":0},{"$f":"BA110/M16","v":0.33333333333333331},{"$f":"BA112/M16","v":0.33333333333333331},{"$f":"BN19+BP19/6","v":0.41666666666666669},{"$f":"BO19+BQ19/6","v":0.41666666666666669}]
[null,null,null,null,null,null,null,null,null,null,"h og b er hhv højde og bredde af hullet i væggen. x og y angiver koordinaten til det nederste venstre hjørne.",null,null,null,null,null,null,null,null,null,null,null,null,null,null,null,null,null,null,null,null,null,null,null,null,null,"Vederlagsdybder",null,null,{"$f":"AH20","v":0},null,null,{"$f":"AQ19","v":150},{"$f":"AR19-AK13","v":2500},2,{"$f":"IF(AO13,AR20,1000000)","v":2500},{"$f":"IF(AO17,0.5*(AQ16+AQ17),1000000)","v":7000},{"$f":"IF(AO17,AR16,1000000)","v":3000},null,"OVERLIGGERE",null,null,null,null,null,null,null,null,null,"Lasttilfælde",{"$f":"K31","v":"A"},{"$f":"BJ19","v":0},{"$f":"BK19","v":0.15},{"$f":"BL19","v":3},{"$f":"BM19","v":1},{"$f":"BN19","v":0},{"$f":"BO19","v":0},{"$f":"BP19","v":2.5},{"$f":"BQ19","v":2.5},{"$f":"BR19","v":true},{"$f":"BS19","v":0.75},{"$f":"BT19","v":0.5},{"$f":"BU19","v":0},{"$f":"BV19","v":0.33333333333333331},{"$f":"BW19","v":0.33333333333333331},{"$f":"BX19","v":0.41666666666666669},{"$f":"BY19","v":0.41666666666666669},{"$f":"BZ10","v":0.159},1.518867924528302E-2,{"$f":"CD10","v":0.11924999999999999},{"$f":"CE10","v":1.518867924528302E-2},{"$f":"IF(BR20,BT20*BZ20,BA84/1000)","v":7.9500000000000001E-2},{"$f":"IF(BR20,CA20,BB84/1000)","v":1.518867924528302E-2},{"$f":"CF10","v":9.3999999999999997E-4},{"$f":"0.125*CF20*BL20^2","v":1.0575000000000001E-3},{"$f":"IF(BX20+BY20<=BM20,BX20,MIN(IF(CB20=0,0,BM20*CB20/(CB20+CD20)),BX20))","v":0.41666666666666669},{"$f":"BM20-CH20-CJ20","v":0.16666666666666657},{"$f":"IF(BX20+BY20<=BM20,BY20,MIN(IF(CD20=0,0,BM20*CD20/(CB20+CD20)),BY20))","v":0.41666666666666669},{"$f":"IF(CH20=0,0,BZ20+CB20/CH20)","v":0.44519999999999993},{"$f":"IF(BR10,IF(CH20=0,CA20*BZ20,CA20*BZ20+CC20*CB20/CH20)+CG20+IF(BU20=0,CF20*BS20*BL20*IF(BV20>1,0.27,BV20^-1/8-29*BV20^2/800+141*BV20/800)+CF20*BT20*BL20*IF(BW20>1.5,0,BW20^-1/8+2*BW20^2/27-BW20/6),IF(BV20<0.2,CF20*BS20*BL20*0.6*BV20,CF20*BS20*BL20*IF(BV20<1,(1125*BV20^3-3225*BV20^2+3075*BV20-111)/3200,0.27))),0)","v":9.1903841049382692E-3},{"$f":"CK20/($BK20)-6*($BJ20/($BJ20-CK20))*(CL20/$BK20^2)","v":2.9679999999999995},{"$f":"CK20/($BK20)+6*($BJ20/($BJ20-CK20))*(CL20/$BK20^2)","v":2.9679999999999995},{"$f":"IF(CI20=0,CK20,BZ20)","v":0.159},{"$f":"IF(CI20=0,CL20,CA20*BZ20+CG20+IF(BU20=0,CF20*(BS20+BT20)/BM20,0))","v":4.6474999999999997E-3},{"$f":"CO20/($BK20)-6*($BJ20/($BJ20-CO20))*(CP20/$BK20^2)","v":1.06},{"$f":"CO20/($BK20)+6*($BJ20/($BJ20-CO20))*(CP20/$BK20^2)","v":1.06},{"$f":"IF(CJ20=0,0,BZ20+CD20/CJ20)","v":0.3498},{"$f":"IF(BR10,IF(CJ20=0,CA20*BZ20,CA20*BZ20+CD20*CE20/CJ20)+CG20+IF(BU20=0,CF20*BT20*BL20*IF(BW20>1,0.27,BW20^-1/8-29*BW20^2/800+141*BW20/800)+CF20*BS20*BL20*IF(BV20>1.5,0,BV20^-1/8+2*BV20^2/27-BV20/6),IF(BW20<0.2,CF20*BT20*BL20*0.6*BW20,CF20*BT20*BL20*IF(BW20<1,(1125*BW20^3-3225*BW20^2+3075*BW20-111)/3200,0.27))),0)","v":7.6694407407407409E-3},{"$f":"CS20/($BK20)-6*($BJ20/($BJ20-CS20))*(CT20/$BK20^2)","v":2.3320000000000003},{"$f":"CS20/($BK20)+6*($BJ20/($BJ20-CS20))*(CT20/$BK20^2)","v":2.3320000000000003}]
[null,null,null,null,null,null,null,null,{"$f":"IF(Makro!B1=5,\"Alle felter\",\"Felt #\" & TEXT(Makro!$B$1,\"0\"))","v":"Alle felter"},null,"Hvis væggen forsynes med kun ét lag armering skal dette være træklaget aht. beregningerne ",null,null,null,null,null,null,null,null,null,null,null,null,null,null,null,null,null,null,null,null,null,"H",{"$f":"AN135","v":2100},null,null,null,null,null,null,null,null,0,{"$f":"AR20","v":2500},2,{"$f":"AT20+400","v":2900},{"$f":"AU20","v":7000},{"$f":"AV20+400","v":3400},null,null,null,{"$f":"IF(BA10=1000000,0,BA15-AY13-2*AN20)","v":1500},null,{"$f":"IF(BC10=1000000,0,BC15-BA13-2*AN20)","v":1000},null,{"$f":"IF(BE10=1000000,0,BE15-BC13-2*AN20)","v":700},null,null,null,null,"B",0,0.15,3,1,0,0,2.5,2.5,true,0.75,0.5,0,0.33333333333333331,0.33333333333333331,0.41666666666666669,0.41666666666666669,0.16200000000000001,1.5617283950617284E-2,0.1215,1.5617283950617284E-2,8.1000000000000003E-2,1.5617283950617284E-2,9.3999999999999997E-4,1.0575000000000001E-3,0.41666666666666669,0.16666666666666657,0.41666666666666669,0.4536,9.5123841049382721E-3,3.024,3.024,0.16200000000000001,4.7625000000000002E-3,1.08,1.08,0.35639999999999999,7.9224407407407407E-3,2.3759999999999999,2.3759999999999999]
[null,null,null,null,null,null,null,null,null,null,"Jævnt fordelte laste på vægoverside",null,null,null,null,null,null,null,null,null,null,null,null,null,null,null,null,null,null,null,null,null,"t",{"$f":"AS149","v":132.00899966799471},null,null,null,null,null,null,null,null,0,0,null,null,null,null,null,null,null,null,null,null,null,null,null,null,null,null,"C",0,0.15,3,1,0,0,2.5,2.5,true,0.75,0.5,0,0.33333333333333331,0.33333333333333331,0.41666666666666669,0.41666666666666669,0.20200000000000001,1.5495049504950495E-2,0.15150000000000002,1.5495049504950495E-2,0.10100000000000001,1.5495049504950495E-2,9.3999999999999997E-4,1.0575000000000001E-3,0.41666666666666669,0.16666666666666657,0.41666666666666669,0.5656000000000001,1.1192384104938273E-2,3.7706666666666675,3.7706666666666675,0.20200000000000001,5.3625000000000001E-3,1.3466666666666669,1.3466666666666669,0.44440000000000002,9.2424407407407407E-3,2.9626666666666668,2.9626666666666668]
[null,null,null,null,null,null,null,null,null,null,"Maksimallaste (kN/m)",null,null,"Reducerede laste (kN/m)",null,null,"Minimallaste (kN/m)",null,null,null,null,null,null,null,null,null,null,null,null,null,null,null,"scrd =",{"$f":"AH18/(1+12*(AH18*AH21^2)/(PI()^2*AH19*AH22^2))","v":13.663827838011713},null,null,null,null,null,null,null,null,null,null,null,null,null,null,null,null,null,null,null,null,null,null,null,null,null,null,"D",0,0.15,3,1,0,0,2.5,2.5,true,0.75,0.5,0,0.33333333333333331,0.33333333333333331,0.41666666666666669,0.41666666666666669,0.20899999999999999,1.4250398724082935E-2,0.15675,1.4250398724082935E-2,0.1045,1.4250398724082935E-2,9.3999999999999997E-4,1.0575000000000001E-3,0.41666666666666669,0.16666666666666657,0.41666666666666669,0.58519999999999994,1.0767717438271606E-2,3.9013333333333331,3.9013333333333331,0.20899999999999999,5.2108333333333329E-3,1.3933333333333333,1.3933333333333333,0.45979999999999999,8.9087740740740745E-3,3.0653333333333332,3.0653333333333332]
[null,null,null,null,null,null,null,null,null,null,"nv","no","nh","nv","no","nh","nv","no","nh",null,null,null,null,null,null,null,null,null,null,null,null,null,"Ncr",{"$f":"AH23*AH22","v":1803.7482445316252},null,null,null,null,null,null,null,null,null,null,null,null,null,null,null,null,null,null,null,null,null,null,null,null,null,null,"E",0,0.15,3,1,0,0,2.5,2.5,true,0.75,0.5,0,0.33333333333333331,0.33333333333333331,0.41666666666666669,0.41666666666666669,0.16600000000000001,1.6164658634538153E-2,0.1245,1.6164658634538153E-2,8.3000000000000004E-2,1.6164658634538153E-2,4.6999999999999999E-4,5.2875000000000003E-4,0.41666666666666669,0.16666666666666657,0.41666666666666669,0.46479999999999999,8.7275253858024697E-3,3.0986666666666669,3.0986666666666669,0.16600000000000001,3.7995833333333336E-3,1.1066666666666667,1.1066666666666667,0.36519999999999997,7.0815537037037038E-3,2.4346666666666668,2.4346666666666668]
[null,null,null,null,null,null,null,null,null,null,13,200,27,9,190,10,6,150,3,null,null,null,null,null,null,null,null,null,null,null,null,null,null,null,null,null,null,null,null,null,null,null,null,null,null,null,null,null,null,null,null,null,null,null,null,null,null,null,null,null,"F",0,0.15,3,1,0,0,2.5,2.5,true,0.75,0.5,0,0.33333333333333331,0.33333333333333331,0.41666666666666669,0.41666666666666669,0.20599999999999999,1.5938511326860843E-2,0.1545,1.5938511326860843E-2,0.10299999999999999,1.5938511326860843E-2,4.6999999999999999E-4,5.2875000000000003E-4,0.41666666666666669,0.16666666666666657,0.41666666666666669,0.57679999999999998,1.0407525385802471E-2,3.8453333333333335,3.8453333333333335,0.20599999999999999,4.3995833333333335E-3,1.3733333333333333,1.3733333333333333,0.45319999999999994,8.4015537037037038E-3,3.0213333333333332,3.0213333333333332]
[null,null,null,null,null,null,null,null,null,null,"  Belastning fra bjælke A (venstre side) som:",null,null,null,{"$f":"INDEX(AO76:AO77,AR76,1)","v":"Vægoverligger"},null,null,null,null,null,null,null,null,null,null,null,null,null,null,null,null,null,null,null,null,"INDDATAFORMATER",null,null,null,null,null,"BASISTILFÆLDE:",null,null,null,{"$f":"MIN(AP32:BD32)","v":4},null,null,null,null,null,null,null,null,null,null,null,null,null,null,"G",0,0.15,3,1,0,0,2.5,2.5,true,0.75,0.5,0,0.33333333333333331,0.33333333333333331,0.41666666666666669,0.41666666666666669,0.23,1.201449275362319E-2,0.17250000000000001,1.201449275362319E-2,0.115,1.201449275362319E-2,4.6999999999999999E-4,5.2875000000000003E-4,0.41666666666666669,0.16666666666666657,0.41666666666666669,0.64400000000000002,8.9515253858024717E-3,4.2933333333333339,4.2933333333333339,0.23,3.8795833333333338E-3,1.5333333333333334,1.5333333333333334,0.50600000000000001,7.2575537037037046E-3,3.3733333333333335,3.3733333333333335]
[null,null,null,null,null,null,null,null,null,null,"  Belastning fra bjælke B (højre side) som:",null,null,null,{"$f":"INDEX(AO76:AO77,AR77,1)","v":"Vægoverligger"},null,null,null,null,null,null,null,null,null,null,null,null,null,null,null,null,null,null,null,null,null,"h","b","x","y",null,null,null,null,null,null,null,null,null,null,null,null,null,null,null,null,null,null,null,null,"H",0,0.15,3,1,0,0,2.5,2.5,true,0.75,0.5,0,0.33333333333333331,0.33333333333333331,0.41666666666666669,0.41666666666666669,0.216,1.5895061728395062E-2,0.16200000000000001,1.5895061728395062E-2,0.108,1.5895061728395062E-2,4.6999999999999999E-4,5.2875000000000003E-4,0.41666666666666669,0.16666666666666657,0.41666666666666669,0.6048,1.0827525385802469E-2,4.032,4.032,0.216,4.5495833333333334E-3,1.44,1.44,0.47519999999999996,8.7315537037037042E-3,3.1679999999999997,3.1679999999999997]
[null,null,null,null,null,null,null,null,null,null," Brudmåde:",null,null,"Jævnt fordelt last, overside",null,null,"Bjælkereaktioner",null,"Vind",null,null,null,null,null,null,null,null,null,null,null,null,null,null,null,null,null,500,150,null,null,{"$f":"AO13","v":true},1,null,2,null,3,null,4,null,5,null,6,null,7,null,8,null,null,null,null,"I",0,0.15,3,1,0,0,2.5,2.5,true,0.75,0.5,0,0.33333333333333331,0.33333333333333331,0.41666666666666669,0.41666666666666669,0.24,1.213888888888889E-2,0.18,1.213888888888889E-2,0.12,1.213888888888889E-2,4.6999999999999999E-4,5.2875000000000003E-4,0.41666666666666669,0.16666666666666657,0.41666666666666669,0.67199999999999993,9.3715253858024702E-3,4.4799999999999995,4.4799999999999995,0.24,4.0295833333333338E-3,1.6,1.6,0.52800000000000002,7.5875537037037033E-3,3.5200000000000005,3.5200000000000005]
[null,null,null,null,null,null,null,null,null,null," Referencelast:",null,{"$f":"IF(Makro!B3=10,\"INGEN\",CHAR(64+Makro!B3))","v":"B"},"n1","n0","n2","NA","NB","w",null,null,null,null,null,null,null,null,null,null,null,null,null,null,null,null,null,1500,1500,1000,1000,{"$f":"AO14","v":true},false,null,true,null,true,null,true,null,true,null,false,null,false,null,false,null,null,null,"Felt 3",null,{"$f":"$AA$13/1000","v":0},{"$f":"$M$18/1000","v":0.15},{"$f":"$BC$107/1000","v":3},{"$f":"($BC$11-$BC$10)/1000","v":1},{"$f":"($BC$16-$BC$17)/1000","v":0},{"$f":"($BC$12-$BC$13)/1000","v":0},{"$f":"$BD$16/1000","v":2.5},{"$f":"$BD$13/1000","v":2.5},{"$f":"IF($BE$10=1000000,FALSE,TRUE)","v":true},{"$f":"BT19","v":0.5},{"$f":"IF(BR29,0.5*$BD$21/1000,IF(AND($AO$17,$AR$77=1),$BA$80,0))","v":0.35},{"$f":"BC105","v":0},{"$f":"BC110/M16","v":0.33333333333333331},{"$f":"BC112/M16","v":0.33333333333333331},{"$f":"BN29+BP29/6","v":0.41666666666666669},{"$f":"BO29+BQ29/6","v":0.41666666666666669}]
[null,null,null,null,null,null,null,null,null,null,null,null,null,"(kN/m)","(kN/m)","(kN/m)","(kN)  ","(kN)  ","(kN/m2)",null,null,null,null,null,null,null,null,null,null,null,null,null,null,null,null,null,2500,1000,3500,null,{"$f":"AO15","v":true},false,null,false,null,true,null,true,null,false,null,true,null,true,null,false,null,null,null,"Lasttilfælde",{"$f":"K31","v":"A"},{"$f":"BJ29","v":0},{"$f":"BK29","v":0.15},{"$f":"BL29","v":3},{"$f":"BM29","v":1},{"$f":"BN29","v":0},{"$f":"BO29","v":0},{"$f":"BP29","v":2.5},{"$f":"BQ29","v":2.5},{"$f":"BR29","v":true},{"$f":"BS29","v":0.5},{"$f":"BT29","v":0.35},{"$f":"BU29","v":0},{"$f":"BV29","v":0.33333333333333331},{"$f":"BW29","v":0.33333333333333331},{"$f":"BX29","v":0.41666666666666669},{"$f":"BY29","v":0.41666666666666669},{"$f":"BZ20","v":0.159},1.518867924528302E-2,{"$f":"CD20","v":7.9500000000000001E-2},{"$f":"CE20","v":1.518867924528302E-2},{"$f":"IF(BR30,BT30*BZ30,BA84/1000)","v":5.5649999999999998E-2},{"$f":"IF(BR30,CA30,BB84/1000)","v":1.518867924528302E-2},{"$f":"CF20","v":9.3999999999999997E-4},{"$f":"0.125*CF30*BL30^2","v":1.0575000000000001E-3},{"$f":"IF(BX30+BY30<=BM30,BX30,MIN(IF(CB30=0,0,BM30*CB30/(CB30+CD30)),BX30))","v":0.41666666666666669},{"$f":"BM30-CH30-CJ30","v":0.16666666666666657},{"$f":"IF(BX30+BY30<=BM30,BY30,MIN(IF(CD30=0,0,BM30*CD30/(CB30+CD30)),BY30))","v":0.41666666666666669},{"$f":"IF(CH30=0,0,BZ30+CB30/CH30)","v":0.3498},{"$f":"IF(BR20,IF(CH30=0,CA30*BZ30,CA30*BZ30+CC30*CB30/CH30)+CG30+IF(BU30=0,CF30*BS30*BL30*IF(BV30>1,0.27,BV30^-1/8-29*BV30^2/800+141*BV30/800)+CF30*BT30*BL30*IF(BW30>1.5,0,BW30^-1/8+2*BW30^2/27-BW30/6),IF(BV30<0.2,CF30*BS30*BL30*0.6*BV30,CF30*BS30*BL30*IF(BV30<1,(1125*BV30^3-3225*BV30^2+3075*BV30-111)/3200,0.27))),0)","v":7.2998234567901235E-3},{"$f":"CK30/($BK30)-6*($BJ30/($BJ30-CK30))*(CL30/$BK30^2)","v":2.3320000000000003},{"$f":"CK30/($BK30)+6*($BJ30/($BJ30-CK30))*(CL30/$BK30^2)","v":2.3320000000000003},{"$f":"IF(CI30=0,CK30,BZ30)","v":0.159},{"$f":"IF(CI30=0,CL30,CA30*BZ30+CG30+IF(BU30=0,CF30*(BS30+BT30)/BM30,0))","v":4.2715000000000001E-3},{"$f":"CO30/($BK30)-6*($BJ30/($BJ30-CO30))*(CP30/$BK30^2)","v":1.06},{"$f":"CO30/($BK30)+6*($BJ30/($BJ30-CO30))*(CP30/$BK30^2)","v":1.06},{"$f":"IF(CJ30=0,0,BZ30+CD30/CJ30)","v":0.29255999999999999},{"$f":"IF(BR20,IF(CJ30=0,CA30*BZ30,CA30*BZ30+CD30*CE30/CJ30)+CG30+IF(BU30=0,CF30*BT30*BL30*IF(BW30>1,0.27,BW30^-1/8-29*BW30^2/800+141*BW30/800)+CF30*BS30*BL30*IF(BV30>1.5,0,BV30^-1/8+2*BV30^2/27-BV30/6),IF(BW30<0.2,CF30*BT30*BL30*0.6*BW30,CF30*BT30*BL30*IF(BW30<1,(1125*BW30^3-3225*BW30^2+3075*BW30-111)/3200,0.27))),0)","v":6.3872574382716051E-3},{"$f":"CS30/($BK30)-6*($BJ30/($BJ30-CS30))*(CT30/$BK30^2)","v":1.9503999999999999},{"$f":"CS30/($BK30)+6*($BJ30/($BJ30-CS30))*(CT30/$BK30^2)","v":1.9503999999999999}]
[null,null,null,null,null,null,null,null,null,null,"A","Med maksimal vind",null,{"$f":"INDEX(Laste,ROW()-30+9*(2-Makro!$B$2),1)","v":6},{"$f":"INDEX(Laste,ROW()-30+9*(2-Makro!$B$2),2)","v":150},{"$f":"INDEX(Laste,ROW()-30+9*(2-Makro!$B$2),3)","v":3},12,15,0.94,null,null,null,null,null,null,null,null,null,null,null,null,null,null,null,null,null,1500,800,5500,1000,{"$f":"AO16","v":true},false,null,false,null,false,null,true,null,true,null,false,null,true,null,true,null,null,null,null,"B",0,0.15,3,1,0,0,2.5,2.5,true,0.5,0.35,0,0.33333333333333331,0.33333333333333331,0.41666666666666669,0.41666666666666669,0.16200000000000001,1.5617283950617284E-2,8.1000000000000003E-2,1.5617283950617284E-2,5.67E-2,1.5617283950617284E-2,9.3999999999999997E-4,1.0575000000000001E-3,0.41666666666666669,0.16666666666666657,0.41666666666666669,0.35639999999999999,7.5528234567901233E-3,2.3759999999999999,2.3759999999999999,0.16200000000000001,4.3865000000000006E-3,1.08,1.08,0.29808000000000001,6.5988574382716053E-3,1.9872000000000001,1.9872000000000001]
[null,null,null,null,null,null,null,null,null,null,"B",null,null,{"$f":"INDEX(Laste,ROW()-30+9*(2-Makro!$B$2),1)","v":9},{"$f":"INDEX(Laste,ROW()-30+9*(2-Makro!$B$2),2)","v":150},{"$f":"INDEX(Laste,ROW()-30+9*(2-Makro!$B$2),3)","v":3},13,16,{"$f":"S31","v":0.94},null,null,null,null,null,null,null,null,null,null,null,null,null,null,null,null,null,500,150,null,null,{"$f":"AO17","v":true},{"$f":"IF(AND(AP29=$AO29,AP30=$AO30,AP31=$AO31),AP28,1000)","v":1000},null,{"$f":"IF(AND(AR29=$AO29,AR30=$AO30,AR31=$AO31),AR28,1000)","v":1000},null,{"$f":"IF(AND(AT29=$AO29,AT30=$AO30,AT31=$AO31),AT28,1000)","v":1000},null,{"$f":"IF(AND(AV29=$AO29,AV30=$AO30,AV31=$AO31),AV28,1000)","v":4},null,{"$f":"IF(AND(AX29=$AO29,AX30=$AO30,AX31=$AO31),AX28,1000)","v":1000},null,{"$f":"IF(AND(AZ29=$AO29,AZ30=$AO30,AZ31=$AO31),AZ28,1000)","v":1000},null,{"$f":"IF(AND(BB29=$AO29,BB30=$AO30,BB31=$AO31),BB28,1000)","v":1000},null,{"$f":"IF(AND(BD29=$AO29,BD30=$AO30,BD31=$AO31),BD28,1000)","v":1000},null,null,null,null,"C",0,0.15,3,1,0,0,2.5,2.5,true,0.5,0.35,0,0.33333333333333331,0.33333333333333331,0.41666666666666669,0.41666666666666669,0.20200000000000001,1.5495049504950495E-2,0.10100000000000001,1.5495049504950495E-2,7.0699999999999999E-2,1.5495049504950495E-2,9.3999999999999997E-4,1.0575000000000001E-3,0.41666666666666669,0.16666666666666657,0.41666666666666669,0.44440000000000002,8.8728234567901233E-3,2.9626666666666668,2.9626666666666668,0.20200000000000001,4.9865000000000005E-3,1.3466666666666669,1.3466666666666669,0.37168000000000001,7.7028574382716044E-3,2.4778666666666669,2.4778666666666669]
[null,null,null,null,null,null,null,null,null,null,"C",null,null,{"$f":"INDEX(Laste,ROW()-30+9*(2-Makro!$B$2),1)","v":9},{"$f":"INDEX(Laste,ROW()-30+9*(2-Makro!$B$2),2)","v":190},{"$f":"INDEX(Laste,ROW()-30+9*(2-Makro!$B$2),3)","v":3},13,16,{"$f":"S32","v":0.94},null,null,null,null,null,null,null,null,null,null,null,null,null,null,null,null,null,null,null,null,null,null,null,null,null,null,null,null,null,null,null,null,null,null,null,null,null,null,null,null,null,"D",0,0.15,3,1,0,0,2.5,2.5,true,0.5,0.35,0,0.33333333333333331,0.33333333333333331,0.41666666666666669,0.41666666666666669,0.20899999999999999,1.4250398724082935E-2,0.1045,1.4250398724082935E-2,7.3149999999999993E-2,1.4250398724082935E-2,9.3999999999999997E-4,1.0575000000000001E-3,0.41666666666666669,0.16666666666666657,0.41666666666666669,0.45979999999999999,8.5391567901234571E-3,3.0653333333333332,3.0653333333333332,0.20899999999999999,4.8348333333333333E-3,1.3933333333333333,1.3933333333333333,0.38455999999999996,7.4237907716049384E-3,2.563733333333333,2.563733333333333]
[null,null,null,null,null,null,null,null,null,null,"D",null,null,{"$f":"INDEX(Laste,ROW()-30+9*(2-Makro!$B$2),1)","v":9},{"$f":"INDEX(Laste,ROW()-30+9*(2-Makro!$B$2),2)","v":190},{"$f":"INDEX(Laste,ROW()-30+9*(2-Makro!$B$2),3)","v":10},13,16,{"$f":"S33","v":0.94},null,null,null,null,null,null,null,null,null,null,null,null,null,null,null,null,null,null,null,null,null,null,null,null,null,null,null,null,null,null,null,null,null,null,null,null,null,null,null,null,null,"E",0,0.15,3,1,0,0,2.5,2.5,true,0.5,0.35,0,0.33333333333333331,0.33333333333333331,0.41666666666666669,0.41666666666666669,0.16600000000000001,1.6164658634538153E-2,8.3000000000000004E-2,1.6164658634538153E-2,5.8099999999999999E-2,1.6164658634538153E-2,4.6999999999999999E-4,5.2875000000000003E-4,0.41666666666666669,0.16666666666666657,0.41666666666666669,0.36519999999999997,6.8967450617283951E-3,2.4346666666666668,2.4346666666666668,0.16600000000000001,3.6115833333333338E-3,1.1066666666666667,1.1066666666666667,0.30543999999999999,5.9091620524691357E-3,2.0362666666666667,2.0362666666666667]
[null,null,null,null,null,null,null,null,null,null,"E","Med reduceret vind",null,{"$f":"INDEX(Laste,ROW()-30+9*(2-Makro!$B$2),1)","v":13},{"$f":"INDEX(Laste,ROW()-30+9*(2-Makro!$B$2),2)","v":150},{"$f":"INDEX(Laste,ROW()-30+9*(2-Makro!$B$2),3)","v":3},13,16,0.47,null,null,null,null,null,null,null,null,null,null,null,null,null,null,null,null,null,null,null,null,null,null,null,null,null,null,null,null,null,null,null,null,null,null,null,null,null,null,null,null,null,"F",0,0.15,3,1,0,0,2.5,2.5,true,0.5,0.35,0,0.33333333333333331,0.33333333333333331,0.41666666666666669,0.41666666666666669,0.20599999999999999,1.5938511326860843E-2,0.10299999999999999,1.5938511326860843E-2,7.2099999999999997E-2,1.5938511326860843E-2,4.6999999999999999E-4,5.2875000000000003E-4,0.41666666666666669,0.16666666666666657,0.41666666666666669,0.45319999999999994,8.2167450617283942E-3,3.0213333333333332,3.0213333333333332,0.20599999999999999,4.2115833333333337E-3,1.3733333333333333,1.3733333333333333,0.37903999999999999,7.0131620524691365E-3,2.5269333333333335,2.5269333333333335]
[null,null,null,null,null,null,null,null,null,null,"F",null,null,{"$f":"INDEX(Laste,ROW()-30+9*(2-Makro!$B$2),1)","v":13},{"$f":"INDEX(Laste,ROW()-30+9*(2-Makro!$B$2),2)","v":190},{"$f":"INDEX(Laste,ROW()-30+9*(2-Makro!$B$2),3)","v":3},13,16,{"$f":"S35","v":0.47},null,null,null,null,null,null,null,null,null,null,null,null,null,null,null,null,null,null,null,null,null,null,null,null,null,null,null,null,null,null,null,null,null,null,null,null,null,null,null,null,null,"G",0,0.15,3,1,0,0,2.5,2.5,true,0.5,0.35,0,0.33333333333333331,0.33333333333333331,0.41666666666666669,0.41666666666666669,0.23,1.201449275362319E-2,0.115,1.201449275362319E-2,8.0500000000000002E-2,1.201449275362319E-2,4.6999999999999999E-4,5.2875000000000003E-4,0.41666666666666669,0.16666666666666657,0.41666666666666669,0.50600000000000001,7.0727450617283959E-3,3.3733333333333335,3.3733333333333335,0.23,3.691583333333334E-3,1.5333333333333334,1.5333333333333334,0.42320000000000002,6.0563620524691358E-3,2.8213333333333335,2.8213333333333335]
[null,null,null,null,null,null,null,null,null,null,"G",null,null,{"$f":"INDEX(Laste,ROW()-30+9*(2-Makro!$B$2),1)","v":13},{"$f":"INDEX(Laste,ROW()-30+9*(2-Makro!$B$2),2)","v":190},{"$f":"INDEX(Laste,ROW()-30+9*(2-Makro!$B$2),3)","v":27},13,16,{"$f":"S36","v":0.47}," NB:  Resultaterne skal altid kontrolleres af ansvarlig statiker",null,null,null,null,null,null,null,null,null,null,null,null,null,null,null,null,null,null,null,null,null,"x","y","x","y","x","y","x","y","x","y","x","y","x","y","x","y",null,null,null,"H",0,0.15,3,1,0,0,2.5,2.5,true,0.5,0.35,0,0.33333333333333331,0.33333333333333331,0.41666666666666669,0.41666666666666669,0.216,1.5895061728395062E-2,0.108,1.5895061728395062E-2,7.5600000000000001E-2,1.5895061728395062E-2,4.6999999999999999E-4,5.2875000000000003E-4,0.41666666666666669,0.16666666666666657,0.41666666666666669,0.47519999999999996,8.5467450617283947E-3,3.1679999999999997,3.1679999999999997,0.216,4.3615833333333328E-3,1.44,1.44,0.39744000000000002,7.289162052469135E-3,2.6496000000000004,2.6496000000000004]
[null,null,null,null,null,null,null,null,null,null,"H",null,null,{"$f":"INDEX(Laste,ROW()-30+9*(2-Makro!$B$2),1)","v":13},{"$f":"INDEX(Laste,ROW()-30+9*(2-Makro!$B$2),2)","v":200},{"$f":"INDEX(Laste,ROW()-30+9*(2-Makro!$B$2),3)","v":3},13,16,{"$f":"S37","v":0.47},null,null,null,null,null,null,null,null,null,null,null,null,null,null,null,null,"VÆGFELT:",1,null,null,null,null,{"$f":"AQ10","v":0},{"$f":"AR10","v":0},{"$f":"AQ10","v":0},{"$f":"AR10","v":0},{"$f":"AR38","v":0},{"$f":"AS38","v":0},{"$f":"AR38","v":0},{"$f":"AS38","v":0},{"$f":"AR38","v":0},{"$f":"AS38","v":0},{"$f":"AR38","v":0},{"$f":"AS38","v":0},{"$f":"AZ38","v":0},{"$f":"BA38","v":0},{"$f":"BB38","v":0},{"$f":"BC38","v":0},null,null,null,"I",0,0.15,3,1,0,0,2.5,2.5,true,0.5,0.35,0,0.33333333333333331,0.33333333333333331,0.41666666666666669,0.41666666666666669,0.24,1.213888888888889E-2,0.12,1.213888888888889E-2,8.3999999999999991E-2,1.213888888888889E-2,4.6999999999999999E-4,5.2875000000000003E-4,0.41666666666666669,0.16666666666666657,0.41666666666666669,0.52800000000000002,7.4027450617283946E-3,3.5200000000000005,3.5200000000000005,0.24,3.8415833333333336E-3,1.6,1.6,0.44159999999999999,6.3323620524691352E-3,2.944,2.944]
[null,null,null,null,null,null,null,null,null,null,"I",null,null,{"$f":"INDEX(Laste,ROW()-30+9*(2-Makro!$B$2),1)","v":13},{"$f":"INDEX(Laste,ROW()-30+9*(2-Makro!$B$2),2)","v":200},{"$f":"INDEX(Laste,ROW()-30+9*(2-Makro!$B$2),3)","v":27},13,16,{"$f":"S38","v":0.47},null,null,null,null,null,null,null,null,null,null,null,null,null,null,null,null,null,null,null,null,null,null,{"$f":"AQ15","v":7000},0,{"$f":"AU10","v":1000},{"$f":"AS38","v":0},1000,0,1000,0,1000,0,{"$f":"AQ11","v":3500},{"$f":"AS39","v":0},{"$f":"AZ39","v":3500},0,{"$f":"AS10","v":5500},{"$f":"BC39","v":0},null,null,"Felt 4",null,{"$f":"$AA$13/1000","v":0},{"$f":"$M$18/1000","v":0.15},{"$f":"$BE$107/1000","v":3},{"$f":"($BE$11-$BE$10)/1000","v":0.8},{"$f":"($BE$16-$BE$17)/1000","v":0},{"$f":"($BE$12-$BE$13)/1000","v":0},{"$f":"$BF$16/1000","v":2.5},{"$f":"$BF$13/1000","v":3},false,{"$f":"BT29","v":0.35},{"$f":"IF(AND($AO$17,$AR$77=1),$BA$80,0)","v":0},{"$f":"BE105","v":0},{"$f":"BE110/M16","v":0.26666666666666666},{"$f":"BE112/M16","v":0.26666666666666666},{"$f":"BN39+BP39/6","v":0.41666666666666669},{"$f":"BO39+BQ39/6","v":0.5}]
[null,null,null,null,null,null,null,null,null,null," Excentricitet, top (mm):",null,null,50,15,40,40,40,null,"Vejledning:",null,null,"Betonelementbyggeriers statik",null,null,null,null,null,null,null,null,null,null,null,null,null,null,null,null,null,null,7000,3000,{"$f":"AR39","v":1000},{"$f":"AV13","v":2500},1000,2500,1000,2500,1000,2500,{"$f":"AZ39","v":3500},{"$f":"AR12","v":2500},3500,2500,{"$f":"BD39","v":5500},{"$f":"AT13","v":2500},null,null,"Lasttilfælde",{"$f":"K31","v":"A"},{"$f":"BJ39","v":0},{"$f":"BK39","v":0.15},{"$f":"BL39","v":3},{"$f":"BM39","v":0.8},{"$f":"BN39","v":0},{"$f":"BO39","v":0},{"$f":"BP39","v":2.5},{"$f":"BQ39","v":3},{"$f":"BR39","v":false},{"$f":"BS39","v":0.35},{"$f":"BT39","v":0},{"$f":"BU39","v":0},{"$f":"BV39","v":0.26666666666666666},{"$f":"BW39","v":0.26666666666666666},{"$f":"BX39","v":0.41666666666666669},{"$f":"BY39","v":0.5},{"$f":"BZ30","v":0.159},1.518867924528302E-2,{"$f":"CD30","v":5.5649999999999998E-2},{"$f":"CE30","v":1.518867924528302E-2},{"$f":"BA84/1000","v":0},{"$f":"BB84/1000","v":{"$error":"#DIV/0!"}},{"$f":"CF30","v":9.3999999999999997E-4},{"$f":"0.125*CF40*BL40^2","v":1.0575000000000001E-3},{"$f":"IF(BX40+BY40<=BM40,BX40,MIN(IF(CB40=0,0,BM40*CB40/(CB40+CD40)),BX40))","v":0.41666666666666669},{"$f":"BM40-CH40-CJ40","v":0.38333333333333336},{"$f":"IF(BX40+BY40<=BM40,BY40,MIN(IF(CD40=0,0,BM40*CD40/(CB40+CD40)),BY40))","v":0},{"$f":"IF(CH40=0,0,BZ40+CB40/CH40)","v":0.29255999999999999},{"$f":"IF(BR30,IF(CH40=0,CA40*BZ40,CA40*BZ40+CC40*CB40/CH40)+CG40+IF(BU40=0,CF40*BS40*BL40*IF(BV40>1,0.27,BV40^-1/8-29*BV40^2/800+141*BV40/800)+CF40*BT40*BL40*IF(BW40>1.5,0,BW40^-1/8+2*BW40^2/27-BW40/6),IF(BV40<0.2,CF40*BS40*BL40*0.6*BV40,CF40*BS40*BL40*IF(BV40<1,(1125*BV40^3-3225*BV40^2+3075*BV40-111)/3200,0.27))),0)","v":6.0076009833333333E-3},{"$f":"CK40/($BK40)-6*($BJ40/($BJ40-CK40))*(CL40/$BK40^2)","v":1.9503999999999999},{"$f":"CK40/($BK40)+6*($BJ40/($BJ40-CK40))*(CL40/$BK40^2)","v":1.9503999999999999},{"$f":"IF(CI40=0,CK40,BZ40)","v":0.159},{"$f":"IF(CI40=0,CL40,CA40*BZ40+CG40+IF(BU40=0,CF40*(BS40+BT40)/BM40,0))","v":3.88375E-3},{"$f":"CO40/($BK40)-6*($BJ40/($BJ40-CO40))*(CP40/$BK40^2)","v":1.06},{"$f":"CO40/($BK40)+6*($BJ40/($BJ40-CO40))*(CP40/$BK40^2)","v":1.06},{"$f":"IF(CJ40=0,0,BZ40+CD40/CJ40)","v":0},{"$f":"IF(BR30,IF(CJ40=0,CA40*BZ40,CA40*BZ40+CD40*CE40/CJ40)+CG40+IF(BU40=0,CF40*BT40*BL40*IF(BW40>1,0.27,BW40^-1/8-29*BW40^2/800+141*BW40/800)+CF40*BS40*BL40*IF(BV40>1.5,0,BV40^-1/8+2*BV40^2/27-BV40/6),IF(BW40<0.2,CF40*BT40*BL40*0.6*BW40,CF40*BT40*BL40*IF(BW40<1,(1125*BW40^3-3225*BW40^2+3075*BW40-111)/3200,0.27))),0)","v":3.8964885956790122E-3},{"$f":"CS40/($BK40)-6*($BJ40/($BJ40-CS40))*(CT40/$BK40^2)","v":{"$error":"#DIV/0!"}},{"$f":"CS40/($BK40)+6*($BJ40/($BJ40-CS40))*(CT40/$BK40^2)","v":{"$error":"#DIV/0!"}}]
[null,null,null,null,null,null,null,null,null,null," Excentricitet, eff. (mm) :",null,null,{"$f":"2*N40/3+$O$40/3","v":38.333333333333336},{"$f":"2*O40/3+$O$40/3","v":15},{"$f":"2*P40/3-$O$40/3","v":21.666666666666668},null,{"$f":"2*R40/3+$O$40/3","v":31.666666666666668},null,"Polyteknisk Forlag 2010 samt www.bef.dk",null,null,null,null,null,null,null,null,null,null,null,null,null,null,null,null,null,null,null,null,null,7000,3000,{"$f":"AR40-$AN$20","v":1000},{"$f":"AS40","v":2500},1000,2500,1000,2500,1000,2500,{"$f":"AZ40-$AN$20","v":3500},{"$f":"BA40","v":2500},3500,2500,{"$f":"BD40-$AN$20","v":5500},{"$f":"BE40","v":2500},null,null,null,"B",0,0.15,3,0.8,0,0,2.5,3,false,0.35,0,0,0.26666666666666666,0.26666666666666666,0.41666666666666669,0.5,0.16200000000000001,1.5617283950617284E-2,5.67E-2,1.5617283950617284E-2,0,{"$error":"#DIV/0!"},9.3999999999999997E-4,1.0575000000000001E-3,0.41666666666666669,0.38333333333333336,0,0.29808000000000001,6.2192009833333334E-3,1.9872000000000001,1.9872000000000001,0.16200000000000001,3.9987500000000006E-3,1.08,1.08,0,4.0114885956790127E-3,{"$error":"#DIV/0!"},{"$error":"#DIV/0!"}]
[null,null,null,null,null,null,null,null,null,null,null,null,null,null,null,null,null,null,null,null,null,null,null,null,null,null,null,null,null,null,null,null,null,null,null,null,null,null,null,null,null,7000,3000,{"$f":"AR41","v":1000},{"$f":"AQ42","v":3000},1000,3000,1000,3000,1000,3000,{"$f":"AZ41","v":3500},{"$f":"AS42","v":3000},3500,3000,{"$f":"BD41","v":5500},{"$f":"BC42","v":3000},null,null,null,"C",0,0.15,3,0.8,0,0,2.5,3,false,0.35,0,0,0.26666666666666666,0.26666666666666666,0.41666666666666669,0.5,0.20200000000000001,1.5495049504950495E-2,7.0699999999999999E-2,1.5495049504950495E-2,0,{"$error":"#DIV/0!"},9.3999999999999997E-4,1.0575000000000001E-3,0.41666666666666669,0.38333333333333336,0,0.37168000000000001,7.3232009833333325E-3,2.4778666666666669,2.4778666666666669,0.20200000000000001,4.5987500000000004E-3,1.3466666666666669,1.3466666666666669,0,4.6114885956790126E-3,{"$error":"#DIV/0!"},{"$error":"#DIV/0!"}]
[null,null,null,null,null,null,null,null,null,null,null,null,null,null,null,null,null,null,null,null,null,null,null,null,null,null,null,null,null,null,null,null,null,null,null,null,null,null,null,null,null,150,3000,{"$f":"AP43","v":150},{"$f":"AQ43","v":3000},150,3000,150,3000,150,3000,{"$f":"AR43","v":150},{"$f":"AS43","v":3000},150,3000,{"$f":"BB43","v":150},{"$f":"BC43","v":3000},null,null,null,"D",0,0.15,3,0.8,0,0,2.5,3,false,0.35,0,0,0.26666666666666666,0.26666666666666666,0.41666666666666669,0.5,0.20899999999999999,1.4250398724082935E-2,7.3149999999999993E-2,1.4250398724082935E-2,0,{"$error":"#DIV/0!"},9.3999999999999997E-4,1.0575000000000001E-3,0.41666666666666669,0.38333333333333336,0,0.38455999999999996,7.0441343166666665E-3,2.563733333333333,2.563733333333333,0.20899999999999999,4.4470833333333333E-3,1.3933333333333333,1.3933333333333333,0,4.4598219290123454E-3,{"$error":"#DIV/0!"},{"$error":"#DIV/0!"}]
[null,null,null,null,null,null,null,null,null,null,null,null,null,null,null,null,null,null,null,null,null,null,null,null,null,null,null,null,null,null,null,null,null,null,null,null,null,null,null,null,null,150,2500,{"$f":"AP44","v":150},{"$f":"AQ44","v":2500},150,2500,150,2500,150,2500,{"$f":"AR44","v":150},{"$f":"AS44","v":2500},150,2500,{"$f":"BB44","v":150},{"$f":"BC44","v":2500},null,null,null,"E",0,0.15,3,0.8,0,0,2.5,3,false,0.35,0,0,0.26666666666666666,0.26666666666666666,0.41666666666666669,0.5,0.16600000000000001,1.6164658634538153E-2,5.8099999999999999E-2,1.6164658634538153E-2,0,{"$error":"#DIV/0!"},4.6999999999999999E-4,5.2875000000000003E-4,0.41666666666666669,0.38333333333333336,0,0.30543999999999999,5.7193338249999998E-3,2.0362666666666667,2.0362666666666667,0.16600000000000001,3.4177083333333338E-3,1.1066666666666667,1.1066666666666667,0,3.4240776311728399E-3,{"$error":"#DIV/0!"},{"$error":"#DIV/0!"}]
[null,null,null,null,null,null,null,null,null,null,null,null,null,null,null,null,null,null,null,null,null,null,null,null,null,null,null,null,null,null,null,null,null,null,null,null,null,null,null,null,null,0,2500,{"$f":"AP45","v":0},{"$f":"AQ45","v":2500},0,2500,0,2500,0,2500,{"$f":"AR45","v":0},{"$f":"AS45","v":2500},0,2500,{"$f":"BB45","v":0},{"$f":"BC45","v":2500},null,null,null,"F",0,0.15,3,0.8,0,0,2.5,3,false,0.35,0,0,0.26666666666666666,0.26666666666666666,0.41666666666666669,0.5,0.20599999999999999,1.5938511326860843E-2,7.2099999999999997E-2,1.5938511326860843E-2,0,{"$error":"#DIV/0!"},4.6999999999999999E-4,5.2875000000000003E-4,0.41666666666666669,0.38333333333333336,0,0.37903999999999999,6.8233338250000006E-3,2.5269333333333335,2.5269333333333335,0.20599999999999999,4.0177083333333332E-3,1.3733333333333333,1.3733333333333333,0,4.0240776311728397E-3,{"$error":"#DIV/0!"},{"$error":"#DIV/0!"}]
[null,null,null,null,null,null,null,null,null,null,null,null,null,null,null,null,null,null,null,null,null,null,null,null,null,null,null,null,null,null,null,null,null,null,null,null,null,null,null,null,null,0,0,{"$f":"AP46","v":0},{"$f":"AQ46","v":0},0,0,0,0,0,0,{"$f":"AR46","v":0},{"$f":"AS46","v":0},0,0,{"$f":"BB46","v":0},{"$f":"BC46","v":0},null,null,null,"G",0,0.15,3,0.8,0,0,2.5,3,false,0.35,0,0,0.26666666666666666,0.26666666666666666,0.41666666666666669,0.5,0.23,1.201449275362319E-2,8.0500000000000002E-2,1.201449275362319E-2,0,{"$error":"#DIV/0!"},4.6999999999999999E-4,5.2875000000000003E-4,0.41666666666666669,0.38333333333333336,0,0.42320000000000002,5.8665338249999999E-3,2.8213333333333335,2.8213333333333335,0.23,3.497708333333334E-3,1.5333333333333334,1.5333333333333334,0,3.5040776311728401E-3,{"$error":"#DIV/0!"},{"$error":"#DIV/0!"}]
[null,null,null,null,null,null,null,null,null,null,null,null,null,null,null,null,null,null,null,null,null,null,null,null,null,null,null,null,null,null,null,null,null,null,null,"VÆGFELT:",2,null,null,null,null,1000000,1000000,{"$f":"AU11","v":2500},0,{"$f":"AU11","v":2500},0,{"$f":"AT47","v":2500},{"$f":"AU47","v":0},{"$f":"AU11","v":2500},0,{"$f":"AQ14","v":4500},0,{"$f":"AZ47","v":4500},0,{"$f":"AS11","v":6200},0,null,null,null,"H",0,0.15,3,0.8,0,0,2.5,3,false,0.35,0,0,0.26666666666666666,0.26666666666666666,0.41666666666666669,0.5,0.216,1.5895061728395062E-2,7.5600000000000001E-2,1.5895061728395062E-2,0,{"$error":"#DIV/0!"},4.6999999999999999E-4,5.2875000000000003E-4,0.41666666666666669,0.38333333333333336,0,0.39744000000000002,7.0993338249999991E-3,2.6496000000000004,2.6496000000000004,0.216,4.1677083333333332E-3,1.44,1.44,0,4.1740776311728397E-3,{"$error":"#DIV/0!"},{"$error":"#DIV/0!"}]
[null,null,null,null,null,null,null,null,null,null,null,null,null,null,null,null,null,null,null,null,null,null,null,null,null,null,null,null,null,null,null,null,null,null,null,null,null,null,null,null,null,1000000,1000000,{"$f":"AQ15","v":7000},0,{"$f":"AQ11","v":3500},{"$f":"AR11","v":0},3500,0,{"$f":"AS10","v":5500},0,{"$f":"AR48","v":7000},0,{"$f":"AX48","v":5500},0,{"$f":"AR48","v":7000},0,null,null,null,"I",0,0.15,3,0.8,0,0,2.5,3,false,0.35,0,0,0.26666666666666666,0.26666666666666666,0.41666666666666669,0.5,0.24,1.213888888888889E-2,8.3999999999999991E-2,1.213888888888889E-2,0,{"$error":"#DIV/0!"},4.6999999999999999E-4,5.2875000000000003E-4,0.41666666666666669,0.38333333333333336,0,0.44159999999999999,6.1425338249999992E-3,2.944,2.944,0.24,3.6477083333333335E-3,1.6,1.6,0,3.6540776311728396E-3,{"$error":"#DIV/0!"},{"$error":"#DIV/0!"}]
[null,null,null,null,null,null,null,null,null,null,null,null,null,null,null,null,null,null,null,null,null,null,null,null,null,null,null,null,null,null,null,null,null,null,null,null,null,null,null,null,null,1000000,1000000,7000,3000,{"$f":"AT48","v":3500},{"$f":"AR12","v":2500},3500,2500,{"$f":"AX48","v":5500},{"$f":"AT13","v":2500},7000,3000,5500,2500,7000,3000]
[null,null,null,null,null,null,null,null,null,null,null,null,null,null,null,null,null,null,null,null,null,null,null,null,null,null,null,null,null,null,null,null,null,null,null,null,null,null,null,null,null,1000000,1000000,7000,3000,{"$f":"AT49-$AN$20","v":3500},{"$f":"AU49","v":2500},3500,2500,{"$f":"AX49-$AN$20","v":5500},{"$f":"AY49","v":2500},7000,3000,5500,2500,7000,3000]
[null,null,null,null,null,null,null,null,null,null,null,null,null,null,null,null,null,null,null,null,null,null,null,null,null,null,null,null,null,null,null,null,null,null,null,null,null,null,null,null,null,1000000,1000000,7000,3000,{"$f":"AT50","v":3500},{"$f":"AS51","v":3000},3500,3000,{"$f":"AX50","v":5500},{"$f":"AW51","v":3000},7000,3000,5500,3000,7000,3000]
[null,null,null,null,null,null,null,null,null,null,null,null,null,null,null,null,null,null,null,null,null,null,null,null,null,null,null,null,null,null,null,null,null,null,null,null,null,null,null,null,null,1000000,1000000,{"$f":"AR47+$AN$20","v":2500},{"$f":"AS51","v":3000},{"$f":"AR52","v":2500},{"$f":"AS52","v":3000},2500,3000,{"$f":"AR52","v":2500},3000,{"$f":"AQ13+$AN$20","v":4500},{"$f":"BA51","v":3000},{"$f":"AZ52","v":4500},3000,{"$f":"BD47+$AN$20","v":6200},{"$f":"BE51","v":3000},null,null,null,null,null,null,null,null,null,null,null,null,null,null,null,null,null,null,null,null,null,null,null,null,null,null,null,null,null,null,null,null,null,"Venstre",null,null,null,"Midt",null,null,null,"Højre",null,null,null,null,null,null,null,null,null,"Momentbæreevne (n)",null,"Momentbæreevne (n)",null,"Momentbæreevne (n)",null,"Brud"]
[null,null,null,null,null,null,null,null,null,null,null,null,null,null,null,null,null,null,null,null,null,null,null,null,null,null,null,null,null,null,null,null,null,null,null,null,null,null,null,null,null,1000000,1000000,{"$f":"AR52","v":2500},{"$f":"AV12","v":2500},{"$f":"AR53","v":2500},{"$f":"AS53","v":2500},2500,2500,2500,2500,{"$f":"AZ52","v":4500},{"$f":"AR13","v":2500},4500,2500,{"$f":"BD52","v":6200},{"$f":"AT12","v":2500},null,null,null,null,null,null,null,null,null,null,null,null,null,null,null,null,null,null,null,null,null,null,null,null,null,null,null,null,null,null,null,null,null,"n-s1","m-s1","n (kN/m)","m (kNm/m)","n-s0","m-s0","n (kN/m)","m (kNm/m)","n-s2","m-s2","n (kN/m)","m (kNm/m)",null,null,null,null,null,null,"Opslagsværdi","bæreevne","Opslagsværdi","bæreevne","Opslagsværdi","bæreevne","1 = ja"]
[null,null,null,null,null,null,null,null,null,null,null,null,null,null,null,null,null,null,null,null,null,null,null,null,null,null,null,null,null,null,null,null,null,null,null,null,null,null,null,null,null,1000000,1000000,{"$f":"AR53-$AN$20","v":2500},{"$f":"AS53","v":2500},{"$f":"AR54","v":2500},{"$f":"AS54","v":2500},2500,2500,2500,2500,{"$f":"AZ53-$AN$20","v":4500},{"$f":"BA53","v":2500},4500,2500,{"$f":"BD53-$AN$20","v":6200},{"$f":"BE53","v":2500},null,null,null,null,null,null,null,null,null,null,null,null,null,null,null,null,null,null,null,null,null,null,null,null,null,null,null,null,null,null,null,"FELT #1: ",null,null,null,null,null,null,null,null,null,null,null,null,null,null,null,null,null,null,null,null,null,null,null,null,null,{"$f":"MAX(DK55:DK63)","v":{"$error":"#DIV/0!"}},{"$f":"IF(MAX(DK55:DK63)=0,\"\",CK54&\"Last \"&DL55&DL56&DL57&DL58&DL59&DL60&DL61&DL62&DL63)","v":{"$error":"#DIV/0!"}}]
[null,null,null,null,null,null,null,null,null,null,null,null,null,null,null,null,null,null,null,null,null,null,null,null,null,null,null,null,null,null,null,null,null,null,null,null,null,null,null,null,null,1000000,1000000,{"$f":"AR47","v":2500},{"$f":"AS47","v":0},{"$f":"AR55","v":2500},{"$f":"AS55","v":0},2500,0,2500,0,{"$f":"AZ47","v":4500},{"$f":"BA47","v":0},4500,0,{"$f":"BD47","v":6200},{"$f":"BE47","v":0},null,null,null,null,null,null,null,null,null,null,null,null,null,null,null,null,null,null,null,null,null,null,null,null,null,null,null,null,null,null,true,"Lasttilfælde","A, ",{"$f":"CK10*1000","v":159},{"$f":"CL10","v":4.1655324074074077E-3},{"$f":"IF($CK$56=TRUE,IF($CJ55=TRUE,CM55,-10),-10)","v":159},{"$f":"IF($CK$56=TRUE,IF($CJ55=TRUE,CN55*1000,-10),-10)","v":4.165532407407408},{"$f":"CO10*1000","v":159},{"$f":"CP10","v":4.1774999999999998E-3},{"$f":"IF($CK$56=TRUE,IF($CJ55=TRUE,CQ55,-10),-10)","v":159},{"$f":"IF($CK$56=TRUE,IF($CJ55=TRUE,CR55*1000,-10),-10)","v":4.1775000000000002},{"$f":"CS10*1000","v":445.19999999999993},{"$f":"CT10","v":8.7283624999999979E-3},{"$f":"IF($CK$56=TRUE,IF($CJ55=TRUE,CU55,-10),-10)","v":445.19999999999993},{"$f":"IF($CK$56=TRUE,IF($CJ55=TRUE,CV55*1000,-10),-10)","v":8.7283624999999976},null,{"$f":"MAX(CO55,CS55,CW55)","v":445.19999999999993},{"$f":"CZ55-CO55","v":286.19999999999993},{"$f":"CS55-CZ55","v":-286.19999999999993},{"$f":"CW55-CZ55","v":0},{"$f":"IF(DA55=0,CP55,IF(DB55=0,CT55,IF(DC55=0,CX55,\"FEJL\")))","v":8.7283624999999976},{"$f":"MATCH(VLOOKUP(CM55,$B$109:$C$130,1),$B$109:$B$130,0)","v":1},{"$f":"INDEX($B$109:$C$130,DE55,2,1)\n+(INDEX($B$109:$C$130,DE55+1,2,1)-INDEX($B$109:$C$130,DE55,2,1))\n*(CM55-INDEX($B$109:$C$130,DE55,1,1))\n/(INDEX($B$109:$C$130,DE55+1,1,1)-INDEX($B$109:$C$130,DE55,1,1))","v":{"$error":"#DIV/0!"}},{"$f":"MATCH(VLOOKUP(CQ55,$B$109:$C$130,1),$B$109:$B$130,0)","v":1},{"$f":"INDEX($B$109:$C$130,DG55,2,1)\n+(INDEX($B$109:$C$130,DG55+1,2,1)-INDEX($B$109:$C$130,DG55,2,1))\n*(CQ55-INDEX($B$109:$C$130,DG55,1,1))\n/(INDEX($B$109:$C$130,DG55+1,1,1)-INDEX($B$109:$C$130,DG55,1,1))","v":{"$error":"#DIV/0!"}},{"$f":"MATCH(VLOOKUP(CU55,$B$109:$C$130,1),$B$109:$B$130,0)","v":1},{"$f":"INDEX($B$109:$C$130,DI55,2,1)\n+(INDEX($B$109:$C$130,DI55+1,2,1)-INDEX($B$109:$C$130,DI55,2,1))\n*(CU55-INDEX($B$109:$C$130,DI55,1,1))\n/(INDEX($B$109:$C$130,DI55+1,1,1)-INDEX($B$109:$C$130,DI55,1,1))","v":{"$error":"#DIV/0!"}},{"$f":"IF(DF55<CN55*1000,1,IF(DH55<CR55*1000,1,IF(DJ55<CV55*1000,1,0)))","v":{"$error":"#DIV/0!"}},{"$f":"IF(DK55=0,\"\",CL55)","v":{"$error":"#DIV/0!"}}]
[null,null,null,null,null,null,null,null,null,null,null,null,null,null,null,null,null,null,null,null,null,null,null,null,null,null,null,null,null,null,null,null,null,null,null,"VÆGFELT:",3,null,null,null,null,1000000,1000000,1000000,1000000,{"$f":"AZ47","v":4500},{"$f":"BA47","v":0},{"$f":"BB47","v":4500},{"$f":"BC47","v":0},{"$f":"BD47","v":6200},{"$f":"BE47","v":0},1000000,1000000,{"$f":"AX56","v":6200},{"$f":"AY56","v":0},1000000,1000000,null,null,null,null,null,null,null,null,null,null,null,null,null,null,null,null,null,null,null,null,null,null,null,null,null,null,null,null,null,null,true,{"$f":"IF(Makro!B1=1,TRUE,IF(Makro!B1=5,TRUE,FALSE))","v":true},"B, ",162,4.2805324074074082E-3,162,4.2805324074074083,162,4.2925000000000003E-3,162,4.2925000000000004,453.6,9.050362499999999E-3,453.6,9.0503624999999985,null,453.6,291.60000000000002,-291.60000000000002,0,9.0503624999999985,1,{"$f":"INDEX($B$109:$C$130,DE56,2,1)\n+(INDEX($B$109:$C$130,DE56+1,2,1)-INDEX($B$109:$C$130,DE56,2,1))\n*(CM56-INDEX($B$109:$C$130,DE56,1,1))\n/(INDEX($B$109:$C$130,DE56+1,1,1)-INDEX($B$109:$C$130,DE56,1,1))","v":{"$error":"#DIV/0!"}},1,{"$error":"#DIV/0!"},1,{"$error":"#DIV/0!"},{"$error":"#DIV/0!"},{"$error":"#DIV/0!"}]
[null,null,null,null,null,null,null,null,null,null,null,null,null,null,null,null,null,null,null,null,null,null,null,null,null,null,null,null,null,null,null,null,null,null,null,null,null,null,null,null,null,1000000,1000000,1000000,1000000,7000,0,5500,0,7000,0,1000000,1000000,7000,0,1000000,1000000,null,null,null,null,null,null,null,null,null,null,null,null,null,null,null,null,null,null,null,null,null,null,null,null,null,null,null,null,null,null,true,null,"C, ",202,4.8805324074074081E-3,202,4.8805324074074079,202,4.8925000000000001E-3,202,4.8925000000000001,565.60000000000014,1.07303625E-2,565.60000000000014,10.7303625,null,565.60000000000014,363.60000000000014,-363.60000000000014,0,10.7303625,1,{"$error":"#DIV/0!"},1,{"$error":"#DIV/0!"},1,{"$error":"#DIV/0!"},{"$error":"#DIV/0!"},{"$error":"#DIV/0!"}]
[null,null,null,null,null,null,null,null,null,null,null,null,null,null,null,null,null,null,null,null,null,null,null,null,null,null,null,null,null,null,null,null,null,null,null,null,null,null,null,null,null,1000000,1000000,1000000,1000000,7000,3000,5500,2500,7000,3000,1000000,1000000,7000,3000,1000000,1000000,null,null,null,null,null,null,null,null,null,null,null,null,null,null,null,null,null,null,null,null,null,null,null,null,null,null,null,null,null,null,true,null,"D, ",209,4.7288657407407409E-3,209,4.7288657407407406,209,4.740833333333333E-3,209,4.7408333333333328,585.19999999999993,1.0305695833333333E-2,585.19999999999993,10.305695833333333,null,585.19999999999993,376.19999999999993,-376.19999999999993,0,10.305695833333333,1,{"$error":"#DIV/0!"},1,{"$error":"#DIV/0!"},1,{"$error":"#DIV/0!"},{"$error":"#DIV/0!"},{"$error":"#DIV/0!"}]
[null,null,null,null,null,null,null,null,null,null,null,null,null,null,null,null,null,null,null,null,null,null,null,null,null,null,null,null,null,null,null,null,null,null,null,null,null,null,null,null,null,1000000,1000000,1000000,1000000,7000,3000,5500,2500,7000,3000,1000000,1000000,7000,3000,1000000,1000000,null,null,null,null,null,null,null,null,null,null,null,null,null,null,null,null,null,null,null,null,null,null,null,null,null,null,null,null,null,null,true,null,"E, ",166,3.5585995370370376E-3,166,3.5585995370370376,166,3.5645833333333337E-3,166,3.5645833333333337,464.8,8.4965145833333332E-3,464.8,8.4965145833333331,null,464.8,298.8,-298.8,0,8.4965145833333331,1,{"$error":"#DIV/0!"},1,{"$error":"#DIV/0!"},1,{"$error":"#DIV/0!"},{"$error":"#DIV/0!"},{"$error":"#DIV/0!"},1]
[null,null,null,null,null,null,null,null,null,null,null,null,null,null,null,null,null,null,null,null,null,null,null,null,null,null,null,null,null,null,null,null,null,null,null,null,null,null,null,null,null,1000000,1000000,1000000,1000000,7000,3000,5500,3000,7000,3000,1000000,1000000,7000,3000,1000000,1000000,null,null,null,null,null,null,null,null,null,null,null,null,null,null,null,null,null,null,null,null,null,null,null,null,null,null,null,null,null,null,true,null,"F, ",206,4.158599537037037E-3,206,4.1585995370370368,206,4.1645833333333335E-3,206,4.1645833333333337,576.79999999999995,1.0176514583333334E-2,576.79999999999995,10.176514583333335,null,576.79999999999995,370.79999999999995,-370.79999999999995,0,10.176514583333335,1,{"$error":"#DIV/0!"},1,{"$error":"#DIV/0!"},1,{"$error":"#DIV/0!"},{"$error":"#DIV/0!"},{"$error":"#DIV/0!"}]
[null,null,null,null,null,null,null,null,null,null,null,null,null,null,null,null,null,null,null,null,null,null,null,null,null,null,null,null,null,null,null,null,null,null,null,null,null,null,null,null,null,1000000,1000000,1000000,1000000,4500,3000,4500,3000,6200,3000,1000000,1000000,6200,3000,1000000,1000000,null,null,null,null,null,null,null,null,null,null,null,null,null,null,null,null,null,null,null,null,null,null,null,null,null,null,null,null,null,null,true,null,"G, ",230,3.6385995370370378E-3,230,3.6385995370370376,230,3.6445833333333339E-3,230,3.6445833333333337,644,8.7205145833333352E-3,644,8.7205145833333351,null,644,414,-414,0,8.7205145833333351,1,{"$error":"#DIV/0!"},1,{"$error":"#DIV/0!"},1,{"$error":"#DIV/0!"},{"$error":"#DIV/0!"},{"$error":"#DIV/0!"}]
[null,null,null,null,null,null,null,null,null,null,null,null,null,null,null,null,null,null,null,null,null,null,null,null,null,null,null,null,null,null,null,null,null,null,null,null,null,null,null,null,null,1000000,1000000,1000000,1000000,4500,2500,4500,2500,6200,2500,1000000,1000000,6200,2500,1000000,1000000,null,null,null,null,null,null,null,null,null,null,null,null,null,null,null,null,null,null,null,null,null,null,null,null,null,null,null,null,null,null,true,null,"H, ",216,4.308599537037037E-3,216,4.3085995370370371,216,4.3145833333333335E-3,216,4.3145833333333332,604.79999999999995,1.0596514583333333E-2,604.79999999999995,10.596514583333333,null,604.79999999999995,388.79999999999995,-388.79999999999995,0,10.596514583333333,1,{"$error":"#DIV/0!"},1,{"$error":"#DIV/0!"},1,{"$error":"#DIV/0!"},{"$error":"#DIV/0!"},{"$error":"#DIV/0!"}]
[null,null,null,null,null,null,null,null,null,null,null,null,null,null,null,null,null,null,null,null,null,null,null,null,null,null,null,null,null,null,null,null,null,null,null,null,null,null,null,null,null,1000000,1000000,1000000,1000000,4500,2500,4500,2500,6200,2500,1000000,1000000,6200,2500,1000000,1000000,null,null,null,null,null,null,null,null,null,null,null,null,null,null,null,null,null,null,null,null,null,null,null,null,null,null,null,null,null,null,true,null,"I, ",240,3.7885995370370374E-3,240,3.7885995370370376,240,3.7945833333333334E-3,240,3.7945833333333332,671.99999999999989,9.1405145833333337E-3,671.99999999999989,9.1405145833333332,null,671.99999999999989,431.99999999999989,-431.99999999999989,0,9.1405145833333332,1,{"$error":"#DIV/0!"},1,{"$error":"#DIV/0!"},1,{"$error":"#DIV/0!"},{"$error":"#DIV/0!"},{"$error":"#DIV/0!"}]
[null,null,null,null,null,null,null,null,null,null,null,null,null,null,null,null,null,null,null,null,null,null,null,null,null,null,null,null,null,null,null,null,null,null,null,null,null,null,null,null,null,1000000,1000000,1000000,1000000,4500,0,4500,0,6200,0,1000000,1000000,6200,0,1000000,1000000,null,null,null,null,null,null,null,null,null,null,null,null,null,null,null,null,null,null,null,null,null,null,null,null,null,null,null,null,null,null,null,"FELT #2: ",null,null,null,null,null,null,null,null,null,null,null,null,null,null,null,null,null,null,null,null,null,null,null,null,null,{"$f":"MAX(DK65:DK73)","v":{"$error":"#DIV/0!"}},{"$f":"IF(MAX(DK65:DK73)=0,\"\",CK64&\"Last \"&DL65&DL66&DL67&DL68&DL69&DL70&DL71&DL72&DL73)","v":{"$error":"#DIV/0!"}}]
[null,null,null,null,null,null,null,null,null,null,null,null,null,null,null,null,null,null,null,null,null,null,null,null,null,null,null,null,null,null,null,null,null,null,null,"VÆGFELT:",4,null,null,null,null,1000000,1000000,1000000,1000000,1000000,1000000,{"$f":"AX56","v":6200},{"$f":"AY56","v":0},1000000,1000000,1000000,1000000,1000000,1000000,1000000,1000000,null,null,null,null,null,null,null,null,null,null,null,null,null,null,null,null,null,null,null,null,null,null,null,null,null,null,null,null,null,null,{"$f":"CJ55","v":true},"Lasttilfælde","A, ",{"$f":"CK20*1000","v":445.19999999999993},{"$f":"CL20","v":9.1903841049382692E-3},{"$f":"IF($CK$66=TRUE,IF($CJ65=TRUE,CM65,-10),-10)","v":445.19999999999993},{"$f":"IF($CK$66=TRUE,IF(CJ65=TRUE,CN65*1000,-10),-10)","v":9.1903841049382695},{"$f":"CO20*1000","v":159},{"$f":"CP20","v":4.6474999999999997E-3},{"$f":"IF($CK$66=TRUE,IF($CJ65=TRUE,CQ65,-10),-10)","v":159},{"$f":"IF($CK$66=TRUE,IF($CJ65=TRUE,CR65*1000,-10),-10)","v":4.6475},{"$f":"CS20*1000","v":349.8},{"$f":"CT20","v":7.6694407407407409E-3},{"$f":"IF($CK$66=TRUE,IF($CJ65=TRUE,CU65,-10),-10)","v":349.8},{"$f":"IF($CK$66=TRUE,IF($CJ65=TRUE,CV65*1000,-10),-10)","v":7.6694407407407406},null,{"$f":"MAX(CO65,CS65,CW65)","v":445.19999999999993},{"$f":"CZ65-CO65","v":0},{"$f":"CS65-CZ65","v":-286.19999999999993},{"$f":"CW65-CZ65","v":-95.39999999999992},{"$f":"IF(DA65=0,CP65,IF(DB65=0,CT65,IF(DC65=0,CX65,\"FEJL\")))","v":9.1903841049382695},{"$f":"MATCH(VLOOKUP(CM65,$B$109:$C$130,1),$B$109:$B$130,0)","v":1},{"$f":"INDEX($B$109:$C$130,DE65,2,1)\n+(INDEX($B$109:$C$130,DE65+1,2,1)-INDEX($B$109:$C$130,DE65,2,1))\n*(CM65-INDEX($B$109:$C$130,DE65,1,1))\n/(INDEX($B$109:$C$130,DE65+1,1,1)-INDEX($B$109:$C$130,DE65,1,1))","v":{"$error":"#DIV/0!"}},{"$f":"MATCH(VLOOKUP(CQ65,$B$109:$C$130,1),$B$109:$B$130,0)","v":1},{"$f":"INDEX($B$109:$C$130,DG65,2,1)\n+(INDEX($B$109:$C$130,DG65+1,2,1)-INDEX($B$109:$C$130,DG65,2,1))\n*(CQ65-INDEX($B$109:$C$130,DG65,1,1))\n/(INDEX($B$109:$C$130,DG65+1,1,1)-INDEX($B$109:$C$130,DG65,1,1))","v":{"$error":"#DIV/0!"}},{"$f":"MATCH(VLOOKUP(CU65,$B$109:$C$130,1),$B$109:$B$130,0)","v":1},{"$f":"INDEX($B$109:$C$130,DI65,2,1)\n+(INDEX($B$109:$C$130,DI65+1,2,1)-INDEX($B$109:$C$130,DI65,2,1))\n*(CU65-INDEX($B$109:$C$130,DI65,1,1))\n/(INDEX($B$109:$C$130,DI65+1,1,1)-INDEX($B$109:$C$130,DI65,1,1))","v":{"$error":"#DIV/0!"}},{"$f":"IF(DF65<CN65*1000,1,IF(DH65<CR65*1000,1,IF(DJ65<CV65*1000,1,0)))","v":{"$error":"#DIV/0!"}},{"$f":"IF(DK65=0,\"\",CL65)","v":{"$error":"#DIV/0!"}}]
[null,null,null,null,null,null,null,null,null,null,null,null,null,null,null,null,null,null,null,null,null,null,null,null,null,null,null,null,null,null,null,null,null,null,null,null,null,null,null,null,null,1000000,1000000,1000000,1000000,1000000,1000000,7000,0,1000000,1000000,1000000,1000000,1000000,1000000,1000000,1000000,null,null,null,null,null,null,null,null,null,null,null,null,null,null,null,null,null,null,null,null,null,null,null,null,null,null,null,null,null,null,true,{"$f":"IF(Makro!B1=2,TRUE,IF(Makro!B1=5,TRUE,FALSE))","v":true},"B, ",453.6,9.5123841049382721E-3,453.6,9.5123841049382722,162,4.7625000000000002E-3,162,4.7625000000000002,356.4,7.9224407407407407E-3,356.4,7.9224407407407407,null,453.6,0,-291.60000000000002,-97.200000000000045,9.5123841049382722,1,{"$error":"#DIV/0!"},1,{"$error":"#DIV/0!"},1,{"$error":"#DIV/0!"},{"$error":"#DIV/0!"},{"$error":"#DIV/0!"}]
[null,null,null,null,null,null,null,null,null,null,null,null,null,null,null,null,null,null,null,null,null,null,null,null,null,null,null,null,null,null,null,null,null,null,null,null,null,null,null,null,null,1000000,1000000,1000000,1000000,1000000,1000000,7000,3000,1000000,1000000,1000000,1000000,1000000,1000000,1000000,1000000,null,null,null,null,null,null,null,null,null,null,null,null,null,null,null,null,null,null,null,null,null,null,null,null,null,null,null,null,null,null,true,null,"C, ",565.60000000000014,1.1192384104938273E-2,565.60000000000014,11.192384104938274,202,5.3625000000000001E-3,202,5.3624999999999998,444.40000000000003,9.2424407407407407E-3,444.40000000000003,9.2424407407407401,null,565.60000000000014,0,-363.60000000000014,-121.2000000000001,11.192384104938274,1,{"$error":"#DIV/0!"},1,{"$error":"#DIV/0!"},1,{"$error":"#DIV/0!"},{"$error":"#DIV/0!"},{"$error":"#DIV/0!"}]
[null,null,null,null,null,null,null,null,null,null,null,null,null,null,null,null,null,null,null,null,null,null,null,null,null,null,null,null,null,null,null,null,null,null,null,null,null,null,null,null,null,1000000,1000000,1000000,1000000,1000000,1000000,7000,3000,1000000,1000000,1000000,1000000,1000000,1000000,1000000,1000000,null,null,null,null,null,null,null,null,null,null,null,null,null,null,null,null,null,null,null,null,null,null,null,null,null,null,null,null,null,null,true,null,"D, ",585.19999999999993,1.0767717438271606E-2,585.19999999999993,10.767717438271607,209,5.2108333333333329E-3,209,5.2108333333333325,459.8,8.9087740740740745E-3,459.8,8.9087740740740742,null,585.19999999999993,0,-376.19999999999993,-125.39999999999992,10.767717438271607,1,{"$error":"#DIV/0!"},1,{"$error":"#DIV/0!"},1,{"$error":"#DIV/0!"},{"$error":"#DIV/0!"},{"$error":"#DIV/0!"}]
[null,null,null,null,null,null,null,null,null,null,null,null,null,null,null,null,null,null,null,null,null,null,null,null,null,null,null,null,null,null,null,null,null,null,null,null,null,null,null,null,null,1000000,1000000,1000000,1000000,1000000,1000000,7000,3000,1000000,1000000,1000000,1000000,1000000,1000000,1000000,1000000,null,null,null,null,null,null,null,null,null,null,null,null,null,null,null,null,null,null,null,null,null,null,null,null,null,null,null,null,null,null,true,null,"E, ",464.8,8.7275253858024697E-3,464.8,8.7275253858024691,166,3.7995833333333336E-3,166,3.7995833333333335,365.2,7.0815537037037038E-3,365.2,7.0815537037037037,null,464.8,0,-298.8,-99.600000000000023,8.7275253858024691,1,{"$error":"#DIV/0!"},1,{"$error":"#DIV/0!"},1,{"$error":"#DIV/0!"},{"$error":"#DIV/0!"},{"$error":"#DIV/0!"}]
[null,null,null,null,null,null,null,null,null,null,null,null,null,null,null,null,null,null,null,null,null,null,null,null,null,null,null,null,null,null,null,null,null,null,null,null,null,null,null,null,null,1000000,1000000,1000000,1000000,1000000,1000000,6200,3000,1000000,1000000,1000000,1000000,1000000,1000000,1000000,1000000,null,null,null,null,null,null,null,null,null,null,null,null,null,null,null,null,null,null,null,null,null,null,null,null,null,null,null,null,null,null,true,null,"F, ",576.79999999999995,1.0407525385802471E-2,576.79999999999995,10.407525385802471,206,4.3995833333333335E-3,206,4.3995833333333332,453.19999999999993,8.4015537037037038E-3,453.19999999999993,8.4015537037037031,null,576.79999999999995,0,-370.79999999999995,-123.60000000000002,10.407525385802471,1,{"$error":"#DIV/0!"},1,{"$error":"#DIV/0!"},1,{"$error":"#DIV/0!"},{"$error":"#DIV/0!"},{"$error":"#DIV/0!"}]
[null,null,null,null,null,null,null,null,null,null,null,null,null,null,null,null,null,null,null,null,null,null,null,null,null,null,null,null,null,null,null,null,null,null,null,null,null,null,null,null,null,1000000,1000000,1000000,1000000,1000000,1000000,6200,2500,1000000,1000000,1000000,1000000,1000000,1000000,1000000,1000000,null,null,null,null,null,null,null,null,null,null,null,null,null,null,null,null,null,null,null,null,null,null,null,null,null,null,null,null,null,null,true,null,"G, ",644,8.9515253858024717E-3,644,8.951525385802471,230,3.8795833333333338E-3,230,3.879583333333334,506,7.2575537037037046E-3,506,7.2575537037037048,null,644,0,-414,-138,8.951525385802471,1,{"$error":"#DIV/0!"},1,{"$error":"#DIV/0!"},1,{"$error":"#DIV/0!"},{"$error":"#DIV/0!"},{"$error":"#DIV/0!"}]
[null,null,null,null,null,null,null,null,null,null,null,null,null,null,null,null,null,null,null,null,null,null,null,null,null,null,null,null,null,null,null,null,null,null,null,null,null,null,null,null,null,1000000,1000000,1000000,1000000,1000000,1000000,6200,2500,1000000,1000000,1000000,1000000,1000000,1000000,1000000,1000000,null,null,null,null,null,null,null,null,null,null,null,null,null,null,null,null,null,null,null,null,null,null,null,null,null,null,null,null,null,null,true,null,"H, ",604.79999999999995,1.0827525385802469E-2,604.79999999999995,10.827525385802469,216,4.5495833333333334E-3,216,4.5495833333333335,475.19999999999993,8.7315537037037042E-3,475.19999999999993,8.731553703703705,null,604.79999999999995,0,-388.79999999999995,-129.60000000000002,10.827525385802469,1,{"$error":"#DIV/0!"},1,{"$error":"#DIV/0!"},1,{"$error":"#DIV/0!"},{"$error":"#DIV/0!"},{"$error":"#DIV/0!"}]
[null,null,null,null,null,null,null,null,null,null,null,null,null,null,null,null,null,null,null,null,null,null,null,null,null,null,null,null,null,null,null,null,null,null,null,null,null,null,null,null,null,1000000,1000000,1000000,1000000,1000000,1000000,6200,0,1000000,1000000,1000000,1000000,1000000,1000000,1000000,1000000,null,null,null,null,null,null,null,null,null,null,null,null,null,null,null,null,null,null,null,null,null,null,null,null,null,null,null,null,null,null,true,null,"I, ",671.99999999999989,9.3715253858024702E-3,671.99999999999989,9.371525385802471,240,4.0295833333333338E-3,240,4.029583333333334,528,7.5875537037037033E-3,528,7.5875537037037031,null,671.99999999999989,0,-431.99999999999989,-143.99999999999989,9.371525385802471,1,{"$error":"#DIV/0!"},1,{"$error":"#DIV/0!"},1,{"$error":"#DIV/0!"},{"$error":"#DIV/0!"},{"$error":"#DIV/0!"}]
[null,null,null,null,null,null,null,null,null,null,null,null,null,null,null,null,null,null,null,null,null,null,null,null,null,null,null,null,null,null,null,null,null,null,null,null,null,null,null,null,null,null,null,null,null,null,null,null,null,null,null,null,null,null,null,null,null,null,null,null,null,null,null,null,null,null,null,null,null,null,null,null,null,null,null,null,null,null,null,null,null,null,null,null,null,null,null,null,"FELT #3: ",null,null,null,null,null,null,null,null,null,null,null,null,null,null,null,null,null,null,null,null,null,null,null,null,null,{"$f":"MAX(DK75:DK83)","v":{"$error":"#DIV/0!"}},{"$f":"IF(MAX(DK75:DK83)=0,\"\",CK74&\"Last \"&DL75&DL76&DL77&DL78&DL79&DL80&DL81&DL82&DL83)","v":{"$error":"#DIV/0!"}}]
[null,null,null,null,null,null,null,null,null,null,null,null,null,null,null,null,null,null,null,null,null,null,null,null,null,null,null,null,null,null,null,null,null,null,null,null,null,null,null,null,null,null,null,null,null,null,null,null,null,null,null,null,null,null,null,null,null,null,null,null,null,null,null,null,null,null,null,null,null,null,null,null,null,null,null,null,null,null,null,null,null,null,null,null,null,null,null,{"$f":"CJ65","v":true},"Lasttilfælde","A, ",{"$f":"CK30*1000","v":349.8},{"$f":"CL30","v":7.2998234567901235E-3},{"$f":"IF($CK$76=TRUE,IF($CJ75=TRUE,CM75,-10),-10)","v":349.8},{"$f":"IF($CK$76=TRUE,IF(CJ75=TRUE,CN75*1000,-10),-10)","v":7.2998234567901239},{"$f":"CO30*1000","v":159},{"$f":"CP30","v":4.2715000000000001E-3},{"$f":"IF($CK$76=TRUE,IF($CJ75=TRUE,CQ75,-10),-10)","v":159},{"$f":"IF($CK$76=TRUE,IF($CJ75=TRUE,CR75*1000,-10),-10)","v":4.2715000000000005},{"$f":"CS30*1000","v":292.56},{"$f":"CT30","v":6.3872574382716051E-3},{"$f":"IF($CK$76=TRUE,IF($CJ75=TRUE,CU75,-10),-10)","v":292.56},{"$f":"IF($CK$76=TRUE,IF($CJ75=TRUE,CV75*1000,-10),-10)","v":6.3872574382716047},null,{"$f":"MAX(CO75,CS75,CW75)","v":349.8},{"$f":"CZ75-CO75","v":0},{"$f":"CS75-CZ75","v":-190.8},{"$f":"CW75-CZ75","v":-57.240000000000009},{"$f":"IF(DA75=0,CP75,IF(DB75=0,CT75,IF(DC75=0,CX75,\"FEJL\")))","v":7.2998234567901239},{"$f":"MATCH(VLOOKUP(CM75,$B$109:$C$130,1),$B$109:$B$130,0)","v":1},{"$f":"INDEX($B$109:$C$130,DE75,2,1)\n+(INDEX($B$109:$C$130,DE75+1,2,1)-INDEX($B$109:$C$130,DE75,2,1))\n*(CM75-INDEX($B$109:$C$130,DE75,1,1))\n/(INDEX($B$109:$C$130,DE75+1,1,1)-INDEX($B$109:$C$130,DE75,1,1))","v":{"$error":"#DIV/0!"}},{"$f":"MATCH(VLOOKUP(CQ75,$B$109:$C$130,1),$B$109:$B$130,0)","v":1},{"$f":"INDEX($B$109:$C$130,DG75,2,1)\n+(INDEX($B$109:$C$130,DG75+1,2,1)-INDEX($B$109:$C$130,DG75,2,1))\n*(CQ75-INDEX($B$109:$C$130,DG75,1,1))\n/(INDEX($B$109:$C$130,DG75+1,1,1)-INDEX($B$109:$C$130,DG75,1,1))","v":{"$error":"#DIV/0!"}},{"$f":"MATCH(VLOOKUP(CU75,$B$109:$C$130,1),$B$109:$B$130,0)","v":1},{"$f":"INDEX($B$109:$C$130,DI75,2,1)\n+(INDEX($B$109:$C$130,DI75+1,2,1)-INDEX($B$109:$C$130,DI75,2,1))\n*(CU75-INDEX($B$109:$C$130,DI75,1,1))\n/(INDEX($B$109:$C$130,DI75+1,1,1)-INDEX($B$109:$C$130,DI75,1,1))","v":{"$error":"#DIV/0!"}},{"$f":"IF(DF75<CN75*1000,1,IF(DH75<CR75*1000,1,IF(DJ75<CV75*1000,1,0)))","v":{"$error":"#DIV/0!"}},{"$f":"IF(DK75=0,\"\",CL75)","v":{"$error":"#DIV/0!"}}]
[null,null,null,null,null,null,null,null,null,null,null,null,null,null,null,null,null,null,null,null,null,null,null,null,null,null,null,null,null,null,null,null,null,null,null,"B =",1,null,null,null,"Vægoverligger",null,"Bjælke A",{"$f":"Makro!A3","v":1},null,null,null,null,null,null,null,null,null,null,null,null,null,null,"Interne overliggere ",null,null,null,null,null,"Afskalningsbrud",null,null,null,"Vederlagstryk",null,null,null,null,null,null,null,null,null,null,null,null,null,null,null,null,null,null,true,{"$f":"IF(Makro!B1=3,TRUE,IF(Makro!B1=5,TRUE,FALSE))","v":true},"B, ",356.4,7.5528234567901233E-3,356.4,7.5528234567901231,162,4.3865000000000006E-3,162,4.3865000000000007,298.08,6.5988574382716053E-3,298.08,6.5988574382716054,null,356.4,0,-194.39999999999998,-58.319999999999993,7.5528234567901231,1,{"$error":"#DIV/0!"},1,{"$error":"#DIV/0!"},1,{"$error":"#DIV/0!"},{"$error":"#DIV/0!"},{"$error":"#DIV/0!"}]
[null,null,null,null,null,null,null,null,null,null,null,null,null,null,null,null,null,null,null,null,null,null,null,null,null,null,null,null,null,null,null,null,null,null,null,"N1   (kN)","N0   (kN)","N2    (kN)",null,null,"Separat bjælke",null,"Bjælke B",{"$f":"Makro!A4","v":1},null,null,null,null,null,null,null,null,null,null,null,null,null,null,"  Vægtykkelse, t [mm]",null,{"$f":"M18","v":150},"Væg 1-2","Væg 2-3","Væg 3-4",null,null,null,null,null,null,null,null,null,null,null,null,null,null,null,null,null,null,null,null,null,null,null,true,null,"C, ",444.40000000000003,8.8728234567901233E-3,444.40000000000003,8.8728234567901225,202,4.9865000000000005E-3,202,4.9865000000000004,371.68,7.7028574382716044E-3,371.68,7.7028574382716046,null,444.40000000000003,0,-242.40000000000003,-72.720000000000027,8.8728234567901225,1,{"$error":"#DIV/0!"},1,{"$error":"#DIV/0!"},1,{"$error":"#DIV/0!"},{"$error":"#DIV/0!"},{"$error":"#DIV/0!"}]
[null,null,null,null,null,null,null,null,null,null,null,null,null,null,null,null,null,null,null,null,null,null,null,null,null,null,null,null,null,null,null,null,null,null,null,{"$f":"AK76*S25","v":3},{"$f":"AK76*R25","v":150},{"$f":"AK76*Q25","v":6},null,null,null,null,null,null,null,null,null,null,null,null,null,null,null,null,null,null,null,null,"  Vederlagsdybder [mm]",null,{"$f":"AH20","v":0},null,null,null,null,null,null,null,null,null,null,null,null,null,null,null,null,null,null,null,null,null,null,null,null,null,null,true,null,"D, ",459.8,8.5391567901234571E-3,459.8,8.5391567901234566,209,4.8348333333333333E-3,209,4.8348333333333331,384.55999999999995,7.4237907716049384E-3,384.55999999999995,7.4237907716049385,null,459.8,0,-250.8,-75.240000000000066,8.5391567901234566,1,{"$error":"#DIV/0!"},1,{"$error":"#DIV/0!"},1,{"$error":"#DIV/0!"},{"$error":"#DIV/0!"},{"$error":"#DIV/0!"}]
[null,null,null,null,null,null,null,null,null,null,null,null,null,null,null,null,null,null,null,null,null,null,null,null,null,null,null,null,null,null,null,null,null,null,null,{"$f":"AK76*P25","v":10},{"$f":"AK76*R25","v":150},{"$f":"AK76*Q25","v":6},null,null,null,null,null,null,"LA (m)",null,null,null,null,null,null,null,"LB (m)",null,null,null,null,null,null,null,null,"L (m)","L (m)","L (m)",null,null,null,null,null,null,null,null,null,null,null,null,null,null,null,null,null,null,null,null,null,null,null,true,null,"E, ",365.2,6.8967450617283951E-3,365.2,6.896745061728395,166,3.6115833333333338E-3,166,3.6115833333333338,305.44,5.9091620524691357E-3,305.44,5.909162052469136,null,365.2,0,-199.2,-59.759999999999991,6.896745061728395,1,{"$error":"#DIV/0!"},1,{"$error":"#DIV/0!"},1,{"$error":"#DIV/0!"},{"$error":"#DIV/0!"},{"$error":"#DIV/0!"}]
[null,null,null,null,null,null,null,null,null,null,null,null,null,null,null,null,null,null,null,null,null,null,null,null,null,null,null,null,null,null,null,null,null,null,null,{"$f":"AK76*P25","v":10},{"$f":"AK76*(O25+MAX(AM47,AN47))","v":190},{"$f":"AK76*Q25","v":6},null,null,null,null,null,null,{"$f":"$Q$27/2","v":0},null,null,null,null,null,null,null,{"$f":"$R$27/2","v":0},null,null,null,null,null,"ftld",{"$f":"AA9","v":0},"MPa",{"$f":"(Q16+2*AH20)/1000","v":1.5},{"$f":"(Q17+2*AH20)/1000","v":1},{"$f":"(Q18+2*AH20)/1000","v":0.7},null,null,null,null,null,null,null,null,null,null,null,null,null,null,null,null,null,null,null,null,null,null,null,true,null,"F, ",453.19999999999993,8.2167450617283942E-3,453.19999999999993,8.2167450617283944,206,4.2115833333333337E-3,206,4.2115833333333335,379.03999999999996,7.0131620524691365E-3,379.03999999999996,7.0131620524691369,null,453.19999999999993,0,-247.19999999999993,-74.159999999999968,8.2167450617283944,1,{"$error":"#DIV/0!"},1,{"$error":"#DIV/0!"},1,{"$error":"#DIV/0!"},{"$error":"#DIV/0!"},{"$error":"#DIV/0!"}]
[null,null,null,null,null,null,null,null,null,null,null,null,null,null,null,null,null,null,null,null,null,null,null,null,null,null,null,null,null,null,null,null,null,null,null,{"$f":"AK76*P25","v":10},{"$f":"AK76*(O25+MAX(AM47,AN47))","v":190},{"$f":"AK76*N25","v":9},null,null,null,null,null,null,null,null,null,null,null,null,null,null,null,null,null,null,null,null,"fcd",{"$f":"AA8","v":0},"MPa",null,null,null,null,null,null,null,null,null,null,null,null,null,null,null,null,null,null,null,null,null,null,null,null,null,null,true,null,"G, ",506,7.0727450617283959E-3,506,7.072745061728396,230,3.691583333333334E-3,230,3.6915833333333339,423.20000000000005,6.0563620524691358E-3,423.20000000000005,6.0563620524691357,null,506,0,-276,-82.799999999999955,7.072745061728396,1,{"$error":"#DIV/0!"},1,{"$error":"#DIV/0!"},1,{"$error":"#DIV/0!"},{"$error":"#DIV/0!"},{"$error":"#DIV/0!"}]
[null,null,null,null,null,null,null,null,null,null,null,null,null,null,null,null,null,null,null,null,null,null,null,null,null,null,null,null,null,null,null,null,null,null,null,{"$f":"AK76*M25","v":27},{"$f":"AK76*R25","v":150},{"$f":"AK76*Q25","v":6},null,null,null,null,null,null,"NA","exc","NA-o",null,null,null,null,null,"NB","exc","NB-o",null,null,null,"NB","exc","beff","NB","NB","NB","bæreevne ",null,null,null,"bæreevne ",null,null,null,null,null,null,null,null,null,null,null,null,null,null,null,null,null,null,true,null,"H, ",475.19999999999993,8.5467450617283947E-3,475.19999999999993,8.5467450617283944,216,4.3615833333333328E-3,216,4.3615833333333329,397.44,7.289162052469135E-3,397.44,7.289162052469135,null,475.19999999999993,0,-259.19999999999993,-77.759999999999934,8.5467450617283944,1,{"$error":"#DIV/0!"},1,{"$error":"#DIV/0!"},1,{"$error":"#DIV/0!"},{"$error":"#DIV/0!"},{"$error":"#DIV/0!"}]
[null,null,null,null,null,null,null,null,null,null,null,null,null,null,null,null,null,null,null,null,null,null,null,null,null,null,null,null,null,null,null,null,null,null,null,{"$f":"AK76*M25","v":27},{"$f":"AK76*(O25+MAX(AM47,AN47))","v":190},{"$f":"AK76*Q25","v":6},null,null,null,null,null,null,"(kN)  ","(mm)",null,null,null,null,null,null,"(kN)  ","(mm)",null,null,null,null,"(kN/m)  ","(mm)","(mm)","kN","kN","kN","kN",null,null,null,"kN",null,null,null,null,null,null,null,null,null,null,null,null,null,null,null,null,null,null,true,null,"I, ",528,7.4027450617283946E-3,528,7.4027450617283943,240,3.8415833333333336E-3,240,3.8415833333333333,441.59999999999997,6.3323620524691352E-3,441.59999999999997,6.3323620524691355,null,528,0,-288,-86.400000000000034,7.4027450617283943,1,{"$error":"#DIV/0!"},1,{"$error":"#DIV/0!"},1,{"$error":"#DIV/0!"},{"$error":"#DIV/0!"},{"$error":"#DIV/0!"}]
[null,null,null,null,null,null,null,null,null,null,null,null,null,null,null,null,null,null,null,null,null,null,null,null,null,null,null,null,null,null,null,null,null,null,null,{"$f":"AK76*M25","v":27},{"$f":"AK76*(O25+MAX(AM47,AN47))","v":190},{"$f":"AK76*K25","v":13},null,null,null,null,null,null,{"$f":"IF($AO$13,IF($AR$76=1,($N31+$O31+$P31)*AS$80,$Q31),0)","v":0},{"$f":"IF($AR$76=1,IF($AO$13,IF(AS84=0,0,($N$41*$N31+$O$41*$O31-$P$41*$P31)/($AS84/$AS$80)),0),$Q$41)","v":0},{"$f":"IF($AO$13,($N31+$O31+$P31)*AS$80,0)","v":0},null,null,null,null,null,{"$f":"IF($AO$17,IF($AR$77=1,($N31+$O31+$P31)*BA$80,$R31))","v":0},{"$f":"IF($AR$77=1,IF($AO$17,($N$41*$N31+$O$41*$O31-$P$41*$P31)/(BA84/$BA$80),0),$R$41)","v":{"$error":"#DIV/0!"}},{"$f":"IF($AO$17,($N31+$O31+$P31)*BA$80,0)","v":0},null,null,null,{"$f":"N31+O31+P31","v":159},{"$f":"(N31*$N$40+O31*$O$40+P31*$P$40)/BG84","v":16.79245283018868},{"$f":"$BI$77-2*BH84","v":116.41509433962264},{"$f":"$BG84*BJ$80*0.5","v":119.25},79.5,55.65,{"$f":"5/4*$BI$78*BI84*$BH$80*10^-3","v":0},{"$f":"IF(BJ84>$BM84,\"Brud\",\"OK\")","v":"Brud"},{"$f":"IF(BK84>$BM84,\"Brud\",\"OK\")","v":"Brud"},{"$f":"IF(BL84>$BM84,\"Brud\",\"OK\")","v":"Brud"},{"$f":"0.8*BI84*$BI$78*$BH$81*10^-3","v":0},{"$f":"IF(BJ84>$BQ84,\"Brud\",\"OK\")","v":"Brud"},{"$f":"IF(BK84>$BQ84,\"Brud\",\"OK\")","v":"Brud"},{"$f":"IF(BL84>$BQ84,\"Brud\",\"OK\")","v":"Brud"},null,null,null,null,null,null,null,null,null,null,null,null,null,null,null,null,"FELT #4: ",null,null,null,null,null,null,null,null,null,null,null,null,null,null,null,null,null,null,null,null,null,null,null,null,null,{"$f":"MAX(DK85:DK93)","v":{"$error":"#DIV/0!"}},{"$f":"IF(MAX(DK85:DK93)=0,\"\",CK84&\"Last \"&DL85&DL86&DL87&DL88&DL89&DL90&DL91&DL92&DL93)","v":{"$error":"#DIV/0!"}}]
[null,null,null,null,null,null,null,null,null,null,null,null,null,null,null,null,null,null,null,null,null,null,null,null,null,null,null,null,null,null,null,null,null,null,null,{"$f":"AK76*M25","v":27},{"$f":"AK76*(L25+MAX(AL47,AO47))","v":200},{"$f":"AK76*Q25","v":6},null,null,null,null,null,null,0,0,0,null,null,null,null,null,0,{"$error":"#DIV/0!"},0,null,null,null,162,17.407407407407408,115.18518518518519,121.5,81,56.699999999999996,0,"Brud","Brud","Brud",0,"Brud","Brud","Brud",null,null,null,null,null,null,null,null,null,null,null,null,null,null,null,{"$f":"CJ75","v":true},"Lasttilfælde","A, ",{"$f":"CK40*1000","v":292.56},{"$f":"CL40","v":6.0076009833333333E-3},{"$f":"IF($CK$86=TRUE,IF($CJ85=TRUE,CM85,-10),-10)","v":292.56},{"$f":"IF($CK$86=TRUE,IF(CJ85=TRUE,CN85*1000,-10),-10)","v":6.007600983333333},{"$f":"CO40*1000","v":159},{"$f":"CP40","v":3.88375E-3},{"$f":"IF($CK$86=TRUE,IF($CJ85=TRUE,CQ85,-10),-10)","v":159},{"$f":"IF($CK$86=TRUE,IF($CJ85=TRUE,CR85*1000,-10),-10)","v":3.88375},{"$f":"CS40*1000","v":0},{"$f":"CT40","v":3.8964885956790122E-3},{"$f":"IF($CK$86=TRUE,IF($CJ85=TRUE,CU85,-10),-10)","v":0},{"$f":"IF($CK$86=TRUE,IF($CJ85=TRUE,CV85*1000,-10),-10)","v":3.8964885956790121},null,{"$f":"MAX(CO85,CS85,CW85)","v":292.56},{"$f":"CZ85-CO85","v":0},{"$f":"CS85-CZ85","v":-133.56},{"$f":"CW85-CZ85","v":-292.56},{"$f":"IF(DA85=0,CP85,IF(DB85=0,CT85,IF(DC85=0,CX85,\"FEJL\")))","v":6.007600983333333},{"$f":"MATCH(VLOOKUP(CM85,$B$109:$C$130,1),$B$109:$B$130,0)","v":1},{"$f":"INDEX($B$109:$C$130,DE85,2,1)\n+(INDEX($B$109:$C$130,DE85+1,2,1)-INDEX($B$109:$C$130,DE85,2,1))\n*(CM85-INDEX($B$109:$C$130,DE85,1,1))\n/(INDEX($B$109:$C$130,DE85+1,1,1)-INDEX($B$109:$C$130,DE85,1,1))","v":{"$error":"#DIV/0!"}},{"$f":"MATCH(VLOOKUP(CQ85,$B$109:$C$130,1),$B$109:$B$130,0)","v":1},{"$f":"INDEX($B$109:$C$130,DG85,2,1)\n+(INDEX($B$109:$C$130,DG85+1,2,1)-INDEX($B$109:$C$130,DG85,2,1))\n*(CQ85-INDEX($B$109:$C$130,DG85,1,1))\n/(INDEX($B$109:$C$130,DG85+1,1,1)-INDEX($B$109:$C$130,DG85,1,1))","v":{"$error":"#DIV/0!"}},{"$f":"MATCH(VLOOKUP(CU85,$B$109:$C$130,1),$B$109:$B$130,0)","v":1},{"$f":"INDEX($B$109:$C$130,DI85,2,1)\n+(INDEX($B$109:$C$130,DI85+1,2,1)-INDEX($B$109:$C$130,DI85,2,1))\n*(CU85-INDEX($B$109:$C$130,DI85,1,1))\n/(INDEX($B$109:$C$130,DI85+1,1,1)-INDEX($B$109:$C$130,DI85,1,1))","v":{"$error":"#DIV/0!"}},{"$f":"IF(DF85<CN85*1000,1,IF(DH85<CR85*1000,1,IF(DJ85<CV85*1000,1,0)))","v":{"$error":"#DIV/0!"}},{"$f":"IF(DK85=0,\"\",CL85)","v":{"$error":"#DIV/0!"}}]
[null,null,null,null,null,null,null,null,null,null,null,null,null,null,null,null,null,null,null,null,null,null,null,null,null,null,null,null,null,null,null,null,null,null,null,{"$f":"AK76*M25","v":27},{"$f":"AK76*(L25+MAX(AL47,AO47))","v":200},{"$f":"AK76*K25","v":13},null,null,null,null,null,null,0,0,0,null,null,null,null,null,0,{"$error":"#DIV/0!"},0,null,null,null,202,16.93069306930693,116.13861386138615,151.5,101,70.699999999999989,0,"Brud","Brud","Brud",0,"Brud","Brud","Brud",null,null,null,null,null,null,null,null,null,null,null,null,null,null,null,true,{"$f":"IF(Makro!B1=4,TRUE,IF(Makro!B1=5,TRUE,FALSE))","v":true},"B, ",298.08,6.2192009833333334E-3,298.08,6.2192009833333337,162,3.9987500000000006E-3,162,3.9987500000000007,0,4.0114885956790127E-3,0,4.0114885956790127,null,298.08,0,-136.07999999999998,-298.08,6.2192009833333337,1,{"$error":"#DIV/0!"},1,{"$error":"#DIV/0!"},1,{"$error":"#DIV/0!"},{"$error":"#DIV/0!"},{"$error":"#DIV/0!"}]
[null,null,null,null,null,null,null,null,null,null,null,null,null,null,null,null,null,null,null,null,null,null,null,null,null,null,null,null,null,null,null,null,null,null,null,{"$f":"AK76*Q25","v":6},{"$f":"AK76*R25","v":150},{"$f":"AK76*S25","v":3},null,null,null,null,null,null,0,0,0,null,null,null,null,null,0,{"$error":"#DIV/0!"},0,null,null,null,209,17.703349282296649,114.5933014354067,156.75,104.5,73.149999999999991,0,"Brud","Brud","Brud",0,"Brud","Brud","Brud",null,null,null,null,null,null,null,null,null,null,null,null,null,null,null,true,null,"C, ",371.68,7.3232009833333325E-3,371.68,7.3232009833333329,202,4.5987500000000004E-3,202,4.5987500000000008,0,4.6114885956790126E-3,0,4.6114885956790124,null,371.68,0,-169.68,-371.68,7.3232009833333329,1,{"$error":"#DIV/0!"},1,{"$error":"#DIV/0!"},1,{"$error":"#DIV/0!"},{"$error":"#DIV/0!"},{"$error":"#DIV/0!"}]
[null,null,null,null,null,null,null,null,null,null,null,null,null,null,null,null,null,null,null,null,null,null,null,null,null,null,null,null,null,null,null,null,null,null,null,{"$f":"AK76*N25","v":9},{"$f":"AK76*R25","v":150},{"$f":"AK76*S25","v":3},null,null,null,null,null,null,0,0,0,null,null,null,null,null,0,{"$error":"#DIV/0!"},0,null,null,null,166,18.192771084337348,113.6144578313253,124.5,83,58.099999999999994,0,"Brud","Brud","Brud",0,"Brud","Brud","Brud",null,null,null,null,null,null,null,null,null,null,null,null,null,null,null,true,null,"D, ",384.55999999999995,7.0441343166666665E-3,384.55999999999995,7.0441343166666668,209,4.4470833333333333E-3,209,4.4470833333333335,0,4.4598219290123454E-3,0,4.4598219290123451,null,384.55999999999995,0,-175.55999999999995,-384.55999999999995,7.0441343166666668,1,{"$error":"#DIV/0!"},1,{"$error":"#DIV/0!"},1,{"$error":"#DIV/0!"},{"$error":"#DIV/0!"},{"$error":"#DIV/0!"}]
[null,null,null,null,null,null,null,null,null,null,null,null,null,null,null,null,null,null,null,null,null,null,null,null,null,null,null,null,null,null,null,null,null,null,null,{"$f":"AK76*N25","v":9},{"$f":"AK76*(O25+MAX(AM47,AN47))","v":190},{"$f":"AK76*S25","v":3},null,null,null,null,null,null,0,0,0,null,null,null,null,null,0,{"$error":"#DIV/0!"},0,null,null,null,206,17.572815533980581,114.85436893203884,154.5,103,72.099999999999994,0,"Brud","Brud","Brud",0,"Brud","Brud","Brud",null,null,null,null,null,null,null,null,null,null,null,null,null,null,null,true,null,"E, ",305.44,5.7193338249999998E-3,305.44,5.7193338249999996,166,3.4177083333333338E-3,166,3.417708333333334,0,3.4240776311728399E-3,0,3.4240776311728398,null,305.44,0,-139.44,-305.44,5.7193338249999996,1,{"$error":"#DIV/0!"},1,{"$error":"#DIV/0!"},1,{"$error":"#DIV/0!"},{"$error":"#DIV/0!"},{"$error":"#DIV/0!"}]
[null,null,null,null,null,null,null,null,null,null,null,null,null,null,null,null,null,null,null,null,null,null,null,null,null,null,null,null,null,null,null,null,null,null,null,{"$f":"AK76*N25","v":9},{"$f":"AK76*(O25+MAX(AM47,AN47))","v":190},{"$f":"AK76*P25","v":10},null,null,null,null,null,null,0,0,0,null,null,null,null,null,0,{"$error":"#DIV/0!"},0,null,null,null,230,19.913043478260871,110.17391304347825,172.5,115,80.5,0,"Brud","Brud","Brud",0,"Brud","Brud","Brud",null,null,null,null,null,null,null,null,null,null,null,null,null,null,null,true,null,"F, ",379.03999999999996,6.8233338250000006E-3,379.03999999999996,6.8233338250000006,206,4.0177083333333332E-3,206,4.0177083333333332,0,4.0240776311728397E-3,0,4.0240776311728395,null,379.03999999999996,0,-173.03999999999996,-379.03999999999996,6.8233338250000006,1,{"$error":"#DIV/0!"},1,{"$error":"#DIV/0!"},1,{"$error":"#DIV/0!"},{"$error":"#DIV/0!"},{"$error":"#DIV/0!"}]
[null,null,null,null,null,null,null,null,null,null,null,null,null,null,null,null,null,null,null,null,null,null,null,null,null,null,null,null,null,null,null,null,null,null,null,{"$f":"AK76*K25","v":13},{"$f":"AK76*R25","v":150},{"$f":"AK76*S25","v":3},null,null,null,null,null,null,0,0,0,null,null,null,null,null,0,{"$error":"#DIV/0!"},0,null,null,null,216,17.453703703703702,115.0925925925926,162,108,75.599999999999994,0,"Brud","Brud","Brud",0,"Brud","Brud","Brud",null,null,null,null,null,null,null,null,null,null,null,null,null,null,null,true,null,"G, ",423.20000000000005,5.8665338249999999E-3,423.20000000000005,5.8665338250000003,230,3.497708333333334E-3,230,3.4977083333333341,0,3.5040776311728401E-3,0,3.5040776311728399,null,423.20000000000005,0,-193.20000000000005,-423.20000000000005,5.8665338250000003,1,{"$error":"#DIV/0!"},1,{"$error":"#DIV/0!"},1,{"$error":"#DIV/0!"},{"$error":"#DIV/0!"},{"$error":"#DIV/0!"}]
[null,null,null,null,null,null,null,null,null,null,null,null,null,null,null,null,null,null,null,null,null,null,null,null,null,null,null,null,null,null,null,null,null,null,null,{"$f":"AK76*K25","v":13},{"$f":"AK76*(O25+MAX(AM47,AN47))","v":190},{"$f":"AK76*S25","v":3},null,null,null,null,null,null,0,0,0,null,null,null,null,null,0,{"$error":"#DIV/0!"},0,null,null,null,240,19.708333333333332,110.58333333333334,180,120,84,0,"Brud","Brud","Brud",0,"Brud","Brud","Brud",null,null,null,null,null,null,null,null,null,null,null,null,null,null,null,true,null,"H, ",397.44,7.0993338249999991E-3,397.44,7.0993338249999987,216,4.1677083333333332E-3,216,4.1677083333333336,0,4.1740776311728397E-3,0,4.1740776311728398,null,397.44,0,-181.44,-397.44,7.0993338249999987,1,{"$error":"#DIV/0!"},1,{"$error":"#DIV/0!"},1,{"$error":"#DIV/0!"},{"$error":"#DIV/0!"},{"$error":"#DIV/0!"}]
[null,null,null,null,null,null,null,null,null,null,null,null,null,null,null,null,null,null,null,null,null,null,null,null,null,null,null,null,null,null,null,null,null,null,null,{"$f":"AK76*K25","v":13},{"$f":"AK76*(O25+MAX(AM47,AN47))","v":190},{"$f":"AK76*M25","v":27},null,null,null,null,null,null,null,null,null,null,null,null,null,null,null,null,null,null,null,null,null,null,null,null,null,null,"Brud",{"$f":"COUNTIF(BN84:BN92,\"Brud\")","v":9},{"$f":"COUNTIF(BO84:BO92,\"Brud\")","v":9},{"$f":"COUNTIF(BP84:BP92,\"Brud\")","v":9},"Brud",{"$f":"COUNTIF(BR84:BR92,\"Brud\")","v":9},{"$f":"COUNTIF(BS84:BS92,\"Brud\")","v":9},{"$f":"COUNTIF(BT84:BT92,\"Brud\")","v":9},null,null,null,null,null,null,null,null,null,null,null,null,null,null,null,true,null,"I, ",441.59999999999997,6.1425338249999992E-3,441.59999999999997,6.1425338249999992,240,3.6477083333333335E-3,240,3.6477083333333336,0,3.6540776311728396E-3,0,3.6540776311728398,null,441.59999999999997,0,-201.59999999999997,-441.59999999999997,6.1425338249999992,1,{"$error":"#DIV/0!"},1,{"$error":"#DIV/0!"},1,{"$error":"#DIV/0!"},{"$error":"#DIV/0!"},{"$error":"#DIV/0!"}]
[null,null,null,null,null,null,null,null,null,null,null,null,null,null,null,null,null,null,null,null,null,null,null,null,null,null,null,null,null,null,null,null,null,null,null,{"$f":"AK76*K25","v":13},{"$f":"AK76*(L25+MAX(AL47,AO47))","v":200},{"$f":"AK76*S25","v":3},null,null,null,null,null,null,null,null,null,null,null,null,null,null,null,null,null,null,null,null,null,null,null,null,null,null,"Eksist.",{"$f":"AO14","v":true},{"$f":"AO15","v":true},{"$f":"AO16","v":true},"Eksist.",{"$f":"AO14","v":true},{"$f":"AO15","v":true},{"$f":"AO16","v":true}]
[null,null,null,null,null,null,null,null,null,null,null,null,null,null,null,null,null,null,null,null,null,null,null,null,null,null,null,null,null,null,null,null,null,null,null,{"$f":"AK76*K25","v":13},{"$f":"AK76*(L25+MAX(AL47,AO47))","v":200},{"$f":"AK76*M25","v":27},null,null,null,null,null,null,null,null,null,null,null,null,null,null,null,null,null,null,null,null,null,null,null,null,null,null,"Besked:",{"$f":"IF(OR(AND(BN94,BN93>0),AND(BO94,BO93>0),AND(BP94,BP93>0)),\"(intern overligger)\",\"\")","v":"(intern overligger)"},null,null,"Besked:",{"$f":"IF(OR(AND(BR94,BR93>0),AND(BS94,BS93>0),AND(BT94,BT93>0)),\"(intern overligger)\",\"\")","v":"(intern overligger)"}]
[]
[null,null,null,null,null,null,null,null,null,null,null,null,null,null,null,null,null,null,null,null,null,null,null,null,null,null,null,null,null,null,null,null,null,null,null,null,null,null,null,null,null,null,null,null,null,null,null,null,null,null,null,null,null,null,null,null,null,null,"Eksterne overliggere ",null,null,null,null,null,"Afskalningsbrud",null,null,null,"Vederlagstryk"]
[null,null,null,null,null,null,null,null,null,null,null,null,null,null,null,null,null,null,null,null,null,null,null,null,null,null,null,null,null,null,null,null,null,null,null,"Brudlasttilfælde",null,null,null,null,null,null,null,null,null,"Tværvæg",null,"Tværvæg",null,"Felt 1",null,"Felt 2",null,"Felt 3",null,"Felt 4",null,null,"  Vægtykkelse, t [mm]",null,{"$f":"M18","v":150},"Bjælke A","Bjælke B",null,"Bjælke A",null,"Bjælke B",null,"Bjælke A",null,"Bjælke B"]
[null,null,null,null,null,null,null,null,null,null,null,null,null,null,null,null,null,null,null,null,null,null,null,null,null,null,null,null,null,null,null,null,null,null,null,null,1,null,null,null,null,null,null,null,null,1,null,2,null,"tv 1",{"$f":"IF(AND($AT$101>=AY10,$AT$101<=AY11),TRUE,FALSE)","v":false},"tv 1",{"$f":"IF(AND($AT$101>=BA10,$AT$101<=BA11),TRUE,FALSE)","v":false},"tv 1",{"$f":"IF(AND($AT$101>=BC10,$AT$101<=BC11),TRUE,FALSE)","v":false},"tv 1",{"$f":"IF(AND($AT$101>=BE10,$AT$101<=BE11),TRUE,FALSE)","v":false},null,"  Vederlagsdybder [mm]",null,{"$f":"Q15","v":150}]
[null,null,null,null,null,null,null,null,null,null,null,null,null,null,null,null,null,null,null,null,null,null,null,null,null,null,null,null,null,null,null,null,null,null,null,null,2,null,null,null,null,null,null,null,null,"x","y","x","y","tv2",{"$f":"IF(AND($AV$101>=AY10,$AV$101<=AY11),TRUE,FALSE)","v":false},"tv2",{"$f":"IF(AND($AV$101>=BA10,$AV$101<=BA11),TRUE,FALSE)","v":false},"tv2",{"$f":"IF(AND($AV$101>=BC10,$AV$101<=BC11),TRUE,FALSE)","v":false},"tv2",{"$f":"IF(AND($AV$101>=BE10,$AV$101<=BE11),TRUE,FALSE)","v":false},null,"  Vederlagsdybder [mm]",null,{"$f":"Q19","v":0},"L (m)","L (m)"]
[null,null,null,null,null,null,null,null,null,null,null,null,null,null,null,null,null,null,null,null,null,null,null,null,null,null,null,null,null,null,null,null,null,null,null,null,null,null,null,null,null,null,null,null,null,{"$f":"IF(AT103,AM2,1000000)","v":1000000},0,{"$f":"IF(AV103,AM3,1000000)","v":1000000},0,"b-tv1",{"$f":"IF(AY99,MAX($AT$101-AY10,IF(AY100,$AV$101,AY11)-$AT$101),IF(AY100,0,AY11-AY10))","v":1000},"b-tv1",{"$f":"IF(BA99,MAX($AT$101-BA10,IF(BA100,$AV$101,BA11)-$AT$101),IF(BA100,0,BA11-BA10))","v":1000},"b-tv1",{"$f":"IF(BC99,MAX($AT$101-BC10,IF(BC100,$AV$101,BC11)-$AT$101),IF(BC100,0,BC11-BC10))","v":1000},"b-tv1",{"$f":"IF(BE99,MAX($AT$101-BE10,IF(BE100,$AV$101,BE11)-$AT$101),IF(BE100,0,BE11-BE10))","v":800},null,"ftld",{"$f":"AA9","v":0},"MPa",{"$f":"Q27","v":0},{"$f":"R27","v":0}]
[null,null,null,null,null,null,null,null,null,null,null,null,null,null,null,null,null,null,null,null,null,null,null,null,null,null,null,null,null,null,null,null,null,null,null,null,null,null,null,null,null,null,null,null,null,{"$f":"AT101","v":1000000},{"$f":"$AK$10","v":3000},{"$f":"AV101","v":1000000},{"$f":"$AK$10","v":3000},"b-tv2",{"$f":"IF(AY100,MAX($AV$101-IF(AY99,$AT$101,AY10),AY11-$AV$101),IF(AY99,0,AY11-AY10))","v":1000},"b-tv2",{"$f":"IF(BA100,MAX($AV$101-IF(BA99,$AT$101,BA10),BA11-$AV$101),IF(BA99,0,BA11-BA10))","v":1000},"b-tv2",{"$f":"IF(BC100,MAX($AV$101-IF(BC99,$AT$101,BC10),BC11-$AV$101),IF(BC99,0,BC11-BC10))","v":1000},"b-tv2",{"$f":"IF(BE100,MAX($AV$101-IF(BE99,$AT$101,BE10),BE11-$AV$101),IF(BE99,0,BE11-BE10))","v":800},null,"fcd",{"$f":"AA8","v":0},"MPa"]
[null,null,null,null,null,null,null,null,null,null,null,null,null,null,null,null,null,null,null,null,null,null,null,null,null,null,null,null,null,null,null,null,null,null,null,"Grafvisning",null,null,null,null,null,null,null,null,null,false,null,false,null,"beff",{"$f":"MAX(AY101:AY102,0.5*AY111,0.01)","v":1000},"beff",{"$f":"MAX(BA101:BA102,0.5*BA111,0.01)","v":1000},"beff",{"$f":"MAX(BC101:BC102,0.5*BC111,0.01)","v":1000},"beff",{"$f":"MAX(BE101:BE102,0.5*BE111,0.01)","v":800},null,"NB","exc","beff","NB","NB",null,"bæreevne ",null,"bæreevne ",null,"bæreevne ",null,"bæreevne "]
[null,null,null,null,null,null,null,null,null,null,null,null,null,null,null,null,null,null,null,null,null,null,null,null,null,null,null,null,null,null,null,null,null,null,null,"Felt #1",1,null,null,null,null,null,null,null,null,null,null,null,null,"H",{"$f":"$AK$10","v":3000},"H",{"$f":"$AK$10","v":3000},"H",{"$f":"$AK$10","v":3000},"H",{"$f":"$AK$10","v":3000},null,"(kN/m)  ","(mm)","(mm)","kN","kN",null,"kN",null,"kN",null,"kN",null,"kN"]
[null,null,null,null,null,null,null,null,null,null,null,null,null,null,null,null,null,null,null,null,null,null,null,null,null,null,null,null,null,null,null,null,null,null,null,"Felt #2",2,null,null,"Minimumsarmering",null,null,null,null,null,null,null,null,null,"Tilf.",{"$f":"IF(AY99<>AY100,1,IF(AND(AY99,AY100),2,0))","v":0},"Tilf.",{"$f":"IF(BA99<>BA100,1,IF(AND(BA99,BA100),2,0))","v":0},"Tilf.",{"$f":"IF(BC99<>BC100,1,IF(AND(BC99,BC100),2,0))","v":0},"Tilf.",{"$f":"IF(BE99<>BE100,1,IF(AND(BE99,BE100),2,0))","v":0},null,{"$f":"N31+O31+P31","v":159},{"$f":"(N31*$N$40+O31*$O$40+P31*$P$40)/BG84","v":16.79245283018868},{"$f":"$BI$98-2*BH105","v":116.41509433962264},{"$f":"IF(BJ$101=0,Q31,$BG105*BJ$101*0.5)","v":12},15,null,{"$f":"5/4*$BI$99*BI105*$BH$101*10^-3","v":0},{"$f":"IF(BJ105>$BM105,\"Brud\",\"OK\")","v":"Brud"},{"$f":"5/4*$BI$100*BI105*$BH$101*10^-3","v":0},{"$f":"IF(BK105>$BO105,\"Brud\",\"OK\")","v":"Brud"},{"$f":"0.8*BI105*$BI$99*$BH$102*10^-3","v":0},{"$f":"IF(BJ105>$BQ105,\"Brud\",\"OK\")","v":"Brud"},{"$f":"0.8*BI105*$BI$100*$BH$102*10^-3","v":0},{"$f":"IF(BL105>$BQ105,\"Brud\",\"OK\")","v":"OK"}]
[null,null,null,null,null,null,null,null,null,null,null,null,null,null,null,null,null,null,null,null,null,null,null,null,null,null,null,null,null,null,null,null,null,null,null,"Felt #3",3,null,null,null,"Maks N",{"$f":"MAX(AO120:AO128)*1000","v":225000},"N",null,null,null,null,null,null,null,{"$f":"IF(AY105=0,1,IF(AY105=1,1/(1+(AY104/(3*AY103))^2),IF(AY103>=AY104,1/(1+(AY104/AY103)^2),AY103/(2*AY104))))","v":1},null,{"$f":"IF(BA105=0,1,IF(BA105=1,1/(1+(BA104/(3*BA103))^2),IF(BA103>=BA104,1/(1+(BA104/BA103)^2),BA103/(2*BA104))))","v":1},null,{"$f":"IF(BC105=0,1,IF(BC105=1,1/(1+(BC104/(3*BC103))^2),IF(BC103>=BC104,1/(1+(BC104/BC103)^2),BC103/(2*BC104))))","v":1},null,{"$f":"IF(BE105=0,1,IF(BE105=1,1/(1+(BE104/(3*BE103))^2),IF(BE103>=BE104,1/(1+(BE104/BE103)^2),BE103/(2*BE104))))","v":1},null,{"$f":"N32+O32+P32","v":162},{"$f":"(N32*$N$40+O32*$O$40+P32*$P$40)/BG85","v":17.407407407407408},{"$f":"$BI$98-2*BH106","v":115.18518518518519},13,16,null,{"$f":"5/4*$BI$99*BI106*$BH$101*10^-3","v":0},{"$f":"IF(BJ106>$BM106,\"Brud\",\"OK\")","v":"Brud"},{"$f":"5/4*$BI$100*BI106*$BH$101*10^-3","v":0},{"$f":"IF(BK106>$BO106,\"Brud\",\"OK\")","v":"Brud"},{"$f":"0.8*BI106*$BI$99*$BH$102*10^-3","v":0},{"$f":"IF(BJ106>$BQ106,\"Brud\",\"OK\")","v":"Brud"},{"$f":"0.8*BI106*$BI$100*$BH$102*10^-3","v":0},{"$f":"IF(BL106>$BQ106,\"Brud\",\"OK\")","v":"OK"}]
[null,"Bæreevnekurve",null,null,null,null,null,null,null,null,null,null,null,null,null,null,null,null,null,null,null,null,null,null,null,null,null,null,null,null,null,null,null,null,null,"Felt #4",4,null,null,null,"Ac",{"$f":"$M$18*1000","v":150000},"mm2",null,null,null,null,null,null,"Ls",{"$f":"AY106*AY104","v":3000},null,{"$f":"BA106*BA104","v":3000},null,{"$f":"BC106*BC104","v":3000},null,{"$f":"BE106*BE104","v":3000},null,{"$f":"N33+O33+P33","v":202},{"$f":"(N33*$N$40+O33*$O$40+P33*$P$40)/BG86","v":16.93069306930693},{"$f":"$BI$98-2*BH107","v":116.13861386138615},13,16,null,{"$f":"5/4*$BI$99*BI107*$BH$101*10^-3","v":0},{"$f":"IF(BJ107>$BM107,\"Brud\",\"OK\")","v":"Brud"},{"$f":"5/4*$BI$100*BI107*$BH$101*10^-3","v":0},{"$f":"IF(BK107>$BO107,\"Brud\",\"OK\")","v":"Brud"},{"$f":"0.8*BI107*$BI$99*$BH$102*10^-3","v":0},{"$f":"IF(BJ107>$BQ107,\"Brud\",\"OK\")","v":"Brud"},{"$f":"0.8*BI107*$BI$100*$BH$102*10^-3","v":0},{"$f":"IF(BL107>$BQ107,\"Brud\",\"OK\")","v":"OK"}]
[null,"n","m",null,null,null,null,null,null,null,null,null,null,null,null,null,null,null,null,null,null,null,null,null,null,null,null,null,null,null,null,null,null,null,null,"Alle Felter",5,null,null,null,"Asmin",{"$f":"ROUND(0.002*AP107,0)","v":300},"mm2","Asmax",{"$f":"ROUND(MAX(0.04*AP107,0.1*AP106/(L9/L11)),0)","v":6000},null,null,null,null,"B",{"$f":"AY11-AY10","v":1000},null,{"$f":"BA11-BA10","v":1000},null,{"$f":"BC11-BC10","v":1000},null,{"$f":"BE11-BE10","v":800},null,{"$f":"N34+O34+P34","v":209},{"$f":"(N34*$N$40+O34*$O$40+P34*$P$40)/BG87","v":17.703349282296649},{"$f":"$BI$98-2*BH108","v":114.5933014354067},13,16,null,{"$f":"5/4*$BI$99*BI108*$BH$101*10^-3","v":0},{"$f":"IF(BJ108>$BM108,\"Brud\",\"OK\")","v":"Brud"},{"$f":"5/4*$BI$100*BI108*$BH$101*10^-3","v":0},{"$f":"IF(BK108>$BO108,\"Brud\",\"OK\")","v":"Brud"},{"$f":"0.8*BI108*$BI$99*$BH$102*10^-3","v":0},{"$f":"IF(BJ108>$BQ108,\"Brud\",\"OK\")","v":"Brud"},{"$f":"0.8*BI108*$BI$100*$BH$102*10^-3","v":0},{"$f":"IF(BL108>$BQ108,\"Brud\",\"OK\")","v":"OK"}]
[null,0,{"$f":"C110","v":0},null,null,null,null,null,null,null,null,null,null,null,null,null,null,null,null,null,null,null,null,null,null,null,null,null,null,null,null,null,null,null,null,null,null,null,null,null,"½ Asmin",{"$f":"ROUND(AP108/2,0)","v":150},"mm2","½ Asmax",{"$f":"AS108*0.5","v":3000}]
[null,{"$f":"IF(Kold!$AO$5=-1,Sheet3!M10*1000,0)","v":0},{"$f":"IF(Kold!$AO$5=-1,Sheet3!N10*1000,0)","v":0},null,null,null,null,null,null,null,null,null,null,null,null,null,null,null,null,null,null,null,null,null,null,null,null,null,null,null,null,null,null,null,null,"Trykarmering",{"$f":"N9^2*N10*PI()/4","v":335.27076799110273},"mm^2",null,null,null,null,null,null,null,null,null,null,null,"b_v",{"$f":"MAX(IF(AY99,MIN($AT$101,IF(AY100,$AV$101,1000000))-AY10,0),IF(AY100,MIN(IF(AY99,$AT$101,1000000),$AV$101)-AY10,0),IF(OR(AY99,AY100),0,AY108))","v":1000},null,{"$f":"MAX(IF(BA99,MIN($AT$101,IF(BA100,$AV$101,1000000))-BA10,0),IF(BA100,MIN(IF(BA99,$AT$101,1000000),$AV$101)-BA10,0),IF(OR(BA99,BA100),0,BA108))","v":1000},null,{"$f":"MAX(IF(BC99,MIN($AT$101,IF(BC100,$AV$101,1000000))-BC10,0),IF(BC100,MIN(IF(BC99,$AT$101,1000000),$AV$101)-BC10,0),IF(OR(BC99,BC100),0,BC108))","v":1000},null,{"$f":"MAX(IF(BE99,MIN($AT$101,IF(BE100,$AV$101,1000000))-BE10,0),IF(BE100,MIN(IF(BE99,$AT$101,1000000),$AV$101)-BE10,0),IF(OR(BE99,BE100),0,BE108))","v":800},null,{"$f":"N35+O35+P35","v":166},{"$f":"(N35*$N$40+O35*$O$40+P35*$P$40)/BG88","v":18.192771084337348},{"$f":"$BI$98-2*BH110","v":113.6144578313253},{"$f":"IF(BJ$101=0,Q35,$BG110*BJ$101*0.5)","v":13},16,null,{"$f":"5/4*$BI$99*BI110*$BH$101*10^-3","v":0},{"$f":"IF(BJ110>$BM110,\"Brud\",\"OK\")","v":"Brud"},{"$f":"5/4*$BI$100*BI110*$BH$101*10^-3","v":0},{"$f":"IF(BK110>$BO110,\"Brud\",\"OK\")","v":"Brud"},{"$f":"0.8*BI110*$BI$99*$BH$102*10^-3","v":0},{"$f":"IF(BJ110>$BQ110,\"Brud\",\"OK\")","v":"Brud"},{"$f":"0.8*BI110*$BI$100*$BH$102*10^-3","v":0},{"$f":"IF(BL110>$BQ110,\"Brud\",\"OK\")","v":"OK"}]
[null,{"$f":"IF(Kold!$AO$5=-1,Sheet3!M11*1000,0)","v":0},{"$f":"IF(Kold!$AO$5=-1,Sheet3!N11*1000,0)","v":0},null,null,null,null,null,null,null,null,null,null,null,null,null,null,null,null,null,null,null,null,null,null,null,null,null,null,null,null,null,null,null,null,"Trækarmering",{"$f":"N12^2*N13*PI()/4","v":335.27076799110273},"mm^2",null,null,null,null,null,null,null,null,null,null,null,"b_m",{"$f":"IF(AY110+AY112<AY108,AY108-AY110-AY112,AY108)","v":1000},null,{"$f":"IF(BA110+BA112<BA108,BA108-BA110-BA112,BA108)","v":1000},null,{"$f":"IF(BC110+BC112<BC108,BC108-BC110-BC112,BC108)","v":1000},null,{"$f":"IF(BE110+BE112<BE108,BE108-BE110-BE112,BE108)","v":800},null,{"$f":"N36+O36+P36","v":206},{"$f":"(N36*$N$40+O36*$O$40+P36*$P$40)/BG89","v":17.572815533980581},{"$f":"$BI$98-2*BH111","v":114.85436893203884},13,16,null,{"$f":"5/4*$BI$99*BI111*$BH$101*10^-3","v":0},{"$f":"IF(BJ111>$BM111,\"Brud\",\"OK\")","v":"Brud"},{"$f":"5/4*$BI$100*BI111*$BH$101*10^-3","v":0},{"$f":"IF(BK111>$BO111,\"Brud\",\"OK\")","v":"Brud"},{"$f":"0.8*BI111*$BI$99*$BH$102*10^-3","v":0},{"$f":"IF(BJ111>$BQ111,\"Brud\",\"OK\")","v":"Brud"},{"$f":"0.8*BI111*$BI$100*$BH$102*10^-3","v":0},{"$f":"IF(BL111>$BQ111,\"Brud\",\"OK\")","v":"OK"}]
[null,{"$f":"IF(Kold!$AO$5=-1,Sheet3!M12*1000,0)","v":0},{"$f":"IF(Kold!$AO$5=-1,Sheet3!N12*1000,0)","v":0},null,null,null,null,null,null,null,null,null,null,null,null,null,null,null,null,null,null,null,null,null,null,null,null,null,null,null,null,null,null,null,null,null,null,null,null,null,null,null,null,null,null,null,null,null,null,"b_h",{"$f":"MAX(IF(AY99,AY11-MAX($AT$101,IF(AY100,$AV$101,0)),0),IF(AY100,AY11-MAX(IF(AY99,$AT$101,0),$AV$101),0),IF(OR(AY99,AY100),0,AY108))","v":1000},null,{"$f":"MAX(IF(BA99,BA11-MAX($AT$101,IF(BA100,$AV$101,0)),0),IF(BA100,BA11-MAX(IF(BA99,$AT$101,0),$AV$101),0),IF(OR(BA99,BA100),0,BA108))","v":1000},null,{"$f":"MAX(IF(BC99,BC11-MAX($AT$101,IF(BC100,$AV$101,0)),0),IF(BC100,BC11-MAX(IF(BC99,$AT$101,0),$AV$101),0),IF(OR(BC99,BC100),0,BC108))","v":1000},null,{"$f":"MAX(IF(BE99,BE11-MAX($AT$101,IF(BE100,$AV$101,0)),0),IF(BE100,BE11-MAX(IF(BE99,$AT$101,0),$AV$101),0),IF(OR(BE99,BE100),0,BE108))","v":800},null,{"$f":"N37+O37+P37","v":230},{"$f":"(N37*$N$40+O37*$O$40+P37*$P$40)/BG90","v":19.913043478260871},{"$f":"$BI$98-2*BH112","v":110.17391304347825},13,16,null,{"$f":"5/4*$BI$99*BI112*$BH$101*10^-3","v":0},{"$f":"IF(BJ112>$BM112,\"Brud\",\"OK\")","v":"Brud"},{"$f":"5/4*$BI$100*BI112*$BH$101*10^-3","v":0},{"$f":"IF(BK112>$BO112,\"Brud\",\"OK\")","v":"Brud"},{"$f":"0.8*BI112*$BI$99*$BH$102*10^-3","v":0},{"$f":"IF(BJ112>$BQ112,\"Brud\",\"OK\")","v":"Brud"},{"$f":"0.8*BI112*$BI$100*$BH$102*10^-3","v":0},{"$f":"IF(BL112>$BQ112,\"Brud\",\"OK\")","v":"OK"}]
[null,{"$f":"IF(Kold!$AO$5=-1,Sheet3!M13*1000,0)","v":0},{"$f":"IF(Kold!$AO$5=-1,Sheet3!N13*1000,0)","v":0},null,null,null,null,null,null,null,null,null,null,null,null,null,null,null,null,null,null,null,null,null,null,null,null,null,null,null,null,null,null,null,null,null,null,null,null,null,null,null,null,null,null,null,null,null,null,"ks",{"$f":"1/(1+12*($L$8/($L$13*PI()^2))*(AY107/($M$18))^2)","v":0.75492236139165558},null,{"$f":"1/(1+12*($L$8/($L$13*PI()^2))*(BA107/($M$18))^2)","v":0.75492236139165558},null,{"$f":"1/(1+12*($L$8/($L$13*PI()^2))*(BC107/($M$18))^2)","v":0.75492236139165558},null,{"$f":"1/(1+12*($L$8/($L$13*PI()^2))*(BE107/($M$18))^2)","v":0.75492236139165558},null,{"$f":"N38+O38+P38","v":216},{"$f":"(N38*$N$40+O38*$O$40+P38*$P$40)/BG91","v":17.453703703703702},{"$f":"$BI$98-2*BH113","v":115.0925925925926},13,16,null,{"$f":"5/4*$BI$99*BI113*$BH$101*10^-3","v":0},{"$f":"IF(BJ113>$BM113,\"Brud\",\"OK\")","v":"Brud"},{"$f":"5/4*$BI$100*BI113*$BH$101*10^-3","v":0},{"$f":"IF(BK113>$BO113,\"Brud\",\"OK\")","v":"Brud"},{"$f":"0.8*BI113*$BI$99*$BH$102*10^-3","v":0},{"$f":"IF(BJ113>$BQ113,\"Brud\",\"OK\")","v":"Brud"},{"$f":"0.8*BI113*$BI$100*$BH$102*10^-3","v":0},{"$f":"IF(BL113>$BQ113,\"Brud\",\"OK\")","v":"OK"}]
[null,{"$f":"IF(Kold!$AO$5=-1,Sheet3!M14*1000,0)","v":0},{"$f":"IF(Kold!$AO$5=-1,Sheet3!N14*1000,0)","v":0},null,null,null,null,null,null,null,null,null,null,null,null,null,null,null,null,null,null,null,null,null,null,null,null,null,null,null,null,null,null,null,null,"Fejltabel",null,{"$f":"IF(MAX(AL115:AL145)=0,TRUE,FALSE)","v":{"$error":"#DIV/0!"}},null,"Bredder",null,null,null,null,null,null,null,null,null,"NCR",{"$f":"AY113*$AA$8*($M$18-2*$AA$11)","v":0},null,{"$f":"BA113*$AA$8*($M$18-2*$AA$11)","v":0},null,{"$f":"BC113*$AA$8*($M$18-2*$AA$11)","v":0},null,{"$f":"BE113*$AA$8*($M$18-2*$AA$11)","v":0},null,{"$f":"N39+O39+P39","v":240},{"$f":"(N39*$N$40+O39*$O$40+P39*$P$40)/BG92","v":19.708333333333332},{"$f":"$BI$98-2*BH114","v":110.58333333333334},13,16,null,{"$f":"5/4*$BI$99*BI114*$BH$101*10^-3","v":0},{"$f":"IF(BJ114>$BM114,\"Brud\",\"OK\")","v":"Brud"},{"$f":"5/4*$BI$100*BI114*$BH$101*10^-3","v":0},{"$f":"IF(BK114>$BO114,\"Brud\",\"OK\")","v":"Brud"},{"$f":"0.8*BI114*$BI$99*$BH$102*10^-3","v":0},{"$f":"IF(BJ114>$BQ114,\"Brud\",\"OK\")","v":"Brud"},{"$f":"0.8*BI114*$BI$100*$BH$102*10^-3","v":0},{"$f":"IF(BL114>$BQ114,\"Brud\",\"OK\")","v":"OK"}]
[null,{"$f":"IF(Kold!$AO$5=-1,Sheet3!M15*1000,0)","v":0},{"$f":"IF(Kold!$AO$5=-1,Sheet3!N15*1000,0)","v":0},null,null,null,null,null,null,null,null,null,null,null,null,null,null,null,null,null,null,null,null,null,null,null,null,null,null,null,null,null,null,null,null,"Programmet modtager ikke negative inddata. ",{"$f":"IF(AL115=0,\"\",AJ115)","v":""},{"$f":"IF(MIN(L10:L11,P15:S19,K25:S25,Q27:R27,Q31:R40,N40:P40,S31,S35)<0,1,0)","v":0},null,"b1 =",{"$f":"AY11-AY10","v":1000},null,null,null,null,null,null,null,null,null,null,null,null,null,null,null,null,null,null,null,null,null,null,null,"Brud",{"$f":"COUNTIF(BN105:BN114,\"Brud\")","v":9},null,{"$f":"COUNTIF(BP105:BP114,\"Brud\")","v":9},"Brud",{"$f":"COUNTIF(BR105:BR114,\"Brud\")","v":9},null,{"$f":"COUNTIF(BT105:BT114,\"Brud\")","v":0}]
[null,{"$f":"IF(Kold!$AO$5=-1,Sheet3!M16*1000,0)","v":0},{"$f":"IF(Kold!$AO$5=-1,Sheet3!N16*1000,0)","v":0},null,null,null,null,null,null,null,null,null,null,null,null,null,null,null,null,null,null,null,null,null,null,null,null,null,null,null,null,null,null,null,null,null,null,null,null,"b2 =",{"$f":"BA11-BA10","v":1000},null,null,null,null,null,null,null,null,null,null,null,null,null,null,null,null,null,null,null,null,null,null,null,"Eksist.",{"$f":"AO13","v":true},null,{"$f":"AO17","v":true},"Eksist.",{"$f":"AO13","v":true},null,{"$f":"AO17","v":true}]
[null,{"$f":"IF(Kold!$AO$5=-1,Sheet3!M17*1000,0)","v":0},{"$f":"IF(Kold!$AO$5=-1,Sheet3!N17*1000,0)","v":0},null,null,null,null,null,null,null,null,null,null,null,null,null,null,null,null,null,null,null,null,null,null,null,null,null,null,null,null,null,null,null,null,"Partialkoefficienter skal være mellem 1 og 2. ",{"$f":"IF(AL117=0,\"\",AJ117)","v":""},{"$f":"IF(OR(L10<1,L11<1,L10>2,L11>2),1,0)","v":0},null,"b3 =",{"$f":"BC11-BC10","v":1000},null,null,null,null,null,null,null,null,null,null,null,null,null,null,null,null,null,null,null,null,null,null,null,"Besked:",{"$f":"IF(AND(BN116,BN115>0),\"(Bjælke A)\",\"\")","v":"(Bjælke A)"},null,{"$f":"IF(AND(BP116,BP115>0),\"(Bjælke B)\",\"\")","v":"(Bjælke B)"},"Besked:",{"$f":"IF(AND(BR116,BR115>0),\"(Bjælke A)\",\"\")","v":"(Bjælke A)"},null,{"$f":"IF(AND(BT116,BT115>0),\"(Bjælke B)\",\"\")","v":""}]
[null,{"$f":"IF(Kold!$AO$5=-1,Sheet3!M18*1000,0)","v":0},{"$f":"IF(Kold!$AO$5=-1,Sheet3!N18*1000,0)","v":0},null,null,null,null,null,null,null,null,null,null,null,null,null,null,null,null,null,null,null,null,null,null,null,null,null,null,null,null,null,null,null,null,"Geometrikonflikt. ",{"$f":"IF(AL118=0,\"\",AJ118)","v":""},{"$f":"IF(OR(AY14<AY15,BA14<BA15,BC14<BC15,BE14<BE15),1,0)","v":0},null,"b4 =",{"$f":"BE11-BE10","v":800}]
[null,{"$f":"IF(Kold!$AO$5=-1,Sheet3!M19*1000,0)","v":0},{"$f":"IF(Kold!$AO$5=-1,Sheet3!N19*1000,0)","v":0},null,null,null,null,null,null,null,null,null,null,null,null,null,null,null,null,null,null,null,null,null,null,null,null,null,null,null,null,null,null,null,null,"Geometrikonflikt. ",{"$f":"IF(AL119=0,\"\",AJ119)","v":""},{"$f":"IF(OR(BA10<AY14,BC10<BA14,BE10<BC14),1,0)","v":0}]
[null,{"$f":"IF(Kold!$AO$5=-1,Sheet3!M20*1000,0)","v":0},{"$f":"IF(Kold!$AO$5=-1,Sheet3!N20*1000,0)","v":0},null,null,null,null,null,null,null,null,null,null,null,null,null,null,null,null,null,null,null,null,null,null,null,null,null,null,null,null,null,null,null,null,"Overligger under 200 mm. ",{"$f":"IF(AL120=0,\"\",AJ120)","v":""},{"$f":"IF(MAX(AR12,AT12,AV12)>AK10-200,1,0)","v":0},null,"A",159,"kN"]
[null,{"$f":"IF(Kold!$AO$5=-1,Sheet3!M21*1000,0)","v":0},{"$f":"IF(Kold!$AO$5=-1,Sheet3!N21*1000,0)","v":0},null,null,null,null,null,null,null,null,null,null,null,null,null,null,null,null,null,null,null,null,null,null,null,null,null,null,null,null,null,null,null,null,"Lodret bæreevne overskredet: ",{"$f":"IF(AL121=0,\"\",AJ121)","v":{"$error":"#DIV/0!"}},{"$f":"IF(MAX(AL122:AL125)=0,0,1)","v":{"$error":"#DIV/0!"}},null,"B",162,"kN"]
[null,{"$f":"IF(Kold!$AO$5=-1,Sheet3!M22*1000,0)","v":0},{"$f":"IF(Kold!$AO$5=-1,Sheet3!N22*1000,0)","v":0},null,null,null,null,null,null,null,null,null,null,null,null,null,null,null,null,null,null,null,null,null,null,null,null,null,null,null,null,null,null,null,null," Vægfeltet skal beregnes som søjle. ",{"$f":"IF(AL122=0,\"\",DL54&AJ122)","v":{"$error":"#DIV/0!"}},{"$f":"IF(DK54=0,0,1)","v":{"$error":"#DIV/0!"}},null,"C",202,"kN"]
[null,{"$f":"IF(Kold!$AO$5=-1,Sheet3!M23*1000,0)","v":0},{"$f":"IF(Kold!$AO$5=-1,Sheet3!N23*1000,0)","v":0},null,null,null,null,null,null,null,null,null,null,null,null,null,null,null,null,null,null,null,null,null,null,null,null,null,null,null,null,null,null,null,null," Vægfeltet skal beregnes som søjle. ",{"$f":"IF(AL123=0,\"\",DL64&AJ123)","v":{"$error":"#DIV/0!"}},{"$f":"IF(DK64=0,0,1)","v":{"$error":"#DIV/0!"}},null,"D",209,"kN"]
[null,{"$f":"IF(Kold!$AO$5=-1,Sheet3!M24*1000,0)","v":0},{"$f":"IF(Kold!$AO$5=-1,Sheet3!N24*1000,0)","v":0},null,null,null,null,null,null,null,null,null,null,null,null,null,null,null,null,null,null,null,null,null,null,null,null,null,null,null,null,null,null,null,null," Vægfeltet skal beregnes som søjle. ",{"$f":"IF(AL124=0,\"\",DL74&AJ124)","v":{"$error":"#DIV/0!"}},{"$f":"IF(DK74=0,0,1)","v":{"$error":"#DIV/0!"}},null,"E",163,"kN"]
[null,{"$f":"IF(Kold!$AO$5=-1,Sheet3!M25*1000,0)","v":0},{"$f":"IF(Kold!$AO$5=-1,Sheet3!N25*1000,0)","v":0},null,null,null,null,null,null,null,null,null,null,null,null,null,null,null,null,null,null,null,null,null,null,null,null,null,null,null,null,null,null,null,null," Vægfeltet skal beregnes som søjle. ",{"$f":"IF(AL125=0,\"\",DL84&AJ125)","v":{"$error":"#DIV/0!"}},{"$f":"IF(DK84=0,0,1)","v":{"$error":"#DIV/0!"}},null,"F",203,"kN"]
[null,{"$f":"IF(Kold!$AO$5=-1,Sheet3!M26*1000,0)","v":0},{"$f":"IF(Kold!$AO$5=-1,Sheet3!N26*1000,0)","v":0},null,null,null,null,null,null,null,null,null,null,null,null,null,null,null,null,null,null,null,null,null,null,null,null,null,null,null,null,null,null,null,null,null,{"$f":"IF(AL126=0,\"\",AJ126)","v":""},null,null,"G",215,"kN"]
[null,{"$f":"IF(Kold!$AO$5=-1,Sheet3!M27*1000,0)","v":0},{"$f":"IF(Kold!$AO$5=-1,Sheet3!N27*1000,0)","v":0},null,null,null,null,null,null,null,null,null,null,null,null,null,null,null,null,null,null,null,null,null,null,null,null,null,null,null,null,null,null,null,null,"f_yk højst 600 MPa",{"$f":"IF(AL127=1,AJ127&\" !   \",\"\")","v":""},{"$f":"IF(L9>600,1,0)","v":0},null,"H",213,"kN"]
[null,{"$f":"IF(Kold!$AO$5=-1,Sheet3!M28*1000,0)","v":0},{"$f":"IF(Kold!$AO$5=-1,Sheet3!N28*1000,0)","v":0},null,null,null,null,null,null,null,null,null,null,null,null,null,null,null,null,null,null,null,null,null,null,null,null,null,null,null,null,null,null,null,null,null,"",null,null,"I",225,"kN"]
[null,{"$f":"B128","v":0},{"$f":"IF(Kold!$AO$5=-1,0.1,0)","v":0},null,null,null,null,null,null,null,null,null,null,null,null,null,null,null,null,null,null,null,null,null,null,null,null,null,null,null,null,null,null,null,null,"Resttværsnit meget spinkelt","",{"$f":"IF(AH24<0.25*Kold!S12/1000,1,0)","v":0}]
[null,{"$f":"IF(Kold!$AO$5=-1,S12,0)","v":0},0,null,null,null,null,null,null,null,null,null,null,null,null,null,null,null,null,null,null,null,null,null,null,null,null,null,null,null,null,null,null,null,null,null,"",null,null,"Søjlelængde"]
[null,null,null,null,null,null,null,null,null,null,null,null,null,null,null,null,null,null,null,null,null,null,null,null,null,null,null,null,null,null,null,null,null,null,null,"Reducerede laste skal være mindre end maksimallaste","",{"$f":"IF(K25<N25,1,IF(L25<O25,1,IF(M25<P25,1,0)))","v":0},null,{"$f":"IF(Makro!B4=1,\"0,5·H\",IF(Makro!B4=2,\"0,7·H\",\"1,0·H\"))","v":"0,7·H"},2]
[null,null,null,null,null,null,null,null,null,null,null,null,null,null,null,null,null,null,null,null,null,null,null,null,null,null,null,null,null,null,null,null,null,null,null,"Minimal laste skal være mindre end reducerede laste","",{"$f":"IF(N25<Q25,1,IF(O25<R25,1,IF(P25<S25,1,0)))","v":0},null,null,"0,5·H"]
[null,null,null,null,null,null,null,null,null,null,null,null,null,null,null,null,null,null,null,null,null,null,null,null,null,null,null,null,null,null,null,null,null,null,null,null,"",null,null,null,"0,7·H"]
[null,null,null,null,null,null,null,null,null,null,null,null,null,null,null,null,null,null,null,null,null,null,null,null,null,null,null,null,null,null,null,null,null,null,null,null,"",null,null,null,"1,0·H"]
[null,null,null,null,null,null,null,null,null,null,null,null,null,null,null,null,null,null,null,null,null,null,null,null,null,null,null,null,null,null,null,null,null,null,null,null,"",null,null,{"$f":"IF(Makro!B4=1,0.5,IF(Makro!B4=2,0.7,1))*M16","v":2100}]
[]
[]
[]
[null,null,null,null,null,null,null,null,null,null,null,null,null,null,null,null,null,null,null,null,null,null,null,null,null,null,null,null,null,null,null,null,null,null,null,"Vægfelt 1 skal beregnes som søjle, da b er mindre end 4 t",{"$f":"IF(AL139=1,AJ139&\" !   \",\"\")","v":""},{"$f":"IF(AO115=0,0,IF($M$18>AO115/4,1,0))","v":0}]
[null,null,null,null,null,null,null,null,null,null,null,null,null,null,null,null,null,null,null,null,null,null,null,null,null,null,null,null,null,null,null,null,null,null,null,"Vægfelt 2 skal beregnes som søjle, da b er mindre end 4 t",{"$f":"IF(AL140=1,AJ140&\" !   \",\"\")","v":""},{"$f":"IF(AO116=0,0,IF($M$18>AO116/4,1,0))","v":0},null,2]
[null,null,null,null,null,null,null,null,null,null,null,null,null,null,null,null,null,null,null,null,null,null,null,null,null,null,null,null,null,null,null,null,null,null,null,"Vægfelt 3 skal beregnes som søjle, da b er mindre end 4 t",{"$f":"IF(AL141=1,AJ141&\" !   \",\"\")","v":""},{"$f":"IF(AO117=0,0,IF($M$18>AO117/4,1,0))","v":0},null,"Tilslag: Kvartsholdigt"]
[null,null,null,null,null,null,null,null,null,null,null,null,null,null,null,null,null,null,null,null,null,null,null,null,null,null,null,null,null,null,null,null,null,null,null,"Vægfelt 4 skal beregnes som søjle, da b er mindre end 4 t",{"$f":"IF(AL142=1,AJ142&\" !   \",\"\")","v":""},{"$f":"IF(AO118=0,0,IF($M$18>AO118/4,1,0))","v":0},null,"Tilslag: Søsand / granit"]
[null,null,null,null,null,null,null,null,null,null,null,null,null,null,null,null,null,null,null,null,null,null,null,null,null,null,null,null,null,null,null,null,null,null,null,null,{"$f":"IF(AL143=0,\"\",AJ143)","v":""}]
[null,null,null,null,null,null,null,null,null,null,null,null,null,null,null,null,null,null,null,null,null,null,null,null,null,null,null,null,null,null,null,null,null,null,null,null,{"$f":"IF(AL144=0,\"\",AJ144)","v":""}]
[null,null,null,null,null,null,null,null,null,null,null,null,null,null,null,null,null,null,null,null,null,null,null,null,null,null,null,null,null,null,null,null,null,null,null,null,null,null,null,"Tillægsexc fra svækket rand",null,null,null,{"$f":"0.5*(AS155-AS156)*M153/1000","v":0}]
[null,null,null,null,null,null,null,null,null,null,null,null,null,null,null,null,null,null,null,null,null,null,null,null,null,null,null,null,null,null,null,null,null,null,null,null,null,null,null,"uterminsk, revnet tværsnit",null,null,null,{"$f":"1.1*Firsidig!X34*(AN135/1000)^2/(800000*(AS149-AS152)/1000)+IF(OR(Makro!B3=10,AN178=1),0,AH14/1000)","v":1.0114739507920325E-3},"m"]
[null,null,null,null,null,null,null,null,null,null,null,null,null,null,null,null,null,null,null,null,null,null,null,null,null,null,null,null,null,null,null,null,null,null,null,null,null,null,null,"uterminsk, urevnet tværsnit",null,null,null,{"$f":"IF(\n1.1*Firsidig!V13*(AN135/1000)^2/(800000*AS149/1000)+IF(OR(Makro!B3=10,AN178=1),0,AH14/1000)>AR146,\n1.1*Firsidig!V13*(AN135/1000)^2/(800000*AS149/1000)+IF(OR(Makro!B3=10,AN178=1),0,AH14/1000),AR146)","v":1.0114739507920325E-3},"m"]
[]
[null,null,null,null,null,null,null,null,null,null,null,null,null,null,null,null,null,null,null,null,null,null,null,null,null,null,null,null,null,null,null,null,null,null,null,null,null,null,null,2,null,null,null,"h",{"$f":"M18-AS155*S8-S8*AS156","v":132.00899966799471}]
[null,null,null,null,null,null,null,null,null,null,null,null,null,null,null,null,null,null,null,null,null,null,null,null,null,null,null,null,null,null,null,null,null,null,null,null,null,null,null,"Stål: Varmvalset",null,null,null,"b",1000]
[null,null,null,null,null,null,null,null,null,null,null,null,null,null,null,null,null,null,null,null,null,null,null,null,null,null,null,null,null,null,null,null,null,null,null,null,null,null,null,"Stål: Bratkølet",null,null,null,"ac",{"$f":"M15-S8*AS155","v":22.008999667994711}]
[null,null,null,null,null,null,null,null,null,null,null,null,null,null,null,null,null,null,null,null,null,null,null,null,null,null,null,null,null,null,null,null,null,null,null,null,null,null,null,"Stål: Kolddeformeret",null,null,null,"at",{"$f":"M15-S8*AS156","v":40}]
[null,null,null,null,null,null,null,null,null,null,null,null,null,null,null,null,null,null,null,null,null,null,null,null,null,null,null,null,null,null,null,null,null,null,null,null,null,null,null,{"$f":"IF(Makro!B8=1,\"Q\",IF(Makro!B8=2,\"AC\",\"C\"))","v":"AC"}]
[]
[null,null,null,null,null,null,null,null,null,null,null,null,null,null,null,null,null,null,null,null,null,null,null,null,null,null,null,null,null,null,null,null,null,null,null,null,null,null,null,"Brand, trykside",null,null,null,2,{"$f":"Makro!B5-1","v":1}]
[null,null,null,null,null,null,null,null,null,null,null,null,null,null,null,null,null,null,null,null,null,null,null,null,null,null,null,null,null,null,null,null,null,null,null,null,null,null,null,"Brand, trækside",null,null,null,1,{"$f":"Makro!B6-1","v":0}]
[null,null,null,null,null,null,null,null,null,null,null,null,null,null,null,null,null,null,null,null,null,null,null,null,null,null,null,null,null,null,null,null,null,null,null,null,null,null,null,"Brand, sider",null,null,null,1,{"$f":"AR157-1","v":0}]
[]
[null,null,null,null,null,null,null,null,null,null,null,null,null,null,null,null,null,null,null,null,null,null,null,null,null,null,null,null,null,null,null,null,null,null,null,null,null,null,null,null,null,null,null,null,"NEJ"]
[null,null,null,null,null,null,null,null,null,null,null,null,null,null,null,null,null,null,null,null,null,null,null,null,null,null,null,null,null,null,null,null,null,null,null,null,null,null,null,null,null,null,null,null,"JA"]
[]
[null,null,null,null,null,null,null,null,null,null,null,null,null,null,null,null,null,null,null,null,null,null,null,null,null,null,null,null,null,null,null,null,null,null,null,null,null,null,null,null,null,null,null,null,null,null,null,null,null,null,null,null,null,null,null,null,null,null,null,null,null,null,null,null,null,null,null,null,null,null,null,null,null,2]
[null,null,null,null,null,null,null,null,null,null,null,null,null,null,null,null,null,null,null,null,null,null,null,null,null,null,null,null,null,null,null,null,null,null,null,"gc",{"$f":"$L$10","v":1},null,"Referencelast før krybning",null,null,"Mo",null,"sc,max","sc,min","sc","st","hc","u","a","Mt","a*fc","a*ft","B","C","D","p","q","C'","y'","b","m","Ec","Atr","Syt","Iyt","z","Io","sc","sm","hc",null,null,"Referencelast"]
[null,null,null,null,null,null,null,null,null,null,null,null,null,null,null,null,null,null,null,null,null,null,null,null,null,null,null,null,null,null,null,null,null,null,null,"ga",{"$f":"$L$11","v":1},null,null,null,null,{"$f":"AY164-AN167*AW164","v":2.8385795646866671E-3},null,{"$f":"IF(BH164*SQRT(4*ABS(BE164)/3)-BB164/3<=AK170,AY164/(BJ164*AK171*AK170^2),BQ164)","v":1.4574559858909666},{"$f":"IF(BH164*SQRT(4*ABS(BE164)/3)-BB164/3<=AK170,0,BR164)","v":0},{"$f":"AX164*(AV164-AK172)*AR164/AV164","v":4.669045213515246},{"$f":"AX164*(AK170-AK172-AV164)*AR164/AV164","v":4.1853719203806419},{"$f":"IF(BH164*SQRT(4*ABS(BE164)/3)-BB164/3<=AK170,BH164*SQRT(4*ABS(BE164)/3)-BB164/3,BS164)","v":7.6911877993064759E-2},{"$f":"0.1*(AR164/(AV164*BK164))*AK176^2","v":5.6921253003616441E-4},{"$f":"AK173","v":6.6751327253445112},{"$f":"IF(AN170>0,AN170+AK170*AN167/20,0)+0.000000000001","v":2.8705750009999998E-3},{"$f":"AX164*AK174/(AK170*AK171)","v":1.4919845835125312E-2},{"$f":"AX164*AK175/(AK170*AK171)","v":1.4919845835125312E-2},{"$f":"-6*AK170*(0.25-0.5*AY164/(AK170*AN169))","v":-7.1793719925280192E-2},{"$f":"-6*AK170*(AZ164*(0.5*AK170-AK172)-BA164*(0.5*AK170-AK172)-(AZ164+BA164)*AK170*AY164/(AK170*AN169))","v":1.3714884478127098E-3},{"$f":"6*AK170*((AZ164*AK172-BA164*(AK170-AK172))*(0.5*AK170-AK172)-(AZ164*AK172+BA164*(AK170-AK172))*AY164/AN169)","v":-1.3575989365240452E-4},{"$f":"(3*BC164-BB164^2)/3","v":-3.4662429242381484E-4},{"$f":"(9*BC164*BB164-27*BD164-2*BB164^3)/27","v":1.3034952001197392E-4},{"$f":"0.5*BF164*(3/ABS(BE164))^(3/2)","v":52.477462703431719},{"$f":"IF(BE164>0,SINH(ASINH(BG164)/3),IF(BG164>=1,COSH(ACOSH(BG164)/3),IF(BG164<=-1,-COSH(ACOSH(ABS(BG164))/3),COS(ACOS(BG164)/3))))","v":2.464440388655265},{"$f":"AV164/AK170","v":0.51274585328709843},{"$f":"0.5*BI164*(0.5-BI164/3)+AZ164*(0.5-AK172/AK170)*(BI164-AK172/AK170)/BI164+BA164*(0.5-AK172/AK170)*(1-AK172/AK170-BI164)/BI164","v":8.7536853524645644E-2},{"$f":"IF(BH164*SQRT(4*ABS(BE164)/3)-BB164/3<=AK170,AK169*(1-AK168*AR164/AK167),AK169*(1-AK168*AR164/AK167-(1-AK168)*BR164/AK167))","v":29961.951054640307},{"$f":"(1+AZ164+BA164)*AK170*AK171","v":0.1544759537505376},{"$f":"0.5*(AK170-AK172)*(BA164-AZ164)*AK170*AK171","v":0},{"$f":"AK171*AK170^3/12+(0.5*AK170-AK172)^2*(AZ164+BA164)*AK171*AK170","v":2.8673304334440853E-4},{"$f":"BM164/BL164","v":0},{"$f":"BN164-BL164*BO164^2","v":2.8673304334440853E-4},{"$f":"AN169/BL164+(AY164+BO164*AN169)*(0.5*AK170+BO164)/BP164","v":1.1147240763983097},{"$f":"AN169/BL164+(AY164+BO164*AN169)*(-0.5*AK170+BO164)/BP164","v":-0.38697326942451726},{"$f":"AN169*BP164/((AY164+AN169*BO164)*BL164)+(0.5*AK170+BO164)","v":0.11134641206156466},null,null,"A",29.1,0.49780000000000008]
[null,null,null,null,null,null,null,null,null,null,null,null,null,null,null,null,null,null,null,null,null,null,null,null,null,null,null,null,null,null,null,null,null,null,null,"fck",{"$f":"$L$8","v":20},"MPa",null,null,null,{"$f":"AY165-AN167*AW165","v":2.4598236397035803E-3},{"$f":"AW165/AW164","v":0.66171301439416785},{"$f":"IF(BH165*SQRT(4*ABS(BE165)/3)-BB165/3<=AK170,AY165/(BJ165*AK171*AK170^2),BQ165)","v":1.1760997233256236},{"$f":"IF(BH165*SQRT(4*ABS(BE165)/3)-BB165/3<=AK170,0,BR165)","v":0},{"$f":"AX165*(AV165-AK172)*AR165/AV165","v":4.5025742929402854},{"$f":"AX165*(AK170-AK172-AV165)*AR165/AV165","v":1.3565087594333303},{"$f":"IF(BH165*SQRT(4*ABS(BE165)/3)-BB165/3<=AK170,BH165*SQRT(4*ABS(BE165)/3)-BB165/3,BS165)","v":9.3793434516709059E-2},{"$f":"0.1*(AR165/(AV165*BK165))*AK176^2","v":3.7665533908116114E-4},{"$f":"AK173","v":6.6751327253445112},{"$f":"AN170+AW164*AN167","v":2.4809954363133324E-3},{"$f":"AX165*AK174/(AK170*AK171)","v":1.4919845835125312E-2},{"$f":"AX165*AK175/(AK170*AK171)","v":1.4919845835125312E-2},{"$f":"-6*AK170*(0.25-0.5*AY165/(AK170*AN169))","v":-9.258608238854299E-2},{"$f":"-6*AK170*(AZ165*(0.5*AK170-AK172)-BA165*(0.5*AK170-AK172)-(AZ165+BA165)*AK170*AY165/(AK170*AN169))","v":1.1853571423127533E-3},{"$f":"6*AK170*((AZ165*AK172-BA165*(AK170-AK172))*(0.5*AK170-AK172)-(AZ165*AK172+BA165*(AK170-AK172))*AY165/AN169)","v":-1.218000457399078E-4},{"$f":"(3*BC165-BB165^2)/3","v":-1.6720370750399366E-3},{"$f":"(9*BC165*BB165-27*BD165-2*BB165^3)/27","v":1.4400750693264951E-4},{"$f":"0.5*BF165*(3/ABS(BE165))^(3/2)","v":5.4722781466369588},{"$f":"IF(BE165>0,SINH(ASINH(BG165)/3),IF(BG165>=1,COSH(ACOSH(BG165)/3),IF(BG165<=-1,-COSH(ACOSH(ABS(BG165))/3),COS(ACOS(BG165)/3))))","v":1.3328311131548121},{"$f":"AV165/AK170","v":0.62528956344472708},{"$f":"0.5*BI165*(0.5-BI165/3)+AZ165*(0.5-AK172/AK170)*(BI165-AK172/AK170)/BI165+BA165*(0.5-AK172/AK170)*(1-AK172/AK170-BI165)/BI165","v":9.3756049465219468E-2},{"$f":"IF(BH165*SQRT(4*ABS(BE165)/3)-BB165/3<=AK170,AK169*(1-AK168*AR165/AK167),AK169*(1-AK168*AR165/AK167-(1-AK168)*BR165/AK167))","v":29961.951054640307},{"$f":"(1+AZ165+BA165)*AK170*AK171","v":0.1544759537505376},{"$f":"0.5*(AK170-AK172)*(BA165-AZ165)*AK170*AK171","v":0},{"$f":"AK171*AK170^3/12+(0.5*AK170-AK172)^2*(AZ165+BA165)*AK171*AK170","v":2.8673304334440853E-4},{"$f":"BM165/BL165","v":0},{"$f":"BN165-BL165*BO165^2","v":2.8673304334440853E-4},{"$f":"AN169/BL165+(AY165+BO165*AN169)*(0.5*AK170+BO165)/BP165","v":1.0128227851808747},{"$f":"AN169/BL165+(AY165+BO165*AN169)*(-0.5*AK170+BO165)/BP165","v":-0.28507197820708208},{"$f":"AN169*BP165/((AY165+AN169*BO165)*BL165)+(0.5*AK170+BO165)","v":0.11705372582023386},null,null,"B",56.2,2.4489999999999998]
[null,null,null,null,null,null,null,null,null,null,null,null,null,null,null,null,null,null,null,null,null,null,null,null,null,null,null,null,null,null,null,null,null,null,null,"Es",200000,"MPa","Max_N",{"$f":"(AK170*AK171+AK173*(AK174+AK175))*AK167/(1+(12*(AK167/AK169)/PI()^2)*(AK176/AK170)^2)","v":2.3323470356716802},null,{"$f":"AY166-AN167*AW166","v":2.4492338567792381E-3},{"$f":"AW166/AW165","v":0.9889543252493368},{"$f":"IF(BH166*SQRT(4*ABS(BE166)/3)-BB166/3<=AK170,AY166/(BJ166*AK171*AK170^2),BQ166)","v":1.1694107298274274},{"$f":"IF(BH166*SQRT(4*ABS(BE166)/3)-BB166/3<=AK170,0,BR166)","v":0},{"$f":"AX166*(AV166-AK172)*AR166/AV166","v":4.4949058168172265},{"$f":"AX166*(AK170-AK172-AV166)*AR166/AV166","v":1.2994597098227478},{"$f":"IF(BH166*SQRT(4*ABS(BE166)/3)-BB166/3<=AK170,BH166*SQRT(4*ABS(BE166)/3)-BB166/3,BS166)","v":9.4301615203703004E-2},{"$f":"0.1*(AR166/(AV166*BK166))*AK176^2","v":3.7249492671256987E-4},{"$f":"AK173","v":6.6751327253445112},{"$f":"AN170+AW165*AN167","v":2.4701717966097519E-3},{"$f":"AX166*AK174/(AK170*AK171)","v":1.4919845835125312E-2},{"$f":"AX166*AK175/(AK170*AK171)","v":1.4919845835125312E-2},{"$f":"-6*AK170*(0.25-0.5*AY166/(AK170*AN169))","v":-9.3163753961407997E-2},{"$f":"-6*AK170*(AZ166*(0.5*AK170-AK172)-BA166*(0.5*AK170-AK172)-(AZ166+BA166)*AK170*AY166/(AK170*AN169))","v":1.1801858798264654E-3},{"$f":"6*AK170*((AZ166*AK172-BA166*(AK170-AK172))*(0.5*AK170-AK172)-(AZ166*AK172+BA166*(AK170-AK172))*AY166/AN169)","v":-1.2141220105343621E-4},{"$f":"(3*BC166-BB166^2)/3","v":-1.7129758042341229E-3},{"$f":"(9*BC166*BB166-27*BD166-2*BB166^3)/27","v":1.4465930836434122E-4},{"$f":"0.5*BF166*(3/ABS(BE166))^(3/2)","v":5.3011662926744361},1.3234122721292727,{"$f":"AV166/AK170","v":0.6286774346913534},{"$f":"0.5*BI166*(0.5-BI166/3)+AZ166*(0.5-AK172/AK170)*(BI166-AK172/AK170)/BI166+BA166*(0.5-AK172/AK170)*(1-AK172/AK170-BI166)/BI166","v":9.3880969604970971E-2},{"$f":"IF(BH166*SQRT(4*ABS(BE166)/3)-BB166/3<=AK170,AK169*(1-AK168*AR166/AK167),AK169*(1-AK168*AR166/AK167-(1-AK168)*BR166/AK167))","v":29961.951054640307},{"$f":"(1+AZ166+BA166)*AK170*AK171","v":0.1544759537505376},{"$f":"0.5*(AK170-AK172)*(BA166-AZ166)*AK170*AK171","v":0},{"$f":"AK171*AK170^3/12+(0.5*AK170-AK172)^2*(AZ166+BA166)*AK171*AK170","v":2.8673304334440853E-4},0,2.8673304334440853E-4,{"$f":"AN169/BL166+(AY166+BO166*AN169)*(0.5*AK170+BO166)/BP166","v":1.0099916745132651},{"$f":"AN169/BL166+(AY166+BO166*AN169)*(-0.5*AK170+BO166)/BP166","v":-0.28224086753947242},{"$f":"AN169*BP166/((AY166+AN169*BO166)*BL166)+(0.5*AK170+BO166)","v":0.11723799412784555},null,null,"C",359.2,8.5089999999999986]
[null,null,null,null,null,null,null,null,null,null,null,null,null,null,null,null,null,null,null,null,null,null,null,null,null,null,null,null,null,null,null,null,null,null,null,"fcd",{"$f":"AK165/AK163","v":20},"MPa","Nd",{"$f":"INDEX(BV164:BX173,Makro!B3,2)/1000+0.00001","v":5.6210000000000003E-2},"MN",{"$f":"AY167-AN167*AW167","v":2.4490050176753874E-3},0.999760354866434,{"$f":"IF(BH167*SQRT(4*ABS(BE167)/3)-BB167/3<=AK170,AY167/(BJ167*AK171*AK170^2),BQ167)","v":1.1692668502227777},{"$f":"IF(BH167*SQRT(4*ABS(BE167)/3)-BB167/3<=AK170,0,BR167)","v":0},{"$f":"AX167*(AV167-AK172)*AR167/AV167","v":4.4947388822171828},{"$f":"AX167*(AK170-AK172-AV167)*AR167/AV167","v":1.2982380529222288},{"$f":"IF(BH167*SQRT(4*ABS(BE167)/3)-BB167/3<=AK170,BH167*SQRT(4*ABS(BE167)/3)-BB167/3,BS167)","v":9.4312614270339906E-2},{"$f":"0.1*(AR167/(AV167*BK167))*AK176^2","v":3.7240566011610519E-4},{"$f":"AK173","v":6.6751327253445112},{"$f":"AN170+AW166*AN167","v":2.4699379398305135E-3},{"$f":"AX167*AK174/(AK170*AK171)","v":1.4919845835125312E-2},{"$f":"AX167*AK175/(AK170*AK171)","v":1.4919845835125312E-2},{"$f":"-6*AK170*(0.25-0.5*AY167/(AK170*AN169))","v":-9.3176235198513757E-2},{"$f":"-6*AK170*(AZ167*(0.5*AK170-AK172)-BA167*(0.5*AK170-AK172)-(AZ167+BA167)*AK170*AY167/(AK170*AN169))","v":1.1800741489463955E-3},{"$f":"6*AK170*((AZ167*AK172-BA167*(AK170-AK172))*(0.5*AK170-AK172)-(AZ167*AK172+BA167*(AK170-AK172))*AY167/AN169)","v":-1.2140382123743097E-4},-1.7138627863098558E-3,1.4467356542592643E-4,5.2975735822461703,1.3232128308231661,{"$f":"AV167/AK170","v":0.62875076180226608},{"$f":"0.5*BI167*(0.5-BI167/3)+AZ167*(0.5-AK172/AK170)*(BI167-AK172/AK170)/BI167+BA167*(0.5-AK172/AK170)*(1-AK172/AK170-BI167)/BI167","v":9.3883632745688173E-2},{"$f":"IF(BH167*SQRT(4*ABS(BE167)/3)-BB167/3<=AK170,AK169*(1-AK168*AR167/AK167),AK169*(1-AK168*AR167/AK167-(1-AK168)*BR167/AK167))","v":29961.951054640307},{"$f":"(1+AZ167+BA167)*AK170*AK171","v":0.1544759537505376},{"$f":"0.5*(AK170-AK172)*(BA167-AZ167)*AK170*AK171","v":0},{"$f":"AK171*AK170^3/12+(0.5*AK170-AK172)^2*(AZ167+BA167)*AK171*AK170","v":2.8673304334440853E-4},0,2.8673304334440853E-4,{"$f":"AN169/BL167+(AY167+BO167*AN169)*(0.5*AK170+BO167)/BP167","v":1.0099305052171199},{"$f":"AN169/BL167+(AY167+BO167*AN169)*(-0.5*AK170+BO167)/BP167","v":-0.28217969824332745},{"$f":"AN169*BP167/((AY167+AN169*BO167)*BL167)+(0.5*AK170+BO167)","v":0.11724199327337424},null,null,"D",375.5,7.8570000000000002]
[null,null,null,null,null,null,null,null,null,null,null,null,null,null,null,null,null,null,null,null,null,null,null,null,null,null,null,null,null,null,null,null,null,null,null,"k",0,null,"Nf",0,"MN",{"$f":"AY168-AN167*AW168","v":2.4490001076440089E-3},0.999994857669258,{"$f":"IF(BH168*SQRT(4*ABS(BE168)/3)-BB168/3<=AK170,AY168/(BJ168*AK171*AK170^2),BQ168)","v":1.1692637634124172},{"$f":"IF(BH168*SQRT(4*ABS(BE168)/3)-BB168/3<=AK170,0,BR168)","v":0},{"$f":"AX168*(AV168-AK172)*AR168/AV168","v":4.4947352998645478},{"$f":"AX168*(AK170-AK172-AV168)*AR168/AV168","v":1.298211845871484},{"$f":"IF(BH168*SQRT(4*ABS(BE168)/3)-BB168/3<=AK170,BH168*SQRT(4*ABS(BE168)/3)-BB168/3,BS168)","v":9.4312850277273208E-2},{"$f":"0.1*(AR168/(AV168*BK168))*AK176^2","v":3.7240374508303069E-4},{"$f":"AK173","v":6.6751327253445112},{"$f":"AN170+AW167*AN167","v":2.4699329221551259E-3},{"$f":"AX168*AK174/(AK170*AK171)","v":1.4919845835125312E-2},{"$f":"AX168*AK175/(AK170*AK171)","v":1.4919845835125312E-2},{"$f":"-6*AK170*(0.25-0.5*AY168/(AK170*AN169))","v":-9.3176502998303184E-2},{"$f":"-6*AK170*(AZ168*(0.5*AK170-AK172)-BA168*(0.5*AK170-AK172)-(AZ168+BA168)*AK170*AY168/(AK170*AN169))","v":1.1800717516274519E-3},{"$f":"6*AK170*((AZ168*AK172-BA168*(AK170-AK172))*(0.5*AK170-AK172)-(AZ168*AK172+BA168*(AK170-AK172))*AY168/AN169)","v":-1.2140364143851019E-4},-1.7138818187034822E-3,1.446738714090209E-4,5.2974965435097987,1.323208553421414,{"$f":"AV168/AK170","v":0.62875233518182139},{"$f":"0.5*BI168*(0.5-BI168/3)+AZ168*(0.5-AK172/AK170)*(BI168-AK172/AK170)/BI168+BA168*(0.5-AK172/AK170)*(1-AK172/AK170-BI168)/BI168","v":9.3883689869818168E-2},{"$f":"IF(BH168*SQRT(4*ABS(BE168)/3)-BB168/3<=AK170,AK169*(1-AK168*AR168/AK167),AK169*(1-AK168*AR168/AK167-(1-AK168)*BR168/AK167))","v":29961.951054640307},{"$f":"(1+AZ168+BA168)*AK170*AK171","v":0.1544759537505376},{"$f":"0.5*(AK170-AK172)*(BA168-AZ168)*AK170*AK171","v":0},{"$f":"AK171*AK170^3/12+(0.5*AK170-AK172)^2*(AZ168+BA168)*AK171*AK170","v":2.8673304334440853E-4},0,2.8673304334440853E-4,{"$f":"AN169/BL168+(AY168+BO168*AN169)*(0.5*AK170+BO168)/BP168","v":1.0099291927571059},{"$f":"AN169/BL168+(AY168+BO168*AN169)*(-0.5*AK170+BO168)/BP168","v":-0.28217838578331345},{"$f":"AN169*BP168/((AY168+AN169*BO168)*BL168)+(0.5*AK170+BO168)","v":0.11724207908809742},null,null,"E",0,1E-3]
[null,null,null,null,null,null,null,null,null,null,null,null,null,null,null,null,null,null,null,null,null,null,null,null,null,null,null,null,null,null,null,null,null,null,null,"Ecm",{"$f":"1000*22*((AK167+8)/10)^0.3","v":29961.951054640307},"MPa","N",{"$f":"AN168+AN167","v":5.6210000000000003E-2},"MN",{"$f":"AY169-AN167*AW169","v":2.4490000023092754E-3},0.99999988968155296,{"$f":"IF(BH169*SQRT(4*ABS(BE169)/3)-BB169/3<=AK170,AY169/(BJ169*AK171*AK170^2),BQ169)","v":1.1692636971913233},{"$f":"IF(BH169*SQRT(4*ABS(BE169)/3)-BB169/3<=AK170,0,BR169)","v":0},{"$f":"AX169*(AV169-AK172)*AR169/AV169","v":4.4947352230122037},{"$f":"AX169*(AK170-AK172-AV169)*AR169/AV169","v":1.2982112836548949},{"$f":"IF(BH169*SQRT(4*ABS(BE169)/3)-BB169/3<=AK170,BH169*SQRT(4*ABS(BE169)/3)-BB169/3,BS169)","v":9.4312855340325519E-2},{"$f":"0.1*(AR169/(AV169*BK169))*AK176^2","v":3.7240370400002786E-4},{"$f":"AK173","v":6.6751327253445112},{"$f":"AN170+AW168*AN167","v":2.4699328145111167E-3},{"$f":"AX169*AK174/(AK170*AK171)","v":1.4919845835125312E-2},{"$f":"AX169*AK175/(AK170*AK171)","v":1.4919845835125312E-2},{"$f":"-6*AK170*(0.25-0.5*AY169/(AK170*AN169))","v":-9.31765087434024E-2},{"$f":"-6*AK170*(AZ169*(0.5*AK170-AK172)-BA169*(0.5*AK170-AK172)-(AZ169+BA169)*AK170*AY169/(AK170*AN169))","v":1.1800717001978552E-3},{"$f":"6*AK170*((AZ169*AK172-BA169*(AK170-AK172))*(0.5*AK170-AK172)-(AZ169*AK172+BA169*(AK170-AK172))*AY169/AN169)","v":-1.2140363758129043E-4},{"$f":"(3*BC169-BB169^2)/3","v":-1.7138822270052593E-3},{"$f":"(9*BC169*BB169-27*BD169-2*BB169^3)/27","v":1.4467387797330243E-4},{"$f":"0.5*BF169*(3/ABS(BE169))^(3/2)","v":5.2974948908222528},{"$f":"IF(BE169>0,SINH(ASINH(BG169)/3),IF(BG169>=1,COSH(ACOSH(BG169)/3),IF(BG169<=-1,-COSH(ACOSH(ABS(BG169))/3),COS(ACOS(BG169)/3))))","v":1.3232084616593194},{"$f":"AV169/AK170","v":0.62875236893550346},{"$f":"0.5*BI169*(0.5-BI169/3)+AZ169*(0.5-AK172/AK170)*(BI169-AK172/AK170)/BI169+BA169*(0.5-AK172/AK170)*(1-AK172/AK170-BI169)/BI169","v":9.3883691095292349E-2},{"$f":"IF(BH169*SQRT(4*ABS(BE169)/3)-BB169/3<=AK170,AK169*(1-AK168*AR169/AK167),AK169*(1-AK168*AR169/AK167-(1-AK168)*BR169/AK167))","v":29961.951054640307},{"$f":"(1+AZ169+BA169)*AK170*AK171","v":0.1544759537505376},{"$f":"0.5*(AK170-AK172)*(BA169-AZ169)*AK170*AK171","v":0},{"$f":"AK171*AK170^3/12+(0.5*AK170-AK172)^2*(AZ169+BA169)*AK171*AK170","v":2.8673304334440853E-4},0,2.8673304334440853E-4,{"$f":"AN169/BL169+(AY169+BO169*AN169)*(0.5*AK170+BO169)/BP169","v":1.0099291646009487},{"$f":"AN169/BL169+(AY169+BO169*AN169)*(-0.5*AK170+BO169)/BP169","v":-0.28217835762715615},{"$f":"AN169*BP169/((AY169+AN169*BO169)*BL169)+(0.5*AK170+BO169)","v":0.11724208092908139},null,null,"F",0,1E-3]
[null,null,null,null,null,null,null,null,null,null,null,null,null,null,null,null,null,null,null,null,null,null,null,null,null,null,null,null,null,null,null,null,null,null,null,"h",{"$f":"$M$18/1000","v":0.15},"m","Mo",{"$f":"INDEX(BV164:BX173,Makro!B3,3)/1000","v":2.4489999999999998E-3},"MNm",{"$f":"AY170-AN167*AW170","v":2.44900000004954E-3},0.99999999763334935,{"$f":"IF(BH170*SQRT(4*ABS(BE170)/3)-BB170/3<=AK170,AY170/(BJ170*AK171*AK170^2),BQ170)","v":1.1692636957706888},{"$f":"IF(BH170*SQRT(4*ABS(BE170)/3)-BB170/3<=AK170,0,BR170)","v":0},{"$f":"AX170*(AV170-AK172)*AR170/AV170","v":4.4947352213634959},{"$f":"AX170*(AK170-AK172-AV170)*AR170/AV170","v":1.2982112715937224},{"$f":"IF(BH170*SQRT(4*ABS(BE170)/3)-BB170/3<=AK170,BH170*SQRT(4*ABS(BE170)/3)-BB170/3,BS170)","v":9.4312855448942648E-2},{"$f":"0.1*(AR170/(AV170*BK170))*AK176^2","v":3.724037031186784E-4},{"$f":"AK173","v":6.6751327253445112},{"$f":"AN170+AW169*AN167","v":2.4699328122018411E-3},{"$f":"AX170*AK174/(AK170*AK171)","v":1.4919845835125312E-2},{"$f":"AX170*AK175/(AK170*AK171)","v":1.4919845835125312E-2},{"$f":"-6*AK170*(0.25-0.5*AY170/(AK170*AN169))","v":-9.3176508866651409E-2},{"$f":"-6*AK170*(AZ170*(0.5*AK170-AK172)-BA170*(0.5*AK170-AK172)-(AZ170+BA170)*AK170*AY170/(AK170*AN169))","v":1.1800716990945414E-3},{"$f":"6*AK170*((AZ170*AK172-BA170*(AK170-AK172))*(0.5*AK170-AK172)-(AZ170*AK172+BA170*(AK170-AK172))*AY170/AN169)","v":-1.214036374985419E-4},-1.7138822357645146E-3,1.4467387811412525E-4,5.2974948553673329,1.3232084596907574,{"$f":"AV170/AK170","v":0.62875236965961767},{"$f":"0.5*BI170*(0.5-BI170/3)+AZ170*(0.5-AK172/AK170)*(BI170-AK172/AK170)/BI170+BA170*(0.5-AK172/AK170)*(1-AK172/AK170-BI170)/BI170","v":9.3883691121582333E-2},{"$f":"IF(BH170*SQRT(4*ABS(BE170)/3)-BB170/3<=AK170,AK169*(1-AK168*AR170/AK167),AK169*(1-AK168*AR170/AK167-(1-AK168)*BR170/AK167))","v":29961.951054640307},{"$f":"(1+AZ170+BA170)*AK170*AK171","v":0.1544759537505376},{"$f":"0.5*(AK170-AK172)*(BA170-AZ170)*AK170*AK171","v":0},{"$f":"AK171*AK170^3/12+(0.5*AK170-AK172)^2*(AZ170+BA170)*AK171*AK170","v":2.8673304334440853E-4},0,2.8673304334440853E-4,{"$f":"AN169/BL170+(AY170+BO170*AN169)*(0.5*AK170+BO170)/BP170","v":1.0099291639969177},{"$f":"AN169/BL170+(AY170+BO170*AN169)*(-0.5*AK170+BO170)/BP170","v":-0.2821783570231251},{"$f":"AN169*BP170/((AY170+AN169*BO170)*BL170)+(0.5*AK170+BO170)","v":0.11724208096857583},null,null,"G",0,1E-3]
[null,null,null,null,null,null,null,null,null,null,null,null,null,null,null,null,null,null,null,null,null,null,null,null,null,null,null,null,null,null,null,null,null,null,null,"b",1,"m","u",{"$f":"AW176","v":3.7240370309935645E-4},"m",{"$f":"AY171-AN167*AW171","v":2.4490000000010627E-3},0.99999999994922917,{"$f":"IF(BH171*SQRT(4*ABS(BE171)/3)-BB171/3<=AK170,AY171/(BJ171*AK171*AK170^2),BQ171)","v":1.1692636957402127},{"$f":"IF(BH171*SQRT(4*ABS(BE171)/3)-BB171/3<=AK170,0,BR171)","v":0},{"$f":"AX171*(AV171-AK172)*AR171/AV171","v":4.4947352213281295},{"$f":"AX171*(AK170-AK172-AV171)*AR171/AV171","v":1.2982112713349763},{"$f":"IF(BH171*SQRT(4*ABS(BE171)/3)-BB171/3<=AK170,BH171*SQRT(4*ABS(BE171)/3)-BB171/3,BS171)","v":9.4312855451272798E-2},{"$f":"0.1*(AR171/(AV171*BK171))*AK176^2","v":3.7240370309977116E-4},{"$f":"AK173","v":6.6751327253445112},{"$f":"AN170+AW170*AN167","v":2.4699328121523009E-3},{"$f":"AX171*AK174/(AK170*AK171)","v":1.4919845835125312E-2},{"$f":"AX171*AK175/(AK170*AK171)","v":1.4919845835125312E-2},{"$f":"-6*AK170*(0.25-0.5*AY171/(AK170*AN169))","v":-9.3176508869295446E-2},{"$f":"-6*AK170*(AZ171*(0.5*AK170-AK172)-BA171*(0.5*AK170-AK172)-(AZ171+BA171)*AK170*AY171/(AK170*AN169))","v":1.1800716990708721E-3},{"$f":"6*AK170*((AZ171*AK172-BA171*(AK170-AK172))*(0.5*AK170-AK172)-(AZ171*AK172+BA171*(AK170-AK172))*AY171/AN169)","v":-1.2140363749676671E-4},-1.7138822359524257E-3,1.4467387811714633E-4,5.2974948546067271,1.3232084596485261,{"$f":"AV171/AK170","v":0.62875236967515202},{"$f":"0.5*BI171*(0.5-BI171/3)+AZ171*(0.5-AK172/AK170)*(BI171-AK172/AK170)/BI171+BA171*(0.5-AK172/AK170)*(1-AK172/AK170-BI171)/BI171","v":9.3883691122146298E-2},{"$f":"IF(BH171*SQRT(4*ABS(BE171)/3)-BB171/3<=AK170,AK169*(1-AK168*AR171/AK167),AK169*(1-AK168*AR171/AK167-(1-AK168)*BR171/AK167))","v":29961.951054640307},{"$f":"(1+AZ171+BA171)*AK170*AK171","v":0.1544759537505376},{"$f":"0.5*(AK170-AK172)*(BA171-AZ171)*AK170*AK171","v":0},{"$f":"AK171*AK170^3/12+(0.5*AK170-AK172)^2*(AZ171+BA171)*AK171*AK170","v":2.8673304334440853E-4},0,2.8673304334440853E-4,{"$f":"AN169/BL171+(AY171+BO171*AN169)*(0.5*AK170+BO171)/BP171","v":1.0099291639839594},{"$f":"AN169/BL171+(AY171+BO171*AN169)*(-0.5*AK170+BO171)/BP171","v":-0.28217835701016691},{"$f":"AN169*BP171/((AY171+AN169*BO171)*BL171)+(0.5*AK170+BO171)","v":0.1172420809694231},null,null,"H",0,1E-3]
[null,null,null,null,null,null,null,null,null,null,null,null,null,null,null,null,null,null,null,null,null,null,null,null,null,null,null,null,null,null,null,null,null,null,null,"a",{"$f":"$M$15/1000","v":0.04},"m","ec,max",{"$f":"1000*AR176/BK176","v":3.902495179994149E-2},"o/oo",{"$f":"AY172-AN167*AW172","v":2.4490000000000228E-3},0.99999999999891009,{"$f":"IF(BH172*SQRT(4*ABS(BE172)/3)-BB172/3<=AK170,AY172/(BJ172*AK171*AK170^2),BQ172)","v":1.1692636957395584},{"$f":"IF(BH172*SQRT(4*ABS(BE172)/3)-BB172/3<=AK170,0,BR172)","v":0},{"$f":"AX172*(AV172-AK172)*AR172/AV172","v":4.4947352213273684},{"$f":"AX172*(AK170-AK172-AV172)*AR172/AV172","v":1.2982112713294236},{"$f":"IF(BH172*SQRT(4*ABS(BE172)/3)-BB172/3<=AK170,BH172*SQRT(4*ABS(BE172)/3)-BB172/3,BS172)","v":9.43128554513228E-2},{"$f":"0.1*(AR172/(AV172*BK172))*AK176^2","v":3.7240370309936529E-4},{"$f":"AK173","v":6.6751327253445112},{"$f":"AN170+AW171*AN167","v":2.469932812151238E-3},{"$f":"AX172*AK174/(AK170*AK171)","v":1.4919845835125312E-2},{"$f":"AX172*AK175/(AK170*AK171)","v":1.4919845835125312E-2},{"$f":"-6*AK170*(0.25-0.5*AY172/(AK170*AN169))","v":-9.3176508869352179E-2},{"$f":"-6*AK170*(AZ172*(0.5*AK170-AK172)-BA172*(0.5*AK170-AK172)-(AZ172+BA172)*AK170*AY172/(AK170*AN169))","v":1.1800716990703645E-3},{"$f":"6*AK170*((AZ172*AK172-BA172*(AK170-AK172))*(0.5*AK170-AK172)-(AZ172*AK172+BA172*(AK170-AK172))*AY172/AN169)","v":-1.2140363749672863E-4},-1.7138822359564572E-3,1.4467387811721114E-4,5.2974948545904113,1.3232084596476201,{"$f":"AV172/AK170","v":0.62875236967548531},{"$f":"0.5*BI172*(0.5-BI172/3)+AZ172*(0.5-AK172/AK170)*(BI172-AK172/AK170)/BI172+BA172*(0.5-AK172/AK170)*(1-AK172/AK170-BI172)/BI172","v":9.3883691122158427E-2},{"$f":"IF(BH172*SQRT(4*ABS(BE172)/3)-BB172/3<=AK170,AK169*(1-AK168*AR172/AK167),AK169*(1-AK168*AR172/AK167-(1-AK168)*BR172/AK167))","v":29961.951054640307},{"$f":"(1+AZ172+BA172)*AK170*AK171","v":0.1544759537505376},{"$f":"0.5*(AK170-AK172)*(BA172-AZ172)*AK170*AK171","v":0},{"$f":"AK171*AK170^3/12+(0.5*AK170-AK172)^2*(AZ172+BA172)*AK171*AK170","v":2.8673304334440853E-4},0,2.8673304334440853E-4,{"$f":"AN169/BL172+(AY172+BO172*AN169)*(0.5*AK170+BO172)/BP172","v":1.0099291639836814},{"$f":"AN169/BL172+(AY172+BO172*AN169)*(-0.5*AK170+BO172)/BP172","v":-0.28217835700988891},{"$f":"AN169*BP172/((AY172+AN169*BO172)*BL172)+(0.5*AK170+BO172)","v":0.11724208096944128},null,null,"I",0,1E-3]
[null,null,null,null,null,null,null,null,null,null,null,null,null,null,null,null,null,null,null,null,null,null,null,null,null,null,null,null,null,null,null,null,null,null,null,"a",{"$f":"AK166/AK169","v":6.6751327253445112},null,"ec,min",{"$f":"1000*AS176/BK176","v":0},"o/oo",{"$f":"AY173-AN167*AW173","v":2.4490000000000002E-3},{"$f":"AW173/AW172","v":0.99999999999997669},{"$f":"IF(BH173*SQRT(4*ABS(BE173)/3)-BB173/3<=AK170,AY173/(BJ173*AK171*AK170^2),BQ173)","v":1.1692636957395444},{"$f":"IF(BH173*SQRT(4*ABS(BE173)/3)-BB173/3<=AK170,0,BR173)","v":0},{"$f":"AX173*(AV173-AK172)*AR173/AV173","v":4.4947352213273524},{"$f":"AX173*(AK170-AK172-AV173)*AR173/AV173","v":1.2982112713293048},{"$f":"IF(BH173*SQRT(4*ABS(BE173)/3)-BB173/3<=AK170,BH173*SQRT(4*ABS(BE173)/3)-BB173/3,BS173)","v":9.4312855451323868E-2},{"$f":"0.1*(AR173/(AV173*BK173))*AK176^2","v":3.7240370309935661E-4},{"$f":"AK173","v":6.6751327253445112},{"$f":"AN170+AW172*AN167","v":2.469932812151215E-3},{"$f":"AX173*AK174/(AK170*AK171)","v":1.4919845835125312E-2},{"$f":"AX173*AK175/(AK170*AK171)","v":1.4919845835125312E-2},{"$f":"-6*AK170*(0.25-0.5*AY173/(AK170*AN169))","v":-9.31765088693534E-2},{"$f":"-6*AK170*(AZ173*(0.5*AK170-AK172)-BA173*(0.5*AK170-AK172)-(AZ173+BA173)*AK170*AY173/(AK170*AN169))","v":1.1800716990703535E-3},{"$f":"6*AK170*((AZ173*AK172-BA173*(AK170-AK172))*(0.5*AK170-AK172)-(AZ173*AK172+BA173*(AK170-AK172))*AY173/AN169)","v":-1.214036374967278E-4},-1.7138822359565439E-3,1.4467387811721252E-4,5.2974948545900569,1.3232084596476006,{"$f":"AV173/AK170","v":0.62875236967549253},{"$f":"0.5*BI173*(0.5-BI173/3)+AZ173*(0.5-AK172/AK170)*(BI173-AK172/AK170)/BI173+BA173*(0.5-AK172/AK170)*(1-AK172/AK170-BI173)/BI173","v":9.3883691122158677E-2},{"$f":"IF(BH173*SQRT(4*ABS(BE173)/3)-BB173/3<=AK170,AK169*(1-AK168*AR173/AK167),AK169*(1-AK168*AR173/AK167-(1-AK168)*BR173/AK167))","v":29961.951054640307},{"$f":"(1+AZ173+BA173)*AK170*AK171","v":0.1544759537505376},{"$f":"0.5*(AK170-AK172)*(BA173-AZ173)*AK170*AK171","v":0},{"$f":"AK171*AK170^3/12+(0.5*AK170-AK172)^2*(AZ173+BA173)*AK171*AK170","v":2.8673304334440853E-4},0,2.8673304334440853E-4,{"$f":"AN169/BL173+(AY173+BO173*AN169)*(0.5*AK170+BO173)/BP173","v":1.0099291639836756},{"$f":"AN169/BL173+(AY173+BO173*AN169)*(-0.5*AK170+BO173)/BP173","v":-0.28217835700988292},{"$f":"AN169*BP173/((AY173+AN169*BO173)*BL173)+(0.5*AK170+BO173)","v":0.11724208096944166},null,null,"INGEN"]
[null,null,null,null,null,null,null,null,null,null,null,null,null,null,null,null,null,null,null,null,null,null,null,null,null,null,null,null,null,null,null,null,null,null,null,"Ac",{"$f":"PI()/4*$N$9^2*$N$10/1000000","v":3.3527076799110271E-4},"m2","sa,c",{"$f":"AT176","v":4.4947352213273524},"MPa",{"$f":"AY174-AN167*AW174","v":2.4489999999999998E-3},{"$f":"AW174/AW173","v":0.99999999999999956},{"$f":"IF(BH174*SQRT(4*ABS(BE174)/3)-BB174/3<=AK170,AY174/(BJ174*AK171*AK170^2),BQ174)","v":1.1692636957395441},{"$f":"IF(BH174*SQRT(4*ABS(BE174)/3)-BB174/3<=AK170,0,BR174)","v":0},{"$f":"AX174*(AV174-AK172)*AR174/AV174","v":4.4947352213273524},{"$f":"AX174*(AK170-AK172-AV174)*AR174/AV174","v":1.2982112713293019},{"$f":"IF(BH174*SQRT(4*ABS(BE174)/3)-BB174/3<=AK170,BH174*SQRT(4*ABS(BE174)/3)-BB174/3,BS174)","v":9.4312855451323896E-2},{"$f":"0.1*(AR174/(AV174*BK174))*AK176^2","v":3.7240370309935645E-4},{"$f":"AK173","v":6.6751327253445112},{"$f":"AN170+AW173*AN167","v":2.4699328121512145E-3},{"$f":"AX174*AK174/(AK170*AK171)","v":1.4919845835125312E-2},{"$f":"AX174*AK175/(AK170*AK171)","v":1.4919845835125312E-2},{"$f":"-6*AK170*(0.25-0.5*AY174/(AK170*AN169))","v":-9.3176508869353428E-2},{"$f":"-6*AK170*(AZ174*(0.5*AK170-AK172)-BA174*(0.5*AK170-AK172)-(AZ174+BA174)*AK170*AY174/(AK170*AN169))","v":1.1800716990703532E-3},{"$f":"6*AK170*((AZ174*AK172-BA174*(AK170-AK172))*(0.5*AK170-AK172)-(AZ174*AK172+BA174*(AK170-AK172))*AY174/AN169)","v":-1.214036374967278E-4},-1.7138822359565459E-3,1.446738781172126E-4,5.2974948545900409,1.3232084596475999,{"$f":"AV174/AK170","v":0.62875236967549264},{"$f":"0.5*BI174*(0.5-BI174/3)+AZ174*(0.5-AK172/AK170)*(BI174-AK172/AK170)/BI174+BA174*(0.5-AK172/AK170)*(1-AK172/AK170-BI174)/BI174","v":9.3883691122158691E-2},{"$f":"IF(BH174*SQRT(4*ABS(BE174)/3)-BB174/3<=AK170,AK169*(1-AK168*AR174/AK167),AK169*(1-AK168*AR174/AK167-(1-AK168)*BR174/AK167))","v":29961.951054640307},{"$f":"(1+AZ174+BA174)*AK170*AK171","v":0.1544759537505376},{"$f":"0.5*(AK170-AK172)*(BA174-AZ174)*AK170*AK171","v":0},{"$f":"AK171*AK170^3/12+(0.5*AK170-AK172)^2*(AZ174+BA174)*AK171*AK170","v":2.8673304334440853E-4},0,2.8673304334440853E-4,{"$f":"AN169/BL174+(AY174+BO174*AN169)*(0.5*AK170+BO174)/BP174","v":1.0099291639836754},{"$f":"AN169/BL174+(AY174+BO174*AN169)*(-0.5*AK170+BO174)/BP174","v":-0.28217835700988281},{"$f":"AN169*BP174/((AY174+AN169*BO174)*BL174)+(0.5*AK170+BO174)","v":0.11724208096944166}]
[null,null,null,null,null,null,null,null,null,null,null,null,null,null,null,null,null,null,null,null,null,null,null,null,null,null,null,null,null,null,null,null,null,null,null,"At",{"$f":"PI()/4*$N$12^2*$N$13/1000000","v":3.3527076799110271E-4},"m2","sa,t",{"$f":"AU176","v":1.2982112713293019},"MPa",{"$f":"AY175-AN167*AW175","v":2.4489999999999998E-3},{"$f":"AW175/AW174","v":1},{"$f":"IF(BH175*SQRT(4*ABS(BE175)/3)-BB175/3<=AK170,AY175/(BJ175*AK171*AK170^2),BQ175)","v":1.1692636957395441},{"$f":"IF(BH175*SQRT(4*ABS(BE175)/3)-BB175/3<=AK170,0,BR175)","v":0},{"$f":"AX175*(AV175-AK172)*AR175/AV175","v":4.4947352213273524},{"$f":"AX175*(AK170-AK172-AV175)*AR175/AV175","v":1.2982112713293019},{"$f":"IF(BH175*SQRT(4*ABS(BE175)/3)-BB175/3<=AK170,BH175*SQRT(4*ABS(BE175)/3)-BB175/3,BS175)","v":9.4312855451323896E-2},{"$f":"0.1*(AR175/(AV175*BK175))*AK176^2","v":3.7240370309935645E-4},{"$f":"AK173","v":6.6751327253445112},{"$f":"AN170+AW174*AN167","v":2.4699328121512145E-3},{"$f":"AX175*AK174/(AK170*AK171)","v":1.4919845835125312E-2},{"$f":"AX175*AK175/(AK170*AK171)","v":1.4919845835125312E-2},{"$f":"-6*AK170*(0.25-0.5*AY175/(AK170*AN169))","v":-9.3176508869353428E-2},{"$f":"-6*AK170*(AZ175*(0.5*AK170-AK172)-BA175*(0.5*AK170-AK172)-(AZ175+BA175)*AK170*AY175/(AK170*AN169))","v":1.1800716990703532E-3},{"$f":"6*AK170*((AZ175*AK172-BA175*(AK170-AK172))*(0.5*AK170-AK172)-(AZ175*AK172+BA175*(AK170-AK172))*AY175/AN169)","v":-1.214036374967278E-4},-1.7138822359565459E-3,1.446738781172126E-4,5.2974948545900409,1.3232084596475999,{"$f":"AV175/AK170","v":0.62875236967549264},{"$f":"0.5*BI175*(0.5-BI175/3)+AZ175*(0.5-AK172/AK170)*(BI175-AK172/AK170)/BI175+BA175*(0.5-AK172/AK170)*(1-AK172/AK170-BI175)/BI175","v":9.3883691122158691E-2},{"$f":"IF(BH175*SQRT(4*ABS(BE175)/3)-BB175/3<=AK170,AK169*(1-AK168*AR175/AK167),AK169*(1-AK168*AR175/AK167-(1-AK168)*BR175/AK167))","v":29961.951054640307},{"$f":"(1+AZ175+BA175)*AK170*AK171","v":0.1544759537505376},{"$f":"0.5*(AK170-AK172)*(BA175-AZ175)*AK170*AK171","v":0},{"$f":"AK171*AK170^3/12+(0.5*AK170-AK172)^2*(AZ175+BA175)*AK171*AK170","v":2.8673304334440853E-4},0,2.8673304334440853E-4,{"$f":"AN169/BL175+(AY175+BO175*AN169)*(0.5*AK170+BO175)/BP175","v":1.0099291639836754},{"$f":"AN169/BL175+(AY175+BO175*AN169)*(-0.5*AK170+BO175)/BP175","v":-0.28217835700988281},{"$f":"AN169*BP175/((AY175+AN169*BO175)*BL175)+(0.5*AK170+BO175)","v":0.11724208096944166}]
[null,null,null,null,null,null,null,null,null,null,null,null,null,null,null,null,null,null,null,null,null,null,null,null,null,null,null,null,null,null,null,null,null,null,null,"L",{"$f":"$M$16/1000","v":3},"m","hc",{"$f":"AV176","v":9.4312855451323896E-2},"m",{"$f":"AY176-AN167*AW176","v":2.4489999999999998E-3},{"$f":"AW176/AW175","v":1},{"$f":"IF(BH176*SQRT(4*ABS(BE176)/3)-BB176/3<=AK170,AY176/(BJ176*AK171*AK170^2),BQ176)","v":1.1692636957395441},{"$f":"IF(BH176*SQRT(4*ABS(BE176)/3)-BB176/3<=AK170,0,BR176)","v":0},{"$f":"AX176*(AV176-AK172)*AR176/AV176","v":4.4947352213273524},{"$f":"AX176*(AK170-AK172-AV176)*AR176/AV176","v":1.2982112713293019},{"$f":"IF(BH176*SQRT(4*ABS(BE176)/3)-BB176/3<=AK170,BH176*SQRT(4*ABS(BE176)/3)-BB176/3,BS176)","v":9.4312855451323896E-2},{"$f":"0.1*(AR176/(AV176*BK176))*AK176^2","v":3.7240370309935645E-4},{"$f":"AK173","v":6.6751327253445112},{"$f":"AN170+AW175*AN167","v":2.4699328121512145E-3},{"$f":"AX176*AK174/(AK170*AK171)","v":1.4919845835125312E-2},{"$f":"AX176*AK175/(AK170*AK171)","v":1.4919845835125312E-2},{"$f":"-6*AK170*(0.25-0.5*AY176/(AK170*AN169))","v":-9.3176508869353428E-2},{"$f":"-6*AK170*(AZ176*(0.5*AK170-AK172)-BA176*(0.5*AK170-AK172)-(AZ176+BA176)*AK170*AY176/(AK170*AN169))","v":1.1800716990703532E-3},{"$f":"6*AK170*((AZ176*AK172-BA176*(AK170-AK172))*(0.5*AK170-AK172)-(AZ176*AK172+BA176*(AK170-AK172))*AY176/AN169)","v":-1.214036374967278E-4},-1.7138822359565459E-3,1.446738781172126E-4,5.2974948545900409,1.3232084596475999,{"$f":"AV176/AK170","v":0.62875236967549264},{"$f":"0.5*BI176*(0.5-BI176/3)+AZ176*(0.5-AK172/AK170)*(BI176-AK172/AK170)/BI176+BA176*(0.5-AK172/AK170)*(1-AK172/AK170-BI176)/BI176","v":9.3883691122158691E-2},{"$f":"IF(BH176*SQRT(4*ABS(BE176)/3)-BB176/3<=AK170,AK169*(1-AK168*AR176/AK167),AK169*(1-AK168*AR176/AK167-(1-AK168)*BR176/AK167))","v":29961.951054640307},{"$f":"(1+AZ176+BA176)*AK170*AK171","v":0.1544759537505376},{"$f":"0.5*(AK170-AK172)*(BA176-AZ176)*AK170*AK171","v":0},{"$f":"AK171*AK170^3/12+(0.5*AK170-AK172)^2*(AZ176+BA176)*AK171*AK170","v":2.8673304334440853E-4},0,2.8673304334440853E-4,{"$f":"AN169/BL176+(AY176+BO176*AN169)*(0.5*AK170+BO176)/BP176","v":1.0099291639836754},{"$f":"AN169/BL176+(AY176+BO176*AN169)*(-0.5*AK170+BO176)/BP176","v":-0.28217835700988281},{"$f":"AN169*BP176/((AY176+AN169*BO176)*BL176)+(0.5*AK170+BO176)","v":0.11724208096944166}]
[null,null,null,null,null,null,null,null,null,null,null,null,null,null,null,null,null,null,null,null,null,null,null,null,null,null,null,null,null,null,null,null,null,null,null,"gc",{"$f":"$L$10","v":1},null,"Referencelast efter krybning",null,null,"Mo",null,"sc,max","sc,min","sc","st","hc","u","a","Mt","a*fc","a*ft","B","C","D","p","q","C'","y'","b","m","Ec","Atr","Syt","Iyt","z","Io","sc","sm","hc"]
[null,null,null,null,null,null,null,null,null,null,null,null,null,null,null,null,null,null,null,null,null,null,null,null,null,null,null,null,null,null,null,null,null,null,null,"ga",{"$f":"$L$11","v":1},null,"Kontrol",{"$f":"IF(AND(Makro!B3<10,ABS(1-AQ190)>0.01),1,0)","v":0},null,{"$f":"AY178-AN181*AW178","v":2.7684179054777215E-3},null,{"$f":"IF(BH178*SQRT(4*ABS(BE178)/3)-BB178/3<=AK184,AY178/(BJ178*AK185*AK184^2),BQ178)","v":1.2884767397008658},{"$f":"IF(BH178*SQRT(4*ABS(BE178)/3)-BB178/3<=AK184,0,BR178)","v":0},{"$f":"AX178*(AV178-AK186)*AR178/AV178","v":17.618779831129515},{"$f":"AX178*(AK184-AK186-AV178)*AR178/AV178","v":10.65217506641538},{"$f":"IF(BH178*SQRT(4*ABS(BE178)/3)-BB178/3<=AK184,BH178*SQRT(4*ABS(BE178)/3)-BB178/3,BS178)","v":8.3624794162370841E-2},{"$f":"0.1*(AR178/(AV178*BK178))*AK190^2","v":1.8174185291278866E-3},{"$f":"AK187","v":26.212045712983606},{"$f":"IF(AN184>0,AN184+AK184*AN181/20,0)+0.000000000001","v":2.8705750009999998E-3},{"$f":"AX178*AK188/(AK184*AK185)","v":5.8587551312066041E-2},{"$f":"AX178*AK189/(AK184*AK185)","v":5.8587551312066041E-2},{"$f":"-6*AK184*(0.25-0.5*AY178/(AK184*AN183))","v":-7.1793719925280192E-2},{"$f":"-6*AK184*(AZ178*(0.5*AK184-AK186)-BA178*(0.5*AK184-AK186)-(AZ178+BA178)*AK184*AY178/(AK184*AN183))","v":5.3855884771250436E-3},{"$f":"6*AK184*((AZ178*AK186-BA178*(AK184-AK186))*(0.5*AK184-AK186)-(AZ178*AK186+BA178*(AK184-AK186))*AY178/AN183)","v":-5.3310468642748382E-4},{"$f":"(3*BC178-BB178^2)/3","v":3.6674757368885189E-3},{"$f":"(9*BC178*BB178-27*BD178-2*BB178^3)/27","v":4.3163192170155029E-4},{"$f":"0.5*BF178*(3/ABS(BE178))^(3/2)","v":5.0491069292430959},{"$f":"IF(BE178>0,SINH(ASINH(BG178)/3),IF(BG178>=1,COSH(ACOSH(BG178)/3),IF(BG178<=-1,-COSH(ACOSH(ABS(BG178))/3),COS(ACOS(BG178)/3))))","v":0.85363938612566548},{"$f":"AV178/AK184","v":0.55749862774913894},{"$f":"0.5*BI178*(0.5-BI178/3)+AZ178*(0.5-AK186/AK184)*(BI178-AK186/AK184)/BI178+BA178*(0.5-AK186/AK184)*(1-AK186/AK184-BI178)/BI178","v":9.9017007621864342E-2},{"$f":"IF(BH178*SQRT(4*ABS(BE178)/3)-BB178/3<=AK184,AK183*(1-AK182*AR178/AK181),AK183*(1-AK182*AR178/AK181-(1-AK182)*BR178/AK181))","v":7630.0797804932126},{"$f":"(1+AZ178+BA178)*AK184*AK185","v":0.16757626539361978},{"$f":"0.5*(AK184-AK186)*(BA178-AZ178)*AK184*AK185","v":0},{"$f":"AK185*AK184^3/12+(0.5*AK184-AK186)^2*(AZ178+BA178)*AK185*AK184","v":3.0278092510718427E-4},{"$f":"BM178/BL178","v":0},{"$f":"BN178-BL178*BO178^2","v":3.0278092510718427E-4},{"$f":"AN183/BL178+(AY178+BO178*AN183)*(0.5*AK184+BO178)/BP178","v":1.0464818346187872},{"$f":"AN183/BL178+(AY178+BO178*AN183)*(-0.5*AK184+BO178)/BP178","v":-0.37562310808053462},{"$f":"AN183*BP178/((AY178+AN183*BO178)*BL178)+(0.5*AK184+BO178)","v":0.11038023318790124}]
[null,null,null,null,null,null,null,null,null,null,null,null,null,null,null,null,null,null,null,null,null,null,null,null,null,null,null,null,null,null,null,null,null,null,null,"fck",{"$f":"$L$8","v":20},"MPa","feff",{"$f":"AH10","v":2.9268201534720455},null,{"$f":"AY179-AN181*AW179","v":2.4717885493543358E-3},{"$f":"AW179/AW178","v":0.77692641673268292},{"$f":"IF(BH179*SQRT(4*ABS(BE179)/3)-BB179/3<=AK184,AY179/(BJ179*AK185*AK184^2),BQ179)","v":1.1191925876707685},{"$f":"IF(BH179*SQRT(4*ABS(BE179)/3)-BB179/3<=AK184,0,BR179)","v":0},{"$f":"AX179*(AV179-AK186)*AR179/AV179","v":16.785212020423824},{"$f":"AX179*(AK184-AK186-AV179)*AR179/AV179","v":5.1792396657370228},{"$f":"IF(BH179*SQRT(4*ABS(BE179)/3)-BB179/3<=AK184,BH179*SQRT(4*ABS(BE179)/3)-BB179/3,BS179)","v":9.3493930020114191E-2},{"$f":"0.1*(AR179/(AV179*BK179))*AK190^2","v":1.412000465538912E-3},{"$f":"AK187","v":26.212045712983606},{"$f":"AN184+AW178*AN181","v":2.5511570955222781E-3},{"$f":"AX179*AK188/(AK184*AK185)","v":5.8587551312066041E-2},{"$f":"AX179*AK189/(AK184*AK185)","v":5.8587551312066041E-2},{"$f":"-6*AK184*(0.25-0.5*AY179/(AK184*AN183))","v":-8.8841464391267833E-2},{"$f":"-6*AK184*(AZ179*(0.5*AK184-AK186)-BA179*(0.5*AK184-AK186)-(AZ179+BA179)*AK184*AY179/(AK184*AN183))","v":4.7863171149314194E-3},{"$f":"6*AK184*((AZ179*AK186-BA179*(AK184-AK186))*(0.5*AK184-AK186)-(AZ179*AK186+BA179*(AK184-AK186))*AY179/AN183)","v":-4.8815933426296198E-4},2.1553818498697822E-3,3.9835955856728665E-4,10.342863586372214,1.1916100749775471,{"$f":"AV179/AK184","v":0.62329286680076135},{"$f":"0.5*BI179*(0.5-BI179/3)+AZ179*(0.5-AK186/AK184)*(BI179-AK186/AK184)/BI179+BA179*(0.5-AK186/AK184)*(1-AK186/AK184-BI179)/BI179","v":0.10130942703700645},{"$f":"IF(BH179*SQRT(4*ABS(BE179)/3)-BB179/3<=AK184,AK183*(1-AK182*AR179/AK181),AK183*(1-AK182*AR179/AK181-(1-AK182)*BR179/AK181))","v":7630.0797804932126},{"$f":"(1+AZ179+BA179)*AK184*AK185","v":0.16757626539361978},{"$f":"0.5*(AK184-AK186)*(BA179-AZ179)*AK184*AK185","v":0},{"$f":"AK185*AK184^3/12+(0.5*AK184-AK186)^2*(AZ179+BA179)*AK185*AK184","v":3.0278092510718427E-4},{"$f":"BM179/BL179","v":0},{"$f":"BN179-BL179*BO179^2","v":3.0278092510718427E-4},{"$f":"AN183/BL179+(AY179+BO179*AN183)*(0.5*AK184+BO179)/BP179","v":0.96736079057564406},{"$f":"AN183/BL179+(AY179+BO179*AN183)*(-0.5*AK184+BO179)/BP179","v":-0.2965020640373916},{"$f":"AN183*BP179/((AY179+AN183*BO179)*BL179)+(0.5*AK184+BO179)","v":0.11481001918580318}]
[null,null,null,null,null,null,null,null,null,null,null,null,null,null,null,null,null,null,null,null,null,null,null,null,null,null,null,null,null,null,null,null,null,null,null,"Es",200000,"MPa","Max_N",{"$f":"(AK184*AK185+AK187*(AK188+AK189))*AK181/(1+(12*(AK181/AK183)/PI()^2)*(AK190/AK184)^2)","v":1.4733267880706795},null,{"$f":"AY180-AN181*AW180","v":2.4504789691508571E-3},{"$f":"AW180/AW179","v":0.9813658026729164},{"$f":"IF(BH180*SQRT(4*ABS(BE180)/3)-BB180/3<=AK184,AY180/(BJ180*AK185*AK184^2),BQ180)","v":1.1077338249935218},{"$f":"IF(BH180*SQRT(4*ABS(BE180)/3)-BB180/3<=AK184,0,BR180)","v":0},{"$f":"AX180*(AV180-AK186)*AR180/AV180","v":16.718734367542808},{"$f":"AX180*(AK184-AK186-AV180)*AR180/AV180","v":4.8364273917169287},{"$f":"IF(BH180*SQRT(4*ABS(BE180)/3)-BB180/3<=AK184,BH180*SQRT(4*ABS(BE180)/3)-BB180/3,BS180)","v":9.4293789060768712E-2},{"$f":"0.1*(AR180/(AV180*BK180))*AK190^2","v":1.3856889702381259E-3},{"$f":"AK187","v":26.212045712983606},{"$f":"AN184+AW179*AN181","v":2.5283685461679421E-3},{"$f":"AX180*AK188/(AK184*AK185)","v":5.8587551312066041E-2},{"$f":"AX180*AK189/(AK184*AK185)","v":5.8587551312066041E-2},{"$f":"-6*AK184*(0.25-0.5*AY180/(AK184*AN183))","v":-9.0057718582034749E-2},{"$f":"-6*AK184*(AZ180*(0.5*AK184-AK186)-BA180*(0.5*AK184-AK186)-(AZ180+BA180)*AK184*AY180/(AK184*AN183))","v":4.7435627020453765E-3},{"$f":"6*AK184*((AZ180*AK186-BA180*(AK184-AK186))*(0.5*AK184-AK186)-(AZ180*AK186+BA180*(AK184-AK186))*AY180/AN183)","v":-4.849527532965088E-4},2.0400984766450543E-3,3.9665856842142937E-4,11.183867913379201,1.2323784842905288,{"$f":"AV180/AK184","v":0.62862526040512479},{"$f":"0.5*BI180*(0.5-BI180/3)+AZ180*(0.5-AK186/AK184)*(BI180-AK186/AK184)/BI180+BA180*(0.5-AK186/AK184)*(1-AK186/AK184-BI180)/BI180","v":0.10144308393390357},{"$f":"IF(BH180*SQRT(4*ABS(BE180)/3)-BB180/3<=AK184,AK183*(1-AK182*AR180/AK181),AK183*(1-AK182*AR180/AK181-(1-AK182)*BR180/AK181))","v":7630.0797804932126},{"$f":"(1+AZ180+BA180)*AK184*AK185","v":0.16757626539361978},{"$f":"0.5*(AK184-AK186)*(BA180-AZ180)*AK184*AK185","v":0},{"$f":"AK185*AK184^3/12+(0.5*AK184-AK186)^2*(AZ180+BA180)*AK185*AK184","v":3.0278092510718427E-4},0,3.0278092510718427E-4,{"$f":"AN183/BL180+(AY180+BO180*AN183)*(0.5*AK184+BO180)/BP180","v":0.96171597922905705},{"$f":"AN183/BL180+(AY180+BO180*AN183)*(-0.5*AK184+BO180)/BP180","v":-0.29085725269080448},{"$f":"AN183*BP180/((AY180+AN183*BO180)*BL180)+(0.5*AK184+BO180)","v":0.11516883261448142}]
[null,null,null,null,null,null,null,null,null,null,null,null,null,null,null,null,null,null,null,null,null,null,null,null,null,null,null,null,null,null,null,null,null,null,null,"fcd",{"$f":"AK179/AK177","v":20},"MPa","Nd",{"$f":"INDEX(BV164:BX173,Makro!B3,2)/1000+0.00001","v":5.6210000000000003E-2},"MN",{"$f":"AY181-AN181*AW181","v":2.4490952595676969E-3},0.99877699210414139,{"$f":"IF(BH181*SQRT(4*ABS(BE181)/3)-BB181/3<=AK184,AY181/(BJ181*AK185*AK184^2),BQ181)","v":1.1069934240614023},{"$f":"IF(BH181*SQRT(4*ABS(BE181)/3)-BB181/3<=AK184,0,BR181)","v":0},{"$f":"AX181*(AV181-AK186)*AR181/AV181","v":16.71439102048021},{"$f":"AX181*(AK184-AK186-AV181)*AR181/AV181","v":4.8144086057514377},{"$f":"IF(BH181*SQRT(4*ABS(BE181)/3)-BB181/3<=AK184,BH181*SQRT(4*ABS(BE181)/3)-BB181/3,BS181)","v":9.4346149889751652E-2},{"$f":"0.1*(AR181/(AV181*BK181))*AK190^2","v":1.3839942616863206E-3},{"$f":"AK187","v":26.212045712983606},{"$f":"AN184+AW180*AN181","v":2.5268895770170848E-3},{"$f":"AX181*AK188/(AK184*AK185)","v":5.8587551312066041E-2},{"$f":"AX181*AK189/(AK184*AK185)","v":5.8587551312066041E-2},{"$f":"-6*AK184*(0.25-0.5*AY181/(AK184*AN183))","v":-9.0136653067937111E-2},{"$f":"-6*AK184*(AZ181*(0.5*AK184-AK186)-BA181*(0.5*AK184-AK186)-(AZ181+BA181)*AK184*AY181/(AK184*AN183))","v":4.7407879550995183E-3},{"$f":"6*AK184*((AZ181*AK186-BA181*(AK184-AK186))*(0.5*AK184-AK186)-(AZ181*AK186+BA181*(AK184-AK186))*AY181/AN183)","v":-4.8474464727556936E-4},2.0325825463362993E-3,3.9655141007561613E-4,11.242919391765207,1.2351552636279692,{"$f":"AV181/AK184","v":0.62897433259834434},{"$f":"0.5*BI181*(0.5-BI181/3)+AZ181*(0.5-AK186/AK184)*(BI181-AK186/AK184)/BI181+BA181*(0.5-AK186/AK184)*(1-AK186/AK184-BI181)/BI181","v":0.10145155425670549},{"$f":"IF(BH181*SQRT(4*ABS(BE181)/3)-BB181/3<=AK184,AK183*(1-AK182*AR181/AK181),AK183*(1-AK182*AR181/AK181-(1-AK182)*BR181/AK181))","v":7630.0797804932126},{"$f":"(1+AZ181+BA181)*AK184*AK185","v":0.16757626539361978},{"$f":"0.5*(AK184-AK186)*(BA181-AZ181)*AK184*AK185","v":0},{"$f":"AK185*AK184^3/12+(0.5*AK184-AK186)^2*(AZ181+BA181)*AK185*AK184","v":3.0278092510718427E-4},0,3.0278092510718427E-4,{"$f":"AN183/BL181+(AY181+BO181*AN183)*(0.5*AK184+BO181)/BP181","v":0.96134963288053776},{"$f":"AN183/BL181+(AY181+BO181*AN183)*(-0.5*AK184+BO181)/BP181","v":-0.29049090634228519},{"$f":"AN183*BP181/((AY181+AN183*BO181)*BL181)+(0.5*AK184+BO181)","v":0.11519234312511201}]
[null,null,null,null,null,null,null,null,null,null,null,null,null,null,null,null,null,null,null,null,null,null,null,null,null,null,null,null,null,null,null,null,null,null,null,"k",0,null,"Nf",0,"MN",{"$f":"AY182-AN181*AW182","v":2.4490061325737477E-3},0.99992116938680187,{"$f":"IF(BH182*SQRT(4*ABS(BE182)/3)-BB182/3<=AK184,AY182/(BJ182*AK185*AK184^2),BQ182)","v":1.1069457490333521},{"$f":"IF(BH182*SQRT(4*ABS(BE182)/3)-BB182/3<=AK184,0,BR182)","v":0},{"$f":"AX182*(AV182-AK186)*AR182/AV182","v":16.714111148166133},{"$f":"AX182*(AK184-AK186-AV182)*AR182/AV182","v":4.8129913495895611},{"$f":"IF(BH182*SQRT(4*ABS(BE182)/3)-BB182/3<=AK184,BH182*SQRT(4*ABS(BE182)/3)-BB182/3,BS182)","v":9.4349524302845961E-2},{"$f":"0.1*(AR182/(AV182*BK182))*AK190^2","v":1.3838851605700092E-3},{"$f":"AK187","v":26.212045712983606},{"$f":"AN184+AW181*AN181","v":2.5267943174493877E-3},{"$f":"AX182*AK188/(AK184*AK185)","v":5.8587551312066041E-2},{"$f":"AX182*AK189/(AK184*AK185)","v":5.8587551312066041E-2},{"$f":"-6*AK184*(0.25-0.5*AY182/(AK184*AN183))","v":-9.0141737193592544E-2},{"$f":"-6*AK184*(AZ182*(0.5*AK184-AK186)-BA182*(0.5*AK184-AK186)-(AZ182+BA182)*AK184*AY182/(AK184*AN183))","v":4.74060923521589E-3},{"$f":"6*AK184*((AZ182*AK186-BA182*(AK184-AK186))*(0.5*AK184-AK186)-(AZ182*AK186+BA182*(AK184-AK186))*AY182/AN183)","v":-4.8473124328429729E-4},2.032098307122988E-3,3.9654452162620867E-4,11.246742961975556,1.2353346900499602,{"$f":"AV182/AK184","v":0.62899682868563978},{"$f":"0.5*BI182*(0.5-BI182/3)+AZ182*(0.5-AK186/AK184)*(BI182-AK186/AK184)/BI182+BA182*(0.5-AK186/AK184)*(1-AK186/AK184-BI182)/BI182","v":0.10145209895108744},{"$f":"IF(BH182*SQRT(4*ABS(BE182)/3)-BB182/3<=AK184,AK183*(1-AK182*AR182/AK181),AK183*(1-AK182*AR182/AK181-(1-AK182)*BR182/AK181))","v":7630.0797804932126},{"$f":"(1+AZ182+BA182)*AK184*AK185","v":0.16757626539361978},{"$f":"0.5*(AK184-AK186)*(BA182-AZ182)*AK184*AK185","v":0},{"$f":"AK185*AK184^3/12+(0.5*AK184-AK186)^2*(AZ182+BA182)*AK185*AK184","v":3.0278092510718427E-4},0,3.0278092510718427E-4,{"$f":"AN183/BL182+(AY182+BO182*AN183)*(0.5*AK184+BO182)/BP182","v":0.96132603671913897},{"$f":"AN183/BL182+(AY182+BO182*AN183)*(-0.5*AK184+BO182)/BP182","v":-0.2904673101808864},{"$f":"AN183*BP182/((AY182+AN183*BO182)*BL182)+(0.5*AK184+BO182)","v":0.11519385836725277}]
[null,null,null,null,null,null,null,null,null,null,null,null,null,null,null,null,null,null,null,null,null,null,null,null,null,null,null,null,null,null,null,null,null,null,null,"Ecm",{"$f":"(1000*22*((AK181+8)/10)^0.3)/(1+$AH$10*$AH$11)","v":7630.0797804932126},"MPa","N",{"$f":"AN182+AN181","v":5.6210000000000003E-2},"MN",{"$f":"AY183-AN181*AW183","v":2.4490003947872127E-3},0.99999492484348806,{"$f":"IF(BH183*SQRT(4*ABS(BE183)/3)-BB183/3<=AK184,AY183/(BJ183*AK185*AK184^2),BQ183)","v":1.1069426798909292},{"$f":"IF(BH183*SQRT(4*ABS(BE183)/3)-BB183/3<=AK184,0,BR183)","v":0},{"$f":"AX183*(AV183-AK186)*AR183/AV183","v":16.714093130187173},{"$f":"AX183*(AK184-AK186-AV183)*AR183/AV183","v":4.8129001141540986},{"$f":"IF(BH183*SQRT(4*ABS(BE183)/3)-BB183/3<=AK184,BH183*SQRT(4*ABS(BE183)/3)-BB183/3,BS183)","v":9.4349741546959992E-2},{"$f":"0.1*(AR183/(AV183*BK183))*AK190^2","v":1.3838781371362247E-3},{"$f":"AK187","v":26.212045712983606},{"$f":"AN184+AW182*AN181","v":2.5267881848756398E-3},{"$f":"AX183*AK188/(AK184*AK185)","v":5.8587551312066041E-2},{"$f":"AX183*AK189/(AK184*AK185)","v":5.8587551312066041E-2},{"$f":"-6*AK184*(0.25-0.5*AY183/(AK184*AN183))","v":-9.0142064496941468E-2},{"$f":"-6*AK184*(AZ183*(0.5*AK184-AK186)-BA183*(0.5*AK184-AK186)-(AZ183+BA183)*AK184*AY183/(AK184*AN183))","v":4.7405977296748406E-3},{"$f":"6*AK184*((AZ183*AK186-BA183*(AK184-AK186))*(0.5*AK184-AK186)-(AZ183*AK186+BA183*(AK184-AK186))*AY183/AN183)","v":-4.8473038036871857E-4},2.0320671324179219E-3,3.9654407822122234E-4,11.24698919764716,1.2353462434711195,{"$f":"AV183/AK184","v":0.62899827697973332},{"$f":"0.5*BI183*(0.5-BI183/3)+AZ183*(0.5-AK186/AK184)*(BI183-AK186/AK184)/BI183+BA183*(0.5-AK186/AK184)*(1-AK186/AK184-BI183)/BI183","v":0.10145213401352404},{"$f":"IF(BH183*SQRT(4*ABS(BE183)/3)-BB183/3<=AK184,AK183*(1-AK182*AR183/AK181),AK183*(1-AK182*AR183/AK181-(1-AK182)*BR183/AK181))","v":7630.0797804932126},{"$f":"(1+AZ183+BA183)*AK184*AK185","v":0.16757626539361978},{"$f":"0.5*(AK184-AK186)*(BA183-AZ183)*AK184*AK185","v":0},{"$f":"AK185*AK184^3/12+(0.5*AK184-AK186)^2*(AZ183+BA183)*AK185*AK184","v":3.0278092510718427E-4},0,3.0278092510718427E-4,{"$f":"AN183/BL183+(AY183+BO183*AN183)*(0.5*AK184+BO183)/BP183","v":0.96132451765702842},{"$f":"AN183/BL183+(AY183+BO183*AN183)*(-0.5*AK184+BO183)/BP183","v":-0.29046579111877596},{"$f":"AN183*BP183/((AY183+AN183*BO183)*BL183)+(0.5*AK184+BO183)","v":0.11519395591868273}]
[null,null,null,null,null,null,null,null,null,null,null,null,null,null,null,null,null,null,null,null,null,null,null,null,null,null,null,null,null,null,null,null,null,null,null,"h",{"$f":"$M$18/1000","v":0.15},"m","Mo",{"$f":"INDEX(BV164:BX173,Makro!B3,3)/1000","v":2.4489999999999998E-3},"MNm",{"$f":"AY184-AN181*AW184","v":2.4490000254145531E-3},0.99999967328351458,{"$f":"IF(BH184*SQRT(4*ABS(BE184)/3)-BB184/3<=AK184,AY184/(BJ184*AK185*AK184^2),BQ184)","v":1.1069424823137328},{"$f":"IF(BH184*SQRT(4*ABS(BE184)/3)-BB184/3<=AK184,0,BR184)","v":0},{"$f":"AX184*(AV184-AK186)*AR184/AV184","v":16.714091970269568},{"$f":"AX184*(AK184-AK186-AV184)*AR184/AV184","v":4.8128942408481299},{"$f":"IF(BH184*SQRT(4*ABS(BE184)/3)-BB184/3<=AK184,BH184*SQRT(4*ABS(BE184)/3)-BB184/3,BS184)","v":9.4349755532180599E-2},{"$f":"0.1*(AR184/(AV184*BK184))*AK190^2","v":1.3838776850004235E-3},{"$f":"AK187","v":26.212045712983606},{"$f":"AN184+AW183*AN181","v":2.5267877900884269E-3},{"$f":"AX184*AK188/(AK184*AK185)","v":5.8587551312066041E-2},{"$f":"AX184*AK189/(AK184*AK185)","v":5.8587551312066041E-2},{"$f":"-6*AK184*(0.25-0.5*AY184/(AK184*AN183))","v":-9.0142085567242819E-2},{"$f":"-6*AK184*(AZ184*(0.5*AK184-AK186)-BA184*(0.5*AK184-AK186)-(AZ184+BA184)*AK184*AY184/(AK184*AN183))","v":4.7405969890004229E-3},{"$f":"6*AK184*((AZ184*AK186-BA184*(AK184-AK186))*(0.5*AK184-AK186)-(AZ184*AK186+BA184*(AK184-AK186))*AY184/AN183)","v":-4.8473032481813734E-4},2.0320651255297142E-3,3.9654404967705861E-4,11.247005049527242,1.2353469872377685,{"$f":"AV184/AK184","v":0.62899837021453731},{"$f":"0.5*BI184*(0.5-BI184/3)+AZ184*(0.5-AK186/AK184)*(BI184-AK186/AK184)/BI184+BA184*(0.5-AK186/AK184)*(1-AK186/AK184-BI184)/BI184","v":0.10145213627066919},{"$f":"IF(BH184*SQRT(4*ABS(BE184)/3)-BB184/3<=AK184,AK183*(1-AK182*AR184/AK181),AK183*(1-AK182*AR184/AK181-(1-AK182)*BR184/AK181))","v":7630.0797804932126},{"$f":"(1+AZ184+BA184)*AK184*AK185","v":0.16757626539361978},{"$f":"0.5*(AK184-AK186)*(BA184-AZ184)*AK184*AK185","v":0},{"$f":"AK185*AK184^3/12+(0.5*AK184-AK186)^2*(AZ184+BA184)*AK185*AK184","v":3.0278092510718427E-4},0,3.0278092510718427E-4,{"$f":"AN183/BL184+(AY184+BO184*AN183)*(0.5*AK184+BO184)/BP184","v":0.96132441986671702},{"$f":"AN183/BL184+(AY184+BO184*AN183)*(-0.5*AK184+BO184)/BP184","v":-0.29046569332846456},{"$f":"AN183*BP184/((AY184+AN183*BO184)*BL184)+(0.5*AK184+BO184)","v":0.11519396219861644}]
[null,null,null,null,null,null,null,null,null,null,null,null,null,null,null,null,null,null,null,null,null,null,null,null,null,null,null,null,null,null,null,null,null,null,null,"b",1,"m","u",{"$f":"AW190","v":1.3838776538913889E-3},{"$f":"AN185-AN171","v":1.0114739507920325E-3},{"$f":"AY185-AN181*AW185","v":2.4490000016360695E-3},0.99999997896751758,{"$f":"IF(BH185*SQRT(4*ABS(BE185)/3)-BB185/3<=AK184,AY185/(BJ185*AK185*AK184^2),BQ185)","v":1.1069424695946384},{"$f":"IF(BH185*SQRT(4*ABS(BE185)/3)-BB185/3<=AK184,0,BR185)","v":0},{"$f":"AX185*(AV185-AK186)*AR185/AV185","v":16.714091895599491},{"$f":"AX185*(AK184-AK186-AV185)*AR185/AV185","v":4.8128938627522491},{"$f":"IF(BH185*SQRT(4*ABS(BE185)/3)-BB185/3<=AK184,BH185*SQRT(4*ABS(BE185)/3)-BB185/3,BS185)","v":9.4349756432483778E-2},{"$f":"0.1*(AR185/(AV185*BK185))*AK190^2","v":1.3838776558940404E-3},{"$f":"AK187","v":26.212045712983606},{"$f":"AN184+AW184*AN181","v":2.5267877646738737E-3},{"$f":"AX185*AK188/(AK184*AK185)","v":5.8587551312066041E-2},{"$f":"AX185*AK189/(AK184*AK185)","v":5.8587551312066041E-2},{"$f":"-6*AK184*(0.25-0.5*AY185/(AK184*AN183))","v":-9.0142086923650208E-2},{"$f":"-6*AK184*(AZ185*(0.5*AK184-AK186)-BA185*(0.5*AK184-AK186)-(AZ185+BA185)*AK184*AY185/(AK184*AN183))","v":4.7405969413192696E-3},{"$f":"6*AK184*((AZ185*AK186-BA185*(AK184-AK186))*(0.5*AK184-AK186)-(AZ185*AK186+BA185*(AK184-AK186))*AY185/AN183)","v":-4.8473032124205081E-4},2.0320649963356334E-3,3.9654404783951981E-4,11.24700606999853,1.2353470351180256,{"$f":"AV185/AK184","v":0.62899837621655852},{"$f":"0.5*BI185*(0.5-BI185/3)+AZ185*(0.5-AK186/AK184)*(BI185-AK186/AK184)/BI185+BA185*(0.5-AK186/AK184)*(1-AK186/AK184-BI185)/BI185","v":0.10145213641597359},{"$f":"IF(BH185*SQRT(4*ABS(BE185)/3)-BB185/3<=AK184,AK183*(1-AK182*AR185/AK181),AK183*(1-AK182*AR185/AK181-(1-AK182)*BR185/AK181))","v":7630.0797804932126},{"$f":"(1+AZ185+BA185)*AK184*AK185","v":0.16757626539361978},{"$f":"0.5*(AK184-AK186)*(BA185-AZ185)*AK184*AK185","v":0},{"$f":"AK185*AK184^3/12+(0.5*AK184-AK186)^2*(AZ185+BA185)*AK185*AK184","v":3.0278092510718427E-4},0,3.0278092510718427E-4,{"$f":"AN183/BL185+(AY185+BO185*AN183)*(0.5*AK184+BO185)/BP185","v":0.9613244135714345},{"$f":"AN183/BL185+(AY185+BO185*AN183)*(-0.5*AK184+BO185)/BP185","v":-0.29046568703318193},{"$f":"AN183*BP185/((AY185+AN183*BO185)*BL185)+(0.5*AK184+BO185)","v":0.11519396260288925}]
[null,null,null,null,null,null,null,null,null,null,null,null,null,null,null,null,null,null,null,null,null,null,null,null,null,null,null,null,null,null,null,null,null,null,null,"a",{"$f":"$M$15/1000","v":0.04},"m","ec,max",{"$f":"1000*AR190/BK190","v":0.14507613295859317},"o/oo",{"$f":"AY186-AN181*AW186","v":2.4490000001053222E-3},0.99999999864602729,{"$f":"IF(BH186*SQRT(4*ABS(BE186)/3)-BB186/3<=AK184,AY186/(BJ186*AK185*AK184^2),BQ186)","v":1.1069424687758427},{"$f":"IF(BH186*SQRT(4*ABS(BE186)/3)-BB186/3<=AK184,0,BR186)","v":0},{"$f":"AX186*(AV186-AK186)*AR186/AV186","v":16.714091890792581},{"$f":"AX186*(AK184-AK186-AV186)*AR186/AV186","v":4.8128938384122062},{"$f":"IF(BH186*SQRT(4*ABS(BE186)/3)-BB186/3<=AK184,BH186*SQRT(4*ABS(BE186)/3)-BB186/3,BS186)","v":9.4349756490441083E-2},{"$f":"0.1*(AR186/(AV186*BK186))*AK190^2","v":1.3838776540203079E-3},{"$f":"AK187","v":26.212045712983606},{"$f":"AN184+AW185*AN181","v":2.5267877630378039E-3},{"$f":"AX186*AK188/(AK184*AK185)","v":5.8587551312066041E-2},{"$f":"AX186*AK189/(AK184*AK185)","v":5.8587551312066041E-2},{"$f":"-6*AK184*(0.25-0.5*AY186/(AK184*AN183))","v":-9.014208701096936E-2},{"$f":"-6*AK184*(AZ186*(0.5*AK184-AK186)-BA186*(0.5*AK184-AK186)-(AZ186+BA186)*AK184*AY186/(AK184*AN183))","v":4.7405969382497814E-3},{"$f":"6*AK184*((AZ186*AK186-BA186*(AK184-AK186))*(0.5*AK184-AK186)-(AZ186*AK186+BA186*(AK184-AK186))*AY186/AN183)","v":-4.8473032101183907E-4},2.0320649880187242E-3,3.9654404772122761E-4,11.247006135691693,1.2353470382003322,{"$f":"AV186/AK184","v":0.62899837660294056},{"$f":"0.5*BI186*(0.5-BI186/3)+AZ186*(0.5-AK186/AK184)*(BI186-AK186/AK184)/BI186+BA186*(0.5-AK186/AK184)*(1-AK186/AK184-BI186)/BI186","v":0.1014521364253276},{"$f":"IF(BH186*SQRT(4*ABS(BE186)/3)-BB186/3<=AK184,AK183*(1-AK182*AR186/AK181),AK183*(1-AK182*AR186/AK181-(1-AK182)*BR186/AK181))","v":7630.0797804932126},{"$f":"(1+AZ186+BA186)*AK184*AK185","v":0.16757626539361978},{"$f":"0.5*(AK184-AK186)*(BA186-AZ186)*AK184*AK185","v":0},{"$f":"AK185*AK184^3/12+(0.5*AK184-AK186)^2*(AZ186+BA186)*AK185*AK184","v":3.0278092510718427E-4},0,3.0278092510718427E-4,{"$f":"AN183/BL186+(AY186+BO186*AN183)*(0.5*AK184+BO186)/BP186","v":0.96132441316617379},{"$f":"AN183/BL186+(AY186+BO186*AN183)*(-0.5*AK184+BO186)/BP186","v":-0.29046568662792122},{"$f":"AN183*BP186/((AY186+AN183*BO186)*BL186)+(0.5*AK184+BO186)","v":0.11519396262891445}]
[null,null,null,null,null,null,null,null,null,null,null,null,null,null,null,null,null,null,null,null,null,null,null,null,null,null,null,null,null,null,null,null,null,null,null,"a",{"$f":"AK180/AK183","v":26.212045712983606},null,"ec,min",{"$f":"1000*AS190/BK190","v":0},"o/oo",{"$f":"AY187-AN181*AW187","v":2.44900000000678E-3},{"$f":"AW187/AW186","v":0.99999999991283806},{"$f":"IF(BH187*SQRT(4*ABS(BE187)/3)-BB187/3<=AK184,AY187/(BJ187*AK185*AK184^2),BQ187)","v":1.1069424687231326},{"$f":"IF(BH187*SQRT(4*ABS(BE187)/3)-BB187/3<=AK184,0,BR187)","v":0},{"$f":"AX187*(AV187-AK186)*AR187/AV187","v":16.714091890483132},{"$f":"AX187*(AK184-AK186-AV187)*AR187/AV187","v":4.8128938368453147},{"$f":"IF(BH187*SQRT(4*ABS(BE187)/3)-BB187/3<=AK184,BH187*SQRT(4*ABS(BE187)/3)-BB187/3,BS187)","v":9.4349756494172085E-2},{"$f":"0.1*(AR187/(AV187*BK187))*AK190^2","v":1.3838776538996865E-3},{"$f":"AK187","v":26.212045712983606},{"$f":"AN184+AW186*AN181","v":2.5267877629324815E-3},{"$f":"AX187*AK188/(AK184*AK185)","v":5.8587551312066041E-2},{"$f":"AX187*AK189/(AK184*AK185)","v":5.8587551312066041E-2},{"$f":"-6*AK184*(0.25-0.5*AY187/(AK184*AN183))","v":-9.0142087016590558E-2},{"$f":"-6*AK184*(AZ187*(0.5*AK184-AK186)-BA187*(0.5*AK184-AK186)-(AZ187+BA187)*AK184*AY187/(AK184*AN183))","v":4.7405969380521816E-3},{"$f":"6*AK184*((AZ187*AK186-BA187*(AK184-AK186))*(0.5*AK184-AK186)-(AZ187*AK186+BA187*(AK184-AK186))*AY187/AN183)","v":-4.8473032099701917E-4},2.0320649874833205E-3,3.9654404771361255E-4,11.247006139920712,1.2353470383987566,{"$f":"AV187/AK184","v":0.62899837662781388},{"$f":"0.5*BI187*(0.5-BI187/3)+AZ187*(0.5-AK186/AK184)*(BI187-AK186/AK184)/BI187+BA187*(0.5-AK186/AK184)*(1-AK186/AK184-BI187)/BI187","v":0.10145213642592976},{"$f":"IF(BH187*SQRT(4*ABS(BE187)/3)-BB187/3<=AK184,AK183*(1-AK182*AR187/AK181),AK183*(1-AK182*AR187/AK181-(1-AK182)*BR187/AK181))","v":7630.0797804932126},{"$f":"(1+AZ187+BA187)*AK184*AK185","v":0.16757626539361978},{"$f":"0.5*(AK184-AK186)*(BA187-AZ187)*AK184*AK185","v":0},{"$f":"AK185*AK184^3/12+(0.5*AK184-AK186)^2*(AZ187+BA187)*AK185*AK184","v":3.0278092510718427E-4},0,3.0278092510718427E-4,{"$f":"AN183/BL187+(AY187+BO187*AN183)*(0.5*AK184+BO187)/BP187","v":0.96132441314008488},{"$f":"AN183/BL187+(AY187+BO187*AN183)*(-0.5*AK184+BO187)/BP187","v":-0.29046568660183242},{"$f":"AN183*BP187/((AY187+AN183*BO187)*BL187)+(0.5*AK184+BO187)","v":0.11519396263058981}]
[null,null,null,null,null,null,null,null,null,null,null,null,null,null,null,null,null,null,null,null,null,null,null,null,null,null,null,null,null,null,null,null,null,null,null,"Ac",{"$f":"PI()/4*$N$9^2*$N$10/1000000","v":3.3527076799110271E-4},"m2","sa,c",{"$f":"AT190","v":16.714091890461845},"MPa",{"$f":"AY188-AN181*AW188","v":2.4490000000004365E-3},{"$f":"AW188/AW187","v":0.99999999999438827},{"$f":"IF(BH188*SQRT(4*ABS(BE188)/3)-BB188/3<=AK184,AY188/(BJ188*AK185*AK184^2),BQ188)","v":1.1069424687197391},{"$f":"IF(BH188*SQRT(4*ABS(BE188)/3)-BB188/3<=AK184,0,BR188)","v":0},{"$f":"AX188*(AV188-AK186)*AR188/AV188","v":16.714091890463212},{"$f":"AX188*(AK184-AK186-AV188)*AR188/AV188","v":4.8128938367444354},{"$f":"IF(BH188*SQRT(4*ABS(BE188)/3)-BB188/3<=AK184,BH188*SQRT(4*ABS(BE188)/3)-BB188/3,BS188)","v":9.4349756494412296E-2},{"$f":"0.1*(AR188/(AV188*BK188))*AK190^2","v":1.3838776538919206E-3},{"$f":"AK187","v":26.212045712983606},{"$f":"AN184+AW187*AN181","v":2.5267877629257013E-3},{"$f":"AX188*AK188/(AK184*AK185)","v":5.8587551312066041E-2},{"$f":"AX188*AK189/(AK184*AK185)","v":5.8587551312066041E-2},{"$f":"-6*AK184*(0.25-0.5*AY188/(AK184*AN183))","v":-9.0142087016952421E-2},{"$f":"-6*AK184*(AZ188*(0.5*AK184-AK186)-BA188*(0.5*AK184-AK186)-(AZ188+BA188)*AK184*AY188/(AK184*AN183))","v":4.7405969380394618E-3},{"$f":"6*AK184*((AZ188*AK186-BA188*(AK184-AK186))*(0.5*AK184-AK186)-(AZ188*AK186+BA188*(AK184-AK186))*AY188/AN183)","v":-4.8473032099606518E-4},2.0320649874488541E-3,3.9654404771312238E-4,11.247006140192964,1.2353470384115306,{"$f":"AV188/AK184","v":0.62899837662941538},{"$f":"0.5*BI188*(0.5-BI188/3)+AZ188*(0.5-AK186/AK184)*(BI188-AK186/AK184)/BI188+BA188*(0.5-AK186/AK184)*(1-AK186/AK184-BI188)/BI188","v":0.10145213642596854},{"$f":"IF(BH188*SQRT(4*ABS(BE188)/3)-BB188/3<=AK184,AK183*(1-AK182*AR188/AK181),AK183*(1-AK182*AR188/AK181-(1-AK182)*BR188/AK181))","v":7630.0797804932126},{"$f":"(1+AZ188+BA188)*AK184*AK185","v":0.16757626539361978},{"$f":"0.5*(AK184-AK186)*(BA188-AZ188)*AK184*AK185","v":0},{"$f":"AK185*AK184^3/12+(0.5*AK184-AK186)^2*(AZ188+BA188)*AK185*AK184","v":3.0278092510718427E-4},0,3.0278092510718427E-4,{"$f":"AN183/BL188+(AY188+BO188*AN183)*(0.5*AK184+BO188)/BP188","v":0.96132441313840555},{"$f":"AN183/BL188+(AY188+BO188*AN183)*(-0.5*AK184+BO188)/BP188","v":-0.29046568660015298},{"$f":"AN183*BP188/((AY188+AN183*BO188)*BL188)+(0.5*AK184+BO188)","v":0.11519396263069767}]
[null,null,null,null,null,null,null,null,null,null,null,null,null,null,null,null,null,null,null,null,null,null,null,null,null,null,null,null,null,null,null,null,null,null,null,"At",{"$f":"PI()/4*$N$12^2*$N$13/1000000","v":3.3527076799110271E-4},"m2","sa,t",{"$f":"AU190","v":4.8128938367375333},"MPa",{"$f":"AY189-AN181*AW189","v":2.449000000000028E-3},{"$f":"AW189/AW188","v":0.99999999999963851},{"$f":"IF(BH189*SQRT(4*ABS(BE189)/3)-BB189/3<=AK184,AY189/(BJ189*AK185*AK184^2),BQ189)","v":1.1069424687195204},{"$f":"IF(BH189*SQRT(4*ABS(BE189)/3)-BB189/3<=AK184,0,BR189)","v":0},{"$f":"AX189*(AV189-AK186)*AR189/AV189","v":16.714091890461926},{"$f":"AX189*(AK184-AK186-AV189)*AR189/AV189","v":4.812893836737941},{"$f":"IF(BH189*SQRT(4*ABS(BE189)/3)-BB189/3<=AK184,BH189*SQRT(4*ABS(BE189)/3)-BB189/3,BS189)","v":9.4349756494427756E-2},{"$f":"0.1*(AR189/(AV189*BK189))*AK190^2","v":1.3838776538914203E-3},{"$f":"AK187","v":26.212045712983606},{"$f":"AN184+AW188*AN181","v":2.5267877629252646E-3},{"$f":"AX189*AK188/(AK184*AK185)","v":5.8587551312066041E-2},{"$f":"AX189*AK189/(AK184*AK185)","v":5.8587551312066041E-2},{"$f":"-6*AK184*(0.25-0.5*AY189/(AK184*AN183))","v":-9.0142087016975722E-2},{"$f":"-6*AK184*(AZ189*(0.5*AK184-AK186)-BA189*(0.5*AK184-AK186)-(AZ189+BA189)*AK184*AY189/(AK184*AN183))","v":4.7405969380386421E-3},{"$f":"6*AK184*((AZ189*AK186-BA189*(AK184-AK186))*(0.5*AK184-AK186)-(AZ189*AK186+BA189*(AK184-AK186))*AY189/AN183)","v":-4.8473032099600371E-4},2.0320649874466345E-3,3.9654404771309078E-4,11.247006140210488,1.2353470384123528,{"$f":"AV189/AK184","v":0.62899837662951841},{"$f":"0.5*BI189*(0.5-BI189/3)+AZ189*(0.5-AK186/AK184)*(BI189-AK186/AK184)/BI189+BA189*(0.5-AK186/AK184)*(1-AK186/AK184-BI189)/BI189","v":0.10145213642597106},{"$f":"IF(BH189*SQRT(4*ABS(BE189)/3)-BB189/3<=AK184,AK183*(1-AK182*AR189/AK181),AK183*(1-AK182*AR189/AK181-(1-AK182)*BR189/AK181))","v":7630.0797804932126},{"$f":"(1+AZ189+BA189)*AK184*AK185","v":0.16757626539361978},{"$f":"0.5*(AK184-AK186)*(BA189-AZ189)*AK184*AK185","v":0},{"$f":"AK185*AK184^3/12+(0.5*AK184-AK186)^2*(AZ189+BA189)*AK185*AK184","v":3.0278092510718427E-4},0,3.0278092510718427E-4,{"$f":"AN183/BL189+(AY189+BO189*AN183)*(0.5*AK184+BO189)/BP189","v":0.96132441313829742},{"$f":"AN183/BL189+(AY189+BO189*AN183)*(-0.5*AK184+BO189)/BP189","v":-0.29046568660004485},{"$f":"AN183*BP189/((AY189+AN183*BO189)*BL189)+(0.5*AK184+BO189)","v":0.11519396263070462}]
[null,null,null,null,null,null,null,null,null,null,null,null,null,null,null,null,null,null,null,null,null,null,null,null,null,null,null,null,null,null,null,null,null,null,null,"L",{"$f":"$M$16/1000","v":3},"m","hc",{"$f":"AV190","v":9.4349756494428727E-2},"m",{"$f":"AY190-AN181*AW190","v":2.4490000000000015E-3},{"$f":"AW190/AW189","v":0.99999999999997724},{"$f":"IF(BH190*SQRT(4*ABS(BE190)/3)-BB190/3<=AK184,AY190/(BJ190*AK185*AK184^2),BQ190)","v":1.1069424687195066},{"$f":"IF(BH190*SQRT(4*ABS(BE190)/3)-BB190/3<=AK184,0,BR190)","v":0},{"$f":"AX190*(AV190-AK186)*AR190/AV190","v":16.714091890461845},{"$f":"AX190*(AK184-AK186-AV190)*AR190/AV190","v":4.8128938367375333},{"$f":"IF(BH190*SQRT(4*ABS(BE190)/3)-BB190/3<=AK184,BH190*SQRT(4*ABS(BE190)/3)-BB190/3,BS190)","v":9.4349756494428727E-2},{"$f":"0.1*(AR190/(AV190*BK190))*AK190^2","v":1.3838776538913889E-3},{"$f":"AK187","v":26.212045712983606},{"$f":"AN184+AW189*AN181","v":2.5267877629252364E-3},{"$f":"AX190*AK188/(AK184*AK185)","v":5.8587551312066041E-2},{"$f":"AX190*AK189/(AK184*AK185)","v":5.8587551312066041E-2},{"$f":"-6*AK184*(0.25-0.5*AY190/(AK184*AN183))","v":-9.0142087016977221E-2},{"$f":"-6*AK184*(AZ190*(0.5*AK184-AK186)-BA190*(0.5*AK184-AK186)-(AZ190+BA190)*AK184*AY190/(AK184*AN183))","v":4.7405969380385892E-3},{"$f":"6*AK184*((AZ190*AK186-BA190*(AK184-AK186))*(0.5*AK184-AK186)-(AZ190*AK186+BA190*(AK184-AK186))*AY190/AN183)","v":-4.847303209959998E-4},2.0320649874464914E-3,3.9654404771308877E-4,11.24700614021161,1.2353470384124055,{"$f":"AV190/AK184","v":0.62899837662952485},{"$f":"0.5*BI190*(0.5-BI190/3)+AZ190*(0.5-AK186/AK184)*(BI190-AK186/AK184)/BI190+BA190*(0.5-AK186/AK184)*(1-AK186/AK184-BI190)/BI190","v":0.10145213642597119},{"$f":"IF(BH190*SQRT(4*ABS(BE190)/3)-BB190/3<=AK184,AK183*(1-AK182*AR190/AK181),AK183*(1-AK182*AR190/AK181-(1-AK182)*BR190/AK181))","v":7630.0797804932126},{"$f":"(1+AZ190+BA190)*AK184*AK185","v":0.16757626539361978},{"$f":"0.5*(AK184-AK186)*(BA190-AZ190)*AK184*AK185","v":0},{"$f":"AK185*AK184^3/12+(0.5*AK184-AK186)^2*(AZ190+BA190)*AK185*AK184","v":3.0278092510718427E-4},0,3.0278092510718427E-4,{"$f":"AN183/BL190+(AY190+BO190*AN183)*(0.5*AK184+BO190)/BP190","v":0.96132441313829031},{"$f":"AN183/BL190+(AY190+BO190*AN183)*(-0.5*AK184+BO190)/BP190","v":-0.29046568660003785},{"$f":"AN183*BP190/((AY190+AN183*BO190)*BL190)+(0.5*AK184+BO190)","v":0.11519396263070507}]

{"sheet":"Sheet3","index":2,"n_rows":973,"n_cols":54,"rows_kept":973,"cut":false,"hidden":false,"merged":[[3,18,3,20]]}
[]
[null,"Tilstand:",{"$f":"Kold!$AO$5","v":1}]
[]
[null,"L","h","b","fck","fcd","Ecd","Ac","ac","Esc","fyd_c","At","at","Est","fyd_t","Modenhed","1+f","uterm","Iterationstyring",null,null,"Iterationsfakt."]
[null,"(m)","(m)","(m)","(Mpa)","(Mpa)","(Mpa)","(m2)","(m)","(Mpa)","(Mpa)","(m2)","(m)","(Mpa)","(Mpa)","(døgn)",null,"(m)","Ncr-korr","hc-step","e-skift"]
[null,{"$f":"IF(Kold!$AO$5=1,Kold!M16/1000,BRAND!AN135/1000)","v":3},{"$f":"IF(Kold!$AO$5=1,Kold!M18/1000,BRAND!AS149/1000)","v":0.15},1,{"$f":"IF(Kold!$AO$5=1,Kold!L8,BRAND!L8)","v":20},{"$f":"IF(Kold!$AO$5=1,Kold!L8/Kold!L10,BRAND!L8/BRAND!L10*BRAND!S9)","v":14.285714285714286},{"$f":"1000*22*((E6+8)/10)^0.3/IF(C2=1,Kold!L10,BRAND!L10)","v":21401.393610457362},{"$f":"PI()/4*Kold!N9^2*Kold!N10/1000000","v":3.3527076799110271E-4},{"$f":"IF(Kold!$AO$5=1,Kold!M15/1000,BRAND!AS151/1000)","v":0.04},{"$f":"IF(Kold!$AO$5=1,200000,200000*BRAND!S11)","v":200000},{"$f":"IF(Kold!$AO$5=1,Kold!L9/Kold!L11,BRAND!L9*BRAND!S10)","v":458.33333333333337},{"$f":"PI()/4*Kold!N12^2*Kold!N13/1000000","v":3.3527076799110271E-4},{"$f":"IF(Kold!$AO$5=1,Kold!M15/1000,BRAND!AS152/1000)","v":0.04},{"$f":"IF(Kold!$AO$5=1,200000,200000*BRAND!S13)","v":200000},{"$f":"IF(Kold!$AO$5=1,Kold!L9/Kold!L11,BRAND!L9*BRAND!S12)","v":458.33333333333337},null,{"$f":"IF(Kold!$AO$5=1,Kold!P12,IF(OR(Makro!$B$3=10,BRAND!AQ61=1),BRAND!AH12,0))+1","v":3.634138138124841},{"$f":"IF(Kold!$AO$5=1,0,BRAND!AR146)","v":0},{"$f":"MIN(1,15*C6/B6)","v":0.75},0.1,-0.1,{"$f":"MAX(1,IF(C2=1,0.05,0.08)*B6/C6)","v":1.0000000000000002},null,null,"Checkpunkt",18]
[]
[]
[null,null,null,null,null,null,null,null,null,null,null,null,"N","M","hc","e0","sac","sat",null,null,"hc_0","1/hc_0",null,null,"Test-fakt","hc","e0","a'","b'","N'","tN'","t","Nc","sac","Nac","sat","Nat","Mtot","u","N","Mo","x"]
[null,null,null,null,null,null,null,null,null,null,null,{"$f":"IF($Z$6=29-ROW(),1,0)","v":0},{"$f":"Q955","v":9.9999999999961231E-5},{"$f":"R955","v":1.4592630299794346E-2},{"$f":"C955","v":4.1544915655417694E-2},{"$f":"D955","v":3.8256566053946229E-4},{"$f":"K955","v":10.340089653207192},{"$f":"M955","v":458.16851350986366},1,null,{"$f":"Y51","v":4.1544915655417694E-2},{"$f":"1/U10","v":24.070334100427864},null,null,0.5,{"$f":"$Z$15","v":4.4336691510533544E-2},{"$f":"Y10*$AA$15","v":2.1418126525623516E-4},{"$f":"IF($C$2=1,AA10/($O$31*$O$30),2^(1/3)*$O$30/AA10)","v":3.5206108794300972E-2},{"$f":"IF($C$2=1,-($O$31-2)*AA10/$O$30,3*($O$30/AA10)^2)","v":-0.11908930989529388},{"$f":"IF($C$2=1,0.5*($O$31*AA10*$F$6/$O$30)*(1-AP10^2+(AB10-AC10)*(AC10^2*(1-AP10^2)+2*AC10*(1-AP10)+2*LN((1-AC10)/(1-AC10*AP10)))/(AC10^3)),$F$6*AC10*(LN((1-AB10+AB10^2)/(1+AB10)^2)/(6*AB10)+ATAN((2-AB10)/(AB10*3^0.5))/(AB10*3^0.5)-LN((AP10^2-AB10*AP10+AB10^2)/(AP10+AB10)^2)/(6*AB10)-ATAN((2*AP10-AB10)/(AB10*3^0.5))/(AB10*3^0.5)))","v":2.1791364604625647},{"$f":"IF($C$2=1,($O$31*AA10*$F$6/$O$30)*(1-AP10^3-(AB10-AC10)*(-2*AC10^3*(1-AP10^3)-3*AC10^2*(1-AP10^2)-6*AC10*(1-AP10)-6*LN((1-AC10)/(1-AC10*AP10)))/(2*AC10^4))/3,$F$6*AC10*(LN((1+AB10^3)/(AB10^3+AP10^3)))/3)","v":1.4347620249348536},{"$f":"AE10/AD10","v":0.65840852602241218},{"$f":"AD10*Z10*$D$6","v":9.6615701006884713E-2},{"$f":"MAX(MIN($K$6,$Q$6*$J$6*AA10*(Z10-$I$6)/Z10),-$K$6)","v":15.226782859054378},{"$f":"AH10*$H$6","v":5.1050951831889202E-3},{"$f":"MIN($O$6,$Q$6*$N$6*AA10*(C$6-Z10-$M$6)/Z10)","v":230.55385372643144},{"$f":"AJ10*$L$6","v":7.7297967602169032E-2},{"$f":"(0.5*$C$6-Z10+AF10*Z10)*AG10+(0.5*$C$6-$I$6)*AI10+(0.5*$C$6-$M$6)*AK10","v":8.6670365219900392E-3},{"$f":"0.1*$Q$6*AA10*$B$6^2/Z10+$R$6","v":1.5800183780495518E-2},{"$f":"AG10+AI10-AK10","v":2.4422828587904608E-2},{"$f":"AL10-AM10*AN10","v":8.2811513418616072E-3},{"$f":"IF(Z10<$C$6,0,(Z10-$C$6)/Z10)","v":0}]
[null,null,null,null,null,null,null,null,null,null,null,1,{"$f":"Q956","v":3.2629379559370869E-2},{"$f":"R956","v":1.518375326316997E-2},{"$f":"C956","v":4.4336691510533544E-2},{"$f":"D956","v":4.2836253051247033E-4},{"$f":"K956","v":30.453565718108756},{"$f":"M956","v":458.33333333333337},2,null,{"$f":"Y53","v":4.4336691510533544E-2},{"$f":"1/U11","v":22.554682497281497},null,null,0.6,{"$f":"$Z$15","v":4.4336691510533544E-2},{"$f":"Y11*$AA$15","v":2.5701751830748218E-4},4.2247330553161162E-2,-0.14290717187435265,{"$f":"IF($C$2=1,0.5*($O$31*AA11*$F$6/$O$30)*(1-AP11^2+(AB11-AC11)*(AC11^2*(1-AP11^2)+2*AC11*(1-AP11)+2*LN((1-AC11)/(1-AC11*AP11)))/(AC11^3)),$F$6*AC11*(LN((1-AB11+AB11^2)/(1+AB11)^2)/(6*AB11)+ATAN((2-AB11)/(AB11*3^0.5))/(AB11*3^0.5)-LN((AP11^2-AB11*AP11+AB11^2)/(AP11+AB11)^2)/(6*AB11)-ATAN((2*AP11-AB11)/(AB11*3^0.5))/(AB11*3^0.5)))","v":2.5656237742410597},{"$f":"IF($C$2=1,($O$31*AA11*$F$6/$O$30)*(1-AP11^3-(AB11-AC11)*(-2*AC11^3*(1-AP11^3)-3*AC11^2*(1-AP11^2)-6*AC11*(1-AP11)-6*LN((1-AC11)/(1-AC11*AP11)))/(2*AC11^4))/3,$F$6*AC11*(LN((1+AB11^3)/(AB11^3+AP11^3)))/3)","v":1.6851645221390787},0.65682448808674976,0.11375126981061662,18.272139430865252,6.1261142198267031E-3,276.66462447171767,9.2757561122602819E-2,1.0261517953129309E-2,{"$f":"0.1*$Q$6*AA11*$B$6^2/Z11+$R$6","v":1.8960220536594623E-2},2.7119822907840499E-2,9.7473201298832624E-3,0]
[null,null,null,null,null,null,null,null,null,null,null,0,{"$f":"IF(AND(N11/M11>0.007,Q957>M11),Q957,M11)","v":6.643809279071608E-2},{"$f":"IF(AND(N11/M11>0.007,Q957>M11),R957,N11)","v":1.5652720559219308E-2},{"$f":"IF(AND(N11/M11>0.007,Q957>M11),C957,O11)","v":4.686581864712229E-2},{"$f":"IF(AND(N11/M11>0.007,Q957>M11),D957,P11)","v":4.7696328395726634E-4},{"$f":"IF(AND(N11/M11>0.007,Q957>M11),K957,Q11)","v":50.786992561801682},{"$f":"IF(AND(N11/M11>0.007,Q957>M11),M957,R11)","v":458.33333333333337},3,null,{"$f":"Y55","v":4.686581864712229E-2},{"$f":"1/U12","v":21.337512687648381},null,null,0.7,{"$f":"$Z$15","v":4.4336691510533544E-2},{"$f":"Y12*$AA$15","v":2.9985377135872921E-4},4.928855231202136E-2,-0.16672503385341145,2.9374594762180513,1.9248005039915412,0.65526027493312078,0.1302372346217732,21.317496002676123,7.1471332564644859E-3,322.77539521700396,0.10821715464303662,1.1814916182922536E-2,2.2120257292693724E-2,2.9167213235201064E-2,1.1169729921649028E-2,0]
[null,null,null,null,null,null,null,null,null,null,null,0,{"$f":"IF(AND(N12/M12>0.007,Q958>M12),Q958,M12)","v":9.4834691359391016E-2},{"$f":"IF(AND(N12/M12>0.007,Q958>M12),R958,N12)","v":1.5958723960417701E-2},{"$f":"IF(AND(N12/M12>0.007,Q958>M12),C958,O12)","v":4.9178183027429483E-2},{"$f":"IF(AND(N12/M12>0.007,Q958>M12),D958,P12)","v":5.1138343885028133E-4},{"$f":"IF(AND(N12/M12>0.007,Q958>M12),K958,Q12)","v":69.368502837898973},{"$f":"IF(AND(N12/M12>0.007,Q958>M12),M958,R12)","v":458.33333333333337},4,null,{"$f":"Y57","v":4.9178183027429483E-2},{"$f":"1/U13^(1/3)","v":2.7294543827142581},null,null,0.8,{"$f":"$Z$15","v":4.4336691510533544E-2},{"$f":"Y13*$AA$15","v":3.4269002440997631E-4},5.6329774070881564E-2,-0.19054289583247025,3.2953128400600509,2.1541949570731886,0.65371485550183228,0.14610326882044264,24.362852574487004,8.1681522931022713E-3,368.88616596229036,0.12367674816347046,1.3329173083661295E-2,2.5280294048792833E-2,3.0594672950074453E-2,1.2555730755156765E-2,0]
[null,null,null,null,null,null,null,null,null,null,null,0,0.16043648335628694,1.6137343000308193E-2,5.255221950735349E-2,6.1697554712529133E-4,107.10970946941983,458.33333333333337,5,null,{"$f":"1/V14^3","v":5.255221950735349E-2},{"$f":"V13+($V$28-$V$13)/15","v":2.6697441632537524},null,null,0.9,{"$f":"$Z$15","v":4.4336691510533544E-2},{"$f":"Y14*$AA$15","v":3.8552627746122329E-4},6.3370995829741747E-2,-0.214360757811529,3.6398105827926637,2.3738380687282761,0.65218725390565147,0.16137715896605365,27.408209146297871,9.1891713297400524E-3,414.99693670757648,0.13913634168390421,1.4806104265144622E-2,2.8440330804891934E-2,3.1429988611889503E-2,1.3912224991828499E-2,0]
[null,null,null,null,null,null,null,null,null,null,null,0,0.22296004297027264,1.5956815759555522E-2,5.6242100708700393E-2,7.0133254331032385E-4,147.20958346173595,458.33333333333337,6,null,{"$f":"1/V15^3","v":5.6242100708700393E-2},{"$f":"V14+($V$28-$V$13)/15","v":2.6100339437932467},null,null,1,{"$f":"SUMPRODUCT(L10:L28,O10:O28)","v":4.4336691510533544E-2},{"$f":"SUMPRODUCT(L10:L28,P10:P28)","v":4.2836253051247033E-4},7.0412217588601944E-2,-0.23817861979058777,3.9715403169798402,2.584188132605246,0.65067654520762697,0.17608495785558179,30.453565718108756,1.021019036637784E-2,458.33333333333337,0.15366576866258877,1.6214853650533177E-2,3.1600367560991036E-2,3.2629379559370869E-2,1.518375326316997E-2,0]
[null,null,null,null,null,null,null,null,null,null,null,0,0.28126395607584953,1.5726266064008322E-2,6.0285666570009291E-2,7.6065650728683013E-4,186.03524372539073,455.91886785554243,7,null,6.0285666570009291E-2,2.550323724332741,null,null,{"$f":"MIN(1.1,$O$6/ABS($AJ$15))","v":1},{"$f":"$Z$15","v":4.4336691510533544E-2},{"$f":"Y16*$AA$15","v":4.2836253051247033E-4},7.0412217588601944E-2,-0.23817861979058777,3.9715403169798402,2.584188132605246,0.65067654520762697,0.17608495785558179,30.453565718108756,1.021019036637784E-2,458.33333333333337,0.15366576866258877,1.6214853650533177E-2,3.1600367560991036E-2,3.2629379559370869E-2,1.518375326316997E-2,0]
[null,null,null,null,null,null,null,null,null,null,null,0,0.37255211062345928,1.4215787599301685E-2,6.4726330142402158E-2,8.7819863250649852E-4,243.83882845213955,446.466521890948,8,null,6.4726330142402158E-2,2.4906135048722353,null,null,{"$f":"MIN(1.2,$O$6/ABS($AJ$15))","v":1},{"$f":"$Z$15","v":4.4336691510533544E-2},{"$f":"Y17*$AA$15","v":4.2836253051247033E-4},7.0412217588601944E-2,-0.23817861979058777,3.9715403169798402,2.584188132605246,0.65067654520762697,0.17608495785558179,30.453565718108756,1.021019036637784E-2,458.33333333333337,0.15366576866258877,1.6214853650533177E-2,3.1600367560991036E-2,3.2629379559370869E-2,1.518375326316997E-2,0]
[null,null,null,null,null,null,null,null,null,null,null,0,0.40929762952145332,1.3511971415262091E-2,6.9614059201644651E-2,7.8513563758028236E-4,242.75998367563778,331.06202233800951,9,null,6.9614059201644651E-2,2.4309032854117296,null,null,{"$f":"MIN(1.3,$O$6/ABS($AJ$15))","v":1},{"$f":"$Z$15","v":4.4336691510533544E-2},{"$f":"Y18*$AA$15","v":4.2836253051247033E-4},7.0412217588601944E-2,-0.23817861979058777,3.9715403169798402,2.584188132605246,0.65067654520762697,0.17608495785558179,30.453565718108756,1.021019036637784E-2,458.33333333333337,0.15366576866258877,1.6214853650533177E-2,3.1600367560991036E-2,3.2629379559370869E-2,1.518375326316997E-2,0]
[null,null,null,null,null,null,null,null,null,null,null,0,0.43872337557730245,1.320641488207086E-2,7.5006560532026839E-2,7.0629923370310133E-4,239.59091908357632,239.50111626524173,10,null,7.5006560532026839E-2,2.3711930659512239,null,null,{"$f":"MIN(1.5,$O$6/ABS($AJ$15))","v":1},{"$f":"$Z$15","v":4.4336691510533544E-2},{"$f":"Y19*$AA$15","v":4.2836253051247033E-4},7.0412217588601944E-2,-0.23817861979058777,3.9715403169798402,2.584188132605246,0.65067654520762697,0.17608495785558179,30.453565718108756,1.021019036637784E-2,458.33333333333337,0.15366576866258877,1.6214853650533177E-2,3.1600367560991036E-2,3.2629379559370869E-2,1.518375326316997E-2,0]
[null,null,null,null,null,null,null,null,null,null,null,0,0.45401222980350781,1.3101822519610264E-2,8.0970715199564836E-2,6.2273731719713515E-4,229.02447078312059,162.27240740729769,11,null,8.0970715199564836E-2,2.3114828464907182,null,null,{"$f":"MIN(2,$O$6/ABS($AJ$15))","v":1},{"$f":"$Z$15","v":4.4336691510533544E-2},{"$f":"Y20*$AA$15","v":4.2836253051247033E-4},7.0412217588601944E-2,-0.23817861979058777,3.9715403169798402,2.584188132605246,0.65067654520762697,0.17608495785558179,30.453565718108756,1.021019036637784E-2,458.33333333333337,0.15366576866258877,1.6214853650533177E-2,3.1600367560991036E-2,3.2629379559370869E-2,1.518375326316997E-2,0]
[null,null,null,null,null,null,null,null,null,null,null,0,0.48615262156283745,1.2928269277499157E-2,8.758432627758074E-2,5.8481020354910558E-4,230.93188448778943,108.78569015740366,12,null,8.758432627758074E-2,2.2517726270302125]
[null,null,null,null,null,null,null,null,null,null,null,0,0.53130694956371682,1.272411883741213E-2,9.4938257676883894E-2,5.6969411472841528E-4,239.61101827654974,65.691188029419052,13,null,9.4938257676883894E-2,2.1920624075697068]
[null,null,null,null,null,null,null,null,null,null,null,0,0.60324343691634685,1.2354297000115573E-2,0.10313906536129758,5.8629879599349385E-4,260.87074990002941,28.347222974740028,14,null,0.10313906536129758,2.1323521881092011,null,null,"Lastpunkter","hc","e0","a'","b'","N'","tN'","t","Nc","sac","Nac","sat","Nat","Mtot","u","N","Mo","x"]
[null,null,null,null,null,null,null,null,null,null,null,0,0.68189283255758093,1.1736459729850105E-2,0.11231225223019801,6.0290347725857241E-4,282.13954885926086,-9.0216772532560192,15,null,0.11231225223019801,2.0726419686486954,null,null,2.9099999999999997E-2,{"$f":"Z25+(Z28-Z27)*(Y24-AN25)/(Y28-Y27)","v":4.4042049432813347E-2},{"$f":"AA25+(AA28-AA27)*(Y24-AN25)/(Y28-Y27)","v":4.2352916077857791E-4},{"$f":"IF($C$2=1,AA24/($O$31*$O$30),2^(1/3)*$O$30/AA24)","v":6.9617731009717826E-2},{"$f":"IF($C$2=1,-($O$31-2)*AA24/$O$30,3*($O$30/AA24)^2)","v":-0.23549116407222964},{"$f":"IF($C$2=1,0.5*($O$31*AA24*$F$6/$O$30)*(1-AP24^2+(AB24-AC24)*(AC24^2*(1-AP24^2)+2*AC24*(1-AP24)+2*LN((1-AC24)/(1-AC24*AP24)))/(AC24^3)),$F$6*AC24*(LN((1-AB24+AB24^2)/(1+AB24)^2)/(6*AB24)+ATAN((2-AB24)/(AB24*3^0.5))/(AB24*3^0.5)-LN((AP24^2-AB24*AP24+AB24^2)/(AP24+AB24)^2)/(6*AB24)-ATAN((2*AP24-AB24)/(AB24*3^0.5))/(AB24*3^0.5)))","v":3.9347314329682312},{"$f":"IF($C$2=1,($O$31*AA24*$F$6/$O$30)*(1-AP24^3-(AB24-AC24)*(-2*AC24^3*(1-AP24^3)-3*AC24^2*(1-AP24^2)-6*AC24*(1-AP24)-6*LN((1-AC24)/(1-AC24*AP24)))/(2*AC24^4))/3,$F$6*AC24*(LN((1+AB24^3)/(AB24^3+AP24^3)))/3)","v":2.5609049479373223},{"$f":"AE24/AD24","v":0.65084618647160375},{"$f":"AD24*Z24*$D$6","v":0.17329363627563135},{"$f":"MAX(MIN($K$6,$Q$6*$J$6*AA24*(Z24-$I$6)/Z24),-$K$6)","v":28.251977073994535},{"$f":"AH24*$H$6","v":9.4720620508651748E-3},{"$f":"MIN($O$6,$Q$6*$N$6*AA24*(C$6-Z24-$M$6)/Z24)","v":458.33333333333337},{"$f":"AJ24*$L$6","v":0.15366576866258877},{"$f":"(0.5*$C$6-Z24+AF24*Z24)*AG24+(0.5*$C$6-$I$6)*AI24+(0.5*$C$6-$M$6)*AK24","v":1.6042032652531311E-2},{"$f":"0.1*$Q$6*AA24*$B$6^2/Z24+$R$6","v":3.1452830784527964E-2},{"$f":"AG24+AI24-AK24","v":2.9099929663907759E-2},{"$f":"AL24-AM24*AN24","v":1.5126757488970756E-2},{"$f":"IF(Z24<$C$6,0,(Z24-$C$6)/Z24)","v":0}]
[null,null,null,null,null,null,null,null,null,null,null,0,0.8026271635039729,1.0353083040728243E-2,0.12260631802291558,6.5503817351550279E-4,320.77347697106751,-48.952338765321734,16,null,0.12260631802291558,2.0129317491881897,null,null,1,{"$f":"Z27+(Z28-Z27)*(Y24*Y24/AN26-Y27)/(Y28-Y27)","v":4.4042290468400837E-2},{"$f":"AA27+(AA28-AA27)*(Y24*Y24/AN26-Y27)/(Y28-Y27)","v":4.2353311477633131E-4},6.961838094926745E-2,-0.23549336257854259,3.9347616086906543,2.5609240413071652,0.65084604761083553,0.17329591369386593,28.253770939357409,9.4726634814830575E-3,458.33333333333337,0.15366576866258877,1.6042173843929548E-2,3.1452952285590398E-2,2.9102808512760231E-2,1.5126804596401026E-2,0]
[null,null,null,null,null,null,null,null,null,null,null,0,0.99852543165100716,6.8714404032500266E-3,0.13419782954979564,7.6828651346512759E-4,391.96748376935693,-100.68981850902709,17,null,0.13419782954979564,1.953221529727684,null,null,{"$f":"VLOOKUP(Y24,Resultat,7)","v":1},{"$f":"Z27+(Z28-Z27)*(Y24-Y27)/(Y28-Y27)","v":4.4033788818540684E-2},{"$f":"AA27+(AA28-AA27)*(Y24-Y27)/(Y28-Y27)","v":4.2339365194929657E-4},6.9595456705844619E-2,-0.23541581829936511,3.9336972071022847,2.5602505465548311,0.65085094550040667,0.1732155920936253,28.190506037776395,9.4514526093431098E-3,458.33333333333337,0.15366576866258877,1.603719402035822E-2,3.1448665975500265E-2,2.9001276040379637E-2,1.5125142577301041E-2,0]
[null,null,null,null,null,null,null,null,null,null,null,0,0.99852543165100716,6.8714404032500266E-3,0.13419782954979564,7.6828651346512759E-4,391.96748376935693,-100.68981850902709,18,null,0.14729780979304705,1.8935113102671783,null,null,{"$f":"INDEX(Resultat,Y26,1)","v":9.9999999999961231E-5},{"$f":"INDEX(Resultat,Y26,3)","v":4.1544915655417694E-2},{"$f":"INDEX(Resultat,Y26,4)","v":3.8256566053946229E-4},6.28843435479884E-2,-0.21271459223465167,3.6164179713546631,2.3589615237756383,0.65229227994683425,0.15024377959466625,10.340089653207192,3.4667297991276304E-3,458.16851350986366,0.15361050939379392,1.4595642140814678E-2,3.011841020334027E-2,9.9999999999961231E-5,1.4592630299794346E-2,0]
[null,null,null,null,null,null,null,null,null,null,null,0,0.99852543165100716,6.8714404032500266E-3,0.13419782954979564,7.6828651346512759E-4,391.96748376935693,-100.68981850902709,19,null,{"$f":"Y82","v":0.16215984472146291},{"$f":"1/U28^(1/3)","v":1.8338010908066735},null,null,{"$f":"INDEX(Resultat,Y26+1,1)","v":3.2629379559370869E-2},{"$f":"INDEX(Resultat,Y26+1,3)","v":4.4336691510533544E-2},{"$f":"INDEX(Resultat,Y26+1,4)","v":4.2836253051247033E-4},7.0412217588601944E-2,-0.23817861979058777,3.9715403169798402,2.584188132605246,0.65067654520762697,0.17608495785558179,30.453565718108756,1.021019036637784E-2,458.33333333333337,0.15366576866258877,1.6214853650533177E-2,3.1600367560991036E-2,3.2629379559370869E-2,1.518375326316997E-2,0]
[null,null,null,null,null,null,null,null,null,null,null,null,"   emax",null,{"$f":"IF(C2=1,0.0028,Firsidig!G21)","v":2.8E-3}," Konv.krit:",{"$f":"IF(Y81<0.6*C6,1.003,1.001)","v":1.0009999999999999},null,null,null,"N_max",{"$f":"AP82","v":1.2639530444305538},null,null,5.62E-2,{"$f":"Z30+(Z33-Z32)*(Y29-AN30)/(Y33-Y32)","v":4.6113036616976751E-2},{"$f":"AA30+(AA33-AA32)*(Y29-AN30)/(Y33-Y32)","v":4.6249751301380844E-4},7.6023165428488623E-2,-0.25715839145506553,4.2271144702014674,2.74544410894269,0.64948421158129654,0.19492508434855255,44.562967555366853,1.4940660356250439E-2,458.33333333333337,0.15366576866258877,1.736996448919469E-2,3.2804212793727076E-2,5.6199976042214217E-2,1.552636851610353E-2,0]
[null,null,null,null,null,null,null,null,null,null,null,null,"e1",null,{"$f":"IF(C2=1,0.7*(E6+8)^0.31/1000,Firsidig!F21)","v":1.9666045051940388E-3}," Vælg checkpunkt:",null,null,null,null,"e",{"$f":"Z82","v":8.2351563655000447E-4},null,null,1,{"$f":"Z32+(Z33-Z32)*(Y29*Y29/AN31-Y32)/(Y33-Y32)","v":4.6113212205281563E-2},{"$f":"AA32+(AA33-AA32)*(Y29*Y29/AN31-Y32)/(Y33-Y32)","v":4.6250088719132075E-4},7.6023720059914715E-2,-0.25716026756907079,4.2271393586085164,2.7454597774249394,0.64948409420991648,0.19492697426481231,44.564402993004634,1.494114161652966E-2,458.33333333333337,0.15366576866258877,1.7370079477565959E-2,3.2804327207104439E-2,5.6202347218753196E-2,1.5526399289594683E-2,0]
[null,null,null,null,null,null,null,null,null,null,null,null,"k",null,{"$f":"1.05*G6*O30/F6","v":3.0934736662440927}," Stepmax:",{"$f":"IF(Y81<0.6*C6,0.025,0.06)*0.5*(0.0024+O30)/(0.0024*V6)","v":5.4582556314925479E-2},null,null,null,null,null,null,null,{"$f":"VLOOKUP(Y29,Resultat,7)","v":2},{"$f":"Z32+(Z33-Z32)*(Y29-Y32)/(Y33-Y32)","v":4.6099938025557938E-2},{"$f":"AA32+(AA33-AA32)*(Y29-Y32)/(Y33-Y32)","v":4.6224580506176038E-4},7.5981790859459011E-2,-0.2570184365142415,4.225257630578799,2.7442751171758588,0.64949296755661567,0.19478411491169842,44.455908173808822,1.4904766475174825E-2,458.33333333333337,0.15366576866258877,1.7361386963282946E-2,3.2795675291117696E-2,5.602311272428448E-2,1.5524071149579629E-2,0]
[null,null,null,null,null,null,null,null,null,null,null,null,null,null,null,null,null,null,null,null,null,null,null,null,{"$f":"INDEX(Resultat,Y31,1)","v":3.2629379559370869E-2},{"$f":"INDEX(Resultat,Y31,3)","v":4.4336691510533544E-2},{"$f":"INDEX(Resultat,Y31,4)","v":4.2836253051247033E-4},7.0412217588601944E-2,-0.23817861979058777,3.9715403169798402,2.584188132605246,0.65067654520762697,0.17608495785558179,30.453565718108756,1.021019036637784E-2,458.33333333333337,0.15366576866258877,1.6214853650533177E-2,3.1600367560991036E-2,3.2629379559370869E-2,1.518375326316997E-2,0]
[null,null,null,null,null,null,null,null,null,null,null,null,null,null,null,null,null,null,null,null,null,null,null,null,{"$f":"INDEX(Resultat,Y31+1,1)","v":6.643809279071608E-2},{"$f":"INDEX(Resultat,Y31+1,3)","v":4.686581864712229E-2},{"$f":"INDEX(Resultat,Y31+1,4)","v":4.7696328395726634E-4},7.8400980803794859E-2,-0.26520166581288029,4.3331467008444271,2.8121337206210515,0.6489818865521062,0.20307646745315119,50.786992561801682,1.702739400015367E-2,458.33333333333337,0.15366576866258877,1.7864235302051154E-2,3.3286848702870631E-2,6.643809279071608E-2,1.5652720559219308E-2,0]
[null,"hc/hcm","hc","e0","a'","b'","N'","tN'","t","Nc","sac","Nac","sat","Nat","Mtot","u","N","Mo","a''","b''","c''",null,"x",null,0.35919999999999996,{"$f":"Z35+(Z38-Z37)*(Y34-AN35)/(Y38-Y37)","v":6.4095956187670416E-2},{"$f":"AA35+(AA38-AA37)*(Y34-AN35)/(Y38-Y37)","v":8.6151295183864982E-4},0.14161144614513807,-0.47901940805878024,6.718504015712031,4.2741151343434405,0.63617066006776324,0.43062893903776611,235.40016996552953,7.8922795769579196E-2,448.449508762665,0.15035201120809144,3.0279526364539951E-2,4.3961765061098224E-2,0.35919972359925384,1.4488472505658136E-2,0]
[null,{"$f":"C35/$Y$81","v":0.25604558774484804},{"$f":"U10","v":4.1544915655417694E-2},{"$f":"Z51","v":3.8256566053946229E-4},{"$f":"IF($C$2=1,D35/($O$31*$O$30),2^(1/3)*$O$30/D35)","v":6.28843435479884E-2},{"$f":"IF($C$2=1,-($O$31-2)*D35/$O$30,3*($O$30/D35)^2)","v":-0.21271459223465167},{"$f":"IF($C$2=1,0.5*($O$31*D35*$F$6/$O$30)*(1-W35^2+(E35-F35)*(F35^2*(1-W35^2)+2*F35*(1-W35)+2*LN((1-F35)/(1-F35*W35)))/(F35^3)),$F$6*F35*(LN((1-E35+E35^2)/(1+E35)^2)/(6*E35)+ATAN((2-E35)/(E35*3^0.5))/(E35*3^0.5)-LN((W35^2-E35*W35+E35^2)/(W35+E35)^2)/(6*E35)-ATAN((2*W35-E35)/(E35*3^0.5))/(E35*3^0.5)))","v":3.6164179713546631},{"$f":"IF($C$2=1,($O$31*D35*$F$6/$O$30)*(1-W35^3-(E35-F35)*(-2*F35^3*(1-W35^3)-3*F35^2*(1-W35^2)-6*F35*(1-W35)-6*LN((1-F35)/(1-F35*W35)))/(2*F35^4))/3,$F$6*F35*(LN((1+E35^3)/(E35^3+W35^3)))/3)","v":2.3589615237756383},{"$f":"H35/G35","v":0.65229227994683425},{"$f":"G35*C35*$D$6","v":0.15024377959466625},{"$f":"MAX(MIN($K$6,$Q$6*$J$6*D35*(C35-$I$6)/C35),-$K$6)","v":10.340089653207192},{"$f":"K35*$H$6","v":3.4667297991276304E-3},{"$f":"MIN($O$6,$Q$6*$N$6*D35*(C$6-C35-$M$6)/C35)","v":458.16851350986366},{"$f":"M35*$L$6","v":0.15361050939379392},{"$f":"(0.5*$C$6-C35+I35*C35)*J35+(0.5*$C$6-$I$6)*L35+(0.5*$C$6-$M$6)*N35","v":1.4595642140814678E-2},{"$f":"0.1*$Q$6*D35*$B$6^2/C35+$R$6","v":3.011841020334027E-2},{"$f":"(J35+L35-N35)","v":9.9999999999961231E-5},{"$f":"O35-P35*Q35","v":1.4592630299794346E-2},null,null,null,null,{"$f":"IF(C35<$C$6,0,(C35-$C$6)/C35)","v":0},null,1,{"$f":"Z37+(Z38-Z37)*(Y34*Y34/AN36-Y37)/(Y38-Y37)","v":6.4096479987503133E-2},{"$f":"AA37+(AA38-AA37)*(Y34*Y34/AN36-Y37)/(Y38-Y37)","v":8.61526816556056E-4},0.1416137251621605,-0.47902711713466894,6.7185767138431016,4.2741583859886214,0.63617021402495155,0.43063711788334891,235.40715182160912,7.8925136581829008E-2,448.44794386285122,0.15035148654292904,3.0279918232566896E-2,4.3962113294001029E-2,0.35921076792224882,1.4488253756743882E-2,0]
[null,{"$f":"C36/$Y$81","v":0.27325158945162475},{"$f":"U11","v":4.4336691510533544E-2},{"$f":"Z53","v":4.2624746901414679E-4},7.0064553729545315E-2,{"$f":"IF($C$2=1,-($O$31-2)*D36/$O$30,3*($O$30/D36)^2)","v":-0.23700260089873876},{"$f":"IF($C$2=1,0.5*($O$31*D36*$F$6/$O$30)*(1-W36^2+(E36-F36)*(F36^2*(1-W36^2)+2*F36*(1-W36)+2*LN((1-F36)/(1-F36*W36)))/(F36^3)),$F$6*F36*(LN((1-E36+E36^2)/(1+E36)^2)/(6*E36)+ATAN((2-E36)/(E36*3^0.5))/(E36*3^0.5)-LN((W36^2-E36*W36+E36^2)/(W36+E36)^2)/(6*E36)-ATAN((2*W36-E36)/(E36*3^0.5))/(E36*3^0.5)))","v":3.9554520896922849},{"$f":"IF($C$2=1,($O$31*D36*$F$6/$O$30)*(1-W36^3-(E36-F36)*(-2*F36^3*(1-W36^3)-3*F36^2*(1-W36^2)-6*F36*(1-W36)-6*LN((1-F36)/(1-F36*W36)))/(2*F36^4))/3,$F$6*F36*(LN((1+E36^3)/(E36^3+W36^3)))/3)","v":2.5740134310737615},{"$f":"H36/G36","v":0.6507507543275558},{"$f":"G36*C36*$D$6","v":0.1753716590853821},{"$f":"MAX(MIN($K$6,$Q$6*$J$6*D36*(C36-$I$6)/C36),-$K$6)","v":30.303199708598122},1.0159777038889452E-2,{"$f":"MIN($O$6,$Q$6*$N$6*D36*(C$6-C36-$M$6)/C36)","v":458.33333333333337},0.15366576866258877,{"$f":"(0.5*$C$6-C36+I36*C36)*J36+(0.5*$C$6-$I$6)*L36+(0.5*$C$6-$M$6)*N36","v":1.6171216243518981E-2},{"$f":"0.1*$Q$6*D36*$B$6^2/C36+$R$6","v":3.1444339159811402E-2},{"$f":"(J36+L36-N36)","v":3.186566746168279E-2},{"$f":"O36-P36*Q36","v":1.5169221388300061E-2},{"$f":"((R36-R35)*(Q36-Q37)-(R36-R37)*(Q36-Q35))/((Q36^2-Q35^2)*(Q36-Q37)-(Q36^2-Q37^2)*(Q36-Q35))","v":-6.1380869160420813E-2},{"$f":"-(S36*(Q36^2-Q35^2)-(R36-R35))/(Q36-Q35)","v":2.0113472649381573E-2},{"$f":"R36-S36*Q36^2-T36*Q36","v":1.4590619566338101E-2},{"$f":"S36*Q35^2+T36*Q35+U36","v":1.4592630299794346E-2},{"$f":"IF(C36<$C$6,0,(C36-$C$6)/C36)","v":0},null,{"$f":"VLOOKUP(Y34,Resultat,7)","v":7},{"$f":"Z37+(Z38-Z37)*(Y34-Y37)/(Y38-Y37)","v":6.407682384496427E-2},{"$f":"AA37+(AA38-AA37)*(Y34-Y37)/(Y38-Y37)","v":8.6100652837615369E-4},0.14152820263877774,-0.47873782591110131,6.7158480552995261,4.2725349104980337,0.63618695290858229,0.4303302128089736,235.14518497332966,7.8837306755418141E-2,448.50657300453008,0.15037114318028638,3.0265210444208074E-2,4.3949041584290992E-2,0.35879637638410539,1.4496453578210104E-2,0]
[null,0.2888388600948103,4.686581864712229E-2,{"$f":"Z55","v":4.7227636553579981E-4},7.7630567202685727E-2,-0.26259564011926867,4.298938348582662,2.7906319718678154,0.64914445046365288,0.20147326501983442,50.287930057380223,1.6860072931020726E-2,458.33333333333337,0.15366576866258877,1.7766047729071421E-2,{"$f":"0.1*$Q$6*D37*$B$6^2/C37+$R$6","v":3.2959752782439088E-2},6.4667569288266391E-2,{"$f":"O37-P37*Q37","v":1.5634620632288911E-2},-6.0368133752833335E-2,2.0015710022515874E-2,1.4592706485135916E-2,1.5169221388300059E-2,0,null,{"$f":"INDEX(Resultat,Y36,1)","v":0.28126395607584953},{"$f":"INDEX(Resultat,Y36,3)","v":6.0285666570009291E-2},{"$f":"INDEX(Resultat,Y36,4)","v":7.6065650728683013E-4},0.12503313825602461,-0.4229410934321487,6.1664416627869469,3.9430807490839279,0.63944183123948306,0.37174804600618755,186.03524372539073,6.2372179037223724E-2,455.91886785554243,0.15285626896756177,2.7333601616734718E-2,4.1268478601631416E-2,0.28126395607584953,1.5726266064008322E-2,0]
[null,0.30309019957872607,4.9178183027429483E-2,{"$f":"Z57","v":5.170664866260995E-4},8.4992956598081745E-2,-0.28749989402023007,4.6202223690862176,2.992047645345846,0.64759819037402955,0.22721414129434586,70.139400926916238,2.3515690815203067E-2,458.33333333333337,0.15366576866258877,1.9304681389924205E-2,3.438886577308977E-2,9.7064063446960142E-2,1.5966758340656022E-2,-0.25812810791558144,5.1999753533533345E-2,1.3351387487030611E-2,1.5634620632288911E-2,0,null,{"$f":"INDEX(Resultat,Y36+1,1)","v":0.37255211062345928},{"$f":"INDEX(Resultat,Y36+1,3)","v":6.4726330142402158E-2},{"$f":"INDEX(Resultat,Y36+1,4)","v":8.7819863250649852E-4},0.14435415983765673,-0.48829699913795377,6.8053796971009088,4.3257344635079829,0.6356345503177061,0.44048725301895425,243.83882845213955,8.175203128119958E-2,446.466521890948,0.1496871736766946,3.0748447865050644E-2,4.4376772522055637E-2,0.37255211062345928,1.4215787599301685E-2,0]
[null,0.32388473339701879,5.255221950735349E-2,{"$f":"D38+($D$53-$D$38)/15","v":5.3749642995435981E-4},8.8351134572311432E-2,-0.29885937426819564,4.7626781399389033,3.080967713152889,0.64689815742879742,0.25028930705294328,93.311779893880768,3.1284712107638141E-2,427.06030161290801,0.14318083530027162,2.0233552339151448E-2,3.3452490954007846E-2,0.13839318386030983,1.5603955607968088E-2,-2.0074544326895101E-2,-4.0516832607448861E-3,1.6549162144338263E-2,1.5966758340656022E-2,0,null,0.35919999999999996,{"$f":"Z40+(Z43-Z42)*(Y39-AN40)/(Y43-Y42)","v":6.4095956187670416E-2},{"$f":"AA40+(AA43-AA42)*(Y39-AN40)/(Y43-Y42)","v":8.6151295183864982E-4},0.14161144614513807,-0.47901940805878024,6.718504015712031,4.2741151343434405,0.63617066006776324,0.43062893903776611,235.40016996552953,7.8922795769579196E-2,448.449508762665,0.15035201120809144,3.0279526364539951E-2,4.3961765061098224E-2,0.35919972359925384,1.4488472505658136E-2,0]
[null,0.34662585071553065,5.6242100708700393E-2,{"$f":"D39+($D$53-$D$38)/15","v":5.5792637328262013E-4},9.1709312546541119E-2,-0.31021885451616127,4.9026424248867828,3.1680939145940994,0.6462013012640343,0.27573490899922953,117.10865237421316,3.9263107819905524E-2,387.60473496512992,0.12995253716874694,2.1115987187158416E-2,3.2445860614672056E-2,0.18504547965038814,1.5112027347046787E-2,1.2963804102197996E-2,-1.4737562521251529E-2,1.7395242302424362E-2,1.560395560796809E-2,0,null,1,{"$f":"Z42+(Z43-Z42)*(Y39*Y39/AN41-Y42)/(Y43-Y42)","v":6.4096479987503133E-2},{"$f":"AA42+(AA43-AA42)*(Y39*Y39/AN41-Y42)/(Y43-Y42)","v":8.61526816556056E-4},0.1416137251621605,-0.47902711713466894,6.7185767138431016,4.2741583859886214,0.63617021402495155,0.43063711788334891,235.40715182160912,7.8925136581829008E-2,448.44794386285122,0.15035148654292904,3.0279918232566896E-2,4.3962113294001029E-2,0.35921076792224882,1.4488253756743882E-2,0]
[null,0.37154676296701156,6.0285666570009291E-2,5.7835631661088045E-4,9.506749052077082E-2,-0.32157833476412689,5.0401642138920018,3.2534640078303778,0.64550754097713448,0.3038496592567862,141.44973097594541,4.7423959936440087E-2,346.65260148350222,0.11622248392548747,2.2022835370898781E-2,3.1378007086678775E-2,0.23505113526773885,1.464739918273578E-2,1.1163283889497418E-2,-1.3981170074804346E-2,1.7316928405572501E-2,{"$f":"S41*Q40^2+T41*Q40+U41","v":1.5112027347046786E-2},0,null,{"$f":"VLOOKUP(Y39,Resultat,7)","v":7},{"$f":"Z42+(Z43-Z42)*(Y39-Y42)/(Y43-Y42)","v":6.407682384496427E-2},{"$f":"AA42+(AA43-AA42)*(Y39-Y42)/(Y43-Y42)","v":8.6100652837615369E-4},0.14152820263877774,-0.47873782591110131,6.7158480552995261,4.2725349104980337,0.63618695290858229,0.4303302128089736,235.14518497332966,7.8837306755418141E-2,448.50657300453008,0.15037114318028638,3.0265210444208074E-2,4.3949041584290992E-2,0.35879637638410539,1.4496453578210104E-2,0]
[null,0.39891502925020944,6.4726330142402158E-2,5.9878625993914076E-4,9.8425668495000507E-2,-0.33293781501209246,5.1752911440282556,3.3371146614381964,0.64481679746440501,0.33497760317142306,166.25776300752548,5.5741367888015814E-2,304.41634606979306,0.10206190213586483,2.294539833368079E-2,3.0257621297827626E-2,0.28865706892357401,1.4211322057250361E-2,8.6770373010980461E-3,-1.2679102338816936E-2,1.7148238633774533E-2,{"$f":"S42*Q41^2+T42*Q41+U42","v":1.464739918273578E-2},0,null,{"$f":"INDEX(Resultat,Y41,1)","v":0.28126395607584953},{"$f":"INDEX(Resultat,Y41,3)","v":6.0285666570009291E-2},{"$f":"INDEX(Resultat,Y41,4)","v":7.6065650728683013E-4},0.12503313825602461,-0.4229410934321487,6.1664416627869469,3.9430807490839279,0.63944183123948306,0.37174804600618755,186.03524372539073,6.2372179037223724E-2,455.91886785554243,0.15285626896756177,2.7333601616734718E-2,4.1268478601631416E-2,0.28126395607584953,1.5726266064008322E-2,0]
[null,0.42903860610595196,6.9614059201644651E-2,6.1921620326740108E-4,0.10178384646923019,-0.34429729526005809,5.3080695476042639,3.4190814943808672,0.64412899335955953,0.36951626773337037,191.45853047781691,6.4190448551745619E-2,261.10006819962757,8.7539220387818431E-2,2.3870000924784224E-2,2.9093052772121437E-2,0.34616749589729756,1.3798931698651014E-2,5.6428891130256321E-3,-1.0752950535721829E-2,1.684505533648728E-2,1.4211322057250359E-2,0,null,{"$f":"INDEX(Resultat,Y41+1,1)","v":0.37255211062345928},{"$f":"INDEX(Resultat,Y41+1,3)","v":6.4726330142402158E-2},{"$f":"INDEX(Resultat,Y41+1,4)","v":8.7819863250649852E-4},0.14435415983765673,-0.48829699913795377,6.8053796971009088,4.3257344635079829,0.6356345503177061,0.44048725301895425,243.83882845213955,8.175203128119958E-2,446.466521890948,0.1496871736766946,3.0748447865050644E-2,4.4376772522055637E-2,0.37255211062345928,1.4215787599301685E-2,0]
[null,0.46227314638049766,7.5006560532026839E-2,6.396461465956614E-4,0.10514202444345989,-0.35565677550802366,5.4385444981949913,3.4993991142033187,0.64344405297497165,0.40792651710998412,216.9808500960994,7.2747336251081582E-2,216.89952192248666,7.2720069291855122E-2,2.4776246835027032E-2,2.789230962976625E-2,0.40795378406921057,1.3397473575133809E-2,2.1827841706598908E-3,-8.1436117677665364E-3,1.6356418140529919E-2,1.3798931698651014E-2,0]
[null,0.49903084496188355,8.0970715199564836E-2,6.6007608992392172E-4,0.10850020241768958,-0.36701625575598928,5.5667598546885371,3.5781011535397274,0.64276190224482455,0.45074452677835647,242.75657327206847,8.138918275581479E-2,172.00211586170775,5.7667281481049389E-2,2.5634658783614744E-2,2.6663058587171332E-2,0.47446642805312189,1.2983932614788442E-2,-1.5901488073508366E-3,-4.8142994489869658E-3,1.562612781944453E-2,1.3397473575133809E-2,0]
[null,0.53979121019241427,8.758432627758074E-2,6.8050603325218203E-4,0.11185838039191927,-0.37837573600395491,5.6927583034488194,3.6552203050253795,0.64208246867093466,0.49859640066866839,268.72058611583543,9.0094157282075399E-2,126.5869132144846,4.2440891611043322E-2,2.6403473823111534E-2,2.541262495694915E-2,0.5462496663397004,1.2521835919562118E-2,-5.5679987113655526E-3,-7.540440308802022E-4,1.4595160105653588E-2,1.2983932614788442E-2,0,null,"hc","e0","a'","b'","N'","tN'","t'","Nc","sac","Nac","sat","Nat","Mtot","N","u","Mo",null,"N","A","B1","B2","B3","C1","C2","x"]
[null,0.58511424569903048,9.4938257676883894E-2,7.0093597658044235E-4,0.11521655836614897,-0.38973521625192048,5.8165813986899773,3.730788354691386,0.64140568127038367,0.55221610362739881,294.8108094379275,9.8841446492332591E-2,80.824631751867486,2.7098136360046678E-2,2.7024271523053485E-2,2.4147992647915395E-2,0.62395941375968478,1.1956904186987017E-2,-9.6470106712251546E-3,4.0192528023814929E-3,1.3204879370876031E-2,1.2521835919562118E-2,0,null,null,null,null,null,null,null,null,null,null,null,null,null,null,null,null,null,null,null,null,null,null,null,null,null,0]
[null,0.63565666684519895,0.10313906536129758,7.2136591990870267E-4,0.11857473634037866,-0.40109469649988611,5.9382696011514655,3.8048362139212291,0.64073147052526025,0.61246757652616746,320.96819874928775,0.1076112544953946,34.877643818762635,1.1693454428836686E-2,2.7415979530775365E-2,2.2875804165088956E-2,0.70838537659272527,1.121109438242739E-2,-1.3728373612302542E-2,9.457035454463341E-3,1.140090175072133E-2,1.1956904186987017E-2,0,null,{"$f":"0.5*(-(AR48+AS48+AT48)+SQRT(MAX((AR48+AS48+AT48)^2+4*AQ48*(AU48+AV48),0)))/AQ48","v":3.9953122316638646E-2},{"$f":"0.05*O30","v":9.8330225259701939E-5},{"$f":"IF($C$2=1,Z48/($O$31*$O$30),2^(1/3)*$O$30/Z48)","v":1.6163059846152482E-2},{"$f":"IF($C$2=1,-($O$31-2)*Z48/$O$30,3*($O$30/Z48)^2)","v":-5.4673683312204638E-2},{"$f":"IF($C$2=1,0.5*($O$31*Z48*$F$6/$O$30)*(1-AW47^2+(AA48-AB48)*(AB48^2*(1-AW47^2)+2*AB48*(1-AW47)+2*LN((1-AB48)/(1-AB48*AW47)))/(AB48^3)),$F$6*AB48*(LN((1-AA48+AA48^2)/(1+AA48)^2)/(6*AA48)+ATAN((2-AA48)/(AA48*3^0.5))/(AA48*3^0.5)-LN((AW47^2-AA48*AW47+AA48^2)/(AW47+AA48)^2)/(6*AA48)-ATAN((2*AW47-AA48)/(AA48*3^0.5))/(AA48*3^0.5)))","v":1.0546877466016928},{"$f":"IF($C$2=1,($O$31*Z48*$F$6/$O$30)*(1-AW47^3-(AA48-AB48)*(-2*AB48^3*(1-AW47^3)-3*AB48^2*(1-AW47^2)-6*AB48*(1-AW47)-6*LN((1-AB48)/(1-AB48*AW47)))/(2*AB48^4))/3,$F$6*AB48*(LN((1+AA48^3)/(AA48^3+AW47^3)))/3)","v":0.69904774722970275},{"$f":"AD48/AC48","v":0.66280067203027915},{"$f":"AC48*Y48*$D$6","v":4.2138068545837418E-2},{"$f":"MAX(MIN($K$6,$Q$6*$J$6*Z48*(Y48-$I$6)/Y48),-$K$6)","v":-8.385594884949131E-2},{"$f":"AG48*$H$6","v":-2.8114448371391578E-5},{"$f":"MIN($O$6,$Q$6*$N$6*Z48*(C$6-Y48-$M$6)/Y48)","v":125.30157147067736},{"$f":"AI48*$L$6","v":4.2009954097466044E-2},{"$f":"(0.5*$C$6-Y48+AE48*Y48)*AF48+(0.5*$C$6-$I$6)*AH48+(0.5*$C$6-$M$6)*AJ48","v":4.0620284744784154E-3},{"$f":"AF48+AH48-AJ48","v":9.9999999999982048E-5},null,null,0,{"$f":"AO48*$AP$81","v":0},{"$f":"AC48*$D$6","v":1.0546877466016928},{"$f":"$Q$6*Z48*$H$6*$J$6","v":2.3961508208254132E-2},{"$f":"$Q$6*Z48*$L$6*$N$6","v":2.3961508208254132E-2},{"$f":"-(AP48+0.0001)","v":-1E-4},{"$f":"$I$6*$Q$6*Z48*$H$6*$J$6","v":9.584603283301652E-4},{"$f":"($C$6-$M$6)*$Q$6*Z48*$L$6*$N$6","v":2.6357659029079541E-3},0]
[null,0.69219196090673929,0.11231225223019801,7.4179586323696299E-4,0.12193291431460834,-0.41245417674785168,6.0578623151581974,3.8773939500423951,0.6400597683344903,0.68037216031585879,347.13674426127534,0.1163848028464088,-11.100023666067136,-3.7215134592417441E-3,2.7466607612774939E-2,2.1602360609691958E-2,0.80047847662150939,1.0174382900500219E-2,-1.7720254675047467E-2,1.5480240496369582E-2,9.1373165832777346E-3,1.1211094382427391E-2,0,null,{"$f":"0.5*(-(AR49+AS49+AT49)+SQRT(MAX((AR49+AS49+AT49)^2+4*AQ49*(AU49+AV49),0)))/AQ49","v":4.1419996475205119E-2},{"$f":"MIN(Z48*$O$6/AI48,$O$30)","v":3.5967641412417074E-4},5.9121916901791069E-2,-0.19998768749646495,{"$f":"IF($C$2=1,0.5*($O$31*Z49*$F$6/$O$30)*(1-AW48^2+(AA49-AB49)*(AB49^2*(1-AW48^2)+2*AB49*(1-AW48)+2*LN((1-AB49)/(1-AB49*AW48)))/(AB49^3)),$F$6*AB49*(LN((1-AA49+AA49^2)/(1+AA49)^2)/(6*AA49)+ATAN((2-AA49)/(AA49*3^0.5))/(AA49*3^0.5)-LN((AW48^2-AA49*AW48+AA49^2)/(AW48+AA49)^2)/(6*AA49)-ATAN((2*AW48-AA49)/(AA49*3^0.5))/(AA49*3^0.5)))","v":3.4334852044121593},{"$f":"IF($C$2=1,($O$31*Z49*$F$6/$O$30)*(1-AW48^3-(AA49-AB49)*(-2*AB49^3*(1-AW48^3)-3*AB49^2*(1-AW48^2)-6*AB49*(1-AW48)-6*LN((1-AB49)/(1-AB49*AW48)))/(2*AB49^4))/3,$F$6*AB49*(LN((1+AA49^3)/(AA49^3+AW48^3)))/3)","v":2.2424332813773877},0.65310701746894828,0.14221494506442056,{"$f":"MAX(MIN($K$6,$Q$6*$J$6*Z49*(Y49-$I$6)/Y49),-$K$6)","v":8.9623230789790007},3.0048049416736737E-3,432.84343241622918,0.14511975000609412,1.3807092438373431E-2,1.0000000000012776E-4,null,null,null,{"$f":"AP48","v":0},{"$f":"AC49*$D$6","v":3.4334852044121593},{"$f":"IF(AG48<$K$6,$Q$6*Z49*$H$6*$J$6,$H$6*$K$6)","v":8.7647407768969579E-2},{"$f":"IF(AI48<$O$6,$Q$6*Z49*$L$6*$N$6,-$L$6*$O$6)","v":8.7647407768969579E-2},-1E-4,{"$f":"IF(AG48<$K$6,$I$6*$Q$6*Z49*$H$6*$J$6,0)","v":3.5058963107587838E-3},{"$f":"IF(AI48<$O$6,($C$6-$M$6)*$Q$6*Z49*$L$6*$N$6,0)","v":9.6412148545866536E-3},0]
[null,0.75563534704914892,0.12260631802291558,7.622258065652233E-4,0.12529109228883803,-0.4238136569958173,6.1753979241458712,3.9484908156194205,0.63939050796723229,0.75714280180588134,373.26347088566496,0.1251443305468615,-56.962689210002701,-1.9097924558276105E-2,2.7021778087379236E-2,2.0333621679149722E-2,0.90138505691101889,8.6933553529117344E-3,-2.1540498118693616E-2,2.1981773502327689E-2,6.3808606609855392E-3,1.0174382900500219E-2,0,null,4.1535617048351507E-2,{"$f":"IF(ABS(Z49-Z48)/Z49<0.0001,Z49,MIN(Z49*$O$6/AI49,$O$30))","v":3.8085755139375099E-4},6.2603572602198579E-2,-0.21176484745120741,3.6028939406236016,2.3503583497257172,0.65235291087111735,0.14964842298356801,10.234255529400995,3.431246711159461E-3,456.28693074365231,0.1529796696947274,1.4537130023097158E-2,1.0000000000007225E-4,null,null,null,{"$f":"AP49","v":0},3.6028939406236016,{"$f":"IF(AG49<$K$6,$Q$6*Z50*$H$6*$J$6,$H$6*$K$6)","v":9.2808913228809145E-2},{"$f":"IF(AI49<$O$6,$Q$6*Z50*$L$6*$N$6,-$L$6*$O$6)","v":9.2808913228809145E-2},-1E-4,{"$f":"IF(AG49<$K$6,$I$6*$Q$6*Z50*$H$6*$J$6,0)","v":3.712356529152366E-3},{"$f":"IF(AI49<$O$6,($C$6-$M$6)*$Q$6*Z50*$L$6*$N$6,0)","v":1.0208980455169004E-2},0]
[null,0.82707502468306293,0.13419782954979564,7.8265574989348362E-4,0.12864927026306774,-0.43517313724378293,6.2909138247256848,4.0181552765156141,0.63872362401830007,0.84422698116299044,399.29843823464745,0.13387309404457814,-102.57301674656863,-3.4389734099786302E-2,2.5868701907243503E-2,1.9075205667090787E-2,1.0124898093073549,6.5552505588721763E-3,-2.5119420457864011E-2,2.8831383015413371E-2,3.1145815807008398E-3,8.6933553529117379E-3,0,null,4.1544915655417694E-2,{"$f":"IF(ABS(Z50-Z49)/Z50<0.001,Z50,MIN(Z50*$O$6/AI50,$O$30))","v":3.8256566053946229E-4},6.28843435479884E-2,{"$f":"IF($C$2=1,-($O$31-2)*Z51/$O$30,3*($O$30/Z51)^2)","v":-0.21271459223465167},{"$f":"IF($C$2=1,0.5*($O$31*Z51*$F$6/$O$30)*(1-AW50^2+(AA51-AB51)*(AB51^2*(1-AW50^2)+2*AB51*(1-AW50)+2*LN((1-AB51)/(1-AB51*AW50)))/(AB51^3)),$F$6*AB51*(LN((1-AA51+AA51^2)/(1+AA51)^2)/(6*AA51)+ATAN((2-AA51)/(AA51*3^0.5))/(AA51*3^0.5)-LN((AW50^2-AA51*AW50+AA51^2)/(AW50+AA51)^2)/(6*AA51)-ATAN((2*AW50-AA51)/(AA51*3^0.5))/(AA51*3^0.5)))","v":3.6164179713546631},2.3589615237756383,0.65229227994683425,0.15024377959466625,10.340089653207192,3.4667297991276304E-3,458.16851350986366,0.15361050939379392,1.4595642140814678E-2,9.9999999999961231E-5,null,null,null,{"$f":"AP50","v":0},3.6164179713546631,{"$f":"IF(AG50<$K$6,$Q$6*Z51*$H$6*$J$6,$H$6*$K$6)","v":9.3225152195082817E-2},{"$f":"IF(AI50<$O$6,$Q$6*Z51*$L$6*$N$6,-$L$6*$O$6)","v":9.3225152195082817E-2},-1E-4,{"$f":"IF(AG50<$K$6,$I$6*$Q$6*Z51*$H$6*$J$6,0)","v":3.7290060878033128E-3},{"$f":"IF(AI50<$O$6,($C$6-$M$6)*$Q$6*Z51*$L$6*$N$6,0)","v":1.0254766741459108E-2},{"$f":"IF(Y51<=$C$6,0,(Y51-$C$6)/Y51)","v":0}]
[null,0.90781155014985127,0.14729780979304705,8.0308569322174394E-4,0.13200744823729743,-0.4465326174917485,6.4044464593601393,4.0864150387822464,0.63805905236508376,0.94336093640058338,425.19474062082946,0.14255536723372322,-147.80201563543321,-4.9553695292724666E-2,2.3713624450398842E-2,1.783238946334691E-2,1.1354699989270314,3.4654812055859192E-3,-1.3344320019047456E-2,3.5389405349123171E-3,1.6651847027016824E-2,6.555250558872178E-3,0,null,4.4365414517839458E-2,{"$f":"Z51","v":3.8256566053946229E-4},6.28843435479884E-2,-0.21271459223465167,3.6164179713546631,2.3589615237756383,0.65229227994683425,0.16044388236891369,27.360142601045663,9.1730560221986654E-3,411.36336790330773,0.1379181122803485,1.4706443110337891E-2,3.1698826110763856E-2,null,null,2.5000000000000001E-2,{"$f":"AO52*$AP$81","v":3.1598826110763846E-2},3.6164179713546631,{"$f":"$Q$6*Z52*$H$6*$J$6","v":9.3225152195082817E-2},{"$f":"$Q$6*Z52*$L$6*$N$6","v":9.3225152195082817E-2},-3.1698826110763849E-2,{"$f":"$I$6*$Q$6*Z52*$H$6*$J$6","v":3.7290060878033128E-3},{"$f":"($C$6-$M$6)*$Q$6*Z52*$L$6*$N$6","v":1.0254766741459108E-2},0]
[null,0.99940779985446371,0.16215984472146291,{"$f":"$Z$82","v":8.2351563655000447E-4},0.13536562621152715,{"$f":"IF($C$2=1,-($O$31-2)*D53/$O$30,3*($O$30/D53)^2)","v":-0.45789209773971423},6.4655070623536277,4.1507805636938286,{"$f":"H53/G53","v":0.64198840456959105},{"$f":"G53*C53*$D$6","v":1.0484456212767861},450.90850705723352,0.15117644145480025,{"$f":"MIN($O$6,$Q$6*$N$6*D53*(C$6-C53-$M$6)/C53)","v":-192.52904066240791},-6.4549359323475747E-2,{"$f":"(0.5*$C$6-C53+I53*C53)*J53+(0.5*$C$6-$I$6)*L53+(0.5*$C$6-$M$6)*N53","v":2.079774913025921E-2},{"$f":"0.1*$Q$6*D53*$B$6^2/C53+$R$6","v":1.6610108553953076E-2},{"$f":"(J53+L53-N53)","v":1.2641714220550622},{"$f":"O53-P53*Q53","v":-2.0027542088060096E-4},null,null,null,null,7.4986780743096546E-2,null,4.4336691510533544E-2,{"$f":"MIN(Z52*$O$6/AI52,$O$30)","v":4.2624746901414679E-4},7.0064553729545315E-2,-0.23700260089873876,3.9554520896922849,2.5740134310737615,0.6507507543275558,0.1753716590853821,30.303199708598122,1.0159777038889452E-2,458.33333333333337,0.15366576866258877,1.6171216243518981E-2,3.186566746168279E-2,null,null,null,{"$f":"AP52","v":3.1598826110763846E-2},3.9554520896922849,{"$f":"IF(AG52<$K$6,$Q$6*Z53*$H$6*$J$6,$H$6*$K$6)","v":0.10386971249740211},{"$f":"IF(AI52<$O$6,$Q$6*Z53*$L$6*$N$6,-$L$6*$O$6)","v":0.10386971249740211},-3.1698826110763849E-2,{"$f":"IF(AG52<$K$6,$I$6*$Q$6*Z53*$H$6*$J$6,0)","v":4.1547884998960841E-3},{"$f":"IF(AI52<$O$6,($C$6-$M$6)*$Q$6*Z53*$L$6*$N$6,0)","v":1.142566837471423E-2},0]
[null,"De","hc","e0","a'","b'","N'","tN'","t","Nc","sac","Nac","sat","Nat","Mtot","u","N","Mo","a''","b''","c''",null,"x",null,4.7104709101309504E-2,{"$f":"Z53","v":4.2624746901414679E-4},7.0064553729545315E-2,-0.23700260089873876,3.9554520896922849,2.5740134310737615,0.6507507543275558,0.18632042004912186,46.727787131479445,1.566646107809588E-2,413.66334958665544,0.13868922890568997,1.6311270485297472E-2,6.3297652221527778E-2,null,null,0.05,{"$f":"AO54*$AP$81","v":6.3197652221527692E-2},3.9554520896922849,{"$f":"$Q$6*Z54*$H$6*$J$6","v":0.10386971249740211},{"$f":"$Q$6*Z54*$L$6*$N$6","v":0.10386971249740211},-6.3297652221527695E-2,{"$f":"$I$6*$Q$6*Z54*$H$6*$J$6","v":4.1547884998960841E-3},{"$f":"($C$6-$M$6)*$Q$6*Z54*$L$6*$N$6","v":1.142566837471423E-2},0]
[null,null,{"$f":"$C$35","v":4.1544915655417694E-2},{"$f":"$D$35","v":3.8256566053946229E-4},{"$f":"$E$35","v":6.28843435479884E-2},{"$f":"$F$35","v":-0.21271459223465167},{"$f":"IF($C$2=1,0.5*($O$31*D55*$F$6/$O$30)*(1-W55^2+(E55-F55)*(F55^2*(1-W55^2)+2*F55*(1-W55)+2*LN((1-F55)/(1-F55*W55)))/(F55^3)),$F$6*F55*(LN((1-E55+E55^2)/(1+E55)^2)/(6*E55)+ATAN((2-E55)/(E55*3^0.5))/(E55*3^0.5)-LN((W55^2-E55*W55+E55^2)/(W55+E55)^2)/(6*E55)-ATAN((2*W55-E55)/(E55*3^0.5))/(E55*3^0.5)))","v":3.6164179713546631},{"$f":"IF($C$2=1,($O$31*D55*$F$6/$O$30)*(1-W55^3-(E55-F55)*(-2*F55^3*(1-W55^3)-3*F55^2*(1-W55^2)-6*F55*(1-W55)-6*LN((1-F55)/(1-F55*W55)))/(2*F55^4))/3,$F$6*F55*(LN((1+E55^3)/(E55^3+W55^3)))/3)","v":2.3589615237756383},{"$f":"$I$35","v":0.65229227994683425},{"$f":"$J$35","v":0.15024377959466625},{"$f":"$K$35","v":10.340089653207192},{"$f":"$L$35","v":3.4667297991276304E-3},{"$f":"$M$35","v":458.16851350986366},{"$f":"$N$35","v":0.15361050939379392},{"$f":"$O$35","v":1.4595642140814678E-2},{"$f":"$P$35","v":3.011841020334027E-2},{"$f":"$Q$35","v":9.9999999999961231E-5},{"$f":"$R$35","v":1.4592630299794346E-2},null,null,null,null,{"$f":"IF(C55<$C$6,0,(C55-$C$6)/C55)","v":0},null,4.686581864712229E-2,{"$f":"MIN(Z54*$O$6/AI54,$O$30)","v":4.7227636553579981E-4},7.7630567202685727E-2,-0.26259564011926867,4.298938348582662,2.7906319718678154,0.64914445046365288,0.20147326501983442,50.287930057380223,1.6860072931020726E-2,458.33333333333337,0.15366576866258877,1.7766047729071421E-2,6.4667569288266391E-2,null,null,null,{"$f":"AP54","v":6.3197652221527692E-2},4.298938348582662,{"$f":"IF(AG54<$K$6,$Q$6*Z55*$H$6*$J$6,$H$6*$K$6)","v":0.11508622073693395},{"$f":"IF(AI54<$O$6,$Q$6*Z55*$L$6*$N$6,-$L$6*$O$6)","v":0.11508622073693395},-6.3297652221527695E-2,{"$f":"IF(AG54<$K$6,$I$6*$Q$6*Z55*$H$6*$J$6,0)","v":4.6034488294773588E-3},{"$f":"IF(AI54<$O$6,($C$6-$M$6)*$Q$6*Z55*$L$6*$N$6,0)","v":1.2659484281062736E-2},0]
[null,{"$f":"0.25*D36*$Q$31","v":5.8164191203897798E-6},{"$f":"C36","v":4.4336691510533544E-2},{"$f":"D36+B56","v":4.3206388813453656E-4},{"$f":"IF($C$2=1,D56/($O$31*$O$30),2^(1/3)*$O$30/D56)","v":7.1020629341951066E-2},{"$f":"IF($C$2=1,-($O$31-2)*D56/$O$30,3*($O$30/D56)^2)","v":-0.24023665285132356},{"$f":"IF($C$2=1,0.5*($O$31*D56*$F$6/$O$30)*(1-W56^2+(E56-F56)*(F56^2*(1-W56^2)+2*F56*(1-W56)+2*LN((1-F56)/(1-F56*W56)))/(F56^3)),$F$6*F56*(LN((1-E56+E56^2)/(1+E56)^2)/(6*E56)+ATAN((2-E56)/(E56*3^0.5))/(E56*3^0.5)-LN((W56^2-E56*W56+E56^2)/(W56+E56)^2)/(6*E56)-ATAN((2*W56-E56)/(E56*3^0.5))/(E56*3^0.5)))","v":3.9996231046248272},{"$f":"IF($C$2=1,($O$31*D56*$F$6/$O$30)*(1-W56^3-(E56-F56)*(-2*F56^3*(1-W56^3)-3*F56^2*(1-W56^2)-6*F56*(1-W56)-6*LN((1-F56)/(1-F56*W56)))/(2*F56^4))/3,$F$6*F56*(LN((1+E56^3)/(E56^3+W56^3)))/3)","v":2.6019419043848639},{"$f":"H56/G56","v":0.65054677311374598},{"$f":"G56*C56*$D$6","v":0.17733005574815339},{"$f":"MAX(MIN($K$6,$Q$6*$J$6*D56*(C56-$I$6)/C56),-$K$6)","v":30.716706234752362},{"$f":"K56*$H$6","v":1.0298413689482517E-2},{"$f":"MIN($O$6,$Q$6*$N$6*D56*(C$6-C56-$M$6)/C56)","v":458.33333333333337},{"$f":"M56*$L$6","v":0.15366576866258877},{"$f":"(0.5*$C$6-C56+I56*C56)*J56+(0.5*$C$6-$I$6)*L56+(0.5*$C$6-$M$6)*N56","v":1.6291019626268045E-2},{"$f":"0.1*$Q$6*D56*$B$6^2/C56+$R$6","v":3.1873417263055405E-2},{"$f":"(J56+L56-N56)","v":3.3962700775047122E-2},{"$f":"O56-P56*Q56","v":1.5208512293084673E-2},{"$f":"((R56-R55)*(Q56-Q57)-(R56-R57)*(Q56-Q55))/((Q56^2-Q55^2)*(Q56-Q57)-(Q56^2-Q57^2)*(Q56-Q55))","v":-7.0514493512265686E-2},{"$f":"-(S56*(Q56^2-Q55^2)-(R56-R55))/(Q56-Q55)","v":2.0589535847547236E-2},{"$f":"R56-S56*Q56^2-T56*Q56","v":1.4590572051354526E-2},{"$f":"S36*Q56^2+T36*Q56+U36","v":1.5202926732533224E-2},{"$f":"IF(C56<$C$6,0,(C56-$C$6)/C56)","v":0},null,4.9559343619699769E-2,{"$f":"Z55","v":4.7227636553579981E-4},7.7630567202685727E-2,-0.26259564011926867,4.298938348582662,2.7906319718678154,0.64914445046365288,0.2130525628173128,66.21100296806263,2.2198613814563541E-2,418.63088494285114,0.14035469829958466,1.7963713796356976E-2,9.4896478332291673E-2,null,null,7.4999999999999997E-2,{"$f":"AO56*$AP$81","v":9.4796478332291531E-2},4.298938348582662,{"$f":"$Q$6*Z56*$H$6*$J$6","v":0.11508622073693395},{"$f":"$Q$6*Z56*$L$6*$N$6","v":0.11508622073693395},-9.4896478332291534E-2,{"$f":"$I$6*$Q$6*Z56*$H$6*$J$6","v":4.6034488294773588E-3},{"$f":"($C$6-$M$6)*$Q$6*Z56*$L$6*$N$6","v":1.2659484281062736E-2},0]
[null,{"$f":"0.5*D37*$Q$31","v":1.2889025659033061E-5},4.686581864712229E-2,4.8516539119483284E-4,7.9749204605735827E-2,-0.26976221077670065,4.3926767431503633,2.8495198849836285,0.64869783314398743,0.20586639161991671,51.660351944539222,1.7320205871136321E-2,458.33333333333337,0.15366576866258877,1.803509110675067E-2,{"$f":"0.1*$Q$6*D57*$B$6^2/C57+$R$6","v":3.3859266563625839E-2},6.9520828828464248E-2,1.5681166831723495E-2,-6.9331438017915178E-2,2.0467109089275019E-2,1.4593365381554816E-2,{"$f":"MAX(S37*Q57^2+T37*Q57+U37,S38*Q57^2+T38*Q57+U38)","v":1.5718882711966812E-2},0,null,4.9178183027429483E-2,{"$f":"MIN(Z56*$O$6/AI56,$O$30)","v":5.170664866260995E-4},8.4992956598081745E-2,-0.28749989402023007,4.6202223690862176,2.992047645345846,0.64759819037402955,0.22721414129434586,70.139400926916238,2.3515690815203067E-2,458.33333333333337,0.15366576866258877,1.9304681389924205E-2,9.7064063446960142E-2,null,null,null,{"$f":"AP56","v":9.4796478332291531E-2},4.6202223690862176,{"$f":"IF(AG56<$K$6,$Q$6*Z57*$H$6*$J$6,$H$6*$K$6)","v":0.12600085915375198},{"$f":"IF(AI56<$O$6,$Q$6*Z57*$L$6*$N$6,-$L$6*$O$6)","v":0.12600085915375198},-9.4896478332291534E-2,{"$f":"IF(AG56<$K$6,$I$6*$Q$6*Z57*$H$6*$J$6,0)","v":5.0400343661500787E-3},{"$f":"IF(AI56<$O$6,($C$6-$M$6)*$Q$6*Z57*$L$6*$N$6,0)","v":1.3860094506912715E-2},0]
[null,{"$f":"0.75*D38*$Q$31","v":2.1167107968622303E-5},4.9178183027429483E-2,5.3823359459472182E-4,8.8472306227996858E-2,-0.29926925338715082,4.7677714389328765,3.084142415301216,0.64687295832107028,0.23447033645679183,73.010691777657641,2.4478350703856965E-2,458.33333333333337,0.15366576866258877,1.9748473249068595E-2,3.579663992508933E-2,0.10528291849806001,1.5979698525331015E-2,-6.6877265525386045E-2,2.003811054099525E-2,1.4611328343112911E-2,{"$f":"MAX(S38*Q58^2+T38*Q58+U38,S39*Q58^2+T39*Q58+U39)","v":1.5964854113649556E-2},0]
[null,{"$f":"D39*$Q$31","v":2.9337929157055242E-5},5.255221950735349E-2,5.6683435911141508E-4,9.317356535059218E-2,-0.31517188289443288,4.9629029757083405,3.2055312293824763,0.64589842780977602,0.26081156657312254,98.40497537478447,3.2992311668049543E-2,450.37034457556365,0.15099601130626678,2.1147062375020932E-2,3.5278413425379525E-2,0.14280786693490533,1.6109027404894755E-2,-0.18465672847898335,4.9258110013026046E-2,1.2840487144296003E-2,1.5561147899727965E-2,0]
[null,3.0453047689280748E-5,5.6242100708700393E-2,5.8837942097190088E-4,9.6715041263215812E-2,-0.32715139261274134,5.1067549828672716,3.2947163501311092,0.64516828420094607,0.28721462804107861,123.50074198739365,4.1406188613584492E-2,408.76119223929584,0.13704567884702748,2.2055119169604696E-2,3.4216838628858617E-2,0.1915751378076356,1.5500023593939477E-2,1.347845599904781E-2,-1.6994928317955661E-2,1.8261156064330604E-2,1.5048187876952402E-2,0,null,"hc","e0","a'","b'","N'","tN'","t'","Nc","sac","Nac","sat","Nat","Mtot","N","u","Mo",null,"N","A","B1","B2","B3","C1","C2","gættet x","beregnet x","Max-valg","hc'","sac","sat"]
[null,3.1568166221506252E-5,6.0285666570009291E-2,6.0992448283238667E-4,0.10025651717583943,-0.33913090233104981,5.2479690061737116,3.382008772937827,0.64444145324776714,0.31637730967593142,149.17041888267096,5.0012480900347579E-2,365.5737866256909,0.1225662041994109,2.2986977996973846E-2,3.3090698925537551E-2,0.24382358637686813,1.4918685109232104E-2,1.1727939839663861E-2,-1.6232755815495534E-2,1.8179388514216941E-2,1.4572623787464644E-2,0,null,{"$f":"$C$6","v":0.15}]
[null,3.2683284753731755E-5,6.4726330142402158E-2,6.3146954469287257E-4,0.10379799308846306,-0.35111041204935833,5.3865986159579338,3.4674496542292452,0.64371784523852182,0.34865476036109977,175.33253671967728,5.8783874239834416E-2,321.03216842233138,0.10763270165680408,2.3933416804131649E-2,3.1909159616271984E-2,0.29980593294413016,1.4366861435912065E-2,9.3013607894973822E-3,-1.4913595812859125E-2,1.8002006173397547E-2,1.4128460142591975E-2,0,null,{"$f":"0.5*(-(AR62+AS62+AT62)+SQRT((AR62+AS62+AT62)^2+4*AQ62*(AU62+AV62)))/AQ62","v":9.8836524400323478E-2},{"$f":"$O$30","v":1.9666045051940388E-3},{"$f":"IF($C$2=1,Z62/($O$31*$O$30),2^(1/3)*$O$30/Z62)","v":0.32326119692304961},{"$f":"IF($C$2=1,-($O$31-2)*Z62/$O$30,3*($O$30/Z62)^2)","v":-1.0934736662440927},{"$f":"IF($C$2=1,0.5*($O$31*Z62*$F$6/$O$30)*(1-AW62^2+(AA62-AB62)*(AB62^2*(1-AW62^2)+2*AB62*(1-AW62)+2*LN((1-AB62)/(1-AB62*AW62)))/(AB62^3)),$F$6*AB62*(LN((1-AA62+AA62^2)/(1+AA62)^2)/(6*AA62)+ATAN((2-AA62)/(AA62*3^0.5))/(AA62*3^0.5)-LN((AW62^2-AA62*AW62+AA62^2)/(AW62+AA62)^2)/(6*AA62)-ATAN((2*AW62-AA62)/(AA62*3^0.5))/(AA62*3^0.5)))","v":10.450590117957171},{"$f":"IF($C$2=1,($O$31*Z62*$F$6/$O$30)*(1-AW62^3-(AA62-AB62)*(-2*AB62^3*(1-AW62^3)-3*AB62^2*(1-AW62^2)-6*AB62*(1-AW62)-6*LN((1-AB62)/(1-AB62*AW62)))/(2*AB62^4))/3,$F$6*AB62*(LN((1+AA62^3)/(AA62^3+AW62^3)))/3)","v":6.2953007519190871},{"$f":"AD62/AC62","v":0.6023871074133812},{"$f":"AC62*Y62*$D$6","v":1.0329000051912534},{"$f":"MAX(MIN($K$6,$Q$6*$J$6*Z62*(Y62-$I$6)/Y62),-$K$6)","v":458.33333333333337},{"$f":"AG62*$H$6","v":0.15366576866258877},{"$f":"MIN($O$6,$Q$6*$N$6*Z62*(C$6-Y62-$M$6)/Y62)","v":161.44716351467918},{"$f":"AI62*$L$6","v":5.4128514501551622E-2},{"$f":"(0.5*$C$6-Y62+AE62*Y62)*AF62+(0.5*$C$6-$I$6)*AH62+(0.5*$C$6-$M$6)*AJ62","v":4.4148697283814306E-2},{"$f":"AF62+AH62-AJ62","v":1.1324372593522907},{"$f":"0.1*$Q$6*Z62*$B$6^2/Y62+$R$6","v":6.5079394793240611E-2},{"$f":"AK62-AM62*AL62","v":-2.9549634196148825E-2},{"$f":"IF(AN62=$AO$80,Z62,0)","v":0},{"$f":"0.001*Kold!S12*V6*S6","v":1.2639530444305538},{"$f":"AC62*$D$6","v":10.450590117957171},{"$f":"$Q$6*Z62*$H$6*$J$6","v":0.47923016416508263},{"$f":"$Q$6*Z62*$L$6*$N$6","v":0.47923016416508263},{"$f":"-(AP62+0.0001)","v":-1.2640530444305538},{"$f":"$I$6*$Q$6*Z62*$H$6*$J$6","v":1.9169206566603307E-2},{"$f":"($C$6-$M$6)*$Q$6*Z62*$L$6*$N$6","v":5.2715318058159079E-2},{"$f":"IF(Y61<$C$6,0,(Y61-$C$6)/Y61)","v":0}]
[null,3.3798403285957259E-5,6.9614059201644651E-2,6.5301460655335837E-4,0.10733946900108669,-0.36308992176766675,5.5226958556200865,3.5510789242752199,0.64299737249907019,0.38445727624581427,201.90882649959522,6.7694127324701606E-2,275.35157737596461,9.23173348144012E-2,2.4880010094536519E-2,3.0681025963428851E-2,0.35983406875611468,1.3839931688503922E-2,6.332837036807152E-3,-1.2955438799587325E-2,1.7681760677126256E-2,1.3708697294074167E-2,0,null,0.10882157177452201,{"$f":"0.95*$O$30","v":1.8682742799343368E-3},0.30709813707689715,{"$f":"IF($C$2=1,-($O$31-2)*Z63/$O$30,3*($O$30/Z63)^2)","v":-1.0387999829318879},{"$f":"IF($C$2=1,0.5*($O$31*Z63*$F$6/$O$30)*(1-AW63^2+(AA63-AB63)*(AB63^2*(1-AW63^2)+2*AB63*(1-AW63)+2*LN((1-AB63)/(1-AB63*AW63)))/(AB63^3)),$F$6*AB63*(LN((1-AA63+AA63^2)/(1+AA63)^2)/(6*AA63)+ATAN((2-AA63)/(AA63*3^0.5))/(AA63*3^0.5)-LN((AW63^2-AA63*AW63+AA63^2)/(AW63+AA63)^2)/(6*AA63)-ATAN((2*AW63-AA63)/(AA63*3^0.5))/(AA63*3^0.5)))","v":10.249046760209906},{"$f":"IF($C$2=1,($O$31*Z63*$F$6/$O$30)*(1-AW63^3-(AA63-AB63)*(-2*AB63^3*(1-AW63^3)-3*AB63^2*(1-AW63^2)-6*AB63*(1-AW63)-6*LN((1-AB63)/(1-AB63*AW63)))/(2*AB63^4))/3,$F$6*AB63*(LN((1+AA63^3)/(AA63^3+AW63^3)))/3)","v":6.2040457716363901},{"$f":"AD63/AC63","v":0.60532905320741537},{"$f":"AC63*Y63*$D$6","v":1.1153173776366145},{"$f":"MAX(MIN($K$6,$Q$6*$J$6*Z63*(Y63-$I$6)/Y63),-$K$6)","v":458.33333333333337},0.15366576866258877,{"$f":"MIN($O$6,$Q$6*$N$6*Z63*(C$6-Y63-$M$6)/Y63)","v":14.704836625602836},4.9301018686495578E-3,{"$f":"(0.5*$C$6-Y63+AE63*Y63)*AF63+(0.5*$C$6-$I$6)*AH63+(0.5*$C$6-$M$6)*AJ63","v":4.1298213098852649E-2},{"$f":"AF63+AH63-AJ63","v":1.2640530444305538},{"$f":"0.1*$Q$6*Z63*$B$6^2/Y63+$R$6","v":5.6152562697123654E-2},{"$f":"IF(Y63>5*$D$6,AN62-1,AK63-AM63*AL63)","v":-2.9681604731024047E-2},0,{"$f":"AP62","v":1.2639530444305538},{"$f":"AC63*$D$6","v":10.249046760209906},{"$f":"IF(AG62<$K$6,$Q$6*Z63*$H$6*$J$6,$H$6*$K$6)","v":0.15366576866258877},{"$f":"IF(AI62<$O$6,$Q$6*Z63*$L$6*$N$6,-$L$6*$O$6)","v":0.45526865595682853},{"$f":"-(AP63+0.0001)","v":-1.2640530444305538},{"$f":"IF(AG62<$K$6,$I$6*$Q$6*Z63*$H$6*$J$6,0)","v":0},{"$f":"IF(AI62<$O$6,($C$6-$M$6)*$Q$6*Z63*$L$6*$N$6,0)","v":5.0079552155251124E-2},{"$f":"IF(Y62<=$C$6,0,(Y62-$C$6)/Y62)","v":0},null,{"$f":"IF(AN63=$AO$80,AX63,0)","v":0},null,{"$f":"IF(AN63=$AO$80,AG63,0)","v":0},{"$f":"IF(AN63=$AO$80,AI63,0)","v":0}]
[null,3.4913521818182769E-5,7.5006560532026839E-2,6.7455966841384416E-4,0.11088094491371031,-0.37506943148597521,5.656311297664133,3.6329353336067718,0.64227994932086785,0.42426045573623206,228.82421956573015,7.6718071828767054E-2,228.73845229250122,7.6689316569203095E-2,2.5805311725814246E-2,2.9414743190886307E-2,0.42428921099579608,1.3324953545709129E-2,2.9410470699976665E-3,-1.0295857326583047E-2,1.7163923508763713E-2,1.3297211794276242E-2,0,null,0.11064837505228271,{"$f":"Z63+($Z$79-$Z$63)/16","v":1.7637984155959036E-3},0.28992488599036015,{"$f":"IF($C$2=1,-($O$31-2)*Z64/$O$30,3*($O$30/Z64)^2)","v":-0.98070919441267068},{"$f":"IF($C$2=1,0.5*($O$31*Z64*$F$6/$O$30)*(1-AW64^2+(AA64-AB64)*(AB64^2*(1-AW64^2)+2*AB64*(1-AW64)+2*LN((1-AB64)/(1-AB64*AW64)))/(AB64^3)),$F$6*AB64*(LN((1-AA64+AA64^2)/(1+AA64)^2)/(6*AA64)+ATAN((2-AA64)/(AA64*3^0.5))/(AA64*3^0.5)-LN((AW64^2-AA64*AW64+AA64^2)/(AW64+AA64)^2)/(6*AA64)-ATAN((2*AW64-AA64)/(AA64*3^0.5))/(AA64*3^0.5)))","v":10.012516552015416},{"$f":"IF($C$2=1,($O$31*Z64*$F$6/$O$30)*(1-AW64^3-(AA64-AB64)*(-2*AB64^3*(1-AW64^3)-3*AB64^2*(1-AW64^2)-6*AB64*(1-AW64)-6*LN((1-AB64)/(1-AB64*AW64)))/(2*AB64^4))/3,$F$6*AB64*(LN((1+AA64^3)/(AA64^3+AW64^3)))/3)","v":6.0921683110206608},{"$f":"AD64/AC64","v":0.60845525491734342},{"$f":"AC64*Y64*$D$6","v":1.1078686866645904},{"$f":"MAX(MIN($K$6,$Q$6*$J$6*Z64*(Y64-$I$6)/Y64),-$K$6)","v":458.33333333333337},0.15366576866258877,{"$f":"MIN($O$6,$Q$6*$N$6*Z64*(C$6-Y64-$M$6)/Y64)","v":-7.5121046742782935},-2.5185891033748359E-3,{"$f":"(0.5*$C$6-Y64+AE64*Y64)*AF64+(0.5*$C$6-$I$6)*AH64+(0.5*$C$6-$M$6)*AJ64","v":4.0383232673307387E-2},{"$f":"AF64+AH64-AJ64","v":1.264053044430554},{"$f":"0.1*$Q$6*Z64*$B$6^2/Y64+$R$6","v":5.2137217363989692E-2},{"$f":"IF(Y64>5*$D$6,AN63-1,AK64-AM64*AL64)","v":-2.5520975663781323E-2},0,{"$f":"AP63","v":1.2639530444305538},{"$f":"AC64*$D$6","v":10.012516552015416},{"$f":"IF(AG63<$K$6,$Q$6*Z64*$H$6*$J$6,$H$6*$K$6)","v":0.15366576866258877},{"$f":"IF(AI63<$O$6,$Q$6*Z64*$L$6*$N$6,-$L$6*$O$6)","v":0.42980955348555849},{"$f":"-(AP64+0.0001)","v":-1.2640530444305538},{"$f":"IF(AG63<$K$6,$I$6*$Q$6*Z64*$H$6*$J$6,0)","v":0},{"$f":"IF(AI63<$O$6,($C$6-$M$6)*$Q$6*Z64*$L$6*$N$6,0)","v":4.7279050883411437E-2},{"$f":"IF(AZ64<=$C$6,0,(AZ64-$C$6)/AZ64)","v":0},{"$f":"IF(Y64<=$C$6,0,(Y64-$C$6)/Y64)","v":0},0,{"$f":"Y63+(Y63-Y62)*(Z64-Z62)/(Z63-Z62)","v":0.12941573198380646},0,0]
[null,3.6028640350408273E-5,8.0970715199564836E-2,6.9610473027432996E-4,0.11442242082633393,-0.38704894120428363,5.7874940972201419,3.7130564973025422,0.64156549189156031,0.46861753626517472,256.00684760350947,8.5831612407009816E-2,181.39043103701573,6.081490912001742E-2,2.6678398018800821E-2,2.8118396484033765E-2,0.49363423955216712,1.2798194752978484E-2,-7.6378281277255354E-4,-6.8951070968974E-3,1.6387970296858227E-2,1.2866157390521365E-2,0,null,0.11283013088646304,{"$f":"Z64+($Z$79-$Z$63)/16","v":1.6593225512574704E-3},0.27275163490382315,{"$f":"IF($C$2=1,-($O$31-2)*Z65/$O$30,3*($O$30/Z65)^2)","v":-0.92261840589345334},{"$f":"IF($C$2=1,0.5*($O$31*Z65*$F$6/$O$30)*(1-AW65^2+(AA65-AB65)*(AB65^2*(1-AW65^2)+2*AB65*(1-AW65)+2*LN((1-AB65)/(1-AB65*AW65)))/(AB65^3)),$F$6*AB65*(LN((1-AA65+AA65^2)/(1+AA65)^2)/(6*AA65)+ATAN((2-AA65)/(AA65*3^0.5))/(AA65*3^0.5)-LN((AW65^2-AA65*AW65+AA65^2)/(AW65+AA65)^2)/(6*AA65)-ATAN((2*AW65-AA65)/(AA65*3^0.5))/(AA65*3^0.5)))","v":9.7513394622491258},{"$f":"IF($C$2=1,($O$31*Z65*$F$6/$O$30)*(1-AW65^3-(AA65-AB65)*(-2*AB65^3*(1-AW65^3)-3*AB65^2*(1-AW65^2)-6*AB65*(1-AW65)-6*LN((1-AB65)/(1-AB65*AW65)))/(2*AB65^4))/3,$F$6*AB65*(LN((1+AA65^3)/(AA65^3+AW65^3)))/3)","v":5.9637835507690262},{"$f":"AD65/AC65","v":0.61158608761975064},{"$f":"AC65*Y65*$D$6","v":1.1002449078439009},{"$f":"MAX(MIN($K$6,$Q$6*$J$6*Z65*(Y65-$I$6)/Y65),-$K$6)","v":458.33333333333337},0.15366576866258877,{"$f":"MIN($O$6,$Q$6*$N$6*Z65*(C$6-Y65-$M$6)/Y65)","v":-30.251274171129417},-1.0142367924063969E-2,{"$f":"(0.5*$C$6-Y65+AE65*Y65)*AF65+(0.5*$C$6-$I$6)*AH65+(0.5*$C$6-$M$6)*AJ65","v":3.9323682249497331E-2},{"$f":"AF65+AH65-AJ65","v":1.2640530444305538},{"$f":"0.1*$Q$6*Z65*$B$6^2/Y65+$R$6","v":4.8100508150070581E-2},-2.1477911516256054E-2,0,{"$f":"AP64","v":1.2639530444305538},{"$f":"AC65*$D$6","v":9.7513394622491258},{"$f":"IF(AG64<$K$6,$Q$6*Z65*$H$6*$J$6,$H$6*$K$6)","v":0.15366576866258877},{"$f":"IF(AI64<$O$6,$Q$6*Z65*$L$6*$N$6,-$L$6*$O$6)","v":0.40435045101428851},{"$f":"-(AP65+0.0001)","v":-1.2640530444305538},{"$f":"IF(AG64<$K$6,$I$6*$Q$6*Z65*$H$6*$J$6,0)","v":0},{"$f":"IF(AI64<$O$6,($C$6-$M$6)*$Q$6*Z65*$L$6*$N$6,0)","v":4.4478549611571737E-2},{"$f":"IF(AZ65<=$C$6,0,(AZ65-$C$6)/AZ65)","v":0},{"$f":"IF(Y65<=$C$6,0,(Y65-$C$6)/Y65)","v":0},0,{"$f":"Y64+(Y64-Y63)*(Z65-Z63)/(Z64-Z63)","v":0.11430198160780412},0,0]
[null,3.7143758882633776E-5,8.758432627758074E-2,7.1764979213481586E-4,0.11796389673895757,-0.39902845092259215,5.9162920431869219,3.791478937262267,0.64085391822880933,0.51817445266393813,283.38804264048281,9.5011726695570037E-2,133.49635053374681,4.475742396745875E-2,2.7455532694926354E-2,2.6799710989771911E-2,0.5684287553920494,1.2221806332143677E-2,-4.6762810930730571E-3,-2.7397874556073514E-3,1.5290139334704351E-2,1.2372480562615971E-2,0,null,0.11544298435507536,1.5548466869190372E-3,0.25557838381728615,-0.864527617374236,9.4637457168486829,5.8176110319673606,0.61472605097683852,1.0925230487305739,458.33333333333337,0.15366576866258877,-53.282984211332085,-1.7864227037391107E-2,3.8099944361336339E-2,1.264053044430554,4.4051831368468915E-2,-1.7583907192718171E-2,0,1.2639530444305538,9.4637457168486829,0.15366576866258877,0.37889134854301854,-1.2640530444305538,0,4.1678048339732036E-2,0,0,0,{"$f":"Y65+(Y65-Y64)*(Z66-Z64)/(Z65-Z64)","v":0.1171936425548237},0,0]
[null,3.825887741485928E-5,9.4938257676883894E-2,7.3919485399530165E-4,0.12150537265158119,-0.41100796064090056,6.0427516071203708,3.8682381225718339,0.64014514811659029,0.573688309154198,310.90233704632186,0.10423646531174899,85.236246766096897,2.8577221913948452E-2,2.807561905961424E-2,2.5466051816512642E-2,0.64934755255199861,1.1539300639399376E-2,-8.6948283050829085E-3,2.1539041315328513E-3,1.3806862129235632E-2,1.1753205037304469E-2,0,null,0.11858590571739241,1.450370822580604E-3,0.23840513273074915,-0.80643682885501855,9.1477812794930262,5.6522298393022625,0.61787986251629223,1.0847979283332874,458.33333333333337,0.15366576866258877,-76.324421565308185,-2.5589347434677556E-2,3.668591813907722E-2,1.2640530444305538,4.0002756651303782E-2,-1.387968819161791E-2,0,1.2639530444305538,9.1477812794930262,0.15366576866258877,0.35343224607174856,-1.2640530444305538,0,3.8877547067892336E-2,0,0,0,{"$f":"Y66+(Y66-Y65)*(Z67-Z65)/(Z66-Z65)","v":0.12066869129229998},0,0]
[null,3.9373995947084783E-5,0.10313906536129758,7.6073991585578744E-4,0.12504684856420481,-0.42298747035920903,6.1669179899844817,3.9433685080619161,0.63943910304405382,0.63605015764677131,338.48746353282093,0.11348495185400924,36.781354776632149,1.2331713063714675E-2,2.8453966585614054E-2,2.4124424034179134E-2,0.73720339643706578,1.0669359250529215E-2,-1.272228857252892E-2,7.7381829873758726E-3,1.1878911980836768E-2,1.0918996065340327E-2,0,null,0.12238967780465901,1.3458949582421708E-3,0.22123188164421217,-0.74834604033580121,8.8012822345453703,5.466058317586401,0.62105249802488016,1.0771860969538771,458.33333333333337,0.15366576866258877,-99.027955860944644,-3.3201178814087934E-2,3.5046120979402386E-2,1.264053044430554,3.5967505241070744E-2,-1.0418713521144991E-2,0,1.2639530444305538,8.8012822345453703,0.15366576866258877,0.32797314360047858,-1.2640530444305538,0,3.6077045796052643E-2,0,0,0,0.12487174844202653,0,0]
[null,4.0489114479310293E-5,0.11231225223019801,7.8228497771627324E-4,0.12858832447682844,-0.4349669800775175,6.2888351668753932,4.0169035711558685,0.63873570614694075,0.70631324149624863,366.08435515389624,0.12273738290197439,-11.70589133291725,-3.9246431772075596E-3,2.8473698430735866E-2,2.2781472674205796E-2,0.8329752675754305,9.4972951341769363E-3,-1.6667996985113072E-2,1.3933650151230123E-2,9.4559621495487918E-3,9.7453071730201103E-3,0,null,0.12703042588743732,1.2414190939037375E-3,0.20405863055767517,-0.69025525181658387,8.4218446459390357,5.2573301003133013,0.62424923770689067,1.0698305121314695,458.33333333333337,0.15366576866258877,-120.96719281405342,-4.0556763636495491E-2,3.3131189626382139E-2,1.2640530444305538,3.1963520540304727E-2,-7.2723958233085889E-3,0,1.2639530444305538,8.4218446459390357,0.15366576866258877,0.30251404112920854,-1.2640530444305538,0,3.3276544524212935E-2,0,0,0,0.1299972219791922,0,0]
[null,4.1604233011535797E-5,0.12260631802291558,8.0383003957675914E-4,0.13212980038945207,-0.44694648979582602,6.4085459298219449,4.0888758470942106,0.63803488215115534,0.78572822033621059,393.63714530558633,0.13197502801642921,-60.071858401657281,-2.0140338100976412E-2,2.7973832702313826E-2,2.1443482729538301E-2,0.93784358645361621,7.8631999531874469E-3,-2.0450438639281403E-2,2.0631669146696226E-2,6.5011167913024692E-3,8.060108079500368E-3,0,null,0.13275059808518222,1.1369432295653043E-3,0.18688537947113817,-0.63216446329736642,8.0067889101621184,5.0240656311259144,0.62747571935478808,1.0629060165658255,458.33333333333337,0.15366576866258877,-141.62063542443852,-4.748125920213947E-2,3.0870708036016065E-2,1.2640530444305538,2.8012136517195602E-2,-4.5381184095493222E-3,0,1.2639530444305538,8.0067889101621184,0.15366576866258877,0.27705493865793857,-1.2640530444305538,0,3.0476043252373238E-2,0,0,0,0.13631192205299394,0,0]
[null,4.27193515437613E-5,0.13419782954979564,8.2537510143724493E-4,0.13567127630207571,-0.45892599951413449,6.5260919287604509,4.1593169626217597,0.63733655731873362,0.87578737228209214,421.09316772605195,0.14118022973931965,-108.17171420953002,-3.6266813697943212E-2,2.6732636132284413E-2,2.0116379154633553E-2,1.0532344157193549,5.5453732869649303E-3,-2.4000061946521996E-2,2.769924602974343E-2,2.9949084233442738E-3,5.6157446234699065E-3,0,null,0.13989264717247762,1.0324673652268711E-3,0.16971212838460117,-0.57407367477814908,7.5531173656822546,4.7640381416026631,0.63073800008036007,1.0566255826897013,458.33333333333337,0.15366576866258877,-160.3530585156482,-5.3761693078263603E-2,2.8161412763562939E-2,1.2640530444305538,2.4139339656234552E-2,-2.3519930194435441E-3,0,1.2639530444305538,7.5531173656822546,0.15366576866258877,0.25159583618666853,-1.2640530444305538,0,2.7675541980533541E-2,0,0,0,0.14419094248067202,0,0]
[null,4.3834470075986804E-5,0.14729780979304705,8.4692016329773073E-4,0.13921275221469931,-0.4709055092324429,6.6415137107756452,4.2282576682140327,0.63664065939573666,0.97828042330774512,448.40295649557601,0.15033640359375278,-155.86942747731374,-5.225846265665246E-2,2.4444200586777553E-2,1.8805726865459726E-2,1.1808752895581505,2.2369824291763075E-3,-2.1003714668740868E-2,2.1005077496070775E-2,6.7215808790124093E-3,{"$f":"S52*Q72^2+T52*Q72+U52","v":2.2226878981037798E-3},0,null,0.14909322270778794,9.279915008884378E-4,0.15253887729806417,-0.51598288625893163,7.0499028669441612,4.4745964187001368,0.6347032722508541,1.0510927382095785,458.33333333333337,0.15366576866258877,-176.8556737399785,-5.9294537558386491E-2,2.4889004658202346E-2,1.2640530444305538,2.0357762208009476E-2,-8.4428663862530506E-4,0,1.2639530444305538,7.0499028669441612,0.15366576866258877,0.22613673371539855,-1.2640530444305538,0,2.4875040708693841E-2,2.7090631195165887E-2,0,0,0.15417674534706843,0,0]
[null,4.4949588608212321E-5,0.16215984472146291,8.6846522515821685E-4,0.142754228127323,{"$f":"IF($C$2=1,-($O$31-2)*D73/$O$30,3*($O$30/D73)^2)","v":-0.48288501895075153},6.7016530403275789,4.2930787259038734,0.64059996840630629,1.0867390163966399,458.33333333333337,0.15366576866258877,-203.03776786662237,-6.8072628363841717E-2,2.116576097609444E-2,1.7516730739496247E-2,1.3084774134230706,-1.7544855535499976E-3,null,null,null,null,7.4986780743096546E-2,null,0.16283731586138353,8.2351563655000447E-4,0.13536562621152715,-0.45789209773971423,6.4191156709760797,4.1465829788290351,0.64597417952409519,1.0452715660654888,451.52277353085952,0.15138238704716403,-194.21827346487956,-6.5115709702476168E-2,2.1156243756838517E-2,1.2617696628151289,1.6541003575670146E-2,2.8530725254135442E-4,8.2351563655000447E-4,1.2639530444305538,6.4191156709760797,0.15366576866258877,0.20067763124412852,-1.2640530444305538,0,2.2074539436854133E-2,0.10444753088574334,7.8835221481490123E-2,7.8835221481490123E-2,0.16749437377840856,451.52277353085952,-194.21827346487956]
[null,"De","hc","e0","a'","b'","N'","tN'","t","Nc","sac","Nac","sat","Nat","Mtot","u","N","Mo","a''","b''","c''",null,"x",null,0.18848976572271808,7.1903977221157115E-4,0.11819237512499013,-0.39980130922049678,5.5868006596290076,3.7492022226566686,0.67108215436232066,1.0530547474729985,411.71158496688611,0.13803485928268205,-217.62540800100277,-7.296343767487326E-2,1.5969688609627108E-2,1.264053044430554,1.2476968519235363E-2,1.9813856762346607E-4,0,1.2639530444305538,5.5868006596290076,0.17521852877285848,0.17521852877285848,-1.2640530444305538,7.0087411509143407E-3,1.9274038165014433E-2,0.21187650477263789,0.20420082530814582,0,0.19032550216857472,0,0]
[null,null,{"$f":"$C$35","v":4.1544915655417694E-2},{"$f":"$D$35","v":3.8256566053946229E-4},{"$f":"$E$35","v":6.28843435479884E-2},{"$f":"$F$35","v":-0.21271459223465167},{"$f":"IF($C$2=1,0.5*($O$31*D75*$F$6/$O$30)*(1-W75^2+(E75-F75)*(F75^2*(1-W75^2)+2*F75*(1-W75)+2*LN((1-F75)/(1-F75*W75)))/(F75^3)),$F$6*F75*(LN((1-E75+E75^2)/(1+E75)^2)/(6*E75)+ATAN((2-E75)/(E75*3^0.5))/(E75*3^0.5)-LN((W75^2-E75*W75+E75^2)/(W75+E75)^2)/(6*E75)-ATAN((2*W75-E75)/(E75*3^0.5))/(E75*3^0.5)))","v":3.6164179713546631},{"$f":"IF($C$2=1,($O$31*D75*$F$6/$O$30)*(1-W75^3-(E75-F75)*(-2*F75^3*(1-W75^3)-3*F75^2*(1-W75^2)-6*F75*(1-W75)-6*LN((1-F75)/(1-F75*W75)))/(2*F75^4))/3,$F$6*F75*(LN((1+E75^3)/(E75^3+W75^3)))/3)","v":2.3589615237756383},{"$f":"$I$35","v":0.65229227994683425},{"$f":"$J$35","v":0.15024377959466625},{"$f":"$K$35","v":10.340089653207192},{"$f":"$L$35","v":3.4667297991276304E-3},{"$f":"$M$35","v":458.16851350986366},{"$f":"$N$35","v":0.15361050939379392},{"$f":"$O$35","v":1.4595642140814678E-2},{"$f":"$P$35","v":3.011841020334027E-2},{"$f":"$Q$35","v":9.9999999999961231E-5},{"$f":"$R$35","v":1.4592630299794346E-2},null,null,null,null,{"$f":"IF(C75<$C$6,0,(C75-$C$6)/C75)","v":0},null,0.24007073718415786,6.1456390787313782E-4,0.10101912403845312,-0.34171052070127933,4.4074770061905699,3.1861179652900535,0.72288929943706037,1.0581062539983952,372.25695856857089,0.12480687638931687,-242.01308849268608,-8.1139914042841571E-2,1.0494556025050608E-2,1.2640530444305536,8.3728202191640268E-3,-8.9132863453375219E-5,0,1.2639530444305538,4.4074770061905699,0.14975942630158851,0.14975942630158851,-1.2640530444305538,5.99037705206354E-3,1.6473536893174733E-2,0.37446481671560694,0.37518415713892173,0,0.23979466544538719,0,0]
[null,{"$f":"IF(R56>$Q$29*V56,B56,-0.7*B56)","v":-4.0714933842728459E-6},{"$f":"IF(Q56>Q55,C56,(1-$T$6)*C56+$T$6*C57)","v":4.4336691510533544E-2},{"$f":"D56+B76","v":4.279923947502637E-4},{"$f":"IF($C$2=1,D76/($O$31*$O$30),2^(1/3)*$O$30/D76)","v":7.0351376413267039E-2},{"$f":"IF($C$2=1,-($O$31-2)*D76/$O$30,3*($O$30/D76)^2)","v":-0.23797281648451418},{"$f":"IF($C$2=1,0.5*($O$31*D76*$F$6/$O$30)*(1-W76^2+(E76-F76)*(F76^2*(1-W76^2)+2*F76*(1-W76)+2*LN((1-F76)/(1-F76*W76)))/(F76^3)),$F$6*F76*(LN((1-E76+E76^2)/(1+E76)^2)/(6*E76)+ATAN((2-E76)/(E76*3^0.5))/(E76*3^0.5)-LN((W76^2-E76*W76+E76^2)/(W76+E76)^2)/(6*E76)-ATAN((2*W76-E76)/(E76*3^0.5))/(E76*3^0.5)))","v":3.9687270284859335},{"$f":"IF($C$2=1,($O$31*D76*$F$6/$O$30)*(1-W76^3-(E76-F76)*(-2*F76^3*(1-W76^3)-3*F76^2*(1-W76^2)-6*F76*(1-W76)-6*LN((1-F76)/(1-F76*W76)))/(2*F76^4))/3,$F$6*F76*(LN((1+E76^3)/(E76^3+W76^3)))/3)","v":2.5824091208272053},{"$f":"H76/G76","v":0.65068952898289723},{"$f":"G76*C76*$D$6","v":0.1759602259514973},{"$f":"MAX(MIN($K$6,$Q$6*$J$6*D76*(C76-$I$6)/C76),-$K$6)","v":30.427251666444388},{"$f":"K76*$H$6","v":1.0201368034067369E-2},{"$f":"MIN($O$6,$Q$6*$N$6*D76*(C$6-C76-$M$6)/C76)","v":458.33333333333337},{"$f":"M76*$L$6","v":0.15366576866258877},{"$f":"(0.5*$C$6-C76+I76*C76)*J76+(0.5*$C$6-$I$6)*L76+(0.5*$C$6-$M$6)*N76","v":1.6207223097497413E-2},{"$f":"0.1*$Q$6*D76*$B$6^2/C76+$R$6","v":3.1573062590784601E-2},{"$f":"(J76+L76-N76)","v":3.2495825322975902E-2},{"$f":"O76-P76*Q76","v":1.518123037063589E-2},{"$f":"((R76-R75)*(Q76-Q77)-(R76-R77)*(Q76-Q75))/((Q76^2-Q75^2)*(Q76-Q77)-(Q76^2-Q77^2)*(Q76-Q75))","v":-6.4238373414346572E-2},{"$f":"-(S76*(Q76^2-Q75^2)-(R76-R75))/(Q76-Q75)","v":2.0262912693590023E-2},{"$f":"R76-S76*Q76^2-T76*Q76","v":1.4590604650908721E-2},{"$f":"S56*Q76^2+T56*Q76+U56","v":1.5185184211126655E-2},{"$f":"IF(C76<$C$6,0,(C76-$C$6)/C76)","v":0},null,0.35840434726587717,5.100880435347045E-4,8.3845872951916103E-2,-0.28361973218206193,2.9784091317418171,2.3733464737452041,0.79685038850160805,1.0674747807526539,329.36867345535779,0.11042768810158854,-256.95820751840012,-8.6150575576311145E-2,3.1877847806862491E-3,1.2640530444305538,4.6549585245187096E-3,-2.6963297139295846E-3,0,1.2639530444305538,2.9784091317418171,0.12430032383031847,0.12430032383031847,-1.2640530444305538,4.9720129532127393E-3,1.3673035621335032E-2,0.56297867687534198,0.58147829080676683,0,0.34323268010703745,0,0]
[null,{"$f":"IF(R57>$Q$29*V57,B57,-0.7*B57)","v":-9.0223179613231416E-6},{"$f":"IF(Q57>Q56,C57,(1-$T$6)*C57+$T$6*C58)","v":4.686581864712229E-2},{"$f":"D57+B77","v":4.761430732335097E-4},7.8266158423600754E-2,-0.26474561131649821,4.3271703066358134,2.8083781948572373,0.64901032218457544,0.20279637884600657,50.699656623527922,1.6998112813055404E-2,458.33333333333337,0.15366576866258877,1.7847081741428905E-2,{"$f":"0.1*$Q$6*D77*$B$6^2/C77+$R$6","v":3.3229606916795114E-2},6.612872299647321E-2,1.5649650270346472E-2,-6.3200917671790119E-2,2.016059408957897E-2,1.4592834047263574E-2,{"$f":"MAX(S57*Q77^2+T57*Q77+U57,S58*Q77^2+T58*Q77+U58)","v":1.5643968186946425E-2},0,null,0.68959563632310472,4.0561217919627118E-4,6.6672621865379103E-2,-0.22552894366284448,1.5775482994364087,1.3861276277915782,0.87865939083246003,1.0878704233802821,277.70967370299508,9.3107935580961698E-2,-247.78386128645283,-8.3074685469309906E-2,-9.0871506399300105E-3,1.2640530444305536,1.9238022267777188E-3,-1.1518938701570664E-2,0,1.2639530444305538,1.5775482994364087,9.8841221359048451E-2,9.8841221359048451E-2,-1.2640530444305538,3.9536488543619385E-3,1.0872534349495328E-2,0.74792947905746243,0.78248122218436045,0,0.59507156742931577,0,0]
[null,-1.4816975578035611E-5,4.9178183027429483E-2,5.2341661901668618E-4,8.6036761487056274E-2,-0.29103070183030627,4.6647710157666236,3.019880661781329,0.64738025758913531,0.22940496279441916,71.000788182138663,2.3804488781799239E-2,458.33333333333337,0.15366576866258877,1.9438674285057727E-2,3.4811198018689635E-2,9.9543682913629611E-2,1.5973439427641713E-2,-5.7943840494945463E-2,1.9289641465636023E-2,1.4627439791497346E-2,{"$f":"MAX(S58*Q78^2+T58*Q78+U58,S59*Q78^2+T59*Q78+U59)","v":1.5943312531992371E-2},0,null,1.9243884597916012,3.0113631485783785E-4,4.9499370778842082E-2,-0.16743815514362706,0.5835665378498055,0.55170988615862249,0.94541042087752114,1.1230087109587044,214.32471284034932,7.185681107345647E-2,-206.36312200122711,-6.9187522398393042E-2,{"$f":"(0.5*$C$6-Y78+AE78*Y78)*AF78+(0.5*$C$6-$I$6)*AH78+(0.5*$C$6-$M$6)*AJ78","v":-3.365473416126176E-2},1.264053044430554,5.1181655394357168E-4,-3.4301697434464089E-2,0,1.2639530444305538,0.5835665378498055,7.338211888777843E-2,7.338211888777843E-2,-1.2640530444305538,2.9352847555111378E-3,8.0720330776556277E-3,0.88905146665961488,0.9220531596742978,0,1.3519782144375598,0,0]
[null,2.9337929157055242E-5,5.255221950735349E-2,5.9617228826847036E-4,9.7995996128872942E-2,-0.33148439152067005,5.1581338955876701,3.3265063975345104,0.64490501116693466,0.27107138472924358,103.49817085568813,3.4699911228460924E-2,458.33333333333337,0.15366576866258877,2.1864681462759824E-2,3.7104335896751196E-2,0.15210552729511576,1.6220906886249394E-2,-0.1287122593579938,3.7098458180243814E-2,1.3555924944055503E-2,1.6060682987445823E-2,0,null,9.0172811121007133,{"$f":"0.1*$O$30","v":1.9666045051940388E-4},3.2326119692304964E-2,-0.10934736662440928,0.12964042967153105,0.12743876452397207,0.98301714092480774,1.1690041978417178,142.30418507385716,4.7710433418060104E-2,-141.19457373042454,-4.7338413170775813E-2,-9.13320489038245E-2,1.2640530444305538,7.1332157792094455E-5,-1.0343016974344641,0,1.2639530444305538,0.12964042967153105,4.7923016416508264E-2,4.7923016416508264E-2,{"$f":"-(AP79+0.0001)","v":-1.2640530444305538},1.9169206566603304E-3,5.2715318058159082E-3,0.96586233865823157,0.98336527406263197,0,4.393974106728602,0,0]
[null,3.0453047689280748E-5,5.6242100708700393E-2,6.1883246866118163E-4,0.10172076997989049,-0.34408393070932136,5.3055969431106274,3.4175572198375854,0.64414188572603859,0.29839791759420087,129.8928316005742,4.3549269407263488E-2,429.91764951346181,0.14413882052530808,2.2976729007247967E-2,3.5987816643045185E-2,0.19780836647615629,1.5858037784043769E-2,-5.0148201972076069E-2,9.6078029498676762E-3,1.5919740338475073E-2,1.5427306190401734E-2,0,null,null,null,null,null,null,null,null,null,{"$f":"MAX(BA63:BA79)","v":451.52277353085952},null,{"$f":"MAX(BB63:BB79)","v":0},null,null,null,null,null,{"$f":"MAX(AN63:AN79)","v":2.8530725254135442E-4},1.2639530444305538]
[null,3.1568166221506252E-5,6.0285666570009291E-2,6.414926490538929E-4,0.10544554383090804,-0.35668346989797267,5.4502251176430914,3.5065782907043288,0.64338228513774165,0.32857045417372105,156.89110678939656,5.2601001864255092E-2,384.49497176787952,0.12890992447333433,2.393175110512602E-2,3.4803390764396328E-2,0.25226153156464182,1.5152194447256693E-2,1.2258317540134806E-2,-1.8479492924074158E-2,1.903379080706823E-2,1.4831779934405504E-2,0,null,{"$f":"0.5*(-(AR81+AS81+AT81)+SQRT((AR81+AS81+AT81)^2+4*AQ81*(AU81+AV81)))/AQ81","v":0.16225593270842698},{"$f":"MAX(AO63:AO79)","v":8.2351563655000447E-4},0.13536562621152715,{"$f":"IF($C$2=1,-($O$31-2)*Z81/$O$30,3*($O$30/Z81)^2)","v":-0.45789209773971423},{"$f":"IF($C$2=1,0.5*($O$31*Z81*$F$6/$O$30)*(1-AW81^2+(AA81-AB81)*(AB81^2*(1-AW81^2)+2*AB81*(1-AW81)+2*LN((1-AB81)/(1-AB81*AW81)))/(AB81^3)),$F$6*AB81*(LN((1-AA81+AA81^2)/(1+AA81)^2)/(6*AA81)+ATAN((2-AA81)/(AA81*3^0.5))/(AA81*3^0.5)-LN((AW81^2-AA81*AW81+AA81^2)/(AW81+AA81)^2)/(6*AA81)-ATAN((2*AW81-AA81)/(AA81*3^0.5))/(AA81*3^0.5)))","v":6.4602711060290066},{"$f":"IF($C$2=1,($O$31*Z81*$F$6/$O$30)*(1-AW81^3-(AA81-AB81)*(-2*AB81^3*(1-AW81^3)-3*AB81^2*(1-AW81^2)-6*AB81*(1-AW81)-6*LN((1-AB81)/(1-AB81*AW81)))/(2*AB81^4))/3,$F$6*AB81*(LN((1+AA81^3)/(AA81^3+AW81^3)))/3)","v":4.1503777807701203},{"$f":"AD81/AC81","v":0.64244637920795722},{"$f":"AC81*Y81*$D$6","v":1.0482173138580375},{"$f":"MAX(MIN($K$6,$Q$6*$J$6*Z81*(Y81-$I$6)/Y81),-$K$6)","v":450.99594269014926},0.1512057560665977,{"$f":"MIN($O$6,$Q$6*$N$6*Z81*(C$6-Y81-$M$6)/Y81)","v":-192.7694886529263},-6.4629974505918758E-2,{"$f":"(0.5*$C$6-Y81+AE81*Y81)*AF81+(0.5*$C$6-$I$6)*AH81+(0.5*$C$6-$M$6)*AJ81","v":2.0833917733695223E-2},{"$f":"AF81+AH81-AJ81","v":1.264053044430554},{"$f":"0.1*$Q$6*Z81*$B$6^2/Y81+$R$6","v":1.6600272045250053E-2},{"$f":"AK81-AM81*AL81","v":-1.497066834785267E-4},{"$f":"IF(AN81=$AO$69,Z81,0)","v":0},{"$f":"AP80","v":1.2639530444305538},{"$f":"AC81*$D$6","v":6.4602711060290066},{"$f":"IF(AG80<$K$6,$Q$6*Z81*$H$6*$J$6,$H$6*$K$6)","v":0.20067763124412852},{"$f":"IF(AI80<$O$6,$Q$6*Z81*$L$6*$N$6,-$L$6*$O$6)","v":0.20067763124412852},{"$f":"-(AP81+0.0001)","v":-1.2640530444305538},{"$f":"IF(AG80<$K$6,$I$6*$Q$6*Z81*$H$6*$J$6,0)","v":8.0271052497651405E-3},{"$f":"IF(AI80<$O$6,($C$6-$M$6)*$Q$6*Z81*$L$6*$N$6,0)","v":2.2074539436854133E-2},{"$f":"MAX(AY63:AY79)","v":7.8835221481490123E-2},{"$f":"IF(Y81<=$C$6,0,(Y81-$C$6)/Y81)","v":7.5534573706163496E-2}]
[null,3.2683284753731755E-5,6.4726330142402158E-2,6.6415282944660438E-4,0.10917031768192563,-0.36928300908662409,5.5920782101102535,3.5936154580960618,0.64262610841152912,0.3619547004097296,184.40731043182907,6.1826380591653018E-2,337.6479907748697,0.11320350117774333,2.4900093062327773E-2,3.356069793471636E-2,0.31057757982363932,1.4476892720571356E-2,9.8863463922572604E-3,-1.7144454790964124E-2,1.8847954514971489E-2,1.4268947386776244E-2,0,null,{"$f":"0.5*(-(AR82+AS82+AT82)+SQRT((AR82+AS82+AT82)^2+4*AQ82*(AU82+AV82)))/AQ82","v":0.16215984472146291},{"$f":"Z81","v":8.2351563655000447E-4},0.13536562621152715,{"$f":"IF($C$2=1,-($O$31-2)*Z82/$O$30,3*($O$30/Z82)^2)","v":-0.45789209773971423},{"$f":"IF($C$2=1,0.5*($O$31*Z82*$F$6/$O$30)*(1-AW82^2+(AA82-AB82)*(AB82^2*(1-AW82^2)+2*AB82*(1-AW82)+2*LN((1-AB82)/(1-AB82*AW82)))/(AB82^3)),$F$6*AB82*(LN((1-AA82+AA82^2)/(1+AA82)^2)/(6*AA82)+ATAN((2-AA82)/(AA82*3^0.5))/(AA82*3^0.5)-LN((AW82^2-AA82*AW82+AA82^2)/(AW82+AA82)^2)/(6*AA82)-ATAN((2*AW82-AA82)/(AA82*3^0.5))/(AA82*3^0.5)))","v":6.4647770565700657},{"$f":"IF($C$2=1,($O$31*Z82*$F$6/$O$30)*(1-AW82^3-(AA82-AB82)*(-2*AB82^3*(1-AW82^3)-3*AB82^2*(1-AW82^2)-6*AB82*(1-AW82)-6*LN((1-AB82)/(1-AB82*AW82)))/(2*AB82^4))/3,$F$6*AB82*(LN((1+AA82^3)/(AA82^3+AW82^3)))/3)","v":4.1507256227322342},{"$f":"AD82/AC82","v":0.64205239970555639},{"$f":"AC82*Y82*$D$6","v":1.0483272436522779},{"$f":"MAX(MIN($K$6,$Q$6*$J$6*Z82*(Y82-$I$6)/Y82),-$K$6)","v":450.90850705723352},0.15117644145480025,{"$f":"MIN($O$6,$Q$6*$N$6*Z82*(C$6-Y82-$M$6)/Y82)","v":-192.52904066240791},-6.4549359323475747E-2,{"$f":"(0.5*$C$6-Y82+AE82*Y82)*AF82+(0.5*$C$6-$I$6)*AH82+(0.5*$C$6-$M$6)*AJ82","v":2.0806622188254624E-2},{"$f":"AF82+AH82-AJ82","v":1.264053044430554},{"$f":"0.1*$Q$6*Z82*$B$6^2/Y82+$R$6","v":1.6610108553953076E-2},{"$f":"AK82-AM82*AL82","v":-1.8943609769174821E-4},{"$f":"IF(AN82=$AO$69,Z82,0)","v":0},{"$f":"AP81","v":1.2639530444305538},{"$f":"AC82*$D$6","v":6.4647770565700657},{"$f":"IF(AG81<$K$6,$Q$6*Z82*$H$6*$J$6,$H$6*$K$6)","v":0.20067763124412852},{"$f":"IF(AI81<$O$6,$Q$6*Z82*$L$6*$N$6,-$L$6*$O$6)","v":0.20067763124412852},{"$f":"-(AP82+0.0001)","v":-1.2640530444305538},{"$f":"IF(AG81<$K$6,$I$6*$Q$6*Z82*$H$6*$J$6,0)","v":8.0271052497651405E-3},{"$f":"IF(AI81<$O$6,($C$6-$M$6)*$Q$6*Z82*$L$6*$N$6,0)","v":2.2074539436854133E-2},{"$f":"IF(Y81<=$C$6,0,(Y81-$C$6)/Y81)","v":7.5534573706163496E-2},{"$f":"IF(Y82<=$C$6,0,(Y82-$C$6)/Y82)","v":7.4986780743096546E-2}]
[null,3.3798403285957259E-5,6.9614059201644651E-2,6.8681300983931565E-4,0.11289509153294318,-0.3818825482752754,5.7312142423412515,3.6787131518503453,0.64187325692217689,0.39897308756365291,212.35912252137356,7.1197806097657593E-2,289.60308655230165,9.7095449240983969E-2,2.5866584587396636E-2,3.2268999154736272E-2,0.37307544442032653,1.3827813386744261E-2,6.977388721999783E-3,-1.5155737082294915E-2,1.8510896880856175E-2,1.3732142442153348E-2,0]
[null,3.4913521818182769E-5,7.5006560532026839E-2,7.0947319023202692E-4,0.11661986538396073,-0.39448208746392671,5.8676895344310704,3.7619144393911679,0.641123634322606,0.44011521024744449,240.66758903536089,8.068880740645254E-2,240.57738266251573,8.0658563846551054E-2,2.6808741511437372E-2,3.093717675200636E-2,0.44014545380734599,1.3191883810407458E-2,2.8848076328873248E-2,-3.2941437302813376E-2,2.210222695848511E-2,1.3205154122228165E-2,0]
[null,-2.522004824528579E-5,8.0970715199564836E-2,6.708846820290442E-4,0.11027686794028289,-0.37302606139047761,5.6336936525326173,3.6190966873060635,0.64240210961401933,0.45616420426081472,246.7316555715008,8.2721911651173305E-2,174.81861041430014,5.8611569772739791E-2,2.5950772278182817E-2,2.7099659956230062E-2,0.48027454613924819,1.2935495392176467E-2,-3.8038390843771878E-3,-2.8879613198932084E-3,1.5199917072274513E-2,1.2900248941803376E-2,0,null,{"$f":"IF(Kold!$AO$5=1,Makro!A1,Makro!B1)","v":1}]
[null,-2.6000631217843641E-5,8.758432627758074E-2,6.9164916091697226E-4,0.11369003529603078,-0.38457155047954611,5.7605623431897559,3.6966277669389149,0.64171300416688259,0.50453497180827667,273.12082307322964,9.1569428106123785E-2,128.65974441026327,4.3135851317967953E-2,2.6722336203570098E-2,2.5828750766795975E-2,0.55296854859643252,1.2439849379995933E-2,-5.292825740729889E-3,-1.3494761390632109E-3,1.4804476881882703E-2,1.234523685811499E-2,0,null,"Lastpunkter","hc","e0","a'","b'","N'","tN'","t","Nc","sac","Nac","sat","Nat","Mtot","u","N","Mo","x"]
[null,-2.6781214190401492E-5,9.4938257676883894E-2,7.1241363980490021E-4,0.11710320265177865,-0.39611703956861455,5.8852067869295732,3.7725740552202827,0.64102659291407971,0.55873127841926573,299.63826772044587,0.10045995213815753,82.148116256136319,2.7541862026217213E-2,2.7343174301945807E-2,2.4543410398494569E-2,0.63164936853120601,1.1840344622134477E-2,-9.3528415260786188E-3,3.4600913040819348E-3,1.3386385496114296E-2,1.1698303675952662E-2,0,"A",{"$f":"IF($C$2=1,IF($Y$85=1,Kold!DB55,IF($Y$85=2,Kold!DB65,IF($Y$85=3,Kold!DB75,IF($Y$85=4,Kold!DB85,10)))),IF($Y$85=1,BRAND!CZ55,IF($Y$85=2,BRAND!CZ65,IF($Y$85=3,BRAND!CZ75,IF($Y$85=4,BRAND!CZ85,10)))))/1000","v":0.44519999999999993},{"$f":"Z88+(Z91-Z90)*(Y87-AN88)/(Y91-Y90)","v":7.680203111258059E-2},{"$f":"AA88+(AA91-AA90)*(Y87-AN88)/(Y91-Y90)","v":6.8114345369663055E-4},{"$f":"IF($C$2=1,AA87/($O$31*$O$30),2^(1/3)*$O$30/AA87)","v":0.11196315656591432},{"$f":"IF($C$2=1,-($O$31-2)*AA87/$O$30,3*($O$30/AA87)^2)","v":-0.37873015524203207},{"$f":"IF($C$2=1,0.5*($O$31*AA87*$F$6/$O$30)*(1-AP87^2+(AB87-AC87)*(AC87^2*(1-AP87^2)+2*AC87*(1-AP87)+2*LN((1-AC87)/(1-AC87*AP87)))/(AC87^3)),$F$6*AC87*(LN((1-AB87+AB87^2)/(1+AB87)^2)/(6*AB87)+ATAN((2-AB87)/(AB87*3^0.5))/(AB87*3^0.5)-LN((AP87^2-AB87*AP87+AB87^2)/(AP87+AB87)^2)/(6*AB87)-ATAN((2*AP87-AB87)/(AB87*3^0.5))/(AB87*3^0.5)))","v":5.6966542857612676},{"$f":"IF($C$2=1,($O$31*AA87*$F$6/$O$30)*(1-AP87^3-(AB87-AC87)*(-2*AC87^3*(1-AP87^3)-3*AC87^2*(1-AP87^2)-6*AC87*(1-AP87)-6*LN((1-AC87)/(1-AC87*AP87)))/(2*AC87^4))/3,$F$6*AC87*(LN((1+AB87^3)/(AB87^3+AP87^3)))/3)","v":3.6576013308237267},{"$f":"AE87/AD87","v":0.64206131307035186},{"$f":"AD87*Z87*$D$6","v":0.43751461969265243},{"$f":"MAX(MIN($K$6,$Q$6*$J$6*AA87*(Z87-$I$6)/Z87),-$K$6)","v":237.22972023111268},{"$f":"AH87*$H$6","v":7.9536190492199579E-2},{"$f":"MIN($O$6,$Q$6*$N$6*AA87*(C$6-Z87-$M$6)/Z87)","v":213.99756027898886},{"$f":"AJ87*$L$6","v":7.1747126382958895E-2},{"$f":"(0.5*$C$6-Z87+AF87*Z87)*AG87+(0.5*$C$6-$I$6)*AI87+(0.5*$C$6-$M$6)*AK87","v":2.6081052716754351E-2},{"$f":"0.1*$Q$6*AA87*$B$6^2/Z87+$R$6","v":2.900746803279225E-2},{"$f":"AG87+AI87-AK87","v":0.44530368380189311},{"$f":"AL87-AM87*AN87","v":1.3163920343986309E-2},{"$f":"IF(Z87<$C$6,0,(Z87-$C$6)/Z87)","v":0}]
[null,-2.7561797162959347E-5,0.10313906536129758,7.3317811869282805E-4,0.12051637000752649,-0.40766252865768299,6.0076688462211303,3.8469675126661032,0.64034280369595853,0.6196253497994324,326.22397818434769,0.10937336370297898,35.44875710612348,1.188493201930008E-2,2.7731120736780277E-2,2.3250390125816006E-2,0.71711378148311133,1.1057945552698768E-2,-1.3417196386338282E-2,8.9419433681817567E-3,1.154537716216722E-2,1.0885605067777105E-2,0,null,1,{"$f":"Z90+(Z91-Z90)*(Y87*Y87/AN89-Y90)/(Y91-Y90)","v":7.6645095642600844E-2},{"$f":"AA90+(AA91-AA90)*(Y87*Y87/AN89-Y90)/(Y91-Y90)","v":6.8334222776777413E-4},0.11232458070387596,-0.37995272009351383,5.7100771963125823,3.6658030765822573,0.64198835682108402,0.43764941283801195,237.46585696770867,7.9615360237229038E-2,216.144911301522,7.2467070409430054E-2,2.6137562644850041E-2,2.9160692245879114E-2,0.44479770266581092,1.3166953725738284E-2,0]
[null,-2.8342380135517205E-5,0.11231225223019801,7.53942597580756E-4,0.12392953736327436,-0.41920801774675137,6.1279892776922926,3.9198392167986911,0.63966156583662348,0.68824827742012573,352.82102752906161,0.11829057686307848,-11.28178396612217,-3.7824523746314885E-3,2.7772707550939153E-2,2.1956094229046107E-2,0.81032130665783564,9.9812165861559478E-3,-1.7394425903931733E-2,1.5016903286943889E-2,9.2342386147205319E-3,9.802145231689258E-3,0,null,{"$f":"VLOOKUP(Y87,Resultat,7)","v":10},{"$f":"Z90+(Z91-Z90)*(Y87-Y90)/(Y91-Y90)","v":7.7533080126563458E-2},{"$f":"AA90+(AA91-AA90)*(Y87-Y90)/(Y91-Y90)","v":6.7090095327981597E-4},0.11027954253193872,-0.37303510854977617,5.6337939500240983,3.6191580703845037,0.64240156855027031,0.43680539774376687,236.05706583329905,7.9143033751656461E-2,204.19442838489942,6.8460422824109454E-2,2.5815786970712441E-2,2.830188177116991E-2,0.44748800867131389,1.315103425528066E-2,0]
[null,-2.9122963108075056E-5,0.12260631802291558,7.7470707646868405E-4,0.12734270471902226,-0.43075350683581992,6.2462077697484064,3.9912193931490569,0.63898281009467939,0.76582453625497937,379.37557321164132,0.12719353978773179,-57.89543996749908,-1.9410648621086199E-2,2.731155884735641E-2,2.0666579994266292E-2,0.91242872466379732,8.4547776200256698E-3,-2.1202581536580823E-2,2.1577403522367762E-2,6.4186390042794694E-3,8.3005188480753424E-3,0,null,{"$f":"INDEX(Resultat,Y89,1)","v":0.43872337557730245},{"$f":"INDEX(Resultat,Y89,3)","v":7.5006560532026839E-2},{"$f":"INDEX(Resultat,Y89,4)","v":7.0629923370310133E-4},0.11609814534121071,-0.39271730055684023,5.8487319536551112,3.7503732737751196,0.64122844122329081,0.43869326731743169,239.59091908357632,8.0327831444844774E-2,239.50111626524173,8.0297723184973982E-2,2.6718556843813031E-2,3.0798773700995447E-2,0.43872337557730245,1.320641488207086E-2,0]
[null,-2.9903546080632907E-5,0.13419782954979564,7.95471555356612E-4,0.13075587207477013,-0.44229899592488836,6.3623629786269857,4.0611374449394537,0.63830646861582507,0.85381530253971438,405.83685708206878,0.13606523475300059,-104.25262598545706,-3.4952857979233379E-2,2.6132178022452737E-2,1.9387557713353619E-2,1.0248333952719484,6.2631614250456963E-3,-2.6691404180043697E-2,3.2210691712593977E-2,1.286109956729127E-3,6.1884310626616305E-3,0,null,{"$f":"INDEX(Resultat,Y89+1,1)","v":0.45401222980350781},{"$f":"INDEX(Resultat,Y89+1,3)","v":8.0970715199564836E-2},{"$f":"INDEX(Resultat,Y89+1,4)","v":6.2273731719713515E-4},0.10236263061236728,-0.34625510901866613,5.330720041025705,3.4330409651640004,0.64401074127753954,0.43163221425050491,229.02447078312059,7.6785210208212704E-2,162.27240740729769,5.44051946552098E-2,2.4522409045620624E-2,2.5154799312241176E-2,0.45401222980350781,1.3101822519610264E-2,0]
[null,4.3834470075986804E-5,0.14729780979304705,8.9075463337371752E-4,0.14641805619210121,-0.49527840097313736,6.8699503222612854,4.3640124252728123,0.6352320206933274,1.011928635856125,458.33333333333337,0.15366576866258877,-163.93683931919426,-5.4963230020580262E-2,2.4978792175469274E-2,1.9779064267572543E-2,1.2205576345392941,8.3730427964025592E-4,-1.7217287402809818E-2,1.0937594885608819E-2,1.3136981590752416E-2,{"$f":"S72*Q92^2+T72*Q92+U72","v":1.0689748886634834E-3},0,"B",{"$f":"IF($C$2=1,IF($Y$85=1,Kold!DB56,IF($Y$85=2,Kold!DB66,IF($Y$85=3,Kold!DB76,IF($Y$85=4,Kold!DB86,10)))),IF($Y$85=1,BRAND!CZ56,IF($Y$85=2,BRAND!CZ66,IF($Y$85=3,BRAND!CZ76,IF($Y$85=4,BRAND!CZ86,10)))))/1000","v":0.4536},{"$f":"Z93+(Z96-Z95)*(Y92-AN93)/(Y96-Y95)","v":8.0661810190005498E-2},{"$f":"AA93+(AA96-AA95)*(Y92-AN93)/(Y96-Y95)","v":6.2706528923273087E-4},0.10307404229518458,-0.34866155293591822,5.3584674619921389,3.4501323738375747,0.64386550787319796,0.43222368532853039,229.75392163628447,7.7029773755964731E-2,165.77137444345055,5.5578296020596323E-2,2.464180554357406E-2,2.54266261765544E-2,0.45367516306389882,1.3106376766760944E-2,0]
[null,null,{"$f":"C73","v":0.16215984472146291},{"$f":"D73+(D92-D72)","v":9.1229969523420364E-4},0.14995953210472487,-0.50725791069144599,6.9233668654455256,4.4258017440317445,0.6392557017483631,1.1226920958503679,458.33333333333337,0.15366576866258877,-213.28579242998148,-7.1508491429590815E-2,2.1401900909145365E-2,1.8400861257548574E-2,1.3478663559425477,-3.400000900271035E-3,null,null,null,null,7.4986780743096546E-2,null,1,{"$f":"Z95+(Z96-Z95)*(Y92*Y92/AN94-Y95)/(Y96-Y95)","v":8.0715226888053201E-2},{"$f":"AA95+(AA96-AA95)*(Y92*Y92/AN94-Y95)/(Y96-Y95)","v":6.2631688448619037E-4},0.10295102304372318,-0.34824542408038439,5.3536766513672456,3.4471821403837528,0.64389061291241712,0.43212322560038013,229.62910553821698,7.6987926566907977E-2,165.1626865318816,5.53742207570177E-2,2.4621204757966055E-2,2.5379472347363482E-2,0.45373693141027038,1.3105600854261537E-2,0]
[null,"De","hc","e0","a'","b'","N'","tN'","t","Nc","sac","Nac","sat","Nat","Mtot","u","N","Mo","a''","b''","c''",null,"x",null,{"$f":"VLOOKUP(Y92,Resultat,7)","v":10},{"$f":"Z95+(Z96-Z95)*(Y92-Y95)/(Y96-Y95)","v":8.0809905091082324E-2},{"$f":"AA95+(AA96-AA95)*(Y92-Y95)/(Y96-Y95)","v":6.249903776235305E-4},0.10273297808602196,-0.34750785823093178,5.3451776538447708,3.4419476117733727,0.64393511959281458,0.43194329890217004,229.40651428207684,7.6913298225513779E-2,164.0875642732401,5.5013763691678638E-2,2.4584644186794152E-2,2.5296047907127521E-2,0.45384283343600518,1.3104214129890469E-2,0]
[null,null,{"$f":"$C$35","v":4.1544915655417694E-2},{"$f":"$D$35","v":3.8256566053946229E-4},{"$f":"$E$35","v":6.28843435479884E-2},{"$f":"$F$35","v":-0.21271459223465167},{"$f":"IF($C$2=1,0.5*($O$31*D95*$F$6/$O$30)*(1-W95^2+(E95-F95)*(F95^2*(1-W95^2)+2*F95*(1-W95)+2*LN((1-F95)/(1-F95*W95)))/(F95^3)),$F$6*F95*(LN((1-E95+E95^2)/(1+E95)^2)/(6*E95)+ATAN((2-E95)/(E95*3^0.5))/(E95*3^0.5)-LN((W95^2-E95*W95+E95^2)/(W95+E95)^2)/(6*E95)-ATAN((2*W95-E95)/(E95*3^0.5))/(E95*3^0.5)))","v":3.6164179713546631},{"$f":"IF($C$2=1,($O$31*D95*$F$6/$O$30)*(1-W95^3-(E95-F95)*(-2*F95^3*(1-W95^3)-3*F95^2*(1-W95^2)-6*F95*(1-W95)-6*LN((1-F95)/(1-F95*W95)))/(2*F95^4))/3,$F$6*F95*(LN((1+E95^3)/(E95^3+W95^3)))/3)","v":2.3589615237756383},{"$f":"$I$35","v":0.65229227994683425},{"$f":"$J$35","v":0.15024377959466625},{"$f":"$K$35","v":10.340089653207192},{"$f":"$L$35","v":3.4667297991276304E-3},{"$f":"$M$35","v":458.16851350986366},{"$f":"$N$35","v":0.15361050939379392},{"$f":"$O$35","v":1.4595642140814678E-2},{"$f":"$P$35","v":3.011841020334027E-2},{"$f":"$Q$35","v":9.9999999999961231E-5},{"$f":"$R$35","v":1.4592630299794346E-2},null,null,null,null,{"$f":"IF(C95<$C$6,0,(C95-$C$6)/C95)","v":0},null,{"$f":"INDEX(Resultat,Y94,1)","v":0.43872337557730245},{"$f":"INDEX(Resultat,Y94,3)","v":7.5006560532026839E-2},{"$f":"INDEX(Resultat,Y94,4)","v":7.0629923370310133E-4},0.11609814534121071,-0.39271730055684023,5.8487319536551112,3.7503732737751196,0.64122844122329081,0.43869326731743169,239.59091908357632,8.0327831444844774E-2,239.50111626524173,8.0297723184973982E-2,2.6718556843813031E-2,3.0798773700995447E-2,0.43872337557730245,1.320641488207086E-2,0]
[null,{"$f":"IF(R76>$Q$29*V76,B76/0.5,IF(Q76>Q75,$U$6,-0.5)*B76)","v":4.0714933842728463E-7},{"$f":"IF(Q76>Q75,C76,(1-$T$6)*C76+$T$6*C77)","v":4.4336691510533544E-2},{"$f":"D76+B96","v":4.2839954408869097E-4},{"$f":"IF($C$2=1,D96/($O$31*$O$30),2^(1/3)*$O$30/D96)","v":7.041830170613543E-2},{"$f":"IF($C$2=1,-($O$31-2)*D96/$O$30,3*($O$30/D96)^2)","v":-0.23819920012119514},{"$f":"IF($C$2=1,0.5*($O$31*D96*$F$6/$O$30)*(1-W96^2+(E96-F96)*(F96^2*(1-W96^2)+2*F96*(1-W96)+2*LN((1-F96)/(1-F96*W96)))/(F96^3)),$F$6*F96*(LN((1-E96+E96^2)/(1+E96)^2)/(6*E96)+ATAN((2-E96)/(E96*3^0.5))/(E96*3^0.5)-LN((W96^2-E96*W96+E96^2)/(W96+E96)^2)/(6*E96)-ATAN((2*W96-E96)/(E96*3^0.5))/(E96*3^0.5)))","v":3.9718215956694238},{"$f":"IF($C$2=1,($O$31*D96*$F$6/$O$30)*(1-W96^3-(E96-F96)*(-2*F96^3*(1-W96^3)-3*F96^2*(1-W96^2)-6*F96*(1-W96)-6*LN((1-F96)/(1-F96*W96)))/(2*F96^4))/3,$F$6*F96*(LN((1+E96^3)/(E96^3+W96^3)))/3)","v":2.5843659973885749},{"$f":"H96/G96","v":0.65067524689587608},{"$f":"G96*C96*$D$6","v":0.17609742882207033},{"$f":"MAX(MIN($K$6,$Q$6*$J$6*D96*(C96-$I$6)/C96),-$K$6)","v":30.456197123275182},{"$f":"K96*$H$6","v":1.0211072599608883E-2},{"$f":"MIN($O$6,$Q$6*$N$6*D96*(C$6-C96-$M$6)/C96)","v":458.33333333333337},{"$f":"M96*$L$6","v":0.15366576866258877},{"$f":"(0.5*$C$6-C96+I96*C96)*J96+(0.5*$C$6-$I$6)*L96+(0.5*$C$6-$M$6)*N96","v":1.6215616566101855E-2},{"$f":"0.1*$Q$6*D96*$B$6^2/C96+$R$6","v":3.1603098058011675E-2},{"$f":"(J96+L96-N96)","v":3.2642732759090437E-2},{"$f":"O96-P96*Q96","v":1.518400508183485E-2},{"$f":"((R96-R95)*(Q96-Q97)-(R96-R97)*(Q96-Q95))/((Q96^2-Q95^2)*(Q96-Q97)-(Q96^2-Q97^2)*(Q96-Q95))","v":-6.4890184674021606E-2},{"$f":"-(S96*(Q96^2-Q95^2)-(R96-R95))/(Q96-Q95)","v":2.0296935252979206E-2},{"$f":"R96-S96*Q96^2-T96*Q96","v":1.4590601255170896E-2},{"$f":"S76*Q96^2+T76*Q96+U76","v":1.518359242444417E-2},{"$f":"IF(C96<$C$6,0,(C96-$C$6)/C96)","v":0},null,{"$f":"INDEX(Resultat,Y94+1,1)","v":0.45401222980350781},{"$f":"INDEX(Resultat,Y94+1,3)","v":8.0970715199564836E-2},{"$f":"INDEX(Resultat,Y94+1,4)","v":6.2273731719713515E-4},0.10236263061236728,-0.34625510901866613,5.330720041025705,3.4330409651640004,0.64401074127753954,0.43163221425050491,229.02447078312059,7.6785210208212704E-2,162.27240740729769,5.44051946552098E-2,2.4522409045620624E-2,2.5154799312241176E-2,0.45401222980350781,1.3101822519610264E-2,0]
[null,{"$f":"IF(R77>$Q$29*V77,B77/0.5,IF(Q77>Q76,$U$6,-0.5)*B77)","v":9.0223179613231423E-7},{"$f":"IF(Q77>Q76,C77,(1-$T$6)*C77+$T$6*C78)","v":4.686581864712229E-2},{"$f":"D77+B97","v":4.77045305029642E-4},7.8414463041814264E-2,-0.26524727126251846,4.3337441057320945,2.8125091036139076,0.64897904329281886,0.2031044653222755,50.795726155629055,1.7030322118863496E-2,458.33333333333337,0.15366576866258877,1.7865949976399894E-2,{"$f":"0.1*$Q$6*D97*$B$6^2/C97+$R$6","v":3.3292572881478182E-2},6.6469018778550215E-2,1.5653025324354669E-2,-0.12877315759974003,2.6628488593078835E-2,1.4451992425701728E-2,{"$f":"MAX(S77*Q97^2+T77*Q97+U77,S78*Q97^2+T78*Q97+U78)","v":1.5653659055090217E-2},0,"C",{"$f":"IF($C$2=1,IF($Y$85=1,Kold!DB57,IF($Y$85=2,Kold!DB67,IF($Y$85=3,Kold!DB77,IF($Y$85=4,Kold!DB87,10)))),IF($Y$85=1,BRAND!CZ57,IF($Y$85=2,BRAND!CZ67,IF($Y$85=3,BRAND!CZ77,IF($Y$85=4,BRAND!CZ87,10)))))/1000","v":0.5656000000000001},{"$f":"Z98+(Z101-Z100)*(Y97-AN98)/(Y101-Y100)","v":9.8844046674418026E-2},{"$f":"AA98+(AA101-AA100)*(Y97-AN98)/(Y101-Y100)","v":5.7760240667823945E-4},9.4943566352716668E-2,-0.32115914490877695,5.0351322025591632,3.2503444400691746,0.64553308817137911,0.49769284244162315,249.92657366778187,8.3793074294982131E-2,47.382349587329315,1.5885916735366809E-2,2.3378091630641144E-2,1.9112716494971437E-2,0.56560000000123856,1.2567939181061626E-2,0]
[null,{"$f":"IF(R78>$Q$29*V78,B78/0.75,IF(Q78>Q77,$U$6,-0.5)*B78)","v":-1.9755967437380816E-5},{"$f":"IF(Q78>Q77,C78,(1-$T$6)*C78+$T$6*C79)","v":4.9178183027429483E-2},5.0366065157930533E-4,8.2789368499135499E-2,-0.28004596642118024,4.5253669255929356,2.9327061576768991,0.64805930787427624,0.22254932293308524,68.320916721446679,2.29060062190556E-2,452.74781291802782,0.15179310694331927,1.8953828169711813E-2,3.3497275476823372E-2,9.3662222208821588E-2,1.5816398910611471E-2,-2.0768334325545788E-2,9.3335422095603294E-3,1.5124391142389825E-2,{"$f":"MAX(S78*Q98^2+T78*Q98+U78,S79*Q98^2+T79*Q98+U79)","v":1.5925831653913359E-2},0,null,1,{"$f":"Z100+(Z101-Z100)*(Y97*Y97/AN99-Y100)/(Y101-Y100)","v":9.8844047502810534E-2},{"$f":"AA100+(AA101-AA100)*(Y97*Y97/AN99-Y100)/(Y101-Y100)","v":5.7760240835553686E-4},9.4943566628422932E-2,-0.32115914584138977,5.0351322137579899,3.2503444470122278,0.64553308811454646,0.4976928477196263,249.92657581736418,8.3793075015674248E-2,47.382345809413685,1.5885915468742132E-2,2.3378091673521416E-2,1.9112716390292866E-2,0.56560000726655835,1.2567939144288102E-2,0]
[null,{"$f":"IF(R79>$Q$29*V79,B79,IF(Q79>Q78,$U$6,-0.5)*B79)","v":2.9337929157055242E-5},{"$f":"IF(Q79>Q78,C79,(1-$T$6)*C79+$T$6*C80)","v":5.255221950735349E-2},6.2551021742552563E-4,0.10281842690715369,-0.34779690014690728,5.3485094442411443,3.4439997746617386,0.64391767660987631,0.28107604235091382,108.59136633659182,3.6407510788872319E-2,458.33333333333337,0.15366576866258877,2.2473515468524906E-2,3.8930258368122861E-2,0.16381778447719739,1.6096046793534144E-2,-1.5326870110273819E-2,7.9324739670303696E-3,1.520788245389124E-2,1.6179155675296677E-2,0,null,{"$f":"VLOOKUP(Y97,Resultat,7)","v":13},{"$f":"Z100+(Z101-Z100)*(Y97-Y100)/(Y101-Y100)","v":9.8847688369006453E-2},{"$f":"AA100+(AA101-AA100)*(Y97-Y100)/(Y101-Y100)","v":5.776097802419459E-4},9.4944778384430745E-2,-0.32116324476602742,5.0351814335954455,3.2503749621285021,0.64553283828891228,0.49771604522944973,249.9360232913867,8.3796242477545357E-2,47.365741914593826,1.5880348668174237E-2,2.337828011340029E-2,1.9112256334670178E-2,0.56563193903882092,1.2567777503413809E-2,0]
[null,{"$f":"IF(R80>$Q$29*V80,B80,IF(Q80>Q79,$U$6,-0.5)*B80)","v":3.0453047689280748E-5},{"$f":"IF(Q80>Q79,C80,(1-$T$6)*C80+$T$6*C81)","v":5.6242100708700393E-2},6.4928551635046238E-4,0.10672649869656517,-0.36101646880590138,5.4993186985228446,3.5367320353870473,0.64312185368290042,0.30929323607156101,136.2849212137547,4.5692350200942464E-2,451.07410678762784,0.15123196220358867,2.388134074565669E-2,3.7758794657231733E-2,0.20375362406891481,1.6187849493771746E-2,-0.17707926490676221,6.7388029558082443E-2,9.8088354376581234E-3,1.5795435357990582E-2,0,null,{"$f":"INDEX(Resultat,Y99,1)","v":0.53130694956371682},{"$f":"INDEX(Resultat,Y99,3)","v":9.4938257676883894E-2},{"$f":"INDEX(Resultat,Y99,4)","v":5.6969411472841528E-4},9.3643638525558126E-2,-0.31676196745430468,4.982150779696128,3.2174795460597188,0.64580131921578654,0.472996714507879,239.61101827654974,8.0334570116708984E-2,65.691188029419052,2.2024335060871258E-2,2.3151852089894072E-2,1.9626570405383712E-2,0.53130694956371682,1.272411883741213E-2,0]
[null,3.1568166221506252E-5,6.0285666570009291E-2,6.7306081527539912E-4,0.11063457048597665,-0.37423603746489559,5.6470951898382626,3.6272973108863913,0.64232976228443561,0.34043889770369284,164.61179469612216,5.5189522828162606E-2,403.4161569100682,0.13525364474725776,2.4857752354434812E-2,3.6516082603255104E-2,0.26037477578459767,1.5349885534080416E-2,1.2759056954053634E-2,-2.072132699805411E-2,1.988019583446466E-2,1.5054216032424581E-2,0,null,{"$f":"INDEX(Resultat,Y99+1,1)","v":0.60324343691634685},{"$f":"INDEX(Resultat,Y99+1,3)","v":0.10313906536129758},{"$f":"INDEX(Resultat,Y99+1,4)","v":5.8629879599349385E-4},9.6373037917300813E-2,-0.32599452115373218,5.0929790145763327,3.2861868979215032,0.64523864883721094,0.52528509546810531,260.87074990002941,8.7462336665397739E-2,28.347222974740028,9.5039952171561207E-3,2.3570151255648378E-2,1.8592583970520899E-2,0.60324343691634685,1.2354297000115573E-2,0]
[null,3.2683284753731755E-5,6.4726330142402158E-2,6.9683611420033619E-4,0.11454264227538818,-0.38745560612388991,5.7919052021044779,3.7157463319080359,0.64154128948069222,0.37488876826491091,193.48208414398087,6.4868886943471621E-2,354.26381312740807,0.1187743006986826,2.5846106139755135E-2,3.5212236253160729E-2,0.32098335450969989,1.4543564427427538E-2,1.0437379164256931E-2,-1.9371600739032102E-2,1.9686159363567053E-2,1.4365040102150783E-2,0,"D",{"$f":"IF($C$2=1,IF($Y$85=1,Kold!DB58,IF($Y$85=2,Kold!DB68,IF($Y$85=3,Kold!DB78,IF($Y$85=4,Kold!DB88,10)))),IF($Y$85=1,BRAND!CZ58,IF($Y$85=2,BRAND!CZ68,IF($Y$85=3,BRAND!CZ78,IF($Y$85=4,BRAND!CZ88,10)))))/1000","v":0.58519999999999994},{"$f":"Z103+(Z106-Z105)*(Y102-AN103)/(Y106-Y105)","v":0.10107977513492472},{"$f":"AA103+(AA106-AA105)*(Y102-AN103)/(Y106-Y105)","v":5.8212922402484481E-4},9.5687663292315261E-2,-0.32367615102125996,5.0652977328209525,3.2690405989991933,0.64537975286570326,0.5119991558249859,255.67248449680125,8.5719510231435855E-2,37.338972654794297,1.2518666037971667E-2,2.3485696478324988E-2,1.8836450816888287E-2,0.58520000001845007,1.2462605459934427E-2,0]
[null,3.3798403285957259E-5,6.9614059201644651E-2,7.2061141312527294E-4,0.11845071406479966,-0.40067517478288406,5.9338129879616535,3.8021282037502737,0.64075632505842706,0.41307680863545049,222.80941854315191,7.470148487061358E-2,303.85459572863874,0.10187356366756675,2.6830492966616038E-2,3.3856972346043693E-2,0.38590472983849733,1.3764927200266572E-2,1.2057100133832476E-2,-2.0516562192393964E-2,1.9886792571770527E-2,1.3701316153036819E-2,0,null,1,{"$f":"Z105+(Z106-Z105)*(Y102*Y102/AN104-Y105)/(Y106-Y105)","v":0.10107977738703459},{"$f":"AA105+(AA106-AA105)*(Y102*Y102/AN104-Y105)/(Y106-Y105)","v":5.8212922858483067E-4},9.5687664041864282E-2,-0.32367615355670842,5.0652977631484131,3.26904061778994,0.64537975271132297,0.51199917029808584,255.67249023009879,8.5719512153642929E-2,37.33896268829259,1.2518662696494985E-2,2.3485696578451169E-2,1.8836450544753733E-2,0.58520001975523384,1.24626053475428E-2,0]
[null,-3.4913521818182772E-6,7.5006560532026839E-2,7.059818380502086E-4,0.11604597333693568,-0.39254082186613154,5.8468333779669903,3.7492171517280433,0.64123892530552806,0.438550861685156,239.48325208839785,8.0291733848684002E-2,239.39348962551432,8.0261639118816272E-2,2.6709527095607671E-2,3.0784933395894352E-2,0.43858095641502376,1.3207841563663522E-2,5.6295586615092486E-2,-5.6990561077712748E-2,2.7374177001635261E-2,1.3203761272396371E-2,0,null,{"$f":"VLOOKUP(Y102,Resultat,7)","v":13},{"$f":"Z105+(Z106-Z105)*(Y102-Y105)/(Y106-Y105)","v":0.1010821014815982},{"$f":"AA105+(AA106-AA105)*(Y102-Y105)/(Y106-Y105)","v":5.8213393432247787E-4},9.5688437548881178E-2,-0.32367877004628925,5.0653290599154692,3.269060009086687,0.64537959339234741,0.51201410607206388,255.67840672481299,8.5721495781369575E-2,37.328677783056563,1.2515214468417787E-2,2.3485799895830817E-2,1.8836169718363046E-2,0.58522038738501569,1.2462489356400494E-2,0]
[null,-2.522004824528579E-5,8.0970715199564836E-2,6.4566463378375844E-4,0.10613131505423185,-0.35900318157667155,5.476548493599072,3.5227504454556615,0.64324281060836264,0.44344004835181627,237.45646353949209,7.9612210895336794E-2,168.24678979158458,5.6408230425462183E-2,2.5209117490089705E-2,2.6080923428426359E-2,0.46664402882169087,1.3038610306058802E-2,1.0249311927473985E-3,-6.9581828389968861E-3,1.6062419196687244E-2,1.3023955912113928E-2,0,null,{"$f":"INDEX(Resultat,Y104,1)","v":0.53130694956371682},{"$f":"INDEX(Resultat,Y104,3)","v":9.4938257676883894E-2},{"$f":"INDEX(Resultat,Y104,4)","v":5.6969411472841528E-4},9.3643638525558126E-2,-0.31676196745430468,4.982150779696128,3.2174795460597188,0.64580131921578654,0.472996714507879,239.61101827654974,8.0334570116708984E-2,65.691188029419052,2.2024335060871258E-2,2.3151852089894072E-2,1.9626570405383712E-2,0.53130694956371682,1.272411883741213E-2,0]
[null,-2.6000631217843641E-5,8.758432627758074E-2,6.6564852969912866E-4,0.10941617385310398,-0.37011465003650007,5.601345102466456,3.5992916922842997,0.64257631451763497,0.490590037047751,262.85360350597654,8.812712951667756E-2,123.82313828677977,4.1514278668477164E-2,2.5973921907381049E-2,2.4857790543820053E-2,0.5372028878959515,1.2620245040528243E-2,-5.9459056560659408E-3,3.9470238626109927E-5,1.4314952249598115E-2,1.2552094003732747E-2,0,null,{"$f":"INDEX(Resultat,Y104+1,1)","v":0.60324343691634685},{"$f":"INDEX(Resultat,Y104+1,3)","v":0.10313906536129758},{"$f":"INDEX(Resultat,Y104+1,4)","v":5.8629879599349385E-4},9.6373037917300813E-2,-0.32599452115373218,5.0929790145763327,3.2861868979215032,0.64523864883721094,0.52528509546810531,260.87074990002941,8.7462336665397739E-2,28.347222974740028,9.5039952171561207E-3,2.3570151255648378E-2,1.8592583970520899E-2,0.60324343691634685,1.2354297000115573E-2,0]
[null,-2.6781214190401492E-5,9.4938257676883894E-2,6.8563242561449876E-4,0.11270103265197609,-0.38122611849632854,5.7240315048927126,3.6743267984570096,0.64191239955900259,0.54342957796210589,288.37419839456976,9.6683438964566021E-2,79.059985746175727,2.650650213848597E-2,2.6594318667226276E-2,2.3620768980476499E-2,0.61360651478818595,1.21004609364992E-2,-1.00514804443592E-2,4.7642043084169293E-3,1.2961626739207577E-2,1.1988054061519163E-2,0,"E",{"$f":"IF($C$2=1,IF($Y$85=1,Kold!DB59,IF($Y$85=2,Kold!DB69,IF($Y$85=3,Kold!DB79,IF($Y$85=4,Kold!DB89,10)))),IF($Y$85=1,BRAND!CZ59,IF($Y$85=2,BRAND!CZ69,IF($Y$85=3,BRAND!CZ79,IF($Y$85=4,BRAND!CZ89,10)))))/1000","v":0.46479999999999999},{"$f":"Z108+(Z111-Z110)*(Y107-AN108)/(Y111-Y110)","v":8.2977076209075504E-2},{"$f":"AA108+(AA111-AA110)*(Y107-AN108)/(Y111-Y110)","v":6.1123142712754314E-4},0.10047134653072405,-0.33985759097954371,5.2564515123513083,3.3872440428860613,0.64439746755523375,0.43616497772968471,230.09958822584807,7.7145665658916576E-2,144.68093656955537,4.8507288717346844E-2,2.4240368480803878E-2,2.4093033736847368E-2,0.4648033546712545,1.3041845575709511E-2,0]
[null,-2.7561797162959347E-5,0.10313906536129758,7.0561632152986865E-4,0.11598589145084817,-0.39233758695615684,5.8446463207225907,3.7478852958331674,0.64125099966182475,0.6028113588866747,313.96049283587433,0.10526177555194868,34.116159435614811,1.1438150974885482E-2,2.6990704195387044E-2,2.2376356217452882E-2,0.69663498346373798,1.1402551651863045E-2,-1.4156726765159625E-2,1.0143068398475676E-2,1.1206799114595767E-2,1.1263278298656122E-2,0,null,1,{"$f":"Z110+(Z111-Z110)*(Y107*Y107/AN109-Y110)/(Y111-Y110)","v":8.2965412557372636E-2},{"$f":"AA110+(AA111-AA110)*(Y107*Y107/AN109-Y110)/(Y111-Y110)","v":6.1129831473833059E-4},0.10048234120152104,-0.33989478190471489,5.2568853797665165,3.3875117937068011,0.64439521674662359,0.43613966429914958,230.09465731789871,7.7144012469621506E-2,144.77957415248193,4.8540359015527418E-2,2.4242043991110955E-2,2.4099057737381614E-2,0.46474331775324362,1.3042167943513247E-2,0]
[null,-2.8342380135517205E-5,0.11231225223019801,7.2560021744523875E-4,0.11927075024972029,-0.4034490554159853,5.9632271773993279,3.8199959226954046,0.64059205008543285,0.66974347485404506,339.55769990422687,0.11384377082418252,-10.857676599327089,-3.6402615720554175E-3,2.7053074373144567E-2,2.1130715783886419E-2,0.78722750725028301,1.0418393660181453E-2,-1.8169294306426761E-2,1.6097166864418564E-2,9.0062660605238001E-3,1.0276159996395969E-2,0,null,{"$f":"VLOOKUP(Y107,Resultat,7)","v":11},{"$f":"Z110+(Z111-Z110)*(Y107-Y110)/(Y111-Y110)","v":8.3190542419247074E-2},{"$f":"AA110+(AA111-AA110)*(Y107-Y110)/(Y111-Y110)","v":6.10007261219133E-4},0.1002701238976324,-0.33917692886348283,5.2485065475827986,3.382340563050052,0.64443866695904006,0.43662610658438283,230.18718080400498,7.7175032889865561E-2,142.88298117432291,4.7904486831173515E-2,2.4209629055111065E-2,2.3983081841463944E-2,0.46589665264307489,1.3035991505108101E-2,0]
[null,-2.9122963108075056E-5,0.12260631802291558,7.4558411336060897E-4,0.12255560904859243,-0.41456052387581382,6.0798107428151269,3.8906866508591036,0.63993548737630668,0.74542320945273,365.11400111769643,0.12241205155903442,-55.719021533340872,-1.8680959141195982E-2,2.6629738674235154E-2,1.9889677258994289E-2,0.88651622015296039,8.9972171705292418E-3,-2.2006729403495569E-2,2.2520049787454529E-2,6.3281586566614409E-3,8.8840149754271618E-3,0,null,{"$f":"INDEX(Resultat,Y109,1)","v":0.45401222980350781},{"$f":"INDEX(Resultat,Y109,3)","v":8.0970715199564836E-2},{"$f":"INDEX(Resultat,Y109,4)","v":6.2273731719713515E-4},0.10236263061236728,-0.34625510901866613,5.330720041025705,3.4330409651640004,0.64401074127753954,0.43163221425050491,229.02447078312059,7.6785210208212704E-2,162.27240740729769,5.44051946552098E-2,2.4522409045620624E-2,2.5154799312241176E-2,0.45401222980350781,1.3101822519610264E-2,0]
[null,-2.9903546080632907E-5,0.13419782954979564,7.6556800927597907E-4,0.12584046784746455,-0.42567199233564229,6.1944327568324873,3.9599847116585103,0.63928124932676511,0.83127943125907688,390.58054643808566,0.13095023976668155,-100.33353776138406,-3.3638902260523539E-2,2.5511550929438319E-2,1.8658736272073678E-2,0.99586857328628198,6.9299018588433042E-3,-2.4132245801715555E-2,2.6521089533669582E-2,4.4516387604738861E-3,6.954071247600304E-3,0,null,{"$f":"INDEX(Resultat,Y109+1,1)","v":0.48615262156283745},{"$f":"INDEX(Resultat,Y109+1,3)","v":8.758432627758074E-2},{"$f":"INDEX(Resultat,Y109+1,4)","v":5.8481020354910558E-4},9.6128350094186091E-2,-0.32516683229539312,5.0831078128240179,3.2800736109728525,0.64528901053360599,0.44520057318249862,230.93188448778943,7.7424710265853777E-2,108.78569015740366,3.6472661885514873E-2,2.3545350031374628E-2,2.18389869414767E-2,0.48615262156283745,1.2928269277499157E-2,0]
[null,-4.3834470075986805E-6,0.14729780979304705,8.8637118636611888E-4,0.14569752579436104,-0.49284111179906798,6.8474857990130431,4.3507039127011797,0.63537246230262567,1.008619660783614,458.33333333333337,0.15366576866258877,-163.13009813500619,-5.4692753284187476E-2,2.4938740441963852E-2,1.968173052736126E-2,1.2169781827303903,9.8650379178650063E-4,-1.8190777872100886E-2,1.3373531499644676E-2,1.1652402757993841E-2,{"$f":"S92*Q112^2+T92*Q112+U92","v":9.4837524139210205E-4},0,"F",{"$f":"IF($C$2=1,IF($Y$85=1,Kold!DB60,IF($Y$85=2,Kold!DB70,IF($Y$85=3,Kold!DB80,IF($Y$85=4,Kold!DB90,10)))),IF($Y$85=1,BRAND!CZ60,IF($Y$85=2,BRAND!CZ70,IF($Y$85=3,BRAND!CZ80,IF($Y$85=4,BRAND!CZ90,10)))))/1000","v":0.57679999999999998},{"$f":"Z113+(Z116-Z115)*(Y112-AN113)/(Y116-Y115)","v":0.10012139967087384},{"$f":"AA113+(AA116-AA115)*(Y112-AN113)/(Y116-Y115)","v":5.8018874209608536E-4},9.5368696001616182E-2,-0.32259720205957648,5.0523812425868613,3.2610365555993925,0.64544546403424508,0.50585148167866534,253.22285150851164,8.4898219898155658E-2,41.607270588314421,1.3949701564157795E-2,2.3441571375498613E-2,1.895336499193882E-2,0.57680000001266329,1.250927044790829E-2,0]
[null,null,{"$f":"C93+(C112-C92)","v":0.16215984472146291},{"$f":"D93+(D112-D92)","v":9.07916248226605E-4},0.1492390017069847,-0.5048206215173765,6.9015673333654393,4.4127911545774143,0.63938971271697886,1.1191570871132606,458.33333333333337,0.15366576866258877,-212.26098997364559,-7.1164905123015917E-2,2.1379913186035066E-2,1.8312448205743345E-2,1.3439877608988653,-3.2317930745783749E-3,null,null,null,null,7.4986780743096546E-2,null,1,{"$f":"Z115+(Z116-Z115)*(Y112*Y112/AN114-Y115)/(Y116-Y115)","v":0.10012140185914307},{"$f":"AA115+(AA116-AA115)*(Y112*Y112/AN114-Y115)/(Y116-Y115)","v":5.8018874652680905E-4},9.5368696729917699E-2,-0.32259720452315249,5.0523812721038306,3.2610365738927936,0.64544546388417867,0.50585149568991616,253.22285712449923,8.4898221781032138E-2,41.607260780000203,1.3949698275716755E-2,2.344157147969864E-2,1.8953364722432108E-2,0.57680001919523149,1.2509270343985577E-2,0]
[null,"De","hc","e0","a'","b'","N'","tN'","t","Nc","sac","Nac","sat","Nat","Mtot","u","N","Mo","a''","b''","c''",null,"x",null,{"$f":"VLOOKUP(Y112,Resultat,7)","v":13},{"$f":"Z115+(Z116-Z115)*(Y112-Y115)/(Y116-Y115)","v":0.10012449586191602},{"$f":"AA115+(AA116-AA115)*(Y112-Y115)/(Y116-Y115)","v":5.8019501114510701E-4},9.5369726478402417E-2,-0.32260068778331985,5.0524230061559559,3.2610624389018192,0.64544525169972644,0.50587130637251132,253.23079748749257,8.490088395263104E-2,41.593393052665576,1.3945048832122983E-2,2.3441718792607959E-2,1.8952983677581598E-2,0.57682714149301939,1.2509123395104712E-2,0]
[null,null,{"$f":"$C$35","v":4.1544915655417694E-2},{"$f":"$D$35","v":3.8256566053946229E-4},{"$f":"$E$35","v":6.28843435479884E-2},{"$f":"$F$35","v":-0.21271459223465167},{"$f":"IF($C$2=1,0.5*($O$31*D115*$F$6/$O$30)*(1-W115^2+(E115-F115)*(F115^2*(1-W115^2)+2*F115*(1-W115)+2*LN((1-F115)/(1-F115*W115)))/(F115^3)),$F$6*F115*(LN((1-E115+E115^2)/(1+E115)^2)/(6*E115)+ATAN((2-E115)/(E115*3^0.5))/(E115*3^0.5)-LN((W115^2-E115*W115+E115^2)/(W115+E115)^2)/(6*E115)-ATAN((2*W115-E115)/(E115*3^0.5))/(E115*3^0.5)))","v":3.6164179713546631},{"$f":"IF($C$2=1,($O$31*D115*$F$6/$O$30)*(1-W115^3-(E115-F115)*(-2*F115^3*(1-W115^3)-3*F115^2*(1-W115^2)-6*F115*(1-W115)-6*LN((1-F115)/(1-F115*W115)))/(2*F115^4))/3,$F$6*F115*(LN((1+E115^3)/(E115^3+W115^3)))/3)","v":2.3589615237756383},{"$f":"$I$35","v":0.65229227994683425},{"$f":"$J$35","v":0.15024377959466625},{"$f":"$K$35","v":10.340089653207192},{"$f":"$L$35","v":3.4667297991276304E-3},{"$f":"$M$35","v":458.16851350986366},{"$f":"$N$35","v":0.15361050939379392},{"$f":"$O$35","v":1.4595642140814678E-2},{"$f":"$P$35","v":3.011841020334027E-2},{"$f":"$Q$35","v":9.9999999999961231E-5},{"$f":"$R$35","v":1.4592630299794346E-2},null,null,null,null,{"$f":"IF(C115<$C$6,0,(C115-$C$6)/C115)","v":0},null,{"$f":"INDEX(Resultat,Y114,1)","v":0.53130694956371682},{"$f":"INDEX(Resultat,Y114,3)","v":9.4938257676883894E-2},{"$f":"INDEX(Resultat,Y114,4)","v":5.6969411472841528E-4},9.3643638525558126E-2,-0.31676196745430468,4.982150779696128,3.2174795460597188,0.64580131921578654,0.472996714507879,239.61101827654974,8.0334570116708984E-2,65.691188029419052,2.2024335060871258E-2,2.3151852089894072E-2,1.9626570405383712E-2,0.53130694956371682,1.272411883741213E-2,0]
[null,{"$f":"IF(R96>$Q$29*V96,B96,IF(Q96>Q95,$U$6,-0.5)*B96)","v":-4.0714933842728464E-8},{"$f":"IF(Q96>Q95,C96,(1-$T$6)*C96+$T$6*C97)","v":4.4336691510533544E-2},{"$f":"D96+B116","v":4.2835882915484824E-4},{"$f":"IF($C$2=1,D116/($O$31*$O$30),2^(1/3)*$O$30/D116)","v":7.0411609176848591E-2},{"$f":"IF($C$2=1,-($O$31-2)*D116/$O$30,3*($O$30/D116)^2)","v":-0.23817656175752702},{"$f":"IF($C$2=1,0.5*($O$31*D116*$F$6/$O$30)*(1-W116^2+(E116-F116)*(F116^2*(1-W116^2)+2*F116*(1-W116)+2*LN((1-F116)/(1-F116*W116)))/(F116^3)),$F$6*F116*(LN((1-E116+E116^2)/(1+E116)^2)/(6*E116)+ATAN((2-E116)/(E116*3^0.5))/(E116*3^0.5)-LN((W116^2-E116*W116+E116^2)/(W116+E116)^2)/(6*E116)-ATAN((2*W116-E116)/(E116*3^0.5))/(E116*3^0.5)))","v":3.9715121886093296},{"$f":"IF($C$2=1,($O$31*D116*$F$6/$O$30)*(1-W116^3-(E116-F116)*(-2*F116^3*(1-W116^3)-3*F116^2*(1-W116^2)-6*F116*(1-W116)-6*LN((1-F116)/(1-F116*W116)))/(2*F116^4))/3,$F$6*F116*(LN((1+E116^3)/(E116^3+W116^3)))/3)","v":2.5841703457630829},{"$f":"H116/G116","v":0.65067667503947901},{"$f":"G116*C116*$D$6","v":0.17608371073669576},{"$f":"MAX(MIN($K$6,$Q$6*$J$6*D116*(C116-$I$6)/C116),-$K$6)","v":30.453302577592105},{"$f":"K116*$H$6","v":1.0210102143054733E-2},{"$f":"MIN($O$6,$Q$6*$N$6*D116*(C$6-C116-$M$6)/C116)","v":458.33333333333337},{"$f":"M116*$L$6","v":0.15366576866258877},{"$f":"(0.5*$C$6-C116+I116*C116)*J116+(0.5*$C$6-$I$6)*L116+(0.5*$C$6-$M$6)*N116","v":1.6214777357579247E-2},{"$f":"0.1*$Q$6*D116*$B$6^2/C116+$R$6","v":3.1600094511288965E-2},{"$f":"(J116+L116-N116)","v":3.2628044217161728E-2},{"$f":"O116-P116*Q116","v":1.5183728076598421E-2},{"$f":"((R116-R115)*(Q116-Q117)-(R116-R117)*(Q116-Q115))/((Q116^2-Q115^2)*(Q116-Q117)-(Q116^2-Q117^2)*(Q116-Q115))","v":-6.4825253416527964E-2},{"$f":"-(S116*(Q116^2-Q115^2)-(R116-R115))/(Q116-Q115)","v":2.0293547110312931E-2},{"$f":"R116-S116*Q116^2-T116*Q116","v":1.4590601593335849E-2},{"$f":"S96*Q116^2+T96*Q116+U96","v":1.5183769161782218E-2},{"$f":"IF(C116<$C$6,0,(C116-$C$6)/C116)","v":0},null,{"$f":"INDEX(Resultat,Y114+1,1)","v":0.60324343691634685},{"$f":"INDEX(Resultat,Y114+1,3)","v":0.10313906536129758},{"$f":"INDEX(Resultat,Y114+1,4)","v":5.8629879599349385E-4},9.6373037917300813E-2,-0.32599452115373218,5.0929790145763327,3.2861868979215032,0.64523864883721094,0.52528509546810531,260.87074990002941,8.7462336665397739E-2,28.347222974740028,9.5039952171561207E-3,2.3570151255648378E-2,1.8592583970520899E-2,0.60324343691634685,1.2354297000115573E-2,0]
[null,{"$f":"IF(R97>$Q$29*V97,B97,IF(Q97>Q96,$U$6,-0.5)*B97)","v":-9.0223179613231433E-8},{"$f":"IF(Q97>Q96,C97,(1-$T$6)*C97+$T$6*C98)","v":4.686581864712229E-2},{"$f":"D97+B117","v":4.7695508185002875E-4},7.8399632579992912E-2,-0.26519710526791646,4.3330869580109388,2.8120961806265274,0.64898217088110155,0.20307366755635145,50.786119202418931,1.7027101188282684E-2,458.33333333333337,0.15366576866258877,1.7864063827801261E-2,{"$f":"0.1*$Q$6*D117*$B$6^2/C117+$R$6","v":3.3286276285009873E-2},6.6435000082045365E-2,1.5652690060075646E-2,-0.10248904873653474,2.4024637334575029E-2,1.4508959888864359E-2,{"$f":"MAX(S97*Q117^2+T97*Q117+U97,S98*Q117^2+T98*Q117+U98)","v":1.5652801707654224E-2},0,"G",{"$f":"IF($C$2=1,IF($Y$85=1,Kold!DB61,IF($Y$85=2,Kold!DB71,IF($Y$85=3,Kold!DB81,IF($Y$85=4,Kold!DB91,10)))),IF($Y$85=1,BRAND!CZ61,IF($Y$85=2,BRAND!CZ71,IF($Y$85=3,BRAND!CZ81,IF($Y$85=4,BRAND!CZ91,10)))))/1000","v":0.64400000000000002},{"$f":"Z118+(Z121-Z120)*(Y117-AN118)/(Y121-Y120)","v":0.10789076358649768},{"$f":"AA118+(AA121-AA120)*(Y117-AN118)/(Y121-Y120)","v":5.9489999813021051E-4},9.7786863061272905E-2,-0.33077697131577644,5.1497690636443618,3.3213330757596009,0.64494796460041204,0.55561251657071342,272.08325913732426,9.1221563248492926E-2,8.4531074237463102,2.8340798178707171E-3,2.3679129136015199E-2,1.8034480707497396E-2,0.64400000000133562,1.2064923560362789E-2,0]
[null,1.9755967437380816E-6,4.9178183027429483E-2,5.056362483230434E-4,8.3114107797927578E-2,-0.28114443996209282,4.5394149444603471,2.9415012305093722,0.64799126462299261,0.22324017897611959,68.588903867515882,2.2995854475329966E-2,454.52370528152841,0.15238851173989965,1.9016922012971546E-2,3.3628667731009997E-2,9.3847521711549919E-2,1.5860954887955088E-2,-4.1237488671880762E-2,1.4207082823620419E-2,1.4890848672390388E-2,{"$f":"MAX(S98*Q118^2+T98*Q118+U98,S99*Q118^2+T99*Q118+U99)","v":1.5817406805964149E-2},0,null,1,{"$f":"Z120+(Z121-Z120)*(Y117*Y117/AN119-Y120)/(Y121-Y120)","v":0.10789076415508732},{"$f":"AA120+(AA121-AA120)*(Y117*Y117/AN119-Y120)/(Y121-Y120)","v":5.948999991594329E-4},9.7786863230451646E-2,-0.33077697188804578,5.1497690704148127,3.3213330799472156,0.64494796456565828,0.55561252022928787,272.08326045287225,9.1221563689557708E-2,8.4531051151072631,2.8340790438515307E-3,2.367912914435669E-2,1.8034480643655825E-2,0.64400000487499398,1.2064923521924354E-2,0]
[null,-2.9337929157055242E-6,5.255221950735349E-2,6.225764245098201E-4,0.10233618382932562,-0.34616564928428351,5.3296865449446926,3.4324041710207323,0.64401614280232522,0.28008685721532189,108.08204678850144,3.6236750832831177E-2,458.33333333333337,0.15366576866258877,2.2413309865863294E-2,3.8747666120985694E-2,0.1626578393855643,1.6110698213390531E-2,-2.4815108727677424E-2,9.9946543259585349E-3,1.5141536878882454E-2,1.6092649749936471E-2,0,null,{"$f":"VLOOKUP(Y117,Resultat,7)","v":14},{"$f":"Z120+(Z121-Z120)*(Y117-Y120)/(Y121-Y120)","v":0.10789266284608828},{"$f":"AA120+(AA121-AA120)*(Y117-Y120)/(Y121-Y120)","v":5.9490343604122139E-4},9.7787428168911658E-2,-0.33077888286695373,5.1497916789364107,3.3213470636491906,0.64494784851863174,0.55562473734307705,272.08765342788161,9.1223036525662854E-2,8.4453959699455794,2.8314943928326184E-3,2.3679156993049216E-2,1.8034267461288896E-2,0.64401627947590734,1.2064795159556524E-2,0]
[null,3.0453047689280748E-5,5.6242100708700393E-2,6.7973856403974312E-4,0.11173222741323985,-0.37794900690248145,5.6880646393278953,3.6523514904982233,0.6421079439297277,0.31990870428267709,142.67701082693523,4.7835430994621453E-2,458.33333333333337,0.15366576866258877,2.4606380124964258E-2,3.9529772671418301E-2,0.21407836661470978,1.6143910958816236E-2,-0.11654505877170152,4.4552647682138846E-2,1.1947360169368306E-2,1.6119692231783424E-2,0,null,{"$f":"INDEX(Resultat,Y119,1)","v":0.60324343691634685},{"$f":"INDEX(Resultat,Y119,3)","v":0.10313906536129758},{"$f":"INDEX(Resultat,Y119,4)","v":5.8629879599349385E-4},9.6373037917300813E-2,-0.32599452115373218,5.0929790145763327,3.2861868979215032,0.64523864883721094,0.52528509546810531,260.87074990002941,8.7462336665397739E-2,28.347222974740028,9.5039952171561207E-3,2.3570151255648378E-2,1.8592583970520899E-2,0.60324343691634685,1.2354297000115573E-2,0]
[null,3.1568166221506252E-5,6.0285666570009291E-2,7.0462898149690535E-4,0.11582359714104526,-0.39178860503181845,5.8387351989470462,3.744285240145155,0.64128361923664512,0.35199204339429851,172.33248260284776,5.7778043792070119E-2,422.33734205225687,0.1415973650211812,2.576555407265084E-2,3.8228774442113873E-2,0.26817272216518745,1.5513639565470217E-2,-2.8874074086955453E-2,2.2732198635143624E-3,1.6980549500442216E-2,1.5241845376121299E-2,0,null,{"$f":"INDEX(Resultat,Y119+1,1)","v":0.68189283255758093},{"$f":"INDEX(Resultat,Y119+1,3)","v":0.11231225223019801},{"$f":"INDEX(Resultat,Y119+1,4)","v":6.0290347725857241E-4},9.9102437309043501E-2,-0.33522707485315972,5.2022372721371628,3.3537676665211134,0.64467795125064176,0.58427498466960626,282.13954885926086,9.4593143226707629E-2,-9.0216772532560192,-3.0247046612670078E-3,2.370884595716187E-2,1.7557577460386026E-2,0.68189283255758093,1.1736459729850105E-2,0]
[null,3.2683284753731755E-5,6.4726330142402158E-2,7.29519398954068E-4,0.11991496686885075,-0.40562820316115572,5.9862475006571287,3.8339706364570723,0.64046310080500435,0.38746783204166307,202.55685785613269,6.7911393295290237E-2,370.87963547994644,0.12434510021962188,2.6772105459096456E-2,3.6863774571605092E-2,0.33103412511733143,1.4568938095262635E-2,1.0958880039007645E-2,-2.1594958996253185E-2,2.0516693014645905E-2,1.44172639606031E-2,0,"H",{"$f":"IF($C$2=1,IF($Y$85=1,Kold!DB62,IF($Y$85=2,Kold!DB72,IF($Y$85=3,Kold!DB82,IF($Y$85=4,Kold!DB92,10)))),IF($Y$85=1,BRAND!CZ62,IF($Y$85=2,BRAND!CZ72,IF($Y$85=3,BRAND!CZ82,IF($Y$85=4,BRAND!CZ92,10)))))/1000","v":0.6048},{"$f":"Z123+(Z126-Z125)*(Y122-AN123)/(Y126-Y125)","v":0.10332037528419809},{"$f":"AA123+(AA126-AA125)*(Y122-AN123)/(Y126-Y125)","v":5.8662699092977772E-4},9.6426985056975834E-2,-0.32617700447423376,5.0951536531284862,3.2875334960512554,0.64522754756035083,0.52643318757188806,261.30695753809482,8.7608584335215511E-2,27.565098977201394,9.2417719038370722E-3,2.3575725689871378E-2,1.8570346490269042E-2,0.6048000000032665,1.2344380132496001E-2,0]
[null,3.3798403285957259E-5,6.9614059201644651E-2,7.5440981641123023E-4,0.12400633659665616,-0.41946780129049271,6.1306722654174388,3.9214616238856426,0.6396462662025254,0.42678098203065051,233.25971456493019,7.8205163643569553E-2,318.10610490497584,0.10665167809414954,2.7772469339647606E-2,3.5444945537351107E-2,0.39833446758007052,1.3653525830622256E-2,2.3510082752209376E-2,-3.0749412055840943E-2,2.2171723497019364E-2,1.3627442969147054E-2,0,null,1,{"$f":"Z125+(Z126-Z125)*(Y122*Y122/AN124-Y125)/(Y126-Y125)","v":0.10332037498315955},{"$f":"AA125+(AA126-AA125)*(Y122*Y122/AN124-Y125)/(Y126-Y125)","v":5.8662699038485814E-4},9.6426984967404511E-2,-0.3261770041712469,5.0951536495183394,3.2875334938157112,0.64522754757876477,0.52643318566504871,261.30695681441188,8.7608584092585776E-2,27.565100274219802,9.2417723386894295E-3,2.3575725680706556E-2,1.8570346527126327E-2,0.60479999741894508,1.2344380149031638E-2,0]
[null,3.4913521818182772E-7,7.5006560532026839E-2,7.0633097326839038E-4,0.11610336254163818,-0.392734948425911,5.848921783020856,3.7504888659043907,0.64122739284903463,0.4387075057652442,239.60168578309407,8.0331441204460827E-2,239.51187892921436,8.0301331591589711E-2,2.6719459705703354E-2,3.0800157731505552E-2,0.43873761537811529,1.3206271949312787E-2,7.2487157369654859E-2,-7.1746753923064538E-2,3.0731168365274786E-2,1.3206892368311308E-2,0,null,{"$f":"VLOOKUP(Y122,Resultat,7)","v":14},{"$f":"Z125+(Z126-Z125)*(Y122-Y125)/(Y126-Y125)","v":0.10332061340655803},{"$f":"AA125+(AA126-AA125)*(Y122-Y125)/(Y126-Y125)","v":5.866274219627378E-4},9.642705590814607E-2,-0.3261772441376688,5.0951565087745312,3.2875352643088855,0.64522753298104119,0.52643469588900127,261.30752997276574,8.7608776255827261E-2,27.564073033518017,9.2414279349104303E-3,2.3575732938462296E-2,1.8570317336118244E-2,0.60480204420991812,1.2344367051951102E-2,0]
[null,-2.522004824528579E-5,8.0970715199564836E-2,6.2044458553847269E-4,0.1019857621681808,-0.34498030176286548,5.3159791998267645,3.4239569759657602,0.64408773007940645,0.43043863779598351,228.18127150748339,7.6502510139500282E-2,161.67496916886896,5.4204891078184547E-2,2.4453073457873935E-2,2.5062186900622653E-2,0.45273625685729929,1.3106512771827996E-2,2.5331012024604277E-2,-2.9708282432616317E-2,2.1364428827368231E-2,1.3122277811430381E-2,0,null,{"$f":"INDEX(Resultat,Y124,1)","v":0.60324343691634685},{"$f":"INDEX(Resultat,Y124,3)","v":0.10313906536129758},{"$f":"INDEX(Resultat,Y124,4)","v":5.8629879599349385E-4},9.6373037917300813E-2,-0.32599452115373218,5.0929790145763327,3.2861868979215032,0.64523864883721094,0.52528509546810531,260.87074990002941,8.7462336665397739E-2,28.347222974740028,9.5039952171561207E-3,2.3570151255648378E-2,1.8592583970520899E-2,0.60324343691634685,1.2354297000115573E-2,0]
[null,-2.6000631217843641E-5,8.758432627758074E-2,6.3964789848128506E-4,0.10514231241017719,-0.35565774959345398,5.4385555890291588,3.4994059317612813,0.64344399436137112,0.47633222718829016,252.58638393872337,8.4684830927231322E-2,118.98653216329623,3.9892706018986375E-2,2.5209886256994857E-2,2.388683032084412E-2,0.52112435209653507,1.2761877282405095E-2,-6.6399857954689851E-3,1.4270129733019337E-3,1.3821450933637845E-2,1.2720788042957704E-2,0,null,{"$f":"INDEX(Resultat,Y124+1,1)","v":0.68189283255758093},{"$f":"INDEX(Resultat,Y124+1,3)","v":0.11231225223019801},{"$f":"INDEX(Resultat,Y124+1,4)","v":6.0290347725857241E-4},9.9102437309043501E-2,-0.33522707485315972,5.2022372721371628,3.3537676665211134,0.64467795125064176,0.58427498466960626,282.13954885926086,9.4593143226707629E-2,-9.0216772532560192,-3.0247046612670078E-3,2.370884595716187E-2,1.7557577460386026E-2,0.68189283255758093,1.1736459729850105E-2,0]
[null,-2.6781214190401492E-5,9.4938257676883894E-2,6.5885121142409732E-4,0.10829886265217355,-0.36633519742404247,5.5591355875857911,3.5734274951665781,0.64280272334901589,0.52777464687495523,277.11012906869365,9.2906925790974523E-2,75.971855236215134,2.5471142250754725E-2,2.5828602217076942E-2,2.2698127562458426E-2,0.59521043041517496,1.2318439941007517E-2,-1.0795725298412556E-2,6.0662095274957679E-3,1.2532429265232131E-2,1.2236338013531177E-2,0,"I",{"$f":"IF($C$2=1,IF($Y$85=1,Kold!DB63,IF($Y$85=2,Kold!DB73,IF($Y$85=3,Kold!DB83,IF($Y$85=4,Kold!DB93,10)))),IF($Y$85=1,BRAND!CZ63,IF($Y$85=2,BRAND!CZ73,IF($Y$85=3,BRAND!CZ83,IF($Y$85=4,BRAND!CZ93,10)))))/1000","v":0.67199999999999993},{"$f":"Z128+(Z131-Z130)*(Y127-AN128)/(Y131-Y130)","v":0.11115791596951648},{"$f":"AA128+(AA131-AA130)*(Y127-AN128)/(Y131-Y130)","v":6.0081397598106957E-4},9.8758974918840572E-2,-0.33406526798426545,5.1885739202291861,3.3453247399876411,0.64474840127937771,0.57675106382646057,279.54664085048205,9.3723816967274082E-2,-4.548917927896162,-1.5251192072142418E-3,2.370794567002843E-2,1.7678425045023378E-2,0.67200000000094884,1.1828044039755946E-2,0]
[null,-2.7561797162959347E-5,0.10313906536129758,6.7805452436690925E-4,0.11145541289416985,-0.37701264525463074,5.6777546736560405,3.646048839179858,0.64216385679659538,0.58559831039162313,301.69700748740115,0.10115018740091845,32.78356176510615,1.099136993047089E-2,2.6232218075878541E-2,2.1502322309089762E-2,0.67575712786207065,1.1701870509923516E-2,-1.49463601471968E-2,1.1341531766555524E-2,1.0862970500456785E-2,1.1596413225079524E-2,0,null,1,{"$f":"Z130+(Z131-Z130)*(Y127*Y127/AN129-Y130)/(Y131-Y130)","v":0.11115791620540125},{"$f":"AA130+(AA131-AA130)*(Y127*Y127/AN129-Y130)/(Y131-Y130)","v":6.0081397640805224E-4},9.8758974989025972E-2,-0.33406526822167687,5.1885739230237462,3.3453247417147556,0.64474840126498578,0.57675106536100362,279.54664138261364,9.3723817145682245E-2,-4.5489188481583334,-1.5251195157512467E-3,2.3707945670713524E-2,1.7678425020072136E-2,0.67200000202243715,1.1828044021471544E-2,0]
[null,-2.8342380135517205E-5,0.11231225223019801,6.9725783730972151E-4,0.11461196313616621,-0.38769009308521918,5.7944474398022505,3.7172964275833702,0.64152733564362641,0.65078744239369546,326.29437227939223,0.10939696478528661,-10.433569232532006,-3.498070769479346E-3,2.6314249359491042E-2,2.030533733872673E-2,0.76368247794846145,1.0807419025072795E-2,-1.8998555930608636E-2,1.7174422867696954E-2,8.7717786304712352E-3,1.0702859361825573E-2,0,null,{"$f":"VLOOKUP(Y127,Resultat,7)","v":14},{"$f":"Z130+(Z131-Z130)*(Y127-Y130)/(Y131-Y130)","v":0.11115841244575274},{"$f":"AA130+(AA131-AA130)*(Y127-Y130)/(Y131-Y130)","v":6.0081487466870961E-4},9.875912264088707E-2,-0.33406576767358581,5.1885798020588298,3.3453283750380916,0.64474837097247006,0.57675429364495756,279.54776084743497,9.3724192469512635E-2,-4.5508548352572067,-1.5257685956327068E-3,2.3707947110551155E-2,1.7678372529354284E-2,0.67200425471010283,1.1828005554474875E-2,0]
[null,-2.9122963108075056E-5,0.12260631802291558,7.1646115025253388E-4,0.1177685133781626,-0.39836754091580767,5.9092476214754832,3.7871960384826644,0.64089310197785165,0.72451109315478057,350.85242902375148,0.11763056333033702,-53.542603099182678,-1.7951269661305773E-2,2.5927771690518873E-2,1.9112774523722283E-2,0.86009292614642341,9.489009523633761E-3,-2.2286756312692332E-2,2.2513721771859865E-2,6.6119640062420604E-3,9.4177995174957799E-3,0,null,{"$f":"INDEX(Resultat,Y129,1)","v":0.60324343691634685},{"$f":"INDEX(Resultat,Y129,3)","v":0.10313906536129758},{"$f":"INDEX(Resultat,Y129,4)","v":5.8629879599349385E-4},9.6373037917300813E-2,-0.32599452115373218,5.0929790145763327,3.2861868979215032,0.64523864883721094,0.52528509546810531,260.87074990002941,8.7462336665397739E-2,28.347222974740028,9.5039952171561207E-3,2.3570151255648378E-2,1.8592583970520899E-2,0.60324343691634685,1.2354297000115573E-2,0]
[null,2.990354608063291E-6,0.13419782954979564,7.6855836388404239E-4,0.12633200827019511,-0.42733469269456686,6.2114180272538242,3.9702362033914689,0.63918354648991149,0.83355881768393658,392.106177502484,0.13146173926531346,-100.72544658379138,-3.3770297832394533E-2,2.5574539541445271E-2,1.8731618416201676E-2,0.99879085478164453,6.8655703720836049E-3,-2.2049428423721332E-2,2.2072556808289772E-2,6.8158412291182066E-3,6.8667381409519106E-3,0,null,{"$f":"INDEX(Resultat,Y129+1,1)","v":0.68189283255758093},{"$f":"INDEX(Resultat,Y129+1,3)","v":0.11231225223019801},{"$f":"INDEX(Resultat,Y129+1,4)","v":6.0290347725857241E-4},9.9102437309043501E-2,-0.33522707485315972,5.2022372721371628,3.3537676665211134,0.64467795125064176,0.58427498466960626,282.13954885926086,9.4593143226707629E-2,-9.0216772532560192,-3.0247046612670078E-3,2.370884595716187E-2,1.7557577460386026E-2,0.68189283255758093,1.1736459729850105E-2,0]
[null,-4.3834470075986805E-6,0.14729780979304705,8.8198773935852025E-4,0.14497699539662084,-0.49040382262499854,6.8249378668743903,4.3373367127565627,0.63551299621470814,1.0052983997642282,458.33333333333337,0.15366576866258877,-162.32335695081815,-5.4422276547794704E-2,2.489830363642458E-2,1.9584396787149978E-2,1.2133864449746117,1.1348620418924621E-3,-1.8857251948769912E-2,1.5010896473586296E-2,1.0684501458819908E-2,{"$f":"S112*Q132^2+T112*Q132+U112","v":1.0972611012377287E-3},0]
[null,null,{"$f":"C113","v":0.16215984472146291},{"$f":"D113+(D132-D112)","v":9.0353280121900637E-4},0.14851847130924453,-0.50238333234330712,6.8796859900614589,4.3997230274298147,0.63952381457318663,1.1156088118807901,458.33333333333337,0.15366576866258877,-211.23618751730965,-7.0821318816440992E-2,2.1357568768049052E-2,1.8224035153938112E-2,1.34009589935982,-3.0643860115326174E-3,null,null,null,null,7.4986780743096546E-2]
[null,"De","hc","e0","a'","b'","N'","tN'","t","Nc","sac","Nac","sat","Nat","Mtot","u","N","Mo","a''","b''","c''",null,"x"]
[null,null,{"$f":"$C$35","v":4.1544915655417694E-2},{"$f":"$D$35","v":3.8256566053946229E-4},{"$f":"$E$35","v":6.28843435479884E-2},{"$f":"$F$35","v":-0.21271459223465167},{"$f":"IF($C$2=1,0.5*($O$31*D135*$F$6/$O$30)*(1-W135^2+(E135-F135)*(F135^2*(1-W135^2)+2*F135*(1-W135)+2*LN((1-F135)/(1-F135*W135)))/(F135^3)),$F$6*F135*(LN((1-E135+E135^2)/(1+E135)^2)/(6*E135)+ATAN((2-E135)/(E135*3^0.5))/(E135*3^0.5)-LN((W135^2-E135*W135+E135^2)/(W135+E135)^2)/(6*E135)-ATAN((2*W135-E135)/(E135*3^0.5))/(E135*3^0.5)))","v":3.6164179713546631},{"$f":"IF($C$2=1,($O$31*D135*$F$6/$O$30)*(1-W135^3-(E135-F135)*(-2*F135^3*(1-W135^3)-3*F135^2*(1-W135^2)-6*F135*(1-W135)-6*LN((1-F135)/(1-F135*W135)))/(2*F135^4))/3,$F$6*F135*(LN((1+E135^3)/(E135^3+W135^3)))/3)","v":2.3589615237756383},{"$f":"$I$35","v":0.65229227994683425},{"$f":"$J$35","v":0.15024377959466625},{"$f":"$K$35","v":10.340089653207192},{"$f":"$L$35","v":3.4667297991276304E-3},{"$f":"$M$35","v":458.16851350986366},{"$f":"$N$35","v":0.15361050939379392},{"$f":"$O$35","v":1.4595642140814678E-2},{"$f":"$P$35","v":3.011841020334027E-2},{"$f":"$Q$35","v":9.9999999999961231E-5},{"$f":"$R$35","v":1.4592630299794346E-2},null,null,null,null,{"$f":"IF(C135<$C$6,0,(C135-$C$6)/C135)","v":0}]
[null,{"$f":"IF(R116>$Q$29*V116,B116,IF(Q116>Q115,$U$6,-0.5)*B116)","v":4.0714933842728463E-9},{"$f":"IF(Q116>Q115,C116,(1-$T$6)*C116+$T$6*C117)","v":4.4336691510533544E-2},{"$f":"D116+B136","v":4.2836290064823248E-4},{"$f":"IF($C$2=1,D136/($O$31*$O$30),2^(1/3)*$O$30/D136)","v":7.0412278429777278E-2},{"$f":"IF($C$2=1,-($O$31-2)*D136/$O$30,3*($O$30/D136)^2)","v":-0.23817882559389381},{"$f":"IF($C$2=1,0.5*($O$31*D136*$F$6/$O$30)*(1-W136^2+(E136-F136)*(F136^2*(1-W136^2)+2*F136*(1-W136)+2*LN((1-F136)/(1-F136*W136)))/(F136^3)),$F$6*F136*(LN((1-E136+E136^2)/(1+E136)^2)/(6*E136)+ATAN((2-E136)/(E136*3^0.5))/(E136*3^0.5)-LN((W136^2-E136*W136+E136^2)/(W136+E136)^2)/(6*E136)-ATAN((2*W136-E136)/(E136*3^0.5))/(E136*3^0.5)))","v":3.9715431298118902},{"$f":"IF($C$2=1,($O$31*D136*$F$6/$O$30)*(1-W136^3-(E136-F136)*(-2*F136^3*(1-W136^3)-3*F136^2*(1-W136^2)-6*F136*(1-W136)-6*LN((1-F136)/(1-F136*W136)))/(2*F136^4))/3,$F$6*F136*(LN((1+E136^3)/(E136^3+W136^3)))/3)","v":2.5841899112857623},{"$f":"H136/G136","v":0.65067653222443056},{"$f":"G136*C136*$D$6","v":0.17608508256724864},{"$f":"MAX(MIN($K$6,$Q$6*$J$6*D136*(C136-$I$6)/C136),-$K$6)","v":30.453592032160412},{"$f":"K136*$H$6","v":1.0210199188710148E-2},{"$f":"MIN($O$6,$Q$6*$N$6*D136*(C$6-C136-$M$6)/C136)","v":458.33333333333337},{"$f":"M136*$L$6","v":0.15366576866258877},{"$f":"(0.5*$C$6-C136+I136*C136)*J136+(0.5*$C$6-$I$6)*L136+(0.5*$C$6-$M$6)*N136","v":1.6214861279814499E-2},{"$f":"0.1*$Q$6*D136*$B$6^2/C136+$R$6","v":3.1600394865961237E-2},{"$f":"(J136+L136-N136)","v":3.2629513093370005E-2},{"$f":"O136-P136*Q136","v":1.5183755781779953E-2},{"$f":"((R136-R135)*(Q136-Q137)-(R136-R137)*(Q136-Q135))/((Q136^2-Q135^2)*(Q136-Q137)-(Q136^2-Q137^2)*(Q136-Q135))","v":-6.4831749032894403E-2},{"$f":"-(S136*(Q136^2-Q135^2)-(R136-R135))/(Q136-Q135)","v":2.0293886065172781E-2},{"$f":"R136-S136*Q136^2-T136*Q136","v":1.459060155950532E-2},{"$f":"S116*Q136^2+T116*Q136+U116","v":1.5183751671464567E-2},{"$f":"IF(C136<$C$6,0,(C136-$C$6)/C136)","v":0}]
[null,{"$f":"IF(R117>$Q$29*V117,B117,IF(Q117>Q116,$U$6,-0.5)*B117)","v":9.022317961323144E-9},{"$f":"IF(Q117>Q116,C117,(1-$T$6)*C117+$T$6*C118)","v":4.686581864712229E-2},{"$f":"D117+B137","v":4.7696410416799007E-4},7.8401115626175036E-2,-0.26520212186737668,4.3331526751043263,2.8121374746035688,0.64898185811924181,0.20307674744173218,50.78707989773995,1.7027423281340767E-2,458.33333333333337,0.15366576866258877,1.7864252449408029E-2,{"$f":"0.1*$Q$6*D137*$B$6^2/C137+$R$6","v":3.3286905944656706E-2},6.6438402060484181E-2,1.5652723608907404E-2,-7.6754368261717942E-2,2.1475035095345579E-2,1.4564755077100588E-2,{"$f":"MAX(S117*Q137^2+T117*Q137+U117,S118*Q137^2+T118*Q137+U118)","v":1.5652725462998143E-2},0]
[null,1.9755967437380816E-6,4.9178183027429483E-2,5.0761184506678146E-4,8.3438847096719643E-2,-0.28224291350300545,4.553438925579238,2.9502789577712583,0.64792325229133418,0.22392985288635761,68.85689101358507,2.3085702731604325E-2,456.29959764502894,0.15298391653648002,1.9079943381261625E-2,3.3760059985196621E-2,9.4031639081481905E-2,1.5905429605364438E-2,-6.2125942591294378E-2,1.912761102617052E-2,1.4656143414046139E-2,{"$f":"MAX(S118*Q138^2+T118*Q138+U118,S119*Q138^2+T119*Q138+U119)","v":1.5862144179019353E-2},0]
[null,-2.9337929157055242E-6,5.255221950735349E-2,6.1964263159411457E-4,0.10185394075149753,-0.34453439842165978,5.3108162970068538,3.4207746748581882,0.64411466779337057,0.27909518380353443,107.57272724041108,3.6065990876790043E-2,458.33333333333337,0.15366576866258877,2.23529548047346E-2,3.8565073873848534E-2,0.16149540601773568,1.6124872541373458E-2,-5.3758230311325976E-2,1.6989434233029756E-2,1.4783212796083646E-2,1.6108430589178577E-2,0]
[null,3.0453047689280748E-5,5.6242100708700393E-2,7.1019161172902387E-4,0.11673795612991454,-0.39488154499906147,5.8719734604781335,3.7645217154180166,0.64109991994267035,0.33025212272302712,149.06910044011573,4.9978511788300428E-2,458.33333333333337,0.15366576866258877,2.5230222681115251E-2,4.1300750685604862E-2,0.22656486584873878,1.587292364257898E-2,-6.6978492435030819E-3,-1.272830038289484E-3,1.6505113785125695E-2,1.6058975996183673E-2,0]
[null,3.1568166221506252E-5,6.0285666570009291E-2,7.3619714771841157E-4,0.12101262379611388,-0.40934117259874137,6.0252948061522904,3.8576564317314248,0.64024359900074268,0.36323891366970573,180.05317050957333,6.0366564755977618E-2,441.25852719444549,0.14794108529510464,2.6655704619794496E-2,3.994146628097265E-2,0.27566439313057872,1.5645264556704695E-2,-0.1061275264549716,4.8663663068179076E-2,1.0295147164034568E-2,1.5413029621140184E-2,0]
[null,3.2683284753731755E-5,6.4726330142402158E-2,7.6220268370779981E-4,0.12528729146231332,-0.42380080019842153,6.1752660445541157,3.9484111623114884,0.63939126408870095,0.3997023087169756,211.63163156828452,7.0953899647108853E-2,387.49545783248482,0.12991589974056114,2.7678712471751746E-2,3.8515312890049461E-2,0.34074030862352334,1.4554992870864727E-2,1.1454512515549492E-2,-2.3814458595084166E-2,2.1339624603146569E-2,1.4430789368458893E-2,0]
[null,3.3798403285957259E-5,6.9614059201644651E-2,7.8820821969718751E-4,0.12956195912851265,-0.43826042779810137,6.3219645877782344,4.0368448424988381,0.63854277992998543,0.44009761708429501,243.71001058670851,8.170884241652554E-2,332.35761408131287,0.1114297925207323,2.8693215314422184E-2,3.703291872865852E-2,0.41037666698008818,1.3495769558010816E-2,5.1061318766084801E-2,-5.3563803119304462E-2,2.6877918471385355E-2,1.3512191999091216E-2,0]
[null,-3.4913521818182774E-8,7.5006560532026839E-2,7.0629605974657219E-4,0.11609762362116792,-0.39271553576993307,5.8487129704365453,3.7503617143614059,0.64122854606104573,0.43869184345149925,239.58984241362447,8.0327470468883153E-2,239.50003999884441,8.0297362344312381E-2,2.6718466556494517E-2,3.0798635297944431E-2,0.43872195157606997,1.3206429172700701E-2,7.7494594605077086E-2,-7.6008261118106712E-2,3.1636998553682148E-2,1.3206399487187714E-2,0]
[null,2.5220048245285794E-6,8.0970715199564836E-2,6.2296659036300129E-4,0.10240031745678591,-0.34638258974424613,5.3321925339140659,3.4339482250275473,0.6440030443737329,0.43175144305280178,229.10879071068425,7.6813480215083926E-2,162.3321512311405,5.4425225012912304E-2,2.4529335905735708E-2,2.5164060553403027E-2,0.45413969825497341,1.3101337039143379E-2,3.2065916621099866E-2,-3.5446736743689609E-2,2.2585740838228504E-2,1.3100064477195672E-2,0]
[null,-2.6000631217843641E-5,8.758432627758074E-2,6.1364726726344146E-4,0.10086845096725039,-0.34120084915040794,5.2721061284446131,3.3969033482831481,0.64431619271771168,0.46175386332372598,242.31916437147026,8.1242532337785084E-2,114.14992603981271,3.8271133369495579E-2,2.4429810876726042E-2,2.2915870097868191E-2,0.50472526229201542,1.2863592330929766E-2,-3.8134746718269533E-3,-1.0432456271473919E-3,1.4361618237409848E-2,1.2850180049224082E-2,0]
[null,-2.6781214190401492E-5,9.4938257676883894E-2,6.3206999723369587E-4,0.103896692652371,-0.35144427635175646,5.3904256599713474,3.4698047280268782,0.64369772387238933,0.51175762029444671,265.8460597428176,8.9130412617383026E-2,72.883724726254542,2.4435782363023482E-2,2.5045557997623161E-2,2.1775486144440352E-2,0.57645225054880633,1.249303000286617E-2,-1.1591400309329382E-2,7.3660726686683477E-3,1.2098630669288228E-2,1.2441920141655828E-2,0]
[null,-2.7561797162959347E-5,0.10313906536129758,6.5049272720394985E-4,0.10692493433749153,-0.36168770355310459,5.5068946924827635,3.54138235037192,0.64308154561337738,0.56797597162576252,289.43352213892791,9.7038599249888197E-2,31.450964094597477,1.0544588886056293E-2,2.5455144062947677E-2,2.0628288400726634E-2,0.6544699819895945,1.1954548524847956E-2,-1.5792505569619628E-2,1.253730653479364E-2,1.0513676772026376E-2,1.1883673841068882E-2,0]
[null,-2.8342380135517205E-5,0.11231225223019801,6.6891545717420427E-4,0.10995317602261215,-0.37193113075445311,5.621544883045833,3.6116604734938065,0.64246760430327787,0.63136836682802255,313.03104465455755,0.10495015874639067,-10.009461865736926,-3.3558799669032749E-3,2.5555660910099972E-2,1.9479958893567042E-2,0.73967440554131647,1.1146833895531489E-2,-1.9889173143922887E-2,1.8248652641088398E-2,8.5305017326487865E-3,1.1080803434289006E-2,0]
[null,-2.9122963108075056E-5,0.12260631802291558,6.873381871444588E-4,0.11298141770773278,-0.38217455795580157,5.7344071277815765,3.6806627458952472,0.641855847322643,0.7030745439816618,336.59085692980648,0.11284907510163959,-51.36618466502447,-1.7221580181415556E-2,2.52050325152532E-2,1.8335871788450277E-2,0.83314519926471686,9.9285889603724937E-3,-2.1062785096114405E-2,2.0094532527929896E-2,7.8072561141939133E-3,9.9002958647870041E-3,0]
[null,-2.990354608063291E-7,0.13419782954979564,7.6825932842323607E-4,0.12628285422792204,-0.42716842265867444,6.2097214382525623,3.9692124282293428,0.63919331449854755,0.83333113912232926,391.9536143960442,0.13141058931545027,-100.68625570155065,-3.3757158275207429E-2,2.5568250028667167E-2,1.8724330201788871E-2,0.99849888671298692,6.8720271677346206E-3,-2.1162825869693522E-2,2.0277771619212719E-2,7.7240327394818911E-3,6.8721841785826607E-3,0]
[null,-4.3834470075986805E-6,0.14729780979304705,8.7760429235092161E-4,0.14425646499888067,-0.48796653345092911,6.8023062122977009,4.3239105886058313,0.63565362300049844,1.0019648066130891,458.33333333333337,0.15366576866258877,-161.51661576663014,-5.4151799811401932E-2,2.4857479959432757E-2,1.9487063046938698E-2,1.2097823750870798,1.282374543035595E-3,-1.9582917315793036E-2,1.6788889164276632E-2,9.6325091160797335E-3,{"$f":"S132*Q152^2+T132*Q152+U132","v":1.2454471904446672E-3},0]
[null,null,{"$f":"C133","v":0.16215984472146291},{"$f":"D133+(D152-D132)","v":8.9914935421140773E-4},0.14779794091150433,-0.49994604316923769,6.8577225300523343,4.3865971321106123,0.6396580078717673,1.1120472206161642,458.33333333333337,0.15366576866258877,-210.21138506097375,-7.0477732509866081E-2,2.1334865912190762E-2,1.8135622102132879E-2,1.3361907217886191,-2.8977840745438022E-3,null,null,null,null,7.4986780743096546E-2]
[null,"De","hc","e0","a'","b'","N'","tN'","t","Nc","sac","Nac","sat","Nat","Mtot","u","N","Mo","a''","b''","c''",null,"x"]
[null,null,{"$f":"$C$35","v":4.1544915655417694E-2},{"$f":"$D$35","v":3.8256566053946229E-4},{"$f":"$E$35","v":6.28843435479884E-2},{"$f":"$F$35","v":-0.21271459223465167},{"$f":"IF($C$2=1,0.5*($O$31*D155*$F$6/$O$30)*(1-W155^2+(E155-F155)*(F155^2*(1-W155^2)+2*F155*(1-W155)+2*LN((1-F155)/(1-F155*W155)))/(F155^3)),$F$6*F155*(LN((1-E155+E155^2)/(1+E155)^2)/(6*E155)+ATAN((2-E155)/(E155*3^0.5))/(E155*3^0.5)-LN((W155^2-E155*W155+E155^2)/(W155+E155)^2)/(6*E155)-ATAN((2*W155-E155)/(E155*3^0.5))/(E155*3^0.5)))","v":3.6164179713546631},{"$f":"IF($C$2=1,($O$31*D155*$F$6/$O$30)*(1-W155^3-(E155-F155)*(-2*F155^3*(1-W155^3)-3*F155^2*(1-W155^2)-6*F155*(1-W155)-6*LN((1-F155)/(1-F155*W155)))/(2*F155^4))/3,$F$6*F155*(LN((1+E155^3)/(E155^3+W155^3)))/3)","v":2.3589615237756383},{"$f":"$I$35","v":0.65229227994683425},{"$f":"$J$35","v":0.15024377959466625},{"$f":"$K$35","v":10.340089653207192},{"$f":"$L$35","v":3.4667297991276304E-3},{"$f":"$M$35","v":458.16851350986366},{"$f":"$N$35","v":0.15361050939379392},{"$f":"$O$35","v":1.4595642140814678E-2},{"$f":"$P$35","v":3.011841020334027E-2},{"$f":"$Q$35","v":9.9999999999961231E-5},{"$f":"$R$35","v":1.4592630299794346E-2},null,null,null,null,{"$f":"IF(C155<$C$6,0,(C155-$C$6)/C155)","v":0}]
[null,{"$f":"IF(R136>$Q$29*V136,IF(B136=B96,1.22,1)*B136,IF(Q136>Q135,$U$6,-0.5)*B136)","v":-4.0714933842728465E-10},{"$f":"IF(Q136>Q135,C136,(1-$T$6)*C136+$T$6*C137)","v":4.4336691510533544E-2},{"$f":"D136+B156","v":4.2836249349889404E-4},{"$f":"IF($C$2=1,D156/($O$31*$O$30),2^(1/3)*$O$30/D156)","v":7.0412211504484401E-2},{"$f":"IF($C$2=1,-($O$31-2)*D156/$O$30,3*($O$30/D156)^2)","v":-0.23817859921025714},{"$f":"IF($C$2=1,0.5*($O$31*D156*$F$6/$O$30)*(1-W156^2+(E156-F156)*(F156^2*(1-W156^2)+2*F156*(1-W156)+2*LN((1-F156)/(1-F156*W156)))/(F156^3)),$F$6*F156*(LN((1-E156+E156^2)/(1+E156)^2)/(6*E156)+ATAN((2-E156)/(E156*3^0.5))/(E156*3^0.5)-LN((W156^2-E156*W156+E156^2)/(W156+E156)^2)/(6*E156)-ATAN((2*W156-E156)/(E156*3^0.5))/(E156*3^0.5)))","v":3.9715400356965742},{"$f":"IF($C$2=1,($O$31*D156*$F$6/$O$30)*(1-W156^3-(E156-F156)*(-2*F156^3*(1-W156^3)-3*F156^2*(1-W156^2)-6*F156*(1-W156)-6*LN((1-F156)/(1-F156*W156)))/(2*F156^4))/3,$F$6*F156*(LN((1+E156^3)/(E156^3+W156^3)))/3)","v":2.5841879547371982},{"$f":"H156/G156","v":0.65067654650595852},{"$f":"G156*C156*$D$6","v":0.17608494538441238},{"$f":"MAX(MIN($K$6,$Q$6*$J$6*D156*(C156-$I$6)/C156),-$K$6)","v":30.453563086703578},{"$f":"K156*$H$6","v":1.0210189484144606E-2},{"$f":"MIN($O$6,$Q$6*$N$6*D156*(C$6-C156-$M$6)/C156)","v":458.33333333333337},{"$f":"M156*$L$6","v":0.15366576866258877},{"$f":"(0.5*$C$6-C156+I156*C156)*J156+(0.5*$C$6-$I$6)*L156+(0.5*$C$6-$M$6)*N156","v":1.6214852887604971E-2},{"$f":"0.1*$Q$6*D156*$B$6^2/C156+$R$6","v":3.1600364830494013E-2},{"$f":"(J156+L156-N156)","v":3.2629366205968208E-2},{"$f":"O156-P156*Q156","v":1.5183753011308584E-2},{"$f":"((R156-R155)*(Q156-Q157)-(R156-R157)*(Q156-Q155))/((Q156^2-Q155^2)*(Q156-Q157)-(Q156^2-Q157^2)*(Q156-Q155))","v":-6.4831099496360733E-2},{"$f":"-(S156*(Q156^2-Q155^2)-(R156-R155))/(Q156-Q155)","v":2.0293852171106262E-2},{"$f":"R156-S156*Q156^2-T156*Q156","v":1.4590601562888231E-2},{"$f":"S136*Q156^2+T136*Q156+U136","v":1.5183753422321922E-2},{"$f":"IF(C156<$C$6,0,(C156-$C$6)/C156)","v":0}]
[null,{"$f":"IF(R137>$Q$29*V137,IF(B137=B97,1.22,1)*B137,IF(Q137>Q136,$U$6,-0.5)*B137)","v":-9.0223179613231444E-10},{"$f":"IF(Q137>Q136,C137,(1-$T$6)*C137+$T$6*C138)","v":4.686581864712229E-2},{"$f":"D137+B157","v":4.7696320193619396E-4},7.8400967321556839E-2,-0.26520162020743066,4.3331461034181977,2.8121333452226591,0.64898188939540047,0.20307643945428186,50.786983828207859,1.7027391072034964E-2,458.33333333333337,0.15366576866258877,1.7864233587314843E-2,{"$f":"0.1*$Q$6*D157*$B$6^2/C157+$R$6","v":3.328684297869202E-2},6.6438061863728054E-2,1.5652720254248301E-2,-5.1554507206390564E-2,1.8978574319408956E-2,1.4619382982521413E-2,{"$f":"MAX(S137*Q157^2+T137*Q157+U137,S138*Q157^2+T138*Q157+U138)","v":1.5652719910106111E-2},0]
[null,1.9755967437380816E-6,4.9178183027429483E-2,5.0958744181051952E-4,8.3763586395511722E-2,-0.28334138704391804,4.5674389158433719,2.959039375698731,0.64785527080275096,0.22461834696994942,69.124878159654273,2.3175550987878692E-2,458.07549000852941,0.15357932133306035,1.9142892421768004E-2,3.3891452239383245E-2,9.421457662476776E-2,1.5949823597835974E-2,-8.3515291610348943E-2,2.4113158662066835E-2,1.4419326566103159E-2,{"$f":"MAX(S138*Q158^2+T138*Q158+U138,S139*Q158^2+T139*Q158+U139)","v":1.5906789313797146E-2},0]
[null,-2.9337929157055242E-6,5.255221950735349E-2,6.1670883867840905E-4,0.10137169767366946,-0.34290314755903606,5.2918985691126883,3.4091111854264695,0.64421325180427402,0.27810101521465985,107.06340769232071,3.5895230920748901E-2,458.33333333333337,0.15366576866258877,2.2292449851990769E-2,3.8382481626711359E-2,0.16033047747282,1.6138568246188395E-2,-4.9506089070009827E-2,1.5456284361620394E-2,1.4933051488657327E-2,1.6128866348950076E-2,0]
[null,-3.0453047689280752E-6,5.6242100708700393E-2,7.0714630696009576E-4,0.11623738325824706,-0.39318829118940352,5.8537964089207781,3.7534569739802066,0.64120046407152109,0.32922980715875111,148.42989147879769,4.9764203708932531E-2,458.33333333333337,0.15366576866258877,2.5168545704699532E-2,4.11236528841862E-2,0.22532824220509487,1.5902225287253376E-2,-9.1436967448808634E-3,-1.0982418562653735E-4,1.6391223017062639E-2,1.5878240557811448E-2,0]
[null,3.8513162790237625E-5,6.0285666570009291E-2,7.7471031050864924E-4,0.12734323631529759,-0.43075530503038734,6.2462260204291375,3.9912303958840414,0.63898270456915518,0.37655789918850702,189.47240975577861,6.3524560331944799E-2,458.33333333333337,0.15366576866258877,2.7648034461934749E-2,4.203095032438036E-2,0.28641669085786303,1.5609668756414502E-2,-9.6906464329060887E-2,4.4802327437159603E-2,1.0727209752980388E-2,1.5527111728412571E-2,0]
[null,3.9873607399552742E-5,6.4726330142402158E-2,8.0207629110735251E-4,0.13184152746633762,-0.44597136858388575,6.3988830697534596,4.0830750346096254,0.63809183416863735,0.41417621811549021,222.70285549710965,7.4665757396327526E-2,407.76676110258154,0.13671227515610701,2.8759374797805489E-2,4.0530189638551581E-2,0.35212970035571073,1.448749126502219E-2,6.9686304562630795E-5,-1.7121443583724597E-2,2.0507819287773239E-2,1.4374152446003466E-2,0]
[null,-3.3798403285957259E-6,6.9614059201644651E-2,7.8482837936859177E-4,0.129006396875327,-0.43638116514734049,6.3030811033606886,4.0254806546576338,0.63865284114959597,0.43878306108211867,242.66498098453067,8.1358474539229939E-2,330.93246316367913,0.11095198107807401,2.8602076730820804E-2,3.6874121409527783E-2,0.40918955454327455,1.3513571417081507E-2,7.7005837133282559E-2,-7.5694416607441584E-2,3.1593379634166995E-2,1.3510604081873573E-2,0]
[null,3.4913521818182775E-9,7.5006560532026839E-2,7.0629955109875406E-4,0.11609819751321496,-0.39271747703553089,5.8487338519741598,3.750374429714419,0.64122843073950642,0.43869340970381432,239.59102675057142,8.0327867542440909E-2,239.50122389188138,8.0297759269040106E-2,2.6718565872533226E-2,3.0798787541300547E-2,0.43872351797721515,1.3206413452981026E-2,7.9369978648859529E-2,-7.7699003103787717E-2,3.2017792874417361E-2,1.3206417721300384E-2,0]
[null,-2.5220048245285796E-7,8.0970715199564836E-2,6.2271438988054843E-4,0.1023588619279254,-0.34624236094610805,5.330572775835912,3.4329502277958106,0.64401151098766751,0.43162029008276342,229.01603879036418,7.6782383207525562E-2,162.26643302491337,5.4403191619439538E-2,2.4521716292674252E-2,2.5153873188124991E-2,0.45399948167084947,1.3101870903251227E-2,2.6976211170347274E-2,-3.0925881837506979E-2,2.1581989182260199E-2,1.3102224108358618E-2,0]
[null,-3.1720770085769243E-5,8.758432627758074E-2,5.8192649717767227E-4,9.5654340006879696E-2,-0.32356343060989179,5.0639493234777344,3.2682051205257157,0.64538661660248064,0.44352258980060816,229.79315649942143,7.7042928058660684E-2,108.24926656916278,3.6292814737116805E-2,2.345576593542973E-2,2.1731298625837558E-2,0.48427270312215204,1.2931891207540668E-2,1.4636755072059977E-2,-1.9348113405009634E-2,1.8869041840682166E-2,1.2962066583047799E-2,0]
[null,-3.2673081312289818E-5,9.4938257676883894E-2,5.9939691592140608E-4,9.8526045252611882E-2,-0.33327735264356745,5.1792937453660688,3.3395889080666081,0.64479619659621534,0.49171312418183694,252.10389516524873,8.4523066545601391E-2,69.116205504102624,2.3172643299991368E-2,2.4066072642035995E-2,2.0649863614458305E-2,0.55306354742744701,1.2645385817530722E-2,-1.2641832126792001E-2,8.9489539601377739E-3,1.1562920198121683E-2,1.2626967682366125E-2,0]
[null,-3.36253925388104E-5,0.10313906536129758,6.1686733466513946E-4,0.101397750498344,-0.34299127467724277,5.2929218007633887,3.4097421670928085,0.64420792436438934,0.54590700756117205,274.47207001379059,9.2022461705631289E-2,29.825194936576906,9.9995160118704872E-3,2.4481157312883528E-2,1.9561967032523626E-2,0.62792995325493295,1.2197612268576428E-2,-1.6912403226881298E-2,1.3992470673545233E-2,1.0079814198378584E-2,1.2159304888602757E-2,0]
[null,-3.4577703765330989E-5,0.11231225223019801,6.3433775340887327E-4,0.10426945574407619,-0.35270519671091843,5.4048617074645771,3.4786865643655354,0.6436217525346063,0.60703219135810027,296.84978495225926,9.9525055378937646E-2,-9.4920508782469284,-3.1824071877604686E-3,2.4602552882177438E-2,1.8472997190472223E-2,0.70973965392479832,1.1491534249257911E-2,-2.1070841138360909E-2,1.955508668107547E-2,8.2265365324689539E-3,1.1463513469584649E-2,0]
[null,-3.5530014991851565E-5,0.12260631802291558,6.518081721526072E-4,0.10714116098980839,-0.36241911874459409,5.5151410311095646,3.5464432431582522,0.64303763460510466,0.6761911352014498,319.19173897519363,0.10701565946262875,-48.710954175351468,-1.6331359015949499E-2,2.4294211748228729E-2,1.7388050451418429E-2,0.79953815368002812,1.0391801994206458E-2,-1.8853881595774408E-2,1.6209078843091921E-2,9.4845811126819356E-3,1.0408979028046354E-2,0]
[null,2.9903546080632913E-8,0.13419782954979564,7.6828923196931671E-4,0.12628776963214935,-0.42718504966226367,6.2098911165174027,3.9693148194737184,0.63919233767495875,0.83335390957719258,391.96887070668811,0.13141570431043656,-100.69017478977472,-3.3758472230926137E-2,2.5568879073338695E-2,1.8725059023230153E-2,0.99852808611855526,6.8713817244157073E-3,-2.0858216048394832E-2,1.9813004955613882E-2,7.8843980486970541E-3,6.8713852198992315E-3,0]
[null,-5.3478053492703904E-6,0.14729780979304705,8.7225648700165121E-4,0.14337741791363764,-0.48499304065856436,6.7745817584859713,4.3074505757182253,0.63582531428196731,0.9978810552889128,458.33333333333337,0.15366576866258877,-160.53239152192066,-5.3821818193002725E-2,2.4807148540024939E-2,1.9368315883880934E-2,1.2053686421445045,1.4611879224455393E-3,-2.0499446813436489E-2,1.902231461248774E-2,8.3162107063227478E-3,{"$f":"S152*Q172^2+T152*Q172+U152","v":1.4170234708035211E-3},0]
[null,null,{"$f":"C153","v":0.16215984472146291},{"$f":"D153+(D172-D152)","v":8.9380154886213733E-4},0.1469188938262613,-0.49697255037687305,6.8308154599058097,4.3705049732056205,0.63982184833696054,1.1076839742992943,458.33333333333337,0.15366576866258877,-208.96112606424393,-7.0058557215844697E-2,2.1306680481561584E-2,1.8027758178930497E-2,1.3314083001777279,-2.6956263914633995E-3,null,null,null,null,7.4986780743096546E-2]
[null,"De","hc","e0","a'","b'","N'","tN'","t","Nc","sac","Nac","sat","Nat","Mtot","u","N","Mo","a''","b''","c''",null,"x"]
[null,null,{"$f":"$C$35","v":4.1544915655417694E-2},{"$f":"$D$35","v":3.8256566053946229E-4},{"$f":"$E$35","v":6.28843435479884E-2},{"$f":"$F$35","v":-0.21271459223465167},{"$f":"IF($C$2=1,0.5*($O$31*D175*$F$6/$O$30)*(1-W175^2+(E175-F175)*(F175^2*(1-W175^2)+2*F175*(1-W175)+2*LN((1-F175)/(1-F175*W175)))/(F175^3)),$F$6*F175*(LN((1-E175+E175^2)/(1+E175)^2)/(6*E175)+ATAN((2-E175)/(E175*3^0.5))/(E175*3^0.5)-LN((W175^2-E175*W175+E175^2)/(W175+E175)^2)/(6*E175)-ATAN((2*W175-E175)/(E175*3^0.5))/(E175*3^0.5)))","v":3.6164179713546631},{"$f":"IF($C$2=1,($O$31*D175*$F$6/$O$30)*(1-W175^3-(E175-F175)*(-2*F175^3*(1-W175^3)-3*F175^2*(1-W175^2)-6*F175*(1-W175)-6*LN((1-F175)/(1-F175*W175)))/(2*F175^4))/3,$F$6*F175*(LN((1+E175^3)/(E175^3+W175^3)))/3)","v":2.3589615237756383},{"$f":"$I$35","v":0.65229227994683425},{"$f":"$J$35","v":0.15024377959466625},{"$f":"$K$35","v":10.340089653207192},{"$f":"$L$35","v":3.4667297991276304E-3},{"$f":"$M$35","v":458.16851350986366},{"$f":"$N$35","v":0.15361050939379392},{"$f":"$O$35","v":1.4595642140814678E-2},{"$f":"$P$35","v":3.011841020334027E-2},{"$f":"$Q$35","v":9.9999999999961231E-5},{"$f":"$R$35","v":1.4592630299794346E-2},null,null,null,null,{"$f":"IF(C175<$C$6,0,(C175-$C$6)/C175)","v":0}]
[null,{"$f":"IF(R156>$Q$29*V156,B156,IF(Q156>Q155,$U$6,-0.5)*B156)","v":4.0714933842728466E-11},{"$f":"IF(Q156>Q155,C156,(1-$T$6)*C156+$T$6*C157)","v":4.4336691510533544E-2},{"$f":"D156+B176","v":4.2836253421382791E-4},{"$f":"IF($C$2=1,D176/($O$31*$O$30),2^(1/3)*$O$30/D176)","v":7.0412218197013696E-2},{"$f":"IF($C$2=1,-($O$31-2)*D176/$O$30,3*($O$30/D176)^2)","v":-0.23817862184862082},{"$f":"IF($C$2=1,0.5*($O$31*D176*$F$6/$O$30)*(1-W176^2+(E176-F176)*(F176^2*(1-W176^2)+2*F176*(1-W176)+2*LN((1-F176)/(1-F176*W176)))/(F176^3)),$F$6*F176*(LN((1-E176+E176^2)/(1+E176)^2)/(6*E176)+ATAN((2-E176)/(E176*3^0.5))/(E176*3^0.5)-LN((W176^2-E176*W176+E176^2)/(W176+E176)^2)/(6*E176)-ATAN((2*W176-E176)/(E176*3^0.5))/(E176*3^0.5)))","v":3.9715403451081612},{"$f":"IF($C$2=1,($O$31*D176*$F$6/$O$30)*(1-W176^3-(E176-F176)*(-2*F176^3*(1-W176^3)-3*F176^2*(1-W176^2)-6*F176*(1-W176)-6*LN((1-F176)/(1-F176*W176)))/(2*F176^4))/3,$F$6*F176*(LN((1+E176^3)/(E176^3+W176^3)))/3)","v":2.5841881503920501},{"$f":"H176/G176","v":0.65067654507779449},{"$f":"G176*C176*$D$6","v":0.17608495910269847},{"$f":"MAX(MIN($K$6,$Q$6*$J$6*D176*(C176-$I$6)/C176),-$K$6)","v":30.45356598124927},{"$f":"K176*$H$6","v":1.0210190454601161E-2},{"$f":"MIN($O$6,$Q$6*$N$6*D176*(C$6-C176-$M$6)/C176)","v":458.33333333333337},{"$f":"M176*$L$6","v":0.15366576866258877},{"$f":"(0.5*$C$6-C176+I176*C176)*J176+(0.5*$C$6-$I$6)*L176+(0.5*$C$6-$M$6)*N176","v":1.621485372682599E-2},{"$f":"0.1*$Q$6*D176*$B$6^2/C176+$R$6","v":3.1600367834040737E-2},{"$f":"(J176+L176-N176)","v":3.2629380894710874E-2},{"$f":"O176-P176*Q176","v":1.5183753288356104E-2},{"$f":"((R176-R175)*(Q176-Q177)-(R176-R177)*(Q176-Q175))/((Q176^2-Q175^2)*(Q176-Q177)-(Q176^2-Q177^2)*(Q176-Q175))","v":-6.4831164450132373E-2},{"$f":"-(S176*(Q176^2-Q175^2)-(R176-R175))/(Q176-Q175)","v":2.0293855560520019E-2},{"$f":"R176-S176*Q176^2-T176*Q176","v":1.4590601562549941E-2},{"$f":"S156*Q176^2+T156*Q176+U156","v":1.5183753247254676E-2},{"$f":"IF(C176<$C$6,0,(C176-$C$6)/C176)","v":0}]
[null,{"$f":"IF(R157>$Q$29*V157,B157,IF(Q157>Q156,$U$6,-0.5)*B157)","v":9.0223179613231452E-11},{"$f":"IF(Q157>Q156,C157,(1-$T$6)*C157+$T$6*C158)","v":4.686581864712229E-2},{"$f":"D157+B177","v":4.7696329215937358E-4},7.8400982152018656E-2,-0.26520167037342524,4.3331467605870255,2.8121337581609649,0.64898188626779763,0.20307647025303696,50.786993435161058,1.7027394292965538E-2,458.33333333333337,0.15366576866258877,1.7864235473524916E-2,{"$f":"0.1*$Q$6*D177*$B$6^2/C177+$R$6","v":3.3286849275288494E-2},6.6438095883413734E-2,1.5652720589716559E-2,-4.9969495874738847E-2,1.8821547554043038E-2,1.4622819192040684E-2,{"$f":"MAX(S157*Q177^2+T157*Q177+U157,S158*Q177^2+T158*Q177+U158)","v":1.5652720697047429E-2},0]
[null,1.9755967437380816E-6,4.9178183027429483E-2,5.1156303855425759E-4,8.4088325694303787E-2,-0.28443986058483062,4.5814149620171349,2.9677825204229147,0.64778732008074646,0.22530566352668255,69.392865305723461,2.3265399244153051E-2,458.33333333333337,0.15366576866258877,1.918795576991145E-2,3.4022844493569869E-2,9.4905294108246829E-2,1.5959007706850055E-2,-8.5526207748496799E-2,2.4558387984711876E-2,1.4398622495572005E-2,{"$f":"MAX(S158*Q178^2+T158*Q178+U158,S159*Q178^2+T159*Q178+U159)","v":1.595556950908791E-2},0]
[null,2.9337929157055247E-7,5.255221950735349E-2,6.1700221796997959E-4,0.10141992198145228,-0.34306627264529849,5.2937924822532656,3.4102790669465768,0.64420339074096378,0.27820054455375132,107.11433964712974,3.5912306916353012E-2,458.33333333333337,0.15366576866258877,2.229850710476863E-2,3.8400740851425072E-2,0.16044708280751555,1.6137220257510087E-2,-4.6126084672828541E-2,1.4497472906566411E-2,1.4998579106436075E-2,1.6138518787090099E-2,0]
[null,-3.0453047689280752E-6,5.6242100708700393E-2,7.0410100219116766E-4,0.1157368103865796,-0.3914950373797455,5.8355721923704609,3.7423586617677445,0.64130106498563688,0.32820483893619101,147.79068251747964,4.9549895629564633E-2,458.33333333333337,0.15366576866258877,2.5106712779788948E-2,4.0946555082767538E-2,0.22408896590316688,1.593104159399451E-2,-5.4498890731601857E-2,1.7717118665027964E-2,1.4697539713548478E-2,1.5907453990828394E-2,0]
[null,3.8513162790237625E-5,6.0285666570009291E-2,8.1322347329888692E-4,0.13367384883448133,-0.45216943746203336,6.4600585713646543,4.1197739049672757,0.63773011644645117,0.38944893705602013,198.89164900198384,6.6682555907911958E-2,458.33333333333337,0.15366576866258877,2.8415420929077971E-2,4.4120434367788064E-2,0.30246572430134333,1.5070501791535074E-2,-4.4967012941786663E-3,-8.6117687037416315E-3,1.8086649680926197E-2,1.5412840436033075E-2,0]
[null,3.9873607399552742E-5,6.4726330142402158E-2,8.419498985069052E-4,0.13839576347036192,-0.46814193696934997,6.6150732877064504,4.2124851892589517,0.63680098557449027,0.42816941753627336,233.77407942593484,7.8377615145546226E-2,428.03806437267826,0.14350865057165291,2.9813088029647251E-2,4.2545066387053701E-2,0.36303838211016665,1.4367595961721642E-2,-6.4497547688981957E-2,3.131904096016621E-2,1.1498156709485351E-2,1.4301262546353529E-2,0]
[null,3.3798403285957261E-7,6.9614059201644651E-2,7.851663634014513E-4,0.12906195310064555,-0.43656909141241657,6.3049718869204874,4.0266187977880081,0.63864183219296056,0.438914686200788,242.76948394474846,8.1393511326959489E-2,331.07497825544249,0.11099976222233983,2.861119985858139E-2,3.6890001141440851E-2,0.40930843530540767,1.3511811212963533E-2,0.10719538233553876,-0.10128744711702724,3.7010811354774652E-2,1.3512065757312952E-2,0]
[null,-3.4913521818182775E-10,7.5006560532026839E-2,7.0629920196353592E-4,0.11609814012401026,-0.39271728290897112,5.8487317638231788,3.750373158181123,0.64122844227166131,0.43869325307879137,239.59090831687675,8.0327827835085144E-2,239.5011055025777,8.0297719576567339E-2,2.6718555940940632E-2,3.0798772316964936E-2,0.43872336133730921,1.3206415024979309E-2,7.9219641504891872E-2,-7.7563129358002761E-2,3.1987118819073804E-2,1.320641471488198E-2,0]
[null,2.5220048245285798E-8,8.0970715199564836E-2,6.2273960992879375E-4,0.10236300748081145,-0.34625638382592189,5.3307347673856729,3.4330500387869942,0.64401066430672349,0.43163340665440381,229.02531398239617,7.6785492908281405E-2,162.27300484553606,5.440539495878681E-2,2.4522478320245872E-2,2.5154891924652794E-2,0.45401350460389844,1.3101817679601953E-2,3.0665358646416424E-2,-3.4216931050904481E-2,2.2315769370297802E-2,1.310178595583244E-2,0]
[null,3.1720770085769244E-6,8.758432627758074E-2,5.8509857418624915E-4,9.6175751102916762E-2,-0.32532717246394338,5.0850210516232446,3.2812585867432005,0.64527925320894286,0.445368142913737,231.0457572866263,7.7462888486573109E-2,108.83933251622778,3.6490646600354684E-2,2.3554296947919294E-2,2.184975577304062E-2,0.48634038479995539,1.2927878317473673E-2,9.6556938350488026E-3,-1.4460411030463652E-2,1.7676728177430642E-2,1.2925023663877272E-2,0]
[null,-3.2673081312289818E-5,9.4938257676883894E-2,5.6672383460911629E-4,9.3155397852852775E-2,-0.31511042893537844,4.962158130644327,3.205068764447832,0.64590218208778838,0.47109864724055561,238.36173058767992,7.9915720473819757E-2,65.348686281950719,2.1909504236959258E-2,2.305915566785418E-2,1.9524241084476257E-2,0.52910486347741614,1.2728784754352211E-2,-3.5070324424765443E-3,-1.0943831775748411E-3,1.4289628810089694E-2,1.2758749623125031E-2,0]
[null,-3.36253925388104E-5,0.10313906536129758,5.8324194212632907E-4,9.5870566659196466E-2,-0.32429484580138102,5.0726946393590282,3.2736233338880552,0.64534208475472143,0.52319298396675462,259.51061788865326,8.7006324161374382E-2,28.199425778556332,9.4544431376846812E-3,2.3477679549452152E-2,1.8495645664320617E-2,0.60074486499044422,1.2366515391928767E-2,-1.8144309577596968E-2,1.544354041904979E-2,9.6370673759190693E-3,1.2382127610476683E-2,0]
[null,-3.4577703765330989E-5,0.11231225223019801,5.9976004964354228E-4,9.8585735465540225E-2,-0.33347926266738381,5.1816729447487662,3.3410595348979069,0.6447839472932807,0.58196535874501631,280.66852524996096,9.4099952011484619E-2,-8.9746398907569276,-3.0089344086176614E-3,2.3618012662477889E-2,1.74660354873774E-2,0.67907424516511861,1.1757277797859907E-2,-1.7757926039382619E-2,1.4949039382993544E-2,9.794692681645744E-3,1.1797435622778062E-2,0]
[null,3.5530014991851565E-6,0.12260631802291558,6.553611736517923E-4,0.10772518666160082,-0.36439466266571485,5.5373680371492782,3.5600796102087577,0.64291908833308131,0.67891630657265223,320.93165077065487,0.10759900102652983,-48.976477224318764,-1.6420381132496102E-2,2.4386763640050574E-2,1.7482832585121611E-2,0.8029356887316782,1.0349173417335327E-2,-2.0073081142874125E-2,1.8380122244879823E-2,8.5323475393031464E-3,1.0345555628195681E-2,0]
[null,-2.9903546080632916E-9,0.13419782954979564,7.6828624161470868E-4,0.12628727809172663,-0.42718338696190478,6.2098741488845848,3.969304580486595,0.63919243535709336,0.83335163255769584,391.96734507562377,0.13141519281093794,-100.68978288095232,-3.375834083535427E-2,2.5568816169805917E-2,1.8724986141086027E-2,0.99852516620398801,6.8714462711106199E-3,-2.0279287628710178E-2,1.8751595157147319E-2,8.3670211816153743E-3,6.8714457177665167E-3,0]
[null,-5.3478053492703904E-6,0.14729780979304705,8.6690868165238081E-4,0.14249837082839459,-0.4820195478661996,6.7467316471569969,4.29090207036315,0.63599714569517407,0.9937787948876623,458.33333333333337,0.15366576866258877,-159.54816727721129,-5.3491836574603553E-2,2.4756235296719394E-2,1.924956872082317E-2,1.2009364001248546,1.6387275331780152E-3,-2.1455668602071685E-2,2.1338999895416461E-2,6.9563460346138105E-3,{"$f":"S172*Q192^2+T172*Q192+U172","v":1.5955097099629063E-3},0]
[null,null,{"$f":"C173","v":0.16215984472146291},{"$f":"D173+(D192-D172)","v":8.8845374351286693E-4},0.14603984674101828,-0.49399905758450824,6.8037851491666661,4.3543260637170222,0.63998582674973858,1.1033007433070621,458.33333333333337,0.15366576866258877,-207.71086706751413,-6.9639381921823312E-2,2.127795573481531E-2,1.7919894255728111E-2,1.3266058938914742,-2.4946816027455743E-3,null,null,null,null,7.4986780743096546E-2]
[null,"De","hc","e0","a'","b'","N'","tN'","t","Nc","sac","Nac","sat","Nat","Mtot","u","N","Mo","a''","b''","c''",null,"x"]
[null,null,{"$f":"$C$35","v":4.1544915655417694E-2},{"$f":"$D$35","v":3.8256566053946229E-4},{"$f":"$E$35","v":6.28843435479884E-2},{"$f":"$F$35","v":-0.21271459223465167},{"$f":"IF($C$2=1,0.5*($O$31*D195*$F$6/$O$30)*(1-W195^2+(E195-F195)*(F195^2*(1-W195^2)+2*F195*(1-W195)+2*LN((1-F195)/(1-F195*W195)))/(F195^3)),$F$6*F195*(LN((1-E195+E195^2)/(1+E195)^2)/(6*E195)+ATAN((2-E195)/(E195*3^0.5))/(E195*3^0.5)-LN((W195^2-E195*W195+E195^2)/(W195+E195)^2)/(6*E195)-ATAN((2*W195-E195)/(E195*3^0.5))/(E195*3^0.5)))","v":3.6164179713546631},{"$f":"IF($C$2=1,($O$31*D195*$F$6/$O$30)*(1-W195^3-(E195-F195)*(-2*F195^3*(1-W195^3)-3*F195^2*(1-W195^2)-6*F195*(1-W195)-6*LN((1-F195)/(1-F195*W195)))/(2*F195^4))/3,$F$6*F195*(LN((1+E195^3)/(E195^3+W195^3)))/3)","v":2.3589615237756383},{"$f":"$I$35","v":0.65229227994683425},{"$f":"$J$35","v":0.15024377959466625},{"$f":"$K$35","v":10.340089653207192},{"$f":"$L$35","v":3.4667297991276304E-3},{"$f":"$M$35","v":458.16851350986366},{"$f":"$N$35","v":0.15361050939379392},{"$f":"$O$35","v":1.4595642140814678E-2},{"$f":"$P$35","v":3.011841020334027E-2},{"$f":"$Q$35","v":9.9999999999961231E-5},{"$f":"$R$35","v":1.4592630299794346E-2},null,null,null,null,{"$f":"IF(C195<$C$6,0,(C195-$C$6)/C195)","v":0}]
[null,{"$f":"IF(R176>$Q$29*V176,B176,IF(Q176>Q175,$U$6,-0.5)*B176)","v":-4.0714933842728469E-12},{"$f":"IF(Q176>Q175,C176,(1-$T$6)*C176+$T$6*C177)","v":4.4336691510533544E-2},{"$f":"D176+B196","v":4.2836253014233455E-4},{"$f":"IF($C$2=1,D196/($O$31*$O$30),2^(1/3)*$O$30/D196)","v":7.0412217527760765E-2},{"$f":"IF($C$2=1,-($O$31-2)*D196/$O$30,3*($O$30/D196)^2)","v":-0.23817861958478445},{"$f":"IF($C$2=1,0.5*($O$31*D196*$F$6/$O$30)*(1-W196^2+(E196-F196)*(F196^2*(1-W196^2)+2*F196*(1-W196)+2*LN((1-F196)/(1-F196*W196)))/(F196^3)),$F$6*F196*(LN((1-E196+E196^2)/(1+E196)^2)/(6*E196)+ATAN((2-E196)/(E196*3^0.5))/(E196*3^0.5)-LN((W196^2-E196*W196+E196^2)/(W196+E196)^2)/(6*E196)-ATAN((2*W196-E196)/(E196*3^0.5))/(E196*3^0.5)))","v":3.9715403141670227},{"$f":"IF($C$2=1,($O$31*D196*$F$6/$O$30)*(1-W196^3-(E196-F196)*(-2*F196^3*(1-W196^3)-3*F196^2*(1-W196^2)-6*F196*(1-W196)-6*LN((1-F196)/(1-F196*W196)))/(2*F196^4))/3,$F$6*F196*(LN((1+E196^3)/(E196^3+W196^3)))/3)","v":2.5841881308264969},{"$f":"H196/G196","v":0.65067654522059049},{"$f":"G196*C196*$D$6","v":0.17608495773087077},{"$f":"MAX(MIN($K$6,$Q$6*$J$6*D196*(C196-$I$6)/C196),-$K$6)","v":30.453565691794697},{"$f":"K196*$H$6","v":1.0210190357555505E-2},{"$f":"MIN($O$6,$Q$6*$N$6*D196*(C$6-C196-$M$6)/C196)","v":458.33333333333337},{"$f":"M196*$L$6","v":0.15366576866258877},{"$f":"(0.5*$C$6-C196+I196*C196)*J196+(0.5*$C$6-$I$6)*L196+(0.5*$C$6-$M$6)*N196","v":1.621485364290378E-2},{"$f":"0.1*$Q$6*D196*$B$6^2/C196+$R$6","v":3.1600367533686065E-2},{"$f":"(J196+L196-N196)","v":3.262937942583749E-2},{"$f":"O196-P196*Q196","v":1.5183753260651221E-2},{"$f":"((R196-R195)*(Q196-Q197)-(R196-R197)*(Q196-Q195))/((Q196^2-Q195^2)*(Q196-Q197)-(Q196^2-Q197^2)*(Q196-Q195))","v":-6.4831157954568508E-2},{"$f":"-(S196*(Q196^2-Q195^2)-(R196-R195))/(Q196-Q195)","v":2.0293855221567982E-2},{"$f":"R196-S196*Q196^2-T196*Q196","v":1.4590601562583769E-2},{"$f":"S176*Q196^2+T176*Q196+U176","v":1.5183753264761513E-2},{"$f":"IF(C196<$C$6,0,(C196-$C$6)/C196)","v":0}]
[null,{"$f":"IF(R177>$Q$29*V177,B177,IF(Q177>Q176,$U$6,-0.5)*B177)","v":-9.0223179613231465E-12},{"$f":"IF(Q177>Q176,C177,(1-$T$6)*C177+$T$6*C178)","v":4.686581864712229E-2},{"$f":"D177+B197","v":4.7696328313705564E-4},7.8400980668972484E-2,-0.26520166535682582,4.3331466948701367,2.8121337168671876,0.6489818865805711,0.20307646717316116,50.786992474465741,1.7027393970872481E-2,458.33333333333337,0.15366576866258877,1.7864235284904016E-2,{"$f":"0.1*$Q$6*D197*$B$6^2/C197+$R$6","v":3.328684864562885E-2},6.643809248144486E-2,1.5652720556169869E-2,-4.9735500579460752E-2,1.8798366608637533E-2,1.462332643778644E-2,{"$f":"MAX(S177*Q197^2+T177*Q197+U177,S178*Q197^2+T178*Q197+U178)","v":1.5652720548274487E-2},0]
[null,-1.9755967437380817E-7,4.9178183027429483E-2,5.1136547887988373E-4,8.405585176442458E-2,-0.28433001323073936,4.5800184335537146,2.9669089822170114,0.64779411377061558,0.22523698479430546,69.366066591116521,2.325641441852561E-2,458.33333333333337,0.15366576866258877,1.9183755244721788E-2,3.4009705268151204E-2,9.4827630550242292E-2,1.5958695478430918E-2,-8.5689520029471777E-2,2.4596517551138907E-2,1.4396810114946427E-2,{"$f":"MAX(S178*Q198^2+T178*Q198+U178,S179*Q198^2+T179*Q198+U179)","v":1.5958561464785803E-2},0]
[null,-2.9337929157055249E-8,5.255221950735349E-2,6.1697288004082258E-4,0.101415099550674,-0.34304996013667227,5.2936031123607199,3.4101622941341998,0.64420437682065168,0.27819059274559016,107.10924645164887,3.5910599316792607E-2,458.33333333333337,0.15366576866258877,2.2297901447125405E-2,3.8398914928953712E-2,0.16043542339979397,1.6137355272406048E-2,-4.3547545736696086E-2,1.3839228493681065E-2,1.5037945935222032E-2,1.6137223797081768E-2,0]
[null,-3.0453047689280752E-6,5.6242100708700393E-2,7.0105569742223955E-4,0.11523623751491212,-0.38980178357008749,5.8173006793996338,3.731226678463067,0.64140172291182707,0.3271772106635854,147.15147355616159,4.9335587550196736E-2,458.33333333333337,0.15366576866258877,2.5044723450407688E-2,4.0769457281348884E-2,0.22284702955119337,1.595937099884482E-2,-5.5583155515249574E-2,1.8452266532365934E-2,1.4607642104092152E-2,1.5944232828871755E-2,0]
[null,-3.8513162790237628E-6,6.0285666570009291E-2,8.0937215701986319E-4,0.13304078758256296,-0.45002802421886873,6.4389878926171766,4.1071407097556856,0.63785501359070051,0.38817867714264592,197.94972507736333,6.6366756350315248E-2,458.33333333333337,0.15366576866258877,2.8339763317170089E-2,4.3911485963447294E-2,0.30087966483037243,1.5127690138284465E-2,-1.4211008153441304E-2,-3.2154314449009281E-3,1.7381650358590302E-2,1.5088463649689547E-2,0]
[null,3.9873607399552742E-5,6.4726330142402158E-2,8.818235059064579E-4,0.14494999947438622,-0.49031250535481419,6.8240914442465348,4.3368347436789785,0.6355182633631633,0.44169839574224318,244.84530335476003,8.2089472894764912E-2,448.30936764277499,0.15030502598719878,3.0840830632390459E-2,4.4559943135555828E-2,0.37348284264980935,1.4198456401809209E-2,-5.8745183926645898E-2,2.6816746998080485E-2,1.2377193944034996E-2,1.4198554750710381E-2,0]
[null,-3.379840328595726E-8,6.9614059201644651E-2,7.8513256499816535E-4,0.1290563974781137,-0.43655029878590895,6.304782832937839,4.0265050007352503,0.63864293306023678,0.43890152538564758,242.75903364872673,8.139000764818656E-2,331.0607267462662,0.11099498410791327,2.8610287638589142E-2,3.6888413168249548E-2,0.40929654892592088,1.3511987433471106E-2,0.13463444892182788,-0.12455684434618589,4.193821765585426E-2,1.3511972116182661E-2,0]
[null,3.4913521818182777E-11,7.5006560532026839E-2,7.0629923687705776E-4,0.11609814586293074,-0.3927173023216271,5.8487319726383147,3.7503732853344598,0.64122844111844257,0.43869326874129649,239.59092016024627,8.0327831805820746E-2,239.50111734150809,8.0297723545814631E-2,2.6718556934099937E-2,3.0798773839398493E-2,0.43872337700130259,1.3206414867779657E-2,7.9235028030463645E-2,-7.7577031545480096E-2,3.1990256431870347E-2,1.3206414910480028E-2,0]
[null,-2.5220048245285799E-9,8.0970715199564836E-2,6.2273708792396926E-4,0.10236259292552286,-0.34625498153794054,5.3307185683881206,3.4330400578005817,0.6440107489746264,0.43163209500998651,229.02438646319303,7.678518193820584E-2,162.27234766347382,5.4405174624852087E-2,2.4522402118151529E-2,2.5154790051000013E-2,0.45401210232334033,1.3101823003594767E-2,3.0358701648766129E-2,-3.3943400885487682E-2,2.2254790037107577E-2,1.3101826614933886E-2,0]
[null,-3.1720770085769247E-7,8.758432627758074E-2,5.8478136648539144E-4,9.6123609993313056E-2,-0.32515079827853821,5.0829164628665398,3.27995509468135,0.64528998629885026,0.44518381392538964,230.92049720790575,7.742089244378185E-2,108.78032592152127,3.6470863414030892E-2,2.3544455224903626E-2,2.1837910058320316E-2,0.48613384295514056,1.2928308086143652E-2,1.1514552125510938E-2,-1.6227150118977889E-2,1.8095685583867743E-2,1.2928925587407223E-2,0]
[null,3.2673081312289818E-6,9.4938257676883894E-2,5.6999114274034531E-4,9.3692462592828693E-2,-0.31692712130619738,4.9841472348065841,3.2187186055561061,0.64579123647839276,0.47318625447759582,239.7359470454368,8.037645508099793E-2,65.725438204165897,2.2035818143262463E-2,2.3161108855991687E-2,1.9636803337474463E-2,0.53152689141533127,1.2723619820689683E-2,-5.4543679324098003E-3,1.0414535286395509E-3,1.371103185379785E-2,1.2719578891397555E-2,0]
[null,3.36253925388104E-6,0.10313906536129758,5.8660448138021012E-4,9.642328504311122E-2,-0.32616448868896719,5.0950045231423644,3.2874411524422986,0.64522830892694794,0.52549400452848716,261.00676310116694,8.7507937915800055E-2,28.362002694358388,9.508950425103262E-3,2.3579384567665097E-2,1.8602277801140921E-2,0.60349299201918394,1.2353040279082517E-2,-1.8015527322973884E-2,1.5298619195919962E-2,9.6817541621650929E-3,1.234890944998933E-2,0]
[null,3.4577703765330991E-6,0.11231225223019801,6.0321782002007536E-4,9.9154107493393817E-2,-0.33540185607173728,5.2042906562824109,3.355036294420684,0.64466735545806209,0.58450560486765291,282.28665122019078,9.4642462348229914E-2,-9.0263809895059275,-3.026281686531942E-3,2.3717914497140842E-2,1.7566731657686886E-2,0.6821743489024148,1.1734340766214853E-2,-1.8098889766982474E-2,1.540579556764121E-2,9.6474348910909301E-3,1.1729549443156835E-2,0]
[null,-3.5530014991851567E-7,0.12260631802291558,6.5500587350187376E-4,0.10766678409442157,-0.36419710827360274,5.5351483706538112,3.558718140741115,0.64293093923347888,0.67864416143640416,320.75765959110873,0.10754066687013972,-48.949924919422024,-1.6411478920841438E-2,2.4377523319859422E-2,1.7473354371751293E-2,0.8025963072273854,1.0353473626216343E-2,-1.9930380078983324E-2,1.8125138639886084E-2,8.6446745070881039E-3,1.0353873122106186E-2,0]
[null,2.9903546080632917E-10,0.13419782954979564,7.6828654065016946E-4,0.12628732724576891,-0.42718355323194068,6.2098758456498153,3.9693056043866277,0.63919242558886791,0.83335186025990704,391.96749763873021,0.13141524396088783,-100.68982207183457,-3.3758353974911462E-2,2.5568822460167485E-2,1.8724993429300438E-2,0.99852545819570626,6.8714398164636779E-3,-2.0155409295953303E-2,1.8530443660426828E-2,8.464333202013466E-3,6.8714399906442646E-3,0]
[null,-5.3478053492703904E-6,0.14729780979304705,8.6156087630311041E-4,0.14161932374315156,-0.47904605507383496,6.7187552987867214,4.2742646344384658,0.63616911829045419,0.98965794004671348,456.15450059774139,0.15293526973800267,-158.56394303250181,-5.3161854956204339E-2,2.4679169433339861E-2,1.9130821557765409E-2,1.1957550647409205,1.8033926629870863E-3,-2.11072808919976E-2,2.061911696396343E-2,7.3278062513305771E-3,{"$f":"S192*Q212^2+T192*Q212+U192","v":1.7946008471637527E-3},0]
[null,0,{"$f":"C193","v":0.16215984472146291},{"$f":"D193+(D212-D192)","v":8.8310593816359653E-4},0.14516079965577525,-0.4910255647921436,6.7766310332957946,4.3380599773582427,0.64014994413063686,1.0988974360938928,458.33333333333337,0.15366576866258877,-206.4606080707843,-6.9220206627801914E-2,2.124868844149699E-2,1.7812030332525725E-2,1.3217834113842835,-2.2949577751091958E-3,null,null,null,null,7.4986780743096546E-2]
[null,"De","hc","e0","a'","b'","N'","tN'","t","Nc","sac","Nac","sat","Nat","Mtot","u","N","Mo","a''","b''","c''",null,"x"]
[null,null,{"$f":"$C$35","v":4.1544915655417694E-2},{"$f":"$D$35","v":3.8256566053946229E-4},{"$f":"$E$35","v":6.28843435479884E-2},{"$f":"$F$35","v":-0.21271459223465167},{"$f":"IF($C$2=1,0.5*($O$31*D215*$F$6/$O$30)*(1-W215^2+(E215-F215)*(F215^2*(1-W215^2)+2*F215*(1-W215)+2*LN((1-F215)/(1-F215*W215)))/(F215^3)),$F$6*F215*(LN((1-E215+E215^2)/(1+E215)^2)/(6*E215)+ATAN((2-E215)/(E215*3^0.5))/(E215*3^0.5)-LN((W215^2-E215*W215+E215^2)/(W215+E215)^2)/(6*E215)-ATAN((2*W215-E215)/(E215*3^0.5))/(E215*3^0.5)))","v":3.6164179713546631},{"$f":"IF($C$2=1,($O$31*D215*$F$6/$O$30)*(1-W215^3-(E215-F215)*(-2*F215^3*(1-W215^3)-3*F215^2*(1-W215^2)-6*F215*(1-W215)-6*LN((1-F215)/(1-F215*W215)))/(2*F215^4))/3,$F$6*F215*(LN((1+E215^3)/(E215^3+W215^3)))/3)","v":2.3589615237756383},{"$f":"$I$35","v":0.65229227994683425},{"$f":"$J$35","v":0.15024377959466625},{"$f":"$K$35","v":10.340089653207192},{"$f":"$L$35","v":3.4667297991276304E-3},{"$f":"$M$35","v":458.16851350986366},{"$f":"$N$35","v":0.15361050939379392},{"$f":"$O$35","v":1.4595642140814678E-2},{"$f":"$P$35","v":3.011841020334027E-2},{"$f":"$Q$35","v":9.9999999999961231E-5},{"$f":"$R$35","v":1.4592630299794346E-2},null,null,null,null,{"$f":"IF(C215<$C$6,0,(C215-$C$6)/C215)","v":0}]
[null,{"$f":"IF(R196>$Q$29*V196,IF(B196=B156,1.22,1)*B196,IF(Q196>Q195,$U$6,-0.5)*B196)","v":4.0714933842728472E-13},{"$f":"IF(Q196>Q195,C196,(1-$T$6)*C196+$T$6*C197)","v":4.4336691510533544E-2},{"$f":"D196+B216","v":4.2836253054948391E-4},{"$f":"IF($C$2=1,D216/($O$31*$O$30),2^(1/3)*$O$30/D216)","v":7.0412217594686063E-2},{"$f":"IF($C$2=1,-($O$31-2)*D216/$O$30,3*($O$30/D216)^2)","v":-0.23817861981116811},{"$f":"IF($C$2=1,0.5*($O$31*D216*$F$6/$O$30)*(1-W216^2+(E216-F216)*(F216^2*(1-W216^2)+2*F216*(1-W216)+2*LN((1-F216)/(1-F216*W216)))/(F216^3)),$F$6*F216*(LN((1-E216+E216^2)/(1+E216)^2)/(6*E216)+ATAN((2-E216)/(E216*3^0.5))/(E216*3^0.5)-LN((W216^2-E216*W216+E216^2)/(W216+E216)^2)/(6*E216)-ATAN((2*W216-E216)/(E216*3^0.5))/(E216*3^0.5)))","v":3.9715403172611126},{"$f":"IF($C$2=1,($O$31*D216*$F$6/$O$30)*(1-W216^3-(E216-F216)*(-2*F216^3*(1-W216^3)-3*F216^2*(1-W216^2)-6*F216*(1-W216)-6*LN((1-F216)/(1-F216*W216)))/(2*F216^4))/3,$F$6*F216*(LN((1+E216^3)/(E216^3+W216^3)))/3)","v":2.5841881327831344},{"$f":"H216/G216","v":0.65067654520633555},{"$f":"G216*C216*$D$6","v":0.17608495786805248},{"$f":"MAX(MIN($K$6,$Q$6*$J$6*D216*(C216-$I$6)/C216),-$K$6)","v":30.453565720740155},{"$f":"K216*$H$6","v":1.0210190367260071E-2},{"$f":"MIN($O$6,$Q$6*$N$6*D216*(C$6-C216-$M$6)/C216)","v":458.33333333333337},{"$f":"M216*$L$6","v":0.15366576866258877},{"$f":"(0.5*$C$6-C216+I216*C216)*J216+(0.5*$C$6-$I$6)*L216+(0.5*$C$6-$M$6)*N216","v":1.6214853651296129E-2},{"$f":"0.1*$Q$6*D216*$B$6^2/C216+$R$6","v":3.1600367563721532E-2},{"$f":"(J216+L216-N216)","v":3.2629379572723771E-2},{"$f":"O216-P216*Q216","v":1.5183753263421871E-2},{"$f":"((R216-R215)*(Q216-Q217)-(R216-R217)*(Q216-Q215))/((Q216^2-Q215^2)*(Q216-Q217)-(Q216^2-Q217^2)*(Q216-Q215))","v":-6.4831158604391037E-2},{"$f":"-(S216*(Q216^2-Q215^2)-(R216-R215))/(Q216-Q215)","v":2.0293855255477389E-2},{"$f":"R216-S216*Q216^2-T216*Q216","v":1.4590601562580387E-2},{"$f":"S196*Q216^2+T196*Q216+U196","v":1.5183753263010663E-2},{"$f":"IF(C216<$C$6,0,(C216-$C$6)/C216)","v":0}]
[null,{"$f":"IF(R197>$Q$29*V197,IF(B197=B157,1.22,1)*B197,IF(Q197>Q196,$U$6,-0.5)*B197)","v":9.0223179613231471E-13},{"$f":"IF(Q197>Q196,C197,(1-$T$6)*C197+$T$6*C198)","v":4.686581864712229E-2},{"$f":"D197+B217","v":4.7696328403928743E-4},7.8400980817277088E-2,-0.26520166585848576,4.3331467014418408,2.8121337209964659,0.64898188654926858,0.20307646748114946,50.786992570535268,1.7027394003081786E-2,458.33333333333337,0.15366576866258877,1.7864235303765907E-2,{"$f":"0.1*$Q$6*D217*$B$6^2/C217+$R$6","v":3.3286848708594809E-2},6.643809282164248E-2,1.5652720559524314E-2,-4.9758941988396789E-2,1.8800688851950471E-2,1.4623275622429238E-2,{"$f":"MAX(S197*Q217^2+T197*Q217+U197,S198*Q217^2+T198*Q217+U198)","v":1.5652720560664021E-2},0]
[null,1.9755967437380819E-8,4.9178183027429483E-2,5.1138523484732111E-4,8.4059099157412498E-2,-0.28434099796614848,4.5801580971552385,2.9669963437953122,0.64779343438780645,0.22524385319646345,69.368746462577221,2.3257312901088355E-2,458.33333333333337,0.15366576866258877,1.9184175329660411E-2,3.4011019190693069E-2,9.4835397434963026E-2,1.5958726807542879E-2,-8.5673189096113475E-2,2.4592704832950143E-2,1.4396991338462284E-2,{"$f":"MAX(S198*Q218^2+T198*Q218+U198,S199*Q218^2+T199*Q218+U199)","v":1.5958760288297302E-2},0]
[null,2.933792915705525E-9,5.255221950735349E-2,6.1697581383373832E-4,0.10141558179375183,-0.34305159138753488,5.2936220495641688,3.4101739715688542,0.64420427821242332,0.27819158793766269,107.10975577119696,3.5910770076748651E-2,458.33333333333337,0.15366576866258877,2.2297962013566104E-2,3.8399097521200853E-2,0.16043658935182256,1.6137341773076616E-2,-4.381003508241451E-2,1.3906214334712008E-2,1.5033942061514465E-2,1.6137355992017124E-2,0]
[null,3.0453047689280753E-7,5.6242100708700393E-2,7.0136022789913234E-4,0.11528629480207886,-0.38997110895105325,5.8191299627920365,3.7323413948602373,0.64139165454717706,0.3272800934043657,147.21539445229337,4.9357018358133518E-2,458.33333333333337,0.15366576866258877,2.5050929434580503E-2,4.0787167061490749E-2,0.22297134309991043,1.5956560013639483E-2,-5.2068834148479202E-2,1.7072703409166178E-2,1.4738502009686285E-2,1.5958584376844262E-2,0]
[null,-3.8513162790237628E-6,6.0285666570009291E-2,8.0552084074083947E-4,0.1324077263306446,-0.4478866109757042,6.4178483807905655,4.0944588457381093,0.63797998999062433,0.38690426758121405,197.00780115274284,6.6050956792718538E-2,458.33333333333337,0.15366576866258877,2.8263867765917779E-2,4.3702537559106532E-2,0.2992894557113438,1.5184159086648226E-2,-2.067363435623959E-2,6.7622128683219392E-4,1.6833596995706447E-2,1.5146366253409767E-2,0]
[null,-3.9873607399552746E-6,6.4726330142402158E-2,8.7783614516650263E-4,0.14429457587398378,-0.48809544851626779,6.8035053661918141,4.3246222137709003,0.63564618251952065,0.44036593445773603,243.73818096187748,8.1718287119843025E-2,446.28223731576526,0.14962538844564419,3.0739198181629044E-2,4.4358455460705618E-2,0.37245883313193484,1.4217499621199725E-2,-5.4000493015473452E-2,2.3063481563694338E-2,1.3118552032297051E-2,1.4223163086899832E-2,0]
[null,3.3798403285957263E-9,6.9614059201644651E-2,7.8513594483849397E-4,0.12905695304036688,-0.43655217804855972,6.3048017385798074,4.026516380613117,0.63864282297322683,0.43890284148412684,242.76007867832891,8.1390358016063855E-2,331.06215189718387,0.11099546191935594,2.8610378861516135E-2,3.6888571965568676E-2,0.40929773758083476,1.3511969813421069E-2,0.13231494151651596,-0.12258983360689332,4.1521698681071251E-2,1.3511972318903338E-2,0]
[null,-3.4913521818182778E-12,7.5006560532026839E-2,7.0629923338570559E-4,0.1160981452890387,-0.39271730038036151,5.8487319517568066,3.7503732726191359,0.64122844123376543,0.43869326717504642,239.59091897590932,8.0327831408747177E-2,239.50111615761512,8.0297723148889916E-2,2.6718556834784062E-2,3.0798773687155143E-2,0.4387233754349037,1.3206414883499664E-2,7.9233492924395313E-2,-7.757564449131546E-2,3.1989943376344962E-2,1.3206414880393102E-2,0]
[null,2.5220048245285799E-10,8.0970715199564836E-2,6.2273734012445177E-4,0.10236263438105173,-0.34625512176673873,5.3307201882894546,3.4330410559003557,0.64401074050783469,0.43163222617455604,229.02447921511333,7.6785213035213393E-2,162.27241338168005,5.4405196658245565E-2,2.4522409738367629E-2,2.5154800238365298E-2,0.45401224255152389,1.3101822471211793E-2,3.0389936736413343E-2,-3.397126217318263E-2,2.2261001366114169E-2,1.3101822194245863E-2,0]
[null,3.1720770085769249E-8,8.758432627758074E-2,5.8481308725547726E-4,9.6128824104273425E-2,-0.32516843569707876,5.083126947558978,3.280085462414831,0.6452889129574062,0.4452022490853686,230.93302321577784,7.7425092048060987E-2,108.78622658099195,3.6472841732663283E-2,2.3545439510873369E-2,2.1839094629792347E-2,0.48615449940076627,1.2928265393760708E-2,1.1352988058630952E-2,-1.6073356158078991E-2,1.8059164254972757E-2,1.2928220053230235E-2,0]
[null,-3.2673081312289818E-7,9.4938257676883894E-2,5.6966441192722237E-4,9.3638756118831087E-2,-0.31674545206911542,4.9819511061136668,3.2173556199438806,0.64580232752498523,0.47297775784585605,239.5985253996611,8.0330381620280111E-2,65.687763011944384,2.2023186752632144E-2,2.3150926284657335E-2,1.9625547112174641E-2,0.53128495271350396,1.2724168415188987E-2,-5.2768563487503748E-3,8.4650362451262626E-4,1.3763898779604969E-2,1.272477036340695E-2,0]
[null,-3.3625392538810404E-7,0.10313906536129758,5.8626822745482204E-4,9.6368013204719744E-2,-0.32597752440020861,5.0927764344584796,3.2860614514722379,0.64523968286498101,0.52526420154408915,260.85714857991559,8.7457776540357482E-2,28.345745002778187,9.5034996963614046E-3,2.3569227786008725E-2,1.859161458745889E-2,0.60321847838808518,1.2354422323784045E-2,-1.8028346702768969E-2,1.5313113182805536E-2,9.67728966483598E-3,1.2354808400591546E-2,0]
[null,-3.4577703765330991E-7,0.11231225223019801,6.0287204298242205E-4,9.9097270290608455E-2,-0.33520959673130191,5.2020319032667777,3.3536407819016145,0.6446790108679632,0.58425191922923536,282.12483862316782,9.4588211314555387E-2,-9.0212068796310287,-3.0245469587405144E-3,2.370793895543425E-2,1.7556662040655938E-2,0.68186467750253132,1.1736671255061455E-2,-1.8064741112032413E-2,1.5359883025118579E-2,9.6623201575951299E-3,1.1737215073102299E-2,0]
[null,3.5530014991851566E-8,0.12260631802291558,6.5504140351686562E-4,0.1076726243511395,-0.36421686371281398,5.5353703676139778,3.5588543093369172,0.642929754106221,0.67867137966630253,320.77505870906339,0.10754650028577874,-48.952580149911704,-1.6412369142006906E-2,2.4378447500395473E-2,1.7474302193088327E-2,0.8026302490940882,1.0353043978411617E-2,-1.9944544863717897E-2,1.8150442157492969E-2,8.6335313554059649E-3,1.035300442896892E-2,0]
[null,-2.990354608063292E-11,0.13419782954979564,7.6828651074662335E-4,0.12628732233036466,-0.42718353660493708,6.2098756759733105,3.9693055019966432,0.63919242656569131,0.83335183748968833,391.96748238241958,0.13141523884589285,-100.68981815274634,-3.375835266095574E-2,2.556882183113152E-2,1.8724992700478997E-2,0.99852542899653685,6.8714404619287066E-3,-2.0164596702168653E-2,1.8546789775792827E-2,8.4571715326134597E-3,6.8714404506969237E-3,0]
[null,-6.5243225261098764E-6,0.14729780979304705,8.5503655377700048E-4,0.14054688629915507,-0.47541839386714996,6.6844523554256963,4.2538458914513937,0.63637911758000543,0.98460519162017957,452.70018974694403,0.15177714028617584,-157.36318945395632,-5.2759277381757334E-2,2.4575009549068307E-2,1.8985950018834935E-2,1.1891416092881129,1.9980263898072559E-3,-2.016273793591895E-2,1.8542723414136472E-2,8.4593786096051268E-3,{"$f":"S212*Q232^2+T212*Q232+U212","v":1.9999416956376047E-3},0]
[null,0,{"$f":"C213","v":0.16215984472146291},{"$f":"D213+(D232-D212)","v":8.765816156374866E-4},0.14408836221177873,-0.48739790358545859,6.7433345288502222,4.318096673033474,0.64035035701687704,1.0934980801032312,458.33333333333337,0.15366576866258877,-204.93529209477393,-6.8708812769095809E-2,2.1212242894187876E-2,1.7680436346218818E-2,1.3158726615349159,-2.0529599378097431E-3,null,null,null,null,7.4986780743096546E-2]
[null,"De","hc","e0","a'","b'","N'","tN'","t","Nc","sac","Nac","sat","Nat","Mtot","u","N","Mo","a''","b''","c''",null,"x"]
[null,null,{"$f":"$C$35","v":4.1544915655417694E-2},{"$f":"$D$35","v":3.8256566053946229E-4},{"$f":"$E$35","v":6.28843435479884E-2},{"$f":"$F$35","v":-0.21271459223465167},{"$f":"IF($C$2=1,0.5*($O$31*D235*$F$6/$O$30)*(1-W235^2+(E235-F235)*(F235^2*(1-W235^2)+2*F235*(1-W235)+2*LN((1-F235)/(1-F235*W235)))/(F235^3)),$F$6*F235*(LN((1-E235+E235^2)/(1+E235)^2)/(6*E235)+ATAN((2-E235)/(E235*3^0.5))/(E235*3^0.5)-LN((W235^2-E235*W235+E235^2)/(W235+E235)^2)/(6*E235)-ATAN((2*W235-E235)/(E235*3^0.5))/(E235*3^0.5)))","v":3.6164179713546631},{"$f":"IF($C$2=1,($O$31*D235*$F$6/$O$30)*(1-W235^3-(E235-F235)*(-2*F235^3*(1-W235^3)-3*F235^2*(1-W235^2)-6*F235*(1-W235)-6*LN((1-F235)/(1-F235*W235)))/(2*F235^4))/3,$F$6*F235*(LN((1+E235^3)/(E235^3+W235^3)))/3)","v":2.3589615237756383},{"$f":"$I$35","v":0.65229227994683425},{"$f":"$J$35","v":0.15024377959466625},{"$f":"$K$35","v":10.340089653207192},{"$f":"$L$35","v":3.4667297991276304E-3},{"$f":"$M$35","v":458.16851350986366},{"$f":"$N$35","v":0.15361050939379392},{"$f":"$O$35","v":1.4595642140814678E-2},{"$f":"$P$35","v":3.011841020334027E-2},{"$f":"$Q$35","v":9.9999999999961231E-5},{"$f":"$R$35","v":1.4592630299794346E-2},null,null,null,null,{"$f":"IF(C235<$C$6,0,(C235-$C$6)/C235)","v":0}]
[null,{"$f":"IF(R216>$Q$29*V216,B216,IF(Q216>Q215,$U$6,-0.5)*B216)","v":-4.0714933842728473E-14},{"$f":"IF(Q216>Q215,C216,(1-$T$6)*C216+$T$6*C217)","v":4.4336691510533544E-2},{"$f":"D216+B236","v":4.2836253050876897E-4},{"$f":"IF($C$2=1,D236/($O$31*$O$30),2^(1/3)*$O$30/D236)","v":7.0412217587993528E-2},{"$f":"IF($C$2=1,-($O$31-2)*D236/$O$30,3*($O$30/D236)^2)","v":-0.23817861978852975},{"$f":"IF($C$2=1,0.5*($O$31*D236*$F$6/$O$30)*(1-W236^2+(E236-F236)*(F236^2*(1-W236^2)+2*F236*(1-W236)+2*LN((1-F236)/(1-F236*W236)))/(F236^3)),$F$6*F236*(LN((1-E236+E236^2)/(1+E236)^2)/(6*E236)+ATAN((2-E236)/(E236*3^0.5))/(E236*3^0.5)-LN((W236^2-E236*W236+E236^2)/(W236+E236)^2)/(6*E236)-ATAN((2*W236-E236)/(E236*3^0.5))/(E236*3^0.5)))","v":3.9715403169516925},{"$f":"IF($C$2=1,($O$31*D236*$F$6/$O$30)*(1-W236^3-(E236-F236)*(-2*F236^3*(1-W236^3)-3*F236^2*(1-W236^2)-6*F236*(1-W236)-6*LN((1-F236)/(1-F236*W236)))/(2*F236^4))/3,$F$6*F236*(LN((1+E236^3)/(E236^3+W236^3)))/3)","v":2.584188132587498},{"$f":"H236/G236","v":0.65067654520776974},{"$f":"G236*C236*$D$6","v":0.17608495785433381},{"$f":"MAX(MIN($K$6,$Q$6*$J$6*D236*(C236-$I$6)/C236),-$K$6)","v":30.453565717845606},{"$f":"K236*$H$6","v":1.0210190366289614E-2},{"$f":"MIN($O$6,$Q$6*$N$6*D236*(C$6-C236-$M$6)/C236)","v":458.33333333333337},{"$f":"M236*$L$6","v":0.15366576866258877},{"$f":"(0.5*$C$6-C236+I236*C236)*J236+(0.5*$C$6-$I$6)*L236+(0.5*$C$6-$M$6)*N236","v":1.6214853650456936E-2},{"$f":"0.1*$Q$6*D236*$B$6^2/C236+$R$6","v":3.160036756071799E-2},{"$f":"(J236+L236-N236)","v":3.262937955803466E-2},{"$f":"O236-P236*Q236","v":1.5183753263144863E-2},{"$f":"((R236-R235)*(Q236-Q237)-(R236-R237)*(Q236-Q235))/((Q236^2-Q235^2)*(Q236-Q237)-(Q236^2-Q237^2)*(Q236-Q235))","v":-6.4831158539371575E-2},{"$f":"-(S236*(Q236^2-Q235^2)-(R236-R235))/(Q236-Q235)","v":2.0293855252087233E-2},{"$f":"R236-S236*Q236^2-T236*Q236","v":1.4590601562580723E-2},{"$f":"S216*Q236^2+T216*Q236+U216","v":1.518375326318592E-2},{"$f":"IF(C236<$C$6,0,(C236-$C$6)/C236)","v":0}]
[null,{"$f":"IF(R217>$Q$29*V217,B217,IF(Q217>Q216,$U$6,-0.5)*B217)","v":-9.0223179613231471E-14},{"$f":"IF(Q217>Q216,C217,(1-$T$6)*C217+$T$6*C218)","v":4.686581864712229E-2},{"$f":"D217+B237","v":4.7696328394906425E-4},7.8400980802446632E-2,-0.26520166580831978,4.3331467007846571,2.812133720583629,0.64898188655242173,0.20307646745035002,50.786992560928319,1.7027393999860859E-2,458.33333333333337,0.15366576866258877,1.7864235301879906E-2,{"$f":"0.1*$Q$6*D237*$B$6^2/C237+$R$6","v":3.3286848702298213E-2},6.6438092787622111E-2,1.5652720559189079E-2,-4.9756598267274237E-2,1.8800456669208293E-2,1.4623280703054927E-2,{"$f":"MAX(S217*Q237^2+T217*Q237+U217,S218*Q237^2+T218*Q237+U218)","v":1.5652720559109642E-2},0]
[null,-1.9755967437380822E-9,4.9178183027429483E-2,5.1138325925057741E-4,8.4058774418113713E-2,-0.28433989949260757,4.5801441309026343,2.9669876077151525,0.64779350232596977,0.22524316636153668,69.368478475431161,2.3257223052832083E-2,458.33333333333337,0.15366576866258877,1.9184133321490965E-2,3.4010887798438888E-2,9.4834620751780008E-2,1.5958723675694671E-2,-8.5674822192085082E-2,2.4593086107078412E-2,1.4396973215969068E-2,{"$f":"MAX(S218*Q238^2+T218*Q238+U218,S219*Q238^2+T219*Q238+U219)","v":1.5958722460630258E-2},0]
[null,-2.9337929157055254E-10,5.255221950735349E-2,6.1697552045444676E-4,0.10141553356944405,-0.34305142826244867,5.2936201558459786,3.4101728038268551,0.64420428807322916,0.27819148841856867,107.10970483924214,3.591075300075304E-2,458.33333333333337,0.15366576866258877,2.2297955956928624E-2,3.8399079261976131E-2,0.16043647275673292,1.6137343123030962E-2,-4.3783833395148831E-2,1.3899527588731631E-2,1.5034341763964711E-2,1.6137341790711131E-2,0]
[null,-3.0453047689280757E-8,5.6242100708700393E-2,7.0132977485144309E-4,0.11528128907336219,-0.38995417641295671,5.8189470557917806,3.7322299384149367,0.64139266135788797,0.32726980633043695,147.2090023626802,4.9354875277339845E-2,458.33333333333337,0.15366576866258877,2.5050308906738081E-2,4.0785396083476567E-2,0.22295891294518802,1.5956841331927214E-2,-4.8855904836196583E-2,1.584413637517983E-2,1.485291000725994E-2,1.5956666201688986E-2,0]
[null,-3.8513162790237628E-6,6.0285666570009291E-2,8.0166952446181574E-4,0.13177466507872623,-0.44574519773253962,6.3966398022402338,4.0817281356484987,0.63810504606168295,0.38562569428630489,196.06587722812233,6.5735157235121827E-2,458.33333333333337,0.15366576866258877,2.8187733423814556E-2,4.3493589154765762E-2,0.29769508285883794,1.5239905796558307E-2,-2.7330348149114468E-2,4.6367692741444552E-3,1.6281642400344704E-2,1.5202758432538575E-2,0]
[null,3.9873607399552749E-7,6.4726330142402158E-2,8.782348812404982E-4,0.14436011823402403,-0.48831715420012245,6.8055670985975016,4.3258456662399967,0.63563338713264195,0.44049938283009188,243.84889320116577,8.1755405697335234E-2,446.48495034846633,0.14969335219979968,3.0749372719201779E-2,4.4378604228190635E-2,0.37256143632762745,1.4215616185731753E-2,-4.9034898980455162E-2,1.9184385964864572E-2,1.3874397012802043E-2,1.4215738131558011E-2,0]
[null,-3.3798403285957265E-10,6.9614059201644651E-2,7.8513560685446106E-4,0.12905689748414156,-0.43655199012229462,6.3047998480180549,4.0265152426270339,0.63864283398192079,0.43890270987444907,242.75997417536865,8.1390322979276106E-2,331.06200938209201,0.11099541413821164,2.8610369739232609E-2,3.6888556085836757E-2,0.40929761871551357,1.3511971575445959E-2,0.13255364561258434,-0.12279226191730856,4.1564563377363813E-2,1.3511971510513192E-2,0]
[null,3.4913521818182782E-13,7.5006560532026839E-2,7.062992337348408E-4,0.1160981453464279,-0.39271730057448806,5.8487319538449283,3.7503732738907338,0.64122844122224754,0.43869326733166925,239.59091909434298,8.0327831448454526E-2,239.50111627600438,8.0297723188582373E-2,2.6718556844716017E-2,3.0798773702379476E-2,0.43872337559154145,1.3206414881928096E-2,7.9233646469962657E-2,-7.7575783227931197E-2,3.1989974688856629E-2,1.320641488235531E-2,0]
[null,-2.5220048245285799E-11,8.0970715199564836E-2,6.2273731490440349E-4,0.10236263023549884,-0.34625510774385887,5.3307200262993177,3.4330409560904385,0.6440107413545253,0.43163221305809885,229.02446993992132,7.6785209925512632E-2,162.27240680985943,5.4405194454906221E-2,2.4522408976346412E-2,2.5154799219628765E-2,0.45401222852870526,1.3101822524450621E-2,3.0386818970562991E-2,-3.3968481170897166E-2,2.2260381376936551E-2,1.3101822560627675E-2,0]
[null,-3.1720770085769249E-9,8.758432627758074E-2,5.8480991517846864E-4,9.6128302693177389E-2,-0.3251666719552247,5.083105899347931,3.2800724258267384,0.64528902029121826,0.44520040559198465,230.93177061499063,7.7424672087633067E-2,108.78563651504487,3.6472643900800038E-2,2.3545341083412906E-2,2.1838976172645141E-2,0.48615243377881773,1.292826966584386E-2,1.1369370213163553E-2,-1.6088947881946102E-2,1.8062866254610233E-2,1.2928275793686252E-2,0]
[null,3.2673081312289818E-8,9.4938257676883894E-2,5.6969708500853469E-4,9.3644126766230851E-2,-0.31676361899282363,4.9821707467736456,3.2174919384695748,0.64580121838521054,0.47299861014742944,239.61226756423866,8.0334988966351883E-2,65.691530531166535,2.2024449891695174E-2,2.3151944669130911E-2,1.9626672734704625E-2,0.53130914922208616,1.2724113876394681E-2,-5.2947688230675829E-3,8.6617340120478665E-4,1.3758565201510812E-2,1.2724075411028029E-2,0]
[null,3.3625392538810407E-8,0.10313906536129758,5.8630185284736088E-4,9.6373540388558901E-2,-0.32599622082908447,5.0929992722954811,3.2861994423564105,0.64523854543479597,0.52528718483032466,260.87211003204072,8.7462792677901746E-2,28.347370771936205,9.5040447692355898E-3,2.3570243601227538E-2,1.8592680908827094E-2,0.60324593273899074,1.2354284464263711E-2,-1.8027064179683919E-2,1.5311663803083277E-2,9.6777361562221491E-3,1.2354245666450861E-2,0]
[null,3.457770376533099E-8,0.11231225223019801,6.029066206861874E-4,9.9102954010887007E-2,-0.33522882266534543,5.2022578087196232,3.3537803547646976,0.64467784528927996,0.5842772911794355,282.14101988287013,9.4593636417922844E-2,-9.0217242906185184,-3.0247204315196571E-3,2.3708936655856536E-2,1.7557669002359035E-2,0.68189564802887803,1.1736438573616377E-2,-1.8068155550187624E-2,1.5364472031928329E-2,9.6608331890692643E-3,1.1736390998530584E-2,0]
[null,-3.5530014991851569E-9,0.12260631802291558,6.5503785051536649E-4,0.10767204032546772,-0.36421488816889286,5.5353481682211028,3.5588406926938227,0.64292987261856893,0.6786686578804797,320.7733187972679,0.10754591694421484,-48.952314626862737,-1.6412280119890359E-2,2.4378355083826762E-2,1.7474207410954627E-2,0.80262685494458486,1.0353086946922893E-2,-1.9943127258970524E-2,1.814790972605515E-2,8.6346466242384953E-3,1.0353091040603083E-2,0]
[null,2.9903546080632923E-12,0.13419782954979564,7.6828651373697795E-4,0.12628732282190508,-0.42718353826763739,6.2098756929409573,3.9693055122356848,0.63919242646801633,0.83335183976670968,391.96748390805055,0.1314152393573923,-100.68981854465515,-3.3758352792351308E-2,2.556882189403592E-2,1.8724992773361142E-2,0.99852543191645327,6.8714403973830183E-3,-2.0162829009010359E-2,1.8543626035566776E-2,8.4585681227385655E-3,6.8714403984995488E-3,0]
[null,6.5243225261098772E-7,0.14729780979304705,8.5568898602961143E-4,0.1406541300435547,-0.47578115998781845,6.6878911742854985,4.2558937746425727,0.63635810806943216,0.98511172210650344,453.04562083202381,0.15189295323135854,-157.48326481181087,-5.2799535139202033E-2,2.4585465130013626E-2,1.900043717272798E-2,1.1898042104770641,1.9786649809969518E-3,-2.0259150764314039E-2,1.8754409787905199E-2,8.3441330841626145E-3,{"$f":"S232*Q252^2+T232*Q252+U232","v":1.9785304512553552E-3},0]
[null,0,{"$f":"C233","v":0.16215984472146291},{"$f":"D233+(D252-D232)","v":8.7723404789009755E-4},0.14419560595617839,-0.48776066970612708,6.7466725391344795,4.3200988934795452,0.64033030629848298,1.0940393713326051,458.33333333333337,0.15366576866258877,-205.08782369237497,-6.8759952154966428E-2,2.1215924175100896E-2,1.7693595744849508E-2,1.3164650921501604,-2.0770769776100977E-3,null,null,null,null,7.4986780743096546E-2]
[null,"De","hc","e0","a'","b'","N'","tN'","t","Nc","sac","Nac","sat","Nat","Mtot","u","N","Mo","a''","b''","c''",null,"x"]
[null,null,{"$f":"$C$35","v":4.1544915655417694E-2},{"$f":"$D$35","v":3.8256566053946229E-4},{"$f":"$E$35","v":6.28843435479884E-2},{"$f":"$F$35","v":-0.21271459223465167},{"$f":"IF($C$2=1,0.5*($O$31*D255*$F$6/$O$30)*(1-W255^2+(E255-F255)*(F255^2*(1-W255^2)+2*F255*(1-W255)+2*LN((1-F255)/(1-F255*W255)))/(F255^3)),$F$6*F255*(LN((1-E255+E255^2)/(1+E255)^2)/(6*E255)+ATAN((2-E255)/(E255*3^0.5))/(E255*3^0.5)-LN((W255^2-E255*W255+E255^2)/(W255+E255)^2)/(6*E255)-ATAN((2*W255-E255)/(E255*3^0.5))/(E255*3^0.5)))","v":3.6164179713546631},{"$f":"IF($C$2=1,($O$31*D255*$F$6/$O$30)*(1-W255^3-(E255-F255)*(-2*F255^3*(1-W255^3)-3*F255^2*(1-W255^2)-6*F255*(1-W255)-6*LN((1-F255)/(1-F255*W255)))/(2*F255^4))/3,$F$6*F255*(LN((1+E255^3)/(E255^3+W255^3)))/3)","v":2.3589615237756383},{"$f":"$I$35","v":0.65229227994683425},{"$f":"$J$35","v":0.15024377959466625},{"$f":"$K$35","v":10.340089653207192},{"$f":"$L$35","v":3.4667297991276304E-3},{"$f":"$M$35","v":458.16851350986366},{"$f":"$N$35","v":0.15361050939379392},{"$f":"$O$35","v":1.4595642140814678E-2},{"$f":"$P$35","v":3.011841020334027E-2},{"$f":"$Q$35","v":9.9999999999961231E-5},{"$f":"$R$35","v":1.4592630299794346E-2},null,null,null,null,{"$f":"IF(C255<$C$6,0,(C255-$C$6)/C255)","v":0}]
[null,{"$f":"IF(R236>$Q$29*V236,B236,IF(Q236>Q235,$U$6,-0.5)*B236)","v":4.0714933842728473E-15},{"$f":"IF(Q236>Q235,C236,(1-$T$6)*C236+$T$6*C237)","v":4.4336691510533544E-2},{"$f":"D236+B256","v":4.2836253051284047E-4},{"$f":"IF($C$2=1,D256/($O$31*$O$30),2^(1/3)*$O$30/D256)","v":7.0412217588662784E-2},{"$f":"IF($C$2=1,-($O$31-2)*D256/$O$30,3*($O$30/D256)^2)","v":-0.23817861979079358},{"$f":"IF($C$2=1,0.5*($O$31*D256*$F$6/$O$30)*(1-W256^2+(E256-F256)*(F256^2*(1-W256^2)+2*F256*(1-W256)+2*LN((1-F256)/(1-F256*W256)))/(F256^3)),$F$6*F256*(LN((1-E256+E256^2)/(1+E256)^2)/(6*E256)+ATAN((2-E256)/(E256*3^0.5))/(E256*3^0.5)-LN((W256^2-E256*W256+E256^2)/(W256+E256)^2)/(6*E256)-ATAN((2*W256-E256)/(E256*3^0.5))/(E256*3^0.5)))","v":3.9715403169826518},{"$f":"IF($C$2=1,($O$31*D256*$F$6/$O$30)*(1-W256^3-(E256-F256)*(-2*F256^3*(1-W256^3)-3*F256^2*(1-W256^2)-6*F256*(1-W256)-6*LN((1-F256)/(1-F256*W256)))/(2*F256^4))/3,$F$6*F256*(LN((1+E256^3)/(E256^3+W256^3)))/3)","v":2.5841881326070144},{"$f":"H256/G256","v":0.65067654520761153},{"$f":"G256*C256*$D$6","v":0.17608495785570644},{"$f":"MAX(MIN($K$6,$Q$6*$J$6*D256*(C256-$I$6)/C256),-$K$6)","v":30.453565718135064},{"$f":"K256*$H$6","v":1.021019036638666E-2},{"$f":"MIN($O$6,$Q$6*$N$6*D256*(C$6-C256-$M$6)/C256)","v":458.33333333333337},{"$f":"M256*$L$6","v":0.15366576866258877},{"$f":"(0.5*$C$6-C256+I256*C256)*J256+(0.5*$C$6-$I$6)*L256+(0.5*$C$6-$M$6)*N256","v":1.6214853650540782E-2},{"$f":"0.1*$Q$6*D256*$B$6^2/C256+$R$6","v":3.1600367561018347E-2},{"$f":"(J256+L256-N256)","v":3.2629379559504318E-2},{"$f":"O256-P256*Q256","v":1.5183753263172468E-2},{"$f":"((R256-R255)*(Q256-Q257)-(R256-R257)*(Q256-Q255))/((Q256^2-Q255^2)*(Q256-Q257)-(Q256^2-Q257^2)*(Q256-Q255))","v":-6.4831158545868198E-2},{"$f":"-(S256*(Q256^2-Q255^2)-(R256-R255))/(Q256-Q255)","v":2.0293855252422749E-2},{"$f":"R256-S256*Q256^2-T256*Q256","v":1.459060156258069E-2},{"$f":"S236*Q256^2+T236*Q256+U236","v":1.5183753263168469E-2},{"$f":"IF(C256<$C$6,0,(C256-$C$6)/C256)","v":0}]
[null,{"$f":"IF(R237>$Q$29*V237,B237,IF(Q237>Q236,$U$6,-0.5)*B237)","v":9.0223179613231483E-15},{"$f":"IF(Q237>Q236,C237,(1-$T$6)*C237+$T$6*C238)","v":4.686581864712229E-2},{"$f":"D237+B257","v":4.7696328395808654E-4},7.8400980803929668E-2,-0.26520166581333632,4.3331467008503921,2.8121337206248231,0.64898188655208333,0.20307646745343075,50.786992561889008,1.7027394000182949E-2,458.33333333333337,0.15366576866258877,1.7864235302068331E-2,{"$f":"0.1*$Q$6*D257*$B$6^2/C257+$R$6","v":3.328684870292787E-2},6.6438092791024916E-2,1.5652720559222403E-2,-4.9756832643391057E-2,1.8800479887876229E-2,1.4623280194983665E-2,{"$f":"MAX(S237*Q257^2+T237*Q257+U237,S238*Q257^2+T238*Q257+U238)","v":1.5652720559234029E-2},0]
[null,1.9755967437380824E-10,4.9178183027429483E-2,5.1138345681025175E-4,8.4058806892043592E-2,-0.28434000933996167,4.5801455275289653,2.9669884813239604,0.64779349553215626,0.22524323504508201,69.368505274145761,2.3257232037657709E-2,458.33333333333337,0.15366576866258877,1.9184137522311184E-2,3.4010900937664304E-2,9.4834698420150937E-2,1.5958723988890162E-2,-8.5674658882597454E-2,2.4593047979711055E-2,1.4396975028215641E-2,{"$f":"MAX(S238*Q258^2+T238*Q258+U238,S239*Q258^2+T239*Q258+U239)","v":1.5958724323697496E-2},0]
[null,2.9337929157055257E-11,5.255221950735349E-2,6.1697554979237587E-4,0.10141553839187482,-0.34305144457495723,5.2936203452178123,3.4101729206011107,0.64420428708715693,0.27819149837047885,107.10970993243761,3.5910754708352602E-2,458.33333333333337,0.15366576866258877,2.2297956562592543E-2,3.8399081087898607E-2,0.16043648441624267,1.613734298803586E-2,-4.3786454035465487E-2,1.3900196381490522E-2,1.503430178688326E-2,1.6137343124985069E-2,0]
[null,3.0453047689280758E-9,5.6242100708700393E-2,7.0133282015621197E-4,0.11528178964623385,-0.38995586966676632,5.8189653467051805,3.73224108421139,0.64139256067655781,0.32727083504983046,147.20964157164153,4.9355089585419218E-2,458.33333333333337,0.15366576866258877,2.505037096022799E-2,4.0785573181277977E-2,0.22296015597266092,1.5956813202295875E-2,-4.54270712907116E-2,1.4529203525315948E-2,1.4975615359594465E-2,1.5956833946301457E-2,0]
[null,-3.8513162790237628E-6,6.0285666570009291E-2,7.9781820818279202E-4,0.13114160382680787,-0.44360378448937499,6.3753619221988771,4.0689484013288171,0.6382301822208436,0.38434294310481504,195.12395330350176,6.5419357677525103E-2,458.33333333333337,0.15366576866258877,2.8111359435116223E-2,4.3284640750424992E-2,0.2960965321197514,1.529492741486611E-2,-3.3855809407195507E-2,8.5230626550081203E-3,1.5739523790627759E-2,1.525843581673629E-2,0]
[null,-3.9873607399552754E-8,6.4726330142402158E-2,8.781950076330986E-4,0.14435356399802002,-0.48829498363173696,6.8053609566353392,4.3257233430123714,0.63563466663656099,0.44048604001739272,243.83782197723693,8.1751693839586012E-2,446.46467904519619,0.14968655582438412,3.0748355378493672E-2,4.4376589351442133E-2,0.37255117803259458,1.4215804738545213E-2,-4.4515731531844585E-2,1.5650795174057056E-2,1.456361592879581E-2,1.4215862639920869E-2,0]
[null,3.3798403285957266E-11,6.9614059201644651E-2,7.8513564065286437E-4,0.12905690303976411,-0.43655200891492119,6.3048000370742505,4.0265153564256586,0.63864283288105161,0.43890272303541827,242.75998462566469,8.1390326482954883E-2,331.0620236336012,0.11099541891632607,2.8610370651461051E-2,3.6888557673809955E-2,0.4092976306020471,1.3511971399243674E-2,0.13252983945720476,-0.12277207357777105,4.1560288446893051E-2,1.3511971424302785E-2,0]
[null,-3.4913521818182786E-14,7.5006560532026839E-2,7.0629923369992732E-4,0.11609814534068898,-0.39271730055507542,5.8487319536361237,3.7503732737635498,0.6412284412233944,0.4386932673160075,239.59091908249965,8.0327831444483799E-2,239.50111626416546,8.0297723184613132E-2,2.6718556843722683E-2,3.0798773700857048E-2,0.43872337557587815,1.3206414882085097E-2,7.9233631116346334E-2,-7.7575769355087962E-2,3.1989971557783325E-2,1.3206414882054228E-2,0]
[null,2.5220048245285801E-12,8.0970715199564836E-2,6.2273731742640834E-4,0.10236263065005413,-0.34625510914614688,5.3307200424983261,3.433040966071454,0.64401074126986135,0.43163221436974414,229.02447086744053,7.6785210236482715E-2,162.27240746704152,5.4405194675240159E-2,2.4522409052548697E-2,2.515479932150242E-2,0.45401222993098667,1.3101822519126912E-2,3.0387130804126024E-2,-3.3968759321966704E-2,2.2260443387192269E-2,1.3101822516366074E-2,0]
[null,3.1720770085769249E-10,8.758432627758074E-2,5.848102323861695E-4,9.6128354834286986E-2,-0.32516684832941012,5.0831080041716072,3.2800737294874267,0.6452890095578403,0.44520058994154826,230.93189587506933,7.7424714083675863E-2,108.78569552163957,3.6472663683986363E-2,2.3545350926170532E-2,2.1838988018359862E-2,0.48615264034123773,1.292826923866423E-2,1.1367734271449244E-2,-1.6087390848166648E-2,1.8062496556922183E-2,1.2928268781352418E-2,0]
[null,-3.267308131228982E-9,9.4938257676883894E-2,5.696938177004035E-4,9.3643589701490892E-2,-0.31676180230045287,4.9821487829855853,3.2174783068166533,0.64580132929883283,0.47299652494365901,239.61089334778094,8.0334528231744723E-2,65.691153779244331,2.2024323577788878E-2,2.3151842831956926E-2,1.9626560172451624E-2,0.53130672959761494,1.2724119333480853E-2,-5.2929791989887497E-3,8.6420818219694068E-4,1.3759098087621413E-2,1.2724125394126613E-2,0]
[null,-3.3625392538810409E-9,0.10313906536129758,5.8629849030810701E-4,9.6372987670174992E-2,-0.32599435118619685,5.092976988801496,3.286185643475878,0.64523865917744883,0.52528488653158201,260.87061388682821,8.7462291064147324E-2,28.347208195020407,9.5039902619481718E-3,2.3570142021076244E-2,1.8592574276690275E-2,0.60324318733378124,1.2354298253665529E-2,-1.8027192426184908E-2,1.5311808741299032E-2,9.6776915074844976E-3,1.2354302138614139E-2,0]
[null,-3.4577703765330993E-9,0.11231225223019801,6.0290316291581084E-4,9.9102385638859147E-2,-0.33522690007194106,5.2022352184758827,3.3537663976944785,0.6446779618467624,0.58427475401828266,282.13940175689987,9.4593093907586093E-2,-9.0216725495197689,-3.0247030842417426E-3,2.3708836887276416E-2,1.7557568306188723E-2,0.68189255101011048,1.1736461845435123E-2,-1.8067814101918045E-2,1.5364013108535106E-2,9.6609819015787655E-3,1.1736467303622865E-2,0]
[null,3.5530014991851573E-10,0.12260631802291558,6.5503820581551636E-4,0.10767209872803489,-0.36421508572328498,5.5353503881634136,3.5588420543603374,0.6429298607673386,0.67866893005943263,320.77349278844747,0.10754597527837123,-48.952341179167632,-1.6412289022102015E-2,2.4378364325499131E-2,1.747421688916799E-2,0.80262719435990582,1.0353082650109745E-2,-1.9943269008311115E-2,1.814816294862669E-2,8.6345351067952398E-3,1.0353082255240282E-2,0]
[null,-2.9903546080632923E-13,0.13419782954979564,7.6828651343794252E-4,0.12628732277275106,-0.42718353810136739,6.2098756912441919,3.9693055112117435,0.63919242647777796,0.83335183953900749,391.96748375548754,0.13141523930624238,-100.68981850546427,-3.3758352779211756E-2,2.5568821887744824E-2,1.8724992766072927E-2,0.99852543162446161,6.8714404038369321E-3,-2.0162996896268735E-2,1.8543926411023558E-2,8.4584355828179747E-3,6.87144040372583E-3,0]
[null,-6.5243225261098772E-8,0.14729780979304705,8.5562374280435038E-4,0.14064340566911473,-0.47574488337575155,6.687547377790624,4.2556890465227157,0.63636020892440759,0.98506108163579387,453.01107772351588,0.15188137193684029,-157.47125727602543,-5.2795509363457567E-2,2.4584419968684802E-2,1.8998988457338679E-2,1.1897379629360918,1.9806021436043625E-3,-2.0249529785047519E-2,1.8733283163963745E-2,8.355635928966626E-3,{"$f":"S252*Q272^2+T252*Q272+U252","v":1.980616176038761E-3},0]
[null,0,{"$f":"C253","v":0.16215984472146291},{"$f":"D253+(D272-D252)","v":8.771688046648365E-4},0.14418488158173842,-0.48772439309406018,6.7463388218465159,4.3198987304424614,0.64033231127577395,1.0939852557890082,458.33333333333337,0.15366576866258877,-205.07257053261486,-6.8754838216379358E-2,2.1215556415087329E-2,1.769227980498644E-2,1.3164058626679764,-2.0746644441590641E-3,null,null,null,null,7.4986780743096546E-2]
[null,"De","hc","e0","a'","b'","N'","tN'","t","Nc","sac","Nac","sat","Nat","Mtot","u","N","Mo","a''","b''","c''",null,"x"]
[null,null,{"$f":"$C$35","v":4.1544915655417694E-2},{"$f":"$D$35","v":3.8256566053946229E-4},{"$f":"$E$35","v":6.28843435479884E-2},{"$f":"$F$35","v":-0.21271459223465167},{"$f":"IF($C$2=1,0.5*($O$31*D275*$F$6/$O$30)*(1-W275^2+(E275-F275)*(F275^2*(1-W275^2)+2*F275*(1-W275)+2*LN((1-F275)/(1-F275*W275)))/(F275^3)),$F$6*F275*(LN((1-E275+E275^2)/(1+E275)^2)/(6*E275)+ATAN((2-E275)/(E275*3^0.5))/(E275*3^0.5)-LN((W275^2-E275*W275+E275^2)/(W275+E275)^2)/(6*E275)-ATAN((2*W275-E275)/(E275*3^0.5))/(E275*3^0.5)))","v":3.6164179713546631},{"$f":"IF($C$2=1,($O$31*D275*$F$6/$O$30)*(1-W275^3-(E275-F275)*(-2*F275^3*(1-W275^3)-3*F275^2*(1-W275^2)-6*F275*(1-W275)-6*LN((1-F275)/(1-F275*W275)))/(2*F275^4))/3,$F$6*F275*(LN((1+E275^3)/(E275^3+W275^3)))/3)","v":2.3589615237756383},{"$f":"$I$35","v":0.65229227994683425},{"$f":"$J$35","v":0.15024377959466625},{"$f":"$K$35","v":10.340089653207192},{"$f":"$L$35","v":3.4667297991276304E-3},{"$f":"$M$35","v":458.16851350986366},{"$f":"$N$35","v":0.15361050939379392},{"$f":"$O$35","v":1.4595642140814678E-2},{"$f":"$P$35","v":3.011841020334027E-2},{"$f":"$Q$35","v":9.9999999999961231E-5},{"$f":"$R$35","v":1.4592630299794346E-2},null,null,null,null,{"$f":"IF(C275<$C$6,0,(C275-$C$6)/C275)","v":0}]
[null,{"$f":"IF(R256>$Q$29*V256,IF(B256=B216,1.22,1)*B256,IF(Q256>Q255,$U$6,-0.5)*B256)","v":-4.0714933842728473E-16},{"$f":"IF(Q256>Q255,C256,(1-$T$6)*C256+$T$6*C257)","v":4.4336691510533544E-2},{"$f":"D256+B276","v":4.283625305124333E-4},{"$f":"IF($C$2=1,D276/($O$31*$O$30),2^(1/3)*$O$30/D276)","v":7.0412217588595866E-2},{"$f":"IF($C$2=1,-($O$31-2)*D276/$O$30,3*($O$30/D276)^2)","v":-0.23817861979056718},{"$f":"IF($C$2=1,0.5*($O$31*D276*$F$6/$O$30)*(1-W276^2+(E276-F276)*(F276^2*(1-W276^2)+2*F276*(1-W276)+2*LN((1-F276)/(1-F276*W276)))/(F276^3)),$F$6*F276*(LN((1-E276+E276^2)/(1+E276)^2)/(6*E276)+ATAN((2-E276)/(E276*3^0.5))/(E276*3^0.5)-LN((W276^2-E276*W276+E276^2)/(W276+E276)^2)/(6*E276)-ATAN((2*W276-E276)/(E276*3^0.5))/(E276*3^0.5)))","v":3.9715403169795653},{"$f":"IF($C$2=1,($O$31*D276*$F$6/$O$30)*(1-W276^3-(E276-F276)*(-2*F276^3*(1-W276^3)-3*F276^2*(1-W276^2)-6*F276*(1-W276)-6*LN((1-F276)/(1-F276*W276)))/(2*F276^4))/3,$F$6*F276*(LN((1+E276^3)/(E276^3+W276^3)))/3)","v":2.5841881326050316},{"$f":"H276/G276","v":0.65067654520761797},{"$f":"G276*C276*$D$6","v":0.1760849578555696},{"$f":"MAX(MIN($K$6,$Q$6*$J$6*D276*(C276-$I$6)/C276),-$K$6)","v":30.453565718106116},{"$f":"K276*$H$6","v":1.0210190366376956E-2},{"$f":"MIN($O$6,$Q$6*$N$6*D276*(C$6-C276-$M$6)/C276)","v":458.33333333333337},{"$f":"M276*$L$6","v":0.15366576866258877},{"$f":"(0.5*$C$6-C276+I276*C276)*J276+(0.5*$C$6-$I$6)*L276+(0.5*$C$6-$M$6)*N276","v":1.6214853650532352E-2},{"$f":"0.1*$Q$6*D276*$B$6^2/C276+$R$6","v":3.1600367560988309E-2},{"$f":"(J276+L276-N276)","v":3.2629379559357796E-2},{"$f":"O276-P276*Q276","v":1.5183753263169647E-2},{"$f":"((R276-R275)*(Q276-Q277)-(R276-R277)*(Q276-Q275))/((Q276^2-Q275^2)*(Q276-Q277)-(Q276^2-Q277^2)*(Q276-Q275))","v":-6.4831158545163817E-2},{"$f":"-(S276*(Q276^2-Q275^2)-(R276-R275))/(Q276-Q275)","v":2.0293855252385338E-2},{"$f":"R276-S276*Q276^2-T276*Q276","v":1.4590601562580694E-2},{"$f":"S256*Q276^2+T256*Q276+U256","v":1.5183753263170114E-2},{"$f":"IF(C276<$C$6,0,(C276-$C$6)/C276)","v":0}]
[null,{"$f":"IF(R257>$Q$29*V257,IF(B257=B217,1.22,1)*B257,IF(Q257>Q256,$U$6,-0.5)*B257)","v":-9.0223179613231491E-16},{"$f":"IF(Q257>Q256,C257,(1-$T$6)*C257+$T$6*C258)","v":4.686581864712229E-2},{"$f":"D257+B277","v":4.7696328395718432E-4},7.840098080378137E-2,-0.26520166581283472,4.3331467008438169,2.8121337206206989,0.6489818865521163,0.20307646745312258,50.786992561792943,1.7027394000150742E-2,458.33333333333337,0.15366576866258877,1.7864235302049471E-2,{"$f":"0.1*$Q$6*D277*$B$6^2/C277+$R$6","v":3.3286848702864913E-2},6.643809279068455E-2,1.5652720559219055E-2,-4.975680920594322E-2,1.8800477566027225E-2,1.4623280245790321E-2,{"$f":"MAX(S257*Q277^2+T257*Q277+U257,S258*Q277^2+T258*Q277+U258)","v":1.5652720559218253E-2},0]
[null,-1.9755967437380825E-11,4.9178183027429483E-2,5.1138343705428428E-4,8.4058803644650598E-2,-0.28433999835522622,4.5801453878663523,2.9669883939630122,0.64779349621151994,0.22524322817672848,69.36850259427429,2.3257231139175143E-2,458.33333333333337,0.15366576866258877,1.9184137102229028E-2,3.4010899623741757E-2,9.4834690653314846E-2,1.5958723957570538E-2,-8.5674675213458076E-2,2.4593051792427753E-2,1.4396974846991912E-2,{"$f":"MAX(S258*Q278^2+T258*Q278+U258,S259*Q278^2+T259*Q278+U259)","v":1.5958723945432799E-2},0]
[null,-2.9337929157055258E-12,5.255221950735349E-2,6.1697554685858291E-4,0.10141553790963173,-0.34305144294370638,5.2936203262806227,3.4101729089236716,0.64420428718576239,0.27819149737528748,107.10970942311806,3.5910754537592647E-2,458.33333333333337,0.15366576866258877,2.2297956502026105E-2,3.8399080905306353E-2,0.16043648325029133,1.613734300153534E-2,-4.3786191976144938E-2,1.39001295033973E-2,1.5034305784522715E-2,1.6137342988210394E-2,0]
[null,-3.0453047689280759E-10,5.6242100708700393E-2,7.0133251562573507E-4,0.11528173958894668,-0.38995570034138533,5.8189635176159564,3.7322399696333082,0.6413925707446978,0.32727073217801012,147.20957765074539,4.9355068154611277E-2,458.33333333333337,0.15366576866258877,2.5050364754886176E-2,4.0785555471497842E-2,0.22296003167003262,1.5956816015281143E-2,-4.1002390437276673E-2,1.2832829695165372E-2,1.5133884936092832E-2,1.5956814019452183E-2,0]
[null,-4.6986058604089906E-6,6.0285666570009291E-2,7.9311960232238306E-4,0.13036926909946744,-0.44099126033271424,6.3493087175002394,4.0532904765154179,0.63838295739874218,0.38277230829327274,193.97480611546479,6.5034082217257122E-2,458.33333333333337,0.15366576866258877,2.801785738911278E-2,4.3029723697129249E-2,0.2941406218479411,1.5361067702894096E-2,-4.1689985586411404E-2,1.3188385596138726E-2,1.5088791344435783E-2,1.5317341939126979E-2,0]
[null,3.9873607399552757E-9,6.4726330142402158E-2,8.7819899499383858E-4,0.14435421942162041,-0.48829720068857552,6.8053815711443075,4.3257355755553197,0.63563453868582398,0.44048737431890594,243.83892909962981,8.1752065025360934E-2,446.4667061755232,0.14968723546192567,3.0748457113694921E-2,4.437679083911699E-2,0.37255220388234123,1.4215785885356196E-2,-3.9491904846350283E-2,1.1722940936364071E-2,1.5329663047904517E-2,1.4215786767681716E-2,0]
[null,-3.3798403285957267E-12,6.9614059201644651E-2,7.8513563727302402E-4,0.12905690248420185,-0.4365520070356585,6.3048000181686223,4.0265153450458486,0.63864283299114777,0.43890272171932077,242.75998358063512,8.1390326132587024E-2,331.06202220845034,0.11099541843851465,2.8610370560238459E-2,3.6888557515012639E-2,0.40929762941339309,1.351197141686418E-2,0.13253222071832482,-0.12277409295922162,4.1560716055879451E-2,1.3511971416222131E-2,0]
[null,3.4913521818182789E-15,7.5006560532026839E-2,7.0629923370341867E-4,0.11609814534126288,-0.3927173005570167,5.8487319536570022,3.7503732737762934,0.64122844122328426,0.43869326731757352,239.59091908368399,8.0327831444880871E-2,239.50111626534934,8.029772318501005E-2,2.6718556843822159E-2,3.079877370100929E-2,0.43872337557744434,1.3206414882069544E-2,7.9233632650803576E-2,-7.7575770741609609E-2,3.1989971870730272E-2,1.3206414882073653E-2,0]
[null,-2.5220048245285804E-13,8.0970715199564836E-2,6.2273731717420785E-4,0.1023626306085986,-0.3462551090059181,5.330720040878445,3.4330409650732769,0.64401074127831126,0.43163221423858117,229.02447077468858,7.6785210205385701E-2,162.27240740132328,5.4405194653206757E-2,2.4522409044927963E-2,2.5154799311315056E-2,0.45401222979076011,1.3101822519658737E-2,3.0387099622431031E-2,-3.3968731508387424E-2,2.2260437186517306E-2,1.3101822520021067E-2,0]
[null,-3.1720770085769253E-11,8.758432627758074E-2,5.848102006653994E-4,9.6128349620176023E-2,-0.32516683069199154,5.0831077936892708,3.2800735991213377,0.64528901063116972,0.44520057150659464,230.93188334906148,7.7424709884071588E-2,108.78568962098009,3.6472661705667729E-2,2.354534994189458E-2,2.183898683378839E-2,0.48615261968499851,1.2928269281382163E-2,1.1367897888336035E-2,-1.608754657290291E-2,1.8062533531705144E-2,1.2928269342657716E-2,0]
[null,3.2673081312289825E-10,9.4938257676883894E-2,5.6969414443121659E-4,9.3643643407964883E-2,-0.31676198396968991,4.9821509793671739,3.2174796699839416,0.64580131820746656,0.47299673346430021,239.61103076942672,8.0334574305205436E-2,65.691191454436549,2.2024336209179506E-2,2.3151853015687045E-2,1.9626571428676926E-2,0.53130697156032614,1.2724118787804285E-2,-5.2931581776976431E-3,8.6440472175914229E-4,1.3759044794272637E-2,1.2724118403344028E-2,0]
[null,3.3625392538810411E-10,0.10313906536129758,5.8629882656203243E-4,9.637304294201339E-2,-0.32599453815048562,5.0929792171537986,3.286187023365994,0.64523864780317586,0.52528511636175579,260.87076350134953,8.746234122552278E-2,28.347224452711988,9.5039957126769152E-3,2.3570152179104888E-2,1.8592584939903956E-2,0.60324346187460165,1.2354296874759642E-2,-1.8027179601460681E-2,1.5311794247459159E-2,9.6776959723687377E-3,1.2354296487115217E-2,0]
[null,3.4577703765330997E-10,0.11231225223019801,6.0290350869284849E-4,9.9102442476061925E-2,-0.33522709233128151,5.2022374775032834,3.3537677934036503,0.64467795019100671,0.58427500773473784,282.13956356949689,9.4593148158619772E-2,-9.0216777236296455,-3.0247048189695346E-3,2.3708846864148852E-2,1.7557578375805752E-2,0.68189286071232713,1.1736459518289773E-2,-1.8067848246759173E-2,1.5364059000722656E-2,9.6609670304601009E-3,1.1736459042575432E-2,0]
[null,-3.5530014991851574E-11,0.12260631802291558,6.5503817028550134E-4,0.10767209288777817,-0.3642150659678457,5.5353501661692404,3.5588419181936111,0.64292986195244095,0.67866890284154446,320.77347538932946,0.10754596944495558,-48.952338523937144,-1.6412288131880851E-2,2.4378363401330431E-2,1.7474215941346651E-2,0.80262716041838089,1.0353083079789764E-2,-1.9943254833194448E-2,1.8148137626046223E-2,8.634546258680811E-3,1.0353083120738056E-2,0]
[null,2.9903546080632922E-14,0.13419782954979564,7.6828651346784612E-4,0.12628732277766647,-0.42718353811799442,6.2098756914138677,3.9693055113141642,0.63919242647680607,0.83335183956177761,391.96748377074385,0.13141523931135737,-100.68981850938337,-3.3758352780525712E-2,2.5568821888374411E-2,1.872499276680175E-2,0.9985254316536607,6.8714404031920175E-3,-2.0162980019168268E-2,1.8543896214306479E-2,8.4584489076330073E-3,6.8714404032031336E-3,0]
[null,6.5243225261098779E-9,0.14729780979304705,8.5563026712687652E-4,0.14064447810655875,-0.47574851103695831,6.6875817582938879,4.2557095199365742,0.63635999883794703,0.98506614580862428,453.01453203436671,0.15188253006629213,-157.47245802960396,-5.279591194103201E-2,2.458452448878418E-2,1.8999133328877607E-2,1.1897445878159483,1.9804084375584473E-3,-2.0250492085268697E-2,1.8735396244895897E-2,8.35448542826428E-3,{"$f":"S272*Q292^2+T272*Q292+U272","v":1.9804070401001142E-3},0]
[null,0,{"$f":"C273","v":0.16215984472146291},{"$f":"D273+(D292-D272)","v":8.7717532898736264E-4},0.14418595401918241,-0.48772802075526694,6.7463721944125847,4.3199187473361098,0.64033211077709462,1.0939906674791398,458.33333333333337,0.15366576866258877,-205.0740958485909,-6.8755349610238076E-2,2.121559319476779E-2,1.7692411398972749E-2,1.3164117857519666,-2.0749056892123766E-3,null,null,null,null,7.4986780743096546E-2]
[null,"De","hc","e0","a'","b'","N'","tN'","t","Nc","sac","Nac","sat","Nat","Mtot","u","N","Mo","a''","b''","c''",null,"x"]
[null,null,{"$f":"$C$35","v":4.1544915655417694E-2},{"$f":"$D$35","v":3.8256566053946229E-4},{"$f":"$E$35","v":6.28843435479884E-2},{"$f":"$F$35","v":-0.21271459223465167},{"$f":"IF($C$2=1,0.5*($O$31*D295*$F$6/$O$30)*(1-W295^2+(E295-F295)*(F295^2*(1-W295^2)+2*F295*(1-W295)+2*LN((1-F295)/(1-F295*W295)))/(F295^3)),$F$6*F295*(LN((1-E295+E295^2)/(1+E295)^2)/(6*E295)+ATAN((2-E295)/(E295*3^0.5))/(E295*3^0.5)-LN((W295^2-E295*W295+E295^2)/(W295+E295)^2)/(6*E295)-ATAN((2*W295-E295)/(E295*3^0.5))/(E295*3^0.5)))","v":3.6164179713546631},{"$f":"IF($C$2=1,($O$31*D295*$F$6/$O$30)*(1-W295^3-(E295-F295)*(-2*F295^3*(1-W295^3)-3*F295^2*(1-W295^2)-6*F295*(1-W295)-6*LN((1-F295)/(1-F295*W295)))/(2*F295^4))/3,$F$6*F295*(LN((1+E295^3)/(E295^3+W295^3)))/3)","v":2.3589615237756383},{"$f":"$I$35","v":0.65229227994683425},{"$f":"$J$35","v":0.15024377959466625},{"$f":"$K$35","v":10.340089653207192},{"$f":"$L$35","v":3.4667297991276304E-3},{"$f":"$M$35","v":458.16851350986366},{"$f":"$N$35","v":0.15361050939379392},{"$f":"$O$35","v":1.4595642140814678E-2},{"$f":"$P$35","v":3.011841020334027E-2},{"$f":"$Q$35","v":9.9999999999961231E-5},{"$f":"$R$35","v":1.4592630299794346E-2},null,null,null,null,{"$f":"IF(C295<$C$6,0,(C295-$C$6)/C295)","v":0}]
[null,{"$f":"IF(R276>$Q$29*V276,B276,IF(Q276>Q275,$U$6,-0.5)*B276)","v":4.0714933842728478E-17},{"$f":"IF(Q276>Q275,C276,(1-$T$6)*C276+$T$6*C277)","v":4.4336691510533544E-2},{"$f":"D276+B296","v":4.2836253051247401E-4},{"$f":"IF($C$2=1,D296/($O$31*$O$30),2^(1/3)*$O$30/D296)","v":7.0412217588602555E-2},{"$f":"IF($C$2=1,-($O$31-2)*D296/$O$30,3*($O$30/D296)^2)","v":-0.23817861979058982},{"$f":"IF($C$2=1,0.5*($O$31*D296*$F$6/$O$30)*(1-W296^2+(E296-F296)*(F296^2*(1-W296^2)+2*F296*(1-W296)+2*LN((1-F296)/(1-F296*W296)))/(F296^3)),$F$6*F296*(LN((1-E296+E296^2)/(1+E296)^2)/(6*E296)+ATAN((2-E296)/(E296*3^0.5))/(E296*3^0.5)-LN((W296^2-E296*W296+E296^2)/(W296+E296)^2)/(6*E296)-ATAN((2*W296-E296)/(E296*3^0.5))/(E296*3^0.5)))","v":3.9715403169798766},{"$f":"IF($C$2=1,($O$31*D296*$F$6/$O$30)*(1-W296^3-(E296-F296)*(-2*F296^3*(1-W296^3)-3*F296^2*(1-W296^2)-6*F296*(1-W296)-6*LN((1-F296)/(1-F296*W296)))/(2*F296^4))/3,$F$6*F296*(LN((1+E296^3)/(E296^3+W296^3)))/3)","v":2.5841881326052163},{"$f":"H296/G296","v":0.65067654520761353},{"$f":"G296*C296*$D$6","v":0.1760849578555834},{"$f":"MAX(MIN($K$6,$Q$6*$J$6*D296*(C296-$I$6)/C296),-$K$6)","v":30.453565718109015},{"$f":"K296*$H$6","v":1.0210190366377927E-2},{"$f":"MIN($O$6,$Q$6*$N$6*D296*(C$6-C296-$M$6)/C296)","v":458.33333333333337},{"$f":"M296*$L$6","v":0.15366576866258877},{"$f":"(0.5*$C$6-C296+I296*C296)*J296+(0.5*$C$6-$I$6)*L296+(0.5*$C$6-$M$6)*N296","v":1.6214853650533174E-2},{"$f":"0.1*$Q$6*D296*$B$6^2/C296+$R$6","v":3.1600367560991306E-2},{"$f":"(J296+L296-N296)","v":3.2629379559372562E-2},{"$f":"O296-P296*Q296","v":1.5183753263169904E-2},{"$f":"((R296-R295)*(Q296-Q297)-(R296-R297)*(Q296-Q295))/((Q296^2-Q295^2)*(Q296-Q297)-(Q296^2-Q297^2)*(Q296-Q295))","v":-6.48311585451775E-2},{"$f":"-(S296*(Q296^2-Q295^2)-(R296-R295))/(Q296-Q295)","v":2.0293855252386386E-2},{"$f":"R296-S296*Q296^2-T296*Q296","v":1.4590601562580694E-2},{"$f":"S276*Q296^2+T276*Q296+U276","v":1.5183753263169885E-2},{"$f":"IF(C296<$C$6,0,(C296-$C$6)/C296)","v":0}]
[null,{"$f":"IF(R277>$Q$29*V277,B277,IF(Q277>Q276,$U$6,-0.5)*B277)","v":9.0223179613231491E-17},{"$f":"IF(Q277>Q276,C277,(1-$T$6)*C277+$T$6*C278)","v":4.686581864712229E-2},{"$f":"D277+B297","v":4.7696328395727453E-4},7.8400980803796205E-2,-0.26520166581288485,4.3331467008444662,2.812133720621139,0.64898188655212063,0.20307646745315303,50.786992561802542,1.7027394000153958E-2,458.33333333333337,0.15366576866258877,1.7864235302051411E-2,{"$f":"0.1*$Q$6*D297*$B$6^2/C297+$R$6","v":3.32868487028712E-2},6.6438092790718217E-2,1.5652720559219457E-2,-4.9756811549774994E-2,1.8800477798223678E-2,1.4623280240709344E-2,{"$f":"MAX(S277*Q297^2+T277*Q297+U277,S278*Q297^2+T278*Q297+U278)","v":1.5652720559219502E-2},0]
[null,1.9755967437380827E-12,4.9178183027429483E-2,5.1138343902988105E-4,8.4058803969389889E-2,-0.28433999945369975,4.580145401832616,2.9669884026991116,0.64779349614358417,0.22524322886356393,69.368502862261451,2.3257231229023404E-2,458.33333333333337,0.15366576866258877,1.9184137144237254E-2,3.4010899755134015E-2,9.4834691429998563E-2,1.5958723960702505E-2,-8.5674673580344987E-2,2.4593051411149265E-2,1.439697486511469E-2,{"$f":"MAX(S278*Q298^2+T278*Q298+U278,S279*Q298^2+T279*Q298+U279)","v":1.5958723964050559E-2},0]
[null,2.9337929157055261E-13,5.255221950735349E-2,6.1697554715196216E-4,0.10141553795785603,-0.34305144310683144,5.2936203281743461,3.4101729100914184,0.64420428717590184,0.27819149747480687,107.10970947405001,3.5910754554668634E-2,458.33333333333337,0.15366576866258877,2.2297956508082764E-2,3.8399080923565573E-2,0.16043648336688673,1.6137343000185399E-2,-4.3786218182116636E-2,1.3900136191216583E-2,1.5034305384758199E-2,1.6137343001517888E-2,0]
[null,3.0453047689280761E-11,5.6242100708700393E-2,7.0133254607878271E-4,0.1152817445946754,-0.38995571727392336,5.8189637005248969,3.7322400810911511,0.6413925697378875,0.32727074246519317,147.20958404283499,4.9355070297692066E-2,458.33333333333337,0.15366576866258877,2.5050365375420488E-2,4.0785557242475852E-2,0.22296004410029643,1.5956815733982908E-2,-3.6280296378129705E-2,1.1022391836127778E-2,1.5302799153717718E-2,1.5956815948132658E-2,0]
[null,-4.6986058604089906E-6,6.0285666570009291E-2,7.884209964619741E-4,0.12959693437212705,-0.43837873617605344,6.3231515826382889,4.0375589905163229,0.63853585316575323,0.38119540798255847,192.82565892742775,6.4648806756989127E-2,458.33333333333337,0.15366576866258877,2.7923995802517334E-2,4.277480664383352E-2,0.29217844607695886,1.5426119266079679E-2,-4.941320773706364E-2,1.7787659965200733E-2,1.4447267210413131E-2,1.5383499131296295E-2,0]
[null,-3.987360739955276E-10,6.4726330142402158E-2,8.7819859625776458E-4,0.14435415387926037,-0.48829697898289165,6.8053795096965342,4.3257343523032388,0.63563455148089631,0.4404872408889568,243.83881838739052,8.1752027906783431E-2,446.46650346249049,0.14968716749817151,3.0748446940186146E-2,4.4376770690349503E-2,0.37255210129756872,1.421578777069608E-2,-3.4964275904667365E-2,8.1830135992747195E-3,1.6020057917435482E-2,1.4215788349828638E-2,0]
[null,3.379840328595727E-13,6.9614059201644651E-2,7.85135637611008E-4,0.12905690253975807,-0.43655200722358473,6.3048000200591989,4.0265153461837651,0.63864283298012647,0.43890272185093143,242.759983685138,8.1390326167623775E-2,331.06202235096532,0.11099541848629575,2.8610370569360406E-2,3.688855753089236E-2,0.40929762953225951,1.3511971415101782E-2,0.13253198259879961,-0.12277389102666426,4.1560673296164072E-2,1.3511971415352732E-2,0]
[null,-3.4913521818182792E-16,7.5006560532026839E-2,7.0629923370306956E-4,0.11609814534120549,-0.39271730055682258,5.8487319536549345,3.7503732737749575,0.64122844122328249,0.43869326731741842,239.59091908356555,8.0327831444841166E-2,239.50111626523099,8.0297723184970374E-2,2.6718556843811862E-2,3.0798773700994066E-2,0.43872337557728919,1.3206414882070704E-2,7.9233632497455908E-2,-7.7575770603042216E-2,3.1989971839453513E-2,1.3206414882070791E-2,0]
[null,2.5220048245285806E-14,8.0970715199564836E-2,6.2273731719942791E-4,0.10236263061274416,-0.34625510901994094,5.3307200410404416,3.4330409651730451,0.64401074127745594,0.43163221425169818,229.02447078396378,7.6785210208495408E-2,162.27240740789512,5.4405194655410098E-2,2.4522409045689707E-2,2.5154799312333789E-2,0.45401222980478345,1.310182251960521E-2,3.0387102740853118E-2,-3.3968734289967953E-2,2.2260437806633459E-2,1.3101822519577887E-2,0]
[null,3.1720770085769253E-12,8.758432627758074E-2,5.8481020383747636E-4,9.6128350141587118E-2,-0.32516683245573336,5.0831078147375086,3.280073612157965,0.64528901052383991,0.44520057335009039,230.93188460166226,7.7424710304032016E-2,108.78569021104603,3.6472661903499584E-2,2.3545350040322311E-2,2.1838986952245534E-2,0.48615262175062285,1.29282692771105E-2,1.1367881526863827E-2,-1.6087531000618278E-2,1.8062529834267697E-2,1.2928269272536829E-2,0]
[null,-3.2673081312289823E-11,9.4938257676883894E-2,5.6969411175813523E-4,9.364363803731747E-2,-0.31676196580276622,4.9821507597290244,3.217479533667309,0.64580131931662088,0.47299671261223697,239.61101702726211,8.0334569697859362E-2,65.691187686917317,2.202433494604044E-2,2.3151851997314885E-2,1.9626570303054394E-2,0.53130694736405593,1.2724118842373022E-2,-5.2931402802419373E-3,8.6438506824981765E-4,1.3759050123488471E-2,1.2724118902982858E-2,0]
[null,-3.3625392538810413E-11,0.10313906536129758,5.8629879293663992E-4,9.6373037414829554E-2,-0.32599451945405683,5.0929789943186066,3.2861868853769702,0.64523864894059546,0.52528509337874241,260.87074853989742,8.7462336209385247E-2,28.347222826942833,9.5039951676040412E-3,2.3570151163301786E-2,1.8592583873582591E-2,0.60324343442052364,1.2354297012650181E-2,-1.8027180883748807E-2,1.531179569661887E-2,9.6776955259484203E-3,1.2354297051502455E-2,0]
[null,-3.4577703765330997E-11,0.11231225223019801,6.0290347411514472E-4,9.9102436792341653E-2,-0.3352270731053475,5.2022372516005646,3.3537676538327936,0.64467795135659089,0.58427498236309472,282.13954738823719,9.4593142733516405E-2,-9.0216772062186568,-3.024704645496755E-3,2.3708845866462287E-2,1.755757736884405E-2,0.68189282974210785,1.1736459751005224E-2,-1.8067844832313756E-2,1.5364054411563728E-2,9.6609685175499272E-3,1.1736459805588541E-2,0]
[null,3.5530014991851576E-12,0.12260631802291558,6.5503817383850288E-4,0.10767209347180384,-0.3642150679433897,5.5353501883686445,3.5588419318103459,0.64292986183394352,0.6786689055633317,320.77347712924126,0.10754597002829713,-48.952338789460192,-1.6412288220902967E-2,2.437836349374832E-2,1.7474216036128788E-2,0.80262716381253185,1.0353083036822808E-2,-1.9943256250726505E-2,1.814814015833812E-2,8.6345451434792515E-3,1.0353083032873042E-2,0]
[null,-2.9903546080632922E-15,0.13419782954979564,7.6828651346485578E-4,0.12628732277717492,-0.4271835381163317,6.2098756913968938,3.9693055113039448,0.63919242647690766,0.83335183955949976,391.96748376921823,0.13141523931084589,-100.68981850899146,-3.3758352780394317E-2,2.5568821888311919E-2,1.8724992766728864E-2,0.99852543165073993,6.8714404032569967E-3,-2.01629817059879E-2,1.8543899232371534E-2,8.4584475758684684E-3,6.8714404032554667E-3,0]
[null,-6.5243225261098783E-10,0.14729780979304705,8.5562961469462387E-4,0.14064437086281434,-0.47574814827083761,6.6875783202520918,4.2557074726012205,0.63636001984658619,0.98506563939259772,453.01418660328159,0.15188241425334692,-157.47233795424611,-5.279587168327457E-2,2.4584514036814283E-2,1.8999118841723714E-2,1.1897439253292192,1.9804278082655828E-3,-2.025039585725108E-2,1.8735184940947162E-2,8.3546004761952085E-3,{"$f":"S292*Q312^2+T292*Q312+U292","v":1.9804279480689115E-3},0]
[null,0,{"$f":"C293","v":0.16215984472146291},{"$f":"D293+(D312-D292)","v":8.7717467655510999E-4},0.14418584677543803,-0.48772765798914625,6.7463688571643363,4.3199167456526792,0.6403321308269595,1.093990126311482,458.33333333333337,0.15366576866258877,-205.07394331699331,-6.8755298470852211E-2,2.1215589516837646E-2,1.7692398239574116E-2,1.316411193444923,-2.0748815646229705E-3,null,null,null,null,7.4986780743096546E-2]
[null,"De","hc","e0","a'","b'","N'","tN'","t","Nc","sac","Nac","sat","Nat","Mtot","u","N","Mo","a''","b''","c''",null,"x"]
[null,null,{"$f":"$C$35","v":4.1544915655417694E-2},{"$f":"$D$35","v":3.8256566053946229E-4},{"$f":"$E$35","v":6.28843435479884E-2},{"$f":"$F$35","v":-0.21271459223465167},{"$f":"IF($C$2=1,0.5*($O$31*D315*$F$6/$O$30)*(1-W315^2+(E315-F315)*(F315^2*(1-W315^2)+2*F315*(1-W315)+2*LN((1-F315)/(1-F315*W315)))/(F315^3)),$F$6*F315*(LN((1-E315+E315^2)/(1+E315)^2)/(6*E315)+ATAN((2-E315)/(E315*3^0.5))/(E315*3^0.5)-LN((W315^2-E315*W315+E315^2)/(W315+E315)^2)/(6*E315)-ATAN((2*W315-E315)/(E315*3^0.5))/(E315*3^0.5)))","v":3.6164179713546631},{"$f":"IF($C$2=1,($O$31*D315*$F$6/$O$30)*(1-W315^3-(E315-F315)*(-2*F315^3*(1-W315^3)-3*F315^2*(1-W315^2)-6*F315*(1-W315)-6*LN((1-F315)/(1-F315*W315)))/(2*F315^4))/3,$F$6*F315*(LN((1+E315^3)/(E315^3+W315^3)))/3)","v":2.3589615237756383},{"$f":"$I$35","v":0.65229227994683425},{"$f":"$J$35","v":0.15024377959466625},{"$f":"$K$35","v":10.340089653207192},{"$f":"$L$35","v":3.4667297991276304E-3},{"$f":"$M$35","v":458.16851350986366},{"$f":"$N$35","v":0.15361050939379392},{"$f":"$O$35","v":1.4595642140814678E-2},{"$f":"$P$35","v":3.011841020334027E-2},{"$f":"$Q$35","v":9.9999999999961231E-5},{"$f":"$R$35","v":1.4592630299794346E-2},null,null,null,null,{"$f":"IF(C315<$C$6,0,(C315-$C$6)/C315)","v":0}]
[null,{"$f":"IF(R296>$Q$29*V296,B296,IF(Q296>Q295,$U$6,-0.5)*B296)","v":-4.0714933842728483E-18},{"$f":"IF(Q296>Q295,C296,(1-$T$6)*C296+$T$6*C297)","v":4.4336691510533544E-2},{"$f":"D296+B316","v":4.2836253051246995E-4},{"$f":"IF($C$2=1,D316/($O$31*$O$30),2^(1/3)*$O$30/D316)","v":7.0412217588601889E-2},{"$f":"IF($C$2=1,-($O$31-2)*D316/$O$30,3*($O$30/D316)^2)","v":-0.23817861979058755},{"$f":"IF($C$2=1,0.5*($O$31*D316*$F$6/$O$30)*(1-W316^2+(E316-F316)*(F316^2*(1-W316^2)+2*F316*(1-W316)+2*LN((1-F316)/(1-F316*W316)))/(F316^3)),$F$6*F316*(LN((1-E316+E316^2)/(1+E316)^2)/(6*E316)+ATAN((2-E316)/(E316*3^0.5))/(E316*3^0.5)-LN((W316^2-E316*W316+E316^2)/(W316+E316)^2)/(6*E316)-ATAN((2*W316-E316)/(E316*3^0.5))/(E316*3^0.5)))","v":3.9715403169798416},{"$f":"IF($C$2=1,($O$31*D316*$F$6/$O$30)*(1-W316^3-(E316-F316)*(-2*F316^3*(1-W316^3)-3*F316^2*(1-W316^2)-6*F316*(1-W316)-6*LN((1-F316)/(1-F316*W316)))/(2*F316^4))/3,$F$6*F316*(LN((1+E316^3)/(E316^3+W316^3)))/3)","v":2.584188132605242},{"$f":"H316/G316","v":0.65067654520762574},{"$f":"G316*C316*$D$6","v":0.17608495785558184},{"$f":"MAX(MIN($K$6,$Q$6*$J$6*D316*(C316-$I$6)/C316),-$K$6)","v":30.453565718108724},{"$f":"K316*$H$6","v":1.021019036637783E-2},{"$f":"MIN($O$6,$Q$6*$N$6*D316*(C$6-C316-$M$6)/C316)","v":458.33333333333337},{"$f":"M316*$L$6","v":0.15366576866258877},{"$f":"(0.5*$C$6-C316+I316*C316)*J316+(0.5*$C$6-$I$6)*L316+(0.5*$C$6-$M$6)*N316","v":1.621485365053317E-2},{"$f":"0.1*$Q$6*D316*$B$6^2/C316+$R$6","v":3.1600367560991008E-2},{"$f":"(J316+L316-N316)","v":3.2629379559370897E-2},{"$f":"O316-P316*Q316","v":1.5183753263169963E-2},{"$f":"((R316-R315)*(Q316-Q317)-(R316-R317)*(Q316-Q315))/((Q316^2-Q315^2)*(Q316-Q317)-(Q316^2-Q317^2)*(Q316-Q315))","v":-6.4831158545313988E-2},{"$f":"-(S316*(Q316^2-Q315^2)-(R316-R315))/(Q316-Q315)","v":2.0293855252393491E-2},{"$f":"R316-S316*Q316^2-T316*Q316","v":1.4590601562580692E-2},{"$f":"S296*Q316^2+T296*Q316+U296","v":1.5183753263169878E-2},{"$f":"IF(C316<$C$6,0,(C316-$C$6)/C316)","v":0}]
[null,{"$f":"IF(R297>$Q$29*V297,B297,IF(Q297>Q296,$U$6,-0.5)*B297)","v":-9.0223179613231503E-18},{"$f":"IF(Q297>Q296,C297,(1-$T$6)*C297+$T$6*C298)","v":4.686581864712229E-2},{"$f":"D297+B317","v":4.7696328395726553E-4},7.840098080379472E-2,-0.26520166581287985,4.3331467008444218,2.8121337206210426,0.64898188655210498,0.20307646745315094,50.786992561801583,1.7027394000153639E-2,458.33333333333337,0.15366576866258877,1.786423530205113E-2,{"$f":"0.1*$Q$6*D317*$B$6^2/C317+$R$6","v":3.3286848702870575E-2},6.6438092790715803E-2,1.5652720559219298E-2,-4.9756811315153644E-2,1.880047777497397E-2,1.4623280241218256E-2,{"$f":"MAX(S297*Q317^2+T297*Q317+U297,S298*Q317^2+T298*Q317+U298)","v":1.565272055921943E-2},0]
[null,-1.9755967437380828E-13,4.9178183027429483E-2,5.1138343883232141E-4,8.4058803936915977E-2,-0.28433999934385246,4.5801454004359829,2.9669884018255428,0.64779349615038773,0.22524322879488007,69.368502835462735,2.3257231220038577E-2,458.33333333333337,0.15366576866258877,1.9184137140036524E-2,3.4010899741994789E-2,9.4834691352329886E-2,1.5958723960389411E-2,-8.5674673743747681E-2,2.4593051449300227E-2,1.4396974863301149E-2,{"$f":"MAX(S298*Q318^2+T298*Q318+U298,S299*Q318^2+T299*Q318+U299)","v":1.5958723960267932E-2},0]
[null,-2.9337929157055263E-14,5.255221950735349E-2,6.1697554712262419E-4,0.1014155379530336,-0.34305144309051888,5.2936203279849696,3.4101729099746758,0.64420428717689449,0.27819149746485472,107.10970946895681,3.5910754552961034E-2,458.33333333333337,0.15366576866258877,2.2297956507477183E-2,3.8399080921739652E-2,0.16043648335522701,1.6137343000320485E-2,-4.3786215561528327E-2,1.3900135522436722E-2,1.5034305424734638E-2,1.6137343000192615E-2,0]
[null,-3.0453047689280762E-12,5.6242100708700393E-2,7.0133254303347793E-4,0.11528174409410252,-0.3899557155806696,5.8189636822340018,3.7322400699453708,0.6413925698385694,0.32727074143647483,147.20958340362603,4.9355070083383988E-2,458.33333333333337,0.15366576866258877,2.505036531336707E-2,4.078555706537805E-2,0.22296004285727003,1.5956815762112747E-2,-3.1231453390666221E-2,9.0866833187041203E-3,1.5483400883311986E-2,1.5956815740391605E-2,0]
[null,-4.6986058604089906E-6,6.0285666570009291E-2,7.8372239060156513E-4,0.12882459964478662,-0.43576621201939264,6.2968900844293056,4.0217536143537016,0.63868887028829213,0.3796122160579028,191.67651173939069,6.4263531296721133E-2,458.33333333333337,0.15366576866258877,2.7829773095444064E-2,4.251988959053777E-2,0.29020997869203513,1.5490076843386411E-2,-5.7056375449669405E-2,2.2339259128231915E-2,1.381239338017087E-2,1.545009475782843E-2,0]
[null,3.9873607399552762E-11,6.4726330142402158E-2,8.7819863613137193E-4,0.14435416043349636,-0.48829700115345998,6.8053797158413474,4.3257344746284607,0.63563455020138748,0.44048725423195406,243.83882945861444,8.1752031618641183E-2,446.46652373379374,0.14968717429454692,3.074844795753711E-2,4.4376772705226247E-2,0.37255211155604828,1.4215787582162263E-2,-3.0886937234672323E-2,4.9951475562423752E-3,1.6641789608034488E-2,1.4215787587387146E-2,0]
[null,-3.3798403285957271E-14,6.9614059201644651E-2,7.8513563757720963E-4,0.12905690253420243,-0.43655200720479209,6.3048000198701271,4.0265153460700356,0.63864283298123992,0.43890272183776941,242.75998367468773,8.1390326164120119E-2,331.06202233671382,0.11099541848151764,2.8610370568448507E-2,3.6888557529304394E-2,0.40929762952037185,1.3511971415278353E-2,0.13253200641060772,-0.12277391121980193,4.1560677572111793E-2,1.3511971415271582E-2,0]
[null,3.4913521818182796E-17,7.5006560532026839E-2,7.0629923370310447E-4,0.11609814534121123,-0.39271730055684201,5.8487319536551272,3.7503732737751201,0.64122844122328915,0.43869326731743291,239.5909190835774,8.0327831444845149E-2,239.50111626524281,8.0297723184974343E-2,2.6718556843813055E-2,3.0798773700995586E-2,0.43872337557730373,1.3206414882070784E-2,7.9233632513827437E-2,-7.7575770617782605E-2,3.1989971842769499E-2,1.3206414882070597E-2,0]
[null,-2.5220048245285809E-15,8.0970715199564836E-2,6.2273731719690595E-4,0.1023626306123296,-0.34625510901853873,5.3307200410242208,3.4330409651631881,0.64401074127756652,0.43163221425038478,229.02447078303626,7.6785210208184435E-2,162.27240740723795,5.4405194655189774E-2,2.452240904561433E-2,2.5154799312231919E-2,0.45401222980337941,1.3101822519611402E-2,3.038710242750025E-2,-3.3968734010419513E-2,2.2260437744302808E-2,1.3101822519614163E-2,0]
[null,-3.1720770085769254E-13,8.758432627758074E-2,5.8481020352026862E-4,9.6128350089445994E-2,-0.32516683227935916,5.0831078126326847,3.2800736108542847,0.64528901053456944,0.4452005731657408,230.93188447640216,7.7424710262035956E-2,108.78569015203944,3.6472661883716402E-2,2.3545350030479403E-2,2.1838986940399822E-2,0.4861526215440603,1.2928269277537534E-2,1.1367883163232307E-2,-1.6087532558084691E-2,1.8062530204074691E-2,1.2928269278150438E-2,0]
[null,3.2673081312289825E-12,9.4938257676883894E-2,5.6969411502544331E-4,9.3643638574382196E-2,-0.31676196761945852,4.9821507816928587,3.2174795472989,0.6458013192056884,0.47299671469744514,239.61101840147853,8.0334570158593951E-2,65.69118806366923,2.2024335072354344E-2,2.315185209915141E-2,1.9626570415616645E-2,0.53130694978368476,1.2724118836915424E-2,-5.2931420698172317E-3,8.6438703341464008E-4,1.3759049590616986E-2,1.2724118833071637E-2,0]
[null,3.3625392538810417E-12,0.10313906536129758,5.8629879629917923E-4,9.6373037967547939E-2,-0.32599452132369972,5.0929790166021291,3.2861868991758549,0.64523864882684956,0.52528509567704407,260.87075003604264,8.7462336710998997E-2,28.347222989519747,9.5039952221113288E-3,2.3570151264881899E-2,1.8592583980214728E-2,0.60324343716593176,1.2354296998860925E-2,-1.8027180755577896E-2,1.531179555177579E-2,9.6776955705673521E-3,1.235429699498468E-2,0]
[null,3.4577703765331E-12,0.11231225223019801,6.0290347757291514E-4,9.9102437360713683E-2,-0.33522707502794091,5.2022372741908391,3.3537676677898554,0.64467795124002747,0.58427498490025931,282.13954900636315,9.4593143276026734E-2,-9.0216772579597553,-3.0247046628440327E-3,2.3708845966230623E-2,1.755757746954022E-2,0.68189283283913005,1.1736459727733357E-2,-1.8067845173724294E-2,1.5364054870434381E-2,9.660968368855662E-3,1.1736459722976595E-2,0]
[null,-3.5530014991851579E-13,0.12260631802291558,6.5503817348320278E-4,0.10767209341340128,-0.36421506774583529,5.5353501861486976,3.5588419304486911,0.64292986184579737,0.6786689052911522,320.77347695525015,0.107545969969963,-48.952338762907893,-1.6412288212000754E-2,2.4378363484506841E-2,1.7474216026650578E-2,0.80262716347311602,1.0353083041119824E-2,-1.9943256109009933E-2,1.8148139905168559E-2,8.6345452549754596E-3,1.03530830415291E-2,0]
[null,2.9903546080632925E-16,0.13419782954979564,7.682865134651548E-4,0.12628732277722407,-0.42718353811649801,6.2098756913986035,3.96930551130492,0.63919242647688868,0.83335183955972914,391.9674837693708,0.13141523931089705,-100.68981850903066,-3.3758352780407459E-2,2.5568821888317231E-2,1.8724992766736157E-2,0.99852543165103369,6.871440403249527E-3,-2.0162981537277084E-2,1.854389893050671E-2,8.4584477090734536E-3,6.8714404032506164E-3,0]
[null,6.5243225261098791E-11,0.14729780979304705,8.5562967993784908E-4,0.14064438158718878,-0.47574818454744966,6.6875786640563648,4.2557076773347893,0.63636001774571738,0.98506569003421407,453.01422114639007,0.15188242583464145,-157.47234996178187,-5.2795875709050304E-2,2.4584515082010993E-2,1.8999120290439101E-2,1.1897439915779058,1.9804258711951968E-3,-2.0250405480117913E-2,1.8735206071483414E-2,8.3545889713248916E-3,{"$f":"S312*Q332^2+T312*Q332+U312","v":1.9804258572161081E-3},0]
[null,0,{"$f":"C313","v":0.16215984472146291},{"$f":"D313+(D332-D312)","v":8.771747417983352E-4},0.14418585749981244,-0.48772769426575829,6.74636919088928,4.3199169458210092,0.64033212882195889,1.093990180428267,458.33333333333337,0.15366576866258877,-205.07395857015302,-6.8755303584790789E-2,2.1215589884628634E-2,1.7692399555513976E-2,1.3164112526756466,-2.0748839770835734E-3,null,null,null,null,7.4986780743096546E-2]
[null,"De","hc","e0","a'","b'","N'","tN'","t","Nc","sac","Nac","sat","Nat","Mtot","u","N","Mo","a''","b''","c''",null,"x"]
[null,null,{"$f":"$C$35","v":4.1544915655417694E-2},{"$f":"$D$35","v":3.8256566053946229E-4},{"$f":"$E$35","v":6.28843435479884E-2},{"$f":"$F$35","v":-0.21271459223465167},{"$f":"IF($C$2=1,0.5*($O$31*D335*$F$6/$O$30)*(1-W335^2+(E335-F335)*(F335^2*(1-W335^2)+2*F335*(1-W335)+2*LN((1-F335)/(1-F335*W335)))/(F335^3)),$F$6*F335*(LN((1-E335+E335^2)/(1+E335)^2)/(6*E335)+ATAN((2-E335)/(E335*3^0.5))/(E335*3^0.5)-LN((W335^2-E335*W335+E335^2)/(W335+E335)^2)/(6*E335)-ATAN((2*W335-E335)/(E335*3^0.5))/(E335*3^0.5)))","v":3.6164179713546631},{"$f":"IF($C$2=1,($O$31*D335*$F$6/$O$30)*(1-W335^3-(E335-F335)*(-2*F335^3*(1-W335^3)-3*F335^2*(1-W335^2)-6*F335*(1-W335)-6*LN((1-F335)/(1-F335*W335)))/(2*F335^4))/3,$F$6*F335*(LN((1+E335^3)/(E335^3+W335^3)))/3)","v":2.3589615237756383},{"$f":"$I$35","v":0.65229227994683425},{"$f":"$J$35","v":0.15024377959466625},{"$f":"$K$35","v":10.340089653207192},{"$f":"$L$35","v":3.4667297991276304E-3},{"$f":"$M$35","v":458.16851350986366},{"$f":"$N$35","v":0.15361050939379392},{"$f":"$O$35","v":1.4595642140814678E-2},{"$f":"$P$35","v":3.011841020334027E-2},{"$f":"$Q$35","v":9.9999999999961231E-5},{"$f":"$R$35","v":1.4592630299794346E-2},null,null,null,null,{"$f":"IF(C335<$C$6,0,(C335-$C$6)/C335)","v":0}]
[null,{"$f":"IF(R316>$Q$29*V316,B316,IF(Q316>Q315,$U$6,-0.5)*B316)","v":4.0714933842728485E-19},{"$f":"IF(Q316>Q315,C316,(1-$T$6)*C316+$T$6*C317)","v":4.4336691510533544E-2},{"$f":"D316+B336","v":4.2836253051247038E-4},{"$f":"IF($C$2=1,D336/($O$31*$O$30),2^(1/3)*$O$30/D336)","v":7.0412217588601958E-2},{"$f":"IF($C$2=1,-($O$31-2)*D336/$O$30,3*($O$30/D336)^2)","v":-0.2381786197905878},{"$f":"IF($C$2=1,0.5*($O$31*D336*$F$6/$O$30)*(1-W336^2+(E336-F336)*(F336^2*(1-W336^2)+2*F336*(1-W336)+2*LN((1-F336)/(1-F336*W336)))/(F336^3)),$F$6*F336*(LN((1-E336+E336^2)/(1+E336)^2)/(6*E336)+ATAN((2-E336)/(E336*3^0.5))/(E336*3^0.5)-LN((W336^2-E336*W336+E336^2)/(W336+E336)^2)/(6*E336)-ATAN((2*W336-E336)/(E336*3^0.5))/(E336*3^0.5)))","v":3.9715403169798411},{"$f":"IF($C$2=1,($O$31*D336*$F$6/$O$30)*(1-W336^3-(E336-F336)*(-2*F336^3*(1-W336^3)-3*F336^2*(1-W336^2)-6*F336*(1-W336)-6*LN((1-F336)/(1-F336*W336)))/(2*F336^4))/3,$F$6*F336*(LN((1+E336^3)/(E336^3+W336^3)))/3)","v":2.5841881326052127},{"$f":"H336/G336","v":0.65067654520761842},{"$f":"G336*C336*$D$6","v":0.17608495785558181},{"$f":"MAX(MIN($K$6,$Q$6*$J$6*D336*(C336-$I$6)/C336),-$K$6)","v":30.453565718108756},{"$f":"K336*$H$6","v":1.021019036637784E-2},{"$f":"MIN($O$6,$Q$6*$N$6*D336*(C$6-C336-$M$6)/C336)","v":458.33333333333337},{"$f":"M336*$L$6","v":0.15366576866258877},{"$f":"(0.5*$C$6-C336+I336*C336)*J336+(0.5*$C$6-$I$6)*L336+(0.5*$C$6-$M$6)*N336","v":1.6214853650533111E-2},{"$f":"0.1*$Q$6*D336*$B$6^2/C336+$R$6","v":3.1600367560991043E-2},{"$f":"(J336+L336-N336)","v":3.2629379559370897E-2},{"$f":"O336-P336*Q336","v":1.5183753263169904E-2},{"$f":"((R336-R335)*(Q336-Q337)-(R336-R337)*(Q336-Q335))/((Q336^2-Q335^2)*(Q336-Q337)-(Q336^2-Q337^2)*(Q336-Q335))","v":-6.4831158545165871E-2},{"$f":"-(S336*(Q336^2-Q335^2)-(R336-R335))/(Q336-Q335)","v":2.029385525238683E-2},{"$f":"R336-S336*Q336^2-T336*Q336","v":1.4590601562580694E-2},{"$f":"S316*Q336^2+T316*Q336+U316","v":1.5183753263169961E-2},{"$f":"IF(C336<$C$6,0,(C336-$C$6)/C336)","v":0}]
[null,{"$f":"IF(R317>$Q$29*V317,B317,IF(Q317>Q316,$U$6,-0.5)*B317)","v":9.0223179613231515E-19},{"$f":"IF(Q317>Q316,C317,(1-$T$6)*C317+$T$6*C318)","v":4.686581864712229E-2},{"$f":"D317+B337","v":4.7696328395726645E-4},7.8400980803794873E-2,-0.26520166581288035,4.3331467008444013,2.8121337206211354,0.64898188655212952,0.20307646745314997,50.786992561801689,1.7027394000153673E-2,458.33333333333337,0.15366576866258877,1.7864235302051307E-2,{"$f":"0.1*$Q$6*D337*$B$6^2/C337+$R$6","v":3.3286848702870638E-2},6.6438092790714887E-2,1.5652720559219499E-2,-4.9756811338772342E-2,1.8800477777321842E-2,1.4623280241166731E-2,{"$f":"MAX(S317*Q337^2+T317*Q337+U317,S318*Q337^2+T318*Q337+U318)","v":1.5652720559219287E-2},0]
[null,1.975596743738083E-14,4.9178183027429483E-2,5.1138343885207742E-4,8.4058803940163365E-2,-0.28433999935483717,4.5801454005756348,2.9669884019129511,0.64779349614972015,0.22524322880174788,69.368502838142618,2.3257231220937064E-2,458.33333333333337,0.15366576866258877,1.9184137140456706E-2,3.401089974330871E-2,9.4834691360096174E-2,1.5958723960420848E-2,-8.5674673727416453E-2,2.4593051445484182E-2,1.4396974863482804E-2,{"$f":"MAX(S318*Q338^2+T318*Q338+U318,S319*Q338^2+T319*Q338+U319)","v":1.595872396045421E-2},0]
[null,2.9337929157055266E-15,5.255221950735349E-2,6.1697554712555793E-4,0.10141553795351584,-0.34305144309215008,5.2936203280039056,3.4101729099863198,0.64420428717678968,0.27819149746584981,107.10970946946613,3.5910754553131793E-2,458.33333333333337,0.15366576866258877,2.2297956507537655E-2,3.8399080921922242E-2,0.16043648335639285,1.6137343000306895E-2,-4.3786215823578077E-2,1.3900135589309158E-2,1.5034305420737568E-2,1.6137343000320312E-2,0]
[null,3.0453047689280764E-13,5.6242100708700393E-2,7.0133254333800841E-4,0.1152817441441598,-0.38995571574999499,5.8189636840631129,3.7322400710598891,0.64139256982848858,0.32727074153934788,147.20958346754691,4.935507010481479E-2,458.33333333333337,0.15366576866258877,2.5050365319572245E-2,4.0785557083087828E-2,0.22296004298157387,1.5956815759299546E-2,-2.5821926289131911E-2,7.0126893836730099E-3,1.5676904678393666E-2,1.5956815761726993E-2,0]
[null,-4.6986058604089906E-6,6.0285666570009291E-2,7.7902378474115617E-4,0.12805226491744623,-0.43315368786273184,6.2705237871325297,4.0058740170163372,0.63884200953620773,0.37802270625038359,190.52736455135366,6.3878255836453138E-2,458.33333333333337,0.15366576866258877,2.7735187678348833E-2,4.226497253724204E-2,0.28823519342424797,1.5552935144006345E-2,-6.4650721829146815E-2,2.686178469910425E-2,1.31815748077489E-2,1.5515494802546964E-2,0]
[null,-3.9873607399552765E-12,6.4726330142402158E-2,8.7819863214401114E-4,0.14435415977807275,-0.48829699893640316,6.8053796952268621,4.3257344623959426,0.63563455032933924,0.44048725289765406,243.83882835149205,8.1752031247455406E-2,446.4665217066634,0.14968717361490938,3.0748447855802028E-2,4.4376772503738567E-2,0.3725521105302001,1.4215787601015672E-2,-2.7219052669734661E-2,2.1274129527414387E-3,1.7201085873874266E-2,1.4215787606806987E-2,0]
[null,3.3798403285957275E-15,6.9614059201644651E-2,7.8513563758058952E-4,0.12905690253475802,-0.43655200720667137,6.3048000198890479,4.0265153460813838,0.63864283298112323,0.43890272183908657,242.75998367573277,8.1390326164470478E-2,331.06202233813906,0.11099541848199548,2.8610370568539586E-2,3.6888557529463191E-2,0.40929762952156157,1.3511971415260551E-2,0.1325320040294771,-0.12277390920053152,4.1560677144526229E-2,1.3511971415263224E-2,0]
[null,-3.4913521818182801E-18,7.5006560532026839E-2,7.06299233703101E-4,0.11609814534121066,-0.39271730055684007,5.8487319536551139,3.7503732737750783,0.64122844122328349,0.43869326731743191,239.59091908357621,8.0327831444844747E-2,239.50111626524165,8.0297723184973954E-2,2.6718556843812795E-2,3.0798773700995437E-2,0.43872337557730268,1.3206414882070621E-2,7.9233632512030069E-2,-7.7575770616173406E-2,3.1989971842409287E-2,1.3206414882070795E-2,0]
[null,2.5220048245285811E-16,8.0970715199564836E-2,6.2273731719715813E-4,0.10236263061237105,-0.3462551090186789,5.330720041025848,3.4330409651641336,0.64401074127754732,0.43163221425051651,229.02447078312903,7.6785210208215535E-2,162.27240740730369,5.4405194655211812E-2,2.4522409045621602E-2,2.5154799312242106E-2,0.45401222980352024,1.3101822519610506E-2,3.0387102459262898E-2,-3.3968734038763757E-2,2.22604377506243E-2,1.310182251961059E-2,0]
[null,3.1720770085769258E-14,8.758432627758074E-2,5.8481020355198934E-4,9.61283500946601E-2,-0.32516683229699656,5.083107812843167,3.2800736109846689,0.64528901053349963,0.44520057318417577,230.93188448892815,7.7424710266235555E-2,108.7856901579401,3.6472661885694722E-2,2.3545350031463821E-2,2.1838986941584392E-2,0.48615262156471667,1.2928269277494955E-2,1.1367882999501387E-2,-1.6087532402237203E-2,1.8062530167067326E-2,1.2928269277449079E-2,0]
[null,-3.2673081312289828E-13,9.4938257676883894E-2,5.6969411469871248E-4,9.3643638520675726E-2,-0.31676196743778928,4.9821507794964681,3.2174795459357775,0.64580131921678996,0.47299671448892366,239.61101826405687,8.0334570112520487E-2,65.691188025994038,2.2024335059722951E-2,2.3151852088968104E-2,1.962657040436042E-2,0.53130694954172131,1.2724118837461542E-2,-5.2931418908348533E-3,8.6438683687799548E-4,1.3759049643908191E-2,1.2724118838067212E-2,0]
[null,-3.3625392538810417E-13,0.10313906536129758,5.8629879596292531E-4,9.637303791227611E-2,-0.32599452113673538,5.0929790143737605,3.286186897796048,0.64523864883824222,0.52528509544721225,260.87074988642814,8.7462336660837636E-2,28.347222973262056,9.5039952166606004E-3,2.3570151254724801E-2,1.8592583969551515E-2,0.60324343689138937,1.2354297000240794E-2,-1.8027180768495483E-2,1.5311795566382114E-2,9.6776955660693529E-3,1.2354297000628366E-2,0]
[null,-3.4577703765331E-13,0.11231225223019801,6.0290347722713813E-4,9.9102437303876481E-2,-0.33522707483568159,5.2022372719318097,3.353767666394178,0.64467795125168958,0.58427498464654259,282.13954884455063,9.4593143221775727E-2,-9.021677252785647,-3.0247046611093058E-3,2.3708845956254158E-2,1.7557577459470605E-2,0.68189283252942756,1.1736459730060917E-2,-1.8067845139615749E-2,1.5364054824581955E-2,9.660968383716953E-3,1.1736459730606349E-2,0]
[null,3.5530014991851583E-14,0.12260631802291558,6.5503817351873284E-4,0.10767209341924155,-0.36421506776559076,5.5353501863707075,3.5588419305847783,0.64292986184459611,0.67866890531837198,320.77347697264929,0.10754596997579643,-48.952338765563127,-1.641228821289098E-2,2.4378363485429724E-2,1.74742160275984E-2,0.80262716350705943,1.0353083040688825E-2,-1.9943256123101865E-2,1.8148139930353545E-2,8.6345452438791291E-3,1.0353083040650631E-2,0]
[null,-2.9903546080632925E-17,0.13419782954979564,7.6828651346512488E-4,0.12628732277721916,-0.42718353811648135,6.2098756913984241,3.9693055113048747,0.63919242647689989,0.83335183955970504,391.96748376935557,0.13141523931089194,-100.68981850902674,-3.3758352780406141E-2,2.5568821888317706E-2,1.8724992766735424E-2,0.99852543165100316,6.8714404032513034E-3,-2.0162981554199044E-2,1.8543898960796449E-2,8.4584476957015806E-3,6.8714404032501931E-3,0]
[null,-6.5243225261098797E-12,0.14729780979304705,8.5562967341352655E-4,0.14064438051475134,-0.47574818091978843,6.6875786296759427,4.2557076568614098,0.63636001795580033,0.9850656849700532,453.01421769207923,0.151882424676512,-157.47234876102831,-5.2795875306472735E-2,2.4584514977490771E-2,1.8999120145567563E-2,1.189743984953038,1.9804260649016747E-3,-2.0250404517797693E-2,1.8735203958348264E-2,8.3545901218608949E-3,{"$f":"S332*Q352^2+T332*Q352+U332","v":1.9804260663001359E-3},0]
[null,0,{"$f":"C333","v":0.16215984472146291},{"$f":"D333+(D352-D332)","v":8.7717473527401267E-4},0.144185856427375,-0.48772769063809707,6.7463691575167823,4.3199169258041668,0.64033212902245784,1.0939901750165879,458.33333333333337,0.15366576866258877,-205.07395704483707,-6.8755303073396931E-2,2.1215589847849332E-2,1.769239942391999E-2,1.3164112467525737,-2.0748837358376994E-3,null,null,null,null,7.4986780743096546E-2]
[null,"De","hc","e0","a'","b'","N'","tN'","t","Nc","sac","Nac","sat","Nat","Mtot","u","N","Mo","a''","b''","c''",null,"x"]
[null,null,{"$f":"$C$35","v":4.1544915655417694E-2},{"$f":"$D$35","v":3.8256566053946229E-4},{"$f":"$E$35","v":6.28843435479884E-2},{"$f":"$F$35","v":-0.21271459223465167},{"$f":"IF($C$2=1,0.5*($O$31*D355*$F$6/$O$30)*(1-W355^2+(E355-F355)*(F355^2*(1-W355^2)+2*F355*(1-W355)+2*LN((1-F355)/(1-F355*W355)))/(F355^3)),$F$6*F355*(LN((1-E355+E355^2)/(1+E355)^2)/(6*E355)+ATAN((2-E355)/(E355*3^0.5))/(E355*3^0.5)-LN((W355^2-E355*W355+E355^2)/(W355+E355)^2)/(6*E355)-ATAN((2*W355-E355)/(E355*3^0.5))/(E355*3^0.5)))","v":3.6164179713546631},{"$f":"IF($C$2=1,($O$31*D355*$F$6/$O$30)*(1-W355^3-(E355-F355)*(-2*F355^3*(1-W355^3)-3*F355^2*(1-W355^2)-6*F355*(1-W355)-6*LN((1-F355)/(1-F355*W355)))/(2*F355^4))/3,$F$6*F355*(LN((1+E355^3)/(E355^3+W355^3)))/3)","v":2.3589615237756383},{"$f":"$I$35","v":0.65229227994683425},{"$f":"$J$35","v":0.15024377959466625},{"$f":"$K$35","v":10.340089653207192},{"$f":"$L$35","v":3.4667297991276304E-3},{"$f":"$M$35","v":458.16851350986366},{"$f":"$N$35","v":0.15361050939379392},{"$f":"$O$35","v":1.4595642140814678E-2},{"$f":"$P$35","v":3.011841020334027E-2},{"$f":"$Q$35","v":9.9999999999961231E-5},{"$f":"$R$35","v":1.4592630299794346E-2},null,null,null,null,{"$f":"IF(C355<$C$6,0,(C355-$C$6)/C355)","v":0}]
[null,{"$f":"IF(R336>$Q$29*V336,B336,IF(Q336>Q335,$U$6,-0.5)*B336)","v":-4.0714933842728489E-20},{"$f":"IF(Q336>Q335,C336,(1-$T$6)*C336+$T$6*C337)","v":4.4336691510533544E-2},{"$f":"D336+B356","v":4.2836253051247033E-4},{"$f":"IF($C$2=1,D356/($O$31*$O$30),2^(1/3)*$O$30/D356)","v":7.0412217588601944E-2},{"$f":"IF($C$2=1,-($O$31-2)*D356/$O$30,3*($O$30/D356)^2)","v":-0.23817861979058777},{"$f":"IF($C$2=1,0.5*($O$31*D356*$F$6/$O$30)*(1-W356^2+(E356-F356)*(F356^2*(1-W356^2)+2*F356*(1-W356)+2*LN((1-F356)/(1-F356*W356)))/(F356^3)),$F$6*F356*(LN((1-E356+E356^2)/(1+E356)^2)/(6*E356)+ATAN((2-E356)/(E356*3^0.5))/(E356*3^0.5)-LN((W356^2-E356*W356+E356^2)/(W356+E356)^2)/(6*E356)-ATAN((2*W356-E356)/(E356*3^0.5))/(E356*3^0.5)))","v":3.9715403169798402},{"$f":"IF($C$2=1,($O$31*D356*$F$6/$O$30)*(1-W356^3-(E356-F356)*(-2*F356^3*(1-W356^3)-3*F356^2*(1-W356^2)-6*F356*(1-W356)-6*LN((1-F356)/(1-F356*W356)))/(2*F356^4))/3,$F$6*F356*(LN((1+E356^3)/(E356^3+W356^3)))/3)","v":2.584188132605246},{"$f":"H356/G356","v":0.65067654520762697},{"$f":"G356*C356*$D$6","v":0.17608495785558179},{"$f":"MAX(MIN($K$6,$Q$6*$J$6*D356*(C356-$I$6)/C356),-$K$6)","v":30.453565718108756},{"$f":"K356*$H$6","v":1.021019036637784E-2},{"$f":"MIN($O$6,$Q$6*$N$6*D356*(C$6-C356-$M$6)/C356)","v":458.33333333333337},{"$f":"M356*$L$6","v":0.15366576866258877},{"$f":"(0.5*$C$6-C356+I356*C356)*J356+(0.5*$C$6-$I$6)*L356+(0.5*$C$6-$M$6)*N356","v":1.6214853650533177E-2},{"$f":"0.1*$Q$6*D356*$B$6^2/C356+$R$6","v":3.1600367560991036E-2},{"$f":"(J356+L356-N356)","v":3.2629379559370869E-2},{"$f":"O356-P356*Q356","v":1.518375326316997E-2},{"$f":"((R356-R355)*(Q356-Q357)-(R356-R357)*(Q356-Q355))/((Q356^2-Q355^2)*(Q356-Q357)-(Q356^2-Q357^2)*(Q356-Q355))","v":-6.4831158545317541E-2},{"$f":"-(S356*(Q356^2-Q355^2)-(R356-R355))/(Q356-Q355)","v":2.0293855252393835E-2},{"$f":"R356-S356*Q356^2-T356*Q356","v":1.4590601562580692E-2},{"$f":"S336*Q356^2+T336*Q356+U336","v":1.5183753263169904E-2},{"$f":"IF(C356<$C$6,0,(C356-$C$6)/C356)","v":0}]
[null,{"$f":"IF(R337>$Q$29*V337,B337,IF(Q337>Q336,$U$6,-0.5)*B337)","v":-9.0223179613231515E-20},{"$f":"IF(Q337>Q336,C337,(1-$T$6)*C337+$T$6*C338)","v":4.686581864712229E-2},{"$f":"D337+B357","v":4.7696328395726634E-4},7.8400980803794859E-2,-0.26520166581288029,4.3331467008444271,2.8121337206210515,0.6489818865521062,0.20307646745315119,50.786992561801682,1.702739400015367E-2,458.33333333333337,0.15366576866258877,1.7864235302051154E-2,{"$f":"0.1*$Q$6*D357*$B$6^2/C357+$R$6","v":3.3286848702870631E-2},6.643809279071608E-2,1.5652720559219308E-2,-4.9756811336229972E-2,1.8800477777061939E-2,1.4623280241172574E-2,{"$f":"MAX(S337*Q357^2+T337*Q357+U337,S338*Q357^2+T338*Q357+U338)","v":1.5652720559219513E-2},0]
[null,-1.9755967437380831E-15,4.9178183027429483E-2,5.1138343885010179E-4,8.4058803939838625E-2,-0.28433999935373871,4.5801454005616806,2.9669884019041834,0.64779349614977955,0.22524322880106165,69.368502837874615,2.3257231220847212E-2,458.33333333333337,0.15366576866258877,1.9184137140414639E-2,3.4010899743177322E-2,9.48346913593201E-2,1.5958723960417639E-2,-8.567467372906383E-2,2.4593051445872136E-2,1.4396974863464095E-2,{"$f":"MAX(S338*Q358^2+T338*Q358+U338,S339*Q358^2+T339*Q358+U339)","v":1.5958723960416504E-2},0]
[null,-2.9337929157055267E-16,5.255221950735349E-2,6.1697554712526455E-4,0.10141553795346761,-0.34305144309198699,5.2936203280020075,3.4101729099851927,0.64420428717680778,0.27819149746575006,107.10970946941518,3.5910754553114717E-2,458.33333333333337,0.15366576866258877,2.2297956507531705E-2,3.8399080921903986E-2,0.160436483356276,1.6137343000308363E-2,-4.3786215797393203E-2,1.3900135582629749E-2,1.5034305421136644E-2,1.6137343000307044E-2,0]
[null,-3.0453047689280765E-14,5.6242100708700393E-2,7.0133254330755534E-4,0.11528174413915407,-0.38995571573306242,5.8189636838801873,3.7322400709484698,0.64139256982950377,0.32727074152905972,147.20958346115481,4.9355070102671705E-2,458.33333333333337,0.15366576866258877,2.5050365318951811E-2,4.0785557081316842E-2,0.22296004296914265,1.5956815759580988E-2,-2.0013194072011423E-2,4.785641632859665E-3,1.5884688403598447E-2,1.5956815759355512E-2,0]
[null,-4.6986058604089906E-6,6.0285666570009291E-2,7.7432517888074721E-4,0.12727993019010581,-0.43054116370607109,6.2440522524304356,3.9899198654435879,0.63899527168283243,0.37642685213573673,189.37821736331665,6.3492980376185157E-2,458.33333333333337,0.15366576866258877,2.7640237951953407E-2,4.2010055483946297E-2,0.28625406384933316,1.5614688847137815E-2,-7.2228132735550468E-2,3.13742249869952E-2,1.2552162970789133E-2,1.5579699492147638E-2,0]
[null,3.9873607399552766E-13,6.4726330142402158E-2,8.781986325427472E-4,0.14435415984361513,-0.48829699915810881,6.8053796972883172,4.3257344636191766,0.63563455031654092,0.44048725303108449,243.83882846220428,8.1752031284573978E-2,446.46652190937635,0.1496871736828731,3.0748447865975463E-2,4.4376772523887331E-2,0.37255211063278537,1.4215787599130239E-2,-2.3923896037522954E-2,-4.4890440331105932E-4,1.7703546830152541E-2,1.421578759915338E-2,0]
[null,-3.3798403285957275E-16,6.9614059201644651E-2,7.8513563758025157E-4,0.12905690253470245,-0.43655200720648352,6.304800019887149,4.0265153460802248,0.63864283298113178,0.43890272183895435,242.75998367562826,8.139032616443545E-2,331.0620223379965,0.11099541848194769,2.8610370568530354E-2,3.6888557529447315E-2,0.40929762952144211,1.3511971415262223E-2,0.13253200426777736,-0.12277390940260589,4.1560677187313606E-2,1.3511971415262256E-2,0]
[null,3.4913521818182802E-19,7.5006560532026839E-2,7.0629923370310133E-4,0.11609814534121071,-0.39271730055684023,5.8487319536551112,3.7503732737751196,0.64122844122329081,0.43869326731743169,239.59091908357632,8.0327831444844774E-2,239.50111626524173,8.0297723184973982E-2,2.6718556843813031E-2,3.0798773700995447E-2,0.43872337557730245,1.320641488207086E-2,7.9233632511962956E-2,-7.7575770616113593E-2,3.19899718423962E-2,1.3206414882070623E-2,0]
[null,-2.5220048245285813E-17,8.0970715199564836E-2,6.2273731719713287E-4,0.1023626306123669,-0.34625510901866485,5.3307200410256739,3.433040965164071,0.64401074127755653,0.43163221425050241,229.02447078311977,7.6785210208212426E-2,162.2724074072971,5.4405194655209599E-2,2.4522409045621085E-2,2.5154799312241089E-2,0.45401222980350525,1.3101822519610827E-2,3.0387102455898946E-2,-3.3968734035761464E-2,2.2260437749954849E-2,1.3101822519610602E-2,0]
[null,-3.1720770085769259E-15,8.758432627758074E-2,5.8481020354881729E-4,9.6128350094138698E-2,-0.32516683229523285,5.083107812822119,3.2800736109716238,0.64528901053360532,0.4452005731823323,230.93188448767555,7.7424710265815599E-2,108.78569015735002,3.6472661885496881E-2,2.354535003136533E-2,2.1838986941465934E-2,0.4861526215626511,1.2928269277499162E-2,1.1367883016136508E-2,-1.6087532418076918E-2,1.8062530170830034E-2,1.2928269277505355E-2,0]
[null,3.2673081312289827E-14,9.4938257676883894E-2,5.6969411473138556E-4,9.3643638526046374E-2,-0.31676196745595619,4.9821507797160862,3.2174795460721337,0.64580131921569139,0.47299671450977382,239.61101827779902,8.0334570117127829E-2,65.691188029761562,2.2024335060986094E-2,2.3151852089986876E-2,1.9626570405486043E-2,0.53130694956591551,1.2724118837407414E-2,-5.2931419089626468E-3,8.643868567768286E-4,1.3759049638514084E-2,1.2724118837368535E-2,0]
[null,3.362539253881042E-14,0.10313906536129758,5.8629879599655075E-4,9.63730379178033E-2,-0.32599452115543187,5.092979014596609,3.2861868979339746,0.64523864883709092,0.52528509547019653,260.87074990138956,8.7462336665853763E-2,28.347222974887828,9.503995217205673E-3,2.3570151255739899E-2,1.8592583970617839E-2,0.60324343691884463,1.2354297000102175E-2,-1.802718076701516E-2,1.5311795564692265E-2,9.6776955665881861E-3,1.2354297000064131E-2,0]
[null,3.4577703765331002E-14,0.11231225223019801,6.0290347726171584E-4,9.9102437309560198E-2,-0.33522707485490749,5.2022372721577064,3.3537676665337748,0.64467795125052973,0.58427498467191363,282.13954886073185,9.4593143227200818E-2,-9.0216772533030571,-3.0247046612827781E-3,2.3708845957252207E-2,1.7557577460477567E-2,0.68189283256039723,1.1736459729828574E-2,-1.8067845143041123E-2,1.5364054829198968E-2,9.6609683822163166E-3,1.1736459729780638E-2,0]
[null,-3.5530014991851584E-15,0.12260631802291558,6.550381735151798E-4,0.10767209341865752,-0.36421506776361523,5.5353501863484897,3.5588419305712713,0.64292986184473655,0.67866890531564794,320.77347697090937,0.10754596997521308,-48.952338765297597,-1.6412288212801954E-2,2.4378363485339068E-2,1.7474216027503618E-2,0.80262716350366292,1.0353083040733594E-2,-1.9943256121767238E-2,1.8148139927955963E-2,8.6345452449413853E-3,1.0353083040735921E-2,0]
[null,2.9903546080632926E-18,0.13419782954979564,7.6828651346512792E-4,0.12628732277721966,-0.42718353811648307,6.209875691398449,3.9693055113048281,0.63919242647688979,0.83335183955970848,391.9674837693571,0.13141523931089244,-100.68981850902712,-3.3758352780406273E-2,2.5568821888316679E-2,1.8724992766735504E-2,0.99852543165100716,6.8714404032501238E-3,-2.0162981552442196E-2,1.8543898957637639E-2,8.45844769710297E-3,6.8714404032512201E-3,0]
[null,6.5243225261098799E-13,0.14729780979304705,8.5562967406595876E-4,0.14064438062199505,-0.47574818128255453,6.6875786331139793,4.2557076589088023,0.63636001793480079,0.98506568547646844,453.01421803751032,0.15188242479232494,-157.47234888110367,-5.2795875346730491E-2,2.4584514987944041E-2,1.8999120160054714E-2,1.1897439856155241,1.9804260455322902E-3,-2.0250404614069371E-2,1.8735204169760194E-2,8.3545900067475837E-3,{"$f":"S352*Q372^2+T352*Q372+U352","v":1.9804260453912016E-3},0]
[null,0,{"$f":"C353","v":0.16215984472146291},{"$f":"D353+(D372-D352)","v":8.7717473592644488E-4},0.14418585653461874,-0.48772769100086316,6.7463691608540213,4.3199169278058891,0.64033212900241465,1.0939901755577541,458.33333333333337,0.15366576866258877,-205.07395719736863,-6.8755303124536302E-2,2.1215589851528417E-2,1.7692399437079391E-2,1.3164112473448792,-2.0748837599611041E-3,null,null,null,null,7.4986780743096546E-2]
[null,"De","hc","e0","a'","b'","N'","tN'","t","Nc","sac","Nac","sat","Nat","Mtot","u","N","Mo","a''","b''","c''",null,"x"]
[null,null,{"$f":"$C$35","v":4.1544915655417694E-2},{"$f":"$D$35","v":3.8256566053946229E-4},{"$f":"$E$35","v":6.28843435479884E-2},{"$f":"$F$35","v":-0.21271459223465167},{"$f":"IF($C$2=1,0.5*($O$31*D375*$F$6/$O$30)*(1-W375^2+(E375-F375)*(F375^2*(1-W375^2)+2*F375*(1-W375)+2*LN((1-F375)/(1-F375*W375)))/(F375^3)),$F$6*F375*(LN((1-E375+E375^2)/(1+E375)^2)/(6*E375)+ATAN((2-E375)/(E375*3^0.5))/(E375*3^0.5)-LN((W375^2-E375*W375+E375^2)/(W375+E375)^2)/(6*E375)-ATAN((2*W375-E375)/(E375*3^0.5))/(E375*3^0.5)))","v":3.6164179713546631},{"$f":"IF($C$2=1,($O$31*D375*$F$6/$O$30)*(1-W375^3-(E375-F375)*(-2*F375^3*(1-W375^3)-3*F375^2*(1-W375^2)-6*F375*(1-W375)-6*LN((1-F375)/(1-F375*W375)))/(2*F375^4))/3,$F$6*F375*(LN((1+E375^3)/(E375^3+W375^3)))/3)","v":2.3589615237756383},{"$f":"$I$35","v":0.65229227994683425},{"$f":"$J$35","v":0.15024377959466625},{"$f":"$K$35","v":10.340089653207192},{"$f":"$L$35","v":3.4667297991276304E-3},{"$f":"$M$35","v":458.16851350986366},{"$f":"$N$35","v":0.15361050939379392},{"$f":"$O$35","v":1.4595642140814678E-2},{"$f":"$P$35","v":3.011841020334027E-2},{"$f":"$Q$35","v":9.9999999999961231E-5},{"$f":"$R$35","v":1.4592630299794346E-2},null,null,null,null,{"$f":"IF(C375<$C$6,0,(C375-$C$6)/C375)","v":0}]
[null,{"$f":"IF(R356>$Q$29*V356,B356,IF(Q356>Q355,$U$6,-0.5)*B356)","v":4.0714933842728495E-21},{"$f":"IF(Q356>Q355,C356,(1-$T$6)*C356+$T$6*C357)","v":4.4336691510533544E-2},{"$f":"D356+B376","v":4.2836253051247033E-4},{"$f":"IF($C$2=1,D376/($O$31*$O$30),2^(1/3)*$O$30/D376)","v":7.0412217588601944E-2},{"$f":"IF($C$2=1,-($O$31-2)*D376/$O$30,3*($O$30/D376)^2)","v":-0.23817861979058777},{"$f":"IF($C$2=1,0.5*($O$31*D376*$F$6/$O$30)*(1-W376^2+(E376-F376)*(F376^2*(1-W376^2)+2*F376*(1-W376)+2*LN((1-F376)/(1-F376*W376)))/(F376^3)),$F$6*F376*(LN((1-E376+E376^2)/(1+E376)^2)/(6*E376)+ATAN((2-E376)/(E376*3^0.5))/(E376*3^0.5)-LN((W376^2-E376*W376+E376^2)/(W376+E376)^2)/(6*E376)-ATAN((2*W376-E376)/(E376*3^0.5))/(E376*3^0.5)))","v":3.9715403169798402},{"$f":"IF($C$2=1,($O$31*D376*$F$6/$O$30)*(1-W376^3-(E376-F376)*(-2*F376^3*(1-W376^3)-3*F376^2*(1-W376^2)-6*F376*(1-W376)-6*LN((1-F376)/(1-F376*W376)))/(2*F376^4))/3,$F$6*F376*(LN((1+E376^3)/(E376^3+W376^3)))/3)","v":2.584188132605246},{"$f":"H376/G376","v":0.65067654520762697},{"$f":"G376*C376*$D$6","v":0.17608495785558179},{"$f":"MAX(MIN($K$6,$Q$6*$J$6*D376*(C376-$I$6)/C376),-$K$6)","v":30.453565718108756},{"$f":"K376*$H$6","v":1.021019036637784E-2},{"$f":"MIN($O$6,$Q$6*$N$6*D376*(C$6-C376-$M$6)/C376)","v":458.33333333333337},{"$f":"M376*$L$6","v":0.15366576866258877},{"$f":"(0.5*$C$6-C376+I376*C376)*J376+(0.5*$C$6-$I$6)*L376+(0.5*$C$6-$M$6)*N376","v":1.6214853650533177E-2},{"$f":"0.1*$Q$6*D376*$B$6^2/C376+$R$6","v":3.1600367560991036E-2},{"$f":"(J376+L376-N376)","v":3.2629379559370869E-2},{"$f":"O376-P376*Q376","v":1.518375326316997E-2},{"$f":"((R376-R375)*(Q376-Q377)-(R376-R377)*(Q376-Q375))/((Q376^2-Q375^2)*(Q376-Q377)-(Q376^2-Q377^2)*(Q376-Q375))","v":-6.4831158545317541E-2},{"$f":"-(S376*(Q376^2-Q375^2)-(R376-R375))/(Q376-Q375)","v":2.0293855252393835E-2},{"$f":"R376-S376*Q376^2-T376*Q376","v":1.4590601562580692E-2},{"$f":"S356*Q376^2+T356*Q376+U356","v":1.5183753263169968E-2},{"$f":"IF(C376<$C$6,0,(C376-$C$6)/C376)","v":0}]
[null,{"$f":"IF(R357>$Q$29*V357,B357,IF(Q357>Q356,$U$6,-0.5)*B357)","v":9.0223179613231524E-21},{"$f":"IF(Q357>Q356,C357,(1-$T$6)*C357+$T$6*C358)","v":4.686581864712229E-2},{"$f":"D357+B377","v":4.7696328395726634E-4},7.8400980803794859E-2,-0.26520166581288029,4.3331467008444271,2.8121337206210515,0.6489818865521062,0.20307646745315119,50.786992561801682,1.702739400015367E-2,458.33333333333337,0.15366576866258877,1.7864235302051154E-2,{"$f":"0.1*$Q$6*D377*$B$6^2/C377+$R$6","v":3.3286848702870631E-2},6.643809279071608E-2,1.5652720559219308E-2,-4.9756811336599253E-2,1.8800477777098524E-2,1.4623280241171772E-2,{"$f":"MAX(S357*Q377^2+T357*Q377+U357,S358*Q377^2+T358*Q377+U358)","v":1.5652720559219308E-2},0]
[null,1.9755967437380831E-16,4.9178183027429483E-2,5.1138343885029933E-4,8.4058803939871099E-2,-0.28433999935384852,4.5801454005630875,2.9669884019049637,0.6477934961497509,0.22524322880113085,69.368502837901417,2.3257231220856198E-2,458.33333333333337,0.15366576866258877,1.9184137140418625E-2,3.4010899743190458E-2,9.4834691359398288E-2,1.5958723960417719E-2,-8.5674673728809672E-2,2.459305144581099E-2,1.4396974863467034E-2,{"$f":"MAX(S358*Q378^2+T358*Q378+U358,S359*Q378^2+T359*Q378+U359)","v":1.5958723960418291E-2},0]
[null,2.9337929157055268E-17,5.255221950735349E-2,6.1697554712529393E-4,0.10141553795347244,-0.34305144309200336,5.2936203280022127,3.4101729099852327,0.64420428717679035,0.27819149746576088,107.10970946942028,3.5910754553116424E-2,458.33333333333337,0.15366576866258877,2.2297956507532118E-2,3.8399080921905811E-2,0.16043648335628855,1.6137343000307999E-2,-4.3786215799970316E-2,1.3900135583287539E-2,1.5034305421097082E-2,1.6137343000308359E-2,0]
[null,3.0453047689280768E-15,5.6242100708700393E-2,7.0133254331060065E-4,0.11528174413965464,-0.38995571573475568,5.8189636838984713,3.7322400709596537,0.6413925698294104,0.32727074153008806,147.20958346179401,4.9355070102886013E-2,458.33333333333337,0.15366576866258877,2.505036531901398E-2,4.0785557081493951E-2,0.22296004297038532,1.5956815759552986E-2,-1.3761269216892393E-2,2.3886753601915288E-3,1.6108325540149002E-2,1.595681575957995E-2,0]
[null,-4.6986058604089906E-6,6.0285666570009291E-2,7.6962657302033824E-4,0.12650759546276541,-0.42792863954941029,6.2174750394090514,3.973890824508894,0.63914865750496008,0.37482462713316944,188.22907017527962,6.3107704915917162E-2,458.33333333333337,0.15366576866258877,2.754492230716804E-2,4.1755138430650568E-2,0.28426656338649781,1.5675332601759521E-2,-7.9821664872830655E-2,3.589626566334609E-2,1.1921412035942647E-2,1.5642708590058778E-2,0]
[null,-3.9873607399552771E-14,6.4726330142402158E-2,8.781986325028736E-4,0.14435415983706087,-0.48829699913593821,6.8053796970821692,4.3257344634968744,0.63563455031782412,0.44048725301774128,243.83882845113305,8.1752031280862128E-2,446.46652188910514,0.14968717367607676,3.0748447864958207E-2,4.4376772521872457E-2,0.37255211062252669,1.4215787599318876E-2,-2.0968403844978098E-2,-2.759655206075027E-3,1.8154214157937797E-2,1.4215787599376691E-2,0]
[null,3.3798403285957275E-17,6.9614059201644651E-2,7.851356375802854E-4,0.12905690253470803,-0.43655200720650228,6.3048000198873391,4.026515346080374,0.63864283298113622,0.43890272183896761,242.75998367563872,8.1390326164438948E-2,331.06202233801076,0.11099541848195248,2.8610370568531444E-2,3.6888557529448904E-2,0.4092976295214541,1.351197141526222E-2,0.13253200424384534,-0.12277390938231668,4.1560677183018653E-2,1.3511971415262072E-2,0]
[null,-3.4913521818182807E-20,7.5006560532026839E-2,7.0629923370310133E-4,0.11609814534121071,-0.39271730055684023,5.8487319536551112,3.7503732737751196,0.64122844122329081,0.43869326731743169,239.59091908357632,8.0327831444844774E-2,239.50111626524173,8.0297723184973982E-2,2.6718556843813031E-2,3.0798773700995447E-2,0.43872337557730245,1.320641488207086E-2,7.9233632511949023E-2,-7.7575770616106834E-2,3.1989971842395916E-2,1.320641488207086E-2,0]
[null,2.5220048245285813E-18,8.0970715199564836E-2,6.2273731719713536E-4,0.10236263061236732,-0.34625510901866624,5.3307200410256916,3.4330409651640674,0.64401074127755376,0.43163221425050385,229.02447078312068,7.6785210208212731E-2,162.27240740729772,5.4405194655209814E-2,2.4522409045621071E-2,2.5154799312241186E-2,0.45401222980350681,1.310182251961073E-2,3.0387102456769479E-2,-3.3968734036544282E-2,2.2260437750130729E-2,1.3101822519610819E-2,0]
[null,3.1720770085769262E-16,8.758432627758074E-2,5.8481020354913453E-4,9.6128350094190837E-2,-0.32516683229540921,5.0831078128242009,3.2800736109729942,0.64528901053361065,0.4452005731825146,230.93188448780083,7.7424710265857608E-2,108.78569015740904,3.647266188551667E-2,2.3545350031375707E-2,2.1838986941477779E-2,0.48615262156285555,1.2928269277499316E-2,1.1367883014013149E-2,-1.608753241604105E-2,1.8062530170343316E-2,1.2928269277498287E-2,0]
[null,-3.2673081312289828E-15,9.4938257676883894E-2,5.6969411472811821E-4,9.3643638525509304E-2,-0.31676196745413948,4.9821507796941331,3.2174795460584842,0.64580131921579731,0.4729967145076896,239.6110182764248,8.0334570116667087E-2,65.691188029384804,2.2024335060859778E-2,2.3151852089884854E-2,1.9626570405373477E-2,0.53130694956349689,1.2724118837412667E-2,-5.2931419069785724E-3,8.6438685459666337E-4,1.3759049639106081E-2,1.2724118837418927E-2,0]
[null,-3.3625392538810424E-15,0.10313906536129758,5.8629879599318821E-4,9.6373037917250576E-2,-0.3259945211535622,5.092979014574321,3.286186897920194,0.64523864883720883,0.52528509546789781,260.87074989989344,8.746233666535215E-2,28.347222974725252,9.5039952171511663E-3,2.3570151255638522E-2,1.8592583970511205E-2,0.60324343691609883,1.2354297000116175E-2,-1.8027180767311829E-2,1.5311795565033946E-2,9.6776955664863492E-3,1.2354297000119854E-2,0]
[null,-3.4577703765331004E-15,0.11231225223019801,6.029034772582581E-4,9.9102437308991834E-2,-0.33522707485298497,5.2022372721351351,3.3537676665197189,0.64467795125062499,0.58427498466937855,282.13954885911375,9.4593143226658308E-2,-9.0216772532513172,-3.0247046612654313E-3,2.3708845957151115E-2,1.755757746037687E-2,0.68189283255730238,1.1736459729850483E-2,-1.8067845142583378E-2,1.5364054828570893E-2,9.6609683824249587E-3,1.1736459729857282E-2,0]
[null,3.5530014991851584E-16,0.12260631802291558,6.550381735155351E-4,0.10767209341871592,-0.36421506776381274,5.5353501863507173,3.5588419305725747,0.64292986184471335,0.67866890531592106,320.77347697108337,0.10754596997527142,-48.952338765324157,-1.641228821281086E-2,2.4378363485347391E-2,1.7474216027513093E-2,0.80262716350400332,1.0353083040728364E-2,-1.9943256121906706E-2,1.8148139928209288E-2,8.6345452448273966E-3,1.035308304072889E-2,0]
[null,-2.9903546080632926E-19,0.13419782954979564,7.6828651346512759E-4,0.1262873227772196,-0.42718353811648285,6.209875691398449,3.9693055113048223,0.63919242647688879,0.83335183955970848,391.96748376935693,0.13141523931089238,-100.68981850902709,-3.3758352780406259E-2,2.5568821888316572E-2,1.8724992766735494E-2,0.99852543165100716,6.8714404032500266E-3,-2.016298155263364E-2,1.8543898957984653E-2,8.4584476969472508E-3,6.8714404032501238E-3,0]
[null,-6.5243225261098799E-14,0.14729780979304705,8.5562967400071549E-4,0.14064438061127069,-0.47574818124627788,6.6875786327701805,4.2557076587040257,0.63636001793689467,0.98506568542582762,453.0142180029672,0.15188242478074365,-157.47234886909612,-5.2795875342704711E-2,2.4584514986897857E-2,1.8999120158605998E-2,1.189743985549276,1.9804260474683665E-3,-2.0250404604426581E-2,1.8735204148581465E-2,8.3545900182806082E-3,{"$f":"S372*Q392^2+T372*Q392+U372","v":1.9804260474833267E-3},0]
[null,0,{"$f":"C373","v":0.16215984472146291},{"$f":"D373+(D392-D372)","v":8.771747358612016E-4},0.14418585652389435,-0.48772769096458651,6.7463691605203042,4.3199169276056946,0.64033212900441505,1.0939901755036388,458.33333333333337,0.15366576866258877,-205.07395718211549,-6.8755303119422378E-2,2.1215589851159844E-2,1.7692399435763451E-2,1.31641124728565,-2.0748837575494498E-3,null,null,null,null,7.4986780743096546E-2]
[null,"De","hc","e0","a'","b'","N'","tN'","t","Nc","sac","Nac","sat","Nat","Mtot","u","N","Mo","a''","b''","c''",null,"x"]
[null,null,{"$f":"$C$35","v":4.1544915655417694E-2},{"$f":"$D$35","v":3.8256566053946229E-4},{"$f":"$E$35","v":6.28843435479884E-2},{"$f":"$F$35","v":-0.21271459223465167},{"$f":"IF($C$2=1,0.5*($O$31*D395*$F$6/$O$30)*(1-W395^2+(E395-F395)*(F395^2*(1-W395^2)+2*F395*(1-W395)+2*LN((1-F395)/(1-F395*W395)))/(F395^3)),$F$6*F395*(LN((1-E395+E395^2)/(1+E395)^2)/(6*E395)+ATAN((2-E395)/(E395*3^0.5))/(E395*3^0.5)-LN((W395^2-E395*W395+E395^2)/(W395+E395)^2)/(6*E395)-ATAN((2*W395-E395)/(E395*3^0.5))/(E395*3^0.5)))","v":3.6164179713546631},{"$f":"IF($C$2=1,($O$31*D395*$F$6/$O$30)*(1-W395^3-(E395-F395)*(-2*F395^3*(1-W395^3)-3*F395^2*(1-W395^2)-6*F395*(1-W395)-6*LN((1-F395)/(1-F395*W395)))/(2*F395^4))/3,$F$6*F395*(LN((1+E395^3)/(E395^3+W395^3)))/3)","v":2.3589615237756383},{"$f":"$I$35","v":0.65229227994683425},{"$f":"$J$35","v":0.15024377959466625},{"$f":"$K$35","v":10.340089653207192},{"$f":"$L$35","v":3.4667297991276304E-3},{"$f":"$M$35","v":458.16851350986366},{"$f":"$N$35","v":0.15361050939379392},{"$f":"$O$35","v":1.4595642140814678E-2},{"$f":"$P$35","v":3.011841020334027E-2},{"$f":"$Q$35","v":9.9999999999961231E-5},{"$f":"$R$35","v":1.4592630299794346E-2},null,null,null,null,{"$f":"IF(C395<$C$6,0,(C395-$C$6)/C395)","v":0}]
[null,{"$f":"IF(R376>$Q$29*V376,B376,IF(Q376>Q375,$U$6,-0.5)*B376)","v":-4.0714933842728497E-22},{"$f":"IF(Q376>Q375,C376,(1-$T$6)*C376+$T$6*C377)","v":4.4336691510533544E-2},{"$f":"D376+B396","v":4.2836253051247033E-4},{"$f":"IF($C$2=1,D396/($O$31*$O$30),2^(1/3)*$O$30/D396)","v":7.0412217588601944E-2},{"$f":"IF($C$2=1,-($O$31-2)*D396/$O$30,3*($O$30/D396)^2)","v":-0.23817861979058777},{"$f":"IF($C$2=1,0.5*($O$31*D396*$F$6/$O$30)*(1-W396^2+(E396-F396)*(F396^2*(1-W396^2)+2*F396*(1-W396)+2*LN((1-F396)/(1-F396*W396)))/(F396^3)),$F$6*F396*(LN((1-E396+E396^2)/(1+E396)^2)/(6*E396)+ATAN((2-E396)/(E396*3^0.5))/(E396*3^0.5)-LN((W396^2-E396*W396+E396^2)/(W396+E396)^2)/(6*E396)-ATAN((2*W396-E396)/(E396*3^0.5))/(E396*3^0.5)))","v":3.9715403169798402},{"$f":"IF($C$2=1,($O$31*D396*$F$6/$O$30)*(1-W396^3-(E396-F396)*(-2*F396^3*(1-W396^3)-3*F396^2*(1-W396^2)-6*F396*(1-W396)-6*LN((1-F396)/(1-F396*W396)))/(2*F396^4))/3,$F$6*F396*(LN((1+E396^3)/(E396^3+W396^3)))/3)","v":2.584188132605246},{"$f":"H396/G396","v":0.65067654520762697},{"$f":"G396*C396*$D$6","v":0.17608495785558179},{"$f":"MAX(MIN($K$6,$Q$6*$J$6*D396*(C396-$I$6)/C396),-$K$6)","v":30.453565718108756},{"$f":"K396*$H$6","v":1.021019036637784E-2},{"$f":"MIN($O$6,$Q$6*$N$6*D396*(C$6-C396-$M$6)/C396)","v":458.33333333333337},{"$f":"M396*$L$6","v":0.15366576866258877},{"$f":"(0.5*$C$6-C396+I396*C396)*J396+(0.5*$C$6-$I$6)*L396+(0.5*$C$6-$M$6)*N396","v":1.6214853650533177E-2},{"$f":"0.1*$Q$6*D396*$B$6^2/C396+$R$6","v":3.1600367560991036E-2},{"$f":"(J396+L396-N396)","v":3.2629379559370869E-2},{"$f":"O396-P396*Q396","v":1.518375326316997E-2},{"$f":"((R396-R395)*(Q396-Q397)-(R396-R397)*(Q396-Q395))/((Q396^2-Q395^2)*(Q396-Q397)-(Q396^2-Q397^2)*(Q396-Q395))","v":-6.4831158545317541E-2},{"$f":"-(S396*(Q396^2-Q395^2)-(R396-R395))/(Q396-Q395)","v":2.0293855252393835E-2},{"$f":"R396-S396*Q396^2-T396*Q396","v":1.4590601562580692E-2},{"$f":"S376*Q396^2+T376*Q396+U376","v":1.5183753263169968E-2},{"$f":"IF(C396<$C$6,0,(C396-$C$6)/C396)","v":0}]
[null,{"$f":"IF(R377>$Q$29*V377,B377,IF(Q377>Q376,$U$6,-0.5)*B377)","v":-9.0223179613231528E-22},{"$f":"IF(Q377>Q376,C377,(1-$T$6)*C377+$T$6*C378)","v":4.686581864712229E-2},{"$f":"D377+B397","v":4.7696328395726634E-4},7.8400980803794859E-2,-0.26520166581288029,4.3331467008444271,2.8121337206210515,0.6489818865521062,0.20307646745315119,50.786992561801682,1.702739400015367E-2,458.33333333333337,0.15366576866258877,1.7864235302051154E-2,{"$f":"0.1*$Q$6*D397*$B$6^2/C397+$R$6","v":3.3286848702870631E-2},6.643809279071608E-2,1.5652720559219308E-2,-4.9756811336448194E-2,1.880047777708356E-2,1.46232802411721E-2,{"$f":"MAX(S377*Q397^2+T377*Q397+U377,S378*Q397^2+T378*Q397+U378)","v":1.5652720559219308E-2},0]
[null,-1.9755967437380833E-17,4.9178183027429483E-2,5.113834388502796E-4,8.4058803939867852E-2,-0.28433999935383752,4.5801454005629338,2.966988401904965,0.64779349614977288,0.22524322880112327,69.368502837898745,2.3257231220855299E-2,458.33333333333337,0.15366576866258877,1.91841371404184E-2,3.4010899743189146E-2,9.4834691359389794E-2,1.5958723960417906E-2,-8.5674673728918238E-2,2.4593051445837587E-2,1.4396974863465748E-2,{"$f":"MAX(S378*Q398^2+T378*Q398+U378,S379*Q398^2+T379*Q398+U379)","v":1.595872396041767E-2},0]
[null,-2.933792915705527E-18,5.255221950735349E-2,6.16975547125291E-4,0.10141553795347195,-0.3430514430920017,5.2936203280021799,3.4101729099852811,0.64420428717680356,0.27819149746575911,107.10970946941978,3.5910754553116257E-2,458.33333333333337,0.15366576866258877,2.2297956507532204E-2,3.839908092190563E-2,0.1604364833562866,1.6137343000308189E-2,-4.3786215799753211E-2,1.3900135583231442E-2,1.5034305421100687E-2,1.6137343000307999E-2,0]
[null,-3.045304768928077E-16,5.6242100708700393E-2,7.013325433102961E-4,0.11528174413960458,-0.38995571573458637,5.8189636838966585,3.732240070958472,0.64139256982940718,0.32727074152998609,147.20958346173012,4.9355070102864593E-2,458.33333333333337,0.15366576866258877,2.5050365319007579E-2,4.0785557081476236E-2,0.22296004297026192,1.5956815759555567E-2,-7.0157228382313397E-3,-1.9754368953084827E-4,1.6349619975244374E-2,1.5956815759553447E-2,0]
[null,-4.6986058604089906E-6,6.0285666570009291E-2,7.6492796715992928E-4,0.12573526073542501,-0.42531611539274949,6.1907917045378493,3.9577865570035904,0.63930216778292404,0.37321600450414827,187.07992298724255,6.2722429455649167E-2,458.33333333333337,0.15366576866258877,2.7449239125014815E-2,4.1500221377354825E-2,0.28227266529720862,1.5734861026404673E-2,-8.7466084006279352E-2,4.0448610164498196E-2,1.1286434211710973E-2,1.5704521432503612E-2,0]
[null,3.9873607399552771E-15,6.4726330142402158E-2,8.7819863250686097E-4,0.14435415983771632,-0.48829699913815533,6.8053796971027749,4.3257344635091117,0.63563455031769767,0.44048725301907499,243.83882845224019,8.1752031281233317E-2,446.46652189113223,0.14968717367675638,3.0748447865059952E-2,4.4376772522073941E-2,0.37255211062355192,1.4215787599300062E-2,-1.8322757437169431E-2,-4.8281531625351762E-3,1.8557634745498174E-2,1.421578759930003E-2,0]
[null,-3.3798403285957276E-18,6.9614059201644651E-2,7.8513563758028204E-4,0.12905690253470747,-0.43655200720650045,6.3048000198873098,4.026515346080374,0.63864283298113911,0.43890272183896556,242.7599836756377,8.1390326164438614E-2,331.0620223380094,0.11099541848195202,2.8610370568531402E-2,3.6888557529448751E-2,0.4092976295214521,1.3511971415262315E-2,0.13253200424617431,-0.12277390938429397,4.1560677183437859E-2,1.3511971415262246E-2,0]
[null,3.4913521818182811E-21,7.5006560532026839E-2,7.0629923370310133E-4,0.11609814534121071,-0.39271730055684023,5.8487319536551112,3.7503732737751196,0.64122844122329081,0.43869326731743169,239.59091908357632,8.0327831444844774E-2,239.50111626524173,8.0297723184973982E-2,2.6718556843813031E-2,3.0798773700995447E-2,0.43872337557730245,1.320641488207086E-2,7.9233632511327076E-2,-7.7575770615581782E-2,3.1989971842285275E-2,1.320641488207086E-2,0]
[null,-2.5220048245285814E-19,8.0970715199564836E-2,6.2273731719713515E-4,0.10236263061236728,-0.34625510901866613,5.330720041025705,3.4330409651640004,0.64401074127753954,0.43163221425050491,229.02447078312059,7.6785210208212704E-2,162.27240740729769,5.44051946552098E-2,2.4522409045620624E-2,2.5154799312241176E-2,0.45401222980350781,1.3101822519610264E-2,3.038710245733723E-2,-3.3968734037081255E-2,2.2260437750257035E-2,1.3101822519610722E-2,0]
[null,-3.1720770085769263E-17,8.758432627758074E-2,5.8481020354910276E-4,9.6128350094185619E-2,-0.32516683229539156,5.0831078128240055,3.2800736109728024,0.64528901053359766,0.44520057318249751,230.9318844877883,7.7424710265853403E-2,108.78569015740314,3.6472661885514693E-2,2.3545350031374233E-2,2.1838986941476596E-2,0.48615262156283623,1.2928269277498839E-2,1.1367883014206791E-2,-1.6087532416226635E-2,1.8062530170387201E-2,1.2928269277499412E-2,0]
[null,3.2673081312289831E-16,9.4938257676883894E-2,5.6969411472844499E-4,9.3643638525563011E-2,-0.31676196745432122,4.9821507796963438,3.2174795460597996,0.64580131921577477,0.47299671450789949,239.61101827656225,8.0334570116713175E-2,65.691188029422477,2.2024335060872407E-2,2.3151852089894578E-2,1.9626570405384739E-2,0.53130694956374025,1.2724118837411633E-2,-5.293141907106543E-3,8.6438685474201726E-4,1.3759049639065104E-2,1.2724118837411733E-2,0]
[null,3.3625392538810426E-16,0.10313906536129758,5.8629879599352442E-4,9.6373037917305837E-2,-0.32599452115374916,5.0929790145765494,3.2861868979215738,0.64523864883719739,0.52528509546812763,260.87074990004299,8.746233666540229E-2,28.347222974741506,9.5039952171566151E-3,2.3570151255648677E-2,1.8592583970521867E-2,0.60324343691637328,1.2354297000114796E-2,-1.8027180767330991E-2,1.5311795565062453E-2,9.6776955664765116E-3,1.235429700011441E-2,0]
[null,3.4577703765331005E-16,0.11231225223019801,6.0290347725860385E-4,9.9102437309048677E-2,-0.33522707485317721,5.2022372721373893,3.3537676665211245,0.64467795125061578,0.58427498466963179,282.13954885927558,9.459314322671257E-2,-9.0216772532564899,-3.0247046612671656E-3,2.3708845957161235E-2,1.7557577460386942E-2,0.68189283255761146,1.173645972984831E-2,-1.8067845142643136E-2,1.5364054828651594E-2,9.660968382398407E-3,1.1736459729847685E-2,0]
[null,-3.5530014991851589E-17,0.12260631802291558,6.5503817351549953E-4,0.10767209341871008,-0.36421506776379298,5.5353501863504979,3.5588419305724242,0.64292986184471157,0.67866890531589419,320.77347697106592,0.10754596997526557,-48.9523387653215,-1.6412288212809968E-2,2.4378363485346229E-2,1.7474216027512146E-2,0.80262716350396968,1.035308304072855E-2,-1.9943256121878559E-2,1.8148139928160015E-2,8.634545244848529E-3,1.0353083040728831E-2,0]
[null,2.9903546080632929E-20,0.13419782954979564,7.6828651346512759E-4,0.1262873227772196,-0.42718353811648285,6.209875691398449,3.9693055113048223,0.63919242647688879,0.83335183955970848,391.96748376935693,0.13141523931089238,-100.68981850902709,-3.3758352780406259E-2,2.5568821888316572E-2,1.8724992766735494E-2,0.99852543165100716,6.8714404032500266E-3,-2.0162981552607553E-2,1.8543898957939089E-2,8.4584476969667352E-3,6.8714404032500266E-3,0]
[null,6.5243225261098806E-15,0.14729780979304705,8.5562967400723978E-4,0.14064438061234311,-0.47574818124990553,6.687578632804553,4.2557076587245382,0.63636001793669117,0.98506568543089068,453.01421800642146,0.15188242478190175,-157.47234887029686,-5.2795875343107285E-2,2.4584514987003307E-2,1.8999120158750871E-2,1.1897439855558998,1.9804260472756074E-3,-2.0250404605414444E-2,1.8735204150755264E-2,8.3545900170949663E-3,{"$f":"S392*Q412^2+T392*Q412+U392","v":1.9804260472732933E-3},0]
[null,0,{"$f":"C393","v":0.16215984472146291},{"$f":"D393+(D412-D392)","v":8.771747358677259E-4},0.14418585652496679,-0.48772769096821417,6.746369160553674,4.3199169276257292,0.64033212900421743,1.09399017550905,458.33333333333337,0.15366576866258877,-205.07395718364077,-6.8755303119933761E-2,2.1215589851197116E-2,1.769239943589504E-2,1.3164112472915726,-2.0748837577901878E-3,null,null,null,null,7.4986780743096546E-2]
[null,"De","hc","e0","a'","b'","N'","tN'","t","Nc","sac","Nac","sat","Nat","Mtot","u","N","Mo","a''","b''","c''",null,"x"]
[null,null,{"$f":"$C$35","v":4.1544915655417694E-2},{"$f":"$D$35","v":3.8256566053946229E-4},{"$f":"$E$35","v":6.28843435479884E-2},{"$f":"$F$35","v":-0.21271459223465167},{"$f":"IF($C$2=1,0.5*($O$31*D415*$F$6/$O$30)*(1-W415^2+(E415-F415)*(F415^2*(1-W415^2)+2*F415*(1-W415)+2*LN((1-F415)/(1-F415*W415)))/(F415^3)),$F$6*F415*(LN((1-E415+E415^2)/(1+E415)^2)/(6*E415)+ATAN((2-E415)/(E415*3^0.5))/(E415*3^0.5)-LN((W415^2-E415*W415+E415^2)/(W415+E415)^2)/(6*E415)-ATAN((2*W415-E415)/(E415*3^0.5))/(E415*3^0.5)))","v":3.6164179713546631},{"$f":"IF($C$2=1,($O$31*D415*$F$6/$O$30)*(1-W415^3-(E415-F415)*(-2*F415^3*(1-W415^3)-3*F415^2*(1-W415^2)-6*F415*(1-W415)-6*LN((1-F415)/(1-F415*W415)))/(2*F415^4))/3,$F$6*F415*(LN((1+E415^3)/(E415^3+W415^3)))/3)","v":2.3589615237756383},{"$f":"$I$35","v":0.65229227994683425},{"$f":"$J$35","v":0.15024377959466625},{"$f":"$K$35","v":10.340089653207192},{"$f":"$L$35","v":3.4667297991276304E-3},{"$f":"$M$35","v":458.16851350986366},{"$f":"$N$35","v":0.15361050939379392},{"$f":"$O$35","v":1.4595642140814678E-2},{"$f":"$P$35","v":3.011841020334027E-2},{"$f":"$Q$35","v":9.9999999999961231E-5},{"$f":"$R$35","v":1.4592630299794346E-2},null,null,null,null,{"$f":"IF(C415<$C$6,0,(C415-$C$6)/C415)","v":0}]
[null,{"$f":"IF(R396>$Q$29*V396,B396,IF(Q396>Q395,$U$6,-0.5)*B396)","v":4.0714933842728499E-23},{"$f":"IF(Q396>Q395,C396,(1-$T$6)*C396+$T$6*C397)","v":4.4336691510533544E-2},{"$f":"D396+B416","v":4.2836253051247033E-4},{"$f":"IF($C$2=1,D416/($O$31*$O$30),2^(1/3)*$O$30/D416)","v":7.0412217588601944E-2},{"$f":"IF($C$2=1,-($O$31-2)*D416/$O$30,3*($O$30/D416)^2)","v":-0.23817861979058777},{"$f":"IF($C$2=1,0.5*($O$31*D416*$F$6/$O$30)*(1-W416^2+(E416-F416)*(F416^2*(1-W416^2)+2*F416*(1-W416)+2*LN((1-F416)/(1-F416*W416)))/(F416^3)),$F$6*F416*(LN((1-E416+E416^2)/(1+E416)^2)/(6*E416)+ATAN((2-E416)/(E416*3^0.5))/(E416*3^0.5)-LN((W416^2-E416*W416+E416^2)/(W416+E416)^2)/(6*E416)-ATAN((2*W416-E416)/(E416*3^0.5))/(E416*3^0.5)))","v":3.9715403169798402},{"$f":"IF($C$2=1,($O$31*D416*$F$6/$O$30)*(1-W416^3-(E416-F416)*(-2*F416^3*(1-W416^3)-3*F416^2*(1-W416^2)-6*F416*(1-W416)-6*LN((1-F416)/(1-F416*W416)))/(2*F416^4))/3,$F$6*F416*(LN((1+E416^3)/(E416^3+W416^3)))/3)","v":2.584188132605246},{"$f":"H416/G416","v":0.65067654520762697},{"$f":"G416*C416*$D$6","v":0.17608495785558179},{"$f":"MAX(MIN($K$6,$Q$6*$J$6*D416*(C416-$I$6)/C416),-$K$6)","v":30.453565718108756},{"$f":"K416*$H$6","v":1.021019036637784E-2},{"$f":"MIN($O$6,$Q$6*$N$6*D416*(C$6-C416-$M$6)/C416)","v":458.33333333333337},{"$f":"M416*$L$6","v":0.15366576866258877},{"$f":"(0.5*$C$6-C416+I416*C416)*J416+(0.5*$C$6-$I$6)*L416+(0.5*$C$6-$M$6)*N416","v":1.6214853650533177E-2},{"$f":"0.1*$Q$6*D416*$B$6^2/C416+$R$6","v":3.1600367560991036E-2},{"$f":"(J416+L416-N416)","v":3.2629379559370869E-2},{"$f":"O416-P416*Q416","v":1.518375326316997E-2},{"$f":"((R416-R415)*(Q416-Q417)-(R416-R417)*(Q416-Q415))/((Q416^2-Q415^2)*(Q416-Q417)-(Q416^2-Q417^2)*(Q416-Q415))","v":-6.4831158545317541E-2},{"$f":"-(S416*(Q416^2-Q415^2)-(R416-R415))/(Q416-Q415)","v":2.0293855252393835E-2},{"$f":"R416-S416*Q416^2-T416*Q416","v":1.4590601562580692E-2},{"$f":"S396*Q416^2+T396*Q416+U396","v":1.5183753263169968E-2},{"$f":"IF(C416<$C$6,0,(C416-$C$6)/C416)","v":0}]
[null,{"$f":"IF(R397>$Q$29*V397,B397,IF(Q397>Q396,$U$6,-0.5)*B397)","v":9.0223179613231535E-23},{"$f":"IF(Q397>Q396,C397,(1-$T$6)*C397+$T$6*C398)","v":4.686581864712229E-2},{"$f":"D397+B417","v":4.7696328395726634E-4},7.8400980803794859E-2,-0.26520166581288029,4.3331467008444271,2.8121337206210515,0.6489818865521062,0.20307646745315119,50.786992561801682,1.702739400015367E-2,458.33333333333337,0.15366576866258877,1.7864235302051154E-2,{"$f":"0.1*$Q$6*D417*$B$6^2/C417+$R$6","v":3.3286848702870631E-2},6.643809279071608E-2,1.5652720559219308E-2,-4.9756811336427842E-2,1.8800477777081544E-2,1.4623280241172145E-2,{"$f":"MAX(S397*Q417^2+T397*Q417+U397,S398*Q417^2+T398*Q417+U398)","v":1.5652720559219308E-2},0]
[null,1.9755967437380835E-18,4.9178183027429483E-2,5.1138343885028155E-4,8.4058803939868171E-2,-0.28433999935383863,4.5801454005629445,2.9669884019049864,0.6477934961497761,0.2252432288011238,69.368502837899001,2.3257231220855386E-2,458.33333333333337,0.15366576866258877,1.9184137140418472E-2,3.4010899743189271E-2,9.4834691359390405E-2,1.5958723960417948E-2,-8.5674673728937112E-2,2.459305144584192E-2,1.4396974863465544E-2,{"$f":"MAX(S398*Q418^2+T398*Q418+U398,S399*Q418^2+T399*Q418+U399)","v":1.5958723960417913E-2},0]
[null,2.933792915705527E-19,5.255221950735349E-2,6.1697554712529133E-4,0.10141553795347201,-0.34305144309200192,5.2936203280021852,3.4101729099852851,0.64420428717680367,0.27819149746575944,107.10970946941983,3.5910754553116271E-2,458.33333333333337,0.15366576866258877,2.2297956507532225E-2,3.8399080921905651E-2,0.16043648335628694,1.6137343000308193E-2,-4.3786215799778365E-2,1.3900135583237334E-2,1.5034305421100392E-2,1.6137343000308189E-2,0]
[null,3.0453047689280771E-17,5.6242100708700393E-2,7.0133254331032656E-4,0.11528174413960959,-0.3899557157346033,5.818963683896845,3.7322400709585781,0.64139256982940485,0.32727074152999658,147.20958346173651,4.9355070102866737E-2,458.33333333333337,0.15366576866258877,2.5050365319008186E-2,4.0785557081478012E-2,0.22296004297027452,1.5956815759555265E-2,-9.0710426232547287E-3,5.9045877653314863E-4,1.6276099284905393E-2,1.5956815759555588E-2,0]
[null,-4.6986058604089906E-6,6.0285666570009291E-2,7.6022936129952032E-4,0.12496292600808459,-0.42270359123608869,6.1640018016496159,3.9416067236202341,0.63945580330060536,0.37160095735118531,185.93077579920555,6.233715399538118E-2,455.66284701949115,0.15277043266523715,2.7321850016641874E-2,4.1245304324059075E-2,0.28116767868132936,1.5725003543341186E-2,-8.3777952673704928E-2,3.8252283131897914E-2,1.159278601793094E-2,1.5751603710586062E-2,0]
[null,-3.9873607399552774E-16,6.4726330142402158E-2,8.781986325064622E-4,0.14435415983765076,-0.48829699913793356,6.8053796971007197,4.3257344635078825,0.63563455031770899,0.44048725301894198,243.83882845212946,8.1752031281196194E-2,446.46652189092953,0.14968717367668841,3.0748447865049759E-2,4.4376772522053791E-2,0.37255211062344984,1.4215787599301907E-2,-2.0594512429641321E-2,-3.0519821120024546E-3,1.8211226876650957E-2,1.4215787599302507E-2,0]
[null,3.3798403285957279E-19,6.9614059201644651E-2,7.8513563758028236E-4,0.12905690253470753,-0.43655200720650061,6.3048000198873266,4.0265153460803367,0.63864283298113156,0.43890272183896673,242.75998367563778,8.1390326164438642E-2,331.06202233800951,0.11099541848195205,2.8610370568531229E-2,3.6888557529448765E-2,0.40929762952145332,1.3511971415262091E-2,0.13253200424611641,-0.12277390938423785,4.1560677183424377E-2,1.3511971415262298E-2,0]
[null,-3.4913521818182815E-22,7.5006560532026839E-2,7.0629923370310133E-4,0.11609814534121071,-0.39271730055684023,5.8487319536551112,3.7503732737751196,0.64122844122329081,0.43869326731743169,239.59091908357632,8.0327831444844774E-2,239.50111626524173,8.0297723184973982E-2,2.6718556843813031E-2,3.0798773700995447E-2,0.43872337557730245,1.320641488207086E-2,7.9233632511168717E-2,-7.7575770615440409E-2,3.1989971842253738E-2,1.320641488207086E-2,0]
[null,2.5220048245285815E-20,8.0970715199564836E-2,6.2273731719713515E-4,0.10236263061236728,-0.34625510901866613,5.330720041025705,3.4330409651640004,0.64401074127753954,0.43163221425050491,229.02447078312059,7.6785210208212704E-2,162.27240740729769,5.44051946552098E-2,2.4522409045620624E-2,2.5154799312241176E-2,0.45401222980350781,1.3101822519610264E-2,3.0387102457551413E-2,-3.396873403727247E-2,2.2260437750299698E-2,1.3101822519610264E-2,0]
[null,3.1720770085769263E-18,8.758432627758074E-2,5.8481020354910591E-4,9.6128350094186132E-2,-0.32516683229539334,5.0831078128240215,3.2800736109728557,0.6452890105336061,0.44520057318249889,230.93188448778955,7.7424710265853819E-2,108.78569015740372,3.6472661885514887E-2,2.3545350031374642E-2,2.183898694147671E-2,0.48615262156283778,1.2928269277499158E-2,1.1367883013926326E-2,-1.6087532415952774E-2,1.8062530170320674E-2,1.2928269277498832E-2,0]
[null,-3.2673081312289834E-17,9.4938257676883894E-2,5.6969411472841236E-4,9.3643638525557654E-2,-0.31676196745430302,4.9821507796961244,3.2174795460596468,0.64580131921577255,0.47299671450787867,239.61101827654852,8.0334570116708567E-2,65.691188029418711,2.2024335060871144E-2,2.3151852089893413E-2,1.9626570405383612E-2,0.53130694956371616,1.2724118837411537E-2,-5.293141906939137E-3,8.6438685455982208E-4,1.3759049639114439E-2,1.2724118837411747E-2,0]
[null,-3.3625392538810429E-17,0.10313906536129758,5.8629879599349081E-4,9.6373037917300314E-2,-0.32599452115373045,5.0929790145763265,3.286186897921469,0.64523864883720505,0.52528509546810465,260.87074990002804,8.7462336665397281E-2,28.347222974739882,9.5039952171560721E-3,2.3570151255648021E-2,1.8592583970520802E-2,0.60324343691634585,1.2354297000115293E-2,-1.8027180767282058E-2,1.5311795565014016E-2,9.6776955664882487E-3,1.2354297000114972E-2,0]
[null,-3.4577703765331006E-17,0.11231225223019801,6.0290347725856926E-4,9.9102437309042987E-2,-0.33522707485315795,5.2022372721371362,3.3537676665210938,0.64467795125064131,0.58427498466960326,282.13954885925938,9.4593143226707144E-2,-9.021677253255973,-3.0247046612669921E-3,2.3708845957161724E-2,1.7557577460385932E-2,0.68189283255757749,1.1736459729850083E-2,-1.8067845142766392E-2,1.5364054828824436E-2,9.6609683823393171E-3,1.1736459729848624E-2,0]
[null,3.5530014991851594E-18,0.12260631802291558,6.5503817351550311E-4,0.10767209341871066,-0.36421506776379498,5.5353501863505157,3.5588419305724508,0.64292986184471435,0.6786689053158963,320.77347697106768,0.10754596997526616,-48.952338765321763,-1.6412288212810055E-2,2.4378363485346548E-2,1.747421602751224E-2,0.80262716350397245,1.0353083040728746E-2,-1.9943256121850144E-2,1.8148139928107637E-2,8.6345452448724977E-3,1.035308304072851E-2,0]
[null,-2.9903546080632929E-21,0.13419782954979564,7.6828651346512759E-4,0.1262873227772196,-0.42718353811648285,6.209875691398449,3.9693055113048223,0.63919242647688879,0.83335183955970848,391.96748376935693,0.13141523931089238,-100.68981850902709,-3.3758352780406259E-2,2.5568821888316572E-2,1.8724992766735494E-2,0.99852543165100716,6.8714404032500266E-3,-2.0162981552609951E-2,1.8543898957942211E-2,8.4584476969660101E-3,6.8714404032500266E-3,0]
[null,-6.5243225261098812E-16,0.14729780979304705,8.5562967400658731E-4,0.14064438061223586,-0.47574818124954271,6.6875786328011131,4.2557076587224776,0.63636001793671038,0.98506568543038397,453.01421800607608,0.15188242478178596,-157.4723488701768,-5.2795875343067032E-2,2.4584514986992576E-2,1.8999120158736383E-2,1.189743985555237,1.9804260472947068E-3,-2.0250404605296507E-2,1.8735204150495011E-2,8.3545900172372484E-3,{"$f":"S412*Q432^2+T412*Q432+U412","v":1.9804260472951231E-3},0]
[null,0,{"$f":"C413","v":0.16215984472146291},{"$f":"D413+(D432-D412)","v":8.7717473586707343E-4},0.14418585652485955,-0.48772769096785135,6.7463691605503291,4.3199169276237397,0.64033212900423997,1.0939901755085075,458.33333333333337,0.15366576866258877,-205.07395718348823,-6.8755303119882621E-2,2.1215589851193869E-2,1.769239943588188E-2,1.316411247290979,-2.0748837577656103E-3,null,null,null,null,7.4986780743096546E-2]
[null,"De","hc","e0","a'","b'","N'","tN'","t","Nc","sac","Nac","sat","Nat","Mtot","u","N","Mo","a''","b''","c''",null,"x"]
[null,null,{"$f":"$C$35","v":4.1544915655417694E-2},{"$f":"$D$35","v":3.8256566053946229E-4},{"$f":"$E$35","v":6.28843435479884E-2},{"$f":"$F$35","v":-0.21271459223465167},{"$f":"IF($C$2=1,0.5*($O$31*D435*$F$6/$O$30)*(1-W435^2+(E435-F435)*(F435^2*(1-W435^2)+2*F435*(1-W435)+2*LN((1-F435)/(1-F435*W435)))/(F435^3)),$F$6*F435*(LN((1-E435+E435^2)/(1+E435)^2)/(6*E435)+ATAN((2-E435)/(E435*3^0.5))/(E435*3^0.5)-LN((W435^2-E435*W435+E435^2)/(W435+E435)^2)/(6*E435)-ATAN((2*W435-E435)/(E435*3^0.5))/(E435*3^0.5)))","v":3.6164179713546631},{"$f":"IF($C$2=1,($O$31*D435*$F$6/$O$30)*(1-W435^3-(E435-F435)*(-2*F435^3*(1-W435^3)-3*F435^2*(1-W435^2)-6*F435*(1-W435)-6*LN((1-F435)/(1-F435*W435)))/(2*F435^4))/3,$F$6*F435*(LN((1+E435^3)/(E435^3+W435^3)))/3)","v":2.3589615237756383},{"$f":"$I$35","v":0.65229227994683425},{"$f":"$J$35","v":0.15024377959466625},{"$f":"$K$35","v":10.340089653207192},{"$f":"$L$35","v":3.4667297991276304E-3},{"$f":"$M$35","v":458.16851350986366},{"$f":"$N$35","v":0.15361050939379392},{"$f":"$O$35","v":1.4595642140814678E-2},{"$f":"$P$35","v":3.011841020334027E-2},{"$f":"$Q$35","v":9.9999999999961231E-5},{"$f":"$R$35","v":1.4592630299794346E-2},null,null,null,null,{"$f":"IF(C435<$C$6,0,(C435-$C$6)/C435)","v":0}]
[null,{"$f":"IF(R416>$Q$29*V416,B416,IF(Q416>Q415,$U$6,-0.5)*B416)","v":-4.0714933842728502E-24},{"$f":"IF(Q416>Q415,C416,(1-$T$6)*C416+$T$6*C417)","v":4.4336691510533544E-2},{"$f":"D416+B436","v":4.2836253051247033E-4},{"$f":"IF($C$2=1,D436/($O$31*$O$30),2^(1/3)*$O$30/D436)","v":7.0412217588601944E-2},{"$f":"IF($C$2=1,-($O$31-2)*D436/$O$30,3*($O$30/D436)^2)","v":-0.23817861979058777},{"$f":"IF($C$2=1,0.5*($O$31*D436*$F$6/$O$30)*(1-W436^2+(E436-F436)*(F436^2*(1-W436^2)+2*F436*(1-W436)+2*LN((1-F436)/(1-F436*W436)))/(F436^3)),$F$6*F436*(LN((1-E436+E436^2)/(1+E436)^2)/(6*E436)+ATAN((2-E436)/(E436*3^0.5))/(E436*3^0.5)-LN((W436^2-E436*W436+E436^2)/(W436+E436)^2)/(6*E436)-ATAN((2*W436-E436)/(E436*3^0.5))/(E436*3^0.5)))","v":3.9715403169798402},{"$f":"IF($C$2=1,($O$31*D436*$F$6/$O$30)*(1-W436^3-(E436-F436)*(-2*F436^3*(1-W436^3)-3*F436^2*(1-W436^2)-6*F436*(1-W436)-6*LN((1-F436)/(1-F436*W436)))/(2*F436^4))/3,$F$6*F436*(LN((1+E436^3)/(E436^3+W436^3)))/3)","v":2.584188132605246},{"$f":"H436/G436","v":0.65067654520762697},{"$f":"G436*C436*$D$6","v":0.17608495785558179},{"$f":"MAX(MIN($K$6,$Q$6*$J$6*D436*(C436-$I$6)/C436),-$K$6)","v":30.453565718108756},{"$f":"K436*$H$6","v":1.021019036637784E-2},{"$f":"MIN($O$6,$Q$6*$N$6*D436*(C$6-C436-$M$6)/C436)","v":458.33333333333337},{"$f":"M436*$L$6","v":0.15366576866258877},{"$f":"(0.5*$C$6-C436+I436*C436)*J436+(0.5*$C$6-$I$6)*L436+(0.5*$C$6-$M$6)*N436","v":1.6214853650533177E-2},{"$f":"0.1*$Q$6*D436*$B$6^2/C436+$R$6","v":3.1600367560991036E-2},{"$f":"(J436+L436-N436)","v":3.2629379559370869E-2},{"$f":"O436-P436*Q436","v":1.518375326316997E-2},{"$f":"((R436-R435)*(Q436-Q437)-(R436-R437)*(Q436-Q435))/((Q436^2-Q435^2)*(Q436-Q437)-(Q436^2-Q437^2)*(Q436-Q435))","v":-6.4831158545317541E-2},{"$f":"-(S436*(Q436^2-Q435^2)-(R436-R435))/(Q436-Q435)","v":2.0293855252393835E-2},{"$f":"R436-S436*Q436^2-T436*Q436","v":1.4590601562580692E-2},{"$f":"S416*Q436^2+T416*Q436+U416","v":1.5183753263169968E-2},{"$f":"IF(C436<$C$6,0,(C436-$C$6)/C436)","v":0}]
[null,{"$f":"IF(R417>$Q$29*V417,B417,IF(Q417>Q416,$U$6,-0.5)*B417)","v":-9.0223179613231541E-24},{"$f":"IF(Q417>Q416,C417,(1-$T$6)*C417+$T$6*C418)","v":4.686581864712229E-2},{"$f":"D417+B437","v":4.7696328395726634E-4},7.8400980803794859E-2,-0.26520166581288029,4.3331467008444271,2.8121337206210515,0.6489818865521062,0.20307646745315119,50.786992561801682,1.702739400015367E-2,458.33333333333337,0.15366576866258877,1.7864235302051154E-2,{"$f":"0.1*$Q$6*D437*$B$6^2/C437+$R$6","v":3.3286848702870631E-2},6.643809279071608E-2,1.5652720559219308E-2,-4.9756811336570519E-2,1.8800477777095675E-2,1.4623280241171833E-2,{"$f":"MAX(S417*Q437^2+T417*Q437+U417,S418*Q437^2+T418*Q437+U418)","v":1.5652720559219308E-2},0]
[null,-1.9755967437380836E-19,4.9178183027429483E-2,5.1138343885028133E-4,8.4058803939868143E-2,-0.28433999935383852,4.5801454005629569,2.9669884019048882,0.6477934961497529,0.22524322880112441,69.368502837898973,2.3257231220855375E-2,458.33333333333337,0.15366576866258877,1.9184137140418247E-2,3.4010899743189257E-2,9.4834691359391016E-2,1.5958723960417701E-2,-8.5674673728802192E-2,2.4593051445811309E-2,1.4396974863466982E-2,{"$f":"MAX(S418*Q438^2+T418*Q438+U418,S419*Q438^2+T419*Q438+U419)","v":1.5958723960417955E-2},0]
[null,-2.9337929157055271E-20,5.255221950735349E-2,6.1697554712529133E-4,0.10141553795347201,-0.34305144309200192,5.2936203280021852,3.4101729099852851,0.64420428717680367,0.27819149746575944,107.10970946941983,3.5910754553116271E-2,458.33333333333337,0.15366576866258877,2.2297956507532225E-2,3.8399080921905651E-2,0.16043648335628694,1.6137343000308193E-2,-4.3786215799782799E-2,1.3900135583242271E-2,1.5034305421099714E-2,1.6137343000308193E-2,0]
[null,-3.0453047689280771E-18,5.6242100708700393E-2,7.0133254331032353E-4,0.11528174413960909,-0.38995571573460158,5.8189636838968095,3.732240070958619,0.64139256982941584,0.32727074152999458,147.20958346173586,4.9355070102866515E-2,458.33333333333337,0.15366576866258877,2.5050365319008273E-2,4.0785557081477831E-2,0.2229600429702723,1.595681575955548E-2,-8.8061918975229549E-3,4.8891592829583531E-4,1.6285573240410297E-2,1.5956815759555276E-2,0]
[null,4.698605860408991E-7,6.0285666570009291E-2,7.6069922188556124E-4,0.12504015948081865,-0.4229648436517548,6.1666856002697852,3.943228117136929,0.63944043409062679,0.37176275193994185,186.04569051800925,6.2375681541407976E-2,455.9444699391475,0.15286485259779423,2.7334776608243936E-2,4.1270796029388657E-2,0.28127358088355559,1.5726392023142959E-2,-8.4215245204489475E-2,3.851269614865406E-2,1.1556462648568586E-2,1.5724064413827558E-2,0]
[null,3.9873607399552774E-17,6.4726330142402158E-2,8.781986325065021E-4,0.14435415983765731,-0.48829699913795582,6.8053796971009319,4.3257344635079802,0.63563455031770355,0.44048725301895569,243.83882845214055,8.1752031281199913E-2,446.46652189094982,0.14968717367669521,3.0748447865050675E-2,4.4376772522055817E-2,0.37255211062346044,1.4215787599301595E-2,-2.0343064827512247E-2,-3.2485763543839462E-3,1.8249568787757724E-2,1.4215787599301711E-2,0]
[null,-3.3798403285957281E-20,6.9614059201644651E-2,7.8513563758028236E-4,0.12905690253470753,-0.43655200720650061,6.3048000198873266,4.0265153460803367,0.63864283298113156,0.43890272183896673,242.75998367563778,8.1390326164438642E-2,331.06202233800951,0.11099541848195205,2.8610370568531229E-2,3.6888557529448765E-2,0.40929762952145332,1.3511971415262091E-2,0.13253200424609213,-0.12277390938421728,4.1560677183420033E-2,1.3511971415262093E-2,0]
[null,3.4913521818182817E-23,7.5006560532026839E-2,7.0629923370310133E-4,0.11609814534121071,-0.39271730055684023,5.8487319536551112,3.7503732737751196,0.64122844122329081,0.43869326731743169,239.59091908357632,8.0327831444844774E-2,239.50111626524173,8.0297723184973982E-2,2.6718556843813031E-2,3.0798773700995447E-2,0.43872337557730245,1.320641488207086E-2,7.9233632511168717E-2,-7.7575770615440409E-2,3.1989971842253738E-2,1.320641488207086E-2,0]
[null,-2.5220048245285816E-21,8.0970715199564836E-2,6.2273731719713515E-4,0.10236263061236728,-0.34625510901866613,5.330720041025705,3.4330409651640004,0.64401074127753954,0.43163221425050491,229.02447078312059,7.6785210208212704E-2,162.27240740729769,5.44051946552098E-2,2.4522409045620624E-2,2.5154799312241176E-2,0.45401222980350781,1.3101822519610264E-2,3.0387102457549484E-2,-3.3968734037270736E-2,2.226043775029931E-2,1.3101822519610264E-2,0]
[null,-3.1720770085769267E-19,8.758432627758074E-2,5.8481020354910558E-4,9.6128350094186091E-2,-0.32516683229539312,5.0831078128240179,3.2800736109728525,0.64528901053360599,0.44520057318249862,230.93188448778943,7.7424710265853777E-2,108.78569015740366,3.6472661885514873E-2,2.3545350031374628E-2,2.18389869414767E-2,0.48615262156283745,1.2928269277499157E-2,1.1367883013885586E-2,-1.6087532415914575E-2,1.806253017031173E-2,1.292826927749916E-2,0]
[null,3.2673081312289836E-18,9.4938257676883894E-2,5.6969411472841561E-4,9.3643638525558182E-2,-0.31676196745430485,4.9821507796961511,3.217479546059645,0.64580131921576867,0.47299671450788117,239.61101827654991,8.0334570116709039E-2,65.691188029419095,2.2024335060871272E-2,2.3151852089893364E-2,1.9626570405383723E-2,0.53130694956371893,1.2724118837411376E-2,-5.2931419069583768E-3,8.6438685457618789E-4,1.3759049639111027E-2,1.2724118837411529E-2,0]
[null,3.3625392538810432E-18,0.10313906536129758,5.8629879599349417E-4,9.6373037917300869E-2,-0.32599452115373234,5.0929790145763549,3.2861868979214339,0.64523864883719462,0.52528509546810764,260.87074990002958,8.7462336665397794E-2,28.347222974740045,9.5039952171561259E-3,2.3570151255647591E-2,1.8592583970520909E-2,0.6032434369163493,1.2354297000114733E-2,-1.8027180767294551E-2,1.5311795565022806E-2,9.6776955664869529E-3,1.2354297000115273E-2,0]
[null,3.4577703765331009E-18,0.11231225223019801,6.0290347725857273E-4,9.9102437309043556E-2,-0.33522707485315989,5.2022372721371841,3.3537676665210299,0.6446779512506231,0.5842749846696087,282.13954885926103,9.4593143226707685E-2,-9.0216772532560263,-3.0247046612670099E-3,2.3708845957160732E-2,1.7557577460386033E-2,0.68189283255758337,1.1736459729848919E-2,-1.8067845142704514E-2,1.5364054828737655E-2,9.6609683823686097E-3,1.1736459729850029E-2,0]
[null,-3.5530014991851597E-19,0.12260631802291558,6.5503817351550279E-4,0.1076720934187106,-0.36421506776379481,5.5353501863505192,3.5588419305724188,0.64292986184470813,0.67866890531589674,320.77347697106751,0.10754596997526611,-48.952338765321734,-1.6412288212810048E-2,2.4378363485346045E-2,1.7474216027512229E-2,0.8026271635039729,1.0353083040728243E-2,-1.9943256121858217E-2,1.8148139928124713E-2,8.6345452448634997E-3,1.0353083040728739E-2,0]
[null,2.9903546080632931E-22,0.13419782954979564,7.6828651346512759E-4,0.1262873227772196,-0.42718353811648285,6.209875691398449,3.9693055113048223,0.63919242647688879,0.83335183955970848,391.96748376935693,0.13141523931089238,-100.68981850902709,-3.3758352780406259E-2,2.5568821888316572E-2,1.8724992766735494E-2,0.99852543165100716,6.8714404032500266E-3,-2.0162981552611467E-2,1.8543898957947471E-2,8.45844769696227E-3,6.8714404032500266E-3,0]
[null,6.5243225261098809E-17,0.14729780979304705,8.5562967400665258E-4,0.1406443806122466,-0.47574818124957907,6.6875786328014533,4.2557076587226979,0.63636001793671093,0.98506568543043405,453.01421800611058,0.15188242478179753,-157.4723488701888,-5.279587534307105E-2,2.4584514986993995E-2,1.8999120158737837E-2,1.1897439855553027,1.9804260472931455E-3,-2.0250404605331965E-2,1.8735204150574548E-2,8.3545900171931829E-3,{"$f":"S432*Q452^2+T432*Q452+U432","v":1.9804260472927708E-3},0]
[null,0,{"$f":"C433","v":0.16215984472146291},{"$f":"D433+(D452-D432)","v":8.771747358671387E-4},0.14418585652487026,-0.48772769096788771,6.746369160550671,4.3199169276239271,0.64033212900423531,1.093990175508563,458.33333333333337,0.15366576866258877,-205.0739571835035,-6.8755303119887728E-2,2.1215589851193779E-2,1.7692399435883199E-2,1.3164112472910396,-2.0748837577685107E-3,null,null,null,null,7.4986780743096546E-2]
[null,"De","hc","e0","a'","b'","N'","tN'","t","Nc","sac","Nac","sat","Nat","Mtot","u","N","Mo","a''","b''","c''",null,"x"]
[null,null,{"$f":"$C$35","v":4.1544915655417694E-2},{"$f":"$D$35","v":3.8256566053946229E-4},{"$f":"$E$35","v":6.28843435479884E-2},{"$f":"$F$35","v":-0.21271459223465167},{"$f":"IF($C$2=1,0.5*($O$31*D455*$F$6/$O$30)*(1-W455^2+(E455-F455)*(F455^2*(1-W455^2)+2*F455*(1-W455)+2*LN((1-F455)/(1-F455*W455)))/(F455^3)),$F$6*F455*(LN((1-E455+E455^2)/(1+E455)^2)/(6*E455)+ATAN((2-E455)/(E455*3^0.5))/(E455*3^0.5)-LN((W455^2-E455*W455+E455^2)/(W455+E455)^2)/(6*E455)-ATAN((2*W455-E455)/(E455*3^0.5))/(E455*3^0.5)))","v":3.6164179713546631},{"$f":"IF($C$2=1,($O$31*D455*$F$6/$O$30)*(1-W455^3-(E455-F455)*(-2*F455^3*(1-W455^3)-3*F455^2*(1-W455^2)-6*F455*(1-W455)-6*LN((1-F455)/(1-F455*W455)))/(2*F455^4))/3,$F$6*F455*(LN((1+E455^3)/(E455^3+W455^3)))/3)","v":2.3589615237756383},{"$f":"$I$35","v":0.65229227994683425},{"$f":"$J$35","v":0.15024377959466625},{"$f":"$K$35","v":10.340089653207192},{"$f":"$L$35","v":3.4667297991276304E-3},{"$f":"$M$35","v":458.16851350986366},{"$f":"$N$35","v":0.15361050939379392},{"$f":"$O$35","v":1.4595642140814678E-2},{"$f":"$P$35","v":3.011841020334027E-2},{"$f":"$Q$35","v":9.9999999999961231E-5},{"$f":"$R$35","v":1.4592630299794346E-2},null,null,null,null,{"$f":"IF(C455<$C$6,0,(C455-$C$6)/C455)","v":0}]
[null,{"$f":"IF(R436>$Q$29*V436,B436,IF(Q436>Q435,$U$6,-0.5)*B436)","v":4.0714933842728502E-25},{"$f":"IF(Q436>Q435,C436,(1-$T$6)*C436+$T$6*C437)","v":4.4336691510533544E-2},{"$f":"D436+B456","v":4.2836253051247033E-4},{"$f":"IF($C$2=1,D456/($O$31*$O$30),2^(1/3)*$O$30/D456)","v":7.0412217588601944E-2},{"$f":"IF($C$2=1,-($O$31-2)*D456/$O$30,3*($O$30/D456)^2)","v":-0.23817861979058777},{"$f":"IF($C$2=1,0.5*($O$31*D456*$F$6/$O$30)*(1-W456^2+(E456-F456)*(F456^2*(1-W456^2)+2*F456*(1-W456)+2*LN((1-F456)/(1-F456*W456)))/(F456^3)),$F$6*F456*(LN((1-E456+E456^2)/(1+E456)^2)/(6*E456)+ATAN((2-E456)/(E456*3^0.5))/(E456*3^0.5)-LN((W456^2-E456*W456+E456^2)/(W456+E456)^2)/(6*E456)-ATAN((2*W456-E456)/(E456*3^0.5))/(E456*3^0.5)))","v":3.9715403169798402},{"$f":"IF($C$2=1,($O$31*D456*$F$6/$O$30)*(1-W456^3-(E456-F456)*(-2*F456^3*(1-W456^3)-3*F456^2*(1-W456^2)-6*F456*(1-W456)-6*LN((1-F456)/(1-F456*W456)))/(2*F456^4))/3,$F$6*F456*(LN((1+E456^3)/(E456^3+W456^3)))/3)","v":2.584188132605246},{"$f":"H456/G456","v":0.65067654520762697},{"$f":"G456*C456*$D$6","v":0.17608495785558179},{"$f":"MAX(MIN($K$6,$Q$6*$J$6*D456*(C456-$I$6)/C456),-$K$6)","v":30.453565718108756},{"$f":"K456*$H$6","v":1.021019036637784E-2},{"$f":"MIN($O$6,$Q$6*$N$6*D456*(C$6-C456-$M$6)/C456)","v":458.33333333333337},{"$f":"M456*$L$6","v":0.15366576866258877},{"$f":"(0.5*$C$6-C456+I456*C456)*J456+(0.5*$C$6-$I$6)*L456+(0.5*$C$6-$M$6)*N456","v":1.6214853650533177E-2},{"$f":"0.1*$Q$6*D456*$B$6^2/C456+$R$6","v":3.1600367560991036E-2},{"$f":"(J456+L456-N456)","v":3.2629379559370869E-2},{"$f":"O456-P456*Q456","v":1.518375326316997E-2},{"$f":"((R456-R455)*(Q456-Q457)-(R456-R457)*(Q456-Q455))/((Q456^2-Q455^2)*(Q456-Q457)-(Q456^2-Q457^2)*(Q456-Q455))","v":-6.4831158545317541E-2},{"$f":"-(S456*(Q456^2-Q455^2)-(R456-R455))/(Q456-Q455)","v":2.0293855252393835E-2},{"$f":"R456-S456*Q456^2-T456*Q456","v":1.4590601562580692E-2},{"$f":"S436*Q456^2+T436*Q456+U436","v":1.5183753263169968E-2},{"$f":"IF(C456<$C$6,0,(C456-$C$6)/C456)","v":0}]
[null,{"$f":"IF(R437>$Q$29*V437,B437,IF(Q437>Q436,$U$6,-0.5)*B437)","v":9.0223179613231552E-25},{"$f":"IF(Q437>Q436,C437,(1-$T$6)*C437+$T$6*C438)","v":4.686581864712229E-2},{"$f":"D437+B457","v":4.7696328395726634E-4},7.8400980803794859E-2,-0.26520166581288029,4.3331467008444271,2.8121337206210515,0.6489818865521062,0.20307646745315119,50.786992561801682,1.702739400015367E-2,458.33333333333337,0.15366576866258877,1.7864235302051154E-2,{"$f":"0.1*$Q$6*D457*$B$6^2/C457+$R$6","v":3.3286848702870631E-2},6.643809279071608E-2,1.5652720559219308E-2,-4.9756811336570519E-2,1.8800477777095675E-2,1.4623280241171833E-2,{"$f":"MAX(S437*Q457^2+T437*Q457+U437,S438*Q457^2+T438*Q457+U438)","v":1.5652720559219308E-2},0]
[null,1.9755967437380838E-20,4.9178183027429483E-2,5.1138343885028133E-4,8.4058803939868143E-2,-0.28433999935383852,4.5801454005629569,2.9669884019048882,0.6477934961497529,0.22524322880112441,69.368502837898973,2.3257231220855375E-2,458.33333333333337,0.15366576866258877,1.9184137140418247E-2,3.4010899743189257E-2,9.4834691359391016E-2,1.5958723960417701E-2,-8.5674673728802192E-2,2.4593051445811309E-2,1.4396974863466982E-2,{"$f":"MAX(S438*Q458^2+T438*Q458+U438,S439*Q458^2+T439*Q458+U439)","v":1.5958723960417701E-2},0]
[null,2.9337929157055272E-21,5.255221950735349E-2,6.1697554712529133E-4,0.10141553795347201,-0.34305144309200192,5.2936203280021852,3.4101729099852851,0.64420428717680367,0.27819149746575944,107.10970946941983,3.5910754553116271E-2,458.33333333333337,0.15366576866258877,2.2297956507532225E-2,3.8399080921905651E-2,0.16043648335628694,1.6137343000308193E-2,-4.3786215799777366E-2,1.3900135583240885E-2,1.5034305421099795E-2,1.6137343000308193E-2,0]
[null,3.0453047689280773E-19,5.6242100708700393E-2,7.0133254331032385E-4,0.11528174413960915,-0.3899557157346018,5.818963683896814,3.7322400709586354,0.64139256982941817,0.32727074152999486,147.20958346173595,4.9355070102866543E-2,458.33333333333337,0.15366576866258877,2.5050365319008332E-2,4.0785557081477845E-2,0.22296004297027264,1.5956815759555522E-2,-8.8325710681325786E-3,4.9902961067562477E-4,1.6284629633070865E-2,1.595681575955548E-2,0]
[null,-4.6986058604089915E-8,6.0285666570009291E-2,7.6065223582695715E-4,0.12503243613354523,-0.42293871841018815,6.1664172685524292,3.943066011933682,0.63944197095493016,0.3717465753834992,186.03419904612886,6.2371828786805292E-2,455.9163076471819,0.15285541060453853,2.733348411589882E-2,4.1268246858855696E-2,0.28126299356576601,1.5726253465166047E-2,-8.4171585205726013E-2,3.8486696088764538E-2,1.1560089232948255E-2,1.5726547575132366E-2,0]
[null,-3.9873607399552773E-18,6.4726330142402158E-2,8.7819863250649809E-4,0.14435415983765668,-0.48829699913795355,6.8053796971009088,4.3257344635079775,0.63563455031770533,0.44048725301895425,243.83882845213941,8.1752031281199525E-2,446.46652189094777,0.14968717367669454,3.0748447865050616E-2,4.4376772522055609E-2,0.37255211062345922,1.4215787599301668E-2,-2.0368227876556597E-2,-3.2289026310287337E-3,1.824573180788058E-2,1.4215787599301626E-2,0]
[null,3.3798403285957284E-21,6.9614059201644651E-2,7.8513563758028236E-4,0.12905690253470753,-0.43655200720650061,6.3048000198873266,4.0265153460803367,0.63864283298113156,0.43890272183896673,242.75998367563778,8.1390326164438642E-2,331.06202233800951,0.11099541848195205,2.8610370568531229E-2,3.6888557529448765E-2,0.40929762952145332,1.3511971415262091E-2,0.13253200424611042,-0.1227739093842328,4.1560677183423315E-2,1.3511971415262093E-2,0]
[null,-3.4913521818182822E-24,7.5006560532026839E-2,7.0629923370310133E-4,0.11609814534121071,-0.39271730055684023,5.8487319536551112,3.7503732737751196,0.64122844122329081,0.43869326731743169,239.59091908357632,8.0327831444844774E-2,239.50111626524173,8.0297723184973982E-2,2.6718556843813031E-2,3.0798773700995447E-2,0.43872337557730245,1.320641488207086E-2,7.9233632511168717E-2,-7.7575770615440409E-2,3.1989971842253738E-2,1.320641488207086E-2,0]
[null,2.5220048245285816E-22,8.0970715199564836E-2,6.2273731719713515E-4,0.10236263061236728,-0.34625510901866613,5.330720041025705,3.4330409651640004,0.64401074127753954,0.43163221425050491,229.02447078312059,7.6785210208212704E-2,162.27240740729769,5.44051946552098E-2,2.4522409045620624E-2,2.5154799312241176E-2,0.45401222980350781,1.3101822519610264E-2,3.0387102457549484E-2,-3.3968734037270736E-2,2.226043775029931E-2,1.3101822519610264E-2,0]
[null,3.1720770085769269E-20,8.758432627758074E-2,5.8481020354910558E-4,9.6128350094186091E-2,-0.32516683229539312,5.0831078128240179,3.2800736109728525,0.64528901053360599,0.44520057318249862,230.93188448778943,7.7424710265853777E-2,108.78569015740366,3.6472661885514873E-2,2.3545350031374628E-2,2.18389869414767E-2,0.48615262156283745,1.2928269277499157E-2,1.1367883014099299E-2,-1.6087532416115498E-2,1.8062530170358901E-2,1.2928269277499158E-2,0]
[null,-3.2673081312289836E-19,9.4938257676883894E-2,5.6969411472841528E-4,9.3643638525558126E-2,-0.31676196745430468,4.982150779696128,3.2174795460597188,0.64580131921578654,0.472996714507879,239.61101827654974,8.0334570116708984E-2,65.691188029419052,2.2024335060871258E-2,2.3151852089894072E-2,1.9626570405383712E-2,0.53130694956371682,1.272411883741213E-2,-5.2931419070895514E-3,8.6438685472614476E-4,1.3759049639069126E-2,1.2724118837411386E-2,0]
[null,-3.3625392538810434E-19,0.10313906536129758,5.8629879599349385E-4,9.6373037917300813E-2,-0.32599452115373218,5.0929790145763327,3.2861868979215032,0.64523864883721094,0.52528509546810531,260.87074990002941,8.7462336665397739E-2,28.347222974740028,9.5039952171561207E-3,2.3570151255648378E-2,1.8592583970520899E-2,0.60324343691634685,1.2354297000115573E-2,-1.8027180767272961E-2,1.5311795564999384E-2,9.6776955664940479E-3,1.2354297000114749E-2,0]
[null,-3.4577703765331013E-19,0.11231225223019801,6.0290347725857241E-4,9.9102437309043501E-2,-0.33522707485315972,5.2022372721371628,3.3537676665211134,0.64467795125064176,0.58427498466960626,282.13954885926086,9.4593143226707629E-2,-9.0216772532560192,-3.0247046612670078E-3,2.370884595716187E-2,1.7557577460386026E-2,0.68189283255758093,1.1736459729850105E-2,-1.8067845142774541E-2,1.5364054828831974E-2,9.6609683823380213E-3,1.1736459729848941E-2,0]
[null,3.5530014991851597E-20,0.12260631802291558,6.5503817351550279E-4,0.1076720934187106,-0.36421506776379481,5.5353501863505192,3.5588419305724188,0.64292986184470813,0.67866890531589674,320.77347697106751,0.10754596997526611,-48.952338765321734,-1.6412288212810048E-2,2.4378363485346045E-2,1.7474216027512229E-2,0.8026271635039729,1.0353083040728243E-2,-1.994325612182777E-2,1.8148139928069868E-2,8.6345452448879055E-3,1.0353083040728243E-2,0]
[null,-2.990354608063293E-23,0.13419782954979564,7.6828651346512759E-4,0.1262873227772196,-0.42718353811648285,6.209875691398449,3.9693055113048223,0.63919242647688879,0.83335183955970848,391.96748376935693,0.13141523931089238,-100.68981850902709,-3.3758352780406259E-2,2.5568821888316572E-2,1.8724992766735494E-2,0.99852543165100716,6.8714404032500266E-3,-2.016298155262003E-2,1.8543898957962893E-2,8.4584476969554075E-3,6.8714404032500301E-3,0]
[null,-6.5243225261098814E-18,0.14729780979304705,8.5562967400664607E-4,0.14064438061224552,-0.47574818124957541,6.687578632801424,4.2557076587226499,0.6363600179367066,0.98506568543042972,453.01421800610706,0.15188242478179634,-157.4723488701876,-5.2795875343070654E-2,2.4584514986993246E-2,1.8999120158737687E-2,1.1897439855552967,1.9804260472926875E-3,-2.0250404605277137E-2,1.8735204150451257E-2,8.3545900172616247E-3,{"$f":"S452*Q472^2+T452*Q472+U452","v":1.9804260472933224E-3},0]
[null,0,{"$f":"C453","v":0.16215984472146291},{"$f":"D453+(D472-D452)","v":8.7717473586713219E-4},0.1441858565248692,-0.48772769096788404,6.746369160550624,4.3199169276239431,0.64033212900424219,1.0939901755085553,458.33333333333337,0.15366576866258877,-205.07395718350196,-6.8755303119887215E-2,2.1215589851194896E-2,1.7692399435883067E-2,1.3164112472910314,-2.0748837577670744E-3,null,null,null,null,7.4986780743096546E-2]
[null,"De","hc","e0","a'","b'","N'","tN'","t","Nc","sac","Nac","sat","Nat","Mtot","u","N","Mo","a''","b''","c''",null,"x"]
[null,null,{"$f":"$C$35","v":4.1544915655417694E-2},{"$f":"$D$35","v":3.8256566053946229E-4},{"$f":"$E$35","v":6.28843435479884E-2},{"$f":"$F$35","v":-0.21271459223465167},{"$f":"IF($C$2=1,0.5*($O$31*D475*$F$6/$O$30)*(1-W475^2+(E475-F475)*(F475^2*(1-W475^2)+2*F475*(1-W475)+2*LN((1-F475)/(1-F475*W475)))/(F475^3)),$F$6*F475*(LN((1-E475+E475^2)/(1+E475)^2)/(6*E475)+ATAN((2-E475)/(E475*3^0.5))/(E475*3^0.5)-LN((W475^2-E475*W475+E475^2)/(W475+E475)^2)/(6*E475)-ATAN((2*W475-E475)/(E475*3^0.5))/(E475*3^0.5)))","v":3.6164179713546631},{"$f":"IF($C$2=1,($O$31*D475*$F$6/$O$30)*(1-W475^3-(E475-F475)*(-2*F475^3*(1-W475^3)-3*F475^2*(1-W475^2)-6*F475*(1-W475)-6*LN((1-F475)/(1-F475*W475)))/(2*F475^4))/3,$F$6*F475*(LN((1+E475^3)/(E475^3+W475^3)))/3)","v":2.3589615237756383},{"$f":"$I$35","v":0.65229227994683425},{"$f":"$J$35","v":0.15024377959466625},{"$f":"$K$35","v":10.340089653207192},{"$f":"$L$35","v":3.4667297991276304E-3},{"$f":"$M$35","v":458.16851350986366},{"$f":"$N$35","v":0.15361050939379392},{"$f":"$O$35","v":1.4595642140814678E-2},{"$f":"$P$35","v":3.011841020334027E-2},{"$f":"$Q$35","v":9.9999999999961231E-5},{"$f":"$R$35","v":1.4592630299794346E-2},null,null,null,null,{"$f":"IF(C475<$C$6,0,(C475-$C$6)/C475)","v":0}]
[null,{"$f":"IF(R456>$Q$29*V456,B456,IF(Q456>Q455,$U$6,-0.5)*B456)","v":-4.0714933842728505E-26},{"$f":"IF(Q456>Q455,C456,(1-$T$6)*C456+$T$6*C457)","v":4.4336691510533544E-2},{"$f":"D456+B476","v":4.2836253051247033E-4},{"$f":"IF($C$2=1,D476/($O$31*$O$30),2^(1/3)*$O$30/D476)","v":7.0412217588601944E-2},{"$f":"IF($C$2=1,-($O$31-2)*D476/$O$30,3*($O$30/D476)^2)","v":-0.23817861979058777},{"$f":"IF($C$2=1,0.5*($O$31*D476*$F$6/$O$30)*(1-W476^2+(E476-F476)*(F476^2*(1-W476^2)+2*F476*(1-W476)+2*LN((1-F476)/(1-F476*W476)))/(F476^3)),$F$6*F476*(LN((1-E476+E476^2)/(1+E476)^2)/(6*E476)+ATAN((2-E476)/(E476*3^0.5))/(E476*3^0.5)-LN((W476^2-E476*W476+E476^2)/(W476+E476)^2)/(6*E476)-ATAN((2*W476-E476)/(E476*3^0.5))/(E476*3^0.5)))","v":3.9715403169798402},{"$f":"IF($C$2=1,($O$31*D476*$F$6/$O$30)*(1-W476^3-(E476-F476)*(-2*F476^3*(1-W476^3)-3*F476^2*(1-W476^2)-6*F476*(1-W476)-6*LN((1-F476)/(1-F476*W476)))/(2*F476^4))/3,$F$6*F476*(LN((1+E476^3)/(E476^3+W476^3)))/3)","v":2.584188132605246},{"$f":"H476/G476","v":0.65067654520762697},{"$f":"G476*C476*$D$6","v":0.17608495785558179},{"$f":"MAX(MIN($K$6,$Q$6*$J$6*D476*(C476-$I$6)/C476),-$K$6)","v":30.453565718108756},{"$f":"K476*$H$6","v":1.021019036637784E-2},{"$f":"MIN($O$6,$Q$6*$N$6*D476*(C$6-C476-$M$6)/C476)","v":458.33333333333337},{"$f":"M476*$L$6","v":0.15366576866258877},{"$f":"(0.5*$C$6-C476+I476*C476)*J476+(0.5*$C$6-$I$6)*L476+(0.5*$C$6-$M$6)*N476","v":1.6214853650533177E-2},{"$f":"0.1*$Q$6*D476*$B$6^2/C476+$R$6","v":3.1600367560991036E-2},{"$f":"(J476+L476-N476)","v":3.2629379559370869E-2},{"$f":"O476-P476*Q476","v":1.518375326316997E-2},{"$f":"((R476-R475)*(Q476-Q477)-(R476-R477)*(Q476-Q475))/((Q476^2-Q475^2)*(Q476-Q477)-(Q476^2-Q477^2)*(Q476-Q475))","v":-6.4831158545317541E-2},{"$f":"-(S476*(Q476^2-Q475^2)-(R476-R475))/(Q476-Q475)","v":2.0293855252393835E-2},{"$f":"R476-S476*Q476^2-T476*Q476","v":1.4590601562580692E-2},{"$f":"S456*Q476^2+T456*Q476+U456","v":1.5183753263169968E-2},{"$f":"IF(C476<$C$6,0,(C476-$C$6)/C476)","v":0}]
[null,{"$f":"IF(R457>$Q$29*V457,B457,IF(Q457>Q456,$U$6,-0.5)*B457)","v":-9.0223179613231554E-26},{"$f":"IF(Q457>Q456,C457,(1-$T$6)*C457+$T$6*C458)","v":4.686581864712229E-2},{"$f":"D457+B477","v":4.7696328395726634E-4},7.8400980803794859E-2,-0.26520166581288029,4.3331467008444271,2.8121337206210515,0.6489818865521062,0.20307646745315119,50.786992561801682,1.702739400015367E-2,458.33333333333337,0.15366576866258877,1.7864235302051154E-2,{"$f":"0.1*$Q$6*D477*$B$6^2/C477+$R$6","v":3.3286848702870631E-2},6.643809279071608E-2,1.5652720559219308E-2,-4.9756811336570519E-2,1.8800477777095675E-2,1.4623280241171833E-2,{"$f":"MAX(S457*Q477^2+T457*Q477+U457,S458*Q477^2+T458*Q477+U458)","v":1.5652720559219308E-2},0]
[null,-1.975596743738084E-21,4.9178183027429483E-2,5.1138343885028133E-4,8.4058803939868143E-2,-0.28433999935383852,4.5801454005629569,2.9669884019048882,0.6477934961497529,0.22524322880112441,69.368502837898973,2.3257231220855375E-2,458.33333333333337,0.15366576866258877,1.9184137140418247E-2,3.4010899743189257E-2,9.4834691359391016E-2,1.5958723960417701E-2,-8.5674673728802192E-2,2.4593051445811309E-2,1.4396974863466982E-2,{"$f":"MAX(S458*Q478^2+T458*Q478+U458,S459*Q478^2+T459*Q478+U459)","v":1.5958723960417701E-2},0]
[null,-2.9337929157055272E-22,5.255221950735349E-2,6.1697554712529133E-4,0.10141553795347201,-0.34305144309200192,5.2936203280021852,3.4101729099852851,0.64420428717680367,0.27819149746575944,107.10970946941983,3.5910754553116271E-2,458.33333333333337,0.15366576866258877,2.2297956507532225E-2,3.8399080921905651E-2,0.16043648335628694,1.6137343000308193E-2,-4.3786215799777366E-2,1.3900135583240885E-2,1.5034305421099795E-2,1.6137343000308193E-2,0]
[null,-3.0453047689280772E-20,5.6242100708700393E-2,7.0133254331032385E-4,0.11528174413960915,-0.3899557157346018,5.818963683896814,3.7322400709586354,0.64139256982941817,0.32727074152999486,147.20958346173595,4.9355070102866543E-2,458.33333333333337,0.15366576866258877,2.5050365319008332E-2,4.0785557081477845E-2,0.22296004297027264,1.5956815759555522E-2,-8.8299320945643481E-3,4.9801783737649737E-4,1.6284724031597038E-2,1.5956815759555522E-2,0]
[null,4.6986058604089915E-9,6.0285666570009291E-2,7.6065693443281754E-4,0.12503320846827257,-0.42294133093434483,6.1664441022055403,3.9430822227954727,0.63944181726793858,0.37174819306816348,186.03534819331691,6.2372214062265563E-2,455.91912387637853,0.15285635480386411,2.7333613366801349E-2,4.1268501775908989E-2,0.28126405232656493,1.5726267323863147E-2,-8.4175951896867704E-2,3.8489296506410517E-2,1.1559726517090842E-2,1.5726244082325057E-2,0]
[null,3.9873607399552774E-19,6.4726330142402158E-2,8.7819863250649852E-4,0.14435415983765673,-0.48829699913795377,6.8053796971009088,4.3257344635079829,0.6356345503177061,0.44048725301895425,243.83882845213955,8.175203128119958E-2,446.466521890948,0.1496871736766946,3.0748447865050644E-2,4.4376772522055637E-2,0.37255211062345928,1.4215787599301685E-2,-2.0365711754604842E-2,-3.2308698603233832E-3,1.8246115477971066E-2,1.4215787599301668E-2,0]
[null,-3.3798403285957286E-22,6.9614059201644651E-2,7.8513563758028236E-4,0.12905690253470753,-0.43655200720650061,6.3048000198873266,4.0265153460803367,0.63864283298113156,0.43890272183896673,242.75998367563778,8.1390326164438642E-2,331.06202233800951,0.11099541848195205,2.8610370568531229E-2,3.6888557529448765E-2,0.40929762952145332,1.3511971415262091E-2,0.1325320042461188,-0.12277390938423988,4.1560677183424814E-2,1.3511971415262093E-2,0]
[null,3.4913521818182823E-25,7.5006560532026839E-2,7.0629923370310133E-4,0.11609814534121071,-0.39271730055684023,5.8487319536551112,3.7503732737751196,0.64122844122329081,0.43869326731743169,239.59091908357632,8.0327831444844774E-2,239.50111626524173,8.0297723184973982E-2,2.6718556843813031E-2,3.0798773700995447E-2,0.43872337557730245,1.320641488207086E-2,7.9233632511168717E-2,-7.7575770615440409E-2,3.1989971842253738E-2,1.320641488207086E-2,0]
[null,-2.5220048245285818E-23,8.0970715199564836E-2,6.2273731719713515E-4,0.10236263061236728,-0.34625510901866613,5.330720041025705,3.4330409651640004,0.64401074127753954,0.43163221425050491,229.02447078312059,7.6785210208212704E-2,162.27240740729769,5.44051946552098E-2,2.4522409045620624E-2,2.5154799312241176E-2,0.45401222980350781,1.3101822519610264E-2,3.0387102457549484E-2,-3.3968734037270736E-2,2.226043775029931E-2,1.3101822519610265E-2,0]
[null,-3.1720770085769269E-21,8.758432627758074E-2,5.8481020354910558E-4,9.6128350094186091E-2,-0.32516683229539312,5.0831078128240179,3.2800736109728525,0.64528901053360599,0.44520057318249862,230.93188448778943,7.7424710265853777E-2,108.78569015740366,3.6472661885514873E-2,2.3545350031374628E-2,2.18389869414767E-2,0.48615262156283745,1.2928269277499157E-2,1.1367883014099299E-2,-1.6087532416115498E-2,1.8062530170358901E-2,1.2928269277499158E-2,0]
[null,3.2673081312289836E-20,9.4938257676883894E-2,5.6969411472841528E-4,9.3643638525558126E-2,-0.31676196745430468,4.982150779696128,3.2174795460597188,0.64580131921578654,0.472996714507879,239.61101827654974,8.0334570116708984E-2,65.691188029419052,2.2024335060871258E-2,2.3151852089894072E-2,1.9626570405383712E-2,0.53130694956371682,1.272411883741213E-2,-5.2931419070895514E-3,8.6438685472614476E-4,1.3759049639069126E-2,1.272411883741213E-2,0]
[null,3.3625392538810439E-20,0.10313906536129758,5.8629879599349385E-4,9.6373037917300813E-2,-0.32599452115373218,5.0929790145763327,3.2861868979215032,0.64523864883721094,0.52528509546810531,260.87074990002941,8.7462336665397739E-2,28.347222974740028,9.5039952171561207E-3,2.3570151255648378E-2,1.8592583970520899E-2,0.60324343691634685,1.2354297000115573E-2,-1.8027180767272961E-2,1.5311795564999384E-2,9.6776955664940479E-3,1.2354297000115574E-2,0]
[null,3.4577703765331018E-20,0.11231225223019801,6.0290347725857241E-4,9.9102437309043501E-2,-0.33522707485315972,5.2022372721371628,3.3537676665211134,0.64467795125064176,0.58427498466960626,282.13954885926086,9.4593143226707629E-2,-9.0216772532560192,-3.0247046612670078E-3,2.370884595716187E-2,1.7557577460386026E-2,0.68189283255758093,1.1736459729850105E-2,-1.8067845142774541E-2,1.5364054828831974E-2,9.6609683823380213E-3,1.1736459729850105E-2,0]
[null,-3.5530014991851595E-21,0.12260631802291558,6.5503817351550279E-4,0.1076720934187106,-0.36421506776379481,5.5353501863505192,3.5588419305724188,0.64292986184470813,0.67866890531589674,320.77347697106751,0.10754596997526611,-48.952338765321734,-1.6412288212810048E-2,2.4378363485346045E-2,1.7474216027512229E-2,0.8026271635039729,1.0353083040728243E-2,-1.994325612182777E-2,1.8148139928069868E-2,8.6345452448879055E-3,1.0353083040728244E-2,0]
[null,2.9903546080632931E-24,0.13419782954979564,7.6828651346512759E-4,0.1262873227772196,-0.42718353811648285,6.209875691398449,3.9693055113048223,0.63919242647688879,0.83335183955970848,391.96748376935693,0.13141523931089238,-100.68981850902709,-3.3758352780406259E-2,2.5568821888316572E-2,1.8724992766735494E-2,0.99852543165100716,6.8714404032500266E-3,-2.0162981552613077E-2,1.8543898957950371E-2,8.4584476969609794E-3,6.8714404032500266E-3,0]
[null,6.5243225261098818E-19,0.14729780979304705,8.5562967400664672E-4,0.14064438061224563,-0.4757481812495758,6.6875786328014284,4.2557076587226756,0.63636001793671004,0.98506568543043038,453.0142180061074,0.15188242478179645,-157.47234887018769,-5.2795875343070682E-2,2.458451498699377E-2,1.8999120158737701E-2,1.1897439855552974,1.9804260472931837E-3,-2.0250404605291223E-2,1.8735204150484776E-2,8.3545900172421993E-3,{"$f":"S472*Q492^2+T472*Q492+U472","v":1.9804260472926702E-3},0]
[null,null,{"$f":"C473","v":0.16215984472146291},{"$f":"D473+(D492-D472)","v":8.7717473586713284E-4},0.14418585652486932,-0.48772769096788443,6.7463691605506151,4.3199169276239511,0.64033212900424419,1.0939901755085539,458.33333333333337,0.15366576866258877,-205.07395718350213,-6.8755303119887271E-2,2.1215589851195222E-2,1.7692399435883077E-2,1.3164112472910301,-2.0748837577667378E-3,null,null,null,null,7.4986780743096546E-2]
[null,"De","hc","e0","a'","b'","N'","tN'","t","Nc","sac","Nac","sat","Nat","Mtot","u","N","Mo","a''","b''","c''",null,"x"]
[null,null,{"$f":"$C$35","v":4.1544915655417694E-2},{"$f":"$D$35","v":3.8256566053946229E-4},{"$f":"$E$35","v":6.28843435479884E-2},{"$f":"$F$35","v":-0.21271459223465167},{"$f":"IF($C$2=1,0.5*($O$31*D495*$F$6/$O$30)*(1-W495^2+(E495-F495)*(F495^2*(1-W495^2)+2*F495*(1-W495)+2*LN((1-F495)/(1-F495*W495)))/(F495^3)),$F$6*F495*(LN((1-E495+E495^2)/(1+E495)^2)/(6*E495)+ATAN((2-E495)/(E495*3^0.5))/(E495*3^0.5)-LN((W495^2-E495*W495+E495^2)/(W495+E495)^2)/(6*E495)-ATAN((2*W495-E495)/(E495*3^0.5))/(E495*3^0.5)))","v":3.6164179713546631},{"$f":"IF($C$2=1,($O$31*D495*$F$6/$O$30)*(1-W495^3-(E495-F495)*(-2*F495^3*(1-W495^3)-3*F495^2*(1-W495^2)-6*F495*(1-W495)-6*LN((1-F495)/(1-F495*W495)))/(2*F495^4))/3,$F$6*F495*(LN((1+E495^3)/(E495^3+W495^3)))/3)","v":2.3589615237756383},{"$f":"$I$35","v":0.65229227994683425},{"$f":"$J$35","v":0.15024377959466625},{"$f":"$K$35","v":10.340089653207192},{"$f":"$L$35","v":3.4667297991276304E-3},{"$f":"$M$35","v":458.16851350986366},{"$f":"$N$35","v":0.15361050939379392},{"$f":"$O$35","v":1.4595642140814678E-2},{"$f":"$P$35","v":3.011841020334027E-2},{"$f":"$Q$35","v":9.9999999999961231E-5},{"$f":"$R$35","v":1.4592630299794346E-2},null,null,null,null,{"$f":"IF(C495<$C$6,0,(C495-$C$6)/C495)","v":0}]
[null,{"$f":"IF(R476>$Q$29*V476,B476,IF(Q476>Q475,$U$6,-0.5)*B476)","v":4.0714933842728505E-27},{"$f":"IF(Q476>Q475,C476,(1-$T$6)*C476+$T$6*C477)","v":4.4336691510533544E-2},{"$f":"D476+B496","v":4.2836253051247033E-4},{"$f":"IF($C$2=1,D496/($O$31*$O$30),2^(1/3)*$O$30/D496)","v":7.0412217588601944E-2},{"$f":"IF($C$2=1,-($O$31-2)*D496/$O$30,3*($O$30/D496)^2)","v":-0.23817861979058777},{"$f":"IF($C$2=1,0.5*($O$31*D496*$F$6/$O$30)*(1-W496^2+(E496-F496)*(F496^2*(1-W496^2)+2*F496*(1-W496)+2*LN((1-F496)/(1-F496*W496)))/(F496^3)),$F$6*F496*(LN((1-E496+E496^2)/(1+E496)^2)/(6*E496)+ATAN((2-E496)/(E496*3^0.5))/(E496*3^0.5)-LN((W496^2-E496*W496+E496^2)/(W496+E496)^2)/(6*E496)-ATAN((2*W496-E496)/(E496*3^0.5))/(E496*3^0.5)))","v":3.9715403169798402},{"$f":"IF($C$2=1,($O$31*D496*$F$6/$O$30)*(1-W496^3-(E496-F496)*(-2*F496^3*(1-W496^3)-3*F496^2*(1-W496^2)-6*F496*(1-W496)-6*LN((1-F496)/(1-F496*W496)))/(2*F496^4))/3,$F$6*F496*(LN((1+E496^3)/(E496^3+W496^3)))/3)","v":2.584188132605246},{"$f":"H496/G496","v":0.65067654520762697},{"$f":"G496*C496*$D$6","v":0.17608495785558179},{"$f":"MAX(MIN($K$6,$Q$6*$J$6*D496*(C496-$I$6)/C496),-$K$6)","v":30.453565718108756},{"$f":"K496*$H$6","v":1.021019036637784E-2},{"$f":"MIN($O$6,$Q$6*$N$6*D496*(C$6-C496-$M$6)/C496)","v":458.33333333333337},{"$f":"M496*$L$6","v":0.15366576866258877},{"$f":"(0.5*$C$6-C496+I496*C496)*J496+(0.5*$C$6-$I$6)*L496+(0.5*$C$6-$M$6)*N496","v":1.6214853650533177E-2},{"$f":"0.1*$Q$6*D496*$B$6^2/C496+$R$6","v":3.1600367560991036E-2},{"$f":"(J496+L496-N496)","v":3.2629379559370869E-2},{"$f":"O496-P496*Q496","v":1.518375326316997E-2},{"$f":"((R496-R495)*(Q496-Q497)-(R496-R497)*(Q496-Q495))/((Q496^2-Q495^2)*(Q496-Q497)-(Q496^2-Q497^2)*(Q496-Q495))","v":-6.4831158545317541E-2},{"$f":"-(S496*(Q496^2-Q495^2)-(R496-R495))/(Q496-Q495)","v":2.0293855252393835E-2},{"$f":"R496-S496*Q496^2-T496*Q496","v":1.4590601562580692E-2},{"$f":"S476*Q496^2+T476*Q496+U476","v":1.5183753263169968E-2},{"$f":"IF(C496<$C$6,0,(C496-$C$6)/C496)","v":0}]
[null,{"$f":"IF(R477>$Q$29*V477,B477,IF(Q477>Q476,$U$6,-0.5)*B477)","v":9.0223179613231566E-27},{"$f":"IF(Q477>Q476,C477,(1-$T$6)*C477+$T$6*C478)","v":4.686581864712229E-2},{"$f":"D477+B497","v":4.7696328395726634E-4},7.8400980803794859E-2,-0.26520166581288029,4.3331467008444271,2.8121337206210515,0.6489818865521062,0.20307646745315119,50.786992561801682,1.702739400015367E-2,458.33333333333337,0.15366576866258877,1.7864235302051154E-2,{"$f":"0.1*$Q$6*D497*$B$6^2/C497+$R$6","v":3.3286848702870631E-2},6.643809279071608E-2,1.5652720559219308E-2,-4.9756811336570519E-2,1.8800477777095675E-2,1.4623280241171833E-2,{"$f":"MAX(S477*Q497^2+T477*Q497+U477,S478*Q497^2+T478*Q497+U478)","v":1.5652720559219308E-2},0]
[null,1.9755967437380842E-22,4.9178183027429483E-2,5.1138343885028133E-4,8.4058803939868143E-2,-0.28433999935383852,4.5801454005629569,2.9669884019048882,0.6477934961497529,0.22524322880112441,69.368502837898973,2.3257231220855375E-2,458.33333333333337,0.15366576866258877,1.9184137140418247E-2,3.4010899743189257E-2,9.4834691359391016E-2,1.5958723960417701E-2,-8.5674673728802192E-2,2.4593051445811309E-2,1.4396974863466982E-2,{"$f":"MAX(S478*Q498^2+T478*Q498+U478,S479*Q498^2+T479*Q498+U479)","v":1.5958723960417701E-2},0]
[null,2.9337929157055275E-23,5.255221950735349E-2,6.1697554712529133E-4,0.10141553795347201,-0.34305144309200192,5.2936203280021852,3.4101729099852851,0.64420428717680367,0.27819149746575944,107.10970946941983,3.5910754553116271E-2,458.33333333333337,0.15366576866258877,2.2297956507532225E-2,3.8399080921905651E-2,0.16043648335628694,1.6137343000308193E-2,-4.3786215799777366E-2,1.3900135583240885E-2,1.5034305421099795E-2,1.6137343000308193E-2,0]
[null,3.0453047689280773E-21,5.6242100708700393E-2,7.0133254331032385E-4,0.11528174413960915,-0.3899557157346018,5.818963683896814,3.7322400709586354,0.64139256982941817,0.32727074152999486,147.20958346173595,4.9355070102866543E-2,458.33333333333337,0.15366576866258877,2.5050365319008332E-2,4.0785557081477845E-2,0.22296004297027264,1.5956815759555522E-2,-8.830195981352389E-3,4.9811901065437581E-4,1.6284714592122478E-2,1.5956815759555522E-2,0]
[null,-4.6986058604089915E-10,6.0285666570009291E-2,7.6065646457223145E-4,0.12503313123479984,-0.42294106968192913,6.1664414188450394,3.9430806017127114,0.63944183263663301,0.37174803129998707,186.03523327859807,6.2372175534719528E-2,455.91884225345871,0.15285626038393152,2.7333600441727782E-2,4.1268476284203666E-2,0.28126394645077507,1.5726265938022441E-2,-8.4175515234668721E-2,3.8489036468764011E-2,1.1559762788102175E-2,1.5726268878877063E-2,0]
[null,-3.9873607399552776E-20,6.4726330142402158E-2,8.7819863250649852E-4,0.14435415983765673,-0.48829699913795377,6.8053796971009088,4.3257344635079829,0.6356345503177061,0.44048725301895425,243.83882845213955,8.175203128119958E-2,446.466521890948,0.1496871736766946,3.0748447865050644E-2,4.4376772522055637E-2,0.37255211062345928,1.4215787599301685E-2,-2.036596336862936E-2,-3.2306731359636911E-3,1.8246077110683087E-2,1.4215787599301689E-2,0]
[null,3.3798403285957288E-23,6.9614059201644651E-2,7.8513563758028236E-4,0.12905690253470753,-0.43655200720650061,6.3048000198873266,4.0265153460803367,0.63864283298113156,0.43890272183896673,242.75998367563778,8.1390326164438642E-2,331.06202233800951,0.11099541848195205,2.8610370568531229E-2,3.6888557529448765E-2,0.40929762952145332,1.3511971415262091E-2,0.1325320042461188,-0.12277390938423988,4.1560677183424814E-2,1.3511971415262093E-2,0]
[null,-3.4913521818182823E-26,7.5006560532026839E-2,7.0629923370310133E-4,0.11609814534121071,-0.39271730055684023,5.8487319536551112,3.7503732737751196,0.64122844122329081,0.43869326731743169,239.59091908357632,8.0327831444844774E-2,239.50111626524173,8.0297723184973982E-2,2.6718556843813031E-2,3.0798773700995447E-2,0.43872337557730245,1.320641488207086E-2,7.9233632511168717E-2,-7.7575770615440409E-2,3.1989971842253738E-2,1.320641488207086E-2,0]
[null,2.5220048245285821E-24,8.0970715199564836E-2,6.2273731719713515E-4,0.10236263061236728,-0.34625510901866613,5.330720041025705,3.4330409651640004,0.64401074127753954,0.43163221425050491,229.02447078312059,7.6785210208212704E-2,162.27240740729769,5.44051946552098E-2,2.4522409045620624E-2,2.5154799312241176E-2,0.45401222980350781,1.3101822519610264E-2,3.0387102457549484E-2,-3.3968734037270736E-2,2.226043775029931E-2,1.3101822519610265E-2,0]
[null,3.1720770085769269E-22,8.758432627758074E-2,5.8481020354910558E-4,9.6128350094186091E-2,-0.32516683229539312,5.0831078128240179,3.2800736109728525,0.64528901053360599,0.44520057318249862,230.93188448778943,7.7424710265853777E-2,108.78569015740366,3.6472661885514873E-2,2.3545350031374628E-2,2.18389869414767E-2,0.48615262156283745,1.2928269277499157E-2,1.1367883014099299E-2,-1.6087532416115498E-2,1.8062530170358901E-2,1.2928269277499158E-2,0]
[null,-3.2673081312289838E-21,9.4938257676883894E-2,5.6969411472841528E-4,9.3643638525558126E-2,-0.31676196745430468,4.982150779696128,3.2174795460597188,0.64580131921578654,0.472996714507879,239.61101827654974,8.0334570116708984E-2,65.691188029419052,2.2024335060871258E-2,2.3151852089894072E-2,1.9626570405383712E-2,0.53130694956371682,1.272411883741213E-2,-5.2931419070895514E-3,8.6438685472614476E-4,1.3759049639069126E-2,1.272411883741213E-2,0]
[null,-3.362539253881044E-21,0.10313906536129758,5.8629879599349385E-4,9.6373037917300813E-2,-0.32599452115373218,5.0929790145763327,3.2861868979215032,0.64523864883721094,0.52528509546810531,260.87074990002941,8.7462336665397739E-2,28.347222974740028,9.5039952171561207E-3,2.3570151255648378E-2,1.8592583970520899E-2,0.60324343691634685,1.2354297000115573E-2,-1.8027180767272961E-2,1.5311795564999384E-2,9.6776955664940479E-3,1.2354297000115574E-2,0]
[null,-3.4577703765331019E-21,0.11231225223019801,6.0290347725857241E-4,9.9102437309043501E-2,-0.33522707485315972,5.2022372721371628,3.3537676665211134,0.64467795125064176,0.58427498466960626,282.13954885926086,9.4593143226707629E-2,-9.0216772532560192,-3.0247046612670078E-3,2.370884595716187E-2,1.7557577460386026E-2,0.68189283255758093,1.1736459729850105E-2,-1.8067845142774541E-2,1.5364054828831974E-2,9.6609683823380213E-3,1.1736459729850105E-2,0]
[null,3.5530014991851597E-22,0.12260631802291558,6.5503817351550279E-4,0.1076720934187106,-0.36421506776379481,5.5353501863505192,3.5588419305724188,0.64292986184470813,0.67866890531589674,320.77347697106751,0.10754596997526611,-48.952338765321734,-1.6412288212810048E-2,2.4378363485346045E-2,1.7474216027512229E-2,0.8026271635039729,1.0353083040728243E-2,-1.994325612182777E-2,1.8148139928069868E-2,8.6345452448879055E-3,1.0353083040728244E-2,0]
[null,-2.9903546080632932E-25,0.13419782954979564,7.6828651346512759E-4,0.1262873227772196,-0.42718353811648285,6.209875691398449,3.9693055113048223,0.63919242647688879,0.83335183955970848,391.96748376935693,0.13141523931089238,-100.68981850902709,-3.3758352780406259E-2,2.5568821888316572E-2,1.8724992766735494E-2,0.99852543165100716,6.8714404032500266E-3,-2.0162981552624935E-2,1.8543898957971733E-2,8.4584476969514731E-3,6.8714404032500266E-3,0]
[null,-6.5243225261098818E-20,0.14729780979304705,8.5562967400664661E-4,0.1406443806122456,-0.47574818124957569,6.6875786328014373,4.2557076587226392,0.63636001793670371,0.98506568543043171,453.0142180061074,0.15188242478179645,-157.47234887018769,-5.2795875343070682E-2,2.4584514986992882E-2,1.8999120158737701E-2,1.1897439855552987,1.9804260472922677E-3,-2.0250404605281321E-2,1.8735204150458519E-2,8.3545900172585438E-3,{"$f":"S492*Q512^2+T492*Q512+U492","v":1.9804260472931455E-3},0]
[null,null,{"$f":"C493","v":0.16215984472146291},{"$f":"D493+(D512-D492)","v":8.7717473586713273E-4},0.14418585652486929,-0.48772769096788438,6.746369160550632,4.3199169276239173,0.64033212900423764,1.0939901755085566,458.33333333333337,0.15366576866258877,-205.07395718350207,-6.8755303119887257E-2,2.1215589851194112E-2,1.7692399435883077E-2,1.3164112472910328,-2.0748837577678932E-3,null,null,null,null,7.4986780743096546E-2]
[null,"De","hc","e0","a'","b'","N'","tN'","t","Nc","sac","Nac","sat","Nat","Mtot","u","N","Mo","a''","b''","c''",null,"x"]
[null,null,{"$f":"$C$35","v":4.1544915655417694E-2},{"$f":"$D$35","v":3.8256566053946229E-4},{"$f":"$E$35","v":6.28843435479884E-2},{"$f":"$F$35","v":-0.21271459223465167},{"$f":"IF($C$2=1,0.5*($O$31*D515*$F$6/$O$30)*(1-W515^2+(E515-F515)*(F515^2*(1-W515^2)+2*F515*(1-W515)+2*LN((1-F515)/(1-F515*W515)))/(F515^3)),$F$6*F515*(LN((1-E515+E515^2)/(1+E515)^2)/(6*E515)+ATAN((2-E515)/(E515*3^0.5))/(E515*3^0.5)-LN((W515^2-E515*W515+E515^2)/(W515+E515)^2)/(6*E515)-ATAN((2*W515-E515)/(E515*3^0.5))/(E515*3^0.5)))","v":3.6164179713546631},{"$f":"IF($C$2=1,($O$31*D515*$F$6/$O$30)*(1-W515^3-(E515-F515)*(-2*F515^3*(1-W515^3)-3*F515^2*(1-W515^2)-6*F515*(1-W515)-6*LN((1-F515)/(1-F515*W515)))/(2*F515^4))/3,$F$6*F515*(LN((1+E515^3)/(E515^3+W515^3)))/3)","v":2.3589615237756383},{"$f":"$I$35","v":0.65229227994683425},{"$f":"$J$35","v":0.15024377959466625},{"$f":"$K$35","v":10.340089653207192},{"$f":"$L$35","v":3.4667297991276304E-3},{"$f":"$M$35","v":458.16851350986366},{"$f":"$N$35","v":0.15361050939379392},{"$f":"$O$35","v":1.4595642140814678E-2},{"$f":"$P$35","v":3.011841020334027E-2},{"$f":"$Q$35","v":9.9999999999961231E-5},{"$f":"$R$35","v":1.4592630299794346E-2},null,null,null,null,{"$f":"IF(C515<$C$6,0,(C515-$C$6)/C515)","v":0}]
[null,{"$f":"IF(R496>$Q$29*V496,B496,IF(Q496>Q495,$U$6,-0.5)*B496)","v":-4.071493384272851E-28},{"$f":"IF(Q496>Q495,C496,(1-$T$6)*C496+$T$6*C497)","v":4.4336691510533544E-2},{"$f":"D496+B516","v":4.2836253051247033E-4},{"$f":"IF($C$2=1,D516/($O$31*$O$30),2^(1/3)*$O$30/D516)","v":7.0412217588601944E-2},{"$f":"IF($C$2=1,-($O$31-2)*D516/$O$30,3*($O$30/D516)^2)","v":-0.23817861979058777},{"$f":"IF($C$2=1,0.5*($O$31*D516*$F$6/$O$30)*(1-W516^2+(E516-F516)*(F516^2*(1-W516^2)+2*F516*(1-W516)+2*LN((1-F516)/(1-F516*W516)))/(F516^3)),$F$6*F516*(LN((1-E516+E516^2)/(1+E516)^2)/(6*E516)+ATAN((2-E516)/(E516*3^0.5))/(E516*3^0.5)-LN((W516^2-E516*W516+E516^2)/(W516+E516)^2)/(6*E516)-ATAN((2*W516-E516)/(E516*3^0.5))/(E516*3^0.5)))","v":3.9715403169798402},{"$f":"IF($C$2=1,($O$31*D516*$F$6/$O$30)*(1-W516^3-(E516-F516)*(-2*F516^3*(1-W516^3)-3*F516^2*(1-W516^2)-6*F516*(1-W516)-6*LN((1-F516)/(1-F516*W516)))/(2*F516^4))/3,$F$6*F516*(LN((1+E516^3)/(E516^3+W516^3)))/3)","v":2.584188132605246},{"$f":"H516/G516","v":0.65067654520762697},{"$f":"G516*C516*$D$6","v":0.17608495785558179},{"$f":"MAX(MIN($K$6,$Q$6*$J$6*D516*(C516-$I$6)/C516),-$K$6)","v":30.453565718108756},{"$f":"K516*$H$6","v":1.021019036637784E-2},{"$f":"MIN($O$6,$Q$6*$N$6*D516*(C$6-C516-$M$6)/C516)","v":458.33333333333337},{"$f":"M516*$L$6","v":0.15366576866258877},{"$f":"(0.5*$C$6-C516+I516*C516)*J516+(0.5*$C$6-$I$6)*L516+(0.5*$C$6-$M$6)*N516","v":1.6214853650533177E-2},{"$f":"0.1*$Q$6*D516*$B$6^2/C516+$R$6","v":3.1600367560991036E-2},{"$f":"(J516+L516-N516)","v":3.2629379559370869E-2},{"$f":"O516-P516*Q516","v":1.518375326316997E-2},{"$f":"((R516-R515)*(Q516-Q517)-(R516-R517)*(Q516-Q515))/((Q516^2-Q515^2)*(Q516-Q517)-(Q516^2-Q517^2)*(Q516-Q515))","v":-6.4831158545317541E-2},{"$f":"-(S516*(Q516^2-Q515^2)-(R516-R515))/(Q516-Q515)","v":2.0293855252393835E-2},{"$f":"R516-S516*Q516^2-T516*Q516","v":1.4590601562580692E-2},{"$f":"S496*Q516^2+T496*Q516+U496","v":1.5183753263169968E-2},{"$f":"IF(C516<$C$6,0,(C516-$C$6)/C516)","v":0}]
[null,{"$f":"IF(R497>$Q$29*V497,B497,IF(Q497>Q496,$U$6,-0.5)*B497)","v":-9.0223179613231573E-28},{"$f":"IF(Q497>Q496,C497,(1-$T$6)*C497+$T$6*C498)","v":4.686581864712229E-2},{"$f":"D497+B517","v":4.7696328395726634E-4},7.8400980803794859E-2,-0.26520166581288029,4.3331467008444271,2.8121337206210515,0.6489818865521062,0.20307646745315119,50.786992561801682,1.702739400015367E-2,458.33333333333337,0.15366576866258877,1.7864235302051154E-2,{"$f":"0.1*$Q$6*D517*$B$6^2/C517+$R$6","v":3.3286848702870631E-2},6.643809279071608E-2,1.5652720559219308E-2,-4.9756811336570519E-2,1.8800477777095675E-2,1.4623280241171833E-2,{"$f":"MAX(S497*Q517^2+T497*Q517+U497,S498*Q517^2+T498*Q517+U498)","v":1.5652720559219308E-2},0]
[null,-1.9755967437380842E-23,4.9178183027429483E-2,5.1138343885028133E-4,8.4058803939868143E-2,-0.28433999935383852,4.5801454005629569,2.9669884019048882,0.6477934961497529,0.22524322880112441,69.368502837898973,2.3257231220855375E-2,458.33333333333337,0.15366576866258877,1.9184137140418247E-2,3.4010899743189257E-2,9.4834691359391016E-2,1.5958723960417701E-2,-8.5674673728802192E-2,2.4593051445811309E-2,1.4396974863466982E-2,{"$f":"MAX(S498*Q518^2+T498*Q518+U498,S499*Q518^2+T499*Q518+U499)","v":1.5958723960417701E-2},0]
[null,-2.9337929157055277E-24,5.255221950735349E-2,6.1697554712529133E-4,0.10141553795347201,-0.34305144309200192,5.2936203280021852,3.4101729099852851,0.64420428717680367,0.27819149746575944,107.10970946941983,3.5910754553116271E-2,458.33333333333337,0.15366576866258877,2.2297956507532225E-2,3.8399080921905651E-2,0.16043648335628694,1.6137343000308193E-2,-4.3786215799777366E-2,1.3900135583240885E-2,1.5034305421099795E-2,1.6137343000308193E-2,0]
[null,-3.0453047689280776E-22,5.6242100708700393E-2,7.0133254331032385E-4,0.11528174413960915,-0.3899557157346018,5.818963683896814,3.7322400709586354,0.64139256982941817,0.32727074152999486,147.20958346173595,4.9355070102866543E-2,458.33333333333337,0.15366576866258877,2.5050365319008332E-2,4.0785557081477845E-2,0.22296004297027264,1.5956815759555522E-2,-8.8301695925669492E-3,4.9810889328570412E-4,1.6284715536073746E-2,1.5956815759555522E-2,0]
[null,4.698605860408992E-11,6.0285666570009291E-2,7.6065651155829005E-4,0.12503313895814711,-0.42294109580717071,6.1664416871811429,3.943080763821023,0.63944183109976316,0.3717480474768079,186.03524477006997,6.2372179387474129E-2,455.9188704157508,0.15285626982592482,2.7333601734235317E-2,4.1268478833374186E-2,0.28126395703835722,1.5726266076606807E-2,-8.4175558900959235E-2,3.8489062472570709E-2,1.1559759160995178E-2,1.5726265844194866E-2,0]
[null,3.9873607399552778E-21,6.4726330142402158E-2,8.7819863250649852E-4,0.14435415983765673,-0.48829699913795377,6.8053796971009088,4.3257344635079829,0.6356345503177061,0.44048725301895425,243.83882845213955,8.175203128119958E-2,446.466521890948,0.1496871736766946,3.0748447865050644E-2,4.4376772522055637E-2,0.37255211062345928,1.4215787599301685E-2,-2.0365938207244427E-2,-3.230692808385967E-3,1.8246080947409218E-2,1.4215787599301689E-2,0]
[null,-3.3798403285957288E-24,6.9614059201644651E-2,7.8513563758028236E-4,0.12905690253470753,-0.43655200720650061,6.3048000198873266,4.0265153460803367,0.63864283298113156,0.43890272183896673,242.75998367563778,8.1390326164438642E-2,331.06202233800951,0.11099541848195205,2.8610370568531229E-2,3.6888557529448765E-2,0.40929762952145332,1.3511971415262091E-2,0.1325320042461188,-0.12277390938423988,4.1560677183424814E-2,1.3511971415262093E-2,0]
[null,3.4913521818182822E-27,7.5006560532026839E-2,7.0629923370310133E-4,0.11609814534121071,-0.39271730055684023,5.8487319536551112,3.7503732737751196,0.64122844122329081,0.43869326731743169,239.59091908357632,8.0327831444844774E-2,239.50111626524173,8.0297723184973982E-2,2.6718556843813031E-2,3.0798773700995447E-2,0.43872337557730245,1.320641488207086E-2,7.9233632511168717E-2,-7.7575770615440409E-2,3.1989971842253738E-2,1.320641488207086E-2,0]
[null,-2.5220048245285822E-25,8.0970715199564836E-2,6.2273731719713515E-4,0.10236263061236728,-0.34625510901866613,5.330720041025705,3.4330409651640004,0.64401074127753954,0.43163221425050491,229.02447078312059,7.6785210208212704E-2,162.27240740729769,5.44051946552098E-2,2.4522409045620624E-2,2.5154799312241176E-2,0.45401222980350781,1.3101822519610264E-2,3.0387102457549484E-2,-3.3968734037270736E-2,2.226043775029931E-2,1.3101822519610265E-2,0]
[null,-3.1720770085769272E-23,8.758432627758074E-2,5.8481020354910558E-4,9.6128350094186091E-2,-0.32516683229539312,5.0831078128240179,3.2800736109728525,0.64528901053360599,0.44520057318249862,230.93188448778943,7.7424710265853777E-2,108.78569015740366,3.6472661885514873E-2,2.3545350031374628E-2,2.18389869414767E-2,0.48615262156283745,1.2928269277499157E-2,1.1367883014099299E-2,-1.6087532416115498E-2,1.8062530170358901E-2,1.2928269277499158E-2,0]
[null,3.267308131228984E-22,9.4938257676883894E-2,5.6969411472841528E-4,9.3643638525558126E-2,-0.31676196745430468,4.982150779696128,3.2174795460597188,0.64580131921578654,0.472996714507879,239.61101827654974,8.0334570116708984E-2,65.691188029419052,2.2024335060871258E-2,2.3151852089894072E-2,1.9626570405383712E-2,0.53130694956371682,1.272411883741213E-2,-5.2931419070895514E-3,8.6438685472614476E-4,1.3759049639069126E-2,1.272411883741213E-2,0]
[null,3.3625392538810443E-22,0.10313906536129758,5.8629879599349385E-4,9.6373037917300813E-2,-0.32599452115373218,5.0929790145763327,3.2861868979215032,0.64523864883721094,0.52528509546810531,260.87074990002941,8.7462336665397739E-2,28.347222974740028,9.5039952171561207E-3,2.3570151255648378E-2,1.8592583970520899E-2,0.60324343691634685,1.2354297000115573E-2,-1.8027180767272961E-2,1.5311795564999384E-2,9.6776955664940479E-3,1.2354297000115574E-2,0]
[null,3.4577703765331022E-22,0.11231225223019801,6.0290347725857241E-4,9.9102437309043501E-2,-0.33522707485315972,5.2022372721371628,3.3537676665211134,0.64467795125064176,0.58427498466960626,282.13954885926086,9.4593143226707629E-2,-9.0216772532560192,-3.0247046612670078E-3,2.370884595716187E-2,1.7557577460386026E-2,0.68189283255758093,1.1736459729850105E-2,-1.8067845142774541E-2,1.5364054828831974E-2,9.6609683823380213E-3,1.1736459729850105E-2,0]
[null,-3.5530014991851598E-23,0.12260631802291558,6.5503817351550279E-4,0.1076720934187106,-0.36421506776379481,5.5353501863505192,3.5588419305724188,0.64292986184470813,0.67866890531589674,320.77347697106751,0.10754596997526611,-48.952338765321734,-1.6412288212810048E-2,2.4378363485346045E-2,1.7474216027512229E-2,0.8026271635039729,1.0353083040728243E-2,-1.994325612182777E-2,1.8148139928069868E-2,8.6345452448879055E-3,1.0353083040728244E-2,0]
[null,2.9903546080632933E-26,0.13419782954979564,7.6828651346512759E-4,0.1262873227772196,-0.42718353811648285,6.209875691398449,3.9693055113048223,0.63919242647688879,0.83335183955970848,391.96748376935693,0.13141523931089238,-100.68981850902709,-3.3758352780406259E-2,2.5568821888316572E-2,1.8724992766735494E-2,0.99852543165100716,6.8714404032500266E-3,-2.0162981552624935E-2,1.8543898957971733E-2,8.4584476969514731E-3,6.8714404032500266E-3,0]
[null,6.5243225261098821E-21,0.14729780979304705,8.5562967400664661E-4,0.1406443806122456,-0.47574818124957569,6.6875786328014373,4.2557076587226392,0.63636001793670371,0.98506568543043171,453.0142180061074,0.15188242478179645,-157.47234887018769,-5.2795875343070682E-2,2.4584514986992882E-2,1.8999120158737701E-2,1.1897439855552987,1.9804260472922677E-3,-2.0250404605281321E-2,1.8735204150458519E-2,8.3545900172585438E-3,{"$f":"S512*Q532^2+T512*Q532+U512","v":1.9804260472922677E-3},0]
[null,null,{"$f":"C513","v":0.16215984472146291},{"$f":"D513+(D532-D512)","v":8.7717473586713273E-4},0.14418585652486929,-0.48772769096788438,6.746369160550632,4.3199169276239173,0.64033212900423764,1.0939901755085566,458.33333333333337,0.15366576866258877,-205.07395718350207,-6.8755303119887257E-2,2.1215589851194112E-2,1.7692399435883077E-2,1.3164112472910328,-2.0748837577678932E-3,null,null,null,null,7.4986780743096546E-2]
[null,"De","hc","e0","a'","b'","N'","tN'","t","Nc","sac","Nac","sat","Nat","Mtot","u","N","Mo","a''","b''","c''",null,"x"]
[null,null,{"$f":"$C$35","v":4.1544915655417694E-2},{"$f":"$D$35","v":3.8256566053946229E-4},{"$f":"$E$35","v":6.28843435479884E-2},{"$f":"$F$35","v":-0.21271459223465167},{"$f":"IF($C$2=1,0.5*($O$31*D535*$F$6/$O$30)*(1-W535^2+(E535-F535)*(F535^2*(1-W535^2)+2*F535*(1-W535)+2*LN((1-F535)/(1-F535*W535)))/(F535^3)),$F$6*F535*(LN((1-E535+E535^2)/(1+E535)^2)/(6*E535)+ATAN((2-E535)/(E535*3^0.5))/(E535*3^0.5)-LN((W535^2-E535*W535+E535^2)/(W535+E535)^2)/(6*E535)-ATAN((2*W535-E535)/(E535*3^0.5))/(E535*3^0.5)))","v":3.6164179713546631},{"$f":"IF($C$2=1,($O$31*D535*$F$6/$O$30)*(1-W535^3-(E535-F535)*(-2*F535^3*(1-W535^3)-3*F535^2*(1-W535^2)-6*F535*(1-W535)-6*LN((1-F535)/(1-F535*W535)))/(2*F535^4))/3,$F$6*F535*(LN((1+E535^3)/(E535^3+W535^3)))/3)","v":2.3589615237756383},{"$f":"$I$35","v":0.65229227994683425},{"$f":"$J$35","v":0.15024377959466625},{"$f":"$K$35","v":10.340089653207192},{"$f":"$L$35","v":3.4667297991276304E-3},{"$f":"$M$35","v":458.16851350986366},{"$f":"$N$35","v":0.15361050939379392},{"$f":"$O$35","v":1.4595642140814678E-2},{"$f":"$P$35","v":3.011841020334027E-2},{"$f":"$Q$35","v":9.9999999999961231E-5},{"$f":"$R$35","v":1.4592630299794346E-2},null,null,null,null,{"$f":"IF(C535<$C$6,0,(C535-$C$6)/C535)","v":0}]
[null,{"$f":"IF(R516>$Q$29*V516,B516,IF(Q516>Q515,$U$6,-0.5)*B516)","v":4.0714933842728514E-29},{"$f":"IF(Q516>Q515,C516,(1-$T$6)*C516+$T$6*C517)","v":4.4336691510533544E-2},{"$f":"D516+B536","v":4.2836253051247033E-4},{"$f":"IF($C$2=1,D536/($O$31*$O$30),2^(1/3)*$O$30/D536)","v":7.0412217588601944E-2},{"$f":"IF($C$2=1,-($O$31-2)*D536/$O$30,3*($O$30/D536)^2)","v":-0.23817861979058777},{"$f":"IF($C$2=1,0.5*($O$31*D536*$F$6/$O$30)*(1-W536^2+(E536-F536)*(F536^2*(1-W536^2)+2*F536*(1-W536)+2*LN((1-F536)/(1-F536*W536)))/(F536^3)),$F$6*F536*(LN((1-E536+E536^2)/(1+E536)^2)/(6*E536)+ATAN((2-E536)/(E536*3^0.5))/(E536*3^0.5)-LN((W536^2-E536*W536+E536^2)/(W536+E536)^2)/(6*E536)-ATAN((2*W536-E536)/(E536*3^0.5))/(E536*3^0.5)))","v":3.9715403169798402},{"$f":"IF($C$2=1,($O$31*D536*$F$6/$O$30)*(1-W536^3-(E536-F536)*(-2*F536^3*(1-W536^3)-3*F536^2*(1-W536^2)-6*F536*(1-W536)-6*LN((1-F536)/(1-F536*W536)))/(2*F536^4))/3,$F$6*F536*(LN((1+E536^3)/(E536^3+W536^3)))/3)","v":2.584188132605246},{"$f":"H536/G536","v":0.65067654520762697},{"$f":"G536*C536*$D$6","v":0.17608495785558179},{"$f":"MAX(MIN($K$6,$Q$6*$J$6*D536*(C536-$I$6)/C536),-$K$6)","v":30.453565718108756},{"$f":"K536*$H$6","v":1.021019036637784E-2},{"$f":"MIN($O$6,$Q$6*$N$6*D536*(C$6-C536-$M$6)/C536)","v":458.33333333333337},{"$f":"M536*$L$6","v":0.15366576866258877},{"$f":"(0.5*$C$6-C536+I536*C536)*J536+(0.5*$C$6-$I$6)*L536+(0.5*$C$6-$M$6)*N536","v":1.6214853650533177E-2},{"$f":"0.1*$Q$6*D536*$B$6^2/C536+$R$6","v":3.1600367560991036E-2},{"$f":"(J536+L536-N536)","v":3.2629379559370869E-2},{"$f":"O536-P536*Q536","v":1.518375326316997E-2},{"$f":"((R536-R535)*(Q536-Q537)-(R536-R537)*(Q536-Q535))/((Q536^2-Q535^2)*(Q536-Q537)-(Q536^2-Q537^2)*(Q536-Q535))","v":-6.4831158545317541E-2},{"$f":"-(S536*(Q536^2-Q535^2)-(R536-R535))/(Q536-Q535)","v":2.0293855252393835E-2},{"$f":"R536-S536*Q536^2-T536*Q536","v":1.4590601562580692E-2},{"$f":"S516*Q536^2+T516*Q536+U516","v":1.5183753263169968E-2},{"$f":"IF(C536<$C$6,0,(C536-$C$6)/C536)","v":0}]
[null,{"$f":"IF(R517>$Q$29*V517,B517,IF(Q517>Q516,$U$6,-0.5)*B517)","v":9.0223179613231573E-29},{"$f":"IF(Q517>Q516,C517,(1-$T$6)*C517+$T$6*C518)","v":4.686581864712229E-2},{"$f":"D517+B537","v":4.7696328395726634E-4},7.8400980803794859E-2,-0.26520166581288029,4.3331467008444271,2.8121337206210515,0.6489818865521062,0.20307646745315119,50.786992561801682,1.702739400015367E-2,458.33333333333337,0.15366576866258877,1.7864235302051154E-2,{"$f":"0.1*$Q$6*D537*$B$6^2/C537+$R$6","v":3.3286848702870631E-2},6.643809279071608E-2,1.5652720559219308E-2,-4.9756811336570519E-2,1.8800477777095675E-2,1.4623280241171833E-2,{"$f":"MAX(S517*Q537^2+T517*Q537+U517,S518*Q537^2+T518*Q537+U518)","v":1.5652720559219308E-2},0]
[null,1.9755967437380842E-24,4.9178183027429483E-2,5.1138343885028133E-4,8.4058803939868143E-2,-0.28433999935383852,4.5801454005629569,2.9669884019048882,0.6477934961497529,0.22524322880112441,69.368502837898973,2.3257231220855375E-2,458.33333333333337,0.15366576866258877,1.9184137140418247E-2,3.4010899743189257E-2,9.4834691359391016E-2,1.5958723960417701E-2,-8.5674673728802192E-2,2.4593051445811309E-2,1.4396974863466982E-2,{"$f":"MAX(S518*Q538^2+T518*Q538+U518,S519*Q538^2+T519*Q538+U519)","v":1.5958723960417701E-2},0]
[null,2.9337929157055277E-25,5.255221950735349E-2,6.1697554712529133E-4,0.10141553795347201,-0.34305144309200192,5.2936203280021852,3.4101729099852851,0.64420428717680367,0.27819149746575944,107.10970946941983,3.5910754553116271E-2,458.33333333333337,0.15366576866258877,2.2297956507532225E-2,3.8399080921905651E-2,0.16043648335628694,1.6137343000308193E-2,-4.3786215799777366E-2,1.3900135583240885E-2,1.5034305421099795E-2,1.6137343000308193E-2,0]
[null,3.0453047689280775E-23,5.6242100708700393E-2,7.0133254331032385E-4,0.11528174413960915,-0.3899557157346018,5.818963683896814,3.7322400709586354,0.64139256982941817,0.32727074152999486,147.20958346173595,4.9355070102866543E-2,458.33333333333337,0.15366576866258877,2.5050365319008332E-2,4.0785557081477845E-2,0.22296004297027264,1.5956815759555522E-2,-8.8301722314545385E-3,4.981099050260393E-4,1.62847154416783E-2,1.5956815759555522E-2,0]
[null,-4.6986058604089924E-12,6.0285666570009291E-2,7.6065650685968418E-4,0.12503313818581238,-0.42294109319464657,6.1664416603475436,3.9430807476101783,0.63944183125344678,0.37174804585912652,186.03524362092278,6.2372179002198672E-2,455.91886759952149,0.15285626888172543,2.7333601604984523E-2,4.1268478578457141E-2,0.28126395597959974,1.5726266062748299E-2,-8.4175554534318131E-2,3.8489059872182867E-2,1.1559759523706878E-2,1.5726266092156885E-2,0]
[null,-3.9873607399552779E-22,6.4726330142402158E-2,8.7819863250649852E-4,0.14435415983765673,-0.48829699913795377,6.8053796971009088,4.3257344635079829,0.6356345503177061,0.44048725301895425,243.83882845213955,8.175203128119958E-2,446.466521890948,0.1496871736766946,3.0748447865050644E-2,4.4376772522055637E-2,0.37255211062345928,1.4215787599301685E-2,-2.0365940723388532E-2,-3.2306908411393492E-3,1.824608056373575E-2,1.4215787599301689E-2,0]
[null,3.3798403285957289E-25,6.9614059201644651E-2,7.8513563758028236E-4,0.12905690253470753,-0.43655200720650061,6.3048000198873266,4.0265153460803367,0.63864283298113156,0.43890272183896673,242.75998367563778,8.1390326164438642E-2,331.06202233800951,0.11099541848195205,2.8610370568531229E-2,3.6888557529448765E-2,0.40929762952145332,1.3511971415262091E-2,0.1325320042461188,-0.12277390938423988,4.1560677183424814E-2,1.3511971415262093E-2,0]
[null,-3.4913521818182826E-28,7.5006560532026839E-2,7.0629923370310133E-4,0.11609814534121071,-0.39271730055684023,5.8487319536551112,3.7503732737751196,0.64122844122329081,0.43869326731743169,239.59091908357632,8.0327831444844774E-2,239.50111626524173,8.0297723184973982E-2,2.6718556843813031E-2,3.0798773700995447E-2,0.43872337557730245,1.320641488207086E-2,7.9233632511168717E-2,-7.7575770615440409E-2,3.1989971842253738E-2,1.320641488207086E-2,0]
[null,2.5220048245285824E-26,8.0970715199564836E-2,6.2273731719713515E-4,0.10236263061236728,-0.34625510901866613,5.330720041025705,3.4330409651640004,0.64401074127753954,0.43163221425050491,229.02447078312059,7.6785210208212704E-2,162.27240740729769,5.44051946552098E-2,2.4522409045620624E-2,2.5154799312241176E-2,0.45401222980350781,1.3101822519610264E-2,3.0387102457549484E-2,-3.3968734037270736E-2,2.226043775029931E-2,1.3101822519610265E-2,0]
[null,3.1720770085769274E-24,8.758432627758074E-2,5.8481020354910558E-4,9.6128350094186091E-2,-0.32516683229539312,5.0831078128240179,3.2800736109728525,0.64528901053360599,0.44520057318249862,230.93188448778943,7.7424710265853777E-2,108.78569015740366,3.6472661885514873E-2,2.3545350031374628E-2,2.18389869414767E-2,0.48615262156283745,1.2928269277499157E-2,1.1367883014099299E-2,-1.6087532416115498E-2,1.8062530170358901E-2,1.2928269277499158E-2,0]
[null,-3.2673081312289843E-23,9.4938257676883894E-2,5.6969411472841528E-4,9.3643638525558126E-2,-0.31676196745430468,4.982150779696128,3.2174795460597188,0.64580131921578654,0.472996714507879,239.61101827654974,8.0334570116708984E-2,65.691188029419052,2.2024335060871258E-2,2.3151852089894072E-2,1.9626570405383712E-2,0.53130694956371682,1.272411883741213E-2,-5.2931419070895514E-3,8.6438685472614476E-4,1.3759049639069126E-2,1.272411883741213E-2,0]
[null,-3.3625392538810444E-23,0.10313906536129758,5.8629879599349385E-4,9.6373037917300813E-2,-0.32599452115373218,5.0929790145763327,3.2861868979215032,0.64523864883721094,0.52528509546810531,260.87074990002941,8.7462336665397739E-2,28.347222974740028,9.5039952171561207E-3,2.3570151255648378E-2,1.8592583970520899E-2,0.60324343691634685,1.2354297000115573E-2,-1.8027180767272961E-2,1.5311795564999384E-2,9.6776955664940479E-3,1.2354297000115574E-2,0]
[null,-3.4577703765331027E-23,0.11231225223019801,6.0290347725857241E-4,9.9102437309043501E-2,-0.33522707485315972,5.2022372721371628,3.3537676665211134,0.64467795125064176,0.58427498466960626,282.13954885926086,9.4593143226707629E-2,-9.0216772532560192,-3.0247046612670078E-3,2.370884595716187E-2,1.7557577460386026E-2,0.68189283255758093,1.1736459729850105E-2,-1.8067845142774541E-2,1.5364054828831974E-2,9.6609683823380213E-3,1.1736459729850105E-2,0]
[null,3.5530014991851598E-24,0.12260631802291558,6.5503817351550279E-4,0.1076720934187106,-0.36421506776379481,5.5353501863505192,3.5588419305724188,0.64292986184470813,0.67866890531589674,320.77347697106751,0.10754596997526611,-48.952338765321734,-1.6412288212810048E-2,2.4378363485346045E-2,1.7474216027512229E-2,0.8026271635039729,1.0353083040728243E-2,-1.994325612182777E-2,1.8148139928069868E-2,8.6345452448879055E-3,1.0353083040728244E-2,0]
[null,-2.9903546080632935E-27,0.13419782954979564,7.6828651346512759E-4,0.1262873227772196,-0.42718353811648285,6.209875691398449,3.9693055113048223,0.63919242647688879,0.83335183955970848,391.96748376935693,0.13141523931089238,-100.68981850902709,-3.3758352780406259E-2,2.5568821888316572E-2,1.8724992766735494E-2,0.99852543165100716,6.8714404032500266E-3,-2.0162981552624935E-2,1.8543898957971733E-2,8.4584476969514731E-3,6.8714404032500266E-3,0]
[null,-6.5243225261098826E-22,0.14729780979304705,8.5562967400664661E-4,0.1406443806122456,-0.47574818124957569,6.6875786328014373,4.2557076587226392,0.63636001793670371,0.98506568543043171,453.0142180061074,0.15188242478179645,-157.47234887018769,-5.2795875343070682E-2,2.4584514986992882E-2,1.8999120158737701E-2,1.1897439855552987,1.9804260472922677E-3,-2.0250404605281321E-2,1.8735204150458519E-2,8.3545900172585438E-3,{"$f":"S532*Q552^2+T532*Q552+U532","v":1.9804260472922677E-3},0]
[null,null,{"$f":"C533","v":0.16215984472146291},{"$f":"D533+(D552-D532)","v":8.7717473586713273E-4},0.14418585652486929,-0.48772769096788438,6.746369160550632,4.3199169276239173,0.64033212900423764,1.0939901755085566,458.33333333333337,0.15366576866258877,-205.07395718350207,-6.8755303119887257E-2,2.1215589851194112E-2,1.7692399435883077E-2,1.3164112472910328,-2.0748837577678932E-3,null,null,null,null,7.4986780743096546E-2]
[null,"De","hc","e0","a'","b'","N'","tN'","t","Nc","sac","Nac","sat","Nat","Mtot","u","N","Mo","a''","b''","c''",null,"x"]
[null,null,{"$f":"$C$35","v":4.1544915655417694E-2},{"$f":"$D$35","v":3.8256566053946229E-4},{"$f":"$E$35","v":6.28843435479884E-2},{"$f":"$F$35","v":-0.21271459223465167},{"$f":"IF($C$2=1,0.5*($O$31*D555*$F$6/$O$30)*(1-W555^2+(E555-F555)*(F555^2*(1-W555^2)+2*F555*(1-W555)+2*LN((1-F555)/(1-F555*W555)))/(F555^3)),$F$6*F555*(LN((1-E555+E555^2)/(1+E555)^2)/(6*E555)+ATAN((2-E555)/(E555*3^0.5))/(E555*3^0.5)-LN((W555^2-E555*W555+E555^2)/(W555+E555)^2)/(6*E555)-ATAN((2*W555-E555)/(E555*3^0.5))/(E555*3^0.5)))","v":3.6164179713546631},{"$f":"IF($C$2=1,($O$31*D555*$F$6/$O$30)*(1-W555^3-(E555-F555)*(-2*F555^3*(1-W555^3)-3*F555^2*(1-W555^2)-6*F555*(1-W555)-6*LN((1-F555)/(1-F555*W555)))/(2*F555^4))/3,$F$6*F555*(LN((1+E555^3)/(E555^3+W555^3)))/3)","v":2.3589615237756383},{"$f":"$I$35","v":0.65229227994683425},{"$f":"$J$35","v":0.15024377959466625},{"$f":"$K$35","v":10.340089653207192},{"$f":"$L$35","v":3.4667297991276304E-3},{"$f":"$M$35","v":458.16851350986366},{"$f":"$N$35","v":0.15361050939379392},{"$f":"$O$35","v":1.4595642140814678E-2},{"$f":"$P$35","v":3.011841020334027E-2},{"$f":"$Q$35","v":9.9999999999961231E-5},{"$f":"$R$35","v":1.4592630299794346E-2},null,null,null,null,{"$f":"IF(C555<$C$6,0,(C555-$C$6)/C555)","v":0}]
[null,{"$f":"IF(R536>$Q$29*V536,B536,IF(Q536>Q535,$U$6,-0.5)*B536)","v":-4.0714933842728519E-30},{"$f":"IF(Q536>Q535,C536,(1-$T$6)*C536+$T$6*C537)","v":4.4336691510533544E-2},{"$f":"D536+B556","v":4.2836253051247033E-4},{"$f":"IF($C$2=1,D556/($O$31*$O$30),2^(1/3)*$O$30/D556)","v":7.0412217588601944E-2},{"$f":"IF($C$2=1,-($O$31-2)*D556/$O$30,3*($O$30/D556)^2)","v":-0.23817861979058777},{"$f":"IF($C$2=1,0.5*($O$31*D556*$F$6/$O$30)*(1-W556^2+(E556-F556)*(F556^2*(1-W556^2)+2*F556*(1-W556)+2*LN((1-F556)/(1-F556*W556)))/(F556^3)),$F$6*F556*(LN((1-E556+E556^2)/(1+E556)^2)/(6*E556)+ATAN((2-E556)/(E556*3^0.5))/(E556*3^0.5)-LN((W556^2-E556*W556+E556^2)/(W556+E556)^2)/(6*E556)-ATAN((2*W556-E556)/(E556*3^0.5))/(E556*3^0.5)))","v":3.9715403169798402},{"$f":"IF($C$2=1,($O$31*D556*$F$6/$O$30)*(1-W556^3-(E556-F556)*(-2*F556^3*(1-W556^3)-3*F556^2*(1-W556^2)-6*F556*(1-W556)-6*LN((1-F556)/(1-F556*W556)))/(2*F556^4))/3,$F$6*F556*(LN((1+E556^3)/(E556^3+W556^3)))/3)","v":2.584188132605246},{"$f":"H556/G556","v":0.65067654520762697},{"$f":"G556*C556*$D$6","v":0.17608495785558179},{"$f":"MAX(MIN($K$6,$Q$6*$J$6*D556*(C556-$I$6)/C556),-$K$6)","v":30.453565718108756},{"$f":"K556*$H$6","v":1.021019036637784E-2},{"$f":"MIN($O$6,$Q$6*$N$6*D556*(C$6-C556-$M$6)/C556)","v":458.33333333333337},{"$f":"M556*$L$6","v":0.15366576866258877},{"$f":"(0.5*$C$6-C556+I556*C556)*J556+(0.5*$C$6-$I$6)*L556+(0.5*$C$6-$M$6)*N556","v":1.6214853650533177E-2},{"$f":"0.1*$Q$6*D556*$B$6^2/C556+$R$6","v":3.1600367560991036E-2},{"$f":"(J556+L556-N556)","v":3.2629379559370869E-2},{"$f":"O556-P556*Q556","v":1.518375326316997E-2},{"$f":"((R556-R555)*(Q556-Q557)-(R556-R557)*(Q556-Q555))/((Q556^2-Q555^2)*(Q556-Q557)-(Q556^2-Q557^2)*(Q556-Q555))","v":-6.4831158545317541E-2},{"$f":"-(S556*(Q556^2-Q555^2)-(R556-R555))/(Q556-Q555)","v":2.0293855252393835E-2},{"$f":"R556-S556*Q556^2-T556*Q556","v":1.4590601562580692E-2},{"$f":"S536*Q556^2+T536*Q556+U536","v":1.5183753263169968E-2},{"$f":"IF(C556<$C$6,0,(C556-$C$6)/C556)","v":0}]
[null,{"$f":"IF(R537>$Q$29*V537,B537,IF(Q537>Q536,$U$6,-0.5)*B537)","v":-9.0223179613231573E-30},{"$f":"IF(Q537>Q536,C537,(1-$T$6)*C537+$T$6*C538)","v":4.686581864712229E-2},{"$f":"D537+B557","v":4.7696328395726634E-4},7.8400980803794859E-2,-0.26520166581288029,4.3331467008444271,2.8121337206210515,0.6489818865521062,0.20307646745315119,50.786992561801682,1.702739400015367E-2,458.33333333333337,0.15366576866258877,1.7864235302051154E-2,{"$f":"0.1*$Q$6*D557*$B$6^2/C557+$R$6","v":3.3286848702870631E-2},6.643809279071608E-2,1.5652720559219308E-2,-4.9756811336570519E-2,1.8800477777095675E-2,1.4623280241171833E-2,{"$f":"MAX(S537*Q557^2+T537*Q557+U537,S538*Q557^2+T538*Q557+U538)","v":1.5652720559219308E-2},0]
[null,-1.9755967437380844E-25,4.9178183027429483E-2,5.1138343885028133E-4,8.4058803939868143E-2,-0.28433999935383852,4.5801454005629569,2.9669884019048882,0.6477934961497529,0.22524322880112441,69.368502837898973,2.3257231220855375E-2,458.33333333333337,0.15366576866258877,1.9184137140418247E-2,3.4010899743189257E-2,9.4834691359391016E-2,1.5958723960417701E-2,-8.5674673728802192E-2,2.4593051445811309E-2,1.4396974863466982E-2,{"$f":"MAX(S538*Q558^2+T538*Q558+U538,S539*Q558^2+T539*Q558+U539)","v":1.5958723960417701E-2},0]
[null,-2.9337929157055281E-26,5.255221950735349E-2,6.1697554712529133E-4,0.10141553795347201,-0.34305144309200192,5.2936203280021852,3.4101729099852851,0.64420428717680367,0.27819149746575944,107.10970946941983,3.5910754553116271E-2,458.33333333333337,0.15366576866258877,2.2297956507532225E-2,3.8399080921905651E-2,0.16043648335628694,1.6137343000308193E-2,-4.3786215799777366E-2,1.3900135583240885E-2,1.5034305421099795E-2,1.6137343000308196E-2,0]
[null,-3.0453047689280777E-24,5.6242100708700393E-2,7.0133254331032385E-4,0.11528174413960915,-0.3899557157346018,5.818963683896814,3.7322400709586354,0.64139256982941817,0.32727074152999486,147.20958346173595,4.9355070102866543E-2,458.33333333333337,0.15366576866258877,2.5050365319008332E-2,4.0785557081477845E-2,0.22296004297027264,1.5956815759555522E-2,-8.8301719675817521E-3,4.9810980385812964E-4,1.628471545111727E-2,1.5956815759555525E-2,0]
[null,4.6986058604089926E-13,6.0285666570009291E-2,7.6065650732954476E-4,0.12503313826304585,-0.42294109345589892,6.166441663030902,3.9430807492312314,0.63944183123807352,0.37174804602089456,186.03524373583753,6.2372179040726228E-2,455.91886788114448,0.1528562689761454,2.7333601617909487E-2,4.1268478603948847E-2,0.28126395608547539,1.5726266064134038E-2,-8.417555497096095E-2,3.8489060132208978E-2,1.1559759487437477E-2,1.5726266061810025E-2,0]
[null,3.987360739955278E-23,6.4726330142402158E-2,8.7819863250649852E-4,0.14435415983765673,-0.48829699913795377,6.8053796971009088,4.3257344635079829,0.6356345503177061,0.44048725301895425,243.83882845213955,8.175203128119958E-2,446.466521890948,0.1496871736766946,3.0748447865050644E-2,4.4376772522055637E-2,0.37255211062345928,1.4215787599301685E-2,-2.0365940471783875E-2,-3.2306910378563881E-3,1.8246080602101609E-2,1.4215787599301689E-2,0]
[null,-3.379840328595729E-26,6.9614059201644651E-2,7.8513563758028236E-4,0.12905690253470753,-0.43655200720650061,6.3048000198873266,4.0265153460803367,0.63864283298113156,0.43890272183896673,242.75998367563778,8.1390326164438642E-2,331.06202233800951,0.11099541848195205,2.8610370568531229E-2,3.6888557529448765E-2,0.40929762952145332,1.3511971415262091E-2,0.1325320042461188,-0.12277390938423988,4.1560677183424814E-2,1.3511971415262093E-2,0]
[null,3.4913521818182829E-29,7.5006560532026839E-2,7.0629923370310133E-4,0.11609814534121071,-0.39271730055684023,5.8487319536551112,3.7503732737751196,0.64122844122329081,0.43869326731743169,239.59091908357632,8.0327831444844774E-2,239.50111626524173,8.0297723184973982E-2,2.6718556843813031E-2,3.0798773700995447E-2,0.43872337557730245,1.320641488207086E-2,7.9233632511168717E-2,-7.7575770615440409E-2,3.1989971842253738E-2,1.320641488207086E-2,0]
[null,-2.5220048245285826E-27,8.0970715199564836E-2,6.2273731719713515E-4,0.10236263061236728,-0.34625510901866613,5.330720041025705,3.4330409651640004,0.64401074127753954,0.43163221425050491,229.02447078312059,7.6785210208212704E-2,162.27240740729769,5.44051946552098E-2,2.4522409045620624E-2,2.5154799312241176E-2,0.45401222980350781,1.3101822519610264E-2,3.0387102457549484E-2,-3.3968734037270736E-2,2.226043775029931E-2,1.3101822519610265E-2,0]
[null,-3.1720770085769274E-25,8.758432627758074E-2,5.8481020354910558E-4,9.6128350094186091E-2,-0.32516683229539312,5.0831078128240179,3.2800736109728525,0.64528901053360599,0.44520057318249862,230.93188448778943,7.7424710265853777E-2,108.78569015740366,3.6472661885514873E-2,2.3545350031374628E-2,2.18389869414767E-2,0.48615262156283745,1.2928269277499157E-2,1.1367883014099299E-2,-1.6087532416115498E-2,1.8062530170358901E-2,1.2928269277499158E-2,0]
[null,3.2673081312289843E-24,9.4938257676883894E-2,5.6969411472841528E-4,9.3643638525558126E-2,-0.31676196745430468,4.982150779696128,3.2174795460597188,0.64580131921578654,0.472996714507879,239.61101827654974,8.0334570116708984E-2,65.691188029419052,2.2024335060871258E-2,2.3151852089894072E-2,1.9626570405383712E-2,0.53130694956371682,1.272411883741213E-2,-5.2931419070895514E-3,8.6438685472614476E-4,1.3759049639069126E-2,1.272411883741213E-2,0]
[null,3.3625392538810445E-24,0.10313906536129758,5.8629879599349385E-4,9.6373037917300813E-2,-0.32599452115373218,5.0929790145763327,3.2861868979215032,0.64523864883721094,0.52528509546810531,260.87074990002941,8.7462336665397739E-2,28.347222974740028,9.5039952171561207E-3,2.3570151255648378E-2,1.8592583970520899E-2,0.60324343691634685,1.2354297000115573E-2,-1.8027180767272961E-2,1.5311795564999384E-2,9.6776955664940479E-3,1.2354297000115574E-2,0]
[null,3.4577703765331025E-24,0.11231225223019801,6.0290347725857241E-4,9.9102437309043501E-2,-0.33522707485315972,5.2022372721371628,3.3537676665211134,0.64467795125064176,0.58427498466960626,282.13954885926086,9.4593143226707629E-2,-9.0216772532560192,-3.0247046612670078E-3,2.370884595716187E-2,1.7557577460386026E-2,0.68189283255758093,1.1736459729850105E-2,-1.8067845142774541E-2,1.5364054828831974E-2,9.6609683823380213E-3,1.1736459729850105E-2,0]
[null,-3.55300149918516E-25,0.12260631802291558,6.5503817351550279E-4,0.1076720934187106,-0.36421506776379481,5.5353501863505192,3.5588419305724188,0.64292986184470813,0.67866890531589674,320.77347697106751,0.10754596997526611,-48.952338765321734,-1.6412288212810048E-2,2.4378363485346045E-2,1.7474216027512229E-2,0.8026271635039729,1.0353083040728243E-2,-1.994325612182777E-2,1.8148139928069868E-2,8.6345452448879055E-3,1.0353083040728244E-2,0]
[null,2.9903546080632937E-28,0.13419782954979564,7.6828651346512759E-4,0.1262873227772196,-0.42718353811648285,6.209875691398449,3.9693055113048223,0.63919242647688879,0.83335183955970848,391.96748376935693,0.13141523931089238,-100.68981850902709,-3.3758352780406259E-2,2.5568821888316572E-2,1.8724992766735494E-2,0.99852543165100716,6.8714404032500266E-3,-2.0162981552624935E-2,1.8543898957971733E-2,8.4584476969514731E-3,6.8714404032500266E-3,0]
[null,6.5243225261098826E-23,0.14729780979304705,8.5562967400664661E-4,0.1406443806122456,-0.47574818124957569,6.6875786328014373,4.2557076587226392,0.63636001793670371,0.98506568543043171,453.0142180061074,0.15188242478179645,-157.47234887018769,-5.2795875343070682E-2,2.4584514986992882E-2,1.8999120158737701E-2,1.1897439855552987,1.9804260472922677E-3,-2.0250404605281321E-2,1.8735204150458519E-2,8.3545900172585438E-3,{"$f":"S552*Q572^2+T552*Q572+U552","v":1.9804260472922677E-3},0]
[null,null,{"$f":"C553","v":0.16215984472146291},{"$f":"D553+(D572-D552)","v":8.7717473586713273E-4},0.14418585652486929,-0.48772769096788438,6.746369160550632,4.3199169276239173,0.64033212900423764,1.0939901755085566,458.33333333333337,0.15366576866258877,-205.07395718350207,-6.8755303119887257E-2,2.1215589851194112E-2,1.7692399435883077E-2,1.3164112472910328,-2.0748837577678932E-3,null,null,null,null,7.4986780743096546E-2]
[null,"De","hc","e0","a'","b'","N'","tN'","t","Nc","sac","Nac","sat","Nat","Mtot","u","N","Mo","a''","b''","c''",null,"x"]
[null,null,{"$f":"$C$35","v":4.1544915655417694E-2},{"$f":"$D$35","v":3.8256566053946229E-4},{"$f":"$E$35","v":6.28843435479884E-2},{"$f":"$F$35","v":-0.21271459223465167},{"$f":"IF($C$2=1,0.5*($O$31*D575*$F$6/$O$30)*(1-W575^2+(E575-F575)*(F575^2*(1-W575^2)+2*F575*(1-W575)+2*LN((1-F575)/(1-F575*W575)))/(F575^3)),$F$6*F575*(LN((1-E575+E575^2)/(1+E575)^2)/(6*E575)+ATAN((2-E575)/(E575*3^0.5))/(E575*3^0.5)-LN((W575^2-E575*W575+E575^2)/(W575+E575)^2)/(6*E575)-ATAN((2*W575-E575)/(E575*3^0.5))/(E575*3^0.5)))","v":3.6164179713546631},{"$f":"IF($C$2=1,($O$31*D575*$F$6/$O$30)*(1-W575^3-(E575-F575)*(-2*F575^3*(1-W575^3)-3*F575^2*(1-W575^2)-6*F575*(1-W575)-6*LN((1-F575)/(1-F575*W575)))/(2*F575^4))/3,$F$6*F575*(LN((1+E575^3)/(E575^3+W575^3)))/3)","v":2.3589615237756383},{"$f":"$I$35","v":0.65229227994683425},{"$f":"$J$35","v":0.15024377959466625},{"$f":"$K$35","v":10.340089653207192},{"$f":"$L$35","v":3.4667297991276304E-3},{"$f":"$M$35","v":458.16851350986366},{"$f":"$N$35","v":0.15361050939379392},{"$f":"$O$35","v":1.4595642140814678E-2},{"$f":"$P$35","v":3.011841020334027E-2},{"$f":"$Q$35","v":9.9999999999961231E-5},{"$f":"$R$35","v":1.4592630299794346E-2},null,null,null,null,{"$f":"IF(C575<$C$6,0,(C575-$C$6)/C575)","v":0}]
[null,{"$f":"IF(R556>$Q$29*V556,B556,IF(Q556>Q555,$U$6,-0.5)*B556)","v":4.0714933842728525E-31},{"$f":"IF(Q556>Q555,C556,(1-$T$6)*C556+$T$6*C557)","v":4.4336691510533544E-2},{"$f":"D556+B576","v":4.2836253051247033E-4},{"$f":"IF($C$2=1,D576/($O$31*$O$30),2^(1/3)*$O$30/D576)","v":7.0412217588601944E-2},{"$f":"IF($C$2=1,-($O$31-2)*D576/$O$30,3*($O$30/D576)^2)","v":-0.23817861979058777},{"$f":"IF($C$2=1,0.5*($O$31*D576*$F$6/$O$30)*(1-W576^2+(E576-F576)*(F576^2*(1-W576^2)+2*F576*(1-W576)+2*LN((1-F576)/(1-F576*W576)))/(F576^3)),$F$6*F576*(LN((1-E576+E576^2)/(1+E576)^2)/(6*E576)+ATAN((2-E576)/(E576*3^0.5))/(E576*3^0.5)-LN((W576^2-E576*W576+E576^2)/(W576+E576)^2)/(6*E576)-ATAN((2*W576-E576)/(E576*3^0.5))/(E576*3^0.5)))","v":3.9715403169798402},{"$f":"IF($C$2=1,($O$31*D576*$F$6/$O$30)*(1-W576^3-(E576-F576)*(-2*F576^3*(1-W576^3)-3*F576^2*(1-W576^2)-6*F576*(1-W576)-6*LN((1-F576)/(1-F576*W576)))/(2*F576^4))/3,$F$6*F576*(LN((1+E576^3)/(E576^3+W576^3)))/3)","v":2.584188132605246},{"$f":"H576/G576","v":0.65067654520762697},{"$f":"G576*C576*$D$6","v":0.17608495785558179},{"$f":"MAX(MIN($K$6,$Q$6*$J$6*D576*(C576-$I$6)/C576),-$K$6)","v":30.453565718108756},{"$f":"K576*$H$6","v":1.021019036637784E-2},{"$f":"MIN($O$6,$Q$6*$N$6*D576*(C$6-C576-$M$6)/C576)","v":458.33333333333337},{"$f":"M576*$L$6","v":0.15366576866258877},{"$f":"(0.5*$C$6-C576+I576*C576)*J576+(0.5*$C$6-$I$6)*L576+(0.5*$C$6-$M$6)*N576","v":1.6214853650533177E-2},{"$f":"0.1*$Q$6*D576*$B$6^2/C576+$R$6","v":3.1600367560991036E-2},{"$f":"(J576+L576-N576)","v":3.2629379559370869E-2},{"$f":"O576-P576*Q576","v":1.518375326316997E-2},{"$f":"((R576-R575)*(Q576-Q577)-(R576-R577)*(Q576-Q575))/((Q576^2-Q575^2)*(Q576-Q577)-(Q576^2-Q577^2)*(Q576-Q575))","v":-6.4831158545317541E-2},{"$f":"-(S576*(Q576^2-Q575^2)-(R576-R575))/(Q576-Q575)","v":2.0293855252393835E-2},{"$f":"R576-S576*Q576^2-T576*Q576","v":1.4590601562580692E-2},{"$f":"S556*Q576^2+T556*Q576+U556","v":1.5183753263169968E-2},{"$f":"IF(C576<$C$6,0,(C576-$C$6)/C576)","v":0}]
[null,{"$f":"IF(R557>$Q$29*V557,B557,IF(Q557>Q556,$U$6,-0.5)*B557)","v":9.0223179613231583E-31},{"$f":"IF(Q557>Q556,C557,(1-$T$6)*C557+$T$6*C558)","v":4.686581864712229E-2},{"$f":"D557+B577","v":4.7696328395726634E-4},7.8400980803794859E-2,-0.26520166581288029,4.3331467008444271,2.8121337206210515,0.6489818865521062,0.20307646745315119,50.786992561801682,1.702739400015367E-2,458.33333333333337,0.15366576866258877,1.7864235302051154E-2,{"$f":"0.1*$Q$6*D577*$B$6^2/C577+$R$6","v":3.3286848702870631E-2},6.643809279071608E-2,1.5652720559219308E-2,-4.9756811336570519E-2,1.8800477777095675E-2,1.4623280241171833E-2,{"$f":"MAX(S557*Q577^2+T557*Q577+U557,S558*Q577^2+T558*Q577+U558)","v":1.5652720559219308E-2},0]
[null,1.9755967437380846E-26,4.9178183027429483E-2,5.1138343885028133E-4,8.4058803939868143E-2,-0.28433999935383852,4.5801454005629569,2.9669884019048882,0.6477934961497529,0.22524322880112441,69.368502837898973,2.3257231220855375E-2,458.33333333333337,0.15366576866258877,1.9184137140418247E-2,3.4010899743189257E-2,9.4834691359391016E-2,1.5958723960417701E-2,-8.5674673728802192E-2,2.4593051445811309E-2,1.4396974863466982E-2,{"$f":"MAX(S558*Q578^2+T558*Q578+U558,S559*Q578^2+T559*Q578+U559)","v":1.5958723960417701E-2},0]
[null,2.9337929157055282E-27,5.255221950735349E-2,6.1697554712529133E-4,0.10141553795347201,-0.34305144309200192,5.2936203280021852,3.4101729099852851,0.64420428717680367,0.27819149746575944,107.10970946941983,3.5910754553116271E-2,458.33333333333337,0.15366576866258877,2.2297956507532225E-2,3.8399080921905651E-2,0.16043648335628694,1.6137343000308193E-2,-4.3786215799777366E-2,1.3900135583240885E-2,1.5034305421099795E-2,1.6137343000308193E-2,0]
[null,3.045304768928078E-25,5.6242100708700393E-2,7.0133254331032385E-4,0.11528174413960915,-0.3899557157346018,5.818963683896814,3.7322400709586354,0.64139256982941817,0.32727074152999486,147.20958346173595,4.9355070102866543E-2,458.33333333333337,0.15366576866258877,2.5050365319008332E-2,4.0785557081477845E-2,0.22296004297027264,1.5956815759555522E-2,-8.8301719939574818E-3,4.9810981397049306E-4,1.6284715450173785E-2,1.5956815759555525E-2,0]
[null,-4.6986058604089928E-14,6.0285666570009291E-2,7.606565072825587E-4,0.1250331382553225,-0.42294109342977371,6.1664416627625567,3.9430807490691451,0.63944183123961496,0.37174804600471717,186.03524372434603,6.2372179036873462E-2,455.91886785298215,0.1528562689667034,2.7333601616617052E-2,4.1268478601399677E-2,0.28126395607488724,1.5726266063995548E-2,-8.4175554927311477E-2,3.8489060106215181E-2,1.1559759491063188E-2,1.5726266064289545E-2,0]
[null,-3.9873607399552784E-24,6.4726330142402158E-2,8.7819863250649852E-4,0.14435415983765673,-0.48829699913795377,6.8053796971009088,4.3257344635079829,0.6356345503177061,0.44048725301895425,243.83882845213955,8.175203128119958E-2,446.466521890948,0.1496871736766946,3.0748447865050644E-2,4.4376772522055637E-2,0.37255211062345928,1.4215787599301685E-2,-2.0365940496937854E-2,-3.2306910181897509E-3,1.8246080598266011E-2,1.4215787599301689E-2,0]
[null,3.3798403285957294E-27,6.9614059201644651E-2,7.8513563758028236E-4,0.12905690253470753,-0.43655200720650061,6.3048000198873266,4.0265153460803367,0.63864283298113156,0.43890272183896673,242.75998367563778,8.1390326164438642E-2,331.06202233800951,0.11099541848195205,2.8610370568531229E-2,3.6888557529448765E-2,0.40929762952145332,1.3511971415262091E-2,0.1325320042461188,-0.12277390938423988,4.1560677183424814E-2,1.3511971415262093E-2,0]
[null,-3.4913521818182828E-30,7.5006560532026839E-2,7.0629923370310133E-4,0.11609814534121071,-0.39271730055684023,5.8487319536551112,3.7503732737751196,0.64122844122329081,0.43869326731743169,239.59091908357632,8.0327831444844774E-2,239.50111626524173,8.0297723184973982E-2,2.6718556843813031E-2,3.0798773700995447E-2,0.43872337557730245,1.320641488207086E-2,7.9233632511168717E-2,-7.7575770615440409E-2,3.1989971842253738E-2,1.320641488207086E-2,0]
[null,2.5220048245285828E-28,8.0970715199564836E-2,6.2273731719713515E-4,0.10236263061236728,-0.34625510901866613,5.330720041025705,3.4330409651640004,0.64401074127753954,0.43163221425050491,229.02447078312059,7.6785210208212704E-2,162.27240740729769,5.44051946552098E-2,2.4522409045620624E-2,2.5154799312241176E-2,0.45401222980350781,1.3101822519610264E-2,3.0387102457549484E-2,-3.3968734037270736E-2,2.226043775029931E-2,1.3101822519610265E-2,0]
[null,3.1720770085769274E-26,8.758432627758074E-2,5.8481020354910558E-4,9.6128350094186091E-2,-0.32516683229539312,5.0831078128240179,3.2800736109728525,0.64528901053360599,0.44520057318249862,230.93188448778943,7.7424710265853777E-2,108.78569015740366,3.6472661885514873E-2,2.3545350031374628E-2,2.18389869414767E-2,0.48615262156283745,1.2928269277499157E-2,1.1367883014099299E-2,-1.6087532416115498E-2,1.8062530170358901E-2,1.2928269277499158E-2,0]
[null,-3.2673081312289844E-25,9.4938257676883894E-2,5.6969411472841528E-4,9.3643638525558126E-2,-0.31676196745430468,4.982150779696128,3.2174795460597188,0.64580131921578654,0.472996714507879,239.61101827654974,8.0334570116708984E-2,65.691188029419052,2.2024335060871258E-2,2.3151852089894072E-2,1.9626570405383712E-2,0.53130694956371682,1.272411883741213E-2,-5.2931419070895514E-3,8.6438685472614476E-4,1.3759049639069126E-2,1.272411883741213E-2,0]
[null,-3.3625392538810446E-25,0.10313906536129758,5.8629879599349385E-4,9.6373037917300813E-2,-0.32599452115373218,5.0929790145763327,3.2861868979215032,0.64523864883721094,0.52528509546810531,260.87074990002941,8.7462336665397739E-2,28.347222974740028,9.5039952171561207E-3,2.3570151255648378E-2,1.8592583970520899E-2,0.60324343691634685,1.2354297000115573E-2,-1.8027180767272961E-2,1.5311795564999384E-2,9.6776955664940479E-3,1.2354297000115574E-2,0]
[null,-3.4577703765331025E-25,0.11231225223019801,6.0290347725857241E-4,9.9102437309043501E-2,-0.33522707485315972,5.2022372721371628,3.3537676665211134,0.64467795125064176,0.58427498466960626,282.13954885926086,9.4593143226707629E-2,-9.0216772532560192,-3.0247046612670078E-3,2.370884595716187E-2,1.7557577460386026E-2,0.68189283255758093,1.1736459729850105E-2,-1.8067845142774541E-2,1.5364054828831974E-2,9.6609683823380213E-3,1.1736459729850105E-2,0]
[null,3.5530014991851602E-26,0.12260631802291558,6.5503817351550279E-4,0.1076720934187106,-0.36421506776379481,5.5353501863505192,3.5588419305724188,0.64292986184470813,0.67866890531589674,320.77347697106751,0.10754596997526611,-48.952338765321734,-1.6412288212810048E-2,2.4378363485346045E-2,1.7474216027512229E-2,0.8026271635039729,1.0353083040728243E-2,-1.994325612182777E-2,1.8148139928069868E-2,8.6345452448879055E-3,1.0353083040728244E-2,0]
[null,-2.9903546080632939E-29,0.13419782954979564,7.6828651346512759E-4,0.1262873227772196,-0.42718353811648285,6.209875691398449,3.9693055113048223,0.63919242647688879,0.83335183955970848,391.96748376935693,0.13141523931089238,-100.68981850902709,-3.3758352780406259E-2,2.5568821888316572E-2,1.8724992766735494E-2,0.99852543165100716,6.8714404032500266E-3,-2.0162981552624935E-2,1.8543898957971733E-2,8.4584476969514731E-3,6.8714404032500266E-3,0]
[null,-6.5243225261098828E-24,0.14729780979304705,8.5562967400664661E-4,0.1406443806122456,-0.47574818124957569,6.6875786328014373,4.2557076587226392,0.63636001793670371,0.98506568543043171,453.0142180061074,0.15188242478179645,-157.47234887018769,-5.2795875343070682E-2,2.4584514986992882E-2,1.8999120158737701E-2,1.1897439855552987,1.9804260472922677E-3,-2.0250404605281321E-2,1.8735204150458519E-2,8.3545900172585438E-3,{"$f":"S572*Q592^2+T572*Q592+U572","v":1.9804260472922677E-3},0]
[null,null,{"$f":"C573","v":0.16215984472146291},{"$f":"D573+(D592-D572)","v":8.7717473586713273E-4},0.14418585652486929,-0.48772769096788438,6.746369160550632,4.3199169276239173,0.64033212900423764,1.0939901755085566,458.33333333333337,0.15366576866258877,-205.07395718350207,-6.8755303119887257E-2,2.1215589851194112E-2,1.7692399435883077E-2,1.3164112472910328,-2.0748837577678932E-3,null,null,null,null,7.4986780743096546E-2]
[null,"De","hc","e0","a'","b'","N'","tN'","t","Nc","sac","Nac","sat","Nat","Mtot","u","N","Mo","a''","b''","c''",null,"x"]
[null,null,{"$f":"$C$35","v":4.1544915655417694E-2},{"$f":"$D$35","v":3.8256566053946229E-4},{"$f":"$E$35","v":6.28843435479884E-2},{"$f":"$F$35","v":-0.21271459223465167},{"$f":"IF($C$2=1,0.5*($O$31*D595*$F$6/$O$30)*(1-W595^2+(E595-F595)*(F595^2*(1-W595^2)+2*F595*(1-W595)+2*LN((1-F595)/(1-F595*W595)))/(F595^3)),$F$6*F595*(LN((1-E595+E595^2)/(1+E595)^2)/(6*E595)+ATAN((2-E595)/(E595*3^0.5))/(E595*3^0.5)-LN((W595^2-E595*W595+E595^2)/(W595+E595)^2)/(6*E595)-ATAN((2*W595-E595)/(E595*3^0.5))/(E595*3^0.5)))","v":3.6164179713546631},{"$f":"IF($C$2=1,($O$31*D595*$F$6/$O$30)*(1-W595^3-(E595-F595)*(-2*F595^3*(1-W595^3)-3*F595^2*(1-W595^2)-6*F595*(1-W595)-6*LN((1-F595)/(1-F595*W595)))/(2*F595^4))/3,$F$6*F595*(LN((1+E595^3)/(E595^3+W595^3)))/3)","v":2.3589615237756383},{"$f":"$I$35","v":0.65229227994683425},{"$f":"$J$35","v":0.15024377959466625},{"$f":"$K$35","v":10.340089653207192},{"$f":"$L$35","v":3.4667297991276304E-3},{"$f":"$M$35","v":458.16851350986366},{"$f":"$N$35","v":0.15361050939379392},{"$f":"$O$35","v":1.4595642140814678E-2},{"$f":"$P$35","v":3.011841020334027E-2},{"$f":"$Q$35","v":9.9999999999961231E-5},{"$f":"$R$35","v":1.4592630299794346E-2},null,null,null,null,{"$f":"IF(C595<$C$6,0,(C595-$C$6)/C595)","v":0}]
[null,{"$f":"IF(R576>$Q$29*V576,B576,IF(Q576>Q575,$U$6,-0.5)*B576)","v":-4.0714933842728529E-32},{"$f":"IF(Q576>Q575,C576,(1-$T$6)*C576+$T$6*C577)","v":4.4336691510533544E-2},{"$f":"D576+B596","v":4.2836253051247033E-4},{"$f":"IF($C$2=1,D596/($O$31*$O$30),2^(1/3)*$O$30/D596)","v":7.0412217588601944E-2},{"$f":"IF($C$2=1,-($O$31-2)*D596/$O$30,3*($O$30/D596)^2)","v":-0.23817861979058777},{"$f":"IF($C$2=1,0.5*($O$31*D596*$F$6/$O$30)*(1-W596^2+(E596-F596)*(F596^2*(1-W596^2)+2*F596*(1-W596)+2*LN((1-F596)/(1-F596*W596)))/(F596^3)),$F$6*F596*(LN((1-E596+E596^2)/(1+E596)^2)/(6*E596)+ATAN((2-E596)/(E596*3^0.5))/(E596*3^0.5)-LN((W596^2-E596*W596+E596^2)/(W596+E596)^2)/(6*E596)-ATAN((2*W596-E596)/(E596*3^0.5))/(E596*3^0.5)))","v":3.9715403169798402},{"$f":"IF($C$2=1,($O$31*D596*$F$6/$O$30)*(1-W596^3-(E596-F596)*(-2*F596^3*(1-W596^3)-3*F596^2*(1-W596^2)-6*F596*(1-W596)-6*LN((1-F596)/(1-F596*W596)))/(2*F596^4))/3,$F$6*F596*(LN((1+E596^3)/(E596^3+W596^3)))/3)","v":2.584188132605246},{"$f":"H596/G596","v":0.65067654520762697},{"$f":"G596*C596*$D$6","v":0.17608495785558179},{"$f":"MAX(MIN($K$6,$Q$6*$J$6*D596*(C596-$I$6)/C596),-$K$6)","v":30.453565718108756},{"$f":"K596*$H$6","v":1.021019036637784E-2},{"$f":"MIN($O$6,$Q$6*$N$6*D596*(C$6-C596-$M$6)/C596)","v":458.33333333333337},{"$f":"M596*$L$6","v":0.15366576866258877},{"$f":"(0.5*$C$6-C596+I596*C596)*J596+(0.5*$C$6-$I$6)*L596+(0.5*$C$6-$M$6)*N596","v":1.6214853650533177E-2},{"$f":"0.1*$Q$6*D596*$B$6^2/C596+$R$6","v":3.1600367560991036E-2},{"$f":"(J596+L596-N596)","v":3.2629379559370869E-2},{"$f":"O596-P596*Q596","v":1.518375326316997E-2},{"$f":"((R596-R595)*(Q596-Q597)-(R596-R597)*(Q596-Q595))/((Q596^2-Q595^2)*(Q596-Q597)-(Q596^2-Q597^2)*(Q596-Q595))","v":-6.4831158545317541E-2},{"$f":"-(S596*(Q596^2-Q595^2)-(R596-R595))/(Q596-Q595)","v":2.0293855252393835E-2},{"$f":"R596-S596*Q596^2-T596*Q596","v":1.4590601562580692E-2},{"$f":"S576*Q596^2+T576*Q596+U576","v":1.5183753263169968E-2},{"$f":"IF(C596<$C$6,0,(C596-$C$6)/C596)","v":0}]
[null,{"$f":"IF(R577>$Q$29*V577,B577,IF(Q577>Q576,$U$6,-0.5)*B577)","v":-9.0223179613231592E-32},{"$f":"IF(Q577>Q576,C577,(1-$T$6)*C577+$T$6*C578)","v":4.686581864712229E-2},{"$f":"D577+B597","v":4.7696328395726634E-4},7.8400980803794859E-2,-0.26520166581288029,4.3331467008444271,2.8121337206210515,0.6489818865521062,0.20307646745315119,50.786992561801682,1.702739400015367E-2,458.33333333333337,0.15366576866258877,1.7864235302051154E-2,{"$f":"0.1*$Q$6*D597*$B$6^2/C597+$R$6","v":3.3286848702870631E-2},6.643809279071608E-2,1.5652720559219308E-2,-4.9756811336570519E-2,1.8800477777095675E-2,1.4623280241171833E-2,{"$f":"MAX(S577*Q597^2+T577*Q597+U577,S578*Q597^2+T578*Q597+U578)","v":1.5652720559219308E-2},0]
[null,-1.9755967437380846E-27,4.9178183027429483E-2,5.1138343885028133E-4,8.4058803939868143E-2,-0.28433999935383852,4.5801454005629569,2.9669884019048882,0.6477934961497529,0.22524322880112441,69.368502837898973,2.3257231220855375E-2,458.33333333333337,0.15366576866258877,1.9184137140418247E-2,3.4010899743189257E-2,9.4834691359391016E-2,1.5958723960417701E-2,-8.5674673728802192E-2,2.4593051445811309E-2,1.4396974863466982E-2,{"$f":"MAX(S578*Q598^2+T578*Q598+U578,S579*Q598^2+T579*Q598+U579)","v":1.5958723960417701E-2},0]
[null,-2.9337929157055284E-28,5.255221950735349E-2,6.1697554712529133E-4,0.10141553795347201,-0.34305144309200192,5.2936203280021852,3.4101729099852851,0.64420428717680367,0.27819149746575944,107.10970946941983,3.5910754553116271E-2,458.33333333333337,0.15366576866258877,2.2297956507532225E-2,3.8399080921905651E-2,0.16043648335628694,1.6137343000308193E-2,-4.3786215799777366E-2,1.3900135583240885E-2,1.5034305421099795E-2,1.6137343000308193E-2,0]
[null,-3.045304768928078E-26,5.6242100708700393E-2,7.0133254331032385E-4,0.11528174413960915,-0.3899557157346018,5.818963683896814,3.7322400709586354,0.64139256982941817,0.32727074152999486,147.20958346173595,4.9355070102866543E-2,458.33333333333337,0.15366576866258877,2.5050365319008332E-2,4.0785557081477845E-2,0.22296004297027264,1.5956815759555522E-2,-8.8301719912982479E-3,4.9810981295095183E-4,1.6284715450268911E-2,1.5956815759555522E-2,0]
[null,4.6986058604089928E-15,6.0285666570009291E-2,7.606565072872573E-4,0.12503313825609483,-0.42294109343238623,6.1664416627893868,3.9430807490853934,0.63944183123946763,0.37174804600633465,186.03524372549518,6.2372179037258738E-2,455.9188678557984,0.15285626896764759,2.7333601616746434E-2,4.1268478601654592E-2,0.28126395607594579,1.572626606400955E-2,-8.4175554931705004E-2,3.8489060108831581E-2,1.1559759490698242E-2,1.5726266063986166E-2,0]
[null,3.9873607399552788E-25,6.4726330142402158E-2,8.7819863250649852E-4,0.14435415983765673,-0.48829699913795377,6.8053796971009088,4.3257344635079829,0.6356345503177061,0.44048725301895425,243.83882845213955,8.175203128119958E-2,446.466521890948,0.1496871736766946,3.0748447865050644E-2,4.4376772522055637E-2,0.37255211062345928,1.4215787599301685E-2,-2.0365940494409651E-2,-3.2306910201664288E-3,1.8246080598651522E-2,1.4215787599301689E-2,0]
[null,-3.3798403285957296E-28,6.9614059201644651E-2,7.8513563758028236E-4,0.12905690253470753,-0.43655200720650061,6.3048000198873266,4.0265153460803367,0.63864283298113156,0.43890272183896673,242.75998367563778,8.1390326164438642E-2,331.06202233800951,0.11099541848195205,2.8610370568531229E-2,3.6888557529448765E-2,0.40929762952145332,1.3511971415262091E-2,0.1325320042461188,-0.12277390938423988,4.1560677183424814E-2,1.3511971415262093E-2,0]
[null,3.4913521818182828E-31,7.5006560532026839E-2,7.0629923370310133E-4,0.11609814534121071,-0.39271730055684023,5.8487319536551112,3.7503732737751196,0.64122844122329081,0.43869326731743169,239.59091908357632,8.0327831444844774E-2,239.50111626524173,8.0297723184973982E-2,2.6718556843813031E-2,3.0798773700995447E-2,0.43872337557730245,1.320641488207086E-2,7.9233632511168717E-2,-7.7575770615440409E-2,3.1989971842253738E-2,1.320641488207086E-2,0]
[null,-2.5220048245285829E-29,8.0970715199564836E-2,6.2273731719713515E-4,0.10236263061236728,-0.34625510901866613,5.330720041025705,3.4330409651640004,0.64401074127753954,0.43163221425050491,229.02447078312059,7.6785210208212704E-2,162.27240740729769,5.44051946552098E-2,2.4522409045620624E-2,2.5154799312241176E-2,0.45401222980350781,1.3101822519610264E-2,3.0387102457549484E-2,-3.3968734037270736E-2,2.226043775029931E-2,1.3101822519610265E-2,0]
[null,-3.1720770085769274E-27,8.758432627758074E-2,5.8481020354910558E-4,9.6128350094186091E-2,-0.32516683229539312,5.0831078128240179,3.2800736109728525,0.64528901053360599,0.44520057318249862,230.93188448778943,7.7424710265853777E-2,108.78569015740366,3.6472661885514873E-2,2.3545350031374628E-2,2.18389869414767E-2,0.48615262156283745,1.2928269277499157E-2,1.1367883014099299E-2,-1.6087532416115498E-2,1.8062530170358901E-2,1.2928269277499158E-2,0]
[null,3.2673081312289847E-26,9.4938257676883894E-2,5.6969411472841528E-4,9.3643638525558126E-2,-0.31676196745430468,4.982150779696128,3.2174795460597188,0.64580131921578654,0.472996714507879,239.61101827654974,8.0334570116708984E-2,65.691188029419052,2.2024335060871258E-2,2.3151852089894072E-2,1.9626570405383712E-2,0.53130694956371682,1.272411883741213E-2,-5.2931419070895514E-3,8.6438685472614476E-4,1.3759049639069126E-2,1.272411883741213E-2,0]
[null,3.362539253881045E-26,0.10313906536129758,5.8629879599349385E-4,9.6373037917300813E-2,-0.32599452115373218,5.0929790145763327,3.2861868979215032,0.64523864883721094,0.52528509546810531,260.87074990002941,8.7462336665397739E-2,28.347222974740028,9.5039952171561207E-3,2.3570151255648378E-2,1.8592583970520899E-2,0.60324343691634685,1.2354297000115573E-2,-1.8027180767272961E-2,1.5311795564999384E-2,9.6776955664940479E-3,1.2354297000115574E-2,0]
[null,3.4577703765331029E-26,0.11231225223019801,6.0290347725857241E-4,9.9102437309043501E-2,-0.33522707485315972,5.2022372721371628,3.3537676665211134,0.64467795125064176,0.58427498466960626,282.13954885926086,9.4593143226707629E-2,-9.0216772532560192,-3.0247046612670078E-3,2.370884595716187E-2,1.7557577460386026E-2,0.68189283255758093,1.1736459729850105E-2,-1.8067845142774541E-2,1.5364054828831974E-2,9.6609683823380213E-3,1.1736459729850105E-2,0]
[null,-3.5530014991851602E-27,0.12260631802291558,6.5503817351550279E-4,0.1076720934187106,-0.36421506776379481,5.5353501863505192,3.5588419305724188,0.64292986184470813,0.67866890531589674,320.77347697106751,0.10754596997526611,-48.952338765321734,-1.6412288212810048E-2,2.4378363485346045E-2,1.7474216027512229E-2,0.8026271635039729,1.0353083040728243E-2,-1.994325612182777E-2,1.8148139928069868E-2,8.6345452448879055E-3,1.0353083040728244E-2,0]
[null,2.9903546080632941E-30,0.13419782954979564,7.6828651346512759E-4,0.1262873227772196,-0.42718353811648285,6.209875691398449,3.9693055113048223,0.63919242647688879,0.83335183955970848,391.96748376935693,0.13141523931089238,-100.68981850902709,-3.3758352780406259E-2,2.5568821888316572E-2,1.8724992766735494E-2,0.99852543165100716,6.8714404032500266E-3,-2.0162981552624935E-2,1.8543898957971733E-2,8.4584476969514731E-3,6.8714404032500266E-3,0]
[null,6.5243225261098835E-25,0.14729780979304705,8.5562967400664661E-4,0.1406443806122456,-0.47574818124957569,6.6875786328014373,4.2557076587226392,0.63636001793670371,0.98506568543043171,453.0142180061074,0.15188242478179645,-157.47234887018769,-5.2795875343070682E-2,2.4584514986992882E-2,1.8999120158737701E-2,1.1897439855552987,1.9804260472922677E-3,-2.0250404605281321E-2,1.8735204150458519E-2,8.3545900172585438E-3,{"$f":"S592*Q612^2+T592*Q612+U592","v":1.9804260472922677E-3},0]
[null,null,{"$f":"C593","v":0.16215984472146291},{"$f":"D593+(D612-D592)","v":8.7717473586713273E-4},0.14418585652486929,-0.48772769096788438,6.746369160550632,4.3199169276239173,0.64033212900423764,1.0939901755085566,458.33333333333337,0.15366576866258877,-205.07395718350207,-6.8755303119887257E-2,2.1215589851194112E-2,1.7692399435883077E-2,1.3164112472910328,-2.0748837577678932E-3,null,null,null,null,7.4986780743096546E-2]
[null,"De","hc","e0","a'","b'","N'","tN'","t","Nc","sac","Nac","sat","Nat","Mtot","u","N","Mo","a''","b''","c''",null,"x"]
[null,null,{"$f":"$C$35","v":4.1544915655417694E-2},{"$f":"$D$35","v":3.8256566053946229E-4},{"$f":"$E$35","v":6.28843435479884E-2},{"$f":"$F$35","v":-0.21271459223465167},{"$f":"IF($C$2=1,0.5*($O$31*D615*$F$6/$O$30)*(1-W615^2+(E615-F615)*(F615^2*(1-W615^2)+2*F615*(1-W615)+2*LN((1-F615)/(1-F615*W615)))/(F615^3)),$F$6*F615*(LN((1-E615+E615^2)/(1+E615)^2)/(6*E615)+ATAN((2-E615)/(E615*3^0.5))/(E615*3^0.5)-LN((W615^2-E615*W615+E615^2)/(W615+E615)^2)/(6*E615)-ATAN((2*W615-E615)/(E615*3^0.5))/(E615*3^0.5)))","v":3.6164179713546631},{"$f":"IF($C$2=1,($O$31*D615*$F$6/$O$30)*(1-W615^3-(E615-F615)*(-2*F615^3*(1-W615^3)-3*F615^2*(1-W615^2)-6*F615*(1-W615)-6*LN((1-F615)/(1-F615*W615)))/(2*F615^4))/3,$F$6*F615*(LN((1+E615^3)/(E615^3+W615^3)))/3)","v":2.3589615237756383},{"$f":"$I$35","v":0.65229227994683425},{"$f":"$J$35","v":0.15024377959466625},{"$f":"$K$35","v":10.340089653207192},{"$f":"$L$35","v":3.4667297991276304E-3},{"$f":"$M$35","v":458.16851350986366},{"$f":"$N$35","v":0.15361050939379392},{"$f":"$O$35","v":1.4595642140814678E-2},{"$f":"$P$35","v":3.011841020334027E-2},{"$f":"$Q$35","v":9.9999999999961231E-5},{"$f":"$R$35","v":1.4592630299794346E-2},null,null,null,null,{"$f":"IF(C615<$C$6,0,(C615-$C$6)/C615)","v":0}]
[null,{"$f":"IF(R596>$Q$29*V596,B596,IF(Q596>Q595,$U$6,-0.5)*B596)","v":4.0714933842728532E-33},{"$f":"IF(Q596>Q595,C596,(1-$T$6)*C596+$T$6*C597)","v":4.4336691510533544E-2},{"$f":"D596+B616","v":4.2836253051247033E-4},{"$f":"IF($C$2=1,D616/($O$31*$O$30),2^(1/3)*$O$30/D616)","v":7.0412217588601944E-2},{"$f":"IF($C$2=1,-($O$31-2)*D616/$O$30,3*($O$30/D616)^2)","v":-0.23817861979058777},{"$f":"IF($C$2=1,0.5*($O$31*D616*$F$6/$O$30)*(1-W616^2+(E616-F616)*(F616^2*(1-W616^2)+2*F616*(1-W616)+2*LN((1-F616)/(1-F616*W616)))/(F616^3)),$F$6*F616*(LN((1-E616+E616^2)/(1+E616)^2)/(6*E616)+ATAN((2-E616)/(E616*3^0.5))/(E616*3^0.5)-LN((W616^2-E616*W616+E616^2)/(W616+E616)^2)/(6*E616)-ATAN((2*W616-E616)/(E616*3^0.5))/(E616*3^0.5)))","v":3.9715403169798402},{"$f":"IF($C$2=1,($O$31*D616*$F$6/$O$30)*(1-W616^3-(E616-F616)*(-2*F616^3*(1-W616^3)-3*F616^2*(1-W616^2)-6*F616*(1-W616)-6*LN((1-F616)/(1-F616*W616)))/(2*F616^4))/3,$F$6*F616*(LN((1+E616^3)/(E616^3+W616^3)))/3)","v":2.584188132605246},{"$f":"H616/G616","v":0.65067654520762697},{"$f":"G616*C616*$D$6","v":0.17608495785558179},{"$f":"MAX(MIN($K$6,$Q$6*$J$6*D616*(C616-$I$6)/C616),-$K$6)","v":30.453565718108756},{"$f":"K616*$H$6","v":1.021019036637784E-2},{"$f":"MIN($O$6,$Q$6*$N$6*D616*(C$6-C616-$M$6)/C616)","v":458.33333333333337},{"$f":"M616*$L$6","v":0.15366576866258877},{"$f":"(0.5*$C$6-C616+I616*C616)*J616+(0.5*$C$6-$I$6)*L616+(0.5*$C$6-$M$6)*N616","v":1.6214853650533177E-2},{"$f":"0.1*$Q$6*D616*$B$6^2/C616+$R$6","v":3.1600367560991036E-2},{"$f":"(J616+L616-N616)","v":3.2629379559370869E-2},{"$f":"O616-P616*Q616","v":1.518375326316997E-2},{"$f":"((R616-R615)*(Q616-Q617)-(R616-R617)*(Q616-Q615))/((Q616^2-Q615^2)*(Q616-Q617)-(Q616^2-Q617^2)*(Q616-Q615))","v":-6.4831158545317541E-2},{"$f":"-(S616*(Q616^2-Q615^2)-(R616-R615))/(Q616-Q615)","v":2.0293855252393835E-2},{"$f":"R616-S616*Q616^2-T616*Q616","v":1.4590601562580692E-2},{"$f":"S596*Q616^2+T596*Q616+U596","v":1.5183753263169968E-2},{"$f":"IF(C616<$C$6,0,(C616-$C$6)/C616)","v":0}]
[null,{"$f":"IF(R597>$Q$29*V597,B597,IF(Q597>Q596,$U$6,-0.5)*B597)","v":9.0223179613231597E-33},{"$f":"IF(Q597>Q596,C597,(1-$T$6)*C597+$T$6*C598)","v":4.686581864712229E-2},{"$f":"D597+B617","v":4.7696328395726634E-4},7.8400980803794859E-2,-0.26520166581288029,4.3331467008444271,2.8121337206210515,0.6489818865521062,0.20307646745315119,50.786992561801682,1.702739400015367E-2,458.33333333333337,0.15366576866258877,1.7864235302051154E-2,{"$f":"0.1*$Q$6*D617*$B$6^2/C617+$R$6","v":3.3286848702870631E-2},6.643809279071608E-2,1.5652720559219308E-2,-4.9756811336570519E-2,1.8800477777095675E-2,1.4623280241171833E-2,{"$f":"MAX(S597*Q617^2+T597*Q617+U597,S598*Q617^2+T598*Q617+U598)","v":1.5652720559219308E-2},0]
[null,1.9755967437380846E-28,4.9178183027429483E-2,5.1138343885028133E-4,8.4058803939868143E-2,-0.28433999935383852,4.5801454005629569,2.9669884019048882,0.6477934961497529,0.22524322880112441,69.368502837898973,2.3257231220855375E-2,458.33333333333337,0.15366576866258877,1.9184137140418247E-2,3.4010899743189257E-2,9.4834691359391016E-2,1.5958723960417701E-2,-8.5674673728802192E-2,2.4593051445811309E-2,1.4396974863466982E-2,{"$f":"MAX(S598*Q618^2+T598*Q618+U598,S599*Q618^2+T599*Q618+U599)","v":1.5958723960417701E-2},0]
[null,2.9337929157055286E-29,5.255221950735349E-2,6.1697554712529133E-4,0.10141553795347201,-0.34305144309200192,5.2936203280021852,3.4101729099852851,0.64420428717680367,0.27819149746575944,107.10970946941983,3.5910754553116271E-2,458.33333333333337,0.15366576866258877,2.2297956507532225E-2,3.8399080921905651E-2,0.16043648335628694,1.6137343000308193E-2,-4.3786215799777366E-2,1.3900135583240885E-2,1.5034305421099795E-2,1.6137343000308193E-2,0]
[null,3.0453047689280782E-27,5.6242100708700393E-2,7.0133254331032385E-4,0.11528174413960915,-0.3899557157346018,5.818963683896814,3.7322400709586354,0.64139256982941817,0.32727074152999486,147.20958346173595,4.9355070102866543E-2,458.33333333333337,0.15366576866258877,2.5050365319008332E-2,4.0785557081477845E-2,0.22296004297027264,1.5956815759555522E-2,-8.8301719915719733E-3,4.9810981305589729E-4,1.628471545025912E-2,1.5956815759555522E-2,0]
[null,-4.698605860408993E-16,6.0285666570009291E-2,7.6065650728678741E-4,0.12503313825601758,-0.42294109343212499,6.1664416627867107,3.9430807490837569,0.63944183123947973,0.37174804600617334,186.03524372538024,6.2372179037220206E-2,455.91886785551674,0.15285626896755317,2.7333601616733458E-2,4.1268478601629098E-2,0.28126395607584037,1.5726266064008093E-2,-8.4175554931255683E-2,3.8489060108564004E-2,1.1559759490735564E-2,1.5726266064011098E-2,0]
[null,-3.9873607399552793E-26,6.4726330142402158E-2,8.7819863250649852E-4,0.14435415983765673,-0.48829699913795377,6.8053796971009088,4.3257344635079829,0.6356345503177061,0.44048725301895425,243.83882845213955,8.175203128119958E-2,446.466521890948,0.1496871736766946,3.0748447865050644E-2,4.4376772522055637E-2,0.37255211062345928,1.4215787599301685E-2,-2.03659404946668E-2,-3.2306910199653787E-3,1.8246080598612314E-2,1.4215787599301689E-2,0]
[null,3.3798403285957299E-29,6.9614059201644651E-2,7.8513563758028236E-4,0.12905690253470753,-0.43655200720650061,6.3048000198873266,4.0265153460803367,0.63864283298113156,0.43890272183896673,242.75998367563778,8.1390326164438642E-2,331.06202233800951,0.11099541848195205,2.8610370568531229E-2,3.6888557529448765E-2,0.40929762952145332,1.3511971415262091E-2,0.1325320042461188,-0.12277390938423988,4.1560677183424814E-2,1.3511971415262093E-2,0]
[null,-3.491352181818283E-32,7.5006560532026839E-2,7.0629923370310133E-4,0.11609814534121071,-0.39271730055684023,5.8487319536551112,3.7503732737751196,0.64122844122329081,0.43869326731743169,239.59091908357632,8.0327831444844774E-2,239.50111626524173,8.0297723184973982E-2,2.6718556843813031E-2,3.0798773700995447E-2,0.43872337557730245,1.320641488207086E-2,7.9233632511168717E-2,-7.7575770615440409E-2,3.1989971842253738E-2,1.320641488207086E-2,0]
[null,2.5220048245285831E-30,8.0970715199564836E-2,6.2273731719713515E-4,0.10236263061236728,-0.34625510901866613,5.330720041025705,3.4330409651640004,0.64401074127753954,0.43163221425050491,229.02447078312059,7.6785210208212704E-2,162.27240740729769,5.44051946552098E-2,2.4522409045620624E-2,2.5154799312241176E-2,0.45401222980350781,1.3101822519610264E-2,3.0387102457549484E-2,-3.3968734037270736E-2,2.226043775029931E-2,1.3101822519610265E-2,0]
[null,3.1720770085769276E-28,8.758432627758074E-2,5.8481020354910558E-4,9.6128350094186091E-2,-0.32516683229539312,5.0831078128240179,3.2800736109728525,0.64528901053360599,0.44520057318249862,230.93188448778943,7.7424710265853777E-2,108.78569015740366,3.6472661885514873E-2,2.3545350031374628E-2,2.18389869414767E-2,0.48615262156283745,1.2928269277499157E-2,1.1367883014099299E-2,-1.6087532416115498E-2,1.8062530170358901E-2,1.2928269277499158E-2,0]
[null,-3.2673081312289849E-27,9.4938257676883894E-2,5.6969411472841528E-4,9.3643638525558126E-2,-0.31676196745430468,4.982150779696128,3.2174795460597188,0.64580131921578654,0.472996714507879,239.61101827654974,8.0334570116708984E-2,65.691188029419052,2.2024335060871258E-2,2.3151852089894072E-2,1.9626570405383712E-2,0.53130694956371682,1.272411883741213E-2,-5.2931419070895514E-3,8.6438685472614476E-4,1.3759049639069126E-2,1.272411883741213E-2,0]
[null,-3.3625392538810453E-27,0.10313906536129758,5.8629879599349385E-4,9.6373037917300813E-2,-0.32599452115373218,5.0929790145763327,3.2861868979215032,0.64523864883721094,0.52528509546810531,260.87074990002941,8.7462336665397739E-2,28.347222974740028,9.5039952171561207E-3,2.3570151255648378E-2,1.8592583970520899E-2,0.60324343691634685,1.2354297000115573E-2,-1.8027180767272961E-2,1.5311795564999384E-2,9.6776955664940479E-3,1.2354297000115574E-2,0]
[null,-3.4577703765331027E-27,0.11231225223019801,6.0290347725857241E-4,9.9102437309043501E-2,-0.33522707485315972,5.2022372721371628,3.3537676665211134,0.64467795125064176,0.58427498466960626,282.13954885926086,9.4593143226707629E-2,-9.0216772532560192,-3.0247046612670078E-3,2.370884595716187E-2,1.7557577460386026E-2,0.68189283255758093,1.1736459729850105E-2,-1.8067845142774541E-2,1.5364054828831974E-2,9.6609683823380213E-3,1.1736459729850105E-2,0]
[null,3.5530014991851603E-28,0.12260631802291558,6.5503817351550279E-4,0.1076720934187106,-0.36421506776379481,5.5353501863505192,3.5588419305724188,0.64292986184470813,0.67866890531589674,320.77347697106751,0.10754596997526611,-48.952338765321734,-1.6412288212810048E-2,2.4378363485346045E-2,1.7474216027512229E-2,0.8026271635039729,1.0353083040728243E-2,-1.994325612182777E-2,1.8148139928069868E-2,8.6345452448879055E-3,1.0353083040728244E-2,0]
[null,-2.9903546080632944E-31,0.13419782954979564,7.6828651346512759E-4,0.1262873227772196,-0.42718353811648285,6.209875691398449,3.9693055113048223,0.63919242647688879,0.83335183955970848,391.96748376935693,0.13141523931089238,-100.68981850902709,-3.3758352780406259E-2,2.5568821888316572E-2,1.8724992766735494E-2,0.99852543165100716,6.8714404032500266E-3,-2.0162981552624935E-2,1.8543898957971733E-2,8.4584476969514731E-3,6.8714404032500266E-3,0]
[null,-6.5243225261098837E-26,0.14729780979304705,8.5562967400664661E-4,0.1406443806122456,-0.47574818124957569,6.6875786328014373,4.2557076587226392,0.63636001793670371,0.98506568543043171,453.0142180061074,0.15188242478179645,-157.47234887018769,-5.2795875343070682E-2,2.4584514986992882E-2,1.8999120158737701E-2,1.1897439855552987,1.9804260472922677E-3,-2.0250404605281321E-2,1.8735204150458519E-2,8.3545900172585438E-3,{"$f":"S612*Q632^2+T612*Q632+U612","v":1.9804260472922677E-3},0]
[null,null,{"$f":"C613","v":0.16215984472146291},{"$f":"D613+(D632-D612)","v":8.7717473586713273E-4},0.14418585652486929,-0.48772769096788438,6.746369160550632,4.3199169276239173,0.64033212900423764,1.0939901755085566,458.33333333333337,0.15366576866258877,-205.07395718350207,-6.8755303119887257E-2,2.1215589851194112E-2,1.7692399435883077E-2,1.3164112472910328,-2.0748837577678932E-3,null,null,null,null,7.4986780743096546E-2]
[null,"De","hc","e0","a'","b'","N'","tN'","t","Nc","sac","Nac","sat","Nat","Mtot","u","N","Mo","a''","b''","c''",null,"x"]
[null,null,{"$f":"$C$35","v":4.1544915655417694E-2},{"$f":"$D$35","v":3.8256566053946229E-4},{"$f":"$E$35","v":6.28843435479884E-2},{"$f":"$F$35","v":-0.21271459223465167},{"$f":"IF($C$2=1,0.5*($O$31*D635*$F$6/$O$30)*(1-W635^2+(E635-F635)*(F635^2*(1-W635^2)+2*F635*(1-W635)+2*LN((1-F635)/(1-F635*W635)))/(F635^3)),$F$6*F635*(LN((1-E635+E635^2)/(1+E635)^2)/(6*E635)+ATAN((2-E635)/(E635*3^0.5))/(E635*3^0.5)-LN((W635^2-E635*W635+E635^2)/(W635+E635)^2)/(6*E635)-ATAN((2*W635-E635)/(E635*3^0.5))/(E635*3^0.5)))","v":3.6164179713546631},{"$f":"IF($C$2=1,($O$31*D635*$F$6/$O$30)*(1-W635^3-(E635-F635)*(-2*F635^3*(1-W635^3)-3*F635^2*(1-W635^2)-6*F635*(1-W635)-6*LN((1-F635)/(1-F635*W635)))/(2*F635^4))/3,$F$6*F635*(LN((1+E635^3)/(E635^3+W635^3)))/3)","v":2.3589615237756383},{"$f":"$I$35","v":0.65229227994683425},{"$f":"$J$35","v":0.15024377959466625},{"$f":"$K$35","v":10.340089653207192},{"$f":"$L$35","v":3.4667297991276304E-3},{"$f":"$M$35","v":458.16851350986366},{"$f":"$N$35","v":0.15361050939379392},{"$f":"$O$35","v":1.4595642140814678E-2},{"$f":"$P$35","v":3.011841020334027E-2},{"$f":"$Q$35","v":9.9999999999961231E-5},{"$f":"$R$35","v":1.4592630299794346E-2},null,null,null,null,{"$f":"IF(C635<$C$6,0,(C635-$C$6)/C635)","v":0}]
[null,{"$f":"IF(R616>$Q$29*V616,B616,IF(Q616>Q615,$U$6,-0.5)*B616)","v":-4.071493384272853E-34},{"$f":"IF(Q616>Q615,C616,(1-$T$6)*C616+$T$6*C617)","v":4.4336691510533544E-2},{"$f":"D616+B636","v":4.2836253051247033E-4},{"$f":"IF($C$2=1,D636/($O$31*$O$30),2^(1/3)*$O$30/D636)","v":7.0412217588601944E-2},{"$f":"IF($C$2=1,-($O$31-2)*D636/$O$30,3*($O$30/D636)^2)","v":-0.23817861979058777},{"$f":"IF($C$2=1,0.5*($O$31*D636*$F$6/$O$30)*(1-W636^2+(E636-F636)*(F636^2*(1-W636^2)+2*F636*(1-W636)+2*LN((1-F636)/(1-F636*W636)))/(F636^3)),$F$6*F636*(LN((1-E636+E636^2)/(1+E636)^2)/(6*E636)+ATAN((2-E636)/(E636*3^0.5))/(E636*3^0.5)-LN((W636^2-E636*W636+E636^2)/(W636+E636)^2)/(6*E636)-ATAN((2*W636-E636)/(E636*3^0.5))/(E636*3^0.5)))","v":3.9715403169798402},{"$f":"IF($C$2=1,($O$31*D636*$F$6/$O$30)*(1-W636^3-(E636-F636)*(-2*F636^3*(1-W636^3)-3*F636^2*(1-W636^2)-6*F636*(1-W636)-6*LN((1-F636)/(1-F636*W636)))/(2*F636^4))/3,$F$6*F636*(LN((1+E636^3)/(E636^3+W636^3)))/3)","v":2.584188132605246},{"$f":"H636/G636","v":0.65067654520762697},{"$f":"G636*C636*$D$6","v":0.17608495785558179},{"$f":"MAX(MIN($K$6,$Q$6*$J$6*D636*(C636-$I$6)/C636),-$K$6)","v":30.453565718108756},{"$f":"K636*$H$6","v":1.021019036637784E-2},{"$f":"MIN($O$6,$Q$6*$N$6*D636*(C$6-C636-$M$6)/C636)","v":458.33333333333337},{"$f":"M636*$L$6","v":0.15366576866258877},{"$f":"(0.5*$C$6-C636+I636*C636)*J636+(0.5*$C$6-$I$6)*L636+(0.5*$C$6-$M$6)*N636","v":1.6214853650533177E-2},{"$f":"0.1*$Q$6*D636*$B$6^2/C636+$R$6","v":3.1600367560991036E-2},{"$f":"(J636+L636-N636)","v":3.2629379559370869E-2},{"$f":"O636-P636*Q636","v":1.518375326316997E-2},{"$f":"((R636-R635)*(Q636-Q637)-(R636-R637)*(Q636-Q635))/((Q636^2-Q635^2)*(Q636-Q637)-(Q636^2-Q637^2)*(Q636-Q635))","v":-6.4831158545317541E-2},{"$f":"-(S636*(Q636^2-Q635^2)-(R636-R635))/(Q636-Q635)","v":2.0293855252393835E-2},{"$f":"R636-S636*Q636^2-T636*Q636","v":1.4590601562580692E-2},{"$f":"S616*Q636^2+T616*Q636+U616","v":1.5183753263169968E-2},{"$f":"IF(C636<$C$6,0,(C636-$C$6)/C636)","v":0}]
[null,{"$f":"IF(R617>$Q$29*V617,B617,IF(Q617>Q616,$U$6,-0.5)*B617)","v":-9.0223179613231601E-34},{"$f":"IF(Q617>Q616,C617,(1-$T$6)*C617+$T$6*C618)","v":4.686581864712229E-2},{"$f":"D617+B637","v":4.7696328395726634E-4},7.8400980803794859E-2,-0.26520166581288029,4.3331467008444271,2.8121337206210515,0.6489818865521062,0.20307646745315119,50.786992561801682,1.702739400015367E-2,458.33333333333337,0.15366576866258877,1.7864235302051154E-2,{"$f":"0.1*$Q$6*D637*$B$6^2/C637+$R$6","v":3.3286848702870631E-2},6.643809279071608E-2,1.5652720559219308E-2,-4.9756811336570519E-2,1.8800477777095675E-2,1.4623280241171833E-2,{"$f":"MAX(S617*Q637^2+T617*Q637+U617,S618*Q637^2+T618*Q637+U618)","v":1.5652720559219308E-2},0]
[null,-1.9755967437380846E-29,4.9178183027429483E-2,5.1138343885028133E-4,8.4058803939868143E-2,-0.28433999935383852,4.5801454005629569,2.9669884019048882,0.6477934961497529,0.22524322880112441,69.368502837898973,2.3257231220855375E-2,458.33333333333337,0.15366576866258877,1.9184137140418247E-2,3.4010899743189257E-2,9.4834691359391016E-2,1.5958723960417701E-2,-8.5674673728802192E-2,2.4593051445811309E-2,1.4396974863466982E-2,{"$f":"MAX(S618*Q638^2+T618*Q638+U618,S619*Q638^2+T619*Q638+U619)","v":1.5958723960417701E-2},0]
[null,-2.9337929157055287E-30,5.255221950735349E-2,6.1697554712529133E-4,0.10141553795347201,-0.34305144309200192,5.2936203280021852,3.4101729099852851,0.64420428717680367,0.27819149746575944,107.10970946941983,3.5910754553116271E-2,458.33333333333337,0.15366576866258877,2.2297956507532225E-2,3.8399080921905651E-2,0.16043648335628694,1.6137343000308193E-2,-4.3786215799777366E-2,1.3900135583240885E-2,1.5034305421099795E-2,1.6137343000308193E-2,0]
[null,-3.0453047689280783E-28,5.6242100708700393E-2,7.0133254331032385E-4,0.11528174413960915,-0.3899557157346018,5.818963683896814,3.7322400709586354,0.64139256982941817,0.32727074152999486,147.20958346173595,4.9355070102866543E-2,458.33333333333337,0.15366576866258877,2.5050365319008332E-2,4.0785557081477845E-2,0.22296004297027264,1.5956815759555522E-2,-8.8301719915349908E-3,4.9810981304171831E-4,1.6284715450260442E-2,1.5956815759555522E-2,0]
[null,4.6986058604089934E-17,6.0285666570009291E-2,7.6065650728683435E-4,0.1250331382560253,-0.42294109343215108,6.1664416627869727,3.9430807490839359,0.63944183123948162,0.3717480460061891,186.03524372539175,6.2372179037224064E-2,455.91886785554493,0.15285626896756263,2.7333601616734808E-2,4.1268478601631652E-2,0.28126395607585053,1.5726266064008308E-2,-8.4175554931313054E-2,3.8489060108598171E-2,1.1559759490730799E-2,1.5726266064008003E-2,0]
[null,3.9873607399552797E-27,6.4726330142402158E-2,8.7819863250649852E-4,0.14435415983765673,-0.48829699913795377,6.8053796971009088,4.3257344635079829,0.6356345503177061,0.44048725301895425,243.83882845213955,8.175203128119958E-2,446.466521890948,0.1496871736766946,3.0748447865050644E-2,4.4376772522055637E-2,0.37255211062345928,1.4215787599301685E-2,-2.0365940494635637E-2,-3.2306910199897455E-3,1.8246080598617067E-2,1.4215787599301689E-2,0]
[null,-3.3798403285957301E-30,6.9614059201644651E-2,7.8513563758028236E-4,0.12905690253470753,-0.43655200720650061,6.3048000198873266,4.0265153460803367,0.63864283298113156,0.43890272183896673,242.75998367563778,8.1390326164438642E-2,331.06202233800951,0.11099541848195205,2.8610370568531229E-2,3.6888557529448765E-2,0.40929762952145332,1.3511971415262091E-2,0.1325320042461188,-0.12277390938423988,4.1560677183424814E-2,1.3511971415262093E-2,0]
[null,3.4913521818182831E-33,7.5006560532026839E-2,7.0629923370310133E-4,0.11609814534121071,-0.39271730055684023,5.8487319536551112,3.7503732737751196,0.64122844122329081,0.43869326731743169,239.59091908357632,8.0327831444844774E-2,239.50111626524173,8.0297723184973982E-2,2.6718556843813031E-2,3.0798773700995447E-2,0.43872337557730245,1.320641488207086E-2,7.9233632511168717E-2,-7.7575770615440409E-2,3.1989971842253738E-2,1.320641488207086E-2,0]
[null,-2.5220048245285835E-31,8.0970715199564836E-2,6.2273731719713515E-4,0.10236263061236728,-0.34625510901866613,5.330720041025705,3.4330409651640004,0.64401074127753954,0.43163221425050491,229.02447078312059,7.6785210208212704E-2,162.27240740729769,5.44051946552098E-2,2.4522409045620624E-2,2.5154799312241176E-2,0.45401222980350781,1.3101822519610264E-2,3.0387102457549484E-2,-3.3968734037270736E-2,2.226043775029931E-2,1.3101822519610265E-2,0]
[null,-3.1720770085769276E-29,8.758432627758074E-2,5.8481020354910558E-4,9.6128350094186091E-2,-0.32516683229539312,5.0831078128240179,3.2800736109728525,0.64528901053360599,0.44520057318249862,230.93188448778943,7.7424710265853777E-2,108.78569015740366,3.6472661885514873E-2,2.3545350031374628E-2,2.18389869414767E-2,0.48615262156283745,1.2928269277499157E-2,1.1367883014099299E-2,-1.6087532416115498E-2,1.8062530170358901E-2,1.2928269277499158E-2,0]
[null,3.267308131228985E-28,9.4938257676883894E-2,5.6969411472841528E-4,9.3643638525558126E-2,-0.31676196745430468,4.982150779696128,3.2174795460597188,0.64580131921578654,0.472996714507879,239.61101827654974,8.0334570116708984E-2,65.691188029419052,2.2024335060871258E-2,2.3151852089894072E-2,1.9626570405383712E-2,0.53130694956371682,1.272411883741213E-2,-5.2931419070895514E-3,8.6438685472614476E-4,1.3759049639069126E-2,1.272411883741213E-2,0]
[null,3.3625392538810455E-28,0.10313906536129758,5.8629879599349385E-4,9.6373037917300813E-2,-0.32599452115373218,5.0929790145763327,3.2861868979215032,0.64523864883721094,0.52528509546810531,260.87074990002941,8.7462336665397739E-2,28.347222974740028,9.5039952171561207E-3,2.3570151255648378E-2,1.8592583970520899E-2,0.60324343691634685,1.2354297000115573E-2,-1.8027180767272961E-2,1.5311795564999384E-2,9.6776955664940479E-3,1.2354297000115574E-2,0]
[null,3.4577703765331029E-28,0.11231225223019801,6.0290347725857241E-4,9.9102437309043501E-2,-0.33522707485315972,5.2022372721371628,3.3537676665211134,0.64467795125064176,0.58427498466960626,282.13954885926086,9.4593143226707629E-2,-9.0216772532560192,-3.0247046612670078E-3,2.370884595716187E-2,1.7557577460386026E-2,0.68189283255758093,1.1736459729850105E-2,-1.8067845142774541E-2,1.5364054828831974E-2,9.6609683823380213E-3,1.1736459729850105E-2,0]
[null,-3.5530014991851606E-29,0.12260631802291558,6.5503817351550279E-4,0.1076720934187106,-0.36421506776379481,5.5353501863505192,3.5588419305724188,0.64292986184470813,0.67866890531589674,320.77347697106751,0.10754596997526611,-48.952338765321734,-1.6412288212810048E-2,2.4378363485346045E-2,1.7474216027512229E-2,0.8026271635039729,1.0353083040728243E-2,-1.994325612182777E-2,1.8148139928069868E-2,8.6345452448879055E-3,1.0353083040728244E-2,0]
[null,2.9903546080632944E-32,0.13419782954979564,7.6828651346512759E-4,0.1262873227772196,-0.42718353811648285,6.209875691398449,3.9693055113048223,0.63919242647688879,0.83335183955970848,391.96748376935693,0.13141523931089238,-100.68981850902709,-3.3758352780406259E-2,2.5568821888316572E-2,1.8724992766735494E-2,0.99852543165100716,6.8714404032500266E-3,-2.0162981552624935E-2,1.8543898957971733E-2,8.4584476969514731E-3,6.8714404032500266E-3,0]
[null,6.5243225261098837E-27,0.14729780979304705,8.5562967400664661E-4,0.1406443806122456,-0.47574818124957569,6.6875786328014373,4.2557076587226392,0.63636001793670371,0.98506568543043171,453.0142180061074,0.15188242478179645,-157.47234887018769,-5.2795875343070682E-2,2.4584514986992882E-2,1.8999120158737701E-2,1.1897439855552987,1.9804260472922677E-3,-2.0250404605281321E-2,1.8735204150458519E-2,8.3545900172585438E-3,{"$f":"S632*Q652^2+T632*Q652+U632","v":1.9804260472922677E-3},0]
[null,null,{"$f":"C633","v":0.16215984472146291},{"$f":"D633+(D652-D632)","v":8.7717473586713273E-4},0.14418585652486929,-0.48772769096788438,6.746369160550632,4.3199169276239173,0.64033212900423764,1.0939901755085566,458.33333333333337,0.15366576866258877,-205.07395718350207,-6.8755303119887257E-2,2.1215589851194112E-2,1.7692399435883077E-2,1.3164112472910328,-2.0748837577678932E-3,null,null,null,null,7.4986780743096546E-2]
[null,"De","hc","e0","a'","b'","N'","tN'","t","Nc","sac","Nac","sat","Nat","Mtot","u","N","Mo","a''","b''","c''",null,"x"]
[null,null,{"$f":"$C$35","v":4.1544915655417694E-2},{"$f":"$D$35","v":3.8256566053946229E-4},{"$f":"$E$35","v":6.28843435479884E-2},{"$f":"$F$35","v":-0.21271459223465167},{"$f":"IF($C$2=1,0.5*($O$31*D655*$F$6/$O$30)*(1-W655^2+(E655-F655)*(F655^2*(1-W655^2)+2*F655*(1-W655)+2*LN((1-F655)/(1-F655*W655)))/(F655^3)),$F$6*F655*(LN((1-E655+E655^2)/(1+E655)^2)/(6*E655)+ATAN((2-E655)/(E655*3^0.5))/(E655*3^0.5)-LN((W655^2-E655*W655+E655^2)/(W655+E655)^2)/(6*E655)-ATAN((2*W655-E655)/(E655*3^0.5))/(E655*3^0.5)))","v":3.6164179713546631},{"$f":"IF($C$2=1,($O$31*D655*$F$6/$O$30)*(1-W655^3-(E655-F655)*(-2*F655^3*(1-W655^3)-3*F655^2*(1-W655^2)-6*F655*(1-W655)-6*LN((1-F655)/(1-F655*W655)))/(2*F655^4))/3,$F$6*F655*(LN((1+E655^3)/(E655^3+W655^3)))/3)","v":2.3589615237756383},{"$f":"$I$35","v":0.65229227994683425},{"$f":"$J$35","v":0.15024377959466625},{"$f":"$K$35","v":10.340089653207192},{"$f":"$L$35","v":3.4667297991276304E-3},{"$f":"$M$35","v":458.16851350986366},{"$f":"$N$35","v":0.15361050939379392},{"$f":"$O$35","v":1.4595642140814678E-2},{"$f":"$P$35","v":3.011841020334027E-2},{"$f":"$Q$35","v":9.9999999999961231E-5},{"$f":"$R$35","v":1.4592630299794346E-2},null,null,null,null,{"$f":"IF(C655<$C$6,0,(C655-$C$6)/C655)","v":0}]
[null,{"$f":"IF(R636>$Q$29*V636,B636,IF(Q636>Q635,$U$6,-0.5)*B636)","v":4.0714933842728532E-35},{"$f":"IF(Q636>Q635,C636,(1-$T$6)*C636+$T$6*C637)","v":4.4336691510533544E-2},{"$f":"D636+B656","v":4.2836253051247033E-4},{"$f":"IF($C$2=1,D656/($O$31*$O$30),2^(1/3)*$O$30/D656)","v":7.0412217588601944E-2},{"$f":"IF($C$2=1,-($O$31-2)*D656/$O$30,3*($O$30/D656)^2)","v":-0.23817861979058777},{"$f":"IF($C$2=1,0.5*($O$31*D656*$F$6/$O$30)*(1-W656^2+(E656-F656)*(F656^2*(1-W656^2)+2*F656*(1-W656)+2*LN((1-F656)/(1-F656*W656)))/(F656^3)),$F$6*F656*(LN((1-E656+E656^2)/(1+E656)^2)/(6*E656)+ATAN((2-E656)/(E656*3^0.5))/(E656*3^0.5)-LN((W656^2-E656*W656+E656^2)/(W656+E656)^2)/(6*E656)-ATAN((2*W656-E656)/(E656*3^0.5))/(E656*3^0.5)))","v":3.9715403169798402},{"$f":"IF($C$2=1,($O$31*D656*$F$6/$O$30)*(1-W656^3-(E656-F656)*(-2*F656^3*(1-W656^3)-3*F656^2*(1-W656^2)-6*F656*(1-W656)-6*LN((1-F656)/(1-F656*W656)))/(2*F656^4))/3,$F$6*F656*(LN((1+E656^3)/(E656^3+W656^3)))/3)","v":2.584188132605246},{"$f":"H656/G656","v":0.65067654520762697},{"$f":"G656*C656*$D$6","v":0.17608495785558179},{"$f":"MAX(MIN($K$6,$Q$6*$J$6*D656*(C656-$I$6)/C656),-$K$6)","v":30.453565718108756},{"$f":"K656*$H$6","v":1.021019036637784E-2},{"$f":"MIN($O$6,$Q$6*$N$6*D656*(C$6-C656-$M$6)/C656)","v":458.33333333333337},{"$f":"M656*$L$6","v":0.15366576866258877},{"$f":"(0.5*$C$6-C656+I656*C656)*J656+(0.5*$C$6-$I$6)*L656+(0.5*$C$6-$M$6)*N656","v":1.6214853650533177E-2},{"$f":"0.1*$Q$6*D656*$B$6^2/C656+$R$6","v":3.1600367560991036E-2},{"$f":"(J656+L656-N656)","v":3.2629379559370869E-2},{"$f":"O656-P656*Q656","v":1.518375326316997E-2},{"$f":"((R656-R655)*(Q656-Q657)-(R656-R657)*(Q656-Q655))/((Q656^2-Q655^2)*(Q656-Q657)-(Q656^2-Q657^2)*(Q656-Q655))","v":-6.4831158545317541E-2},{"$f":"-(S656*(Q656^2-Q655^2)-(R656-R655))/(Q656-Q655)","v":2.0293855252393835E-2},{"$f":"R656-S656*Q656^2-T656*Q656","v":1.4590601562580692E-2},{"$f":"S636*Q656^2+T636*Q656+U636","v":1.5183753263169968E-2},{"$f":"IF(C656<$C$6,0,(C656-$C$6)/C656)","v":0}]
[null,{"$f":"IF(R637>$Q$29*V637,B637,IF(Q637>Q636,$U$6,-0.5)*B637)","v":9.0223179613231601E-35},{"$f":"IF(Q637>Q636,C637,(1-$T$6)*C637+$T$6*C638)","v":4.686581864712229E-2},{"$f":"D637+B657","v":4.7696328395726634E-4},7.8400980803794859E-2,-0.26520166581288029,4.3331467008444271,2.8121337206210515,0.6489818865521062,0.20307646745315119,50.786992561801682,1.702739400015367E-2,458.33333333333337,0.15366576866258877,1.7864235302051154E-2,{"$f":"0.1*$Q$6*D657*$B$6^2/C657+$R$6","v":3.3286848702870631E-2},6.643809279071608E-2,1.5652720559219308E-2,-4.9756811336570519E-2,1.8800477777095675E-2,1.4623280241171833E-2,{"$f":"MAX(S637*Q657^2+T637*Q657+U637,S638*Q657^2+T638*Q657+U638)","v":1.5652720559219308E-2},0]
[null,1.9755967437380848E-30,4.9178183027429483E-2,5.1138343885028133E-4,8.4058803939868143E-2,-0.28433999935383852,4.5801454005629569,2.9669884019048882,0.6477934961497529,0.22524322880112441,69.368502837898973,2.3257231220855375E-2,458.33333333333337,0.15366576866258877,1.9184137140418247E-2,3.4010899743189257E-2,9.4834691359391016E-2,1.5958723960417701E-2,-8.5674673728802192E-2,2.4593051445811309E-2,1.4396974863466982E-2,{"$f":"MAX(S638*Q658^2+T638*Q658+U638,S639*Q658^2+T639*Q658+U639)","v":1.5958723960417701E-2},0]
[null,2.933792915705529E-31,5.255221950735349E-2,6.1697554712529133E-4,0.10141553795347201,-0.34305144309200192,5.2936203280021852,3.4101729099852851,0.64420428717680367,0.27819149746575944,107.10970946941983,3.5910754553116271E-2,458.33333333333337,0.15366576866258877,2.2297956507532225E-2,3.8399080921905651E-2,0.16043648335628694,1.6137343000308193E-2,-4.3786215799777366E-2,1.3900135583240885E-2,1.5034305421099795E-2,1.6137343000308193E-2,0]
[null,3.0453047689280783E-29,5.6242100708700393E-2,7.0133254331032385E-4,0.11528174413960915,-0.3899557157346018,5.818963683896814,3.7322400709586354,0.64139256982941817,0.32727074152999486,147.20958346173595,4.9355070102866543E-2,458.33333333333337,0.15366576866258877,2.5050365319008332E-2,4.0785557081477845E-2,0.22296004297027264,1.5956815759555522E-2,-8.8301719915488477E-3,4.9810981304703101E-4,1.6284715450259946E-2,1.5956815759555522E-2,0]
[null,-4.6986058604089935E-18,6.0285666570009291E-2,7.6065650728682969E-4,0.12503313825602455,-0.42294109343214847,6.1664416627869478,3.9430807490839004,0.6394418312394784,0.3717480460061876,186.03524372539061,6.2372179037223682E-2,455.91886785554215,0.15285626896756169,2.733360161673461E-2,4.1268478601631402E-2,0.28126395607584964,1.5726266064008215E-2,-8.4175554931293972E-2,3.8489060108586805E-2,1.1559759490732386E-2,1.5726266064008322E-2,0]
[null,-3.9873607399552799E-28,6.4726330142402158E-2,8.7819863250649852E-4,0.14435415983765673,-0.48829699913795377,6.8053796971009088,4.3257344635079829,0.6356345503177061,0.44048725301895425,243.83882845213955,8.175203128119958E-2,446.466521890948,0.1496871736766946,3.0748447865050644E-2,4.4376772522055637E-2,0.37255211062345928,1.4215787599301685E-2,-2.0365940494644776E-2,-3.2306910199826002E-3,1.8246080598615672E-2,1.4215787599301689E-2,0]
[null,3.3798403285957303E-31,6.9614059201644651E-2,7.8513563758028236E-4,0.12905690253470753,-0.43655200720650061,6.3048000198873266,4.0265153460803367,0.63864283298113156,0.43890272183896673,242.75998367563778,8.1390326164438642E-2,331.06202233800951,0.11099541848195205,2.8610370568531229E-2,3.6888557529448765E-2,0.40929762952145332,1.3511971415262091E-2,0.1325320042461188,-0.12277390938423988,4.1560677183424814E-2,1.3511971415262093E-2,0]
[null,-3.4913521818182833E-34,7.5006560532026839E-2,7.0629923370310133E-4,0.11609814534121071,-0.39271730055684023,5.8487319536551112,3.7503732737751196,0.64122844122329081,0.43869326731743169,239.59091908357632,8.0327831444844774E-2,239.50111626524173,8.0297723184973982E-2,2.6718556843813031E-2,3.0798773700995447E-2,0.43872337557730245,1.320641488207086E-2,7.9233632511168717E-2,-7.7575770615440409E-2,3.1989971842253738E-2,1.320641488207086E-2,0]
[null,2.5220048245285837E-32,8.0970715199564836E-2,6.2273731719713515E-4,0.10236263061236728,-0.34625510901866613,5.330720041025705,3.4330409651640004,0.64401074127753954,0.43163221425050491,229.02447078312059,7.6785210208212704E-2,162.27240740729769,5.44051946552098E-2,2.4522409045620624E-2,2.5154799312241176E-2,0.45401222980350781,1.3101822519610264E-2,3.0387102457549484E-2,-3.3968734037270736E-2,2.226043775029931E-2,1.3101822519610265E-2,0]
[null,3.1720770085769274E-30,8.758432627758074E-2,5.8481020354910558E-4,9.6128350094186091E-2,-0.32516683229539312,5.0831078128240179,3.2800736109728525,0.64528901053360599,0.44520057318249862,230.93188448778943,7.7424710265853777E-2,108.78569015740366,3.6472661885514873E-2,2.3545350031374628E-2,2.18389869414767E-2,0.48615262156283745,1.2928269277499157E-2,1.1367883014099299E-2,-1.6087532416115498E-2,1.8062530170358901E-2,1.2928269277499158E-2,0]
[null,-3.267308131228985E-29,9.4938257676883894E-2,5.6969411472841528E-4,9.3643638525558126E-2,-0.31676196745430468,4.982150779696128,3.2174795460597188,0.64580131921578654,0.472996714507879,239.61101827654974,8.0334570116708984E-2,65.691188029419052,2.2024335060871258E-2,2.3151852089894072E-2,1.9626570405383712E-2,0.53130694956371682,1.272411883741213E-2,-5.2931419070895514E-3,8.6438685472614476E-4,1.3759049639069126E-2,1.272411883741213E-2,0]
[null,-3.3625392538810457E-29,0.10313906536129758,5.8629879599349385E-4,9.6373037917300813E-2,-0.32599452115373218,5.0929790145763327,3.2861868979215032,0.64523864883721094,0.52528509546810531,260.87074990002941,8.7462336665397739E-2,28.347222974740028,9.5039952171561207E-3,2.3570151255648378E-2,1.8592583970520899E-2,0.60324343691634685,1.2354297000115573E-2,-1.8027180767272961E-2,1.5311795564999384E-2,9.6776955664940479E-3,1.2354297000115574E-2,0]
[null,-3.4577703765331032E-29,0.11231225223019801,6.0290347725857241E-4,9.9102437309043501E-2,-0.33522707485315972,5.2022372721371628,3.3537676665211134,0.64467795125064176,0.58427498466960626,282.13954885926086,9.4593143226707629E-2,-9.0216772532560192,-3.0247046612670078E-3,2.370884595716187E-2,1.7557577460386026E-2,0.68189283255758093,1.1736459729850105E-2,-1.8067845142774541E-2,1.5364054828831974E-2,9.6609683823380213E-3,1.1736459729850105E-2,0]
[null,3.5530014991851607E-30,0.12260631802291558,6.5503817351550279E-4,0.1076720934187106,-0.36421506776379481,5.5353501863505192,3.5588419305724188,0.64292986184470813,0.67866890531589674,320.77347697106751,0.10754596997526611,-48.952338765321734,-1.6412288212810048E-2,2.4378363485346045E-2,1.7474216027512229E-2,0.8026271635039729,1.0353083040728243E-2,-1.994325612182777E-2,1.8148139928069868E-2,8.6345452448879055E-3,1.0353083040728244E-2,0]
[null,-2.9903546080632946E-33,0.13419782954979564,7.6828651346512759E-4,0.1262873227772196,-0.42718353811648285,6.209875691398449,3.9693055113048223,0.63919242647688879,0.83335183955970848,391.96748376935693,0.13141523931089238,-100.68981850902709,-3.3758352780406259E-2,2.5568821888316572E-2,1.8724992766735494E-2,0.99852543165100716,6.8714404032500266E-3,-2.0162981552624935E-2,1.8543898957971733E-2,8.4584476969514731E-3,6.8714404032500266E-3,0]
[null,-6.5243225261098839E-28,0.14729780979304705,8.5562967400664661E-4,0.1406443806122456,-0.47574818124957569,6.6875786328014373,4.2557076587226392,0.63636001793670371,0.98506568543043171,453.0142180061074,0.15188242478179645,-157.47234887018769,-5.2795875343070682E-2,2.4584514986992882E-2,1.8999120158737701E-2,1.1897439855552987,1.9804260472922677E-3,-2.0250404605281321E-2,1.8735204150458519E-2,8.3545900172585438E-3,{"$f":"S652*Q672^2+T652*Q672+U652","v":1.9804260472922677E-3},0]
[null,null,{"$f":"C653","v":0.16215984472146291},{"$f":"D653+(D672-D652)","v":8.7717473586713273E-4},0.14418585652486929,-0.48772769096788438,6.746369160550632,4.3199169276239173,0.64033212900423764,1.0939901755085566,458.33333333333337,0.15366576866258877,-205.07395718350207,-6.8755303119887257E-2,2.1215589851194112E-2,1.7692399435883077E-2,1.3164112472910328,-2.0748837577678932E-3,null,null,null,null,7.4986780743096546E-2]
[null,"De","hc","e0","a'","b'","N'","tN'","t","Nc","sac","Nac","sat","Nat","Mtot","u","N","Mo","a''","b''","c''",null,"x"]
[null,null,{"$f":"$C$35","v":4.1544915655417694E-2},{"$f":"$D$35","v":3.8256566053946229E-4},{"$f":"$E$35","v":6.28843435479884E-2},{"$f":"$F$35","v":-0.21271459223465167},{"$f":"IF($C$2=1,0.5*($O$31*D675*$F$6/$O$30)*(1-W675^2+(E675-F675)*(F675^2*(1-W675^2)+2*F675*(1-W675)+2*LN((1-F675)/(1-F675*W675)))/(F675^3)),$F$6*F675*(LN((1-E675+E675^2)/(1+E675)^2)/(6*E675)+ATAN((2-E675)/(E675*3^0.5))/(E675*3^0.5)-LN((W675^2-E675*W675+E675^2)/(W675+E675)^2)/(6*E675)-ATAN((2*W675-E675)/(E675*3^0.5))/(E675*3^0.5)))","v":3.6164179713546631},{"$f":"IF($C$2=1,($O$31*D675*$F$6/$O$30)*(1-W675^3-(E675-F675)*(-2*F675^3*(1-W675^3)-3*F675^2*(1-W675^2)-6*F675*(1-W675)-6*LN((1-F675)/(1-F675*W675)))/(2*F675^4))/3,$F$6*F675*(LN((1+E675^3)/(E675^3+W675^3)))/3)","v":2.3589615237756383},{"$f":"$I$35","v":0.65229227994683425},{"$f":"$J$35","v":0.15024377959466625},{"$f":"$K$35","v":10.340089653207192},{"$f":"$L$35","v":3.4667297991276304E-3},{"$f":"$M$35","v":458.16851350986366},{"$f":"$N$35","v":0.15361050939379392},{"$f":"$O$35","v":1.4595642140814678E-2},{"$f":"$P$35","v":3.011841020334027E-2},{"$f":"$Q$35","v":9.9999999999961231E-5},{"$f":"$R$35","v":1.4592630299794346E-2},null,null,null,null,{"$f":"IF(C675<$C$6,0,(C675-$C$6)/C675)","v":0}]
[null,{"$f":"IF(R656>$Q$29*V656,B656,IF(Q656>Q655,$U$6,-0.5)*B656)","v":-4.0714933842728537E-36},{"$f":"IF(Q656>Q655,C656,(1-$T$6)*C656+$T$6*C657)","v":4.4336691510533544E-2},{"$f":"D656+B676","v":4.2836253051247033E-4},{"$f":"IF($C$2=1,D676/($O$31*$O$30),2^(1/3)*$O$30/D676)","v":7.0412217588601944E-2},{"$f":"IF($C$2=1,-($O$31-2)*D676/$O$30,3*($O$30/D676)^2)","v":-0.23817861979058777},{"$f":"IF($C$2=1,0.5*($O$31*D676*$F$6/$O$30)*(1-W676^2+(E676-F676)*(F676^2*(1-W676^2)+2*F676*(1-W676)+2*LN((1-F676)/(1-F676*W676)))/(F676^3)),$F$6*F676*(LN((1-E676+E676^2)/(1+E676)^2)/(6*E676)+ATAN((2-E676)/(E676*3^0.5))/(E676*3^0.5)-LN((W676^2-E676*W676+E676^2)/(W676+E676)^2)/(6*E676)-ATAN((2*W676-E676)/(E676*3^0.5))/(E676*3^0.5)))","v":3.9715403169798402},{"$f":"IF($C$2=1,($O$31*D676*$F$6/$O$30)*(1-W676^3-(E676-F676)*(-2*F676^3*(1-W676^3)-3*F676^2*(1-W676^2)-6*F676*(1-W676)-6*LN((1-F676)/(1-F676*W676)))/(2*F676^4))/3,$F$6*F676*(LN((1+E676^3)/(E676^3+W676^3)))/3)","v":2.584188132605246},{"$f":"H676/G676","v":0.65067654520762697},{"$f":"G676*C676*$D$6","v":0.17608495785558179},{"$f":"MAX(MIN($K$6,$Q$6*$J$6*D676*(C676-$I$6)/C676),-$K$6)","v":30.453565718108756},{"$f":"K676*$H$6","v":1.021019036637784E-2},{"$f":"MIN($O$6,$Q$6*$N$6*D676*(C$6-C676-$M$6)/C676)","v":458.33333333333337},{"$f":"M676*$L$6","v":0.15366576866258877},{"$f":"(0.5*$C$6-C676+I676*C676)*J676+(0.5*$C$6-$I$6)*L676+(0.5*$C$6-$M$6)*N676","v":1.6214853650533177E-2},{"$f":"0.1*$Q$6*D676*$B$6^2/C676+$R$6","v":3.1600367560991036E-2},{"$f":"(J676+L676-N676)","v":3.2629379559370869E-2},{"$f":"O676-P676*Q676","v":1.518375326316997E-2},{"$f":"((R676-R675)*(Q676-Q677)-(R676-R677)*(Q676-Q675))/((Q676^2-Q675^2)*(Q676-Q677)-(Q676^2-Q677^2)*(Q676-Q675))","v":-6.4831158545317541E-2},{"$f":"-(S676*(Q676^2-Q675^2)-(R676-R675))/(Q676-Q675)","v":2.0293855252393835E-2},{"$f":"R676-S676*Q676^2-T676*Q676","v":1.4590601562580692E-2},{"$f":"S656*Q676^2+T656*Q676+U656","v":1.5183753263169968E-2},{"$f":"IF(C676<$C$6,0,(C676-$C$6)/C676)","v":0}]
[null,{"$f":"IF(R657>$Q$29*V657,B657,IF(Q657>Q656,$U$6,-0.5)*B657)","v":-9.0223179613231601E-36},{"$f":"IF(Q657>Q656,C657,(1-$T$6)*C657+$T$6*C658)","v":4.686581864712229E-2},{"$f":"D657+B677","v":4.7696328395726634E-4},7.8400980803794859E-2,-0.26520166581288029,4.3331467008444271,2.8121337206210515,0.6489818865521062,0.20307646745315119,50.786992561801682,1.702739400015367E-2,458.33333333333337,0.15366576866258877,1.7864235302051154E-2,{"$f":"0.1*$Q$6*D677*$B$6^2/C677+$R$6","v":3.3286848702870631E-2},6.643809279071608E-2,1.5652720559219308E-2,-4.9756811336570519E-2,1.8800477777095675E-2,1.4623280241171833E-2,{"$f":"MAX(S657*Q677^2+T657*Q677+U657,S658*Q677^2+T658*Q677+U658)","v":1.5652720559219308E-2},0]
[null,-1.975596743738085E-31,4.9178183027429483E-2,5.1138343885028133E-4,8.4058803939868143E-2,-0.28433999935383852,4.5801454005629569,2.9669884019048882,0.6477934961497529,0.22524322880112441,69.368502837898973,2.3257231220855375E-2,458.33333333333337,0.15366576866258877,1.9184137140418247E-2,3.4010899743189257E-2,9.4834691359391016E-2,1.5958723960417701E-2,-8.5674673728802192E-2,2.4593051445811309E-2,1.4396974863466982E-2,{"$f":"MAX(S658*Q678^2+T658*Q678+U658,S659*Q678^2+T659*Q678+U659)","v":1.5958723960417701E-2},0]
[null,-2.9337929157055291E-32,5.255221950735349E-2,6.1697554712529133E-4,0.10141553795347201,-0.34305144309200192,5.2936203280021852,3.4101729099852851,0.64420428717680367,0.27819149746575944,107.10970946941983,3.5910754553116271E-2,458.33333333333337,0.15366576866258877,2.2297956507532225E-2,3.8399080921905651E-2,0.16043648335628694,1.6137343000308193E-2,-4.3786215799777366E-2,1.3900135583240885E-2,1.5034305421099795E-2,1.6137343000308193E-2,0]
[null,-3.0453047689280783E-30,5.6242100708700393E-2,7.0133254331032385E-4,0.11528174413960915,-0.3899557157346018,5.818963683896814,3.7322400709586354,0.64139256982941817,0.32727074152999486,147.20958346173595,4.9355070102866543E-2,458.33333333333337,0.15366576866258877,2.5050365319008332E-2,4.0785557081477845E-2,0.22296004297027264,1.5956815759555522E-2,-8.8301719915336637E-3,4.9810981304120928E-4,1.628471545026049E-2,1.5956815759555525E-2,0]
[null,4.6986058604089939E-19,6.0285666570009291E-2,7.6065650728683013E-4,0.12503313825602461,-0.4229410934321487,6.1664416627869469,3.9430807490839279,0.63944183123948306,0.37174804600618755,186.03524372539073,6.2372179037223724E-2,455.91886785554243,0.15285626896756177,2.7333601616734718E-2,4.1268478601631416E-2,0.28126395607584953,1.5726266064008322E-2,-8.4175554931313873E-2,3.8489060108598663E-2,1.1559759490730726E-2,1.5726266064008218E-2,0]
[null,3.9873607399552801E-29,6.4726330142402158E-2,8.7819863250649852E-4,0.14435415983765673,-0.48829699913795377,6.8053796971009088,4.3257344635079829,0.6356345503177061,0.44048725301895425,243.83882845213955,8.175203128119958E-2,446.466521890948,0.1496871736766946,3.0748447865050644E-2,4.4376772522055637E-2,0.37255211062345928,1.4215787599301685E-2,-2.0365940494635679E-2,-3.2306910199897078E-3,1.824608059861706E-2,1.4215787599301689E-2,0]
[null,-3.3798403285957303E-32,6.9614059201644651E-2,7.8513563758028236E-4,0.12905690253470753,-0.43655200720650061,6.3048000198873266,4.0265153460803367,0.63864283298113156,0.43890272183896673,242.75998367563778,8.1390326164438642E-2,331.06202233800951,0.11099541848195205,2.8610370568531229E-2,3.6888557529448765E-2,0.40929762952145332,1.3511971415262091E-2,0.1325320042461188,-0.12277390938423988,4.1560677183424814E-2,1.3511971415262093E-2,0]
[null,3.4913521818182834E-35,7.5006560532026839E-2,7.0629923370310133E-4,0.11609814534121071,-0.39271730055684023,5.8487319536551112,3.7503732737751196,0.64122844122329081,0.43869326731743169,239.59091908357632,8.0327831444844774E-2,239.50111626524173,8.0297723184973982E-2,2.6718556843813031E-2,3.0798773700995447E-2,0.43872337557730245,1.320641488207086E-2,7.9233632511168717E-2,-7.7575770615440409E-2,3.1989971842253738E-2,1.320641488207086E-2,0]
[null,-2.522004824528584E-33,8.0970715199564836E-2,6.2273731719713515E-4,0.10236263061236728,-0.34625510901866613,5.330720041025705,3.4330409651640004,0.64401074127753954,0.43163221425050491,229.02447078312059,7.6785210208212704E-2,162.27240740729769,5.44051946552098E-2,2.4522409045620624E-2,2.5154799312241176E-2,0.45401222980350781,1.3101822519610264E-2,3.0387102457549484E-2,-3.3968734037270736E-2,2.226043775029931E-2,1.3101822519610265E-2,0]
[null,-3.1720770085769275E-31,8.758432627758074E-2,5.8481020354910558E-4,9.6128350094186091E-2,-0.32516683229539312,5.0831078128240179,3.2800736109728525,0.64528901053360599,0.44520057318249862,230.93188448778943,7.7424710265853777E-2,108.78569015740366,3.6472661885514873E-2,2.3545350031374628E-2,2.18389869414767E-2,0.48615262156283745,1.2928269277499157E-2,1.1367883014099299E-2,-1.6087532416115498E-2,1.8062530170358901E-2,1.2928269277499158E-2,0]
[null,3.2673081312289854E-30,9.4938257676883894E-2,5.6969411472841528E-4,9.3643638525558126E-2,-0.31676196745430468,4.982150779696128,3.2174795460597188,0.64580131921578654,0.472996714507879,239.61101827654974,8.0334570116708984E-2,65.691188029419052,2.2024335060871258E-2,2.3151852089894072E-2,1.9626570405383712E-2,0.53130694956371682,1.272411883741213E-2,-5.2931419070895514E-3,8.6438685472614476E-4,1.3759049639069126E-2,1.272411883741213E-2,0]
[null,3.3625392538810462E-30,0.10313906536129758,5.8629879599349385E-4,9.6373037917300813E-2,-0.32599452115373218,5.0929790145763327,3.2861868979215032,0.64523864883721094,0.52528509546810531,260.87074990002941,8.7462336665397739E-2,28.347222974740028,9.5039952171561207E-3,2.3570151255648378E-2,1.8592583970520899E-2,0.60324343691634685,1.2354297000115573E-2,-1.8027180767272961E-2,1.5311795564999384E-2,9.6776955664940479E-3,1.2354297000115574E-2,0]
[null,3.4577703765331034E-30,0.11231225223019801,6.0290347725857241E-4,9.9102437309043501E-2,-0.33522707485315972,5.2022372721371628,3.3537676665211134,0.64467795125064176,0.58427498466960626,282.13954885926086,9.4593143226707629E-2,-9.0216772532560192,-3.0247046612670078E-3,2.370884595716187E-2,1.7557577460386026E-2,0.68189283255758093,1.1736459729850105E-2,-1.8067845142774541E-2,1.5364054828831974E-2,9.6609683823380213E-3,1.1736459729850105E-2,0]
[null,-3.553001499185161E-31,0.12260631802291558,6.5503817351550279E-4,0.1076720934187106,-0.36421506776379481,5.5353501863505192,3.5588419305724188,0.64292986184470813,0.67866890531589674,320.77347697106751,0.10754596997526611,-48.952338765321734,-1.6412288212810048E-2,2.4378363485346045E-2,1.7474216027512229E-2,0.8026271635039729,1.0353083040728243E-2,-1.994325612182777E-2,1.8148139928069868E-2,8.6345452448879055E-3,1.0353083040728244E-2,0]
[null,2.9903546080632947E-34,0.13419782954979564,7.6828651346512759E-4,0.1262873227772196,-0.42718353811648285,6.209875691398449,3.9693055113048223,0.63919242647688879,0.83335183955970848,391.96748376935693,0.13141523931089238,-100.68981850902709,-3.3758352780406259E-2,2.5568821888316572E-2,1.8724992766735494E-2,0.99852543165100716,6.8714404032500266E-3,-2.0162981552624935E-2,1.8543898957971733E-2,8.4584476969514731E-3,6.8714404032500266E-3,0]
[null,6.5243225261098848E-29,0.14729780979304705,8.5562967400664661E-4,0.1406443806122456,-0.47574818124957569,6.6875786328014373,4.2557076587226392,0.63636001793670371,0.98506568543043171,453.0142180061074,0.15188242478179645,-157.47234887018769,-5.2795875343070682E-2,2.4584514986992882E-2,1.8999120158737701E-2,1.1897439855552987,1.9804260472922677E-3,-2.0250404605281321E-2,1.8735204150458519E-2,8.3545900172585438E-3,{"$f":"S672*Q692^2+T672*Q692+U672","v":1.9804260472922677E-3},0]
[null,null,{"$f":"C673","v":0.16215984472146291},{"$f":"D673+(D692-D672)","v":8.7717473586713273E-4},0.14418585652486929,-0.48772769096788438,6.746369160550632,4.3199169276239173,0.64033212900423764,1.0939901755085566,458.33333333333337,0.15366576866258877,-205.07395718350207,-6.8755303119887257E-2,2.1215589851194112E-2,1.7692399435883077E-2,1.3164112472910328,-2.0748837577678932E-3,null,null,null,null,7.4986780743096546E-2]
[null,"De","hc","e0","a'","b'","N'","tN'","t","Nc","sac","Nac","sat","Nat","Mtot","u","N","Mo","a''","b''","c''",null,"x"]
[null,null,{"$f":"$C$35","v":4.1544915655417694E-2},{"$f":"$D$35","v":3.8256566053946229E-4},{"$f":"$E$35","v":6.28843435479884E-2},{"$f":"$F$35","v":-0.21271459223465167},{"$f":"IF($C$2=1,0.5*($O$31*D695*$F$6/$O$30)*(1-W695^2+(E695-F695)*(F695^2*(1-W695^2)+2*F695*(1-W695)+2*LN((1-F695)/(1-F695*W695)))/(F695^3)),$F$6*F695*(LN((1-E695+E695^2)/(1+E695)^2)/(6*E695)+ATAN((2-E695)/(E695*3^0.5))/(E695*3^0.5)-LN((W695^2-E695*W695+E695^2)/(W695+E695)^2)/(6*E695)-ATAN((2*W695-E695)/(E695*3^0.5))/(E695*3^0.5)))","v":3.6164179713546631},{"$f":"IF($C$2=1,($O$31*D695*$F$6/$O$30)*(1-W695^3-(E695-F695)*(-2*F695^3*(1-W695^3)-3*F695^2*(1-W695^2)-6*F695*(1-W695)-6*LN((1-F695)/(1-F695*W695)))/(2*F695^4))/3,$F$6*F695*(LN((1+E695^3)/(E695^3+W695^3)))/3)","v":2.3589615237756383},{"$f":"$I$35","v":0.65229227994683425},{"$f":"$J$35","v":0.15024377959466625},{"$f":"$K$35","v":10.340089653207192},{"$f":"$L$35","v":3.4667297991276304E-3},{"$f":"$M$35","v":458.16851350986366},{"$f":"$N$35","v":0.15361050939379392},{"$f":"$O$35","v":1.4595642140814678E-2},{"$f":"$P$35","v":3.011841020334027E-2},{"$f":"$Q$35","v":9.9999999999961231E-5},{"$f":"$R$35","v":1.4592630299794346E-2},null,null,null,null,{"$f":"IF(C695<$C$6,0,(C695-$C$6)/C695)","v":0}]
[null,{"$f":"IF(R676>$Q$29*V676,B676,IF(Q676>Q675,$U$6,-0.5)*B676)","v":4.0714933842728539E-37},{"$f":"IF(Q676>Q675,C676,(1-$T$6)*C676+$T$6*C677)","v":4.4336691510533544E-2},{"$f":"D676+B696","v":4.2836253051247033E-4},{"$f":"IF($C$2=1,D696/($O$31*$O$30),2^(1/3)*$O$30/D696)","v":7.0412217588601944E-2},{"$f":"IF($C$2=1,-($O$31-2)*D696/$O$30,3*($O$30/D696)^2)","v":-0.23817861979058777},{"$f":"IF($C$2=1,0.5*($O$31*D696*$F$6/$O$30)*(1-W696^2+(E696-F696)*(F696^2*(1-W696^2)+2*F696*(1-W696)+2*LN((1-F696)/(1-F696*W696)))/(F696^3)),$F$6*F696*(LN((1-E696+E696^2)/(1+E696)^2)/(6*E696)+ATAN((2-E696)/(E696*3^0.5))/(E696*3^0.5)-LN((W696^2-E696*W696+E696^2)/(W696+E696)^2)/(6*E696)-ATAN((2*W696-E696)/(E696*3^0.5))/(E696*3^0.5)))","v":3.9715403169798402},{"$f":"IF($C$2=1,($O$31*D696*$F$6/$O$30)*(1-W696^3-(E696-F696)*(-2*F696^3*(1-W696^3)-3*F696^2*(1-W696^2)-6*F696*(1-W696)-6*LN((1-F696)/(1-F696*W696)))/(2*F696^4))/3,$F$6*F696*(LN((1+E696^3)/(E696^3+W696^3)))/3)","v":2.584188132605246},{"$f":"H696/G696","v":0.65067654520762697},{"$f":"G696*C696*$D$6","v":0.17608495785558179},{"$f":"MAX(MIN($K$6,$Q$6*$J$6*D696*(C696-$I$6)/C696),-$K$6)","v":30.453565718108756},{"$f":"K696*$H$6","v":1.021019036637784E-2},{"$f":"MIN($O$6,$Q$6*$N$6*D696*(C$6-C696-$M$6)/C696)","v":458.33333333333337},{"$f":"M696*$L$6","v":0.15366576866258877},{"$f":"(0.5*$C$6-C696+I696*C696)*J696+(0.5*$C$6-$I$6)*L696+(0.5*$C$6-$M$6)*N696","v":1.6214853650533177E-2},{"$f":"0.1*$Q$6*D696*$B$6^2/C696+$R$6","v":3.1600367560991036E-2},{"$f":"(J696+L696-N696)","v":3.2629379559370869E-2},{"$f":"O696-P696*Q696","v":1.518375326316997E-2},{"$f":"((R696-R695)*(Q696-Q697)-(R696-R697)*(Q696-Q695))/((Q696^2-Q695^2)*(Q696-Q697)-(Q696^2-Q697^2)*(Q696-Q695))","v":-6.4831158545317541E-2},{"$f":"-(S696*(Q696^2-Q695^2)-(R696-R695))/(Q696-Q695)","v":2.0293855252393835E-2},{"$f":"R696-S696*Q696^2-T696*Q696","v":1.4590601562580692E-2},{"$f":"S676*Q696^2+T676*Q696+U676","v":1.5183753263169968E-2},{"$f":"IF(C696<$C$6,0,(C696-$C$6)/C696)","v":0}]
[null,{"$f":"IF(R677>$Q$29*V677,B677,IF(Q677>Q676,$U$6,-0.5)*B677)","v":9.0223179613231608E-37},{"$f":"IF(Q677>Q676,C677,(1-$T$6)*C677+$T$6*C678)","v":4.686581864712229E-2},{"$f":"D677+B697","v":4.7696328395726634E-4},7.8400980803794859E-2,-0.26520166581288029,4.3331467008444271,2.8121337206210515,0.6489818865521062,0.20307646745315119,50.786992561801682,1.702739400015367E-2,458.33333333333337,0.15366576866258877,1.7864235302051154E-2,{"$f":"0.1*$Q$6*D697*$B$6^2/C697+$R$6","v":3.3286848702870631E-2},6.643809279071608E-2,1.5652720559219308E-2,-4.9756811336570519E-2,1.8800477777095675E-2,1.4623280241171833E-2,{"$f":"MAX(S677*Q697^2+T677*Q697+U677,S678*Q697^2+T678*Q697+U678)","v":1.5652720559219308E-2},0]
[null,1.9755967437380851E-32,4.9178183027429483E-2,5.1138343885028133E-4,8.4058803939868143E-2,-0.28433999935383852,4.5801454005629569,2.9669884019048882,0.6477934961497529,0.22524322880112441,69.368502837898973,2.3257231220855375E-2,458.33333333333337,0.15366576866258877,1.9184137140418247E-2,3.4010899743189257E-2,9.4834691359391016E-2,1.5958723960417701E-2,-8.5674673728802192E-2,2.4593051445811309E-2,1.4396974863466982E-2,{"$f":"MAX(S678*Q698^2+T678*Q698+U678,S679*Q698^2+T679*Q698+U679)","v":1.5958723960417701E-2},0]
[null,2.9337929157055292E-33,5.255221950735349E-2,6.1697554712529133E-4,0.10141553795347201,-0.34305144309200192,5.2936203280021852,3.4101729099852851,0.64420428717680367,0.27819149746575944,107.10970946941983,3.5910754553116271E-2,458.33333333333337,0.15366576866258877,2.2297956507532225E-2,3.8399080921905651E-2,0.16043648335628694,1.6137343000308193E-2,-4.3786215799777366E-2,1.3900135583240885E-2,1.5034305421099795E-2,1.6137343000308193E-2,0]
[null,3.0453047689280784E-31,5.6242100708700393E-2,7.0133254331032385E-4,0.11528174413960915,-0.3899557157346018,5.818963683896814,3.7322400709586354,0.64139256982941817,0.32727074152999486,147.20958346173595,4.9355070102866543E-2,458.33333333333337,0.15366576866258877,2.5050365319008332E-2,4.0785557081477845E-2,0.22296004297027264,1.5956815759555522E-2,-8.8301719915336637E-3,4.9810981304120928E-4,1.628471545026049E-2,1.5956815759555522E-2,0]
[null,-4.6986058604089939E-20,6.0285666570009291E-2,7.6065650728683013E-4,0.12503313825602461,-0.4229410934321487,6.1664416627869469,3.9430807490839279,0.63944183123948306,0.37174804600618755,186.03524372539073,6.2372179037223724E-2,455.91886785554243,0.15285626896756177,2.7333601616734718E-2,4.1268478601631416E-2,0.28126395607584953,1.5726266064008322E-2,-8.4175554931313873E-2,3.8489060108598663E-2,1.1559759490730726E-2,1.5726266064008322E-2,0]
[null,-3.9873607399552805E-30,6.4726330142402158E-2,8.7819863250649852E-4,0.14435415983765673,-0.48829699913795377,6.8053796971009088,4.3257344635079829,0.6356345503177061,0.44048725301895425,243.83882845213955,8.175203128119958E-2,446.466521890948,0.1496871736766946,3.0748447865050644E-2,4.4376772522055637E-2,0.37255211062345928,1.4215787599301685E-2,-2.0365940494635679E-2,-3.2306910199897078E-3,1.824608059861706E-2,1.4215787599301689E-2,0]
[null,3.3798403285957305E-33,6.9614059201644651E-2,7.8513563758028236E-4,0.12905690253470753,-0.43655200720650061,6.3048000198873266,4.0265153460803367,0.63864283298113156,0.43890272183896673,242.75998367563778,8.1390326164438642E-2,331.06202233800951,0.11099541848195205,2.8610370568531229E-2,3.6888557529448765E-2,0.40929762952145332,1.3511971415262091E-2,0.1325320042461188,-0.12277390938423988,4.1560677183424814E-2,1.3511971415262093E-2,0]
[null,-3.4913521818182832E-36,7.5006560532026839E-2,7.0629923370310133E-4,0.11609814534121071,-0.39271730055684023,5.8487319536551112,3.7503732737751196,0.64122844122329081,0.43869326731743169,239.59091908357632,8.0327831444844774E-2,239.50111626524173,8.0297723184973982E-2,2.6718556843813031E-2,3.0798773700995447E-2,0.43872337557730245,1.320641488207086E-2,7.9233632511168717E-2,-7.7575770615440409E-2,3.1989971842253738E-2,1.320641488207086E-2,0]
[null,2.5220048245285843E-34,8.0970715199564836E-2,6.2273731719713515E-4,0.10236263061236728,-0.34625510901866613,5.330720041025705,3.4330409651640004,0.64401074127753954,0.43163221425050491,229.02447078312059,7.6785210208212704E-2,162.27240740729769,5.44051946552098E-2,2.4522409045620624E-2,2.5154799312241176E-2,0.45401222980350781,1.3101822519610264E-2,3.0387102457549484E-2,-3.3968734037270736E-2,2.226043775029931E-2,1.3101822519610265E-2,0]
[null,3.172077008576928E-32,8.758432627758074E-2,5.8481020354910558E-4,9.6128350094186091E-2,-0.32516683229539312,5.0831078128240179,3.2800736109728525,0.64528901053360599,0.44520057318249862,230.93188448778943,7.7424710265853777E-2,108.78569015740366,3.6472661885514873E-2,2.3545350031374628E-2,2.18389869414767E-2,0.48615262156283745,1.2928269277499157E-2,1.1367883014099299E-2,-1.6087532416115498E-2,1.8062530170358901E-2,1.2928269277499158E-2,0]
[null,-3.2673081312289856E-31,9.4938257676883894E-2,5.6969411472841528E-4,9.3643638525558126E-2,-0.31676196745430468,4.982150779696128,3.2174795460597188,0.64580131921578654,0.472996714507879,239.61101827654974,8.0334570116708984E-2,65.691188029419052,2.2024335060871258E-2,2.3151852089894072E-2,1.9626570405383712E-2,0.53130694956371682,1.272411883741213E-2,-5.2931419070895514E-3,8.6438685472614476E-4,1.3759049639069126E-2,1.272411883741213E-2,0]
[null,-3.3625392538810463E-31,0.10313906536129758,5.8629879599349385E-4,9.6373037917300813E-2,-0.32599452115373218,5.0929790145763327,3.2861868979215032,0.64523864883721094,0.52528509546810531,260.87074990002941,8.7462336665397739E-2,28.347222974740028,9.5039952171561207E-3,2.3570151255648378E-2,1.8592583970520899E-2,0.60324343691634685,1.2354297000115573E-2,-1.8027180767272961E-2,1.5311795564999384E-2,9.6776955664940479E-3,1.2354297000115574E-2,0]
[null,-3.4577703765331034E-31,0.11231225223019801,6.0290347725857241E-4,9.9102437309043501E-2,-0.33522707485315972,5.2022372721371628,3.3537676665211134,0.64467795125064176,0.58427498466960626,282.13954885926086,9.4593143226707629E-2,-9.0216772532560192,-3.0247046612670078E-3,2.370884595716187E-2,1.7557577460386026E-2,0.68189283255758093,1.1736459729850105E-2,-1.8067845142774541E-2,1.5364054828831974E-2,9.6609683823380213E-3,1.1736459729850105E-2,0]
[null,3.553001499185161E-32,0.12260631802291558,6.5503817351550279E-4,0.1076720934187106,-0.36421506776379481,5.5353501863505192,3.5588419305724188,0.64292986184470813,0.67866890531589674,320.77347697106751,0.10754596997526611,-48.952338765321734,-1.6412288212810048E-2,2.4378363485346045E-2,1.7474216027512229E-2,0.8026271635039729,1.0353083040728243E-2,-1.994325612182777E-2,1.8148139928069868E-2,8.6345452448879055E-3,1.0353083040728244E-2,0]
[null,-2.9903546080632947E-35,0.13419782954979564,7.6828651346512759E-4,0.1262873227772196,-0.42718353811648285,6.209875691398449,3.9693055113048223,0.63919242647688879,0.83335183955970848,391.96748376935693,0.13141523931089238,-100.68981850902709,-3.3758352780406259E-2,2.5568821888316572E-2,1.8724992766735494E-2,0.99852543165100716,6.8714404032500266E-3,-2.0162981552624935E-2,1.8543898957971733E-2,8.4584476969514731E-3,6.8714404032500266E-3,0]
[null,-6.5243225261098857E-30,0.14729780979304705,8.5562967400664661E-4,0.1406443806122456,-0.47574818124957569,6.6875786328014373,4.2557076587226392,0.63636001793670371,0.98506568543043171,453.0142180061074,0.15188242478179645,-157.47234887018769,-5.2795875343070682E-2,2.4584514986992882E-2,1.8999120158737701E-2,1.1897439855552987,1.9804260472922677E-3,-2.0250404605281321E-2,1.8735204150458519E-2,8.3545900172585438E-3,{"$f":"S692*Q712^2+T692*Q712+U692","v":1.9804260472922677E-3},0]
[null,0,{"$f":"C693","v":0.16215984472146291},{"$f":"D693+(D712-D692)","v":8.7717473586713273E-4},0.14418585652486929,-0.48772769096788438,6.746369160550632,4.3199169276239173,0.64033212900423764,1.0939901755085566,458.33333333333337,0.15366576866258877,-205.07395718350207,-6.8755303119887257E-2,2.1215589851194112E-2,1.7692399435883077E-2,1.3164112472910328,-2.0748837577678932E-3,null,null,null,null,7.4986780743096546E-2]
[null,"De","hc","e0","a'","b'","N'","tN'","t","Nc","sac","Nac","sat","Nat","Mtot","u","N","Mo","a''","b''","c''",null,"x"]
[null,null,{"$f":"$C$35","v":4.1544915655417694E-2},{"$f":"$D$35","v":3.8256566053946229E-4},{"$f":"$E$35","v":6.28843435479884E-2},{"$f":"$F$35","v":-0.21271459223465167},{"$f":"IF($C$2=1,0.5*($O$31*D715*$F$6/$O$30)*(1-W715^2+(E715-F715)*(F715^2*(1-W715^2)+2*F715*(1-W715)+2*LN((1-F715)/(1-F715*W715)))/(F715^3)),$F$6*F715*(LN((1-E715+E715^2)/(1+E715)^2)/(6*E715)+ATAN((2-E715)/(E715*3^0.5))/(E715*3^0.5)-LN((W715^2-E715*W715+E715^2)/(W715+E715)^2)/(6*E715)-ATAN((2*W715-E715)/(E715*3^0.5))/(E715*3^0.5)))","v":3.6164179713546631},{"$f":"IF($C$2=1,($O$31*D715*$F$6/$O$30)*(1-W715^3-(E715-F715)*(-2*F715^3*(1-W715^3)-3*F715^2*(1-W715^2)-6*F715*(1-W715)-6*LN((1-F715)/(1-F715*W715)))/(2*F715^4))/3,$F$6*F715*(LN((1+E715^3)/(E715^3+W715^3)))/3)","v":2.3589615237756383},{"$f":"$I$35","v":0.65229227994683425},{"$f":"$J$35","v":0.15024377959466625},{"$f":"$K$35","v":10.340089653207192},{"$f":"$L$35","v":3.4667297991276304E-3},{"$f":"$M$35","v":458.16851350986366},{"$f":"$N$35","v":0.15361050939379392},{"$f":"$O$35","v":1.4595642140814678E-2},{"$f":"$P$35","v":3.011841020334027E-2},{"$f":"$Q$35","v":9.9999999999961231E-5},{"$f":"$R$35","v":1.4592630299794346E-2},null,null,null,null,{"$f":"IF(C715<$C$6,0,(C715-$C$6)/C715)","v":0}]
[null,{"$f":"IF(R696>$Q$29*V696,B696,IF(Q696>Q695,$U$6,-0.5)*B696)","v":-4.0714933842728542E-38},{"$f":"IF(Q696>Q695,C696,(1-$T$6)*C696+$T$6*C697)","v":4.4336691510533544E-2},{"$f":"D696+B716","v":4.2836253051247033E-4},{"$f":"IF($C$2=1,D716/($O$31*$O$30),2^(1/3)*$O$30/D716)","v":7.0412217588601944E-2},{"$f":"IF($C$2=1,-($O$31-2)*D716/$O$30,3*($O$30/D716)^2)","v":-0.23817861979058777},{"$f":"IF($C$2=1,0.5*($O$31*D716*$F$6/$O$30)*(1-W716^2+(E716-F716)*(F716^2*(1-W716^2)+2*F716*(1-W716)+2*LN((1-F716)/(1-F716*W716)))/(F716^3)),$F$6*F716*(LN((1-E716+E716^2)/(1+E716)^2)/(6*E716)+ATAN((2-E716)/(E716*3^0.5))/(E716*3^0.5)-LN((W716^2-E716*W716+E716^2)/(W716+E716)^2)/(6*E716)-ATAN((2*W716-E716)/(E716*3^0.5))/(E716*3^0.5)))","v":3.9715403169798402},{"$f":"IF($C$2=1,($O$31*D716*$F$6/$O$30)*(1-W716^3-(E716-F716)*(-2*F716^3*(1-W716^3)-3*F716^2*(1-W716^2)-6*F716*(1-W716)-6*LN((1-F716)/(1-F716*W716)))/(2*F716^4))/3,$F$6*F716*(LN((1+E716^3)/(E716^3+W716^3)))/3)","v":2.584188132605246},{"$f":"H716/G716","v":0.65067654520762697},{"$f":"G716*C716*$D$6","v":0.17608495785558179},{"$f":"MAX(MIN($K$6,$Q$6*$J$6*D716*(C716-$I$6)/C716),-$K$6)","v":30.453565718108756},{"$f":"K716*$H$6","v":1.021019036637784E-2},{"$f":"MIN($O$6,$Q$6*$N$6*D716*(C$6-C716-$M$6)/C716)","v":458.33333333333337},{"$f":"M716*$L$6","v":0.15366576866258877},{"$f":"(0.5*$C$6-C716+I716*C716)*J716+(0.5*$C$6-$I$6)*L716+(0.5*$C$6-$M$6)*N716","v":1.6214853650533177E-2},{"$f":"0.1*$Q$6*D716*$B$6^2/C716+$R$6","v":3.1600367560991036E-2},{"$f":"(J716+L716-N716)","v":3.2629379559370869E-2},{"$f":"O716-P716*Q716","v":1.518375326316997E-2},{"$f":"((R716-R715)*(Q716-Q717)-(R716-R717)*(Q716-Q715))/((Q716^2-Q715^2)*(Q716-Q717)-(Q716^2-Q717^2)*(Q716-Q715))","v":-6.4831158545317541E-2},{"$f":"-(S716*(Q716^2-Q715^2)-(R716-R715))/(Q716-Q715)","v":2.0293855252393835E-2},{"$f":"R716-S716*Q716^2-T716*Q716","v":1.4590601562580692E-2},{"$f":"S696*Q716^2+T696*Q716+U696","v":1.5183753263169968E-2},{"$f":"IF(C716<$C$6,0,(C716-$C$6)/C716)","v":0}]
[null,{"$f":"IF(R697>$Q$29*V697,B697,IF(Q697>Q696,$U$6,-0.5)*B697)","v":-9.0223179613231612E-38},{"$f":"IF(Q697>Q696,C697,(1-$T$6)*C697+$T$6*C698)","v":4.686581864712229E-2},{"$f":"D697+B717","v":4.7696328395726634E-4},7.8400980803794859E-2,-0.26520166581288029,4.3331467008444271,2.8121337206210515,0.6489818865521062,0.20307646745315119,50.786992561801682,1.702739400015367E-2,458.33333333333337,0.15366576866258877,1.7864235302051154E-2,{"$f":"0.1*$Q$6*D717*$B$6^2/C717+$R$6","v":3.3286848702870631E-2},6.643809279071608E-2,1.5652720559219308E-2,-4.9756811336570519E-2,1.8800477777095675E-2,1.4623280241171833E-2,{"$f":"MAX(S697*Q717^2+T697*Q717+U697,S698*Q717^2+T698*Q717+U698)","v":1.5652720559219308E-2},0]
[null,-1.9755967437380854E-33,4.9178183027429483E-2,5.1138343885028133E-4,8.4058803939868143E-2,-0.28433999935383852,4.5801454005629569,2.9669884019048882,0.6477934961497529,0.22524322880112441,69.368502837898973,2.3257231220855375E-2,458.33333333333337,0.15366576866258877,1.9184137140418247E-2,3.4010899743189257E-2,9.4834691359391016E-2,1.5958723960417701E-2,-8.5674673728802192E-2,2.4593051445811309E-2,1.4396974863466982E-2,{"$f":"MAX(S698*Q718^2+T698*Q718+U698,S699*Q718^2+T699*Q718+U699)","v":1.5958723960417701E-2},0]
[null,-2.9337929157055295E-34,5.255221950735349E-2,6.1697554712529133E-4,0.10141553795347201,-0.34305144309200192,5.2936203280021852,3.4101729099852851,0.64420428717680367,0.27819149746575944,107.10970946941983,3.5910754553116271E-2,458.33333333333337,0.15366576866258877,2.2297956507532225E-2,3.8399080921905651E-2,0.16043648335628694,1.6137343000308193E-2,-4.3786215799777366E-2,1.3900135583240885E-2,1.5034305421099795E-2,1.6137343000308193E-2,0]
[null,-3.0453047689280784E-32,5.6242100708700393E-2,7.0133254331032385E-4,0.11528174413960915,-0.3899557157346018,5.818963683896814,3.7322400709586354,0.64139256982941817,0.32727074152999486,147.20958346173595,4.9355070102866543E-2,458.33333333333337,0.15366576866258877,2.5050365319008332E-2,4.0785557081477845E-2,0.22296004297027264,1.5956815759555522E-2,-8.8301719915336637E-3,4.9810981304120928E-4,1.628471545026049E-2,1.5956815759555522E-2,0]
[null,4.6986058604089945E-21,6.0285666570009291E-2,7.6065650728683013E-4,0.12503313825602461,-0.4229410934321487,6.1664416627869469,3.9430807490839279,0.63944183123948306,0.37174804600618755,186.03524372539073,6.2372179037223724E-2,455.91886785554243,0.15285626896756177,2.7333601616734718E-2,4.1268478601631416E-2,0.28126395607584953,1.5726266064008322E-2,-8.4175554931313873E-2,3.8489060108598663E-2,1.1559759490730726E-2,1.5726266064008322E-2,0]
[null,3.987360739955281E-31,6.4726330142402158E-2,8.7819863250649852E-4,0.14435415983765673,-0.48829699913795377,6.8053796971009088,4.3257344635079829,0.6356345503177061,0.44048725301895425,243.83882845213955,8.175203128119958E-2,446.466521890948,0.1496871736766946,3.0748447865050644E-2,4.4376772522055637E-2,0.37255211062345928,1.4215787599301685E-2,-2.0365940494635679E-2,-3.2306910199897078E-3,1.824608059861706E-2,1.4215787599301689E-2,0]
[null,-3.3798403285957308E-34,6.9614059201644651E-2,7.8513563758028236E-4,0.12905690253470753,-0.43655200720650061,6.3048000198873266,4.0265153460803367,0.63864283298113156,0.43890272183896673,242.75998367563778,8.1390326164438642E-2,331.06202233800951,0.11099541848195205,2.8610370568531229E-2,3.6888557529448765E-2,0.40929762952145332,1.3511971415262091E-2,0.1325320042461188,-0.12277390938423988,4.1560677183424814E-2,1.3511971415262093E-2,0]
[null,3.4913521818182834E-37,7.5006560532026839E-2,7.0629923370310133E-4,0.11609814534121071,-0.39271730055684023,5.8487319536551112,3.7503732737751196,0.64122844122329081,0.43869326731743169,239.59091908357632,8.0327831444844774E-2,239.50111626524173,8.0297723184973982E-2,2.6718556843813031E-2,3.0798773700995447E-2,0.43872337557730245,1.320641488207086E-2,7.9233632511168717E-2,-7.7575770615440409E-2,3.1989971842253738E-2,1.320641488207086E-2,0]
[null,-2.5220048245285843E-35,8.0970715199564836E-2,6.2273731719713515E-4,0.10236263061236728,-0.34625510901866613,5.330720041025705,3.4330409651640004,0.64401074127753954,0.43163221425050491,229.02447078312059,7.6785210208212704E-2,162.27240740729769,5.44051946552098E-2,2.4522409045620624E-2,2.5154799312241176E-2,0.45401222980350781,1.3101822519610264E-2,3.0387102457549484E-2,-3.3968734037270736E-2,2.226043775029931E-2,1.3101822519610265E-2,0]
[null,-3.1720770085769281E-33,8.758432627758074E-2,5.8481020354910558E-4,9.6128350094186091E-2,-0.32516683229539312,5.0831078128240179,3.2800736109728525,0.64528901053360599,0.44520057318249862,230.93188448778943,7.7424710265853777E-2,108.78569015740366,3.6472661885514873E-2,2.3545350031374628E-2,2.18389869414767E-2,0.48615262156283745,1.2928269277499157E-2,1.1367883014099299E-2,-1.6087532416115498E-2,1.8062530170358901E-2,1.2928269277499158E-2,0]
[null,3.2673081312289857E-32,9.4938257676883894E-2,5.6969411472841528E-4,9.3643638525558126E-2,-0.31676196745430468,4.982150779696128,3.2174795460597188,0.64580131921578654,0.472996714507879,239.61101827654974,8.0334570116708984E-2,65.691188029419052,2.2024335060871258E-2,2.3151852089894072E-2,1.9626570405383712E-2,0.53130694956371682,1.272411883741213E-2,-5.2931419070895514E-3,8.6438685472614476E-4,1.3759049639069126E-2,1.272411883741213E-2,0]
[null,3.3625392538810467E-32,0.10313906536129758,5.8629879599349385E-4,9.6373037917300813E-2,-0.32599452115373218,5.0929790145763327,3.2861868979215032,0.64523864883721094,0.52528509546810531,260.87074990002941,8.7462336665397739E-2,28.347222974740028,9.5039952171561207E-3,2.3570151255648378E-2,1.8592583970520899E-2,0.60324343691634685,1.2354297000115573E-2,-1.8027180767272961E-2,1.5311795564999384E-2,9.6776955664940479E-3,1.2354297000115574E-2,0]
[null,3.4577703765331039E-32,0.11231225223019801,6.0290347725857241E-4,9.9102437309043501E-2,-0.33522707485315972,5.2022372721371628,3.3537676665211134,0.64467795125064176,0.58427498466960626,282.13954885926086,9.4593143226707629E-2,-9.0216772532560192,-3.0247046612670078E-3,2.370884595716187E-2,1.7557577460386026E-2,0.68189283255758093,1.1736459729850105E-2,-1.8067845142774541E-2,1.5364054828831974E-2,9.6609683823380213E-3,1.1736459729850105E-2,0]
[null,-3.5530014991851613E-33,0.12260631802291558,6.5503817351550279E-4,0.1076720934187106,-0.36421506776379481,5.5353501863505192,3.5588419305724188,0.64292986184470813,0.67866890531589674,320.77347697106751,0.10754596997526611,-48.952338765321734,-1.6412288212810048E-2,2.4378363485346045E-2,1.7474216027512229E-2,0.8026271635039729,1.0353083040728243E-2,-1.994325612182777E-2,1.8148139928069868E-2,8.6345452448879055E-3,1.0353083040728244E-2,0]
[null,2.9903546080632947E-36,0.13419782954979564,7.6828651346512759E-4,0.1262873227772196,-0.42718353811648285,6.209875691398449,3.9693055113048223,0.63919242647688879,0.83335183955970848,391.96748376935693,0.13141523931089238,-100.68981850902709,-3.3758352780406259E-2,2.5568821888316572E-2,1.8724992766735494E-2,0.99852543165100716,6.8714404032500266E-3,-2.0162981552624935E-2,1.8543898957971733E-2,8.4584476969514731E-3,6.8714404032500266E-3,0]
[null,6.5243225261098864E-31,0.14729780979304705,8.5562967400664661E-4,0.1406443806122456,-0.47574818124957569,6.6875786328014373,4.2557076587226392,0.63636001793670371,0.98506568543043171,453.0142180061074,0.15188242478179645,-157.47234887018769,-5.2795875343070682E-2,2.4584514986992882E-2,1.8999120158737701E-2,1.1897439855552987,1.9804260472922677E-3,-2.0250404605281321E-2,1.8735204150458519E-2,8.3545900172585438E-3,{"$f":"S712*Q732^2+T712*Q732+U712","v":1.9804260472922677E-3},0]
[null,0,{"$f":"C713","v":0.16215984472146291},{"$f":"D713+(D732-D712)","v":8.7717473586713273E-4},0.14418585652486929,-0.48772769096788438,6.746369160550632,4.3199169276239173,0.64033212900423764,1.0939901755085566,458.33333333333337,0.15366576866258877,-205.07395718350207,-6.8755303119887257E-2,2.1215589851194112E-2,1.7692399435883077E-2,1.3164112472910328,-2.0748837577678932E-3,null,null,null,null,7.4986780743096546E-2]
[null,"De","hc","e0","a'","b'","N'","tN'","t","Nc","sac","Nac","sat","Nat","Mtot","u","N","Mo","a''","b''","c''",null,"x"]
[null,null,{"$f":"$C$35","v":4.1544915655417694E-2},{"$f":"$D$35","v":3.8256566053946229E-4},{"$f":"$E$35","v":6.28843435479884E-2},{"$f":"$F$35","v":-0.21271459223465167},{"$f":"IF($C$2=1,0.5*($O$31*D735*$F$6/$O$30)*(1-W735^2+(E735-F735)*(F735^2*(1-W735^2)+2*F735*(1-W735)+2*LN((1-F735)/(1-F735*W735)))/(F735^3)),$F$6*F735*(LN((1-E735+E735^2)/(1+E735)^2)/(6*E735)+ATAN((2-E735)/(E735*3^0.5))/(E735*3^0.5)-LN((W735^2-E735*W735+E735^2)/(W735+E735)^2)/(6*E735)-ATAN((2*W735-E735)/(E735*3^0.5))/(E735*3^0.5)))","v":3.6164179713546631},{"$f":"IF($C$2=1,($O$31*D735*$F$6/$O$30)*(1-W735^3-(E735-F735)*(-2*F735^3*(1-W735^3)-3*F735^2*(1-W735^2)-6*F735*(1-W735)-6*LN((1-F735)/(1-F735*W735)))/(2*F735^4))/3,$F$6*F735*(LN((1+E735^3)/(E735^3+W735^3)))/3)","v":2.3589615237756383},{"$f":"$I$35","v":0.65229227994683425},{"$f":"$J$35","v":0.15024377959466625},{"$f":"$K$35","v":10.340089653207192},{"$f":"$L$35","v":3.4667297991276304E-3},{"$f":"$M$35","v":458.16851350986366},{"$f":"$N$35","v":0.15361050939379392},{"$f":"$O$35","v":1.4595642140814678E-2},{"$f":"$P$35","v":3.011841020334027E-2},{"$f":"$Q$35","v":9.9999999999961231E-5},{"$f":"$R$35","v":1.4592630299794346E-2},null,null,null,null,{"$f":"IF(C735<$C$6,0,(C735-$C$6)/C735)","v":0}]
[null,{"$f":"IF(R716>$Q$29*V716,B716,IF(Q716>Q715,$U$6,-0.5)*B716)","v":4.0714933842728542E-39},{"$f":"IF(Q716>Q715,C716,(1-$T$6)*C716+$T$6*C717)","v":4.4336691510533544E-2},{"$f":"D716+B736","v":4.2836253051247033E-4},{"$f":"IF($C$2=1,D736/($O$31*$O$30),2^(1/3)*$O$30/D736)","v":7.0412217588601944E-2},{"$f":"IF($C$2=1,-($O$31-2)*D736/$O$30,3*($O$30/D736)^2)","v":-0.23817861979058777},{"$f":"IF($C$2=1,0.5*($O$31*D736*$F$6/$O$30)*(1-W736^2+(E736-F736)*(F736^2*(1-W736^2)+2*F736*(1-W736)+2*LN((1-F736)/(1-F736*W736)))/(F736^3)),$F$6*F736*(LN((1-E736+E736^2)/(1+E736)^2)/(6*E736)+ATAN((2-E736)/(E736*3^0.5))/(E736*3^0.5)-LN((W736^2-E736*W736+E736^2)/(W736+E736)^2)/(6*E736)-ATAN((2*W736-E736)/(E736*3^0.5))/(E736*3^0.5)))","v":3.9715403169798402},{"$f":"IF($C$2=1,($O$31*D736*$F$6/$O$30)*(1-W736^3-(E736-F736)*(-2*F736^3*(1-W736^3)-3*F736^2*(1-W736^2)-6*F736*(1-W736)-6*LN((1-F736)/(1-F736*W736)))/(2*F736^4))/3,$F$6*F736*(LN((1+E736^3)/(E736^3+W736^3)))/3)","v":2.584188132605246},{"$f":"H736/G736","v":0.65067654520762697},{"$f":"G736*C736*$D$6","v":0.17608495785558179},{"$f":"MAX(MIN($K$6,$Q$6*$J$6*D736*(C736-$I$6)/C736),-$K$6)","v":30.453565718108756},{"$f":"K736*$H$6","v":1.021019036637784E-2},{"$f":"MIN($O$6,$Q$6*$N$6*D736*(C$6-C736-$M$6)/C736)","v":458.33333333333337},{"$f":"M736*$L$6","v":0.15366576866258877},{"$f":"(0.5*$C$6-C736+I736*C736)*J736+(0.5*$C$6-$I$6)*L736+(0.5*$C$6-$M$6)*N736","v":1.6214853650533177E-2},{"$f":"0.1*$Q$6*D736*$B$6^2/C736+$R$6","v":3.1600367560991036E-2},{"$f":"(J736+L736-N736)","v":3.2629379559370869E-2},{"$f":"O736-P736*Q736","v":1.518375326316997E-2},{"$f":"((R736-R735)*(Q736-Q737)-(R736-R737)*(Q736-Q735))/((Q736^2-Q735^2)*(Q736-Q737)-(Q736^2-Q737^2)*(Q736-Q735))","v":-6.4831158545317541E-2},{"$f":"-(S736*(Q736^2-Q735^2)-(R736-R735))/(Q736-Q735)","v":2.0293855252393835E-2},{"$f":"R736-S736*Q736^2-T736*Q736","v":1.4590601562580692E-2},{"$f":"S716*Q736^2+T716*Q736+U716","v":1.5183753263169968E-2},{"$f":"IF(C736<$C$6,0,(C736-$C$6)/C736)","v":0}]
[null,{"$f":"IF(R717>$Q$29*V717,B717,IF(Q717>Q716,$U$6,-0.5)*B717)","v":9.0223179613231614E-39},{"$f":"IF(Q717>Q716,C717,(1-$T$6)*C717+$T$6*C718)","v":4.686581864712229E-2},{"$f":"D717+B737","v":4.7696328395726634E-4},7.8400980803794859E-2,-0.26520166581288029,4.3331467008444271,2.8121337206210515,0.6489818865521062,0.20307646745315119,50.786992561801682,1.702739400015367E-2,458.33333333333337,0.15366576866258877,1.7864235302051154E-2,{"$f":"0.1*$Q$6*D737*$B$6^2/C737+$R$6","v":3.3286848702870631E-2},6.643809279071608E-2,1.5652720559219308E-2,-4.9756811336570519E-2,1.8800477777095675E-2,1.4623280241171833E-2,{"$f":"MAX(S717*Q737^2+T717*Q737+U717,S718*Q737^2+T718*Q737+U718)","v":1.5652720559219308E-2},0]
[null,1.9755967437380853E-34,4.9178183027429483E-2,5.1138343885028133E-4,8.4058803939868143E-2,-0.28433999935383852,4.5801454005629569,2.9669884019048882,0.6477934961497529,0.22524322880112441,69.368502837898973,2.3257231220855375E-2,458.33333333333337,0.15366576866258877,1.9184137140418247E-2,3.4010899743189257E-2,9.4834691359391016E-2,1.5958723960417701E-2,-8.5674673728802192E-2,2.4593051445811309E-2,1.4396974863466982E-2,{"$f":"MAX(S718*Q738^2+T718*Q738+U718,S719*Q738^2+T719*Q738+U719)","v":1.5958723960417701E-2},0]
[null,2.9337929157055296E-35,5.255221950735349E-2,6.1697554712529133E-4,0.10141553795347201,-0.34305144309200192,5.2936203280021852,3.4101729099852851,0.64420428717680367,0.27819149746575944,107.10970946941983,3.5910754553116271E-2,458.33333333333337,0.15366576866258877,2.2297956507532225E-2,3.8399080921905651E-2,0.16043648335628694,1.6137343000308193E-2,-4.3786215799777366E-2,1.3900135583240885E-2,1.5034305421099795E-2,1.6137343000308193E-2,0]
[null,3.0453047689280787E-33,5.6242100708700393E-2,7.0133254331032385E-4,0.11528174413960915,-0.3899557157346018,5.818963683896814,3.7322400709586354,0.64139256982941817,0.32727074152999486,147.20958346173595,4.9355070102866543E-2,458.33333333333337,0.15366576866258877,2.5050365319008332E-2,4.0785557081477845E-2,0.22296004297027264,1.5956815759555522E-2,-8.8301719915336637E-3,4.9810981304120928E-4,1.628471545026049E-2,1.5956815759555522E-2,0]
[null,-4.6986058604089951E-22,6.0285666570009291E-2,7.6065650728683013E-4,0.12503313825602461,-0.4229410934321487,6.1664416627869469,3.9430807490839279,0.63944183123948306,0.37174804600618755,186.03524372539073,6.2372179037223724E-2,455.91886785554243,0.15285626896756177,2.7333601616734718E-2,4.1268478601631416E-2,0.28126395607584953,1.5726266064008322E-2,-8.4175554931313873E-2,3.8489060108598663E-2,1.1559759490730726E-2,1.5726266064008322E-2,0]
[null,-3.9873607399552811E-32,6.4726330142402158E-2,8.7819863250649852E-4,0.14435415983765673,-0.48829699913795377,6.8053796971009088,4.3257344635079829,0.6356345503177061,0.44048725301895425,243.83882845213955,8.175203128119958E-2,446.466521890948,0.1496871736766946,3.0748447865050644E-2,4.4376772522055637E-2,0.37255211062345928,1.4215787599301685E-2,-2.0365940494635679E-2,-3.2306910199897078E-3,1.824608059861706E-2,1.4215787599301689E-2,0]
[null,3.3798403285957312E-35,6.9614059201644651E-2,7.8513563758028236E-4,0.12905690253470753,-0.43655200720650061,6.3048000198873266,4.0265153460803367,0.63864283298113156,0.43890272183896673,242.75998367563778,8.1390326164438642E-2,331.06202233800951,0.11099541848195205,2.8610370568531229E-2,3.6888557529448765E-2,0.40929762952145332,1.3511971415262091E-2,0.1325320042461188,-0.12277390938423988,4.1560677183424814E-2,1.3511971415262093E-2,0]
[null,-3.4913521818182838E-38,7.5006560532026839E-2,7.0629923370310133E-4,0.11609814534121071,-0.39271730055684023,5.8487319536551112,3.7503732737751196,0.64122844122329081,0.43869326731743169,239.59091908357632,8.0327831444844774E-2,239.50111626524173,8.0297723184973982E-2,2.6718556843813031E-2,3.0798773700995447E-2,0.43872337557730245,1.320641488207086E-2,7.9233632511168717E-2,-7.7575770615440409E-2,3.1989971842253738E-2,1.320641488207086E-2,0]
[null,2.5220048245285846E-36,8.0970715199564836E-2,6.2273731719713515E-4,0.10236263061236728,-0.34625510901866613,5.330720041025705,3.4330409651640004,0.64401074127753954,0.43163221425050491,229.02447078312059,7.6785210208212704E-2,162.27240740729769,5.44051946552098E-2,2.4522409045620624E-2,2.5154799312241176E-2,0.45401222980350781,1.3101822519610264E-2,3.0387102457549484E-2,-3.3968734037270736E-2,2.226043775029931E-2,1.3101822519610265E-2,0]
[null,3.1720770085769282E-34,8.758432627758074E-2,5.8481020354910558E-4,9.6128350094186091E-2,-0.32516683229539312,5.0831078128240179,3.2800736109728525,0.64528901053360599,0.44520057318249862,230.93188448778943,7.7424710265853777E-2,108.78569015740366,3.6472661885514873E-2,2.3545350031374628E-2,2.18389869414767E-2,0.48615262156283745,1.2928269277499157E-2,1.1367883014099299E-2,-1.6087532416115498E-2,1.8062530170358901E-2,1.2928269277499158E-2,0]
[null,-3.2673081312289856E-33,9.4938257676883894E-2,5.6969411472841528E-4,9.3643638525558126E-2,-0.31676196745430468,4.982150779696128,3.2174795460597188,0.64580131921578654,0.472996714507879,239.61101827654974,8.0334570116708984E-2,65.691188029419052,2.2024335060871258E-2,2.3151852089894072E-2,1.9626570405383712E-2,0.53130694956371682,1.272411883741213E-2,-5.2931419070895514E-3,8.6438685472614476E-4,1.3759049639069126E-2,1.272411883741213E-2,0]
[null,-3.3625392538810471E-33,0.10313906536129758,5.8629879599349385E-4,9.6373037917300813E-2,-0.32599452115373218,5.0929790145763327,3.2861868979215032,0.64523864883721094,0.52528509546810531,260.87074990002941,8.7462336665397739E-2,28.347222974740028,9.5039952171561207E-3,2.3570151255648378E-2,1.8592583970520899E-2,0.60324343691634685,1.2354297000115573E-2,-1.8027180767272961E-2,1.5311795564999384E-2,9.6776955664940479E-3,1.2354297000115574E-2,0]
[null,-3.4577703765331039E-33,0.11231225223019801,6.0290347725857241E-4,9.9102437309043501E-2,-0.33522707485315972,5.2022372721371628,3.3537676665211134,0.64467795125064176,0.58427498466960626,282.13954885926086,9.4593143226707629E-2,-9.0216772532560192,-3.0247046612670078E-3,2.370884595716187E-2,1.7557577460386026E-2,0.68189283255758093,1.1736459729850105E-2,-1.8067845142774541E-2,1.5364054828831974E-2,9.6609683823380213E-3,1.1736459729850105E-2,0]
[null,3.5530014991851615E-34,0.12260631802291558,6.5503817351550279E-4,0.1076720934187106,-0.36421506776379481,5.5353501863505192,3.5588419305724188,0.64292986184470813,0.67866890531589674,320.77347697106751,0.10754596997526611,-48.952338765321734,-1.6412288212810048E-2,2.4378363485346045E-2,1.7474216027512229E-2,0.8026271635039729,1.0353083040728243E-2,-1.994325612182777E-2,1.8148139928069868E-2,8.6345452448879055E-3,1.0353083040728244E-2,0]
[null,-2.9903546080632949E-37,0.13419782954979564,7.6828651346512759E-4,0.1262873227772196,-0.42718353811648285,6.209875691398449,3.9693055113048223,0.63919242647688879,0.83335183955970848,391.96748376935693,0.13141523931089238,-100.68981850902709,-3.3758352780406259E-2,2.5568821888316572E-2,1.8724992766735494E-2,0.99852543165100716,6.8714404032500266E-3,-2.0162981552624935E-2,1.8543898957971733E-2,8.4584476969514731E-3,6.8714404032500266E-3,0]
[null,-6.5243225261098872E-32,0.14729780979304705,8.5562967400664661E-4,0.1406443806122456,-0.47574818124957569,6.6875786328014373,4.2557076587226392,0.63636001793670371,0.98506568543043171,453.0142180061074,0.15188242478179645,-157.47234887018769,-5.2795875343070682E-2,2.4584514986992882E-2,1.8999120158737701E-2,1.1897439855552987,1.9804260472922677E-3,-2.0250404605281321E-2,1.8735204150458519E-2,8.3545900172585438E-3,{"$f":"S732*Q752^2+T732*Q752+U732","v":1.9804260472922677E-3},0]
[null,0,{"$f":"C733","v":0.16215984472146291},{"$f":"D733+(D752-D732)","v":8.7717473586713273E-4},0.14418585652486929,-0.48772769096788438,6.746369160550632,4.3199169276239173,0.64033212900423764,1.0939901755085566,458.33333333333337,0.15366576866258877,-205.07395718350207,-6.8755303119887257E-2,2.1215589851194112E-2,1.7692399435883077E-2,1.3164112472910328,-2.0748837577678932E-3,null,null,null,null,7.4986780743096546E-2]
[null,"De","hc","e0","a'","b'","N'","tN'","t","Nc","sac","Nac","sat","Nat","Mtot","u","N","Mo","a''","b''","c''",null,"x"]
[null,null,{"$f":"$C$35","v":4.1544915655417694E-2},{"$f":"$D$35","v":3.8256566053946229E-4},{"$f":"$E$35","v":6.28843435479884E-2},{"$f":"$F$35","v":-0.21271459223465167},{"$f":"IF($C$2=1,0.5*($O$31*D755*$F$6/$O$30)*(1-W755^2+(E755-F755)*(F755^2*(1-W755^2)+2*F755*(1-W755)+2*LN((1-F755)/(1-F755*W755)))/(F755^3)),$F$6*F755*(LN((1-E755+E755^2)/(1+E755)^2)/(6*E755)+ATAN((2-E755)/(E755*3^0.5))/(E755*3^0.5)-LN((W755^2-E755*W755+E755^2)/(W755+E755)^2)/(6*E755)-ATAN((2*W755-E755)/(E755*3^0.5))/(E755*3^0.5)))","v":3.6164179713546631},{"$f":"IF($C$2=1,($O$31*D755*$F$6/$O$30)*(1-W755^3-(E755-F755)*(-2*F755^3*(1-W755^3)-3*F755^2*(1-W755^2)-6*F755*(1-W755)-6*LN((1-F755)/(1-F755*W755)))/(2*F755^4))/3,$F$6*F755*(LN((1+E755^3)/(E755^3+W755^3)))/3)","v":2.3589615237756383},{"$f":"$I$35","v":0.65229227994683425},{"$f":"$J$35","v":0.15024377959466625},{"$f":"$K$35","v":10.340089653207192},{"$f":"$L$35","v":3.4667297991276304E-3},{"$f":"$M$35","v":458.16851350986366},{"$f":"$N$35","v":0.15361050939379392},{"$f":"$O$35","v":1.4595642140814678E-2},{"$f":"$P$35","v":3.011841020334027E-2},{"$f":"$Q$35","v":9.9999999999961231E-5},{"$f":"$R$35","v":1.4592630299794346E-2},null,null,null,null,{"$f":"IF(C755<$C$6,0,(C755-$C$6)/C755)","v":0}]
[null,{"$f":"IF(R736>$Q$29*V736,B736,IF(Q736>Q735,$U$6,-0.5)*B736)","v":-4.0714933842728544E-40},{"$f":"IF(Q736>Q735,C736,(1-$T$6)*C736+$T$6*C737)","v":4.4336691510533544E-2},{"$f":"D736+B756","v":4.2836253051247033E-4},{"$f":"IF($C$2=1,D756/($O$31*$O$30),2^(1/3)*$O$30/D756)","v":7.0412217588601944E-2},{"$f":"IF($C$2=1,-($O$31-2)*D756/$O$30,3*($O$30/D756)^2)","v":-0.23817861979058777},{"$f":"IF($C$2=1,0.5*($O$31*D756*$F$6/$O$30)*(1-W756^2+(E756-F756)*(F756^2*(1-W756^2)+2*F756*(1-W756)+2*LN((1-F756)/(1-F756*W756)))/(F756^3)),$F$6*F756*(LN((1-E756+E756^2)/(1+E756)^2)/(6*E756)+ATAN((2-E756)/(E756*3^0.5))/(E756*3^0.5)-LN((W756^2-E756*W756+E756^2)/(W756+E756)^2)/(6*E756)-ATAN((2*W756-E756)/(E756*3^0.5))/(E756*3^0.5)))","v":3.9715403169798402},{"$f":"IF($C$2=1,($O$31*D756*$F$6/$O$30)*(1-W756^3-(E756-F756)*(-2*F756^3*(1-W756^3)-3*F756^2*(1-W756^2)-6*F756*(1-W756)-6*LN((1-F756)/(1-F756*W756)))/(2*F756^4))/3,$F$6*F756*(LN((1+E756^3)/(E756^3+W756^3)))/3)","v":2.584188132605246},{"$f":"H756/G756","v":0.65067654520762697},{"$f":"G756*C756*$D$6","v":0.17608495785558179},{"$f":"MAX(MIN($K$6,$Q$6*$J$6*D756*(C756-$I$6)/C756),-$K$6)","v":30.453565718108756},{"$f":"K756*$H$6","v":1.021019036637784E-2},{"$f":"MIN($O$6,$Q$6*$N$6*D756*(C$6-C756-$M$6)/C756)","v":458.33333333333337},{"$f":"M756*$L$6","v":0.15366576866258877},{"$f":"(0.5*$C$6-C756+I756*C756)*J756+(0.5*$C$6-$I$6)*L756+(0.5*$C$6-$M$6)*N756","v":1.6214853650533177E-2},{"$f":"0.1*$Q$6*D756*$B$6^2/C756+$R$6","v":3.1600367560991036E-2},{"$f":"(J756+L756-N756)","v":3.2629379559370869E-2},{"$f":"O756-P756*Q756","v":1.518375326316997E-2},{"$f":"((R756-R755)*(Q756-Q757)-(R756-R757)*(Q756-Q755))/((Q756^2-Q755^2)*(Q756-Q757)-(Q756^2-Q757^2)*(Q756-Q755))","v":-6.4831158545317541E-2},{"$f":"-(S756*(Q756^2-Q755^2)-(R756-R755))/(Q756-Q755)","v":2.0293855252393835E-2},{"$f":"R756-S756*Q756^2-T756*Q756","v":1.4590601562580692E-2},{"$f":"S736*Q756^2+T736*Q756+U736","v":1.5183753263169968E-2},{"$f":"IF(C756<$C$6,0,(C756-$C$6)/C756)","v":0}]
[null,{"$f":"IF(R737>$Q$29*V737,B737,IF(Q737>Q736,$U$6,-0.5)*B737)","v":-9.0223179613231618E-40},{"$f":"IF(Q737>Q736,C737,(1-$T$6)*C737+$T$6*C738)","v":4.686581864712229E-2},{"$f":"D737+B757","v":4.7696328395726634E-4},7.8400980803794859E-2,-0.26520166581288029,4.3331467008444271,2.8121337206210515,0.6489818865521062,0.20307646745315119,50.786992561801682,1.702739400015367E-2,458.33333333333337,0.15366576866258877,1.7864235302051154E-2,{"$f":"0.1*$Q$6*D757*$B$6^2/C757+$R$6","v":3.3286848702870631E-2},6.643809279071608E-2,1.5652720559219308E-2,-4.9756811336570519E-2,1.8800477777095675E-2,1.4623280241171833E-2,{"$f":"MAX(S737*Q757^2+T737*Q757+U737,S738*Q757^2+T738*Q757+U738)","v":1.5652720559219308E-2},0]
[null,-1.9755967437380854E-35,4.9178183027429483E-2,5.1138343885028133E-4,8.4058803939868143E-2,-0.28433999935383852,4.5801454005629569,2.9669884019048882,0.6477934961497529,0.22524322880112441,69.368502837898973,2.3257231220855375E-2,458.33333333333337,0.15366576866258877,1.9184137140418247E-2,3.4010899743189257E-2,9.4834691359391016E-2,1.5958723960417701E-2,-8.5674673728802192E-2,2.4593051445811309E-2,1.4396974863466982E-2,{"$f":"MAX(S738*Q758^2+T738*Q758+U738,S739*Q758^2+T739*Q758+U739)","v":1.5958723960417701E-2},0]
[null,-2.9337929157055299E-36,5.255221950735349E-2,6.1697554712529133E-4,0.10141553795347201,-0.34305144309200192,5.2936203280021852,3.4101729099852851,0.64420428717680367,0.27819149746575944,107.10970946941983,3.5910754553116271E-2,458.33333333333337,0.15366576866258877,2.2297956507532225E-2,3.8399080921905651E-2,0.16043648335628694,1.6137343000308193E-2,-4.3786215799777366E-2,1.3900135583240885E-2,1.5034305421099795E-2,1.6137343000308193E-2,0]
[null,-3.045304768928079E-34,5.6242100708700393E-2,7.0133254331032385E-4,0.11528174413960915,-0.3899557157346018,5.818963683896814,3.7322400709586354,0.64139256982941817,0.32727074152999486,147.20958346173595,4.9355070102866543E-2,458.33333333333337,0.15366576866258877,2.5050365319008332E-2,4.0785557081477845E-2,0.22296004297027264,1.5956815759555522E-2,-8.8301719915336637E-3,4.9810981304120928E-4,1.628471545026049E-2,1.5956815759555522E-2,0]
[null,4.6986058604089956E-23,6.0285666570009291E-2,7.6065650728683013E-4,0.12503313825602461,-0.4229410934321487,6.1664416627869469,3.9430807490839279,0.63944183123948306,0.37174804600618755,186.03524372539073,6.2372179037223724E-2,455.91886785554243,0.15285626896756177,2.7333601616734718E-2,4.1268478601631416E-2,0.28126395607584953,1.5726266064008322E-2,-8.4175554931313873E-2,3.8489060108598663E-2,1.1559759490730726E-2,1.5726266064008322E-2,0]
[null,3.9873607399552811E-33,6.4726330142402158E-2,8.7819863250649852E-4,0.14435415983765673,-0.48829699913795377,6.8053796971009088,4.3257344635079829,0.6356345503177061,0.44048725301895425,243.83882845213955,8.175203128119958E-2,446.466521890948,0.1496871736766946,3.0748447865050644E-2,4.4376772522055637E-2,0.37255211062345928,1.4215787599301685E-2,-2.0365940494635679E-2,-3.2306910199897078E-3,1.824608059861706E-2,1.4215787599301689E-2,0]
[null,-3.3798403285957316E-36,6.9614059201644651E-2,7.8513563758028236E-4,0.12905690253470753,-0.43655200720650061,6.3048000198873266,4.0265153460803367,0.63864283298113156,0.43890272183896673,242.75998367563778,8.1390326164438642E-2,331.06202233800951,0.11099541848195205,2.8610370568531229E-2,3.6888557529448765E-2,0.40929762952145332,1.3511971415262091E-2,0.1325320042461188,-0.12277390938423988,4.1560677183424814E-2,1.3511971415262093E-2,0]
[null,3.4913521818182838E-39,7.5006560532026839E-2,7.0629923370310133E-4,0.11609814534121071,-0.39271730055684023,5.8487319536551112,3.7503732737751196,0.64122844122329081,0.43869326731743169,239.59091908357632,8.0327831444844774E-2,239.50111626524173,8.0297723184973982E-2,2.6718556843813031E-2,3.0798773700995447E-2,0.43872337557730245,1.320641488207086E-2,7.9233632511168717E-2,-7.7575770615440409E-2,3.1989971842253738E-2,1.320641488207086E-2,0]
[null,-2.5220048245285849E-37,8.0970715199564836E-2,6.2273731719713515E-4,0.10236263061236728,-0.34625510901866613,5.330720041025705,3.4330409651640004,0.64401074127753954,0.43163221425050491,229.02447078312059,7.6785210208212704E-2,162.27240740729769,5.44051946552098E-2,2.4522409045620624E-2,2.5154799312241176E-2,0.45401222980350781,1.3101822519610264E-2,3.0387102457549484E-2,-3.3968734037270736E-2,2.226043775029931E-2,1.3101822519610265E-2,0]
[null,-3.1720770085769286E-35,8.758432627758074E-2,5.8481020354910558E-4,9.6128350094186091E-2,-0.32516683229539312,5.0831078128240179,3.2800736109728525,0.64528901053360599,0.44520057318249862,230.93188448778943,7.7424710265853777E-2,108.78569015740366,3.6472661885514873E-2,2.3545350031374628E-2,2.18389869414767E-2,0.48615262156283745,1.2928269277499157E-2,1.1367883014099299E-2,-1.6087532416115498E-2,1.8062530170358901E-2,1.2928269277499158E-2,0]
[null,3.2673081312289856E-34,9.4938257676883894E-2,5.6969411472841528E-4,9.3643638525558126E-2,-0.31676196745430468,4.982150779696128,3.2174795460597188,0.64580131921578654,0.472996714507879,239.61101827654974,8.0334570116708984E-2,65.691188029419052,2.2024335060871258E-2,2.3151852089894072E-2,1.9626570405383712E-2,0.53130694956371682,1.272411883741213E-2,-5.2931419070895514E-3,8.6438685472614476E-4,1.3759049639069126E-2,1.272411883741213E-2,0]
[null,3.3625392538810472E-34,0.10313906536129758,5.8629879599349385E-4,9.6373037917300813E-2,-0.32599452115373218,5.0929790145763327,3.2861868979215032,0.64523864883721094,0.52528509546810531,260.87074990002941,8.7462336665397739E-2,28.347222974740028,9.5039952171561207E-3,2.3570151255648378E-2,1.8592583970520899E-2,0.60324343691634685,1.2354297000115573E-2,-1.8027180767272961E-2,1.5311795564999384E-2,9.6776955664940479E-3,1.2354297000115574E-2,0]
[null,3.4577703765331041E-34,0.11231225223019801,6.0290347725857241E-4,9.9102437309043501E-2,-0.33522707485315972,5.2022372721371628,3.3537676665211134,0.64467795125064176,0.58427498466960626,282.13954885926086,9.4593143226707629E-2,-9.0216772532560192,-3.0247046612670078E-3,2.370884595716187E-2,1.7557577460386026E-2,0.68189283255758093,1.1736459729850105E-2,-1.8067845142774541E-2,1.5364054828831974E-2,9.6609683823380213E-3,1.1736459729850105E-2,0]
[null,-3.5530014991851616E-35,0.12260631802291558,6.5503817351550279E-4,0.1076720934187106,-0.36421506776379481,5.5353501863505192,3.5588419305724188,0.64292986184470813,0.67866890531589674,320.77347697106751,0.10754596997526611,-48.952338765321734,-1.6412288212810048E-2,2.4378363485346045E-2,1.7474216027512229E-2,0.8026271635039729,1.0353083040728243E-2,-1.994325612182777E-2,1.8148139928069868E-2,8.6345452448879055E-3,1.0353083040728244E-2,0]
[null,2.990354608063295E-38,0.13419782954979564,7.6828651346512759E-4,0.1262873227772196,-0.42718353811648285,6.209875691398449,3.9693055113048223,0.63919242647688879,0.83335183955970848,391.96748376935693,0.13141523931089238,-100.68981850902709,-3.3758352780406259E-2,2.5568821888316572E-2,1.8724992766735494E-2,0.99852543165100716,6.8714404032500266E-3,-2.0162981552624935E-2,1.8543898957971733E-2,8.4584476969514731E-3,6.8714404032500266E-3,0]
[null,6.5243225261098881E-33,0.14729780979304705,8.5562967400664661E-4,0.1406443806122456,-0.47574818124957569,6.6875786328014373,4.2557076587226392,0.63636001793670371,0.98506568543043171,453.0142180061074,0.15188242478179645,-157.47234887018769,-5.2795875343070682E-2,2.4584514986992882E-2,1.8999120158737701E-2,1.1897439855552987,1.9804260472922677E-3,-2.0250404605281321E-2,1.8735204150458519E-2,8.3545900172585438E-3,{"$f":"S752*Q772^2+T752*Q772+U752","v":1.9804260472922677E-3},0]
[null,0,{"$f":"C753","v":0.16215984472146291},{"$f":"D753+(D772-D752)","v":8.7717473586713273E-4},0.14418585652486929,-0.48772769096788438,6.746369160550632,4.3199169276239173,0.64033212900423764,1.0939901755085566,458.33333333333337,0.15366576866258877,-205.07395718350207,-6.8755303119887257E-2,2.1215589851194112E-2,1.7692399435883077E-2,1.3164112472910328,-2.0748837577678932E-3,null,null,null,null,7.4986780743096546E-2]
[null,"De","hc","e0","a'","b'","N'","tN'","t","Nc","sac","Nac","sat","Nat","Mtot","u","N","Mo","a''","b''","c''",null,"x"]
[null,null,{"$f":"$C$35","v":4.1544915655417694E-2},{"$f":"$D$35","v":3.8256566053946229E-4},{"$f":"$E$35","v":6.28843435479884E-2},{"$f":"$F$35","v":-0.21271459223465167},{"$f":"IF($C$2=1,0.5*($O$31*D775*$F$6/$O$30)*(1-W775^2+(E775-F775)*(F775^2*(1-W775^2)+2*F775*(1-W775)+2*LN((1-F775)/(1-F775*W775)))/(F775^3)),$F$6*F775*(LN((1-E775+E775^2)/(1+E775)^2)/(6*E775)+ATAN((2-E775)/(E775*3^0.5))/(E775*3^0.5)-LN((W775^2-E775*W775+E775^2)/(W775+E775)^2)/(6*E775)-ATAN((2*W775-E775)/(E775*3^0.5))/(E775*3^0.5)))","v":3.6164179713546631},{"$f":"IF($C$2=1,($O$31*D775*$F$6/$O$30)*(1-W775^3-(E775-F775)*(-2*F775^3*(1-W775^3)-3*F775^2*(1-W775^2)-6*F775*(1-W775)-6*LN((1-F775)/(1-F775*W775)))/(2*F775^4))/3,$F$6*F775*(LN((1+E775^3)/(E775^3+W775^3)))/3)","v":2.3589615237756383},{"$f":"$I$35","v":0.65229227994683425},{"$f":"$J$35","v":0.15024377959466625},{"$f":"$K$35","v":10.340089653207192},{"$f":"$L$35","v":3.4667297991276304E-3},{"$f":"$M$35","v":458.16851350986366},{"$f":"$N$35","v":0.15361050939379392},{"$f":"$O$35","v":1.4595642140814678E-2},{"$f":"$P$35","v":3.011841020334027E-2},{"$f":"$Q$35","v":9.9999999999961231E-5},{"$f":"$R$35","v":1.4592630299794346E-2},null,null,null,null,{"$f":"IF(C775<$C$6,0,(C775-$C$6)/C775)","v":0}]
[null,{"$f":"IF(R756>$Q$29*V756,B756,IF(Q756>Q755,$U$6,-0.5)*B756)","v":4.0714933842728545E-41},{"$f":"IF(Q756>Q755,C756,(1-$T$6)*C756+$T$6*C757)","v":4.4336691510533544E-2},{"$f":"D756+B776","v":4.2836253051247033E-4},{"$f":"IF($C$2=1,D776/($O$31*$O$30),2^(1/3)*$O$30/D776)","v":7.0412217588601944E-2},{"$f":"IF($C$2=1,-($O$31-2)*D776/$O$30,3*($O$30/D776)^2)","v":-0.23817861979058777},{"$f":"IF($C$2=1,0.5*($O$31*D776*$F$6/$O$30)*(1-W776^2+(E776-F776)*(F776^2*(1-W776^2)+2*F776*(1-W776)+2*LN((1-F776)/(1-F776*W776)))/(F776^3)),$F$6*F776*(LN((1-E776+E776^2)/(1+E776)^2)/(6*E776)+ATAN((2-E776)/(E776*3^0.5))/(E776*3^0.5)-LN((W776^2-E776*W776+E776^2)/(W776+E776)^2)/(6*E776)-ATAN((2*W776-E776)/(E776*3^0.5))/(E776*3^0.5)))","v":3.9715403169798402},{"$f":"IF($C$2=1,($O$31*D776*$F$6/$O$30)*(1-W776^3-(E776-F776)*(-2*F776^3*(1-W776^3)-3*F776^2*(1-W776^2)-6*F776*(1-W776)-6*LN((1-F776)/(1-F776*W776)))/(2*F776^4))/3,$F$6*F776*(LN((1+E776^3)/(E776^3+W776^3)))/3)","v":2.584188132605246},{"$f":"H776/G776","v":0.65067654520762697},{"$f":"G776*C776*$D$6","v":0.17608495785558179},{"$f":"MAX(MIN($K$6,$Q$6*$J$6*D776*(C776-$I$6)/C776),-$K$6)","v":30.453565718108756},{"$f":"K776*$H$6","v":1.021019036637784E-2},{"$f":"MIN($O$6,$Q$6*$N$6*D776*(C$6-C776-$M$6)/C776)","v":458.33333333333337},{"$f":"M776*$L$6","v":0.15366576866258877},{"$f":"(0.5*$C$6-C776+I776*C776)*J776+(0.5*$C$6-$I$6)*L776+(0.5*$C$6-$M$6)*N776","v":1.6214853650533177E-2},{"$f":"0.1*$Q$6*D776*$B$6^2/C776+$R$6","v":3.1600367560991036E-2},{"$f":"(J776+L776-N776)","v":3.2629379559370869E-2},{"$f":"O776-P776*Q776","v":1.518375326316997E-2},{"$f":"((R776-R775)*(Q776-Q777)-(R776-R777)*(Q776-Q775))/((Q776^2-Q775^2)*(Q776-Q777)-(Q776^2-Q777^2)*(Q776-Q775))","v":-6.4831158545317541E-2},{"$f":"-(S776*(Q776^2-Q775^2)-(R776-R775))/(Q776-Q775)","v":2.0293855252393835E-2},{"$f":"R776-S776*Q776^2-T776*Q776","v":1.4590601562580692E-2},{"$f":"S756*Q776^2+T756*Q776+U756","v":1.5183753263169968E-2},{"$f":"IF(C776<$C$6,0,(C776-$C$6)/C776)","v":0}]
[null,{"$f":"IF(R757>$Q$29*V757,B757,IF(Q757>Q756,$U$6,-0.5)*B757)","v":9.0223179613231618E-41},{"$f":"IF(Q757>Q756,C757,(1-$T$6)*C757+$T$6*C758)","v":4.686581864712229E-2},{"$f":"D757+B777","v":4.7696328395726634E-4},7.8400980803794859E-2,-0.26520166581288029,4.3331467008444271,2.8121337206210515,0.6489818865521062,0.20307646745315119,50.786992561801682,1.702739400015367E-2,458.33333333333337,0.15366576866258877,1.7864235302051154E-2,{"$f":"0.1*$Q$6*D777*$B$6^2/C777+$R$6","v":3.3286848702870631E-2},6.643809279071608E-2,1.5652720559219308E-2,-4.9756811336570519E-2,1.8800477777095675E-2,1.4623280241171833E-2,{"$f":"MAX(S757*Q777^2+T757*Q777+U757,S758*Q777^2+T758*Q777+U758)","v":1.5652720559219308E-2},0]
[null,1.9755967437380857E-36,4.9178183027429483E-2,5.1138343885028133E-4,8.4058803939868143E-2,-0.28433999935383852,4.5801454005629569,2.9669884019048882,0.6477934961497529,0.22524322880112441,69.368502837898973,2.3257231220855375E-2,458.33333333333337,0.15366576866258877,1.9184137140418247E-2,3.4010899743189257E-2,9.4834691359391016E-2,1.5958723960417701E-2,-8.5674673728802192E-2,2.4593051445811309E-2,1.4396974863466982E-2,{"$f":"MAX(S758*Q778^2+T758*Q778+U758,S759*Q778^2+T759*Q778+U759)","v":1.5958723960417701E-2},0]
[null,2.9337929157055299E-37,5.255221950735349E-2,6.1697554712529133E-4,0.10141553795347201,-0.34305144309200192,5.2936203280021852,3.4101729099852851,0.64420428717680367,0.27819149746575944,107.10970946941983,3.5910754553116271E-2,458.33333333333337,0.15366576866258877,2.2297956507532225E-2,3.8399080921905651E-2,0.16043648335628694,1.6137343000308193E-2,-4.3786215799777366E-2,1.3900135583240885E-2,1.5034305421099795E-2,1.6137343000308193E-2,0]
[null,3.0453047689280791E-35,5.6242100708700393E-2,7.0133254331032385E-4,0.11528174413960915,-0.3899557157346018,5.818963683896814,3.7322400709586354,0.64139256982941817,0.32727074152999486,147.20958346173595,4.9355070102866543E-2,458.33333333333337,0.15366576866258877,2.5050365319008332E-2,4.0785557081477845E-2,0.22296004297027264,1.5956815759555522E-2,-8.8301719915336637E-3,4.9810981304120928E-4,1.628471545026049E-2,1.5956815759555522E-2,0]
[null,-4.698605860408996E-24,6.0285666570009291E-2,7.6065650728683013E-4,0.12503313825602461,-0.4229410934321487,6.1664416627869469,3.9430807490839279,0.63944183123948306,0.37174804600618755,186.03524372539073,6.2372179037223724E-2,455.91886785554243,0.15285626896756177,2.7333601616734718E-2,4.1268478601631416E-2,0.28126395607584953,1.5726266064008322E-2,-8.4175554931313873E-2,3.8489060108598663E-2,1.1559759490730726E-2,1.5726266064008322E-2,0]
[null,-3.987360739955281E-34,6.4726330142402158E-2,8.7819863250649852E-4,0.14435415983765673,-0.48829699913795377,6.8053796971009088,4.3257344635079829,0.6356345503177061,0.44048725301895425,243.83882845213955,8.175203128119958E-2,446.466521890948,0.1496871736766946,3.0748447865050644E-2,4.4376772522055637E-2,0.37255211062345928,1.4215787599301685E-2,-2.0365940494635679E-2,-3.2306910199897078E-3,1.824608059861706E-2,1.4215787599301689E-2,0]
[null,3.3798403285957318E-37,6.9614059201644651E-2,7.8513563758028236E-4,0.12905690253470753,-0.43655200720650061,6.3048000198873266,4.0265153460803367,0.63864283298113156,0.43890272183896673,242.75998367563778,8.1390326164438642E-2,331.06202233800951,0.11099541848195205,2.8610370568531229E-2,3.6888557529448765E-2,0.40929762952145332,1.3511971415262091E-2,0.1325320042461188,-0.12277390938423988,4.1560677183424814E-2,1.3511971415262093E-2,0]
[null,-3.4913521818182841E-40,7.5006560532026839E-2,7.0629923370310133E-4,0.11609814534121071,-0.39271730055684023,5.8487319536551112,3.7503732737751196,0.64122844122329081,0.43869326731743169,239.59091908357632,8.0327831444844774E-2,239.50111626524173,8.0297723184973982E-2,2.6718556843813031E-2,3.0798773700995447E-2,0.43872337557730245,1.320641488207086E-2,7.9233632511168717E-2,-7.7575770615440409E-2,3.1989971842253738E-2,1.320641488207086E-2,0]
[null,2.5220048245285851E-38,8.0970715199564836E-2,6.2273731719713515E-4,0.10236263061236728,-0.34625510901866613,5.330720041025705,3.4330409651640004,0.64401074127753954,0.43163221425050491,229.02447078312059,7.6785210208212704E-2,162.27240740729769,5.44051946552098E-2,2.4522409045620624E-2,2.5154799312241176E-2,0.45401222980350781,1.3101822519610264E-2,3.0387102457549484E-2,-3.3968734037270736E-2,2.226043775029931E-2,1.3101822519610265E-2,0]
[null,3.1720770085769285E-36,8.758432627758074E-2,5.8481020354910558E-4,9.6128350094186091E-2,-0.32516683229539312,5.0831078128240179,3.2800736109728525,0.64528901053360599,0.44520057318249862,230.93188448778943,7.7424710265853777E-2,108.78569015740366,3.6472661885514873E-2,2.3545350031374628E-2,2.18389869414767E-2,0.48615262156283745,1.2928269277499157E-2,1.1367883014099299E-2,-1.6087532416115498E-2,1.8062530170358901E-2,1.2928269277499158E-2,0]
[null,-3.2673081312289857E-35,9.4938257676883894E-2,5.6969411472841528E-4,9.3643638525558126E-2,-0.31676196745430468,4.982150779696128,3.2174795460597188,0.64580131921578654,0.472996714507879,239.61101827654974,8.0334570116708984E-2,65.691188029419052,2.2024335060871258E-2,2.3151852089894072E-2,1.9626570405383712E-2,0.53130694956371682,1.272411883741213E-2,-5.2931419070895514E-3,8.6438685472614476E-4,1.3759049639069126E-2,1.272411883741213E-2,0]
[null,-3.3625392538810475E-35,0.10313906536129758,5.8629879599349385E-4,9.6373037917300813E-2,-0.32599452115373218,5.0929790145763327,3.2861868979215032,0.64523864883721094,0.52528509546810531,260.87074990002941,8.7462336665397739E-2,28.347222974740028,9.5039952171561207E-3,2.3570151255648378E-2,1.8592583970520899E-2,0.60324343691634685,1.2354297000115573E-2,-1.8027180767272961E-2,1.5311795564999384E-2,9.6776955664940479E-3,1.2354297000115574E-2,0]
[null,-3.4577703765331046E-35,0.11231225223019801,6.0290347725857241E-4,9.9102437309043501E-2,-0.33522707485315972,5.2022372721371628,3.3537676665211134,0.64467795125064176,0.58427498466960626,282.13954885926086,9.4593143226707629E-2,-9.0216772532560192,-3.0247046612670078E-3,2.370884595716187E-2,1.7557577460386026E-2,0.68189283255758093,1.1736459729850105E-2,-1.8067845142774541E-2,1.5364054828831974E-2,9.6609683823380213E-3,1.1736459729850105E-2,0]
[null,3.5530014991851617E-36,0.12260631802291558,6.5503817351550279E-4,0.1076720934187106,-0.36421506776379481,5.5353501863505192,3.5588419305724188,0.64292986184470813,0.67866890531589674,320.77347697106751,0.10754596997526611,-48.952338765321734,-1.6412288212810048E-2,2.4378363485346045E-2,1.7474216027512229E-2,0.8026271635039729,1.0353083040728243E-2,-1.994325612182777E-2,1.8148139928069868E-2,8.6345452448879055E-3,1.0353083040728244E-2,0]
[null,-2.9903546080632954E-39,0.13419782954979564,7.6828651346512759E-4,0.1262873227772196,-0.42718353811648285,6.209875691398449,3.9693055113048223,0.63919242647688879,0.83335183955970848,391.96748376935693,0.13141523931089238,-100.68981850902709,-3.3758352780406259E-2,2.5568821888316572E-2,1.8724992766735494E-2,0.99852543165100716,6.8714404032500266E-3,-2.0162981552624935E-2,1.8543898957971733E-2,8.4584476969514731E-3,6.8714404032500266E-3,0]
[null,-6.5243225261098887E-34,0.14729780979304705,8.5562967400664661E-4,0.1406443806122456,-0.47574818124957569,6.6875786328014373,4.2557076587226392,0.63636001793670371,0.98506568543043171,453.0142180061074,0.15188242478179645,-157.47234887018769,-5.2795875343070682E-2,2.4584514986992882E-2,1.8999120158737701E-2,1.1897439855552987,1.9804260472922677E-3,-2.0250404605281321E-2,1.8735204150458519E-2,8.3545900172585438E-3,{"$f":"S772*Q792^2+T772*Q792+U772","v":1.9804260472922677E-3},0]
[null,0,{"$f":"C773","v":0.16215984472146291},{"$f":"D773+(D792-D772)","v":8.7717473586713273E-4},0.14418585652486929,-0.48772769096788438,6.746369160550632,4.3199169276239173,0.64033212900423764,1.0939901755085566,458.33333333333337,0.15366576866258877,-205.07395718350207,-6.8755303119887257E-2,2.1215589851194112E-2,1.7692399435883077E-2,1.3164112472910328,-2.0748837577678932E-3,null,null,null,null,7.4986780743096546E-2]
[null,"De","hc","e0","a'","b'","N'","tN'","t","Nc","sac","Nac","sat","Nat","Mtot","u","N","Mo","a''","b''","c''",null,"x"]
[null,null,{"$f":"$C$35","v":4.1544915655417694E-2},{"$f":"$D$35","v":3.8256566053946229E-4},{"$f":"$E$35","v":6.28843435479884E-2},{"$f":"$F$35","v":-0.21271459223465167},{"$f":"IF($C$2=1,0.5*($O$31*D795*$F$6/$O$30)*(1-W795^2+(E795-F795)*(F795^2*(1-W795^2)+2*F795*(1-W795)+2*LN((1-F795)/(1-F795*W795)))/(F795^3)),$F$6*F795*(LN((1-E795+E795^2)/(1+E795)^2)/(6*E795)+ATAN((2-E795)/(E795*3^0.5))/(E795*3^0.5)-LN((W795^2-E795*W795+E795^2)/(W795+E795)^2)/(6*E795)-ATAN((2*W795-E795)/(E795*3^0.5))/(E795*3^0.5)))","v":3.6164179713546631},{"$f":"IF($C$2=1,($O$31*D795*$F$6/$O$30)*(1-W795^3-(E795-F795)*(-2*F795^3*(1-W795^3)-3*F795^2*(1-W795^2)-6*F795*(1-W795)-6*LN((1-F795)/(1-F795*W795)))/(2*F795^4))/3,$F$6*F795*(LN((1+E795^3)/(E795^3+W795^3)))/3)","v":2.3589615237756383},{"$f":"$I$35","v":0.65229227994683425},{"$f":"$J$35","v":0.15024377959466625},{"$f":"$K$35","v":10.340089653207192},{"$f":"$L$35","v":3.4667297991276304E-3},{"$f":"$M$35","v":458.16851350986366},{"$f":"$N$35","v":0.15361050939379392},{"$f":"$O$35","v":1.4595642140814678E-2},{"$f":"$P$35","v":3.011841020334027E-2},{"$f":"$Q$35","v":9.9999999999961231E-5},{"$f":"$R$35","v":1.4592630299794346E-2},null,null,null,null,{"$f":"IF(C795<$C$6,0,(C795-$C$6)/C795)","v":0}]
[null,{"$f":"IF(R776>$Q$29*V776,B776,IF(Q776>Q775,$U$6,-0.5)*B776)","v":-4.071493384272855E-42},{"$f":"IF(Q776>Q775,C776,(1-$T$6)*C776+$T$6*C777)","v":4.4336691510533544E-2},{"$f":"D776+B796","v":4.2836253051247033E-4},{"$f":"IF($C$2=1,D796/($O$31*$O$30),2^(1/3)*$O$30/D796)","v":7.0412217588601944E-2},{"$f":"IF($C$2=1,-($O$31-2)*D796/$O$30,3*($O$30/D796)^2)","v":-0.23817861979058777},{"$f":"IF($C$2=1,0.5*($O$31*D796*$F$6/$O$30)*(1-W796^2+(E796-F796)*(F796^2*(1-W796^2)+2*F796*(1-W796)+2*LN((1-F796)/(1-F796*W796)))/(F796^3)),$F$6*F796*(LN((1-E796+E796^2)/(1+E796)^2)/(6*E796)+ATAN((2-E796)/(E796*3^0.5))/(E796*3^0.5)-LN((W796^2-E796*W796+E796^2)/(W796+E796)^2)/(6*E796)-ATAN((2*W796-E796)/(E796*3^0.5))/(E796*3^0.5)))","v":3.9715403169798402},{"$f":"IF($C$2=1,($O$31*D796*$F$6/$O$30)*(1-W796^3-(E796-F796)*(-2*F796^3*(1-W796^3)-3*F796^2*(1-W796^2)-6*F796*(1-W796)-6*LN((1-F796)/(1-F796*W796)))/(2*F796^4))/3,$F$6*F796*(LN((1+E796^3)/(E796^3+W796^3)))/3)","v":2.584188132605246},{"$f":"H796/G796","v":0.65067654520762697},{"$f":"G796*C796*$D$6","v":0.17608495785558179},{"$f":"MAX(MIN($K$6,$Q$6*$J$6*D796*(C796-$I$6)/C796),-$K$6)","v":30.453565718108756},{"$f":"K796*$H$6","v":1.021019036637784E-2},{"$f":"MIN($O$6,$Q$6*$N$6*D796*(C$6-C796-$M$6)/C796)","v":458.33333333333337},{"$f":"M796*$L$6","v":0.15366576866258877},{"$f":"(0.5*$C$6-C796+I796*C796)*J796+(0.5*$C$6-$I$6)*L796+(0.5*$C$6-$M$6)*N796","v":1.6214853650533177E-2},{"$f":"0.1*$Q$6*D796*$B$6^2/C796+$R$6","v":3.1600367560991036E-2},{"$f":"(J796+L796-N796)","v":3.2629379559370869E-2},{"$f":"O796-P796*Q796","v":1.518375326316997E-2},{"$f":"((R796-R795)*(Q796-Q797)-(R796-R797)*(Q796-Q795))/((Q796^2-Q795^2)*(Q796-Q797)-(Q796^2-Q797^2)*(Q796-Q795))","v":-6.4831158545317541E-2},{"$f":"-(S796*(Q796^2-Q795^2)-(R796-R795))/(Q796-Q795)","v":2.0293855252393835E-2},{"$f":"R796-S796*Q796^2-T796*Q796","v":1.4590601562580692E-2},{"$f":"S776*Q796^2+T776*Q796+U776","v":1.5183753263169968E-2},{"$f":"IF(C796<$C$6,0,(C796-$C$6)/C796)","v":0}]
[null,{"$f":"IF(R777>$Q$29*V777,B777,IF(Q777>Q776,$U$6,-0.5)*B777)","v":-9.022317961323162E-42},{"$f":"IF(Q777>Q776,C777,(1-$T$6)*C777+$T$6*C778)","v":4.686581864712229E-2},{"$f":"D777+B797","v":4.7696328395726634E-4},7.8400980803794859E-2,-0.26520166581288029,4.3331467008444271,2.8121337206210515,0.6489818865521062,0.20307646745315119,50.786992561801682,1.702739400015367E-2,458.33333333333337,0.15366576866258877,1.7864235302051154E-2,{"$f":"0.1*$Q$6*D797*$B$6^2/C797+$R$6","v":3.3286848702870631E-2},6.643809279071608E-2,1.5652720559219308E-2,-4.9756811336570519E-2,1.8800477777095675E-2,1.4623280241171833E-2,{"$f":"MAX(S777*Q797^2+T777*Q797+U777,S778*Q797^2+T778*Q797+U778)","v":1.5652720559219308E-2},0]
[null,-1.975596743738086E-37,4.9178183027429483E-2,5.1138343885028133E-4,8.4058803939868143E-2,-0.28433999935383852,4.5801454005629569,2.9669884019048882,0.6477934961497529,0.22524322880112441,69.368502837898973,2.3257231220855375E-2,458.33333333333337,0.15366576866258877,1.9184137140418247E-2,3.4010899743189257E-2,9.4834691359391016E-2,1.5958723960417701E-2,-8.5674673728802192E-2,2.4593051445811309E-2,1.4396974863466982E-2,{"$f":"MAX(S778*Q798^2+T778*Q798+U778,S779*Q798^2+T779*Q798+U779)","v":1.5958723960417701E-2},0]
[null,-2.9337929157055299E-38,5.255221950735349E-2,6.1697554712529133E-4,0.10141553795347201,-0.34305144309200192,5.2936203280021852,3.4101729099852851,0.64420428717680367,0.27819149746575944,107.10970946941983,3.5910754553116271E-2,458.33333333333337,0.15366576866258877,2.2297956507532225E-2,3.8399080921905651E-2,0.16043648335628694,1.6137343000308193E-2,-4.3786215799777366E-2,1.3900135583240885E-2,1.5034305421099795E-2,1.6137343000308193E-2,0]
[null,-3.0453047689280795E-36,5.6242100708700393E-2,7.0133254331032385E-4,0.11528174413960915,-0.3899557157346018,5.818963683896814,3.7322400709586354,0.64139256982941817,0.32727074152999486,147.20958346173595,4.9355070102866543E-2,458.33333333333337,0.15366576866258877,2.5050365319008332E-2,4.0785557081477845E-2,0.22296004297027264,1.5956815759555522E-2,-8.8301719915336637E-3,4.9810981304120928E-4,1.628471545026049E-2,1.5956815759555522E-2,0]
[null,4.6986058604089966E-25,6.0285666570009291E-2,7.6065650728683013E-4,0.12503313825602461,-0.4229410934321487,6.1664416627869469,3.9430807490839279,0.63944183123948306,0.37174804600618755,186.03524372539073,6.2372179037223724E-2,455.91886785554243,0.15285626896756177,2.7333601616734718E-2,4.1268478601631416E-2,0.28126395607584953,1.5726266064008322E-2,-8.4175554931313873E-2,3.8489060108598663E-2,1.1559759490730726E-2,1.5726266064008322E-2,0]
[null,3.9873607399552811E-35,6.4726330142402158E-2,8.7819863250649852E-4,0.14435415983765673,-0.48829699913795377,6.8053796971009088,4.3257344635079829,0.6356345503177061,0.44048725301895425,243.83882845213955,8.175203128119958E-2,446.466521890948,0.1496871736766946,3.0748447865050644E-2,4.4376772522055637E-2,0.37255211062345928,1.4215787599301685E-2,-2.0365940494635679E-2,-3.2306910199897078E-3,1.824608059861706E-2,1.4215787599301689E-2,0]
[null,-3.3798403285957321E-38,6.9614059201644651E-2,7.8513563758028236E-4,0.12905690253470753,-0.43655200720650061,6.3048000198873266,4.0265153460803367,0.63864283298113156,0.43890272183896673,242.75998367563778,8.1390326164438642E-2,331.06202233800951,0.11099541848195205,2.8610370568531229E-2,3.6888557529448765E-2,0.40929762952145332,1.3511971415262091E-2,0.1325320042461188,-0.12277390938423988,4.1560677183424814E-2,1.3511971415262093E-2,0]
[null,3.4913521818182841E-41,7.5006560532026839E-2,7.0629923370310133E-4,0.11609814534121071,-0.39271730055684023,5.8487319536551112,3.7503732737751196,0.64122844122329081,0.43869326731743169,239.59091908357632,8.0327831444844774E-2,239.50111626524173,8.0297723184973982E-2,2.6718556843813031E-2,3.0798773700995447E-2,0.43872337557730245,1.320641488207086E-2,7.9233632511168717E-2,-7.7575770615440409E-2,3.1989971842253738E-2,1.320641488207086E-2,0]
[null,-2.5220048245285853E-39,8.0970715199564836E-2,6.2273731719713515E-4,0.10236263061236728,-0.34625510901866613,5.330720041025705,3.4330409651640004,0.64401074127753954,0.43163221425050491,229.02447078312059,7.6785210208212704E-2,162.27240740729769,5.44051946552098E-2,2.4522409045620624E-2,2.5154799312241176E-2,0.45401222980350781,1.3101822519610264E-2,3.0387102457549484E-2,-3.3968734037270736E-2,2.226043775029931E-2,1.3101822519610265E-2,0]
[null,-3.1720770085769286E-37,8.758432627758074E-2,5.8481020354910558E-4,9.6128350094186091E-2,-0.32516683229539312,5.0831078128240179,3.2800736109728525,0.64528901053360599,0.44520057318249862,230.93188448778943,7.7424710265853777E-2,108.78569015740366,3.6472661885514873E-2,2.3545350031374628E-2,2.18389869414767E-2,0.48615262156283745,1.2928269277499157E-2,1.1367883014099299E-2,-1.6087532416115498E-2,1.8062530170358901E-2,1.2928269277499158E-2,0]
[null,3.2673081312289858E-36,9.4938257676883894E-2,5.6969411472841528E-4,9.3643638525558126E-2,-0.31676196745430468,4.982150779696128,3.2174795460597188,0.64580131921578654,0.472996714507879,239.61101827654974,8.0334570116708984E-2,65.691188029419052,2.2024335060871258E-2,2.3151852089894072E-2,1.9626570405383712E-2,0.53130694956371682,1.272411883741213E-2,-5.2931419070895514E-3,8.6438685472614476E-4,1.3759049639069126E-2,1.272411883741213E-2,0]
[null,3.3625392538810478E-36,0.10313906536129758,5.8629879599349385E-4,9.6373037917300813E-2,-0.32599452115373218,5.0929790145763327,3.2861868979215032,0.64523864883721094,0.52528509546810531,260.87074990002941,8.7462336665397739E-2,28.347222974740028,9.5039952171561207E-3,2.3570151255648378E-2,1.8592583970520899E-2,0.60324343691634685,1.2354297000115573E-2,-1.8027180767272961E-2,1.5311795564999384E-2,9.6776955664940479E-3,1.2354297000115574E-2,0]
[null,3.4577703765331044E-36,0.11231225223019801,6.0290347725857241E-4,9.9102437309043501E-2,-0.33522707485315972,5.2022372721371628,3.3537676665211134,0.64467795125064176,0.58427498466960626,282.13954885926086,9.4593143226707629E-2,-9.0216772532560192,-3.0247046612670078E-3,2.370884595716187E-2,1.7557577460386026E-2,0.68189283255758093,1.1736459729850105E-2,-1.8067845142774541E-2,1.5364054828831974E-2,9.6609683823380213E-3,1.1736459729850105E-2,0]
[null,-3.5530014991851617E-37,0.12260631802291558,6.5503817351550279E-4,0.1076720934187106,-0.36421506776379481,5.5353501863505192,3.5588419305724188,0.64292986184470813,0.67866890531589674,320.77347697106751,0.10754596997526611,-48.952338765321734,-1.6412288212810048E-2,2.4378363485346045E-2,1.7474216027512229E-2,0.8026271635039729,1.0353083040728243E-2,-1.994325612182777E-2,1.8148139928069868E-2,8.6345452448879055E-3,1.0353083040728244E-2,0]
[null,2.9903546080632955E-40,0.13419782954979564,7.6828651346512759E-4,0.1262873227772196,-0.42718353811648285,6.209875691398449,3.9693055113048223,0.63919242647688879,0.83335183955970848,391.96748376935693,0.13141523931089238,-100.68981850902709,-3.3758352780406259E-2,2.5568821888316572E-2,1.8724992766735494E-2,0.99852543165100716,6.8714404032500266E-3,-2.0162981552624935E-2,1.8543898957971733E-2,8.4584476969514731E-3,6.8714404032500266E-3,0]
[null,6.524322526109889E-35,0.14729780979304705,8.5562967400664661E-4,0.1406443806122456,-0.47574818124957569,6.6875786328014373,4.2557076587226392,0.63636001793670371,0.98506568543043171,453.0142180061074,0.15188242478179645,-157.47234887018769,-5.2795875343070682E-2,2.4584514986992882E-2,1.8999120158737701E-2,1.1897439855552987,1.9804260472922677E-3,-2.0250404605281321E-2,1.8735204150458519E-2,8.3545900172585438E-3,{"$f":"S792*Q812^2+T792*Q812+U792","v":1.9804260472922677E-3},0]
[null,0,{"$f":"C793","v":0.16215984472146291},{"$f":"D793+(D812-D792)","v":8.7717473586713273E-4},0.14418585652486929,-0.48772769096788438,6.746369160550632,4.3199169276239173,0.64033212900423764,1.0939901755085566,458.33333333333337,0.15366576866258877,-205.07395718350207,-6.8755303119887257E-2,2.1215589851194112E-2,1.7692399435883077E-2,1.3164112472910328,-2.0748837577678932E-3,null,null,null,null,7.4986780743096546E-2]
[null,"De","hc","e0","a'","b'","N'","tN'","t","Nc","sac","Nac","sat","Nat","Mtot","u","N","Mo","a''","b''","c''",null,"x"]
[null,null,{"$f":"$C$35","v":4.1544915655417694E-2},{"$f":"$D$35","v":3.8256566053946229E-4},{"$f":"$E$35","v":6.28843435479884E-2},{"$f":"$F$35","v":-0.21271459223465167},{"$f":"IF($C$2=1,0.5*($O$31*D815*$F$6/$O$30)*(1-W815^2+(E815-F815)*(F815^2*(1-W815^2)+2*F815*(1-W815)+2*LN((1-F815)/(1-F815*W815)))/(F815^3)),$F$6*F815*(LN((1-E815+E815^2)/(1+E815)^2)/(6*E815)+ATAN((2-E815)/(E815*3^0.5))/(E815*3^0.5)-LN((W815^2-E815*W815+E815^2)/(W815+E815)^2)/(6*E815)-ATAN((2*W815-E815)/(E815*3^0.5))/(E815*3^0.5)))","v":3.6164179713546631},{"$f":"IF($C$2=1,($O$31*D815*$F$6/$O$30)*(1-W815^3-(E815-F815)*(-2*F815^3*(1-W815^3)-3*F815^2*(1-W815^2)-6*F815*(1-W815)-6*LN((1-F815)/(1-F815*W815)))/(2*F815^4))/3,$F$6*F815*(LN((1+E815^3)/(E815^3+W815^3)))/3)","v":2.3589615237756383},{"$f":"$I$35","v":0.65229227994683425},{"$f":"$J$35","v":0.15024377959466625},{"$f":"$K$35","v":10.340089653207192},{"$f":"$L$35","v":3.4667297991276304E-3},{"$f":"$M$35","v":458.16851350986366},{"$f":"$N$35","v":0.15361050939379392},{"$f":"$O$35","v":1.4595642140814678E-2},{"$f":"$P$35","v":3.011841020334027E-2},{"$f":"$Q$35","v":9.9999999999961231E-5},{"$f":"$R$35","v":1.4592630299794346E-2},null,null,null,null,{"$f":"IF(C815<$C$6,0,(C815-$C$6)/C815)","v":0}]
[null,{"$f":"IF(R796>$Q$29*V796,B796,IF(Q796>Q795,$U$6,-0.5)*B796)","v":4.0714933842728553E-43},{"$f":"IF(Q796>Q795,C796,(1-$T$6)*C796+$T$6*C797)","v":4.4336691510533544E-2},{"$f":"D796+B816","v":4.2836253051247033E-4},{"$f":"IF($C$2=1,D816/($O$31*$O$30),2^(1/3)*$O$30/D816)","v":7.0412217588601944E-2},{"$f":"IF($C$2=1,-($O$31-2)*D816/$O$30,3*($O$30/D816)^2)","v":-0.23817861979058777},{"$f":"IF($C$2=1,0.5*($O$31*D816*$F$6/$O$30)*(1-W816^2+(E816-F816)*(F816^2*(1-W816^2)+2*F816*(1-W816)+2*LN((1-F816)/(1-F816*W816)))/(F816^3)),$F$6*F816*(LN((1-E816+E816^2)/(1+E816)^2)/(6*E816)+ATAN((2-E816)/(E816*3^0.5))/(E816*3^0.5)-LN((W816^2-E816*W816+E816^2)/(W816+E816)^2)/(6*E816)-ATAN((2*W816-E816)/(E816*3^0.5))/(E816*3^0.5)))","v":3.9715403169798402},{"$f":"IF($C$2=1,($O$31*D816*$F$6/$O$30)*(1-W816^3-(E816-F816)*(-2*F816^3*(1-W816^3)-3*F816^2*(1-W816^2)-6*F816*(1-W816)-6*LN((1-F816)/(1-F816*W816)))/(2*F816^4))/3,$F$6*F816*(LN((1+E816^3)/(E816^3+W816^3)))/3)","v":2.584188132605246},{"$f":"H816/G816","v":0.65067654520762697},{"$f":"G816*C816*$D$6","v":0.17608495785558179},{"$f":"MAX(MIN($K$6,$Q$6*$J$6*D816*(C816-$I$6)/C816),-$K$6)","v":30.453565718108756},{"$f":"K816*$H$6","v":1.021019036637784E-2},{"$f":"MIN($O$6,$Q$6*$N$6*D816*(C$6-C816-$M$6)/C816)","v":458.33333333333337},{"$f":"M816*$L$6","v":0.15366576866258877},{"$f":"(0.5*$C$6-C816+I816*C816)*J816+(0.5*$C$6-$I$6)*L816+(0.5*$C$6-$M$6)*N816","v":1.6214853650533177E-2},{"$f":"0.1*$Q$6*D816*$B$6^2/C816+$R$6","v":3.1600367560991036E-2},{"$f":"(J816+L816-N816)","v":3.2629379559370869E-2},{"$f":"O816-P816*Q816","v":1.518375326316997E-2},{"$f":"((R816-R815)*(Q816-Q817)-(R816-R817)*(Q816-Q815))/((Q816^2-Q815^2)*(Q816-Q817)-(Q816^2-Q817^2)*(Q816-Q815))","v":-6.4831158545317541E-2},{"$f":"-(S816*(Q816^2-Q815^2)-(R816-R815))/(Q816-Q815)","v":2.0293855252393835E-2},{"$f":"R816-S816*Q816^2-T816*Q816","v":1.4590601562580692E-2},{"$f":"S796*Q816^2+T796*Q816+U796","v":1.5183753263169968E-2},{"$f":"IF(C816<$C$6,0,(C816-$C$6)/C816)","v":0}]
[null,{"$f":"IF(R797>$Q$29*V797,B797,IF(Q797>Q796,$U$6,-0.5)*B797)","v":9.022317961323162E-43},{"$f":"IF(Q797>Q796,C797,(1-$T$6)*C797+$T$6*C798)","v":4.686581864712229E-2},{"$f":"D797+B817","v":4.7696328395726634E-4},7.8400980803794859E-2,-0.26520166581288029,4.3331467008444271,2.8121337206210515,0.6489818865521062,0.20307646745315119,50.786992561801682,1.702739400015367E-2,458.33333333333337,0.15366576866258877,1.7864235302051154E-2,{"$f":"0.1*$Q$6*D817*$B$6^2/C817+$R$6","v":3.3286848702870631E-2},6.643809279071608E-2,1.5652720559219308E-2,-4.9756811336570519E-2,1.8800477777095675E-2,1.4623280241171833E-2,{"$f":"MAX(S797*Q817^2+T797*Q817+U797,S798*Q817^2+T798*Q817+U798)","v":1.5652720559219308E-2},0]
[null,1.9755967437380862E-38,4.9178183027429483E-2,5.1138343885028133E-4,8.4058803939868143E-2,-0.28433999935383852,4.5801454005629569,2.9669884019048882,0.6477934961497529,0.22524322880112441,69.368502837898973,2.3257231220855375E-2,458.33333333333337,0.15366576866258877,1.9184137140418247E-2,3.4010899743189257E-2,9.4834691359391016E-2,1.5958723960417701E-2,-8.5674673728802192E-2,2.4593051445811309E-2,1.4396974863466982E-2,{"$f":"MAX(S798*Q818^2+T798*Q818+U798,S799*Q818^2+T799*Q818+U799)","v":1.5958723960417701E-2},0]
[null,2.9337929157055301E-39,5.255221950735349E-2,6.1697554712529133E-4,0.10141553795347201,-0.34305144309200192,5.2936203280021852,3.4101729099852851,0.64420428717680367,0.27819149746575944,107.10970946941983,3.5910754553116271E-2,458.33333333333337,0.15366576866258877,2.2297956507532225E-2,3.8399080921905651E-2,0.16043648335628694,1.6137343000308193E-2,-4.3786215799777366E-2,1.3900135583240885E-2,1.5034305421099795E-2,1.6137343000308193E-2,0]
[null,3.0453047689280795E-37,5.6242100708700393E-2,7.0133254331032385E-4,0.11528174413960915,-0.3899557157346018,5.818963683896814,3.7322400709586354,0.64139256982941817,0.32727074152999486,147.20958346173595,4.9355070102866543E-2,458.33333333333337,0.15366576866258877,2.5050365319008332E-2,4.0785557081477845E-2,0.22296004297027264,1.5956815759555522E-2,-8.8301719915336637E-3,4.9810981304120928E-4,1.628471545026049E-2,1.5956815759555522E-2,0]
[null,-4.6986058604089968E-26,6.0285666570009291E-2,7.6065650728683013E-4,0.12503313825602461,-0.4229410934321487,6.1664416627869469,3.9430807490839279,0.63944183123948306,0.37174804600618755,186.03524372539073,6.2372179037223724E-2,455.91886785554243,0.15285626896756177,2.7333601616734718E-2,4.1268478601631416E-2,0.28126395607584953,1.5726266064008322E-2,-8.4175554931313873E-2,3.8489060108598663E-2,1.1559759490730726E-2,1.5726266064008322E-2,0]
[null,-3.9873607399552815E-36,6.4726330142402158E-2,8.7819863250649852E-4,0.14435415983765673,-0.48829699913795377,6.8053796971009088,4.3257344635079829,0.6356345503177061,0.44048725301895425,243.83882845213955,8.175203128119958E-2,446.466521890948,0.1496871736766946,3.0748447865050644E-2,4.4376772522055637E-2,0.37255211062345928,1.4215787599301685E-2,-2.0365940494635679E-2,-3.2306910199897078E-3,1.824608059861706E-2,1.4215787599301689E-2,0]
[null,3.3798403285957321E-39,6.9614059201644651E-2,7.8513563758028236E-4,0.12905690253470753,-0.43655200720650061,6.3048000198873266,4.0265153460803367,0.63864283298113156,0.43890272183896673,242.75998367563778,8.1390326164438642E-2,331.06202233800951,0.11099541848195205,2.8610370568531229E-2,3.6888557529448765E-2,0.40929762952145332,1.3511971415262091E-2,0.1325320042461188,-0.12277390938423988,4.1560677183424814E-2,1.3511971415262093E-2,0]
[null,-3.4913521818182845E-42,7.5006560532026839E-2,7.0629923370310133E-4,0.11609814534121071,-0.39271730055684023,5.8487319536551112,3.7503732737751196,0.64122844122329081,0.43869326731743169,239.59091908357632,8.0327831444844774E-2,239.50111626524173,8.0297723184973982E-2,2.6718556843813031E-2,3.0798773700995447E-2,0.43872337557730245,1.320641488207086E-2,7.9233632511168717E-2,-7.7575770615440409E-2,3.1989971842253738E-2,1.320641488207086E-2,0]
[null,2.5220048245285854E-40,8.0970715199564836E-2,6.2273731719713515E-4,0.10236263061236728,-0.34625510901866613,5.330720041025705,3.4330409651640004,0.64401074127753954,0.43163221425050491,229.02447078312059,7.6785210208212704E-2,162.27240740729769,5.44051946552098E-2,2.4522409045620624E-2,2.5154799312241176E-2,0.45401222980350781,1.3101822519610264E-2,3.0387102457549484E-2,-3.3968734037270736E-2,2.226043775029931E-2,1.3101822519610265E-2,0]
[null,3.1720770085769288E-38,8.758432627758074E-2,5.8481020354910558E-4,9.6128350094186091E-2,-0.32516683229539312,5.0831078128240179,3.2800736109728525,0.64528901053360599,0.44520057318249862,230.93188448778943,7.7424710265853777E-2,108.78569015740366,3.6472661885514873E-2,2.3545350031374628E-2,2.18389869414767E-2,0.48615262156283745,1.2928269277499157E-2,1.1367883014099299E-2,-1.6087532416115498E-2,1.8062530170358901E-2,1.2928269277499158E-2,0]
[null,-3.2673081312289859E-37,9.4938257676883894E-2,5.6969411472841528E-4,9.3643638525558126E-2,-0.31676196745430468,4.982150779696128,3.2174795460597188,0.64580131921578654,0.472996714507879,239.61101827654974,8.0334570116708984E-2,65.691188029419052,2.2024335060871258E-2,2.3151852089894072E-2,1.9626570405383712E-2,0.53130694956371682,1.272411883741213E-2,-5.2931419070895514E-3,8.6438685472614476E-4,1.3759049639069126E-2,1.272411883741213E-2,0]
[null,-3.3625392538810481E-37,0.10313906536129758,5.8629879599349385E-4,9.6373037917300813E-2,-0.32599452115373218,5.0929790145763327,3.2861868979215032,0.64523864883721094,0.52528509546810531,260.87074990002941,8.7462336665397739E-2,28.347222974740028,9.5039952171561207E-3,2.3570151255648378E-2,1.8592583970520899E-2,0.60324343691634685,1.2354297000115573E-2,-1.8027180767272961E-2,1.5311795564999384E-2,9.6776955664940479E-3,1.2354297000115574E-2,0]
[null,-3.4577703765331045E-37,0.11231225223019801,6.0290347725857241E-4,9.9102437309043501E-2,-0.33522707485315972,5.2022372721371628,3.3537676665211134,0.64467795125064176,0.58427498466960626,282.13954885926086,9.4593143226707629E-2,-9.0216772532560192,-3.0247046612670078E-3,2.370884595716187E-2,1.7557577460386026E-2,0.68189283255758093,1.1736459729850105E-2,-1.8067845142774541E-2,1.5364054828831974E-2,9.6609683823380213E-3,1.1736459729850105E-2,0]
[null,3.5530014991851617E-38,0.12260631802291558,6.5503817351550279E-4,0.1076720934187106,-0.36421506776379481,5.5353501863505192,3.5588419305724188,0.64292986184470813,0.67866890531589674,320.77347697106751,0.10754596997526611,-48.952338765321734,-1.6412288212810048E-2,2.4378363485346045E-2,1.7474216027512229E-2,0.8026271635039729,1.0353083040728243E-2,-1.994325612182777E-2,1.8148139928069868E-2,8.6345452448879055E-3,1.0353083040728244E-2,0]
[null,-2.9903546080632956E-41,0.13419782954979564,7.6828651346512759E-4,0.1262873227772196,-0.42718353811648285,6.209875691398449,3.9693055113048223,0.63919242647688879,0.83335183955970848,391.96748376935693,0.13141523931089238,-100.68981850902709,-3.3758352780406259E-2,2.5568821888316572E-2,1.8724992766735494E-2,0.99852543165100716,6.8714404032500266E-3,-2.0162981552624935E-2,1.8543898957971733E-2,8.4584476969514731E-3,6.8714404032500266E-3,0]
[null,-6.5243225261098895E-36,0.14729780979304705,8.5562967400664661E-4,0.1406443806122456,-0.47574818124957569,6.6875786328014373,4.2557076587226392,0.63636001793670371,0.98506568543043171,453.0142180061074,0.15188242478179645,-157.47234887018769,-5.2795875343070682E-2,2.4584514986992882E-2,1.8999120158737701E-2,1.1897439855552987,1.9804260472922677E-3,-2.0250404605281321E-2,1.8735204150458519E-2,8.3545900172585438E-3,{"$f":"S812*Q832^2+T812*Q832+U812","v":1.9804260472922677E-3},0]
[null,0,{"$f":"C813","v":0.16215984472146291},{"$f":"D813+(D832-D812)","v":8.7717473586713273E-4},0.14418585652486929,-0.48772769096788438,6.746369160550632,4.3199169276239173,0.64033212900423764,1.0939901755085566,458.33333333333337,0.15366576866258877,-205.07395718350207,-6.8755303119887257E-2,2.1215589851194112E-2,1.7692399435883077E-2,1.3164112472910328,-2.0748837577678932E-3,null,null,null,null,7.4986780743096546E-2]
[null,"De","hc","e0","a'","b'","N'","tN'","t","Nc","sac","Nac","sat","Nat","Mtot","u","N","Mo","a''","b''","c''",null,"x"]
[null,null,{"$f":"$C$35","v":4.1544915655417694E-2},{"$f":"$D$35","v":3.8256566053946229E-4},{"$f":"$E$35","v":6.28843435479884E-2},{"$f":"$F$35","v":-0.21271459223465167},{"$f":"IF($C$2=1,0.5*($O$31*D835*$F$6/$O$30)*(1-W835^2+(E835-F835)*(F835^2*(1-W835^2)+2*F835*(1-W835)+2*LN((1-F835)/(1-F835*W835)))/(F835^3)),$F$6*F835*(LN((1-E835+E835^2)/(1+E835)^2)/(6*E835)+ATAN((2-E835)/(E835*3^0.5))/(E835*3^0.5)-LN((W835^2-E835*W835+E835^2)/(W835+E835)^2)/(6*E835)-ATAN((2*W835-E835)/(E835*3^0.5))/(E835*3^0.5)))","v":3.6164179713546631},{"$f":"IF($C$2=1,($O$31*D835*$F$6/$O$30)*(1-W835^3-(E835-F835)*(-2*F835^3*(1-W835^3)-3*F835^2*(1-W835^2)-6*F835*(1-W835)-6*LN((1-F835)/(1-F835*W835)))/(2*F835^4))/3,$F$6*F835*(LN((1+E835^3)/(E835^3+W835^3)))/3)","v":2.3589615237756383},{"$f":"$I$35","v":0.65229227994683425},{"$f":"$J$35","v":0.15024377959466625},{"$f":"$K$35","v":10.340089653207192},{"$f":"$L$35","v":3.4667297991276304E-3},{"$f":"$M$35","v":458.16851350986366},{"$f":"$N$35","v":0.15361050939379392},{"$f":"$O$35","v":1.4595642140814678E-2},{"$f":"$P$35","v":3.011841020334027E-2},{"$f":"$Q$35","v":9.9999999999961231E-5},{"$f":"$R$35","v":1.4592630299794346E-2},null,null,null,null,{"$f":"IF(C835<$C$6,0,(C835-$C$6)/C835)","v":0}]
[null,{"$f":"IF(R816>$Q$29*V816,B816,IF(Q816>Q815,$U$6,-0.5)*B816)","v":-4.0714933842728555E-44},{"$f":"IF(Q816>Q815,C816,(1-$T$6)*C816+$T$6*C817)","v":4.4336691510533544E-2},{"$f":"D816+B836","v":4.2836253051247033E-4},{"$f":"IF($C$2=1,D836/($O$31*$O$30),2^(1/3)*$O$30/D836)","v":7.0412217588601944E-2},{"$f":"IF($C$2=1,-($O$31-2)*D836/$O$30,3*($O$30/D836)^2)","v":-0.23817861979058777},{"$f":"IF($C$2=1,0.5*($O$31*D836*$F$6/$O$30)*(1-W836^2+(E836-F836)*(F836^2*(1-W836^2)+2*F836*(1-W836)+2*LN((1-F836)/(1-F836*W836)))/(F836^3)),$F$6*F836*(LN((1-E836+E836^2)/(1+E836)^2)/(6*E836)+ATAN((2-E836)/(E836*3^0.5))/(E836*3^0.5)-LN((W836^2-E836*W836+E836^2)/(W836+E836)^2)/(6*E836)-ATAN((2*W836-E836)/(E836*3^0.5))/(E836*3^0.5)))","v":3.9715403169798402},{"$f":"IF($C$2=1,($O$31*D836*$F$6/$O$30)*(1-W836^3-(E836-F836)*(-2*F836^3*(1-W836^3)-3*F836^2*(1-W836^2)-6*F836*(1-W836)-6*LN((1-F836)/(1-F836*W836)))/(2*F836^4))/3,$F$6*F836*(LN((1+E836^3)/(E836^3+W836^3)))/3)","v":2.584188132605246},{"$f":"H836/G836","v":0.65067654520762697},{"$f":"G836*C836*$D$6","v":0.17608495785558179},{"$f":"MAX(MIN($K$6,$Q$6*$J$6*D836*(C836-$I$6)/C836),-$K$6)","v":30.453565718108756},{"$f":"K836*$H$6","v":1.021019036637784E-2},{"$f":"MIN($O$6,$Q$6*$N$6*D836*(C$6-C836-$M$6)/C836)","v":458.33333333333337},{"$f":"M836*$L$6","v":0.15366576866258877},{"$f":"(0.5*$C$6-C836+I836*C836)*J836+(0.5*$C$6-$I$6)*L836+(0.5*$C$6-$M$6)*N836","v":1.6214853650533177E-2},{"$f":"0.1*$Q$6*D836*$B$6^2/C836+$R$6","v":3.1600367560991036E-2},{"$f":"(J836+L836-N836)","v":3.2629379559370869E-2},{"$f":"O836-P836*Q836","v":1.518375326316997E-2},{"$f":"((R836-R835)*(Q836-Q837)-(R836-R837)*(Q836-Q835))/((Q836^2-Q835^2)*(Q836-Q837)-(Q836^2-Q837^2)*(Q836-Q835))","v":-6.4831158545317541E-2},{"$f":"-(S836*(Q836^2-Q835^2)-(R836-R835))/(Q836-Q835)","v":2.0293855252393835E-2},{"$f":"R836-S836*Q836^2-T836*Q836","v":1.4590601562580692E-2},{"$f":"S816*Q836^2+T816*Q836+U816","v":1.5183753263169968E-2},{"$f":"IF(C836<$C$6,0,(C836-$C$6)/C836)","v":0}]
[null,{"$f":"IF(R817>$Q$29*V817,B817,IF(Q817>Q816,$U$6,-0.5)*B817)","v":-9.0223179613231616E-44},{"$f":"IF(Q817>Q816,C817,(1-$T$6)*C817+$T$6*C818)","v":4.686581864712229E-2},{"$f":"D817+B837","v":4.7696328395726634E-4},7.8400980803794859E-2,-0.26520166581288029,4.3331467008444271,2.8121337206210515,0.6489818865521062,0.20307646745315119,50.786992561801682,1.702739400015367E-2,458.33333333333337,0.15366576866258877,1.7864235302051154E-2,{"$f":"0.1*$Q$6*D837*$B$6^2/C837+$R$6","v":3.3286848702870631E-2},6.643809279071608E-2,1.5652720559219308E-2,-4.9756811336570519E-2,1.8800477777095675E-2,1.4623280241171833E-2,{"$f":"MAX(S817*Q837^2+T817*Q837+U817,S818*Q837^2+T818*Q837+U818)","v":1.5652720559219308E-2},0]
[null,-1.9755967437380864E-39,4.9178183027429483E-2,5.1138343885028133E-4,8.4058803939868143E-2,-0.28433999935383852,4.5801454005629569,2.9669884019048882,0.6477934961497529,0.22524322880112441,69.368502837898973,2.3257231220855375E-2,458.33333333333337,0.15366576866258877,1.9184137140418247E-2,3.4010899743189257E-2,9.4834691359391016E-2,1.5958723960417701E-2,-8.5674673728802192E-2,2.4593051445811309E-2,1.4396974863466982E-2,{"$f":"MAX(S818*Q838^2+T818*Q838+U818,S819*Q838^2+T819*Q838+U819)","v":1.5958723960417701E-2},0]
[null,-2.9337929157055305E-40,5.255221950735349E-2,6.1697554712529133E-4,0.10141553795347201,-0.34305144309200192,5.2936203280021852,3.4101729099852851,0.64420428717680367,0.27819149746575944,107.10970946941983,3.5910754553116271E-2,458.33333333333337,0.15366576866258877,2.2297956507532225E-2,3.8399080921905651E-2,0.16043648335628694,1.6137343000308193E-2,-4.3786215799777366E-2,1.3900135583240885E-2,1.5034305421099795E-2,1.6137343000308193E-2,0]
[null,-3.0453047689280796E-38,5.6242100708700393E-2,7.0133254331032385E-4,0.11528174413960915,-0.3899557157346018,5.818963683896814,3.7322400709586354,0.64139256982941817,0.32727074152999486,147.20958346173595,4.9355070102866543E-2,458.33333333333337,0.15366576866258877,2.5050365319008332E-2,4.0785557081477845E-2,0.22296004297027264,1.5956815759555522E-2,-8.8301719915336637E-3,4.9810981304120928E-4,1.628471545026049E-2,1.5956815759555522E-2,0]
[null,4.6986058604089972E-27,6.0285666570009291E-2,7.6065650728683013E-4,0.12503313825602461,-0.4229410934321487,6.1664416627869469,3.9430807490839279,0.63944183123948306,0.37174804600618755,186.03524372539073,6.2372179037223724E-2,455.91886785554243,0.15285626896756177,2.7333601616734718E-2,4.1268478601631416E-2,0.28126395607584953,1.5726266064008322E-2,-8.4175554931313873E-2,3.8489060108598663E-2,1.1559759490730726E-2,1.5726266064008322E-2,0]
[null,3.9873607399552816E-37,6.4726330142402158E-2,8.7819863250649852E-4,0.14435415983765673,-0.48829699913795377,6.8053796971009088,4.3257344635079829,0.6356345503177061,0.44048725301895425,243.83882845213955,8.175203128119958E-2,446.466521890948,0.1496871736766946,3.0748447865050644E-2,4.4376772522055637E-2,0.37255211062345928,1.4215787599301685E-2,-2.0365940494635679E-2,-3.2306910199897078E-3,1.824608059861706E-2,1.4215787599301689E-2,0]
[null,-3.3798403285957321E-40,6.9614059201644651E-2,7.8513563758028236E-4,0.12905690253470753,-0.43655200720650061,6.3048000198873266,4.0265153460803367,0.63864283298113156,0.43890272183896673,242.75998367563778,8.1390326164438642E-2,331.06202233800951,0.11099541848195205,2.8610370568531229E-2,3.6888557529448765E-2,0.40929762952145332,1.3511971415262091E-2,0.1325320042461188,-0.12277390938423988,4.1560677183424814E-2,1.3511971415262093E-2,0]
[null,3.4913521818182848E-43,7.5006560532026839E-2,7.0629923370310133E-4,0.11609814534121071,-0.39271730055684023,5.8487319536551112,3.7503732737751196,0.64122844122329081,0.43869326731743169,239.59091908357632,8.0327831444844774E-2,239.50111626524173,8.0297723184973982E-2,2.6718556843813031E-2,3.0798773700995447E-2,0.43872337557730245,1.320641488207086E-2,7.9233632511168717E-2,-7.7575770615440409E-2,3.1989971842253738E-2,1.320641488207086E-2,0]
[null,-2.5220048245285854E-41,8.0970715199564836E-2,6.2273731719713515E-4,0.10236263061236728,-0.34625510901866613,5.330720041025705,3.4330409651640004,0.64401074127753954,0.43163221425050491,229.02447078312059,7.6785210208212704E-2,162.27240740729769,5.44051946552098E-2,2.4522409045620624E-2,2.5154799312241176E-2,0.45401222980350781,1.3101822519610264E-2,3.0387102457549484E-2,-3.3968734037270736E-2,2.226043775029931E-2,1.3101822519610265E-2,0]
[null,-3.1720770085769286E-39,8.758432627758074E-2,5.8481020354910558E-4,9.6128350094186091E-2,-0.32516683229539312,5.0831078128240179,3.2800736109728525,0.64528901053360599,0.44520057318249862,230.93188448778943,7.7424710265853777E-2,108.78569015740366,3.6472661885514873E-2,2.3545350031374628E-2,2.18389869414767E-2,0.48615262156283745,1.2928269277499157E-2,1.1367883014099299E-2,-1.6087532416115498E-2,1.8062530170358901E-2,1.2928269277499158E-2,0]
[null,3.2673081312289861E-38,9.4938257676883894E-2,5.6969411472841528E-4,9.3643638525558126E-2,-0.31676196745430468,4.982150779696128,3.2174795460597188,0.64580131921578654,0.472996714507879,239.61101827654974,8.0334570116708984E-2,65.691188029419052,2.2024335060871258E-2,2.3151852089894072E-2,1.9626570405383712E-2,0.53130694956371682,1.272411883741213E-2,-5.2931419070895514E-3,8.6438685472614476E-4,1.3759049639069126E-2,1.272411883741213E-2,0]
[null,3.3625392538810481E-38,0.10313906536129758,5.8629879599349385E-4,9.6373037917300813E-2,-0.32599452115373218,5.0929790145763327,3.2861868979215032,0.64523864883721094,0.52528509546810531,260.87074990002941,8.7462336665397739E-2,28.347222974740028,9.5039952171561207E-3,2.3570151255648378E-2,1.8592583970520899E-2,0.60324343691634685,1.2354297000115573E-2,-1.8027180767272961E-2,1.5311795564999384E-2,9.6776955664940479E-3,1.2354297000115574E-2,0]
[null,3.4577703765331049E-38,0.11231225223019801,6.0290347725857241E-4,9.9102437309043501E-2,-0.33522707485315972,5.2022372721371628,3.3537676665211134,0.64467795125064176,0.58427498466960626,282.13954885926086,9.4593143226707629E-2,-9.0216772532560192,-3.0247046612670078E-3,2.370884595716187E-2,1.7557577460386026E-2,0.68189283255758093,1.1736459729850105E-2,-1.8067845142774541E-2,1.5364054828831974E-2,9.6609683823380213E-3,1.1736459729850105E-2,0]
[null,-3.5530014991851621E-39,0.12260631802291558,6.5503817351550279E-4,0.1076720934187106,-0.36421506776379481,5.5353501863505192,3.5588419305724188,0.64292986184470813,0.67866890531589674,320.77347697106751,0.10754596997526611,-48.952338765321734,-1.6412288212810048E-2,2.4378363485346045E-2,1.7474216027512229E-2,0.8026271635039729,1.0353083040728243E-2,-1.994325612182777E-2,1.8148139928069868E-2,8.6345452448879055E-3,1.0353083040728244E-2,0]
[null,2.9903546080632959E-42,0.13419782954979564,7.6828651346512759E-4,0.1262873227772196,-0.42718353811648285,6.209875691398449,3.9693055113048223,0.63919242647688879,0.83335183955970848,391.96748376935693,0.13141523931089238,-100.68981850902709,-3.3758352780406259E-2,2.5568821888316572E-2,1.8724992766735494E-2,0.99852543165100716,6.8714404032500266E-3,-2.0162981552624935E-2,1.8543898957971733E-2,8.4584476969514731E-3,6.8714404032500266E-3,0]
[null,6.5243225261098902E-37,0.14729780979304705,8.5562967400664661E-4,0.1406443806122456,-0.47574818124957569,6.6875786328014373,4.2557076587226392,0.63636001793670371,0.98506568543043171,453.0142180061074,0.15188242478179645,-157.47234887018769,-5.2795875343070682E-2,2.4584514986992882E-2,1.8999120158737701E-2,1.1897439855552987,1.9804260472922677E-3,-2.0250404605281321E-2,1.8735204150458519E-2,8.3545900172585438E-3,{"$f":"S832*Q852^2+T832*Q852+U832","v":1.9804260472922677E-3},0]
[null,0,{"$f":"C833","v":0.16215984472146291},{"$f":"D833+(D852-D832)","v":8.7717473586713273E-4},0.14418585652486929,-0.48772769096788438,6.746369160550632,4.3199169276239173,0.64033212900423764,1.0939901755085566,458.33333333333337,0.15366576866258877,-205.07395718350207,-6.8755303119887257E-2,2.1215589851194112E-2,1.7692399435883077E-2,1.3164112472910328,-2.0748837577678932E-3,null,null,null,null,7.4986780743096546E-2]
[null,"De","hc","e0","a'","b'","N'","tN'","t","Nc","sac","Nac","sat","Nat","Mtot","u","N","Mo","a''","b''","c''",null,"x"]
[null,null,{"$f":"$C$35","v":4.1544915655417694E-2},{"$f":"$D$35","v":3.8256566053946229E-4},{"$f":"$E$35","v":6.28843435479884E-2},{"$f":"$F$35","v":-0.21271459223465167},{"$f":"IF($C$2=1,0.5*($O$31*D855*$F$6/$O$30)*(1-W855^2+(E855-F855)*(F855^2*(1-W855^2)+2*F855*(1-W855)+2*LN((1-F855)/(1-F855*W855)))/(F855^3)),$F$6*F855*(LN((1-E855+E855^2)/(1+E855)^2)/(6*E855)+ATAN((2-E855)/(E855*3^0.5))/(E855*3^0.5)-LN((W855^2-E855*W855+E855^2)/(W855+E855)^2)/(6*E855)-ATAN((2*W855-E855)/(E855*3^0.5))/(E855*3^0.5)))","v":3.6164179713546631},{"$f":"IF($C$2=1,($O$31*D855*$F$6/$O$30)*(1-W855^3-(E855-F855)*(-2*F855^3*(1-W855^3)-3*F855^2*(1-W855^2)-6*F855*(1-W855)-6*LN((1-F855)/(1-F855*W855)))/(2*F855^4))/3,$F$6*F855*(LN((1+E855^3)/(E855^3+W855^3)))/3)","v":2.3589615237756383},{"$f":"$I$35","v":0.65229227994683425},{"$f":"$J$35","v":0.15024377959466625},{"$f":"$K$35","v":10.340089653207192},{"$f":"$L$35","v":3.4667297991276304E-3},{"$f":"$M$35","v":458.16851350986366},{"$f":"$N$35","v":0.15361050939379392},{"$f":"$O$35","v":1.4595642140814678E-2},{"$f":"$P$35","v":3.011841020334027E-2},{"$f":"$Q$35","v":9.9999999999961231E-5},{"$f":"$R$35","v":1.4592630299794346E-2},null,null,null,null,{"$f":"IF(C855<$C$6,0,(C855-$C$6)/C855)","v":0}]
[null,{"$f":"IF(R836>$Q$29*V836,B836,IF(Q836>Q835,$U$6,-0.5)*B836)","v":4.0714933842728555E-45},{"$f":"IF(Q836>Q835,C836,(1-$T$6)*C836+$T$6*C837)","v":4.4336691510533544E-2},{"$f":"D836+B856","v":4.2836253051247033E-4},{"$f":"IF($C$2=1,D856/($O$31*$O$30),2^(1/3)*$O$30/D856)","v":7.0412217588601944E-2},{"$f":"IF($C$2=1,-($O$31-2)*D856/$O$30,3*($O$30/D856)^2)","v":-0.23817861979058777},{"$f":"IF($C$2=1,0.5*($O$31*D856*$F$6/$O$30)*(1-W856^2+(E856-F856)*(F856^2*(1-W856^2)+2*F856*(1-W856)+2*LN((1-F856)/(1-F856*W856)))/(F856^3)),$F$6*F856*(LN((1-E856+E856^2)/(1+E856)^2)/(6*E856)+ATAN((2-E856)/(E856*3^0.5))/(E856*3^0.5)-LN((W856^2-E856*W856+E856^2)/(W856+E856)^2)/(6*E856)-ATAN((2*W856-E856)/(E856*3^0.5))/(E856*3^0.5)))","v":3.9715403169798402},{"$f":"IF($C$2=1,($O$31*D856*$F$6/$O$30)*(1-W856^3-(E856-F856)*(-2*F856^3*(1-W856^3)-3*F856^2*(1-W856^2)-6*F856*(1-W856)-6*LN((1-F856)/(1-F856*W856)))/(2*F856^4))/3,$F$6*F856*(LN((1+E856^3)/(E856^3+W856^3)))/3)","v":2.584188132605246},{"$f":"H856/G856","v":0.65067654520762697},{"$f":"G856*C856*$D$6","v":0.17608495785558179},{"$f":"MAX(MIN($K$6,$Q$6*$J$6*D856*(C856-$I$6)/C856),-$K$6)","v":30.453565718108756},{"$f":"K856*$H$6","v":1.021019036637784E-2},{"$f":"MIN($O$6,$Q$6*$N$6*D856*(C$6-C856-$M$6)/C856)","v":458.33333333333337},{"$f":"M856*$L$6","v":0.15366576866258877},{"$f":"(0.5*$C$6-C856+I856*C856)*J856+(0.5*$C$6-$I$6)*L856+(0.5*$C$6-$M$6)*N856","v":1.6214853650533177E-2},{"$f":"0.1*$Q$6*D856*$B$6^2/C856+$R$6","v":3.1600367560991036E-2},{"$f":"(J856+L856-N856)","v":3.2629379559370869E-2},{"$f":"O856-P856*Q856","v":1.518375326316997E-2},{"$f":"((R856-R855)*(Q856-Q857)-(R856-R857)*(Q856-Q855))/((Q856^2-Q855^2)*(Q856-Q857)-(Q856^2-Q857^2)*(Q856-Q855))","v":-6.4831158545317541E-2},{"$f":"-(S856*(Q856^2-Q855^2)-(R856-R855))/(Q856-Q855)","v":2.0293855252393835E-2},{"$f":"R856-S856*Q856^2-T856*Q856","v":1.4590601562580692E-2},{"$f":"S836*Q856^2+T836*Q856+U836","v":1.5183753263169968E-2},{"$f":"IF(C856<$C$6,0,(C856-$C$6)/C856)","v":0}]
[null,{"$f":"IF(R837>$Q$29*V837,B837,IF(Q837>Q836,$U$6,-0.5)*B837)","v":9.0223179613231619E-45},{"$f":"IF(Q837>Q836,C837,(1-$T$6)*C837+$T$6*C838)","v":4.686581864712229E-2},{"$f":"D837+B857","v":4.7696328395726634E-4},7.8400980803794859E-2,-0.26520166581288029,4.3331467008444271,2.8121337206210515,0.6489818865521062,0.20307646745315119,50.786992561801682,1.702739400015367E-2,458.33333333333337,0.15366576866258877,1.7864235302051154E-2,{"$f":"0.1*$Q$6*D857*$B$6^2/C857+$R$6","v":3.3286848702870631E-2},6.643809279071608E-2,1.5652720559219308E-2,-4.9756811336570519E-2,1.8800477777095675E-2,1.4623280241171833E-2,{"$f":"MAX(S837*Q857^2+T837*Q857+U837,S838*Q857^2+T838*Q857+U838)","v":1.5652720559219308E-2},0]
[null,1.9755967437380864E-40,4.9178183027429483E-2,5.1138343885028133E-4,8.4058803939868143E-2,-0.28433999935383852,4.5801454005629569,2.9669884019048882,0.6477934961497529,0.22524322880112441,69.368502837898973,2.3257231220855375E-2,458.33333333333337,0.15366576866258877,1.9184137140418247E-2,3.4010899743189257E-2,9.4834691359391016E-2,1.5958723960417701E-2,-8.5674673728802192E-2,2.4593051445811309E-2,1.4396974863466982E-2,{"$f":"MAX(S838*Q858^2+T838*Q858+U838,S839*Q858^2+T839*Q858+U839)","v":1.5958723960417701E-2},0]
[null,2.9337929157055306E-41,5.255221950735349E-2,6.1697554712529133E-4,0.10141553795347201,-0.34305144309200192,5.2936203280021852,3.4101729099852851,0.64420428717680367,0.27819149746575944,107.10970946941983,3.5910754553116271E-2,458.33333333333337,0.15366576866258877,2.2297956507532225E-2,3.8399080921905651E-2,0.16043648335628694,1.6137343000308193E-2,-4.3786215799777366E-2,1.3900135583240885E-2,1.5034305421099795E-2,1.6137343000308193E-2,0]
[null,3.0453047689280796E-39,5.6242100708700393E-2,7.0133254331032385E-4,0.11528174413960915,-0.3899557157346018,5.818963683896814,3.7322400709586354,0.64139256982941817,0.32727074152999486,147.20958346173595,4.9355070102866543E-2,458.33333333333337,0.15366576866258877,2.5050365319008332E-2,4.0785557081477845E-2,0.22296004297027264,1.5956815759555522E-2,-8.8301719915336637E-3,4.9810981304120928E-4,1.628471545026049E-2,1.5956815759555522E-2,0]
[null,-4.6986058604089976E-28,6.0285666570009291E-2,7.6065650728683013E-4,0.12503313825602461,-0.4229410934321487,6.1664416627869469,3.9430807490839279,0.63944183123948306,0.37174804600618755,186.03524372539073,6.2372179037223724E-2,455.91886785554243,0.15285626896756177,2.7333601616734718E-2,4.1268478601631416E-2,0.28126395607584953,1.5726266064008322E-2,-8.4175554931313873E-2,3.8489060108598663E-2,1.1559759490730726E-2,1.5726266064008322E-2,0]
[null,-3.9873607399552821E-38,6.4726330142402158E-2,8.7819863250649852E-4,0.14435415983765673,-0.48829699913795377,6.8053796971009088,4.3257344635079829,0.6356345503177061,0.44048725301895425,243.83882845213955,8.175203128119958E-2,446.466521890948,0.1496871736766946,3.0748447865050644E-2,4.4376772522055637E-2,0.37255211062345928,1.4215787599301685E-2,-2.0365940494635679E-2,-3.2306910199897078E-3,1.824608059861706E-2,1.4215787599301689E-2,0]
[null,3.3798403285957322E-41,6.9614059201644651E-2,7.8513563758028236E-4,0.12905690253470753,-0.43655200720650061,6.3048000198873266,4.0265153460803367,0.63864283298113156,0.43890272183896673,242.75998367563778,8.1390326164438642E-2,331.06202233800951,0.11099541848195205,2.8610370568531229E-2,3.6888557529448765E-2,0.40929762952145332,1.3511971415262091E-2,0.1325320042461188,-0.12277390938423988,4.1560677183424814E-2,1.3511971415262093E-2,0]
[null,-3.491352181818285E-44,7.5006560532026839E-2,7.0629923370310133E-4,0.11609814534121071,-0.39271730055684023,5.8487319536551112,3.7503732737751196,0.64122844122329081,0.43869326731743169,239.59091908357632,8.0327831444844774E-2,239.50111626524173,8.0297723184973982E-2,2.6718556843813031E-2,3.0798773700995447E-2,0.43872337557730245,1.320641488207086E-2,7.9233632511168717E-2,-7.7575770615440409E-2,3.1989971842253738E-2,1.320641488207086E-2,0]
[null,2.5220048245285856E-42,8.0970715199564836E-2,6.2273731719713515E-4,0.10236263061236728,-0.34625510901866613,5.330720041025705,3.4330409651640004,0.64401074127753954,0.43163221425050491,229.02447078312059,7.6785210208212704E-2,162.27240740729769,5.44051946552098E-2,2.4522409045620624E-2,2.5154799312241176E-2,0.45401222980350781,1.3101822519610264E-2,3.0387102457549484E-2,-3.3968734037270736E-2,2.226043775029931E-2,1.3101822519610265E-2,0]
[null,3.1720770085769288E-40,8.758432627758074E-2,5.8481020354910558E-4,9.6128350094186091E-2,-0.32516683229539312,5.0831078128240179,3.2800736109728525,0.64528901053360599,0.44520057318249862,230.93188448778943,7.7424710265853777E-2,108.78569015740366,3.6472661885514873E-2,2.3545350031374628E-2,2.18389869414767E-2,0.48615262156283745,1.2928269277499157E-2,1.1367883014099299E-2,-1.6087532416115498E-2,1.8062530170358901E-2,1.2928269277499158E-2,0]
[null,-3.2673081312289863E-39,9.4938257676883894E-2,5.6969411472841528E-4,9.3643638525558126E-2,-0.31676196745430468,4.982150779696128,3.2174795460597188,0.64580131921578654,0.472996714507879,239.61101827654974,8.0334570116708984E-2,65.691188029419052,2.2024335060871258E-2,2.3151852089894072E-2,1.9626570405383712E-2,0.53130694956371682,1.272411883741213E-2,-5.2931419070895514E-3,8.6438685472614476E-4,1.3759049639069126E-2,1.272411883741213E-2,0]
[null,-3.362539253881048E-39,0.10313906536129758,5.8629879599349385E-4,9.6373037917300813E-2,-0.32599452115373218,5.0929790145763327,3.2861868979215032,0.64523864883721094,0.52528509546810531,260.87074990002941,8.7462336665397739E-2,28.347222974740028,9.5039952171561207E-3,2.3570151255648378E-2,1.8592583970520899E-2,0.60324343691634685,1.2354297000115573E-2,-1.8027180767272961E-2,1.5311795564999384E-2,9.6776955664940479E-3,1.2354297000115574E-2,0]
[null,-3.4577703765331051E-39,0.11231225223019801,6.0290347725857241E-4,9.9102437309043501E-2,-0.33522707485315972,5.2022372721371628,3.3537676665211134,0.64467795125064176,0.58427498466960626,282.13954885926086,9.4593143226707629E-2,-9.0216772532560192,-3.0247046612670078E-3,2.370884595716187E-2,1.7557577460386026E-2,0.68189283255758093,1.1736459729850105E-2,-1.8067845142774541E-2,1.5364054828831974E-2,9.6609683823380213E-3,1.1736459729850105E-2,0]
[null,3.5530014991851624E-40,0.12260631802291558,6.5503817351550279E-4,0.1076720934187106,-0.36421506776379481,5.5353501863505192,3.5588419305724188,0.64292986184470813,0.67866890531589674,320.77347697106751,0.10754596997526611,-48.952338765321734,-1.6412288212810048E-2,2.4378363485346045E-2,1.7474216027512229E-2,0.8026271635039729,1.0353083040728243E-2,-1.994325612182777E-2,1.8148139928069868E-2,8.6345452448879055E-3,1.0353083040728244E-2,0]
[null,-2.9903546080632959E-43,0.13419782954979564,7.6828651346512759E-4,0.1262873227772196,-0.42718353811648285,6.209875691398449,3.9693055113048223,0.63919242647688879,0.83335183955970848,391.96748376935693,0.13141523931089238,-100.68981850902709,-3.3758352780406259E-2,2.5568821888316572E-2,1.8724992766735494E-2,0.99852543165100716,6.8714404032500266E-3,-2.0162981552624935E-2,1.8543898957971733E-2,8.4584476969514731E-3,6.8714404032500266E-3,0]
[null,-6.5243225261098902E-38,0.14729780979304705,8.5562967400664661E-4,0.1406443806122456,-0.47574818124957569,6.6875786328014373,4.2557076587226392,0.63636001793670371,0.98506568543043171,453.0142180061074,0.15188242478179645,-157.47234887018769,-5.2795875343070682E-2,2.4584514986992882E-2,1.8999120158737701E-2,1.1897439855552987,1.9804260472922677E-3,-2.0250404605281321E-2,1.8735204150458519E-2,8.3545900172585438E-3,{"$f":"S852*Q872^2+T852*Q872+U852","v":1.9804260472922677E-3},0]
[null,0,{"$f":"C853","v":0.16215984472146291},{"$f":"D853+(D872-D852)","v":8.7717473586713273E-4},0.14418585652486929,-0.48772769096788438,6.746369160550632,4.3199169276239173,0.64033212900423764,1.0939901755085566,458.33333333333337,0.15366576866258877,-205.07395718350207,-6.8755303119887257E-2,2.1215589851194112E-2,1.7692399435883077E-2,1.3164112472910328,-2.0748837577678932E-3,null,null,null,null,7.4986780743096546E-2]
[null,"De","hc","e0","a'","b'","N'","tN'","t","Nc","sac","Nac","sat","Nat","Mtot","u","N","Mo","a''","b''","c''",null,"x"]
[null,null,{"$f":"$C$35","v":4.1544915655417694E-2},{"$f":"$D$35","v":3.8256566053946229E-4},{"$f":"$E$35","v":6.28843435479884E-2},{"$f":"$F$35","v":-0.21271459223465167},{"$f":"IF($C$2=1,0.5*($O$31*D875*$F$6/$O$30)*(1-W875^2+(E875-F875)*(F875^2*(1-W875^2)+2*F875*(1-W875)+2*LN((1-F875)/(1-F875*W875)))/(F875^3)),$F$6*F875*(LN((1-E875+E875^2)/(1+E875)^2)/(6*E875)+ATAN((2-E875)/(E875*3^0.5))/(E875*3^0.5)-LN((W875^2-E875*W875+E875^2)/(W875+E875)^2)/(6*E875)-ATAN((2*W875-E875)/(E875*3^0.5))/(E875*3^0.5)))","v":3.6164179713546631},{"$f":"IF($C$2=1,($O$31*D875*$F$6/$O$30)*(1-W875^3-(E875-F875)*(-2*F875^3*(1-W875^3)-3*F875^2*(1-W875^2)-6*F875*(1-W875)-6*LN((1-F875)/(1-F875*W875)))/(2*F875^4))/3,$F$6*F875*(LN((1+E875^3)/(E875^3+W875^3)))/3)","v":2.3589615237756383},{"$f":"$I$35","v":0.65229227994683425},{"$f":"$J$35","v":0.15024377959466625},{"$f":"$K$35","v":10.340089653207192},{"$f":"$L$35","v":3.4667297991276304E-3},{"$f":"$M$35","v":458.16851350986366},{"$f":"$N$35","v":0.15361050939379392},{"$f":"$O$35","v":1.4595642140814678E-2},{"$f":"$P$35","v":3.011841020334027E-2},{"$f":"$Q$35","v":9.9999999999961231E-5},{"$f":"$R$35","v":1.4592630299794346E-2},null,null,null,null,{"$f":"IF(C875<$C$6,0,(C875-$C$6)/C875)","v":0}]
[null,{"$f":"IF(R856>$Q$29*V856,B856,IF(Q856>Q855,$U$6,-0.5)*B856)","v":-4.0714933842728555E-46},{"$f":"IF(Q856>Q855,C856,(1-$T$6)*C856+$T$6*C857)","v":4.4336691510533544E-2},{"$f":"D856+B876","v":4.2836253051247033E-4},{"$f":"IF($C$2=1,D876/($O$31*$O$30),2^(1/3)*$O$30/D876)","v":7.0412217588601944E-2},{"$f":"IF($C$2=1,-($O$31-2)*D876/$O$30,3*($O$30/D876)^2)","v":-0.23817861979058777},{"$f":"IF($C$2=1,0.5*($O$31*D876*$F$6/$O$30)*(1-W876^2+(E876-F876)*(F876^2*(1-W876^2)+2*F876*(1-W876)+2*LN((1-F876)/(1-F876*W876)))/(F876^3)),$F$6*F876*(LN((1-E876+E876^2)/(1+E876)^2)/(6*E876)+ATAN((2-E876)/(E876*3^0.5))/(E876*3^0.5)-LN((W876^2-E876*W876+E876^2)/(W876+E876)^2)/(6*E876)-ATAN((2*W876-E876)/(E876*3^0.5))/(E876*3^0.5)))","v":3.9715403169798402},{"$f":"IF($C$2=1,($O$31*D876*$F$6/$O$30)*(1-W876^3-(E876-F876)*(-2*F876^3*(1-W876^3)-3*F876^2*(1-W876^2)-6*F876*(1-W876)-6*LN((1-F876)/(1-F876*W876)))/(2*F876^4))/3,$F$6*F876*(LN((1+E876^3)/(E876^3+W876^3)))/3)","v":2.584188132605246},{"$f":"H876/G876","v":0.65067654520762697},{"$f":"G876*C876*$D$6","v":0.17608495785558179},{"$f":"MAX(MIN($K$6,$Q$6*$J$6*D876*(C876-$I$6)/C876),-$K$6)","v":30.453565718108756},{"$f":"K876*$H$6","v":1.021019036637784E-2},{"$f":"MIN($O$6,$Q$6*$N$6*D876*(C$6-C876-$M$6)/C876)","v":458.33333333333337},{"$f":"M876*$L$6","v":0.15366576866258877},{"$f":"(0.5*$C$6-C876+I876*C876)*J876+(0.5*$C$6-$I$6)*L876+(0.5*$C$6-$M$6)*N876","v":1.6214853650533177E-2},{"$f":"0.1*$Q$6*D876*$B$6^2/C876+$R$6","v":3.1600367560991036E-2},{"$f":"(J876+L876-N876)","v":3.2629379559370869E-2},{"$f":"O876-P876*Q876","v":1.518375326316997E-2},{"$f":"((R876-R875)*(Q876-Q877)-(R876-R877)*(Q876-Q875))/((Q876^2-Q875^2)*(Q876-Q877)-(Q876^2-Q877^2)*(Q876-Q875))","v":-6.4831158545317541E-2},{"$f":"-(S876*(Q876^2-Q875^2)-(R876-R875))/(Q876-Q875)","v":2.0293855252393835E-2},{"$f":"R876-S876*Q876^2-T876*Q876","v":1.4590601562580692E-2},{"$f":"S856*Q876^2+T856*Q876+U856","v":1.5183753263169968E-2},{"$f":"IF(C876<$C$6,0,(C876-$C$6)/C876)","v":0}]
[null,{"$f":"IF(R857>$Q$29*V857,B857,IF(Q857>Q856,$U$6,-0.5)*B857)","v":-9.0223179613231622E-46},{"$f":"IF(Q857>Q856,C857,(1-$T$6)*C857+$T$6*C858)","v":4.686581864712229E-2},{"$f":"D857+B877","v":4.7696328395726634E-4},7.8400980803794859E-2,-0.26520166581288029,4.3331467008444271,2.8121337206210515,0.6489818865521062,0.20307646745315119,50.786992561801682,1.702739400015367E-2,458.33333333333337,0.15366576866258877,1.7864235302051154E-2,{"$f":"0.1*$Q$6*D877*$B$6^2/C877+$R$6","v":3.3286848702870631E-2},6.643809279071608E-2,1.5652720559219308E-2,-4.9756811336570519E-2,1.8800477777095675E-2,1.4623280241171833E-2,{"$f":"MAX(S857*Q877^2+T857*Q877+U857,S858*Q877^2+T858*Q877+U858)","v":1.5652720559219308E-2},0]
[null,-1.9755967437380864E-41,4.9178183027429483E-2,5.1138343885028133E-4,8.4058803939868143E-2,-0.28433999935383852,4.5801454005629569,2.9669884019048882,0.6477934961497529,0.22524322880112441,69.368502837898973,2.3257231220855375E-2,458.33333333333337,0.15366576866258877,1.9184137140418247E-2,3.4010899743189257E-2,9.4834691359391016E-2,1.5958723960417701E-2,-8.5674673728802192E-2,2.4593051445811309E-2,1.4396974863466982E-2,{"$f":"MAX(S858*Q878^2+T858*Q878+U858,S859*Q878^2+T859*Q878+U859)","v":1.5958723960417701E-2},0]
[null,-2.9337929157055306E-42,5.255221950735349E-2,6.1697554712529133E-4,0.10141553795347201,-0.34305144309200192,5.2936203280021852,3.4101729099852851,0.64420428717680367,0.27819149746575944,107.10970946941983,3.5910754553116271E-2,458.33333333333337,0.15366576866258877,2.2297956507532225E-2,3.8399080921905651E-2,0.16043648335628694,1.6137343000308193E-2,-4.3786215799777366E-2,1.3900135583240885E-2,1.5034305421099795E-2,1.6137343000308193E-2,0]
[null,-3.0453047689280797E-40,5.6242100708700393E-2,7.0133254331032385E-4,0.11528174413960915,-0.3899557157346018,5.818963683896814,3.7322400709586354,0.64139256982941817,0.32727074152999486,147.20958346173595,4.9355070102866543E-2,458.33333333333337,0.15366576866258877,2.5050365319008332E-2,4.0785557081477845E-2,0.22296004297027264,1.5956815759555522E-2,-8.8301719915336637E-3,4.9810981304120928E-4,1.628471545026049E-2,1.5956815759555522E-2,0]
[null,4.6986058604089976E-29,6.0285666570009291E-2,7.6065650728683013E-4,0.12503313825602461,-0.4229410934321487,6.1664416627869469,3.9430807490839279,0.63944183123948306,0.37174804600618755,186.03524372539073,6.2372179037223724E-2,455.91886785554243,0.15285626896756177,2.7333601616734718E-2,4.1268478601631416E-2,0.28126395607584953,1.5726266064008322E-2,-8.4175554931313873E-2,3.8489060108598663E-2,1.1559759490730726E-2,1.5726266064008322E-2,0]
[null,3.9873607399552822E-39,6.4726330142402158E-2,8.7819863250649852E-4,0.14435415983765673,-0.48829699913795377,6.8053796971009088,4.3257344635079829,0.6356345503177061,0.44048725301895425,243.83882845213955,8.175203128119958E-2,446.466521890948,0.1496871736766946,3.0748447865050644E-2,4.4376772522055637E-2,0.37255211062345928,1.4215787599301685E-2,-2.0365940494635679E-2,-3.2306910199897078E-3,1.824608059861706E-2,1.4215787599301689E-2,0]
[null,-3.3798403285957322E-42,6.9614059201644651E-2,7.8513563758028236E-4,0.12905690253470753,-0.43655200720650061,6.3048000198873266,4.0265153460803367,0.63864283298113156,0.43890272183896673,242.75998367563778,8.1390326164438642E-2,331.06202233800951,0.11099541848195205,2.8610370568531229E-2,3.6888557529448765E-2,0.40929762952145332,1.3511971415262091E-2,0.1325320042461188,-0.12277390938423988,4.1560677183424814E-2,1.3511971415262093E-2,0]
[null,3.4913521818182853E-45,7.5006560532026839E-2,7.0629923370310133E-4,0.11609814534121071,-0.39271730055684023,5.8487319536551112,3.7503732737751196,0.64122844122329081,0.43869326731743169,239.59091908357632,8.0327831444844774E-2,239.50111626524173,8.0297723184973982E-2,2.6718556843813031E-2,3.0798773700995447E-2,0.43872337557730245,1.320641488207086E-2,7.9233632511168717E-2,-7.7575770615440409E-2,3.1989971842253738E-2,1.320641488207086E-2,0]
[null,-2.5220048245285858E-43,8.0970715199564836E-2,6.2273731719713515E-4,0.10236263061236728,-0.34625510901866613,5.330720041025705,3.4330409651640004,0.64401074127753954,0.43163221425050491,229.02447078312059,7.6785210208212704E-2,162.27240740729769,5.44051946552098E-2,2.4522409045620624E-2,2.5154799312241176E-2,0.45401222980350781,1.3101822519610264E-2,3.0387102457549484E-2,-3.3968734037270736E-2,2.226043775029931E-2,1.3101822519610265E-2,0]
[null,-3.172077008576929E-41,8.758432627758074E-2,5.8481020354910558E-4,9.6128350094186091E-2,-0.32516683229539312,5.0831078128240179,3.2800736109728525,0.64528901053360599,0.44520057318249862,230.93188448778943,7.7424710265853777E-2,108.78569015740366,3.6472661885514873E-2,2.3545350031374628E-2,2.18389869414767E-2,0.48615262156283745,1.2928269277499157E-2,1.1367883014099299E-2,-1.6087532416115498E-2,1.8062530170358901E-2,1.2928269277499158E-2,0]
[null,3.2673081312289867E-40,9.4938257676883894E-2,5.6969411472841528E-4,9.3643638525558126E-2,-0.31676196745430468,4.982150779696128,3.2174795460597188,0.64580131921578654,0.472996714507879,239.61101827654974,8.0334570116708984E-2,65.691188029419052,2.2024335060871258E-2,2.3151852089894072E-2,1.9626570405383712E-2,0.53130694956371682,1.272411883741213E-2,-5.2931419070895514E-3,8.6438685472614476E-4,1.3759049639069126E-2,1.272411883741213E-2,0]
[null,3.3625392538810482E-40,0.10313906536129758,5.8629879599349385E-4,9.6373037917300813E-2,-0.32599452115373218,5.0929790145763327,3.2861868979215032,0.64523864883721094,0.52528509546810531,260.87074990002941,8.7462336665397739E-2,28.347222974740028,9.5039952171561207E-3,2.3570151255648378E-2,1.8592583970520899E-2,0.60324343691634685,1.2354297000115573E-2,-1.8027180767272961E-2,1.5311795564999384E-2,9.6776955664940479E-3,1.2354297000115574E-2,0]
[null,3.4577703765331053E-40,0.11231225223019801,6.0290347725857241E-4,9.9102437309043501E-2,-0.33522707485315972,5.2022372721371628,3.3537676665211134,0.64467795125064176,0.58427498466960626,282.13954885926086,9.4593143226707629E-2,-9.0216772532560192,-3.0247046612670078E-3,2.370884595716187E-2,1.7557577460386026E-2,0.68189283255758093,1.1736459729850105E-2,-1.8067845142774541E-2,1.5364054828831974E-2,9.6609683823380213E-3,1.1736459729850105E-2,0]
[null,-3.5530014991851626E-41,0.12260631802291558,6.5503817351550279E-4,0.1076720934187106,-0.36421506776379481,5.5353501863505192,3.5588419305724188,0.64292986184470813,0.67866890531589674,320.77347697106751,0.10754596997526611,-48.952338765321734,-1.6412288212810048E-2,2.4378363485346045E-2,1.7474216027512229E-2,0.8026271635039729,1.0353083040728243E-2,-1.994325612182777E-2,1.8148139928069868E-2,8.6345452448879055E-3,1.0353083040728244E-2,0]
[null,2.9903546080632963E-44,0.13419782954979564,7.6828651346512759E-4,0.1262873227772196,-0.42718353811648285,6.209875691398449,3.9693055113048223,0.63919242647688879,0.83335183955970848,391.96748376935693,0.13141523931089238,-100.68981850902709,-3.3758352780406259E-2,2.5568821888316572E-2,1.8724992766735494E-2,0.99852543165100716,6.8714404032500266E-3,-2.0162981552624935E-2,1.8543898957971733E-2,8.4584476969514731E-3,6.8714404032500266E-3,0]
[null,6.5243225261098899E-39,0.14729780979304705,8.5562967400664661E-4,0.1406443806122456,-0.47574818124957569,6.6875786328014373,4.2557076587226392,0.63636001793670371,0.98506568543043171,453.0142180061074,0.15188242478179645,-157.47234887018769,-5.2795875343070682E-2,2.4584514986992882E-2,1.8999120158737701E-2,1.1897439855552987,1.9804260472922677E-3,-2.0250404605281321E-2,1.8735204150458519E-2,8.3545900172585438E-3,{"$f":"S872*Q892^2+T872*Q892+U872","v":1.9804260472922677E-3},0]
[null,0,{"$f":"C873","v":0.16215984472146291},{"$f":"D873+(D892-D872)","v":8.7717473586713273E-4},0.14418585652486929,-0.48772769096788438,6.746369160550632,4.3199169276239173,0.64033212900423764,1.0939901755085566,458.33333333333337,0.15366576866258877,-205.07395718350207,-6.8755303119887257E-2,2.1215589851194112E-2,1.7692399435883077E-2,1.3164112472910328,-2.0748837577678932E-3,null,null,null,null,7.4986780743096546E-2]
[null,"De","hc","e0","a'","b'","N'","tN'","t","Nc","sac","Nac","sat","Nat","Mtot","u","N","Mo","a''","b''","c''",null,"x"]
[null,null,{"$f":"$C$35","v":4.1544915655417694E-2},{"$f":"$D$35","v":3.8256566053946229E-4},{"$f":"$E$35","v":6.28843435479884E-2},{"$f":"$F$35","v":-0.21271459223465167},{"$f":"IF($C$2=1,0.5*($O$31*D895*$F$6/$O$30)*(1-W895^2+(E895-F895)*(F895^2*(1-W895^2)+2*F895*(1-W895)+2*LN((1-F895)/(1-F895*W895)))/(F895^3)),$F$6*F895*(LN((1-E895+E895^2)/(1+E895)^2)/(6*E895)+ATAN((2-E895)/(E895*3^0.5))/(E895*3^0.5)-LN((W895^2-E895*W895+E895^2)/(W895+E895)^2)/(6*E895)-ATAN((2*W895-E895)/(E895*3^0.5))/(E895*3^0.5)))","v":3.6164179713546631},{"$f":"IF($C$2=1,($O$31*D895*$F$6/$O$30)*(1-W895^3-(E895-F895)*(-2*F895^3*(1-W895^3)-3*F895^2*(1-W895^2)-6*F895*(1-W895)-6*LN((1-F895)/(1-F895*W895)))/(2*F895^4))/3,$F$6*F895*(LN((1+E895^3)/(E895^3+W895^3)))/3)","v":2.3589615237756383},{"$f":"$I$35","v":0.65229227994683425},{"$f":"$J$35","v":0.15024377959466625},{"$f":"$K$35","v":10.340089653207192},{"$f":"$L$35","v":3.4667297991276304E-3},{"$f":"$M$35","v":458.16851350986366},{"$f":"$N$35","v":0.15361050939379392},{"$f":"$O$35","v":1.4595642140814678E-2},{"$f":"$P$35","v":3.011841020334027E-2},{"$f":"$Q$35","v":9.9999999999961231E-5},{"$f":"$R$35","v":1.4592630299794346E-2},null,null,null,null,{"$f":"IF(C895<$C$6,0,(C895-$C$6)/C895)","v":0}]
[null,{"$f":"IF(R876>$Q$29*V876,B876,IF(Q876>Q875,$U$6,-0.5)*B876)","v":4.0714933842728559E-47},{"$f":"IF(Q876>Q875,C876,(1-$T$6)*C876+$T$6*C877)","v":4.4336691510533544E-2},{"$f":"D876+B896","v":4.2836253051247033E-4},{"$f":"IF($C$2=1,D896/($O$31*$O$30),2^(1/3)*$O$30/D896)","v":7.0412217588601944E-2},{"$f":"IF($C$2=1,-($O$31-2)*D896/$O$30,3*($O$30/D896)^2)","v":-0.23817861979058777},{"$f":"IF($C$2=1,0.5*($O$31*D896*$F$6/$O$30)*(1-W896^2+(E896-F896)*(F896^2*(1-W896^2)+2*F896*(1-W896)+2*LN((1-F896)/(1-F896*W896)))/(F896^3)),$F$6*F896*(LN((1-E896+E896^2)/(1+E896)^2)/(6*E896)+ATAN((2-E896)/(E896*3^0.5))/(E896*3^0.5)-LN((W896^2-E896*W896+E896^2)/(W896+E896)^2)/(6*E896)-ATAN((2*W896-E896)/(E896*3^0.5))/(E896*3^0.5)))","v":3.9715403169798402},{"$f":"IF($C$2=1,($O$31*D896*$F$6/$O$30)*(1-W896^3-(E896-F896)*(-2*F896^3*(1-W896^3)-3*F896^2*(1-W896^2)-6*F896*(1-W896)-6*LN((1-F896)/(1-F896*W896)))/(2*F896^4))/3,$F$6*F896*(LN((1+E896^3)/(E896^3+W896^3)))/3)","v":2.584188132605246},{"$f":"H896/G896","v":0.65067654520762697},{"$f":"G896*C896*$D$6","v":0.17608495785558179},{"$f":"MAX(MIN($K$6,$Q$6*$J$6*D896*(C896-$I$6)/C896),-$K$6)","v":30.453565718108756},{"$f":"K896*$H$6","v":1.021019036637784E-2},{"$f":"MIN($O$6,$Q$6*$N$6*D896*(C$6-C896-$M$6)/C896)","v":458.33333333333337},{"$f":"M896*$L$6","v":0.15366576866258877},{"$f":"(0.5*$C$6-C896+I896*C896)*J896+(0.5*$C$6-$I$6)*L896+(0.5*$C$6-$M$6)*N896","v":1.6214853650533177E-2},{"$f":"0.1*$Q$6*D896*$B$6^2/C896+$R$6","v":3.1600367560991036E-2},{"$f":"(J896+L896-N896)","v":3.2629379559370869E-2},{"$f":"O896-P896*Q896","v":1.518375326316997E-2},{"$f":"((R896-R895)*(Q896-Q897)-(R896-R897)*(Q896-Q895))/((Q896^2-Q895^2)*(Q896-Q897)-(Q896^2-Q897^2)*(Q896-Q895))","v":-6.4831158545317541E-2},{"$f":"-(S896*(Q896^2-Q895^2)-(R896-R895))/(Q896-Q895)","v":2.0293855252393835E-2},{"$f":"R896-S896*Q896^2-T896*Q896","v":1.4590601562580692E-2},{"$f":"S876*Q896^2+T876*Q896+U876","v":1.5183753263169968E-2},{"$f":"IF(C896<$C$6,0,(C896-$C$6)/C896)","v":0}]
[null,{"$f":"IF(R877>$Q$29*V877,B877,IF(Q877>Q876,$U$6,-0.5)*B877)","v":9.0223179613231626E-47},{"$f":"IF(Q877>Q876,C877,(1-$T$6)*C877+$T$6*C878)","v":4.686581864712229E-2},{"$f":"D877+B897","v":4.7696328395726634E-4},7.8400980803794859E-2,-0.26520166581288029,4.3331467008444271,2.8121337206210515,0.6489818865521062,0.20307646745315119,50.786992561801682,1.702739400015367E-2,458.33333333333337,0.15366576866258877,1.7864235302051154E-2,{"$f":"0.1*$Q$6*D897*$B$6^2/C897+$R$6","v":3.3286848702870631E-2},6.643809279071608E-2,1.5652720559219308E-2,-4.9756811336570519E-2,1.8800477777095675E-2,1.4623280241171833E-2,{"$f":"MAX(S877*Q897^2+T877*Q897+U877,S878*Q897^2+T878*Q897+U878)","v":1.5652720559219308E-2},0]
[null,1.9755967437380864E-42,4.9178183027429483E-2,5.1138343885028133E-4,8.4058803939868143E-2,-0.28433999935383852,4.5801454005629569,2.9669884019048882,0.6477934961497529,0.22524322880112441,69.368502837898973,2.3257231220855375E-2,458.33333333333337,0.15366576866258877,1.9184137140418247E-2,3.4010899743189257E-2,9.4834691359391016E-2,1.5958723960417701E-2,-8.5674673728802192E-2,2.4593051445811309E-2,1.4396974863466982E-2,{"$f":"MAX(S878*Q898^2+T878*Q898+U878,S879*Q898^2+T879*Q898+U879)","v":1.5958723960417701E-2},0]
[null,2.9337929157055308E-43,5.255221950735349E-2,6.1697554712529133E-4,0.10141553795347201,-0.34305144309200192,5.2936203280021852,3.4101729099852851,0.64420428717680367,0.27819149746575944,107.10970946941983,3.5910754553116271E-2,458.33333333333337,0.15366576866258877,2.2297956507532225E-2,3.8399080921905651E-2,0.16043648335628694,1.6137343000308193E-2,-4.3786215799777366E-2,1.3900135583240885E-2,1.5034305421099795E-2,1.6137343000308193E-2,0]
[null,3.04530476892808E-41,5.6242100708700393E-2,7.0133254331032385E-4,0.11528174413960915,-0.3899557157346018,5.818963683896814,3.7322400709586354,0.64139256982941817,0.32727074152999486,147.20958346173595,4.9355070102866543E-2,458.33333333333337,0.15366576866258877,2.5050365319008332E-2,4.0785557081477845E-2,0.22296004297027264,1.5956815759555522E-2,-8.8301719915336637E-3,4.9810981304120928E-4,1.628471545026049E-2,1.5956815759555522E-2,0]
[null,-4.6986058604089981E-30,6.0285666570009291E-2,7.6065650728683013E-4,0.12503313825602461,-0.4229410934321487,6.1664416627869469,3.9430807490839279,0.63944183123948306,0.37174804600618755,186.03524372539073,6.2372179037223724E-2,455.91886785554243,0.15285626896756177,2.7333601616734718E-2,4.1268478601631416E-2,0.28126395607584953,1.5726266064008322E-2,-8.4175554931313873E-2,3.8489060108598663E-2,1.1559759490730726E-2,1.5726266064008322E-2,0]
[null,-3.9873607399552824E-40,6.4726330142402158E-2,8.7819863250649852E-4,0.14435415983765673,-0.48829699913795377,6.8053796971009088,4.3257344635079829,0.6356345503177061,0.44048725301895425,243.83882845213955,8.175203128119958E-2,446.466521890948,0.1496871736766946,3.0748447865050644E-2,4.4376772522055637E-2,0.37255211062345928,1.4215787599301685E-2,-2.0365940494635679E-2,-3.2306910199897078E-3,1.824608059861706E-2,1.4215787599301689E-2,0]
[null,3.3798403285957322E-43,6.9614059201644651E-2,7.8513563758028236E-4,0.12905690253470753,-0.43655200720650061,6.3048000198873266,4.0265153460803367,0.63864283298113156,0.43890272183896673,242.75998367563778,8.1390326164438642E-2,331.06202233800951,0.11099541848195205,2.8610370568531229E-2,3.6888557529448765E-2,0.40929762952145332,1.3511971415262091E-2,0.1325320042461188,-0.12277390938423988,4.1560677183424814E-2,1.3511971415262093E-2,0]
[null,-3.4913521818182855E-46,7.5006560532026839E-2,7.0629923370310133E-4,0.11609814534121071,-0.39271730055684023,5.8487319536551112,3.7503732737751196,0.64122844122329081,0.43869326731743169,239.59091908357632,8.0327831444844774E-2,239.50111626524173,8.0297723184973982E-2,2.6718556843813031E-2,3.0798773700995447E-2,0.43872337557730245,1.320641488207086E-2,7.9233632511168717E-2,-7.7575770615440409E-2,3.1989971842253738E-2,1.320641488207086E-2,0]
[null,2.522004824528586E-44,8.0970715199564836E-2,6.2273731719713515E-4,0.10236263061236728,-0.34625510901866613,5.330720041025705,3.4330409651640004,0.64401074127753954,0.43163221425050491,229.02447078312059,7.6785210208212704E-2,162.27240740729769,5.44051946552098E-2,2.4522409045620624E-2,2.5154799312241176E-2,0.45401222980350781,1.3101822519610264E-2,3.0387102457549484E-2,-3.3968734037270736E-2,2.226043775029931E-2,1.3101822519610265E-2,0]
[null,3.172077008576929E-42,8.758432627758074E-2,5.8481020354910558E-4,9.6128350094186091E-2,-0.32516683229539312,5.0831078128240179,3.2800736109728525,0.64528901053360599,0.44520057318249862,230.93188448778943,7.7424710265853777E-2,108.78569015740366,3.6472661885514873E-2,2.3545350031374628E-2,2.18389869414767E-2,0.48615262156283745,1.2928269277499157E-2,1.1367883014099299E-2,-1.6087532416115498E-2,1.8062530170358901E-2,1.2928269277499158E-2,0]
[null,-3.2673081312289869E-41,9.4938257676883894E-2,5.6969411472841528E-4,9.3643638525558126E-2,-0.31676196745430468,4.982150779696128,3.2174795460597188,0.64580131921578654,0.472996714507879,239.61101827654974,8.0334570116708984E-2,65.691188029419052,2.2024335060871258E-2,2.3151852089894072E-2,1.9626570405383712E-2,0.53130694956371682,1.272411883741213E-2,-5.2931419070895514E-3,8.6438685472614476E-4,1.3759049639069126E-2,1.272411883741213E-2,0]
[null,-3.3625392538810483E-41,0.10313906536129758,5.8629879599349385E-4,9.6373037917300813E-2,-0.32599452115373218,5.0929790145763327,3.2861868979215032,0.64523864883721094,0.52528509546810531,260.87074990002941,8.7462336665397739E-2,28.347222974740028,9.5039952171561207E-3,2.3570151255648378E-2,1.8592583970520899E-2,0.60324343691634685,1.2354297000115573E-2,-1.8027180767272961E-2,1.5311795564999384E-2,9.6776955664940479E-3,1.2354297000115574E-2,0]
[null,-3.4577703765331057E-41,0.11231225223019801,6.0290347725857241E-4,9.9102437309043501E-2,-0.33522707485315972,5.2022372721371628,3.3537676665211134,0.64467795125064176,0.58427498466960626,282.13954885926086,9.4593143226707629E-2,-9.0216772532560192,-3.0247046612670078E-3,2.370884595716187E-2,1.7557577460386026E-2,0.68189283255758093,1.1736459729850105E-2,-1.8067845142774541E-2,1.5364054828831974E-2,9.6609683823380213E-3,1.1736459729850105E-2,0]
[null,3.5530014991851628E-42,0.12260631802291558,6.5503817351550279E-4,0.1076720934187106,-0.36421506776379481,5.5353501863505192,3.5588419305724188,0.64292986184470813,0.67866890531589674,320.77347697106751,0.10754596997526611,-48.952338765321734,-1.6412288212810048E-2,2.4378363485346045E-2,1.7474216027512229E-2,0.8026271635039729,1.0353083040728243E-2,-1.994325612182777E-2,1.8148139928069868E-2,8.6345452448879055E-3,1.0353083040728244E-2,0]
[null,-2.9903546080632965E-45,0.13419782954979564,7.6828651346512759E-4,0.1262873227772196,-0.42718353811648285,6.209875691398449,3.9693055113048223,0.63919242647688879,0.83335183955970848,391.96748376935693,0.13141523931089238,-100.68981850902709,-3.3758352780406259E-2,2.5568821888316572E-2,1.8724992766735494E-2,0.99852543165100716,6.8714404032500266E-3,-2.0162981552624935E-2,1.8543898957971733E-2,8.4584476969514731E-3,6.8714404032500266E-3,0]
[null,-6.5243225261098904E-40,0.14729780979304705,8.5562967400664661E-4,0.1406443806122456,-0.47574818124957569,6.6875786328014373,4.2557076587226392,0.63636001793670371,0.98506568543043171,453.0142180061074,0.15188242478179645,-157.47234887018769,-5.2795875343070682E-2,2.4584514986992882E-2,1.8999120158737701E-2,1.1897439855552987,1.9804260472922677E-3,-2.0250404605281321E-2,1.8735204150458519E-2,8.3545900172585438E-3,{"$f":"S892*Q912^2+T892*Q912+U892","v":1.9804260472922677E-3},0]
[null,0,{"$f":"C893","v":0.16215984472146291},{"$f":"D893+(D912-D892)","v":8.7717473586713273E-4},0.14418585652486929,-0.48772769096788438,6.746369160550632,4.3199169276239173,0.64033212900423764,1.0939901755085566,458.33333333333337,0.15366576866258877,-205.07395718350207,-6.8755303119887257E-2,2.1215589851194112E-2,1.7692399435883077E-2,1.3164112472910328,-2.0748837577678932E-3,null,null,null,null,7.4986780743096546E-2]
[null,"De","hc","e0","a'","b'","N'","tN'","t","Nc","sac","Nac","sat","Nat","Mtot","u","N","Mo","a''","b''","c''",null,"x"]
[null,null,{"$f":"$C$35","v":4.1544915655417694E-2},{"$f":"$D$35","v":3.8256566053946229E-4},{"$f":"$E$35","v":6.28843435479884E-2},{"$f":"$F$35","v":-0.21271459223465167},{"$f":"IF($C$2=1,0.5*($O$31*D915*$F$6/$O$30)*(1-W915^2+(E915-F915)*(F915^2*(1-W915^2)+2*F915*(1-W915)+2*LN((1-F915)/(1-F915*W915)))/(F915^3)),$F$6*F915*(LN((1-E915+E915^2)/(1+E915)^2)/(6*E915)+ATAN((2-E915)/(E915*3^0.5))/(E915*3^0.5)-LN((W915^2-E915*W915+E915^2)/(W915+E915)^2)/(6*E915)-ATAN((2*W915-E915)/(E915*3^0.5))/(E915*3^0.5)))","v":3.6164179713546631},{"$f":"IF($C$2=1,($O$31*D915*$F$6/$O$30)*(1-W915^3-(E915-F915)*(-2*F915^3*(1-W915^3)-3*F915^2*(1-W915^2)-6*F915*(1-W915)-6*LN((1-F915)/(1-F915*W915)))/(2*F915^4))/3,$F$6*F915*(LN((1+E915^3)/(E915^3+W915^3)))/3)","v":2.3589615237756383},{"$f":"$I$35","v":0.65229227994683425},{"$f":"$J$35","v":0.15024377959466625},{"$f":"$K$35","v":10.340089653207192},{"$f":"$L$35","v":3.4667297991276304E-3},{"$f":"$M$35","v":458.16851350986366},{"$f":"$N$35","v":0.15361050939379392},{"$f":"$O$35","v":1.4595642140814678E-2},{"$f":"$P$35","v":3.011841020334027E-2},{"$f":"$Q$35","v":9.9999999999961231E-5},{"$f":"$R$35","v":1.4592630299794346E-2},null,null,null,null,{"$f":"IF(C915<$C$6,0,(C915-$C$6)/C915)","v":0}]
[null,{"$f":"IF(R896>$Q$29*V896,B896,IF(Q896>Q895,$U$6,-0.5)*B896)","v":-4.071493384272856E-48},{"$f":"IF(Q896>Q895,C896,(1-$T$6)*C896+$T$6*C897)","v":4.4336691510533544E-2},{"$f":"D896+B916","v":4.2836253051247033E-4},{"$f":"IF($C$2=1,D916/($O$31*$O$30),2^(1/3)*$O$30/D916)","v":7.0412217588601944E-2},{"$f":"IF($C$2=1,-($O$31-2)*D916/$O$30,3*($O$30/D916)^2)","v":-0.23817861979058777},{"$f":"IF($C$2=1,0.5*($O$31*D916*$F$6/$O$30)*(1-W916^2+(E916-F916)*(F916^2*(1-W916^2)+2*F916*(1-W916)+2*LN((1-F916)/(1-F916*W916)))/(F916^3)),$F$6*F916*(LN((1-E916+E916^2)/(1+E916)^2)/(6*E916)+ATAN((2-E916)/(E916*3^0.5))/(E916*3^0.5)-LN((W916^2-E916*W916+E916^2)/(W916+E916)^2)/(6*E916)-ATAN((2*W916-E916)/(E916*3^0.5))/(E916*3^0.5)))","v":3.9715403169798402},{"$f":"IF($C$2=1,($O$31*D916*$F$6/$O$30)*(1-W916^3-(E916-F916)*(-2*F916^3*(1-W916^3)-3*F916^2*(1-W916^2)-6*F916*(1-W916)-6*LN((1-F916)/(1-F916*W916)))/(2*F916^4))/3,$F$6*F916*(LN((1+E916^3)/(E916^3+W916^3)))/3)","v":2.584188132605246},{"$f":"H916/G916","v":0.65067654520762697},{"$f":"G916*C916*$D$6","v":0.17608495785558179},{"$f":"MAX(MIN($K$6,$Q$6*$J$6*D916*(C916-$I$6)/C916),-$K$6)","v":30.453565718108756},{"$f":"K916*$H$6","v":1.021019036637784E-2},{"$f":"MIN($O$6,$Q$6*$N$6*D916*(C$6-C916-$M$6)/C916)","v":458.33333333333337},{"$f":"M916*$L$6","v":0.15366576866258877},{"$f":"(0.5*$C$6-C916+I916*C916)*J916+(0.5*$C$6-$I$6)*L916+(0.5*$C$6-$M$6)*N916","v":1.6214853650533177E-2},{"$f":"0.1*$Q$6*D916*$B$6^2/C916+$R$6","v":3.1600367560991036E-2},{"$f":"(J916+L916-N916)","v":3.2629379559370869E-2},{"$f":"O916-P916*Q916","v":1.518375326316997E-2},{"$f":"((R916-R915)*(Q916-Q917)-(R916-R917)*(Q916-Q915))/((Q916^2-Q915^2)*(Q916-Q917)-(Q916^2-Q917^2)*(Q916-Q915))","v":-6.4831158545317541E-2},{"$f":"-(S916*(Q916^2-Q915^2)-(R916-R915))/(Q916-Q915)","v":2.0293855252393835E-2},{"$f":"R916-S916*Q916^2-T916*Q916","v":1.4590601562580692E-2},{"$f":"S896*Q916^2+T896*Q916+U896","v":1.5183753263169968E-2},{"$f":"IF(C916<$C$6,0,(C916-$C$6)/C916)","v":0}]
[null,{"$f":"IF(R897>$Q$29*V897,B897,IF(Q897>Q896,$U$6,-0.5)*B897)","v":-9.0223179613231633E-48},{"$f":"IF(Q897>Q896,C897,(1-$T$6)*C897+$T$6*C898)","v":4.686581864712229E-2},{"$f":"D897+B917","v":4.7696328395726634E-4},7.8400980803794859E-2,-0.26520166581288029,4.3331467008444271,2.8121337206210515,0.6489818865521062,0.20307646745315119,50.786992561801682,1.702739400015367E-2,458.33333333333337,0.15366576866258877,1.7864235302051154E-2,{"$f":"0.1*$Q$6*D917*$B$6^2/C917+$R$6","v":3.3286848702870631E-2},6.643809279071608E-2,1.5652720559219308E-2,-4.9756811336570519E-2,1.8800477777095675E-2,1.4623280241171833E-2,{"$f":"MAX(S897*Q917^2+T897*Q917+U897,S898*Q917^2+T898*Q917+U898)","v":1.5652720559219308E-2},0]
[null,-1.9755967437380864E-43,4.9178183027429483E-2,5.1138343885028133E-4,8.4058803939868143E-2,-0.28433999935383852,4.5801454005629569,2.9669884019048882,0.6477934961497529,0.22524322880112441,69.368502837898973,2.3257231220855375E-2,458.33333333333337,0.15366576866258877,1.9184137140418247E-2,3.4010899743189257E-2,9.4834691359391016E-2,1.5958723960417701E-2,-8.5674673728802192E-2,2.4593051445811309E-2,1.4396974863466982E-2,{"$f":"MAX(S898*Q918^2+T898*Q918+U898,S899*Q918^2+T899*Q918+U899)","v":1.5958723960417701E-2},0]
[null,-2.9337929157055308E-44,5.255221950735349E-2,6.1697554712529133E-4,0.10141553795347201,-0.34305144309200192,5.2936203280021852,3.4101729099852851,0.64420428717680367,0.27819149746575944,107.10970946941983,3.5910754553116271E-2,458.33333333333337,0.15366576866258877,2.2297956507532225E-2,3.8399080921905651E-2,0.16043648335628694,1.6137343000308193E-2,-4.3786215799777366E-2,1.3900135583240885E-2,1.5034305421099795E-2,1.6137343000308193E-2,0]
[null,-3.0453047689280803E-42,5.6242100708700393E-2,7.0133254331032385E-4,0.11528174413960915,-0.3899557157346018,5.818963683896814,3.7322400709586354,0.64139256982941817,0.32727074152999486,147.20958346173595,4.9355070102866543E-2,458.33333333333337,0.15366576866258877,2.5050365319008332E-2,4.0785557081477845E-2,0.22296004297027264,1.5956815759555522E-2,-8.8301719915336637E-3,4.9810981304120928E-4,1.628471545026049E-2,1.5956815759555522E-2,0]
[null,4.698605860408998E-31,6.0285666570009291E-2,7.6065650728683013E-4,0.12503313825602461,-0.4229410934321487,6.1664416627869469,3.9430807490839279,0.63944183123948306,0.37174804600618755,186.03524372539073,6.2372179037223724E-2,455.91886785554243,0.15285626896756177,2.7333601616734718E-2,4.1268478601631416E-2,0.28126395607584953,1.5726266064008322E-2,-8.4175554931313873E-2,3.8489060108598663E-2,1.1559759490730726E-2,1.5726266064008322E-2,0]
[null,3.9873607399552824E-41,6.4726330142402158E-2,8.7819863250649852E-4,0.14435415983765673,-0.48829699913795377,6.8053796971009088,4.3257344635079829,0.6356345503177061,0.44048725301895425,243.83882845213955,8.175203128119958E-2,446.466521890948,0.1496871736766946,3.0748447865050644E-2,4.4376772522055637E-2,0.37255211062345928,1.4215787599301685E-2,-2.0365940494635679E-2,-3.2306910199897078E-3,1.824608059861706E-2,1.4215787599301689E-2,0]
[null,-3.3798403285957326E-44,6.9614059201644651E-2,7.8513563758028236E-4,0.12905690253470753,-0.43655200720650061,6.3048000198873266,4.0265153460803367,0.63864283298113156,0.43890272183896673,242.75998367563778,8.1390326164438642E-2,331.06202233800951,0.11099541848195205,2.8610370568531229E-2,3.6888557529448765E-2,0.40929762952145332,1.3511971415262091E-2,0.1325320042461188,-0.12277390938423988,4.1560677183424814E-2,1.3511971415262093E-2,0]
[null,3.4913521818182855E-47,7.5006560532026839E-2,7.0629923370310133E-4,0.11609814534121071,-0.39271730055684023,5.8487319536551112,3.7503732737751196,0.64122844122329081,0.43869326731743169,239.59091908357632,8.0327831444844774E-2,239.50111626524173,8.0297723184973982E-2,2.6718556843813031E-2,3.0798773700995447E-2,0.43872337557730245,1.320641488207086E-2,7.9233632511168717E-2,-7.7575770615440409E-2,3.1989971842253738E-2,1.320641488207086E-2,0]
[null,-2.522004824528586E-45,8.0970715199564836E-2,6.2273731719713515E-4,0.10236263061236728,-0.34625510901866613,5.330720041025705,3.4330409651640004,0.64401074127753954,0.43163221425050491,229.02447078312059,7.6785210208212704E-2,162.27240740729769,5.44051946552098E-2,2.4522409045620624E-2,2.5154799312241176E-2,0.45401222980350781,1.3101822519610264E-2,3.0387102457549484E-2,-3.3968734037270736E-2,2.226043775029931E-2,1.3101822519610265E-2,0]
[null,-3.1720770085769291E-43,8.758432627758074E-2,5.8481020354910558E-4,9.6128350094186091E-2,-0.32516683229539312,5.0831078128240179,3.2800736109728525,0.64528901053360599,0.44520057318249862,230.93188448778943,7.7424710265853777E-2,108.78569015740366,3.6472661885514873E-2,2.3545350031374628E-2,2.18389869414767E-2,0.48615262156283745,1.2928269277499157E-2,1.1367883014099299E-2,-1.6087532416115498E-2,1.8062530170358901E-2,1.2928269277499158E-2,0]
[null,3.2673081312289871E-42,9.4938257676883894E-2,5.6969411472841528E-4,9.3643638525558126E-2,-0.31676196745430468,4.982150779696128,3.2174795460597188,0.64580131921578654,0.472996714507879,239.61101827654974,8.0334570116708984E-2,65.691188029419052,2.2024335060871258E-2,2.3151852089894072E-2,1.9626570405383712E-2,0.53130694956371682,1.272411883741213E-2,-5.2931419070895514E-3,8.6438685472614476E-4,1.3759049639069126E-2,1.272411883741213E-2,0]
[null,3.3625392538810485E-42,0.10313906536129758,5.8629879599349385E-4,9.6373037917300813E-2,-0.32599452115373218,5.0929790145763327,3.2861868979215032,0.64523864883721094,0.52528509546810531,260.87074990002941,8.7462336665397739E-2,28.347222974740028,9.5039952171561207E-3,2.3570151255648378E-2,1.8592583970520899E-2,0.60324343691634685,1.2354297000115573E-2,-1.8027180767272961E-2,1.5311795564999384E-2,9.6776955664940479E-3,1.2354297000115574E-2,0]
[null,3.457770376533106E-42,0.11231225223019801,6.0290347725857241E-4,9.9102437309043501E-2,-0.33522707485315972,5.2022372721371628,3.3537676665211134,0.64467795125064176,0.58427498466960626,282.13954885926086,9.4593143226707629E-2,-9.0216772532560192,-3.0247046612670078E-3,2.370884595716187E-2,1.7557577460386026E-2,0.68189283255758093,1.1736459729850105E-2,-1.8067845142774541E-2,1.5364054828831974E-2,9.6609683823380213E-3,1.1736459729850105E-2,0]
[null,-3.553001499185163E-43,0.12260631802291558,6.5503817351550279E-4,0.1076720934187106,-0.36421506776379481,5.5353501863505192,3.5588419305724188,0.64292986184470813,0.67866890531589674,320.77347697106751,0.10754596997526611,-48.952338765321734,-1.6412288212810048E-2,2.4378363485346045E-2,1.7474216027512229E-2,0.8026271635039729,1.0353083040728243E-2,-1.994325612182777E-2,1.8148139928069868E-2,8.6345452448879055E-3,1.0353083040728244E-2,0]
[null,2.9903546080632965E-46,0.13419782954979564,7.6828651346512759E-4,0.1262873227772196,-0.42718353811648285,6.209875691398449,3.9693055113048223,0.63919242647688879,0.83335183955970848,391.96748376935693,0.13141523931089238,-100.68981850902709,-3.3758352780406259E-2,2.5568821888316572E-2,1.8724992766735494E-2,0.99852543165100716,6.8714404032500266E-3,-2.0162981552624935E-2,1.8543898957971733E-2,8.4584476969514731E-3,6.8714404032500266E-3,0]
[null,6.524322526109891E-41,0.14729780979304705,8.5562967400664661E-4,0.1406443806122456,-0.47574818124957569,6.6875786328014373,4.2557076587226392,0.63636001793670371,0.98506568543043171,453.0142180061074,0.15188242478179645,-157.47234887018769,-5.2795875343070682E-2,2.4584514986992882E-2,1.8999120158737701E-2,1.1897439855552987,1.9804260472922677E-3,-2.0250404605281321E-2,1.8735204150458519E-2,8.3545900172585438E-3,{"$f":"S912*Q932^2+T912*Q932+U912","v":1.9804260472922677E-3},0]
[null,0,{"$f":"C913","v":0.16215984472146291},{"$f":"D913+(D932-D912)","v":8.7717473586713273E-4},0.14418585652486929,-0.48772769096788438,6.746369160550632,4.3199169276239173,0.64033212900423764,1.0939901755085566,458.33333333333337,0.15366576866258877,-205.07395718350207,-6.8755303119887257E-2,2.1215589851194112E-2,1.7692399435883077E-2,1.3164112472910328,-2.0748837577678932E-3,null,null,null,null,7.4986780743096546E-2]
[null,"De","hc","e0","a'","b'","N'","tN'","t","Nc","sac","Nac","sat","Nat","Mtot","u","N","Mo","a''","b''","c''",null,"x"]
[null,null,{"$f":"$C$35","v":4.1544915655417694E-2},{"$f":"$D$35","v":3.8256566053946229E-4},{"$f":"$E$35","v":6.28843435479884E-2},{"$f":"$F$35","v":-0.21271459223465167},{"$f":"IF($C$2=1,0.5*($O$31*D935*$F$6/$O$30)*(1-W935^2+(E935-F935)*(F935^2*(1-W935^2)+2*F935*(1-W935)+2*LN((1-F935)/(1-F935*W935)))/(F935^3)),$F$6*F935*(LN((1-E935+E935^2)/(1+E935)^2)/(6*E935)+ATAN((2-E935)/(E935*3^0.5))/(E935*3^0.5)-LN((W935^2-E935*W935+E935^2)/(W935+E935)^2)/(6*E935)-ATAN((2*W935-E935)/(E935*3^0.5))/(E935*3^0.5)))","v":3.6164179713546631},{"$f":"IF($C$2=1,($O$31*D935*$F$6/$O$30)*(1-W935^3-(E935-F935)*(-2*F935^3*(1-W935^3)-3*F935^2*(1-W935^2)-6*F935*(1-W935)-6*LN((1-F935)/(1-F935*W935)))/(2*F935^4))/3,$F$6*F935*(LN((1+E935^3)/(E935^3+W935^3)))/3)","v":2.3589615237756383},{"$f":"$I$35","v":0.65229227994683425},{"$f":"$J$35","v":0.15024377959466625},{"$f":"$K$35","v":10.340089653207192},{"$f":"$L$35","v":3.4667297991276304E-3},{"$f":"$M$35","v":458.16851350986366},{"$f":"$N$35","v":0.15361050939379392},{"$f":"$O$35","v":1.4595642140814678E-2},{"$f":"$P$35","v":3.011841020334027E-2},{"$f":"$Q$35","v":9.9999999999961231E-5},{"$f":"$R$35","v":1.4592630299794346E-2},null,null,null,null,{"$f":"IF(C935<$C$6,0,(C935-$C$6)/C935)","v":0}]
[null,{"$f":"IF(R916>$Q$29*V916,B916,IF(Q916>Q915,$U$6,-0.5)*B916)","v":4.071493384272856E-49},{"$f":"IF(Q916>Q915,C916,(1-$T$6)*C916+$T$6*C917)","v":4.4336691510533544E-2},{"$f":"D916+B936","v":4.2836253051247033E-4},{"$f":"IF($C$2=1,D936/($O$31*$O$30),2^(1/3)*$O$30/D936)","v":7.0412217588601944E-2},{"$f":"IF($C$2=1,-($O$31-2)*D936/$O$30,3*($O$30/D936)^2)","v":-0.23817861979058777},{"$f":"IF($C$2=1,0.5*($O$31*D936*$F$6/$O$30)*(1-W936^2+(E936-F936)*(F936^2*(1-W936^2)+2*F936*(1-W936)+2*LN((1-F936)/(1-F936*W936)))/(F936^3)),$F$6*F936*(LN((1-E936+E936^2)/(1+E936)^2)/(6*E936)+ATAN((2-E936)/(E936*3^0.5))/(E936*3^0.5)-LN((W936^2-E936*W936+E936^2)/(W936+E936)^2)/(6*E936)-ATAN((2*W936-E936)/(E936*3^0.5))/(E936*3^0.5)))","v":3.9715403169798402},{"$f":"IF($C$2=1,($O$31*D936*$F$6/$O$30)*(1-W936^3-(E936-F936)*(-2*F936^3*(1-W936^3)-3*F936^2*(1-W936^2)-6*F936*(1-W936)-6*LN((1-F936)/(1-F936*W936)))/(2*F936^4))/3,$F$6*F936*(LN((1+E936^3)/(E936^3+W936^3)))/3)","v":2.584188132605246},{"$f":"H936/G936","v":0.65067654520762697},{"$f":"G936*C936*$D$6","v":0.17608495785558179},{"$f":"MAX(MIN($K$6,$Q$6*$J$6*D936*(C936-$I$6)/C936),-$K$6)","v":30.453565718108756},{"$f":"K936*$H$6","v":1.021019036637784E-2},{"$f":"MIN($O$6,$Q$6*$N$6*D936*(C$6-C936-$M$6)/C936)","v":458.33333333333337},{"$f":"M936*$L$6","v":0.15366576866258877},{"$f":"(0.5*$C$6-C936+I936*C936)*J936+(0.5*$C$6-$I$6)*L936+(0.5*$C$6-$M$6)*N936","v":1.6214853650533177E-2},{"$f":"0.1*$Q$6*D936*$B$6^2/C936+$R$6","v":3.1600367560991036E-2},{"$f":"(J936+L936-N936)","v":3.2629379559370869E-2},{"$f":"O936-P936*Q936","v":1.518375326316997E-2},{"$f":"((R936-R935)*(Q936-Q937)-(R936-R937)*(Q936-Q935))/((Q936^2-Q935^2)*(Q936-Q937)-(Q936^2-Q937^2)*(Q936-Q935))","v":-6.4831158545317541E-2},{"$f":"-(S936*(Q936^2-Q935^2)-(R936-R935))/(Q936-Q935)","v":2.0293855252393835E-2},{"$f":"R936-S936*Q936^2-T936*Q936","v":1.4590601562580692E-2},{"$f":"S916*Q936^2+T916*Q936+U916","v":1.5183753263169968E-2},{"$f":"IF(C936<$C$6,0,(C936-$C$6)/C936)","v":0}]
[null,{"$f":"IF(R917>$Q$29*V917,B917,IF(Q917>Q916,$U$6,-0.5)*B917)","v":9.0223179613231645E-49},{"$f":"IF(Q917>Q916,C917,(1-$T$6)*C917+$T$6*C918)","v":4.686581864712229E-2},{"$f":"D917+B937","v":4.7696328395726634E-4},7.8400980803794859E-2,-0.26520166581288029,4.3331467008444271,2.8121337206210515,0.6489818865521062,0.20307646745315119,50.786992561801682,1.702739400015367E-2,458.33333333333337,0.15366576866258877,1.7864235302051154E-2,{"$f":"0.1*$Q$6*D937*$B$6^2/C937+$R$6","v":3.3286848702870631E-2},6.643809279071608E-2,1.5652720559219308E-2,-4.9756811336570519E-2,1.8800477777095675E-2,1.4623280241171833E-2,{"$f":"MAX(S917*Q937^2+T917*Q937+U917,S918*Q937^2+T918*Q937+U918)","v":1.5652720559219308E-2},0]
[null,1.9755967437380866E-44,4.9178183027429483E-2,5.1138343885028133E-4,8.4058803939868143E-2,-0.28433999935383852,4.5801454005629569,2.9669884019048882,0.6477934961497529,0.22524322880112441,69.368502837898973,2.3257231220855375E-2,458.33333333333337,0.15366576866258877,1.9184137140418247E-2,3.4010899743189257E-2,9.4834691359391016E-2,1.5958723960417701E-2,-8.5674673728802192E-2,2.4593051445811309E-2,1.4396974863466982E-2,{"$f":"MAX(S918*Q938^2+T918*Q938+U918,S919*Q938^2+T919*Q938+U919)","v":1.5958723960417701E-2},0]
[null,2.9337929157055312E-45,5.255221950735349E-2,6.1697554712529133E-4,0.10141553795347201,-0.34305144309200192,5.2936203280021852,3.4101729099852851,0.64420428717680367,0.27819149746575944,107.10970946941983,3.5910754553116271E-2,458.33333333333337,0.15366576866258877,2.2297956507532225E-2,3.8399080921905651E-2,0.16043648335628694,1.6137343000308193E-2,-4.3786215799777366E-2,1.3900135583240885E-2,1.5034305421099795E-2,1.6137343000308193E-2,0]
[null,3.0453047689280807E-43,5.6242100708700393E-2,7.0133254331032385E-4,0.11528174413960915,-0.3899557157346018,5.818963683896814,3.7322400709586354,0.64139256982941817,0.32727074152999486,147.20958346173595,4.9355070102866543E-2,458.33333333333337,0.15366576866258877,2.5050365319008332E-2,4.0785557081477845E-2,0.22296004297027264,1.5956815759555522E-2,-8.8301719915336637E-3,4.9810981304120928E-4,1.628471545026049E-2,1.5956815759555522E-2,0]
[null,-4.698605860408998E-32,6.0285666570009291E-2,7.6065650728683013E-4,0.12503313825602461,-0.4229410934321487,6.1664416627869469,3.9430807490839279,0.63944183123948306,0.37174804600618755,186.03524372539073,6.2372179037223724E-2,455.91886785554243,0.15285626896756177,2.7333601616734718E-2,4.1268478601631416E-2,0.28126395607584953,1.5726266064008322E-2,-8.4175554931313873E-2,3.8489060108598663E-2,1.1559759490730726E-2,1.5726266064008322E-2,0]
[null,-3.9873607399552826E-42,6.4726330142402158E-2,8.7819863250649852E-4,0.14435415983765673,-0.48829699913795377,6.8053796971009088,4.3257344635079829,0.6356345503177061,0.44048725301895425,243.83882845213955,8.175203128119958E-2,446.466521890948,0.1496871736766946,3.0748447865050644E-2,4.4376772522055637E-2,0.37255211062345928,1.4215787599301685E-2,-2.0365940494635679E-2,-3.2306910199897078E-3,1.824608059861706E-2,1.4215787599301689E-2,0]
[null,3.3798403285957329E-45,6.9614059201644651E-2,7.8513563758028236E-4,0.12905690253470753,-0.43655200720650061,6.3048000198873266,4.0265153460803367,0.63864283298113156,0.43890272183896673,242.75998367563778,8.1390326164438642E-2,331.06202233800951,0.11099541848195205,2.8610370568531229E-2,3.6888557529448765E-2,0.40929762952145332,1.3511971415262091E-2,0.1325320042461188,-0.12277390938423988,4.1560677183424814E-2,1.3511971415262093E-2,0]
[null,-3.4913521818182857E-48,7.5006560532026839E-2,7.0629923370310133E-4,0.11609814534121071,-0.39271730055684023,5.8487319536551112,3.7503732737751196,0.64122844122329081,0.43869326731743169,239.59091908357632,8.0327831444844774E-2,239.50111626524173,8.0297723184973982E-2,2.6718556843813031E-2,3.0798773700995447E-2,0.43872337557730245,1.320641488207086E-2,7.9233632511168717E-2,-7.7575770615440409E-2,3.1989971842253738E-2,1.320641488207086E-2,0]
[null,2.5220048245285863E-46,8.0970715199564836E-2,6.2273731719713515E-4,0.10236263061236728,-0.34625510901866613,5.330720041025705,3.4330409651640004,0.64401074127753954,0.43163221425050491,229.02447078312059,7.6785210208212704E-2,162.27240740729769,5.44051946552098E-2,2.4522409045620624E-2,2.5154799312241176E-2,0.45401222980350781,1.3101822519610264E-2,3.0387102457549484E-2,-3.3968734037270736E-2,2.226043775029931E-2,1.3101822519610265E-2,0]
[null,3.1720770085769294E-44,8.758432627758074E-2,5.8481020354910558E-4,9.6128350094186091E-2,-0.32516683229539312,5.0831078128240179,3.2800736109728525,0.64528901053360599,0.44520057318249862,230.93188448778943,7.7424710265853777E-2,108.78569015740366,3.6472661885514873E-2,2.3545350031374628E-2,2.18389869414767E-2,0.48615262156283745,1.2928269277499157E-2,1.1367883014099299E-2,-1.6087532416115498E-2,1.8062530170358901E-2,1.2928269277499158E-2,0]
[null,-3.2673081312289874E-43,9.4938257676883894E-2,5.6969411472841528E-4,9.3643638525558126E-2,-0.31676196745430468,4.982150779696128,3.2174795460597188,0.64580131921578654,0.472996714507879,239.61101827654974,8.0334570116708984E-2,65.691188029419052,2.2024335060871258E-2,2.3151852089894072E-2,1.9626570405383712E-2,0.53130694956371682,1.272411883741213E-2,-5.2931419070895514E-3,8.6438685472614476E-4,1.3759049639069126E-2,1.272411883741213E-2,0]
[null,-3.3625392538810486E-43,0.10313906536129758,5.8629879599349385E-4,9.6373037917300813E-2,-0.32599452115373218,5.0929790145763327,3.2861868979215032,0.64523864883721094,0.52528509546810531,260.87074990002941,8.7462336665397739E-2,28.347222974740028,9.5039952171561207E-3,2.3570151255648378E-2,1.8592583970520899E-2,0.60324343691634685,1.2354297000115573E-2,-1.8027180767272961E-2,1.5311795564999384E-2,9.6776955664940479E-3,1.2354297000115574E-2,0]
[null,-3.4577703765331062E-43,0.11231225223019801,6.0290347725857241E-4,9.9102437309043501E-2,-0.33522707485315972,5.2022372721371628,3.3537676665211134,0.64467795125064176,0.58427498466960626,282.13954885926086,9.4593143226707629E-2,-9.0216772532560192,-3.0247046612670078E-3,2.370884595716187E-2,1.7557577460386026E-2,0.68189283255758093,1.1736459729850105E-2,-1.8067845142774541E-2,1.5364054828831974E-2,9.6609683823380213E-3,1.1736459729850105E-2,0]
[null,3.5530014991851631E-44,0.12260631802291558,6.5503817351550279E-4,0.1076720934187106,-0.36421506776379481,5.5353501863505192,3.5588419305724188,0.64292986184470813,0.67866890531589674,320.77347697106751,0.10754596997526611,-48.952338765321734,-1.6412288212810048E-2,2.4378363485346045E-2,1.7474216027512229E-2,0.8026271635039729,1.0353083040728243E-2,-1.994325612182777E-2,1.8148139928069868E-2,8.6345452448879055E-3,1.0353083040728244E-2,0]
[null,-2.9903546080632969E-47,0.13419782954979564,7.6828651346512759E-4,0.1262873227772196,-0.42718353811648285,6.209875691398449,3.9693055113048223,0.63919242647688879,0.83335183955970848,391.96748376935693,0.13141523931089238,-100.68981850902709,-3.3758352780406259E-2,2.5568821888316572E-2,1.8724992766735494E-2,0.99852543165100716,6.8714404032500266E-3,-2.0162981552624935E-2,1.8543898957971733E-2,8.4584476969514731E-3,6.8714404032500266E-3,0]
[null,-6.5243225261098907E-42,0.14729780979304705,8.5562967400664661E-4,0.1406443806122456,-0.47574818124957569,6.6875786328014373,4.2557076587226392,0.63636001793670371,0.98506568543043171,453.0142180061074,0.15188242478179645,-157.47234887018769,-5.2795875343070682E-2,2.4584514986992882E-2,1.8999120158737701E-2,1.1897439855552987,1.9804260472922677E-3,-2.0250404605281321E-2,1.8735204150458519E-2,8.3545900172585438E-3,{"$f":"S932*Q952^2+T932*Q952+U932","v":1.9804260472922677E-3},0]
[null,0,{"$f":"C933","v":0.16215984472146291},{"$f":"D933+(D952-D932)","v":8.7717473586713273E-4},0.14418585652486929,-0.48772769096788438,6.746369160550632,4.3199169276239173,0.64033212900423764,1.0939901755085566,458.33333333333337,0.15366576866258877,-205.07395718350207,-6.8755303119887257E-2,2.1215589851194112E-2,1.7692399435883077E-2,1.3164112472910328,-2.0748837577678932E-3,null,null,null,null,7.4986780743096546E-2]
[null,"De","hc","e0","a'","b'","N'","tN'","t","Nc","sac","Nac","sat","Nat","Mtot","u","N","Mo","a''","b''","c''",null,"x"]
[null,null,{"$f":"$C$35","v":4.1544915655417694E-2},{"$f":"$D$35","v":3.8256566053946229E-4},{"$f":"$E$35","v":6.28843435479884E-2},{"$f":"$F$35","v":-0.21271459223465167},{"$f":"IF($C$2=1,0.5*($O$31*D955*$F$6/$O$30)*(1-W955^2+(E955-F955)*(F955^2*(1-W955^2)+2*F955*(1-W955)+2*LN((1-F955)/(1-F955*W955)))/(F955^3)),$F$6*F955*(LN((1-E955+E955^2)/(1+E955)^2)/(6*E955)+ATAN((2-E955)/(E955*3^0.5))/(E955*3^0.5)-LN((W955^2-E955*W955+E955^2)/(W955+E955)^2)/(6*E955)-ATAN((2*W955-E955)/(E955*3^0.5))/(E955*3^0.5)))","v":3.6164179713546631},{"$f":"IF($C$2=1,($O$31*D955*$F$6/$O$30)*(1-W955^3-(E955-F955)*(-2*F955^3*(1-W955^3)-3*F955^2*(1-W955^2)-6*F955*(1-W955)-6*LN((1-F955)/(1-F955*W955)))/(2*F955^4))/3,$F$6*F955*(LN((1+E955^3)/(E955^3+W955^3)))/3)","v":2.3589615237756383},{"$f":"$I$35","v":0.65229227994683425},{"$f":"$J$35","v":0.15024377959466625},{"$f":"$K$35","v":10.340089653207192},{"$f":"$L$35","v":3.4667297991276304E-3},{"$f":"$M$35","v":458.16851350986366},{"$f":"$N$35","v":0.15361050939379392},{"$f":"$O$35","v":1.4595642140814678E-2},{"$f":"$P$35","v":3.011841020334027E-2},{"$f":"$Q$35","v":9.9999999999961231E-5},{"$f":"$R$35","v":1.4592630299794346E-2},null,null,null,null,{"$f":"IF(C955<$C$6,0,(C955-$C$6)/C955)","v":0}]
[null,0,{"$f":"C936","v":4.4336691510533544E-2},{"$f":"IF(R936>$Q$29*V936,D936+B956,D936-0.5*B936)","v":4.2836253051247033E-4},{"$f":"IF($C$2=1,D956/($O$31*$O$30),2^(1/3)*$O$30/D956)","v":7.0412217588601944E-2},{"$f":"IF($C$2=1,-($O$31-2)*D956/$O$30,3*($O$30/D956)^2)","v":-0.23817861979058777},{"$f":"IF($C$2=1,0.5*($O$31*D956*$F$6/$O$30)*(1-W956^2+(E956-F956)*(F956^2*(1-W956^2)+2*F956*(1-W956)+2*LN((1-F956)/(1-F956*W956)))/(F956^3)),$F$6*F956*(LN((1-E956+E956^2)/(1+E956)^2)/(6*E956)+ATAN((2-E956)/(E956*3^0.5))/(E956*3^0.5)-LN((W956^2-E956*W956+E956^2)/(W956+E956)^2)/(6*E956)-ATAN((2*W956-E956)/(E956*3^0.5))/(E956*3^0.5)))","v":3.9715403169798402},{"$f":"IF($C$2=1,($O$31*D956*$F$6/$O$30)*(1-W956^3-(E956-F956)*(-2*F956^3*(1-W956^3)-3*F956^2*(1-W956^2)-6*F956*(1-W956)-6*LN((1-F956)/(1-F956*W956)))/(2*F956^4))/3,$F$6*F956*(LN((1+E956^3)/(E956^3+W956^3)))/3)","v":2.584188132605246},{"$f":"H956/G956","v":0.65067654520762697},{"$f":"G956*C956*$D$6","v":0.17608495785558179},{"$f":"MAX(MIN($K$6,$Q$6*$J$6*D956*(C956-$I$6)/C956),-$K$6)","v":30.453565718108756},{"$f":"K956*$H$6","v":1.021019036637784E-2},{"$f":"MIN($O$6,$Q$6*$N$6*D956*(C$6-C956-$M$6)/C956)","v":458.33333333333337},{"$f":"M956*$L$6","v":0.15366576866258877},{"$f":"(0.5*$C$6-C956+I956*C956)*J956+(0.5*$C$6-$I$6)*L956+(0.5*$C$6-$M$6)*N956","v":1.6214853650533177E-2},{"$f":"0.1*$Q$6*D956*$B$6^2/C956+$R$6","v":3.1600367560991036E-2},{"$f":"(J956+L956-N956)","v":3.2629379559370869E-2},{"$f":"O956-P956*Q956","v":1.518375326316997E-2},{"$f":"((R956-R955)*(Q956-Q957)-(R956-R957)*(Q956-Q955))/((Q956^2-Q955^2)*(Q956-Q957)-(Q956^2-Q957^2)*(Q956-Q955))","v":-6.4831158545317541E-2},{"$f":"-(S956*(Q956^2-Q955^2)-(R956-R955))/(Q956-Q955)","v":2.0293855252393835E-2},{"$f":"R956-S956*Q956^2-T956*Q956","v":1.4590601562580692E-2},{"$f":"S936*Q956^2+T936*Q956+U936","v":1.5183753263169968E-2},{"$f":"IF(C956<$C$6,0,(C956-$C$6)/C956)","v":0}]
[null,0,4.686581864712229E-2,{"$f":"IF(R937>$Q$29*V937,D937+B957,D937-0.5*B937)","v":4.7696328395726634E-4},7.8400980803794859E-2,-0.26520166581288029,4.3331467008444271,2.8121337206210515,0.6489818865521062,0.20307646745315119,50.786992561801682,1.702739400015367E-2,458.33333333333337,0.15366576866258877,1.7864235302051154E-2,{"$f":"0.1*$Q$6*D957*$B$6^2/C957+$R$6","v":3.3286848702870631E-2},6.643809279071608E-2,1.5652720559219308E-2,-4.9756811336570519E-2,1.8800477777095675E-2,1.4623280241171833E-2,{"$f":"MAX(S937*Q957^2+T937*Q957+U937,S938*Q957^2+T938*Q957+U938)","v":1.5652720559219308E-2},0]
[null,0,4.9178183027429483E-2,5.1138343885028133E-4,8.4058803939868143E-2,-0.28433999935383852,4.5801454005629569,2.9669884019048882,0.6477934961497529,0.22524322880112441,69.368502837898973,2.3257231220855375E-2,458.33333333333337,0.15366576866258877,1.9184137140418247E-2,3.4010899743189257E-2,9.4834691359391016E-2,1.5958723960417701E-2,-8.5674673728802192E-2,2.4593051445811309E-2,1.4396974863466982E-2,{"$f":"MAX(S938*Q958^2+T938*Q958+U938,S939*Q958^2+T939*Q958+U939)","v":1.5958723960417701E-2},0]
[null,0,5.255221950735349E-2,6.1697554712529133E-4,0.10141553795347201,-0.34305144309200192,5.2936203280021852,3.4101729099852851,0.64420428717680367,0.27819149746575944,107.10970946941983,3.5910754553116271E-2,458.33333333333337,0.15366576866258877,2.2297956507532225E-2,3.8399080921905651E-2,0.16043648335628694,1.6137343000308193E-2,-4.3786215799777366E-2,1.3900135583240885E-2,1.5034305421099795E-2,1.6137343000308193E-2,0]
[null,0,5.6242100708700393E-2,7.0133254331032385E-4,0.11528174413960915,-0.3899557157346018,5.818963683896814,3.7322400709586354,0.64139256982941817,0.32727074152999486,147.20958346173595,4.9355070102866543E-2,458.33333333333337,0.15366576866258877,2.5050365319008332E-2,4.0785557081477845E-2,0.22296004297027264,1.5956815759555522E-2,-8.8301719915336637E-3,4.9810981304120928E-4,1.628471545026049E-2,1.5956815759555522E-2,0]
[null,0,6.0285666570009291E-2,7.6065650728683013E-4,0.12503313825602461,-0.4229410934321487,6.1664416627869469,3.9430807490839279,0.63944183123948306,0.37174804600618755,186.03524372539073,6.2372179037223724E-2,455.91886785554243,0.15285626896756177,2.7333601616734718E-2,4.1268478601631416E-2,0.28126395607584953,1.5726266064008322E-2,-8.4175554931313873E-2,3.8489060108598663E-2,1.1559759490730726E-2,1.5726266064008322E-2,0]
[null,0,6.4726330142402158E-2,8.7819863250649852E-4,0.14435415983765673,-0.48829699913795377,6.8053796971009088,4.3257344635079829,0.6356345503177061,0.44048725301895425,243.83882845213955,8.175203128119958E-2,446.466521890948,0.1496871736766946,3.0748447865050644E-2,4.4376772522055637E-2,0.37255211062345928,1.4215787599301685E-2,-2.0365940494635679E-2,-3.2306910199897078E-3,1.824608059861706E-2,1.4215787599301689E-2,0]
[null,0,6.9614059201644651E-2,7.8513563758028236E-4,0.12905690253470753,-0.43655200720650061,6.3048000198873266,4.0265153460803367,0.63864283298113156,0.43890272183896673,242.75998367563778,8.1390326164438642E-2,331.06202233800951,0.11099541848195205,2.8610370568531229E-2,3.6888557529448765E-2,0.40929762952145332,1.3511971415262091E-2,0.1325320042461188,-0.12277390938423988,4.1560677183424814E-2,1.3511971415262093E-2,0]
[null,0,7.5006560532026839E-2,7.0629923370310133E-4,0.11609814534121071,-0.39271730055684023,5.8487319536551112,3.7503732737751196,0.64122844122329081,0.43869326731743169,239.59091908357632,8.0327831444844774E-2,239.50111626524173,8.0297723184973982E-2,2.6718556843813031E-2,3.0798773700995447E-2,0.43872337557730245,1.320641488207086E-2,7.9233632511168717E-2,-7.7575770615440409E-2,3.1989971842253738E-2,1.320641488207086E-2,0]
[null,0,8.0970715199564836E-2,6.2273731719713515E-4,0.10236263061236728,-0.34625510901866613,5.330720041025705,3.4330409651640004,0.64401074127753954,0.43163221425050491,229.02447078312059,7.6785210208212704E-2,162.27240740729769,5.44051946552098E-2,2.4522409045620624E-2,2.5154799312241176E-2,0.45401222980350781,1.3101822519610264E-2,3.0387102457549484E-2,-3.3968734037270736E-2,2.226043775029931E-2,1.3101822519610265E-2,0]
[null,0,8.758432627758074E-2,5.8481020354910558E-4,9.6128350094186091E-2,-0.32516683229539312,5.0831078128240179,3.2800736109728525,0.64528901053360599,0.44520057318249862,230.93188448778943,7.7424710265853777E-2,108.78569015740366,3.6472661885514873E-2,2.3545350031374628E-2,2.18389869414767E-2,0.48615262156283745,1.2928269277499157E-2,1.1367883014099299E-2,-1.6087532416115498E-2,1.8062530170358901E-2,1.2928269277499158E-2,0]
[null,0,9.4938257676883894E-2,5.6969411472841528E-4,9.3643638525558126E-2,-0.31676196745430468,4.982150779696128,3.2174795460597188,0.64580131921578654,0.472996714507879,239.61101827654974,8.0334570116708984E-2,65.691188029419052,2.2024335060871258E-2,2.3151852089894072E-2,1.9626570405383712E-2,0.53130694956371682,1.272411883741213E-2,-5.2931419070895514E-3,8.6438685472614476E-4,1.3759049639069126E-2,1.272411883741213E-2,0]
[null,0,0.10313906536129758,5.8629879599349385E-4,9.6373037917300813E-2,-0.32599452115373218,5.0929790145763327,3.2861868979215032,0.64523864883721094,0.52528509546810531,260.87074990002941,8.7462336665397739E-2,28.347222974740028,9.5039952171561207E-3,2.3570151255648378E-2,1.8592583970520899E-2,0.60324343691634685,1.2354297000115573E-2,{"$f":"((R968-R967)*(Q968-Q969)-(R968-R969)*(Q968-Q967))/((Q968^2-Q967^2)*(Q968-Q969)-(Q968^2-Q969^2)*(Q968-Q967))","v":-1.8027180767272961E-2},1.5311795564999384E-2,9.6776955664940479E-3,1.2354297000115574E-2,0]
[null,0,0.11231225223019801,6.0290347725857241E-4,9.9102437309043501E-2,-0.33522707485315972,5.2022372721371628,3.3537676665211134,0.64467795125064176,0.58427498466960626,282.13954885926086,9.4593143226707629E-2,-9.0216772532560192,-3.0247046612670078E-3,2.370884595716187E-2,1.7557577460386026E-2,0.68189283255758093,1.1736459729850105E-2,-1.8067845142774541E-2,1.5364054828831974E-2,9.6609683823380213E-3,1.1736459729850105E-2,0]
[null,0,0.12260631802291558,6.5503817351550279E-4,0.1076720934187106,-0.36421506776379481,5.5353501863505192,3.5588419305724188,0.64292986184470813,0.67866890531589674,320.77347697106751,0.10754596997526611,-48.952338765321734,-1.6412288212810048E-2,2.4378363485346045E-2,1.7474216027512229E-2,0.8026271635039729,1.0353083040728243E-2,-1.994325612182777E-2,1.8148139928069868E-2,8.6345452448879055E-3,1.0353083040728244E-2,0]
[null,0,0.13419782954979564,7.6828651346512759E-4,0.1262873227772196,-0.42718353811648285,6.209875691398449,3.9693055113048223,0.63919242647688879,0.83335183955970848,391.96748376935693,0.13141523931089238,-100.68981850902709,-3.3758352780406259E-2,2.5568821888316572E-2,1.8724992766735494E-2,0.99852543165100716,6.8714404032500266E-3,-2.0162981552624935E-2,1.8543898957971733E-2,8.4584476969514731E-3,6.8714404032500266E-3,0]
[null,0,0.14729780979304705,8.5562967400664661E-4,0.1406443806122456,-0.47574818124957569,6.6875786328014373,4.2557076587226392,0.63636001793670371,0.98506568543043171,453.0142180061074,0.15188242478179645,-157.47234887018769,-5.2795875343070682E-2,2.4584514986992882E-2,1.8999120158737701E-2,1.1897439855552987,1.9804260472922677E-3,-2.0250404605281321E-2,1.8735204150458519E-2,8.3545900172585438E-3,{"$f":"S952*Q972^2+T952*Q972+U952","v":1.9804260472922677E-3},0]
[null,0,0.16215984472146291,{"$f":"D953+(D972-D952)","v":8.7717473586713273E-4},0.14418585652486929,-0.48772769096788438,6.746369160550632,4.3199169276239173,0.64033212900423764,1.0939901755085566,458.33333333333337,0.15366576866258877,-205.07395718350207,-6.8755303119887257E-2,2.1215589851194112E-2,1.7692399435883077E-2,1.3164112472910328,-2.0748837577678932E-3,null,null,null,null,7.4986780743096546E-2]

{"sheet":"Firsidig","index":3,"n_rows":107,"n_cols":33,"rows_kept":107,"cut":false,"hidden":false,"merged":[[37,17,37,23],[38,11,38,12],[38,13,38,14],[38,15,38,16],[38,18,38,19],[38,20,38,21],[38,22,38,23],[65,2,65,3],[65,4,65,5],[65,6,65,7],[92,6,92,7],[37,10,37,16]]}
[]
[null,null,null,{"$f":"IF(BRAND!P8=0,0,BRAND!AS155)","v":1},null,null,null,null,null,null,"Q",null,"y","Q-3",null,null,null,null,null,null,null,"Q-4"]
[null,null,null,null,null,null,null,null,null,null,null,"Punkt",null,null,1,2,3,"Midte",4,5,6]
[null,null,null,null,null,null,null,null,null,null,"x",null,null,null,{"$f":"$E$16/(4*$E$19)+(O3-1)*$E$16/(2*$E$19)","v":8.3333333333333329E-2},{"$f":"$E$16/(4*$E$19)+(P3-1)*$E$16/(2*$E$19)","v":0.25},{"$f":"$E$16/(4*$E$19)+(Q3-1)*$E$16/(2*$E$19)","v":0.41666666666666663},{"$f":"0.5*E16","v":0.5},{"$f":"$E$16/(4*$E$19)+(S3-1)*$E$16/(2*$E$19)","v":0.58333333333333337},{"$f":"$E$16/(4*$E$19)+(T3-1)*$E$16/(2*$E$19)","v":0.75},{"$f":"$E$16/(4*$E$19)+(U3-1)*$E$16/(2*$E$19)","v":0.91666666666666674}]
[null,null,null,null,null,null,null,null,null,null,"Q-1",null,null,null,{"$f":"MAX(312*LOG10(8*$E$17+1)*EXP(-1.9*O4*$E$18/SQRT($E$17))*SIN(PI()/2-O4*$E$18/SQRT($E$17)),0)*$B$6","v":0},{"$f":"MAX(312*LOG10(8*$E$17+1)*EXP(-1.9*P4*$E$18/SQRT($E$17))*SIN(PI()/2-P4*$E$18/SQRT($E$17)),0)*$B$6","v":0},{"$f":"MAX(312*LOG10(8*$E$17+1)*EXP(-1.9*Q4*$E$18/SQRT($E$17))*SIN(PI()/2-Q4*$E$18/SQRT($E$17)),0)*$B$6","v":0},0,0,0,0,{"$f":"MAX(312*LOG10(8*$E$17+1)*EXP(-1.9*($E$16)*$E$18/SQRT($E$17))*SIN(PI()/2-($E$16)*$E$18/SQRT($E$17)),0)","v":0}]
[null,0,null,null,null,0,null,null,null,null,null,1,{"$f":"$E$15/(4*$E$19)+(L6-1)*$E$15/(2*$E$19)","v":1.2499999999999999E-2},{"$f":"MAX(312*LOG10(8*$E$17+1)*EXP(-1.9*M6*$E$18/SQRT($E$17))*SIN(PI()/2-M6*$E$18/SQRT($E$17)),0)*$D$2","v":581.31446966729789},{"$f":"MAX(((O$5+O$13)*$E$20/($E$20+$V$5))*(1-($N6+$V6)/$E$20)+$N6+$V6,20)","v":581.31446966729789},581.31446966729789,581.31446966729789,581.31446966729789,581.31446966729789,581.31446966729789,581.31446966729789,{"$f":"MAX(312*LOG10(8*$E$17+1)*EXP(-1.9*($E$15-M6)*$E$18/SQRT($E$17))*SIN(PI()/2-($E$15-M6)*$E$18/SQRT($E$17)),0)*$D$11","v":0}]
[null,null,null,null,null,null,null,null,null,null,null,2,{"$f":"$E$15/(4*$E$19)+(L7-1)*$E$15/(2*$E$19)","v":3.7499999999999999E-2},{"$f":"MAX(312*LOG10(8*$E$17+1)*EXP(-1.9*M7*$E$18/SQRT($E$17))*SIN(PI()/2-M7*$E$18/SQRT($E$17)),0)*$D$2","v":251.7255808765762},251.7255808765762,251.7255808765762,251.7255808765762,251.7255808765762,251.7255808765762,251.7255808765762,251.7255808765762,{"$f":"MAX(312*LOG10(8*$E$17+1)*EXP(-1.9*($E$15-M7)*$E$18/SQRT($E$17))*SIN(PI()/2-($E$15-M7)*$E$18/SQRT($E$17)),0)*$D$11","v":0}]
[null,null,null,null,null,null,null,null,null,null,null,3,{"$f":"$E$15/(4*$E$19)+(L8-1)*$E$15/(2*$E$19)","v":6.2499999999999993E-2},89.84574257638296,89.84574257638296,89.84574257638296,89.84574257638296,89.84574257638296,89.84574257638296,89.84574257638296,89.84574257638296,0]
[null,null,null,null,null,null,null,null,null,null,null,"Midte",{"$f":"0.5*E15","v":7.4999999999999997E-2},47.423817868663399,47.423817868663399,47.423817868663399,47.423817868663399,47.423817868663399,47.423817868663399,47.423817868663399,47.423817868663399,0]
[null,null,null,null,null,null,null,null,null,null,null,4,{"$f":"$E$15/(4*$E$19)+(L10-1)*$E$15/(2*$E$19)","v":8.7499999999999994E-2},21.048174154060561,21.048174154060561,21.048174154060561,21.048174154060561,21.048174154060561,21.048174154060561,21.048174154060561,21.048174154060561,0]
[null,null,null,{"$f":"IF(BRAND!P8=0,0,BRAND!AS156)","v":0},null,null,null,{"$f":"VLOOKUP(600,Bet,5)","v":7},null,null,null,5,{"$f":"$E$15/(4*$E$19)+(L11-1)*$E$15/(2*$E$19)","v":0.11249999999999999},0,20,20,20,20,20,20,20,0]
[null,null,null,null,null,null,null,null,null,null,null,6,{"$f":"$E$15/(4*$E$19)+(L12-1)*$E$15/(2*$E$19)","v":0.13750000000000001},0,20,20,20,20,20,20,20,0]
[null,"Betontværsnit",null,null,null,null,null,null,null,null,"Q-2",null,{"$f":"E15-E27","v":0.15},null,{"$f":"MAX(312*LOG10(8*$E$17+1)*EXP(-1.9*($E$16-O4)*$E$18/SQRT($E$17))*SIN(PI()/2-($E$16-O4)*$E$18/SQRT($E$17)),0)*$F$6","v":0},{"$f":"MAX(312*LOG10(8*$E$17+1)*EXP(-1.9*($E$16-P4)*$E$18/SQRT($E$17))*SIN(PI()/2-($E$16-P4)*$E$18/SQRT($E$17)),0)*$F$6","v":0},0,0,0,0,0,{"$f":"MAX(312*LOG10(8*$E$17+1)*EXP(-1.9*($E$15-M13)*$E$18/SQRT($E$17))*SIN(PI()/2-($E$15-M13)*$E$18/SQRT($E$17)),0)*$D$11","v":0}]
[null,null,null,null,null,null,null,null,null,null,"z-1"]
[null,null,null,"h",{"$f":"BRAND!M18/1000","v":0.15},"m",null,null,null,null,null,"Punkt",null,null,1,2,3,"Midte",4,5,6]
[null,null,null,"b",1,"m"]
[null,"Brandtid",null,"t",{"$f":"IF(D2+F6+D11+B6=0,0.0001,BRAND!P8+0.0001)","v":60.000100000000003},"min"]
[null,"Svækket tværsnit",null,"k",{"$f":"SQRT(PI()*2300*1000/(750*0.75))","v":113.33853402386262},null,null,null,null,null,null,1,null,null,{"$f":"INDEX(Bet,VLOOKUP(O6,Bet,5),2)+(INDEX(Bet,VLOOKUP(O6,Bet,5)+1,2)-INDEX(Bet,VLOOKUP(O6,Bet,5),2))*(O6-INDEX(Bet,VLOOKUP(O6,Bet,5),1))/(INDEX(Bet,VLOOKUP(O6,Bet,5)+1,1)-INDEX(Bet,VLOOKUP(O6,Bet,5),1))","v":0.63737106066540428},0.63737106066540428,0.63737106066540428,null,{"$f":"INDEX(Bet,VLOOKUP(S6,Bet,5),2)+(INDEX(Bet,VLOOKUP(S6,Bet,5)+1,2)-INDEX(Bet,VLOOKUP(S6,Bet,5),2))*(S6-INDEX(Bet,VLOOKUP(S6,Bet,5),1))/(INDEX(Bet,VLOOKUP(S6,Bet,5)+1,1)-INDEX(Bet,VLOOKUP(S6,Bet,5),1))","v":0.63737106066540428},0.63737106066540428,0.63737106066540428]
[null,null,null,"n",3,null,null,null,null,null,null,2,null,null,0.96551626217375563,0.96551626217375563,0.96551626217375563,null,0.96551626217375563,0.96551626217375563,0.96551626217375563]
[null,null,null,"Q-maks",{"$f":"MAX(312*LOG10(8*$E$17+1)*EXP(-1.9*0*$E$18/SQRT($E$17))*SIN(PI()/2-0*$E$18/SQRT($E$17)),0.0001)","v":836.82948919207115},null,"ecu",null,null,null,null,3,null,null,1,1,1,null,1,1,1]
[null,null,null,"z-M / e1",{"$f":"R21","v":1},{"$f":"INDEX(Bet,VLOOKUP(R9,Bet,5),3)+(INDEX(Bet,VLOOKUP(R9,Bet,5)+1,3)-INDEX(Bet,VLOOKUP(R9,Bet,5),3))*(R9-INDEX(Bet,VLOOKUP(R9,Bet,5),1))/(INDEX(Bet,VLOOKUP(R9,Bet,5)+1,1)-INDEX(Bet,VLOOKUP(R9,Bet,5),1))","v":3.0141965850374389E-3},{"$f":"INDEX(Bet,VLOOKUP(R9,Bet,5),4)+(INDEX(Bet,VLOOKUP(R9,Bet,5)+1,4)-INDEX(Bet,VLOOKUP(R9,Bet,5),4))*(R9-INDEX(Bet,VLOOKUP(R9,Bet,5),1))/(INDEX(Bet,VLOOKUP(R9,Bet,5)+1,1)-INDEX(Bet,VLOOKUP(R9,Bet,5),1))","v":2.0856994308395733E-2},null,null,null,null,"Midte",null,null,null,null,null,{"$f":"INDEX(Bet,VLOOKUP(R9,Bet,5),2)+(INDEX(Bet,VLOOKUP(R9,Bet,5)+1,2)-INDEX(Bet,VLOOKUP(R9,Bet,5),2))*(R9-INDEX(Bet,VLOOKUP(R9,Bet,5),1))/(INDEX(Bet,VLOOKUP(R9,Bet,5)+1,1)-INDEX(Bet,VLOOKUP(R9,Bet,5),1))","v":1}]
[null,null,null,"z-middel",{"$f":"((1-0.2/E19)/(2*E19)^2)*IF(AND(D2=1,D11=0),2*SUM(O18:U20),IF(AND(D11=1,D2=0),2*SUM(O22:U24),SUM(O18:U20)+SUM(O22:U24)))","v":0.80978716710551635},null,null,null,null,null,null,4,null,null,{"$f":"INDEX(Bet,VLOOKUP(O10,Bet,5),2)+(INDEX(Bet,VLOOKUP(O10,Bet,5)+1,2)-INDEX(Bet,VLOOKUP(O10,Bet,5),2))*(O10-INDEX(Bet,VLOOKUP(O10,Bet,5),1))/(INDEX(Bet,VLOOKUP(O10,Bet,5)+1,1)-INDEX(Bet,VLOOKUP(O10,Bet,5),1))","v":1},1,1,null,{"$f":"INDEX(Bet,VLOOKUP(S10,Bet,5),2)+(INDEX(Bet,VLOOKUP(S10,Bet,5)+1,2)-INDEX(Bet,VLOOKUP(S10,Bet,5),2))*(S10-INDEX(Bet,VLOOKUP(S10,Bet,5),1))/(INDEX(Bet,VLOOKUP(S10,Bet,5)+1,1)-INDEX(Bet,VLOOKUP(S10,Bet,5),1))","v":1},1,1]
[null,null,null,"a (bjælke)",{"$f":"IF(D11+B6+D2+F6=0,0,0.5*IF(B6=0,E15,MIN(E15,E16))*(1-E22/E21))","v":1.4265962467086273E-2},"m",null,null,null,null,null,5,null,null,1,1,1,null,1,1,1]
[null,null,null,"a (instabilitet)",{"$f":"IF(D11+B6+D2+F6=0,0,0.5*IF(B6=0,E15,MIN(E15,E16))*(1-(E22/E21)^1.3))","v":1.7991000332005288E-2},"m",null,null,null,null,null,6,null,null,1,1,1,null,1,1,1]
[null,"Randzoner",null,"atop",{"$f":"E24*D2","v":1.7991000332005288E-2},"m"]
[null,null,null,"aside",{"$f":"E24*MAX(B6,F6)","v":0},"m"]
[null,null,null,"abund",{"$f":"E24*D11","v":0},"m"]
[null,"Stål-gen","type",{"$f":"IF($E$28=\"Q\",1,IF($E$28=\"AC\",3,5))","v":3},{"$f":"BRAND!AN153","v":"AC"},null,null,null,null,null,"Trykarmering",null,{"$f":"M85","v":0.04},0.224,0.40800000000000003,0.59200000000000008,0.77600000000000002,0.96,0.96,0.96,0.96,0.96]
[null,null,"side-\"dæklag\"",null,{"$f":"E38","v":0.04},"m",null,null,null,null,null,null,{"$f":"MAX(312*LOG10(8*$E$17+1)*EXP(-1.9*M28*$E$18/SQRT($E$17))*SIN(PI()/2-M28*$E$18/SQRT($E$17)),0)*$B$6","v":0},{"$f":"IF(N28=M28,0,MAX(312*LOG10(8*$E$17+1)*EXP(-1.9*N28*$E$18/SQRT($E$17))*SIN(PI()/2-N28*$E$18/SQRT($E$17)),0))*$B$6","v":0},{"$f":"IF(O28=N28,0,MAX(312*LOG10(8*$E$17+1)*EXP(-1.9*O28*$E$18/SQRT($E$17))*SIN(PI()/2-O28*$E$18/SQRT($E$17)),0))*$B$6","v":0},0,0,0,0,0,0,0]
[null,"Trykarmering",null,"nc",{"$f":"BRAND!N10","v":6.67},null,null,null,null,null,{"$f":"-M88","v":0.04},{"$f":"MAX(312*LOG10(8*$E$17+1)*EXP(-1.9*K30*$E$18/SQRT($E$17))*SIN(PI()/2-K30*$E$18/SQRT($E$17)),0)*$D$2","v":229.4173602098129},{"$f":"MAX(((M$29+M$31)*$E$20/($E$20+$V$5))*(1-($L30+$W30)/$E$20)+$L30+$W30,20)","v":229.4173602098129},{"$f":"IF(N28=M28,0,MAX(((N$29+N$31)*$E$20/($E$20+$V$5))*(1-($L30+$W30)/$E$20)+$L30+$W30,20))","v":229.4173602098129},{"$f":"IF(O28=N28,0,MAX(((O$29+O$31)*$E$20/($E$20+$V$5))*(1-($L30+$W30)/$E$20)+$L30+$W30,20))","v":229.4173602098129},229.4173602098129,229.4173602098129,229.4173602098129,0,0,0,0,{"$f":"MAX(312*LOG10(8*$E$17+1)*EXP(-1.9*($E$15-K30)*$E$18/SQRT($E$17))*SIN(PI()/2-($E$15-K30)*$E$18/SQRT($E$17)),0)*$D$11","v":0}]
[null,null,null,"reduc nc",{"$f":"MIN(FLOOR(E30,1),10)","v":6},null,null,null,null,null,null,null,{"$f":"MAX(312*LOG10(8*$E$17+1)*EXP(-1.9*($E$16-M28)*$E$18/SQRT($E$17))*SIN(PI()/2-($E$16-M28)*$E$18/SQRT($E$17)),0)*$F$6","v":0},{"$f":"IF(N28=M28,0,MAX(312*LOG10(8*$E$17+1)*EXP(-1.9*($E$16-N28)*$E$18/SQRT($E$17))*SIN(PI()/2-($E$16-N28)*$E$18/SQRT($E$17)),0))*$F$6","v":0},{"$f":"IF(O28=N28,0,MAX(312*LOG10(8*$E$17+1)*EXP(-1.9*($E$16-O28)*$E$18/SQRT($E$17))*SIN(PI()/2-($E$16-O28)*$E$18/SQRT($E$17)),0))*$F$6","v":0},0,0,0,0,0,0,0]
[null,null,null,"ac",{"$f":"BRAND!M15/1000","v":0.04},"m",null,null,null,null,"Trækarmering",null,{"$f":"W85","v":0.04},0.224,0.40800000000000003,0.59200000000000008,0.77600000000000002,0.96,0.96,0.96,0.96,0.96]
[null,null,null,"dc",{"$f":"(E16-2*E29)/(E31-1)","v":0.184},"m",null,null,null,null,null,null,{"$f":"MAX(312*LOG10(8*$E$17+1)*EXP(-1.9*M32*$E$18/SQRT($E$17))*SIN(PI()/2-M32*$E$18/SQRT($E$17)),0)*$B$6","v":0},{"$f":"IF(N32=M32,0,MAX(312*LOG10(8*$E$17+1)*EXP(-1.9*N32*$E$18/SQRT($E$17))*SIN(PI()/2-N32*$E$18/SQRT($E$17)),0))*$B$6","v":0},{"$f":"IF(O32=N32,0,MAX(312*LOG10(8*$E$17+1)*EXP(-1.9*O32*$E$18/SQRT($E$17))*SIN(PI()/2-O32*$E$18/SQRT($E$17)),0))*$B$6","v":0},0,0,0,0,0,0,0]
[null,null,null,"E/Ek",{"$f":"IF(E30=0,0,(SUM(E44:E53)+0.5*(E30-E31)*(E48+E49))/E30)","v":0.99705826397901876},null,null,null,null,null,{"$f":"-W89","v":0.10999999999999999},{"$f":"MAX(312*LOG10(8*$E$17+1)*EXP(-1.9*K34*$E$18/SQRT($E$17))*SIN(PI()/2-K34*$E$18/SQRT($E$17)),0)*$D$2","v":0},{"$f":"MAX(((M$33+M$35)*$E$20/($E$20+$V$5))*(1-($L34+$W34)/$E$20)+$L34+$W34,20)","v":20},{"$f":"IF(N32=M32,0,MAX(((N$33+N$35)*$E$20/($E$20+$V$5))*(1-($L34+$W34)/$E$20)+$L34+$W34,20))","v":20},{"$f":"IF(O32=N32,0,MAX(((O$33+O$35)*$E$20/($E$20+$V$5))*(1-($L34+$W34)/$E$20)+$L34+$W34,20))","v":20},20,20,20,0,0,0,0,{"$f":"MAX(312*LOG10(8*$E$17+1)*EXP(-1.9*($E$15-K34)*$E$18/SQRT($E$17))*SIN(PI()/2-($E$15-K34)*$E$18/SQRT($E$17)),0)*$D$11","v":0},{"$f":"(SUM(D54:D63)+0.5*(E36-E37)*(D58+D59))/E36-20","v":0}]
[null,null,null,"fy/fyk",{"$f":"IF(E30=0,0,(SUM(F44:F53)+0.5*(E30-E31)*(F48+F49))/E30)","v":0.9252913198950935},null,null,null,null,null,null,null,{"$f":"MAX(312*LOG10(8*$E$17+1)*EXP(-1.9*($E$16-M32)*$E$18/SQRT($E$17))*SIN(PI()/2-($E$16-M32)*$E$18/SQRT($E$17)),0)*$F$6","v":0},{"$f":"IF(N32=M32,0,MAX(312*LOG10(8*$E$17+1)*EXP(-1.9*($E$16-N32)*$E$18/SQRT($E$17))*SIN(PI()/2-($E$16-N32)*$E$18/SQRT($E$17)),0))*$F$6","v":0},{"$f":"IF(O32=N32,0,MAX(312*LOG10(8*$E$17+1)*EXP(-1.9*($E$16-O32)*$E$18/SQRT($E$17))*SIN(PI()/2-($E$16-O32)*$E$18/SQRT($E$17)),0))*$F$6","v":0},0,0,0,0,0,0,0]
[null,"Trækarmering",null,"nt",{"$f":"BRAND!N13","v":6.67}]
[null,null,null,"reduc nt",{"$f":"MIN(FLOOR(E36,1),10)","v":6}]
[null,null,null,"at",{"$f":"BRAND!M15/1000","v":0.04},"m",null,null,null,null,"Trykarmering",null,null,null,null,null,null,"Trækarmering"]
[null,null,null,"dt",{"$f":"(E16-2*E29)/(E37-1)","v":0.184},"m",null,null,null,null,"Tabel","type (+Q)",null,"type (+AC)",null,"type (+C)",null,"Tabel","type (+Q)",null,"type (+AC)",null,"type (+C)"]
[null,null,null,"E/Ek",{"$f":"IF(E36=0,0,(SUM(E54:E63)+0.5*(E36-E37)*(E58+E59))/E36)","v":1},null,null,null,null,null,"Q-stål","E/Ek","fy/fyk","E/Ek","fy/fyk","E/Ek","fy/fyk","Q-stål","E/Ek","fy/fyk","E/Ek","fy/fyk","E/Ek","fy/fyk"]
[null,null,null,"fy/fyk",{"$f":"IF(E36=0,0,(SUM(F54:F63)+0.5*(E36-E37)*(F58+F59))/E36)","v":1},null,null,null,null,null,"Temp-1",null,null,null,null,null,null,"Temp-11"]
[null,null,null,null,null,null,null,null,null,null,{"$f":"D44","v":229.4173602098129},{"$f":"IF(K42=K44,L44,L44+(L43-L44)*(K42-K44)/(K43-K44))","v":0.87058263979018713},{"$f":"IF(K42=K44,M44,M44+(M43-M44)*(K42-K44)/(K43-K44))","v":0.84764090376920587},{"$f":"IF(K42=K44,N44,N44+(N43-N44)*(K42-K44)/(K43-K44))","v":0.99705826397901876},{"$f":"IF(K42=K44,O44,O44+(O43-O44)*(K42-K44)/(K43-K44))","v":0.9252913198950935},{"$f":"IF(K42=K44,P44,P44+(P43-P44)*(K42-K44)/(K43-K44))","v":0.82587395968528066},{"$f":"IF(K42=K44,Q44,Q44+(Q43-Q44)*(K42-K44)/(K43-K44))","v":0.93234958387411226},{"$f":"D54","v":20},{"$f":"IF(R42=R44,S44,S44+(S43-S44)*(R42-R44)/(R43-R44))","v":1},{"$f":"IF(R42=R44,T44,T44+(T43-T44)*(R42-R44)/(R43-R44))","v":1},{"$f":"IF(R42=R44,U44,U44+(U43-U44)*(R42-R44)/(R43-R44))","v":1},{"$f":"IF(R42=R44,V44,V44+(V43-V44)*(R42-R44)/(R43-R44))","v":1},{"$f":"IF(R42=R44,W44,W44+(W43-W44)*(R42-R44)/(R43-R44))","v":1},{"$f":"IF(R42=R44,X44,X44+(X43-X44)*(R42-R44)/(R43-R44))","v":1}]
[null,null,null,"Temp","E/Ek","fy/fyk",null,null,null,null,{"$f":"CEILING(K42,100)","v":300},{"$f":"VLOOKUP(K43,$B$68:$H$80,2,TRUE)","v":0.8},{"$f":"VLOOKUP(K43,$B$68:$H$80,3,TRUE)","v":0.77},{"$f":"VLOOKUP(K43,$B$68:$H$80,4,TRUE)","v":0.99},{"$f":"VLOOKUP(K43,$B$68:$H$80,5,TRUE)","v":0.89},{"$f":"VLOOKUP(K43,$B$68:$H$80,6,TRUE)","v":0.72},{"$f":"VLOOKUP(K43,$B$68:$H$80,7,TRUE)","v":0.89},{"$f":"CEILING(R42,100)","v":100},{"$f":"VLOOKUP(R43,$B$68:$H$80,2,TRUE)","v":1},{"$f":"VLOOKUP(R43,$B$68:$H$80,3,TRUE)","v":0.96},{"$f":"VLOOKUP(R43,$B$68:$H$80,4,TRUE)","v":1},{"$f":"VLOOKUP(R43,$B$68:$H$80,5,TRUE)","v":0.98},{"$f":"VLOOKUP(R43,$B$68:$H$80,6,TRUE)","v":1},{"$f":"VLOOKUP(R43,$B$68:$H$80,7,TRUE)","v":0.99}]
[null,"Trykarm.",1,{"$f":"M30","v":229.4173602098129},{"$f":"IF(D44=0,0,INDEX($L$41:$Q$80,2+(C44-1)*4,$D$28))","v":0.99705826397901876},{"$f":"IF(D44=0,0,INDEX($L$41:$Q$80,2+(C44-1)*4,$D$28+1))","v":0.9252913198950935},null,null,null,null,{"$f":"MAX(FLOOR(K42,100),20)","v":200},{"$f":"VLOOKUP(K44,$B$68:$H$80,2,TRUE)","v":0.9},{"$f":"VLOOKUP(K44,$B$68:$H$80,3,TRUE)","v":0.88},{"$f":"VLOOKUP(K44,$B$68:$H$80,4,TRUE)","v":1},{"$f":"VLOOKUP(K44,$B$68:$H$80,5,TRUE)","v":0.94},{"$f":"VLOOKUP(K44,$B$68:$H$80,6,TRUE)","v":0.87},{"$f":"VLOOKUP(K44,$B$68:$H$80,7,TRUE)","v":0.95},{"$f":"MAX(FLOOR(R42,100),20)","v":20},{"$f":"VLOOKUP(R44,$B$68:$H$80,2,TRUE)","v":1},{"$f":"VLOOKUP(R44,$B$68:$H$80,3,TRUE)","v":1},{"$f":"VLOOKUP(R44,$B$68:$H$80,4,TRUE)","v":1},{"$f":"VLOOKUP(R44,$B$68:$H$80,5,TRUE)","v":1},{"$f":"VLOOKUP(R44,$B$68:$H$80,6,TRUE)","v":1},{"$f":"VLOOKUP(R44,$B$68:$H$80,7,TRUE)","v":1}]
[null,null,2,{"$f":"N30","v":229.4173602098129},0.99705826397901876,0.9252913198950935,null,null,null,null,"Temp-2",null,null,null,null,null,null,"Temp-12"]
[null,null,3,{"$f":"O30","v":229.4173602098129},0.99705826397901876,0.9252913198950935,null,null,null,null,{"$f":"D45","v":229.4173602098129},{"$f":"IF(K46=K48,L48,L48+(L47-L48)*(K46-K48)/(K47-K48))","v":0.87058263979018713},{"$f":"IF(K46=K48,M48,M48+(M47-M48)*(K46-K48)/(K47-K48))","v":0.84764090376920587},{"$f":"IF(K46=K48,N48,N48+(N47-N48)*(K46-K48)/(K47-K48))","v":0.99705826397901876},{"$f":"IF(K46=K48,O48,O48+(O47-O48)*(K46-K48)/(K47-K48))","v":0.9252913198950935},{"$f":"IF(K46=K48,P48,P48+(P47-P48)*(K46-K48)/(K47-K48))","v":0.82587395968528066},{"$f":"IF(K46=K48,Q48,Q48+(Q47-Q48)*(K46-K48)/(K47-K48))","v":0.93234958387411226},{"$f":"D55","v":20},{"$f":"IF(R46=R48,S48,S48+(S47-S48)*(R46-R48)/(R47-R48))","v":1},{"$f":"IF(R46=R48,T48,T48+(T47-T48)*(R46-R48)/(R47-R48))","v":1},{"$f":"IF(R46=R48,U48,U48+(U47-U48)*(R46-R48)/(R47-R48))","v":1},{"$f":"IF(R46=R48,V48,V48+(V47-V48)*(R46-R48)/(R47-R48))","v":1},{"$f":"IF(R46=R48,W48,W48+(W47-W48)*(R46-R48)/(R47-R48))","v":1},{"$f":"IF(R46=R48,X48,X48+(X47-X48)*(R46-R48)/(R47-R48))","v":1}]
[null,null,4,{"$f":"P30","v":229.4173602098129},0.99705826397901876,0.9252913198950935,null,null,null,null,{"$f":"CEILING(K46,100)","v":300},{"$f":"VLOOKUP(K47,$B$68:$H$80,2,TRUE)","v":0.8},{"$f":"VLOOKUP(K47,$B$68:$H$80,3,TRUE)","v":0.77},{"$f":"VLOOKUP(K47,$B$68:$H$80,4,TRUE)","v":0.99},{"$f":"VLOOKUP(K47,$B$68:$H$80,5,TRUE)","v":0.89},{"$f":"VLOOKUP(K47,$B$68:$H$80,6,TRUE)","v":0.72},{"$f":"VLOOKUP(K47,$B$68:$H$80,7,TRUE)","v":0.89},{"$f":"CEILING(R46,100)","v":100},{"$f":"VLOOKUP(R47,$B$68:$H$80,2,TRUE)","v":1},{"$f":"VLOOKUP(R47,$B$68:$H$80,3,TRUE)","v":0.96},{"$f":"VLOOKUP(R47,$B$68:$H$80,4,TRUE)","v":1},{"$f":"VLOOKUP(R47,$B$68:$H$80,5,TRUE)","v":0.98},{"$f":"VLOOKUP(R47,$B$68:$H$80,6,TRUE)","v":1},{"$f":"VLOOKUP(R47,$B$68:$H$80,7,TRUE)","v":0.99}]
[null,null,5,{"$f":"Q30","v":229.4173602098129},0.99705826397901876,0.9252913198950935,null,null,null,null,{"$f":"MAX(FLOOR(K46,100),20)","v":200},{"$f":"VLOOKUP(K48,$B$68:$H$80,2,TRUE)","v":0.9},{"$f":"VLOOKUP(K48,$B$68:$H$80,3,TRUE)","v":0.88},{"$f":"VLOOKUP(K48,$B$68:$H$80,4,TRUE)","v":1},{"$f":"VLOOKUP(K48,$B$68:$H$80,5,TRUE)","v":0.94},{"$f":"VLOOKUP(K48,$B$68:$H$80,6,TRUE)","v":0.87},{"$f":"VLOOKUP(K48,$B$68:$H$80,7,TRUE)","v":0.95},{"$f":"MAX(FLOOR(R46,100),20)","v":20},{"$f":"VLOOKUP(R48,$B$68:$H$80,2,TRUE)","v":1},{"$f":"VLOOKUP(R48,$B$68:$H$80,3,TRUE)","v":1},{"$f":"VLOOKUP(R48,$B$68:$H$80,4,TRUE)","v":1},{"$f":"VLOOKUP(R48,$B$68:$H$80,5,TRUE)","v":1},{"$f":"VLOOKUP(R48,$B$68:$H$80,6,TRUE)","v":1},{"$f":"VLOOKUP(R48,$B$68:$H$80,7,TRUE)","v":1}]
[null,null,6,{"$f":"R30","v":229.4173602098129},0.99705826397901876,0.9252913198950935,null,null,null,null,"Temp-3",null,null,null,null,null,null,"Temp-13"]
[null,null,7,{"$f":"S30","v":0},0,0,null,null,null,null,{"$f":"D46","v":229.4173602098129},{"$f":"IF(K50=K52,L52,L52+(L51-L52)*(K50-K52)/(K51-K52))","v":0.87058263979018713},{"$f":"IF(K50=K52,M52,M52+(M51-M52)*(K50-K52)/(K51-K52))","v":0.84764090376920587},{"$f":"IF(K50=K52,N52,N52+(N51-N52)*(K50-K52)/(K51-K52))","v":0.99705826397901876},{"$f":"IF(K50=K52,O52,O52+(O51-O52)*(K50-K52)/(K51-K52))","v":0.9252913198950935},{"$f":"IF(K50=K52,P52,P52+(P51-P52)*(K50-K52)/(K51-K52))","v":0.82587395968528066},{"$f":"IF(K50=K52,Q52,Q52+(Q51-Q52)*(K50-K52)/(K51-K52))","v":0.93234958387411226},{"$f":"D56","v":20},{"$f":"IF(R50=R52,S52,S52+(S51-S52)*(R50-R52)/(R51-R52))","v":1},{"$f":"IF(R50=R52,T52,T52+(T51-T52)*(R50-R52)/(R51-R52))","v":1},{"$f":"IF(R50=R52,U52,U52+(U51-U52)*(R50-R52)/(R51-R52))","v":1},{"$f":"IF(R50=R52,V52,V52+(V51-V52)*(R50-R52)/(R51-R52))","v":1},{"$f":"IF(R50=R52,W52,W52+(W51-W52)*(R50-R52)/(R51-R52))","v":1},{"$f":"IF(R50=R52,X52,X52+(X51-X52)*(R50-R52)/(R51-R52))","v":1}]
[null,null,8,{"$f":"T30","v":0},0,0,null,null,null,null,{"$f":"CEILING(K50,100)","v":300},{"$f":"VLOOKUP(K51,$B$68:$H$80,2,TRUE)","v":0.8},{"$f":"VLOOKUP(K51,$B$68:$H$80,3,TRUE)","v":0.77},{"$f":"VLOOKUP(K51,$B$68:$H$80,4,TRUE)","v":0.99},{"$f":"VLOOKUP(K51,$B$68:$H$80,5,TRUE)","v":0.89},{"$f":"VLOOKUP(K51,$B$68:$H$80,6,TRUE)","v":0.72},{"$f":"VLOOKUP(K51,$B$68:$H$80,7,TRUE)","v":0.89},{"$f":"CEILING(R50,100)","v":100},{"$f":"VLOOKUP(R51,$B$68:$H$80,2,TRUE)","v":1},{"$f":"VLOOKUP(R51,$B$68:$H$80,3,TRUE)","v":0.96},{"$f":"VLOOKUP(R51,$B$68:$H$80,4,TRUE)","v":1},{"$f":"VLOOKUP(R51,$B$68:$H$80,5,TRUE)","v":0.98},{"$f":"VLOOKUP(R51,$B$68:$H$80,6,TRUE)","v":1},{"$f":"VLOOKUP(R51,$B$68:$H$80,7,TRUE)","v":0.99}]
[null,null,9,{"$f":"U30","v":0},0,0,null,null,null,null,{"$f":"MAX(FLOOR(K50,100),20)","v":200},{"$f":"VLOOKUP(K52,$B$68:$H$80,2,TRUE)","v":0.9},{"$f":"VLOOKUP(K52,$B$68:$H$80,3,TRUE)","v":0.88},{"$f":"VLOOKUP(K52,$B$68:$H$80,4,TRUE)","v":1},{"$f":"VLOOKUP(K52,$B$68:$H$80,5,TRUE)","v":0.94},{"$f":"VLOOKUP(K52,$B$68:$H$80,6,TRUE)","v":0.87},{"$f":"VLOOKUP(K52,$B$68:$H$80,7,TRUE)","v":0.95},{"$f":"MAX(FLOOR(R50,100),20)","v":20},{"$f":"VLOOKUP(R52,$B$68:$H$80,2,TRUE)","v":1},{"$f":"VLOOKUP(R52,$B$68:$H$80,3,TRUE)","v":1},{"$f":"VLOOKUP(R52,$B$68:$H$80,4,TRUE)","v":1},{"$f":"VLOOKUP(R52,$B$68:$H$80,5,TRUE)","v":1},{"$f":"VLOOKUP(R52,$B$68:$H$80,6,TRUE)","v":1},{"$f":"VLOOKUP(R52,$B$68:$H$80,7,TRUE)","v":1}]
[null,null,10,{"$f":"V30","v":0},0,0,null,null,null,null,"Temp-4",null,null,null,null,null,null,"Temp-14"]
[null,"trækarm",11,{"$f":"M34","v":20},{"$f":"IF(D54=0,0,INDEX($S$41:$X$80,2+(C54-11)*4,$D$28))","v":1},{"$f":"IF(D54=0,0,INDEX($S$41:$X$80,2+(C54-11)*4,$D$28+1))","v":1},null,null,null,null,{"$f":"D47","v":229.4173602098129},{"$f":"IF(K54=K56,L56,L56+(L55-L56)*(K54-K56)/(K55-K56))","v":0.87058263979018713},{"$f":"IF(K54=K56,M56,M56+(M55-M56)*(K54-K56)/(K55-K56))","v":0.84764090376920587},{"$f":"IF(K54=K56,N56,N56+(N55-N56)*(K54-K56)/(K55-K56))","v":0.99705826397901876},{"$f":"IF(K54=K56,O56,O56+(O55-O56)*(K54-K56)/(K55-K56))","v":0.9252913198950935},{"$f":"IF(K54=K56,P56,P56+(P55-P56)*(K54-K56)/(K55-K56))","v":0.82587395968528066},{"$f":"IF(K54=K56,Q56,Q56+(Q55-Q56)*(K54-K56)/(K55-K56))","v":0.93234958387411226},{"$f":"D57","v":20},{"$f":"IF(R54=R56,S56,S56+(S55-S56)*(R54-R56)/(R55-R56))","v":1},{"$f":"IF(R54=R56,T56,T56+(T55-T56)*(R54-R56)/(R55-R56))","v":1},{"$f":"IF(R54=R56,U56,U56+(U55-U56)*(R54-R56)/(R55-R56))","v":1},{"$f":"IF(R54=R56,V56,V56+(V55-V56)*(R54-R56)/(R55-R56))","v":1},{"$f":"IF(R54=R56,W56,W56+(W55-W56)*(R54-R56)/(R55-R56))","v":1},{"$f":"IF(R54=R56,X56,X56+(X55-X56)*(R54-R56)/(R55-R56))","v":1}]
[null,null,12,{"$f":"N34","v":20},1,1,null,null,null,null,{"$f":"CEILING(K54,100)","v":300},{"$f":"VLOOKUP(K55,$B$68:$H$80,2,TRUE)","v":0.8},{"$f":"VLOOKUP(K55,$B$68:$H$80,3,TRUE)","v":0.77},{"$f":"VLOOKUP(K55,$B$68:$H$80,4,TRUE)","v":0.99},{"$f":"VLOOKUP(K55,$B$68:$H$80,5,TRUE)","v":0.89},{"$f":"VLOOKUP(K55,$B$68:$H$80,6,TRUE)","v":0.72},{"$f":"VLOOKUP(K55,$B$68:$H$80,7,TRUE)","v":0.89},{"$f":"CEILING(R54,100)","v":100},{"$f":"VLOOKUP(R55,$B$68:$H$80,2,TRUE)","v":1},{"$f":"VLOOKUP(R55,$B$68:$H$80,3,TRUE)","v":0.96},{"$f":"VLOOKUP(R55,$B$68:$H$80,4,TRUE)","v":1},{"$f":"VLOOKUP(R55,$B$68:$H$80,5,TRUE)","v":0.98},{"$f":"VLOOKUP(R55,$B$68:$H$80,6,TRUE)","v":1},{"$f":"VLOOKUP(R55,$B$68:$H$80,7,TRUE)","v":0.99}]
[null,null,13,{"$f":"O34","v":20},1,1,null,null,null,null,{"$f":"MAX(FLOOR(K54,100),20)","v":200},{"$f":"VLOOKUP(K56,$B$68:$H$80,2,TRUE)","v":0.9},{"$f":"VLOOKUP(K56,$B$68:$H$80,3,TRUE)","v":0.88},{"$f":"VLOOKUP(K56,$B$68:$H$80,4,TRUE)","v":1},{"$f":"VLOOKUP(K56,$B$68:$H$80,5,TRUE)","v":0.94},{"$f":"VLOOKUP(K56,$B$68:$H$80,6,TRUE)","v":0.87},{"$f":"VLOOKUP(K56,$B$68:$H$80,7,TRUE)","v":0.95},{"$f":"MAX(FLOOR(R54,100),20)","v":20},{"$f":"VLOOKUP(R56,$B$68:$H$80,2,TRUE)","v":1},{"$f":"VLOOKUP(R56,$B$68:$H$80,3,TRUE)","v":1},{"$f":"VLOOKUP(R56,$B$68:$H$80,4,TRUE)","v":1},{"$f":"VLOOKUP(R56,$B$68:$H$80,5,TRUE)","v":1},{"$f":"VLOOKUP(R56,$B$68:$H$80,6,TRUE)","v":1},{"$f":"VLOOKUP(R56,$B$68:$H$80,7,TRUE)","v":1}]
[null,null,14,{"$f":"P34","v":20},1,1,null,null,null,null,"Temp-5",null,null,null,null,null,null,"Temp-15"]
[null,null,15,{"$f":"Q34","v":20},1,1,null,null,null,null,{"$f":"D48","v":229.4173602098129},{"$f":"IF(K58=K60,L60,L60+(L59-L60)*(K58-K60)/(K59-K60))","v":0.87058263979018713},{"$f":"IF(K58=K60,M60,M60+(M59-M60)*(K58-K60)/(K59-K60))","v":0.84764090376920587},{"$f":"IF(K58=K60,N60,N60+(N59-N60)*(K58-K60)/(K59-K60))","v":0.99705826397901876},{"$f":"IF(K58=K60,O60,O60+(O59-O60)*(K58-K60)/(K59-K60))","v":0.9252913198950935},{"$f":"IF(K58=K60,P60,P60+(P59-P60)*(K58-K60)/(K59-K60))","v":0.82587395968528066},{"$f":"IF(K58=K60,Q60,Q60+(Q59-Q60)*(K58-K60)/(K59-K60))","v":0.93234958387411226},{"$f":"D58","v":20},{"$f":"IF(R58=R60,S60,S60+(S59-S60)*(R58-R60)/(R59-R60))","v":1},{"$f":"IF(R58=R60,T60,T60+(T59-T60)*(R58-R60)/(R59-R60))","v":1},{"$f":"IF(R58=R60,U60,U60+(U59-U60)*(R58-R60)/(R59-R60))","v":1},{"$f":"IF(R58=R60,V60,V60+(V59-V60)*(R58-R60)/(R59-R60))","v":1},{"$f":"IF(R58=R60,W60,W60+(W59-W60)*(R58-R60)/(R59-R60))","v":1},{"$f":"IF(R58=R60,X60,X60+(X59-X60)*(R58-R60)/(R59-R60))","v":1}]
[null,null,16,{"$f":"R34","v":20},1,1,null,null,null,null,{"$f":"CEILING(K58,100)","v":300},{"$f":"VLOOKUP(K59,$B$68:$H$80,2,TRUE)","v":0.8},{"$f":"VLOOKUP(K59,$B$68:$H$80,3,TRUE)","v":0.77},{"$f":"VLOOKUP(K59,$B$68:$H$80,4,TRUE)","v":0.99},{"$f":"VLOOKUP(K59,$B$68:$H$80,5,TRUE)","v":0.89},{"$f":"VLOOKUP(K59,$B$68:$H$80,6,TRUE)","v":0.72},{"$f":"VLOOKUP(K59,$B$68:$H$80,7,TRUE)","v":0.89},{"$f":"CEILING(R58,100)","v":100},{"$f":"VLOOKUP(R59,$B$68:$H$80,2,TRUE)","v":1},{"$f":"VLOOKUP(R59,$B$68:$H$80,3,TRUE)","v":0.96},{"$f":"VLOOKUP(R59,$B$68:$H$80,4,TRUE)","v":1},{"$f":"VLOOKUP(R59,$B$68:$H$80,5,TRUE)","v":0.98},{"$f":"VLOOKUP(R59,$B$68:$H$80,6,TRUE)","v":1},{"$f":"VLOOKUP(R59,$B$68:$H$80,7,TRUE)","v":0.99}]
[null,null,17,{"$f":"S34","v":0},0,0,null,null,null,null,{"$f":"MAX(FLOOR(K58,100),20)","v":200},{"$f":"VLOOKUP(K60,$B$68:$H$80,2,TRUE)","v":0.9},{"$f":"VLOOKUP(K60,$B$68:$H$80,3,TRUE)","v":0.88},{"$f":"VLOOKUP(K60,$B$68:$H$80,4,TRUE)","v":1},{"$f":"VLOOKUP(K60,$B$68:$H$80,5,TRUE)","v":0.94},{"$f":"VLOOKUP(K60,$B$68:$H$80,6,TRUE)","v":0.87},{"$f":"VLOOKUP(K60,$B$68:$H$80,7,TRUE)","v":0.95},{"$f":"MAX(FLOOR(R58,100),20)","v":20},{"$f":"VLOOKUP(R60,$B$68:$H$80,2,TRUE)","v":1},{"$f":"VLOOKUP(R60,$B$68:$H$80,3,TRUE)","v":1},{"$f":"VLOOKUP(R60,$B$68:$H$80,4,TRUE)","v":1},{"$f":"VLOOKUP(R60,$B$68:$H$80,5,TRUE)","v":1},{"$f":"VLOOKUP(R60,$B$68:$H$80,6,TRUE)","v":1},{"$f":"VLOOKUP(R60,$B$68:$H$80,7,TRUE)","v":1}]
[null,null,18,{"$f":"T34","v":0},0,0,null,null,null,null,"Temp-6",null,null,null,null,null,null,"Temp-16"]
[null,null,19,{"$f":"U34","v":0},0,0,null,null,null,null,{"$f":"D49","v":229.4173602098129},{"$f":"IF(K62=K64,L64,L64+(L63-L64)*(K62-K64)/(K63-K64))","v":0.87058263979018713},{"$f":"IF(K62=K64,M64,M64+(M63-M64)*(K62-K64)/(K63-K64))","v":0.84764090376920587},{"$f":"IF(K62=K64,N64,N64+(N63-N64)*(K62-K64)/(K63-K64))","v":0.99705826397901876},{"$f":"IF(K62=K64,O64,O64+(O63-O64)*(K62-K64)/(K63-K64))","v":0.9252913198950935},{"$f":"IF(K62=K64,P64,P64+(P63-P64)*(K62-K64)/(K63-K64))","v":0.82587395968528066},{"$f":"IF(K62=K64,Q64,Q64+(Q63-Q64)*(K62-K64)/(K63-K64))","v":0.93234958387411226},{"$f":"D59","v":20},{"$f":"IF(R62=R64,S64,S64+(S63-S64)*(R62-R64)/(R63-R64))","v":1},{"$f":"IF(R62=R64,T64,T64+(T63-T64)*(R62-R64)/(R63-R64))","v":1},{"$f":"IF(R62=R64,U64,U64+(U63-U64)*(R62-R64)/(R63-R64))","v":1},{"$f":"IF(R62=R64,V64,V64+(V63-V64)*(R62-R64)/(R63-R64))","v":1},{"$f":"IF(R62=R64,W64,W64+(W63-W64)*(R62-R64)/(R63-R64))","v":1},{"$f":"IF(R62=R64,X64,X64+(X63-X64)*(R62-R64)/(R63-R64))","v":1}]
[null,null,20,{"$f":"V34","v":0},0,0,null,null,null,null,{"$f":"CEILING(K62,100)","v":300},{"$f":"VLOOKUP(K63,$B$68:$H$80,2,TRUE)","v":0.8},{"$f":"VLOOKUP(K63,$B$68:$H$80,3,TRUE)","v":0.77},{"$f":"VLOOKUP(K63,$B$68:$H$80,4,TRUE)","v":0.99},{"$f":"VLOOKUP(K63,$B$68:$H$80,5,TRUE)","v":0.89},{"$f":"VLOOKUP(K63,$B$68:$H$80,6,TRUE)","v":0.72},{"$f":"VLOOKUP(K63,$B$68:$H$80,7,TRUE)","v":0.89},{"$f":"CEILING(R62,100)","v":100},{"$f":"VLOOKUP(R63,$B$68:$H$80,2,TRUE)","v":1},{"$f":"VLOOKUP(R63,$B$68:$H$80,3,TRUE)","v":0.96},{"$f":"VLOOKUP(R63,$B$68:$H$80,4,TRUE)","v":1},{"$f":"VLOOKUP(R63,$B$68:$H$80,5,TRUE)","v":0.98},{"$f":"VLOOKUP(R63,$B$68:$H$80,6,TRUE)","v":1},{"$f":"VLOOKUP(R63,$B$68:$H$80,7,TRUE)","v":0.99}]
[null,null,null,null,null,null,null,null,null,null,{"$f":"MAX(FLOOR(K62,100),20)","v":200},{"$f":"VLOOKUP(K64,$B$68:$H$80,2,TRUE)","v":0.9},{"$f":"VLOOKUP(K64,$B$68:$H$80,3,TRUE)","v":0.88},{"$f":"VLOOKUP(K64,$B$68:$H$80,4,TRUE)","v":1},{"$f":"VLOOKUP(K64,$B$68:$H$80,5,TRUE)","v":0.94},{"$f":"VLOOKUP(K64,$B$68:$H$80,6,TRUE)","v":0.87},{"$f":"VLOOKUP(K64,$B$68:$H$80,7,TRUE)","v":0.95},{"$f":"MAX(FLOOR(R62,100),20)","v":20},{"$f":"VLOOKUP(R64,$B$68:$H$80,2,TRUE)","v":1},{"$f":"VLOOKUP(R64,$B$68:$H$80,3,TRUE)","v":1},{"$f":"VLOOKUP(R64,$B$68:$H$80,4,TRUE)","v":1},{"$f":"VLOOKUP(R64,$B$68:$H$80,5,TRUE)","v":1},{"$f":"VLOOKUP(R64,$B$68:$H$80,6,TRUE)","v":1},{"$f":"VLOOKUP(R64,$B$68:$H$80,7,TRUE)","v":1}]
[null,null,null,null,null,null,null,null,null,null,"Temp-7",null,null,null,null,null,null,"Temp-17"]
[null,"Tabel","type (+Q)",null,"type (+AC)",null,"type (+C)",null,null,null,{"$f":"D50","v":0},{"$f":"IF(K66=K68,L68,L68+(L67-L68)*(K66-K68)/(K67-K68))","v":{"$error":"#N/A"}},{"$f":"IF(K66=K68,M68,M68+(M67-M68)*(K66-K68)/(K67-K68))","v":{"$error":"#N/A"}},{"$f":"IF(K66=K68,N68,N68+(N67-N68)*(K66-K68)/(K67-K68))","v":{"$error":"#N/A"}},{"$f":"IF(K66=K68,O68,O68+(O67-O68)*(K66-K68)/(K67-K68))","v":{"$error":"#N/A"}},{"$f":"IF(K66=K68,P68,P68+(P67-P68)*(K66-K68)/(K67-K68))","v":{"$error":"#N/A"}},{"$f":"IF(K66=K68,Q68,Q68+(Q67-Q68)*(K66-K68)/(K67-K68))","v":{"$error":"#N/A"}},{"$f":"D60","v":0},{"$f":"IF(R66=R68,S68,S68+(S67-S68)*(R66-R68)/(R67-R68))","v":{"$error":"#N/A"}},{"$f":"IF(R66=R68,T68,T68+(T67-T68)*(R66-R68)/(R67-R68))","v":{"$error":"#N/A"}},{"$f":"IF(R66=R68,U68,U68+(U67-U68)*(R66-R68)/(R67-R68))","v":{"$error":"#N/A"}},{"$f":"IF(R66=R68,V68,V68+(V67-V68)*(R66-R68)/(R67-R68))","v":{"$error":"#N/A"}},{"$f":"IF(R66=R68,W68,W68+(W67-W68)*(R66-R68)/(R67-R68))","v":{"$error":"#N/A"}},{"$f":"IF(R66=R68,X68,X68+(X67-X68)*(R66-R68)/(R67-R68))","v":{"$error":"#N/A"}}]
[null,"Q-stål","E/Ek","fy/fyk","E/Ek","fy/fyk","E/Ek","fy/fyk",null,null,{"$f":"CEILING(K66,100)","v":0},{"$f":"VLOOKUP(K67,$B$68:$H$80,2,TRUE)","v":{"$error":"#N/A"}},{"$f":"VLOOKUP(K67,$B$68:$H$80,3,TRUE)","v":{"$error":"#N/A"}},{"$f":"VLOOKUP(K67,$B$68:$H$80,4,TRUE)","v":{"$error":"#N/A"}},{"$f":"VLOOKUP(K67,$B$68:$H$80,5,TRUE)","v":{"$error":"#N/A"}},{"$f":"VLOOKUP(K67,$B$68:$H$80,6,TRUE)","v":{"$error":"#N/A"}},{"$f":"VLOOKUP(K67,$B$68:$H$80,7,TRUE)","v":{"$error":"#N/A"}},{"$f":"CEILING(R66,100)","v":0},{"$f":"VLOOKUP(R67,$B$68:$H$80,2,TRUE)","v":{"$error":"#N/A"}},{"$f":"VLOOKUP(R67,$B$68:$H$80,3,TRUE)","v":{"$error":"#N/A"}},{"$f":"VLOOKUP(R67,$B$68:$H$80,4,TRUE)","v":{"$error":"#N/A"}},{"$f":"VLOOKUP(R67,$B$68:$H$80,5,TRUE)","v":{"$error":"#N/A"}},{"$f":"VLOOKUP(R67,$B$68:$H$80,6,TRUE)","v":{"$error":"#N/A"}},{"$f":"VLOOKUP(R67,$B$68:$H$80,7,TRUE)","v":{"$error":"#N/A"}}]
[null,20,1,1,1,1,1,1,null,null,{"$f":"MAX(FLOOR(K66,100),20)","v":20},{"$f":"VLOOKUP(K68,$B$68:$H$80,2,TRUE)","v":1},{"$f":"VLOOKUP(K68,$B$68:$H$80,3,TRUE)","v":1},{"$f":"VLOOKUP(K68,$B$68:$H$80,4,TRUE)","v":1},{"$f":"VLOOKUP(K68,$B$68:$H$80,5,TRUE)","v":1},{"$f":"VLOOKUP(K68,$B$68:$H$80,6,TRUE)","v":1},{"$f":"VLOOKUP(K68,$B$68:$H$80,7,TRUE)","v":1},{"$f":"MAX(FLOOR(R66,100),20)","v":20},{"$f":"VLOOKUP(R68,$B$68:$H$80,2,TRUE)","v":1},{"$f":"VLOOKUP(R68,$B$68:$H$80,3,TRUE)","v":1},{"$f":"VLOOKUP(R68,$B$68:$H$80,4,TRUE)","v":1},{"$f":"VLOOKUP(R68,$B$68:$H$80,5,TRUE)","v":1},{"$f":"VLOOKUP(R68,$B$68:$H$80,6,TRUE)","v":1},{"$f":"VLOOKUP(R68,$B$68:$H$80,7,TRUE)","v":1}]
[null,100,1,0.96,1,0.98,1,0.99,null,null,"Temp-8",null,null,null,null,null,null,"Temp-18"]
[null,200,0.9,0.88,1,0.94,0.87,0.95,null,null,{"$f":"D51","v":0},{"$f":"IF(K70=K72,L72,L72+(L71-L72)*(K70-K72)/(K71-K72))","v":{"$error":"#N/A"}},{"$f":"IF(K70=K72,M72,M72+(M71-M72)*(K70-K72)/(K71-K72))","v":{"$error":"#N/A"}},{"$f":"IF(K70=K72,N72,N72+(N71-N72)*(K70-K72)/(K71-K72))","v":{"$error":"#N/A"}},{"$f":"IF(K70=K72,O72,O72+(O71-O72)*(K70-K72)/(K71-K72))","v":{"$error":"#N/A"}},{"$f":"IF(K70=K72,P72,P72+(P71-P72)*(K70-K72)/(K71-K72))","v":{"$error":"#N/A"}},{"$f":"IF(K70=K72,Q72,Q72+(Q71-Q72)*(K70-K72)/(K71-K72))","v":{"$error":"#N/A"}},{"$f":"D61","v":0},{"$f":"IF(R70=R72,S72,S72+(S71-S72)*(R70-R72)/(R71-R72))","v":{"$error":"#N/A"}},{"$f":"IF(R70=R72,T72,T72+(T71-T72)*(R70-R72)/(R71-R72))","v":{"$error":"#N/A"}},{"$f":"IF(R70=R72,U72,U72+(U71-U72)*(R70-R72)/(R71-R72))","v":{"$error":"#N/A"}},{"$f":"IF(R70=R72,V72,V72+(V71-V72)*(R70-R72)/(R71-R72))","v":{"$error":"#N/A"}},{"$f":"IF(R70=R72,W72,W72+(W71-W72)*(R70-R72)/(R71-R72))","v":{"$error":"#N/A"}},{"$f":"IF(R70=R72,X72,X72+(X71-X72)*(R70-R72)/(R71-R72))","v":{"$error":"#N/A"}}]
[null,300,0.8,0.77,0.99,0.89,0.72,0.89,null,null,{"$f":"CEILING(K70,100)","v":0},{"$f":"VLOOKUP(K71,$B$68:$H$80,2,TRUE)","v":{"$error":"#N/A"}},{"$f":"VLOOKUP(K71,$B$68:$H$80,3,TRUE)","v":{"$error":"#N/A"}},{"$f":"VLOOKUP(K71,$B$68:$H$80,4,TRUE)","v":{"$error":"#N/A"}},{"$f":"VLOOKUP(K71,$B$68:$H$80,5,TRUE)","v":{"$error":"#N/A"}},{"$f":"VLOOKUP(K71,$B$68:$H$80,6,TRUE)","v":{"$error":"#N/A"}},{"$f":"VLOOKUP(K71,$B$68:$H$80,7,TRUE)","v":{"$error":"#N/A"}},{"$f":"CEILING(R70,100)","v":0},{"$f":"VLOOKUP(R71,$B$68:$H$80,2,TRUE)","v":{"$error":"#N/A"}},{"$f":"VLOOKUP(R71,$B$68:$H$80,3,TRUE)","v":{"$error":"#N/A"}},{"$f":"VLOOKUP(R71,$B$68:$H$80,4,TRUE)","v":{"$error":"#N/A"}},{"$f":"VLOOKUP(R71,$B$68:$H$80,5,TRUE)","v":{"$error":"#N/A"}},{"$f":"VLOOKUP(R71,$B$68:$H$80,6,TRUE)","v":{"$error":"#N/A"}},{"$f":"VLOOKUP(R71,$B$68:$H$80,7,TRUE)","v":{"$error":"#N/A"}}]
[null,400,0.7,0.65,0.96,0.78,0.56000000000000005,0.78,null,null,{"$f":"MAX(FLOOR(K70,100),20)","v":20},{"$f":"VLOOKUP(K72,$B$68:$H$80,2,TRUE)","v":1},{"$f":"VLOOKUP(K72,$B$68:$H$80,3,TRUE)","v":1},{"$f":"VLOOKUP(K72,$B$68:$H$80,4,TRUE)","v":1},{"$f":"VLOOKUP(K72,$B$68:$H$80,5,TRUE)","v":1},{"$f":"VLOOKUP(K72,$B$68:$H$80,6,TRUE)","v":1},{"$f":"VLOOKUP(K72,$B$68:$H$80,7,TRUE)","v":1},{"$f":"MAX(FLOOR(R70,100),20)","v":20},{"$f":"VLOOKUP(R72,$B$68:$H$80,2,TRUE)","v":1},{"$f":"VLOOKUP(R72,$B$68:$H$80,3,TRUE)","v":1},{"$f":"VLOOKUP(R72,$B$68:$H$80,4,TRUE)","v":1},{"$f":"VLOOKUP(R72,$B$68:$H$80,5,TRUE)","v":1},{"$f":"VLOOKUP(R72,$B$68:$H$80,6,TRUE)","v":1},{"$f":"VLOOKUP(R72,$B$68:$H$80,7,TRUE)","v":1}]
[null,500,0.6,0.47,0.79,0.55000000000000004,0.4,0.56999999999999995,null,null,"Temp-9",null,null,null,null,null,null,"Temp-19"]
[null,600,0.31,0.27,0.48,0.27,0.24,0.3,null,null,{"$f":"D52","v":0},{"$f":"IF(K74=K76,L76,L76+(L75-L76)*(K74-K76)/(K75-K76))","v":{"$error":"#N/A"}},{"$f":"IF(K74=K76,M76,M76+(M75-M76)*(K74-K76)/(K75-K76))","v":{"$error":"#N/A"}},{"$f":"IF(K74=K76,N76,N76+(N75-N76)*(K74-K76)/(K75-K76))","v":{"$error":"#N/A"}},{"$f":"IF(K74=K76,O76,O76+(O75-O76)*(K74-K76)/(K75-K76))","v":{"$error":"#N/A"}},{"$f":"IF(K74=K76,P76,P76+(P75-P76)*(K74-K76)/(K75-K76))","v":{"$error":"#N/A"}},{"$f":"IF(K74=K76,Q76,Q76+(Q75-Q76)*(K74-K76)/(K75-K76))","v":{"$error":"#N/A"}},{"$f":"D62","v":0},{"$f":"IF(R74=R76,S76,S76+(S75-S76)*(R74-R76)/(R75-R76))","v":{"$error":"#N/A"}},{"$f":"IF(R74=R76,T76,T76+(T75-T76)*(R74-R76)/(R75-R76))","v":{"$error":"#N/A"}},{"$f":"IF(R74=R76,U76,U76+(U75-U76)*(R74-R76)/(R75-R76))","v":{"$error":"#N/A"}},{"$f":"IF(R74=R76,V76,V76+(V75-V76)*(R74-R76)/(R75-R76))","v":{"$error":"#N/A"}},{"$f":"IF(R74=R76,W76,W76+(W75-W76)*(R74-R76)/(R75-R76))","v":{"$error":"#N/A"}},{"$f":"IF(R74=R76,X76,X76+(X75-X76)*(R74-R76)/(R75-R76))","v":{"$error":"#N/A"}}]
[null,700,0.13,0.13,0.21,0.1,0.08,0.12,null,null,{"$f":"CEILING(K74,100)","v":0},{"$f":"VLOOKUP(K75,$B$68:$H$80,2,TRUE)","v":{"$error":"#N/A"}},{"$f":"VLOOKUP(K75,$B$68:$H$80,3,TRUE)","v":{"$error":"#N/A"}},{"$f":"VLOOKUP(K75,$B$68:$H$80,4,TRUE)","v":{"$error":"#N/A"}},{"$f":"VLOOKUP(K75,$B$68:$H$80,5,TRUE)","v":{"$error":"#N/A"}},{"$f":"VLOOKUP(K75,$B$68:$H$80,6,TRUE)","v":{"$error":"#N/A"}},{"$f":"VLOOKUP(K75,$B$68:$H$80,7,TRUE)","v":{"$error":"#N/A"}},{"$f":"CEILING(R74,100)","v":0},{"$f":"VLOOKUP(R75,$B$68:$H$80,2,TRUE)","v":{"$error":"#N/A"}},{"$f":"VLOOKUP(R75,$B$68:$H$80,3,TRUE)","v":{"$error":"#N/A"}},{"$f":"VLOOKUP(R75,$B$68:$H$80,4,TRUE)","v":{"$error":"#N/A"}},{"$f":"VLOOKUP(R75,$B$68:$H$80,5,TRUE)","v":{"$error":"#N/A"}},{"$f":"VLOOKUP(R75,$B$68:$H$80,6,TRUE)","v":{"$error":"#N/A"}},{"$f":"VLOOKUP(R75,$B$68:$H$80,7,TRUE)","v":{"$error":"#N/A"}}]
[null,800,0.09,0.05,0.08,0,0.06,0.05,null,null,{"$f":"MAX(FLOOR(K74,100),20)","v":20},{"$f":"VLOOKUP(K76,$B$68:$H$80,2,TRUE)","v":1},{"$f":"VLOOKUP(K76,$B$68:$H$80,3,TRUE)","v":1},{"$f":"VLOOKUP(K76,$B$68:$H$80,4,TRUE)","v":1},{"$f":"VLOOKUP(K76,$B$68:$H$80,5,TRUE)","v":1},{"$f":"VLOOKUP(K76,$B$68:$H$80,6,TRUE)","v":1},{"$f":"VLOOKUP(K76,$B$68:$H$80,7,TRUE)","v":1},{"$f":"MAX(FLOOR(R74,100),20)","v":20},{"$f":"VLOOKUP(R76,$B$68:$H$80,2,TRUE)","v":1},{"$f":"VLOOKUP(R76,$B$68:$H$80,3,TRUE)","v":1},{"$f":"VLOOKUP(R76,$B$68:$H$80,4,TRUE)","v":1},{"$f":"VLOOKUP(R76,$B$68:$H$80,5,TRUE)","v":1},{"$f":"VLOOKUP(R76,$B$68:$H$80,6,TRUE)","v":1},{"$f":"VLOOKUP(R76,$B$68:$H$80,7,TRUE)","v":1}]
[null,900,7.0000000000000007E-2,0.02,0.03,0,0.05,0.02,null,null,"Temp-10",null,null,null,null,null,null,"Temp-20"]
[null,1000,0.04,0.01,0,0,0.03,0.01,null,null,{"$f":"D53","v":0},{"$f":"IF(K78=K80,L80,L80+(L79-L80)*(K78-K80)/(K79-K80))","v":{"$error":"#N/A"}},{"$f":"IF(K78=K80,M80,M80+(M79-M80)*(K78-K80)/(K79-K80))","v":{"$error":"#N/A"}},{"$f":"IF(K78=K80,N80,N80+(N79-N80)*(K78-K80)/(K79-K80))","v":{"$error":"#N/A"}},{"$f":"IF(K78=K80,O80,O80+(O79-O80)*(K78-K80)/(K79-K80))","v":{"$error":"#N/A"}},{"$f":"IF(K78=K80,P80,P80+(P79-P80)*(K78-K80)/(K79-K80))","v":{"$error":"#N/A"}},{"$f":"IF(K78=K80,Q80,Q80+(Q79-Q80)*(K78-K80)/(K79-K80))","v":{"$error":"#N/A"}},{"$f":"D63","v":0},{"$f":"IF(R78=R80,S80,S80+(S79-S80)*(R78-R80)/(R79-R80))","v":{"$error":"#N/A"}},{"$f":"IF(R78=R80,T80,T80+(T79-T80)*(R78-R80)/(R79-R80))","v":{"$error":"#N/A"}},{"$f":"IF(R78=R80,U80,U80+(U79-U80)*(R78-R80)/(R79-R80))","v":{"$error":"#N/A"}},{"$f":"IF(R78=R80,V80,V80+(V79-V80)*(R78-R80)/(R79-R80))","v":{"$error":"#N/A"}},{"$f":"IF(R78=R80,W80,W80+(W79-W80)*(R78-R80)/(R79-R80))","v":{"$error":"#N/A"}},{"$f":"IF(R78=R80,X80,X80+(X79-X80)*(R78-R80)/(R79-R80))","v":{"$error":"#N/A"}}]
[null,1100,0.02,0.01,0,0,0.02,0,null,null,{"$f":"CEILING(K78,100)","v":0},{"$f":"VLOOKUP(K79,$B$68:$H$80,2,TRUE)","v":{"$error":"#N/A"}},{"$f":"VLOOKUP(K79,$B$68:$H$80,3,TRUE)","v":{"$error":"#N/A"}},{"$f":"VLOOKUP(K79,$B$68:$H$80,4,TRUE)","v":{"$error":"#N/A"}},{"$f":"VLOOKUP(K79,$B$68:$H$80,5,TRUE)","v":{"$error":"#N/A"}},{"$f":"VLOOKUP(K79,$B$68:$H$80,6,TRUE)","v":{"$error":"#N/A"}},{"$f":"VLOOKUP(K79,$B$68:$H$80,7,TRUE)","v":{"$error":"#N/A"}},{"$f":"CEILING(R78,100)","v":0},{"$f":"VLOOKUP(R79,$B$68:$H$80,2,TRUE)","v":{"$error":"#N/A"}},{"$f":"VLOOKUP(R79,$B$68:$H$80,3,TRUE)","v":{"$error":"#N/A"}},{"$f":"VLOOKUP(R79,$B$68:$H$80,4,TRUE)","v":{"$error":"#N/A"}},{"$f":"VLOOKUP(R79,$B$68:$H$80,5,TRUE)","v":{"$error":"#N/A"}},{"$f":"VLOOKUP(R79,$B$68:$H$80,6,TRUE)","v":{"$error":"#N/A"}},{"$f":"VLOOKUP(R79,$B$68:$H$80,7,TRUE)","v":{"$error":"#N/A"}}]
[null,1200,0,0,0,0,0,0,null,null,{"$f":"MAX(FLOOR(K78,100),20)","v":20},{"$f":"VLOOKUP(K80,$B$68:$H$80,2,TRUE)","v":1},{"$f":"VLOOKUP(K80,$B$68:$H$80,3,TRUE)","v":1},{"$f":"VLOOKUP(K80,$B$68:$H$80,4,TRUE)","v":1},{"$f":"VLOOKUP(K80,$B$68:$H$80,5,TRUE)","v":1},{"$f":"VLOOKUP(K80,$B$68:$H$80,6,TRUE)","v":1},{"$f":"VLOOKUP(K80,$B$68:$H$80,7,TRUE)","v":1},{"$f":"MAX(FLOOR(R78,100),20)","v":20},{"$f":"VLOOKUP(R80,$B$68:$H$80,2,TRUE)","v":1},{"$f":"VLOOKUP(R80,$B$68:$H$80,3,TRUE)","v":1},{"$f":"VLOOKUP(R80,$B$68:$H$80,4,TRUE)","v":1},{"$f":"VLOOKUP(R80,$B$68:$H$80,5,TRUE)","v":1},{"$f":"VLOOKUP(R80,$B$68:$H$80,6,TRUE)","v":1},{"$f":"VLOOKUP(R80,$B$68:$H$80,7,TRUE)","v":1}]
[]
[]
[]
[null,"GRAF",null,null,null,null,null,null,null,null,null,null,1,2,3,4,5,6,7,8,9,10,1,2,3,4,5,6,7,8,9,10]
[null,"x",0,{"$f":"E16","v":1},{"$f":"E16","v":1},0,0,{"$f":"E26","v":0},{"$f":"D85-E26","v":1},{"$f":"E85-E26","v":1},{"$f":"E26","v":0},{"$f":"E26","v":0},{"$f":"E29","v":0.04},{"$f":"IF(N84>$E$31,M85,M85+$E$33)","v":0.224},0.40800000000000003,0.59200000000000008,0.77600000000000002,0.96,0.96,0.96,0.96,0.96,{"$f":"E29","v":0.04},{"$f":"IF(X84>$E$37,W85,W85+$E$39)","v":0.224},0.40800000000000003,0.59200000000000008,0.77600000000000002,0.96,0.96,0.96,0.96,0.96,{"$f":"IF(E15>E16,E15,E16)","v":1}]
[null,"Opr rand",0,0,{"$f":"-E15","v":-0.15},{"$f":"-E15","v":-0.15},0]
[null,"Reduc rand",null,null,null,null,null,{"$f":"-E25","v":-1.7991000332005288E-2},{"$f":"-E25","v":-1.7991000332005288E-2},{"$f":"E86+E27","v":-0.15},{"$f":"F86+E27","v":-0.15},{"$f":"-E25","v":-1.7991000332005288E-2}]
[null,"Trykarm",null,null,null,null,null,null,null,null,null,null,{"$f":"-$E$32","v":-0.04},-0.04,-0.04,-0.04,-0.04,-0.04,-0.04,-0.04,-0.04,-0.04]
[null,"Trækarm",null,null,null,null,null,null,null,null,null,null,null,null,null,null,null,null,null,null,null,null,{"$f":"-$E$15+$E$38","v":-0.10999999999999999},-0.10999999999999999,-0.10999999999999999,-0.10999999999999999,-0.10999999999999999,-0.10999999999999999,-0.10999999999999999,-0.10999999999999999,-0.10999999999999999,-0.10999999999999999]
[null,"Skala",null,null,null,null,null,null,null,null,null,null,null,null,null,null,null,null,null,null,null,null,null,null,null,null,null,null,null,null,null,null,{"$f":"IF(E15>E16,-E15,-E16)","v":-1}]
[]
[null,"Betontype",{"$f":"Makro!B7","v":2}]
[null,"Reduktionsparametre, beton",null,null,null,null,"Betontype,  fc,t/fck"]
[null,"q","fc,t/fck","ec1","ecu1,t","Indeks",1,2]
[null,20,{"$f":"IF($C$92=1,G95,H95)","v":1},2.5000000000000001E-3,0.02,1,1,1]
[null,100,{"$f":"IF($C$92=1,G96,H96)","v":1},4.0000000000000001E-3,2.2499999999999999E-2,2,1,1]
[null,200,1,5.4999999999999997E-3,2.5000000000000001E-2,3,0.95,1]
[null,300,0.93333330000000003,7.0000000000000001E-3,2.75E-2,4,0.85,0.93333330000000003]
[null,400,0.86666660000000006,0.01,0.03,5,0.75,0.86666660000000006]
[null,500,0.8,1.4999999999999999E-2,3.2500000000000001E-2,6,0.6,0.8]
[null,600,0.60000000000000009,2.5000000000000001E-2,3.5000000000000003E-2,7,0.45,0.60000000000000009]
[null,700,0.40000000000000008,2.5000000000000001E-2,3.7499999999999999E-2,8,0.3,0.40000000000000008]
[null,800,0.20000000000000007,2.5000000000000001E-2,0.04,9,0.15,0.20000000000000007]
[null,900,0,2.5000000000000001E-2,4.2500000000000003E-2,10,0.08,0]
[null,1000,0,2.5000000000000001E-2,4.4999999999999998E-2,11,0.04,0]
[null,1100,2.0426489726352815E-3,2.5000000000000001E-2,4.7500000000000001E-2,12,0.01,2.0426489726352815E-3]
[null,1200,8.5522613031592085E-6,null,null,13,0,8.5522613031592085E-6]

{"sheet":"Makro","index":4,"n_rows":20,"n_cols":17,"rows_kept":20,"cut":false,"hidden":false,"merged":[[17,8,17,11],[17,12,17,15]]}
[1,5,1,true,"h","b","x","y",null,"LA (m)",null,"LB (m)",null,"LA (m)",null,"LB (m)"]
[1,1,null,true,500,150,null,null,null,1.6,null,1.2,null,1.6,null,1.2]
[1,2,null,true,1500,1500,1000,1000,"Bjælkereaktioner","Bjælkereaktioner",null,null,"Bjælkereaktioner","Bjælkereaktioner"]
[1,2,null,true,2500,1000,3500,null,"NA","NA","NB","NB","NA","NA","NB","NB"]
[null,2,null,true,1500,700,5500,1000,"(kN)  ","(kN)  ","(kN)  ","(kN)  ","(kN)  ","(kN)  ","(kN)  ","(kN)  "]
[null,1,null,null,null,null,null,null,12,{"$f":"Kold!$AW$84","v":0},15,{"$f":"Kold!$BE$84","v":0},12,{"$f":"BRAND!BV139","v":0},15,{"$f":"BRAND!CK139","v":0},84]
[null,2,null,null,null,null,null,null,13,{"$f":"Kold!$AW$85","v":0},16,{"$f":"Kold!$BE$85","v":0},13,{"$f":"BRAND!BV140","v":0},16,{"$f":"BRAND!CK140","v":0}]
[null,2,null,null,null,null,null,null,13,{"$f":"Kold!$AW$86","v":0},16,{"$f":"Kold!$BE$86","v":0},13,{"$f":"BRAND!BV141","v":0},16,{"$f":"BRAND!CK141","v":0}]
[null,null,null,null,null,null,null,null,13,{"$f":"Kold!$AW$87","v":0},16,{"$f":"Kold!$BE$87","v":0},13,{"$f":"BRAND!BV142","v":0},16,{"$f":"BRAND!CK142","v":0}]
[null,null,null,null,null,null,null,null,13,{"$f":"Kold!$AW$88","v":0},16,{"$f":"Kold!$BE$88","v":0},13,{"$f":"BRAND!BV143","v":0},16,{"$f":"BRAND!CK143","v":0}]
[null,null,null,null,null,null,null,null,13,{"$f":"Kold!$AW$89","v":0},16,{"$f":"Kold!$BE$89","v":0},13,{"$f":"BRAND!BV144","v":0},16,{"$f":"BRAND!CK144","v":0}]
[null,null,null,null,null,null,null,null,13,{"$f":"Kold!$AW$90","v":0},16,{"$f":"Kold!$BE$90","v":0},13,{"$f":"BRAND!BV145","v":0},16,{"$f":"BRAND!CK145","v":0}]
[null,null,null,null,null,null,null,null,13,{"$f":"Kold!$AW$91","v":0},16,{"$f":"Kold!$BE$91","v":0},13,{"$f":"BRAND!BV146","v":0},16,{"$f":"BRAND!CK146","v":0}]
[null,null,null,null,null,null,null,null,13,{"$f":"Kold!$AW$92","v":0},16,{"$f":"Kold!$BE$92","v":0},13,{"$f":"BRAND!BV147","v":0},16,{"$f":"BRAND!CK147","v":0}]
[null,null,null,null,null,null,null,null,40,null,40,null,40,null,40,null,93]
[null,null,null,null,null,null,null,null,null,null,{"$f":"2*K15/3+Kold!$AC$11","v":26.666666666666668},null,{"$f":"2*M15/3+BRAND!$O$40/3","v":31.666666666666668},null,{"$f":"2*O15/3+BRAND!$O$40/3","v":31.666666666666668}]
[null,null,null,null,null,null,null,null,"AP","AR","AX","AZ","AP","AR","AX","AZ"]
[null,null,null,null,null,null,null,null,"Kold",null,null,null,"Brand"]
[]
[{"$f":"IF(E20=1,0,1000000)","v":0},1,null,null,1]