{"text_format":"1","workbook":"xlsx","n_sheets":14,"sheets":["Inddata","System","Vægskiver","Vægplan","Kontur","Laste","E1","E2","E3","E4","E5","E6","Skala","Trig"],"not_rendered":{"charts":37,"images":1,"macros":1,"external_links":0,"defined_names":92,"comments":3,"pivot_tables":0},"unopened":[],"bounds":{"document_bytes":16777216,"sheet_cells":100000,"rows_first":2000,"rows_last":500,"rows_between":2000,"halvings":0,"cell_chars":16384,"cell_head_chars":4096},"cells_cut":0,"cells_raw":0,"read":"whole","date_system":"1900"}

{"sheet":"Inddata","index":0,"n_rows":77,"n_cols":213,"rows_kept":77,"cut":false,"hidden":false,"merged":[[1,19,1,21],[34,13,34,15],[19,65,19,68],[3,2,3,3],[3,4,3,5],[3,15,3,18],[1,14,1,17]]}
[]
[null,"Opgave:","BEF's prøvehus, ULS lastkomb. 6.10b",null,null,null,null,null,null,null,null,null,null,"Bruger:",{"$f":"HD9","v":"Bruger skal registreres"},null,null,null,"sag nr.:","21-101",null,null,"init:","NNN"]
[null,null,null,null,null,null,null,null,null,null,null,null,null,null,null,null,null,null,null,null,null,null,null,null,null,null,null,null,null,null,null,null,null,null,null,null,null,null,null,null,null,null,null,null,null,null,null,null,null,null,null,null,null,null,6,2,{"$f":"IF(SUM(BE27:BE30)>0,5,IF(SUM(BE21:BE26)>0,4,IF(SUM(BE15:BE20)>0,3,IF(SUM(BE9:BE14)>0,2,1))))","v":1}]
[null,"Væg","1. endepunkt",null,"2. endepunkt",null,"dim.",null,null,"væghøjde","rel. stivh.",null,null,"Etage","Højde","Laste på dækskiver over etager",null,null,null,null,null,null,null,null,null,null,null,null,null,null,null,null,null,null,null,null,null,null,null,null,null,null,null,null,null,null,null,null,null,null,null,null,null,null,"Etage 6",1,{"$f":"IF(INDEX(vægstabilitet,11+12*(BD4-1),2)=0,0,1)","v":1}]
[null,null,"x1","y1","x2","y2","t",null,null,"etager","a0","Ankre",null,null,"h_etg","y_Wx","W_x","x_Wy","W_y",null,null,null,null,null,null,null,null,null,null,null,null,null,null,null,null,null,null,null,null,null,null,null,null,null,null,null,null,null,null,null,null,null,null,null,"Etage 5",2,1,"Væg",null,null,null,"Etage","h","t","r_1","r_2","L_eff","V_i","Q","G","p","P1","P2","T","N","b_1","b_2","n","n_max",null,null,null,"Etager:",6,null,null,null,null,null,null,null,null,null,null,null,null,null,"Hjørnepunkter i vægopstalt",null,null,null,null,null,null,null,null,null,null,null,null,null,null,null,null,null,null,null,null,null,null,null,null,null,null,null,null,null,null,null,"vægcheck"]
[null,"nr.","(m)","(m)","(m)","(m)","(m)",null,null,"(antal)",null,"til basis",null,null,"(m)","(m)","(KN)","(m)","(KN)",null,null,null,null,null,null,null,null,null,null,null,null,null,null,null,null,null,null,null,null,null,null,null,null,null,null,null,null,null,null,null,null,null,null,null,"Etage 4",3,1,{"$f":"gv","v":2},null,null,null,null,"(m)","(m)","(m)","(m)","(m)","(kN)","(kN)","(kN)","(kN/m)","(kN)","(kN)","(kN)","(kN)","(m)","(m)","(kN/m)","(kN/m)"]
[null,1,10,10,15,10,0.2,null,null,6,1,{"$f":"IF(B7=gv,$V$43,INDEX(ankre,11+12*(B7-1),1))","v":58.278931684871097},{"$f":"IF(OR(INDEX(vægstabilitet,11+12*(B7-1),19)=\"!\",INDEX(vægstabilitet,10+12*(B7-1),19)=\"!\",INDEX(vægstabilitet,9+12*(B7-1),19)=\"!\",INDEX(vægstabilitet,8+12*(B7-1),19)=\"!\",INDEX(vægstabilitet,7+12*(B7-1),19)=\"!\",INDEX(vægstabilitet,6+12*(B7-1),19)=\"!\"),1,0)","v":0},6,3,{"$f":"INDEX(Resultlast,(LT-1)*6+(7-N7),1)","v":16},{"$f":"INDEX(Resultlast,(LT-1)*6+(7-N7),2)","v":23.587199999999996},{"$f":"INDEX(Resultlast,(LT-1)*6+(7-N7),3)","v":19.999999999999996},{"$f":"INDEX(Resultlast,(LT-1)*6+(7-N7),4)","v":62.622},null,null,null,null,null,null,null,null,null,null,null,null,null,null,null,null,null,null,null,null,null,null,null,null,null,null,null,null,null,null,null,null,null,null,null,"Etage 3",4,1,null,null,null,null,null,null,null,null,null,null,null,null,null,null,null,null,null,null,null,null,null,null,null,null,null,"s_1","s_2","x_1","y_1","x_2","y_2","cos(a)","sin(a)","s_1_e","s_2_e","s_N","N_0","n","T_1","T_2",0,0,{"$f":"CF14","v":5.0000999999999998},{"$f":"CF14","v":5.0000999999999998},{"$f":"CT7","v":0},{"$f":"CE13","v":0},{"$f":"CE13","v":0},{"$f":"CF13","v":5.0000999999999998},{"$f":"CF13","v":5.0000999999999998},{"$f":"CY7","v":0},{"$f":"CE12","v":0},{"$f":"CE12","v":0},{"$f":"CF12","v":5.0000999999999998},{"$f":"CF12","v":5.0000999999999998},{"$f":"DD7","v":0},{"$f":"CE11","v":0},{"$f":"CE11","v":0},{"$f":"CF11","v":5.0000999999999998},{"$f":"CF11","v":5.0000999999999998},{"$f":"DI7","v":0},{"$f":"CE10","v":0},{"$f":"CE10","v":0},{"$f":"CF10","v":5.0000999999999998},{"$f":"CF10","v":5.0000999999999998},{"$f":"DN7","v":0},{"$f":"CE9","v":0},{"$f":"CE9","v":0},{"$f":"CF9","v":5.0000999999999998},{"$f":"CF9","v":5.0000999999999998},{"$f":"DS7","v":0},{"$f":"DX15","v":20},null,{"$f":"IF(AND(INDEX(vægstabilitet,11+12*(B7-1),14)<>0,K7*J7*G7*SQRT((E7-C7)^2+(F7-D7)^2)=0),0,B7)","v":1}]
[null,2,25,10,30,10,0.2,null,null,6,1,{"$f":"IF(B8=gv,$V$43,INDEX(ankre,11+12*(B8-1),1))","v":58.278931684871097},{"$f":"IF(OR(INDEX(vægstabilitet,11+12*(B8-1),19)=\"!\",INDEX(vægstabilitet,10+12*(B8-1),19)=\"!\",INDEX(vægstabilitet,9+12*(B8-1),19)=\"!\",INDEX(vægstabilitet,8+12*(B8-1),19)=\"!\",INDEX(vægstabilitet,7+12*(B8-1),19)=\"!\",INDEX(vægstabilitet,6+12*(B8-1),19)=\"!\"),1,0)","v":0},5,3,16,32.10479999999999,20.000000000000004,82.277999999999992,null,null,null,null,null,null,null,null,null,null,null,null,null,null,null,null,null,null,null,null,null,null,null,null,null,null,null,null,null,null,null,null,null,null,null,"Etage 2",5,0,null,null,null,null,null,null,null,null,null,null,null,null,null,null,null,null,null,null,null,null,null,null,null,null,null,null,null,null,null,null,null,null,null,null,null,null,null,null,null,null,null,null,null,null,null,null,null,null,null,null,null,null,null,null,null,null,null,null,null,null,null,null,null,null,null,null,null,null,null,null,null,null,{"$f":"IF(AND(INDEX(vægstabilitet,11+12*(B8-1),14)<>0,K8*J8*G8*SQRT((E8-C8)^2+(F8-D8)^2)=0),0,B8)","v":2}]
[null,3,10,15,10,22,0.2,null,null,6,1,568.86615589808002,1,4,3,16,32.759999999999991,20,83.789999999999992,null,null,null,null,null,null,null,null,null,null,null,null,null,null,null,null,null,null,null,null,null,null,null,null,null,null,null,null,null,null,null,null,null,null,null,"Etage 1",6,0,null,null,null,null,6,{"$f":"IF(INDEX(Hovedtal,BF6,9)<BJ9,0,INDEX(Etager,7-BJ9,2))","v":3},{"$f":"IF(BJ9>INDEX(Hovedtal,BF6,9),0,INDEX(Hovedtal,BF6,6))","v":0.2},{"$f":"O38","v":0},0,{"$f":"CN9-CM9","v":5.0000999999999998},{"$f":"INDEX(Hovedtal,BF6,9+BJ9)","v":11.793600136506566},{"$f":"BP9","v":11.793600136506566},{"$f":"(CF9-CE9)*BL9*BK9*g_g*$E$38","v":64.801295999999994},{"$f":"Q38","v":0},0,{"$f":"S38","v":0},{"$f":"IF(CO9>0.5*(CM9+CN9),CS9,CR9)","v":0},{"$f":"CP9+BV9","v":64.801295999999994},{"$f":"IF(CO9<=0.5*(CM9+CN9),IF(CO9>CM9+0.5*CP9/CQ9,2*(CO9-CM9),BW9/CQ9),0)","v":0},{"$f":"IF(CO9>0.5*(CM9+CN9),IF(CO9<CN9-0.5*CP9/CQ9,2*(CN9-CO9),BW9/CQ9),0)","v":3.9081218269239653},{"$f":"IF(CO9>0.5*(CM9+CN9),BW9/BY9,BW9/BX9)","v":16.581186275609095},{"$f":"INDEX(Hovedtal,BF6,8)","v":1200.0000000000002},{"$f":"IF(BZ9>CA9,\"!\",\"\")","v":""},null,null,{"$f":"IF(BK9=0,CE10,IF(BM9=0,0,BM9))","v":0},{"$f":"IF(BK9=0,CF10,IF(BN9=0,CF14,CF14-BN9))","v":5.0000999999999998},{"$f":"IF(BK9=0,0,CG14+CE9*CK14)","v":25},{"$f":"IF(BK9=0,0,CH14+CE9*CL14)","v":10},{"$f":"IF(BK9=0,0,CG14+CF9*CK14)","v":30.0001},{"$f":"IF(BK9=0,0,CH14+CF9*CL14)","v":10},null,null,{"$f":"MAX(CE9:CE10)","v":0},{"$f":"MIN(CF9:CF10)","v":5.0000999999999998},{"$f":"IF(BK9=0,0.5*(CM9+CN9),(BQ9*BK9+CE9*BT9+0.5*(CE9+CF9)*(BR9+(CF9-CE9)*BS9)+CF9*BU9)/CP9)","v":3.0460390865380171},{"$f":"BR9+BS9*(CF9-CE9)+BT9+BU9","v":64.801295999999994},{"$f":"IF(CO9<0.5*(CM9+CN9),MAX(CA9,8*CP9*(0.5*(CN9+CM9)-CO9)/(CN9-CM9)^2+0.1),MAX(CA9,-8*CP9*(0.5*(CN9+CM9)-CO9)/(CN9-CM9)^2+0.1))","v":1200.0000000000002},{"$f":"IF(AND(CO9<0.5*(CM9+CN9),CP9/CQ9>2*(CO9-CM9)),CQ9*(-SQRT((CP9/CQ9+0.5*CM9-0.5*CN9)^2-2*(-CO9*CP9/CQ9+0.5*CP9^2/CQ9^2+CM9*CP9/CQ9))-(CP9/CQ9+0.5*CM9-0.5*CN9)),0)","v":0},{"$f":"IF(AND(CO9>=0.5*(CM9+CN9),CP9/CQ9>2*(CN9-CO9)),CQ9*(-SQRT((CP9/CQ9+0.5*CM9-0.5*CN9)^2-2*(CO9*CP9/CQ9+0.5*CP9^2/CQ9^2-CN9*CP9/CQ9))-(CP9/CQ9+0.5*CM9-0.5*CN9)),0)","v":0},null,null,null,null,null,null,null,null,null,null,null,null,null,null,null,null,null,null,null,null,null,null,null,null,null,{"$f":"DP10","v":16.5},{"$f":"DV9+BK9","v":19.5},{"$f":"DS9+BK9","v":19.5},{"$f":"DO10","v":16.5},{"$f":"DS9","v":16.5},null,null,3,null,null,null,null,null,null,null,null,null,null,null,null,null,null,null,null,null,null,null,null,null,null,null,null,null,null,null,null,null,null,null,null,null,null,null,null,null,null,null,null,null,null,null,null,null,null,null,null,null,null,null,null,null,null,null,null,null,null,null,null,null,null,null,null,null,null,null,null,null,null,null,null,null,null,null,null,null,null,{"$f":"IF(HE9=1,0,1000000)","v":0},1,null,"Bruger skal registreres",1]
[null,4,30,15,30,22,0.2,null,null,6,1,85.142119574016405,0,3,3,16,32.759999999999991,20,83.789999999999992,null,null,null,null,null,null,null,null,null,null,null,null,null,null,null,null,null,null,null,null,null,null,null,null,null,null,null,null,null,null,null,null,null,null,null,null,7,0,null,null,null,null,5,{"$f":"IF(INDEX(Hovedtal,BF6,9)<BJ10,0,INDEX(Etager,7-BJ10,2))","v":3},{"$f":"IF(BJ10>INDEX(Hovedtal,BF6,9),0,INDEX(Hovedtal,BF6,6))","v":0.2},0,0,5.0000999999999998,{"$f":"INDEX(Hovedtal,BF6,9+BJ10)","v":16.052400170711319},{"$f":"BQ9+BP10","v":27.846000307217885},64.801295999999994,0,0,0,0,129.60259199999999,0,3.1649700153902272,40.949074199687338,{"$f":"INDEX(Hovedtal,BF6,8)","v":1200.0000000000002},"",null,null,{"$f":"IF(BK10=0,CE11,IF(BM10=0,0,BM10))","v":0},{"$f":"IF(BK10=0,CF11,IF(BN10=0,CF14,CF14-BN10))","v":5.0000999999999998},{"$f":"IF(BK10=0,0,CG14+CE10*CK14)","v":25},{"$f":"IF(BK10=0,0,CH14+CE10*CL14)","v":10},{"$f":"IF(BK10=0,0,CG14+CF10*CK14)","v":30.0001},{"$f":"IF(BK10=0,0,CH14+CF10*CL14)","v":10},null,null,{"$f":"MAX(CE10:CE11)","v":0},{"$f":"MIN(CF10:CF11)","v":5.0000999999999998},{"$f":"IF(BK10=0,0.5*(CM10+CN10),(BQ10*BK10+CE10*BT10+0.5*(CE10+CF10)*(BR10+(CF10-CE10)*BS10)+CF10*BU10+CO9*CP9)/CP10)","v":3.4176149923048862},{"$f":"CP9+BR10+BS10*(CF10-CE10)+BT10+BU10","v":129.60259199999999},1200.0000000000002,0,0,null,null,null,null,null,null,null,null,null,null,null,null,null,null,null,null,null,null,null,null,{"$f":"DK11","v":13.5},{"$f":"DQ10+BK10","v":16.5},{"$f":"DN10+BK10","v":16.5},{"$f":"DJ11","v":13.5},{"$f":"DN10","v":13.5},null,null,null,null,null,null,null,4]
[null,5,null,null,null,null,null,null,null,null,null,0,0,2,4.5,16,40.949999999999996,20.000000000000004,102.69,null,null,null,null,null,null,null,null,null,null,null,null,null,null,null,null,null,null,null,null,null,null,null,null,null,null,null,null,null,null,null,null,null,null,null,{"$f":"IF(O7>0,6,IF(O8>0,5,IF(O9>0,4,IF(O10>0,3,IF(O11>0,2,1)))))","v":6},8,0,null,null,null,null,4,{"$f":"IF(INDEX(Hovedtal,BF6,9)<BJ11,0,INDEX(Etager,7-BJ11,2))","v":3},{"$f":"IF(BJ11>INDEX(Hovedtal,BF6,9),0,INDEX(Hovedtal,BF6,6))","v":0.2},0,0,5.0000999999999998,{"$f":"INDEX(Hovedtal,BF6,9+BJ11)","v":16.380000173342452},{"$f":"BQ10+BP11","v":44.226000480560337},64.801295999999994,0,0,0,0,194.40388799999999,0,2.4117072948823504,80.608408994128595,{"$f":"INDEX(Hovedtal,BF6,8)","v":1200.0000000000002},"",null,null,{"$f":"IF(BK11=0,CE12,IF(BM11=0,0,BM11))","v":0},{"$f":"IF(BK11=0,CF12,IF(BN11=0,CF14,CF14-BN11))","v":5.0000999999999998},{"$f":"IF(BK11=0,0,CG14+CE11*CK14)","v":25},{"$f":"IF(BK11=0,0,CH14+CE11*CL14)","v":10},{"$f":"IF(BK11=0,0,CG14+CF11*CK14)","v":30.0001},{"$f":"IF(BK11=0,0,CH14+CF11*CL14)","v":10},null,null,{"$f":"MAX(CE11:CE12)","v":0},{"$f":"MIN(CF11:CF12)","v":5.0000999999999998},{"$f":"IF(BK11=0,0.5*(CM11+CN11),(BQ11*BK11+CE11*BT11+0.5*(CE11+CF11)*(BR11+(CF11-CE11)*BS11)+CF11*BU11+CO10*CP10)/CP11)","v":3.7942463525588246},{"$f":"CP10+BR11+BS11*(CF11-CE11)+BT11+BU11","v":194.40388799999999},1200.0000000000002,0,0,null,null,null,null,null,null,null,null,null,null,null,null,null,null,null,{"$f":"DF12","v":10.5},{"$f":"DL11+BK11","v":13.5},{"$f":"DI11+BK11","v":13.5},{"$f":"DE12","v":10.5},{"$f":"DI11","v":10.5},null,null,null,null,null,null,null,null,null,null,null,null,5]
[null,6,null,null,null,null,null,null,null,null,null,0,0,1,3,16,40.949999999999996,20.000000000000004,102.69,null,null,null,null,null,null,null,null,null,null,null,null,null,null,null,null,null,null,null,null,null,null,null,null,null,null,null,null,null,null,null,null,null,null,null,null,9,0,null,null,null,null,3,{"$f":"IF(INDEX(Hovedtal,BF6,9)<BJ12,0,INDEX(Etager,7-BJ12,2))","v":3},{"$f":"IF(BJ12>INDEX(Hovedtal,BF6,9),0,INDEX(Hovedtal,BF6,6))","v":0.2},0,0,5.0000999999999998,{"$f":"INDEX(Hovedtal,BF6,9+BJ12)","v":16.380000173342459},{"$f":"BQ11+BP12","v":60.606000653902797},64.801295999999994,0,0,0,0,259.20518399999997,0,1.6559168471309373,156.5327295565005,{"$f":"INDEX(Hovedtal,BF6,8)","v":1200.0000000000002},"",null,null,{"$f":"IF(BK12=0,CE13,IF(BM12=0,0,BM12))","v":0},{"$f":"IF(BK12=0,CF13,IF(BN12=0,CF14,CF14-BN12))","v":5.0000999999999998},{"$f":"IF(BK13=0,0,CG14+CE12*CK14)","v":25},{"$f":"IF(BK12=0,0,CH14+CE12*CL14)","v":10},{"$f":"IF(BK12=0,0,CG14+CF12*CK14)","v":30.0001},{"$f":"IF(BK12=0,0,CH14+CF12*CL14)","v":10},null,null,{"$f":"MAX(CE12:CE13)","v":0},{"$f":"MIN(CF12:CF13)","v":5.0000999999999998},{"$f":"IF(BK12=0,0.5*(CM12+CN12),(BQ12*BK12+CE12*BT12+0.5*(CE12+CF12)*(BR12+(CF12-CE12)*BS12)+CF12*BU12+CO11*CP11)/CP12)","v":4.1721415764345311},{"$f":"CP11+BR12+BS12*(CF12-CE12)+BT12+BU12","v":259.20518399999997},1200.0000000000002,0,0,null,null,null,null,null,null,null,null,null,null,{"$f":"DA13","v":7.5},{"$f":"DG12+BK12","v":10.5},{"$f":"DD12+BK12","v":10.5},{"$f":"CZ13","v":7.5},{"$f":"DD12","v":7.5},null,null,null,null,null,null,null,null,null,null,null,null,null,null,null,null,null,6]
[null,7,null,null,null,null,null,null,null,null,null,0,0,{"$f":"System!B16","v":""},null,null,null,null,null,null,null,null,null,{"$f":"IF(SUM(M7:M33)>0,\" NB: se væg ved mrk. !\",\"\")","v":" NB: se væg ved mrk. !"},null,null,null,null,null,null,null,null,null,null,null,null,null,null,null,null,null,null,null,null,null,null,null,null,null,null,null,null,null,null,null,10,0,null,null,null,null,2,{"$f":"IF(INDEX(Hovedtal,BF6,9)<BJ13,0,INDEX(Etager,7-BJ13,2))","v":4.5},{"$f":"IF(BJ13>INDEX(Hovedtal,BF6,9),0,INDEX(Hovedtal,BF6,6))","v":0.2},0,0,5.0000999999999998,{"$f":"INDEX(Hovedtal,BF6,9+BJ13)","v":20.475000206231645},{"$f":"BQ12+BP13","v":81.081000860134438},97.201943999999997,0,0,0,0,356.40712799999994,0,0.52050772537429246,684.72975640027391,{"$f":"INDEX(Hovedtal,BF6,8)","v":1200.0000000000002},"",null,null,{"$f":"IF(BK13=0,CE14,IF(BM13=0,0,BM13))","v":0},{"$f":"IF(BK13=0,CF14,IF(BN13=0,CF14,CF14-BN13))","v":5.0000999999999998},{"$f":"IF(BK13=0,0,CG14+CE13*CK14)","v":25},{"$f":"IF(BK13=0,0,CH14+CE13*CL14)","v":10},{"$f":"IF(BK13=0,0,CG14+CF13*CK14)","v":30.0001},{"$f":"IF(BK13=0,0,CH14+CF13*CL14)","v":10},null,null,{"$f":"MAX(CE13:CE14)","v":0},{"$f":"MIN(CF13:CF14)","v":5.0000999999999998},{"$f":"IF(BK13=0,0.5*(CM13+CN13),(BQ13*BK13+CE13*BT13+0.5*(CE13+CF13)*(BR13+(CF13-CE13)*BS13)+CF13*BU13+CO12*CP12)/CP13)","v":4.7398461373128535},{"$f":"CP12+BR13+BS13*(CF13-CE13)+BT13+BU13","v":356.40712799999994},1200.0000000000002,0,0,null,null,null,null,null,{"$f":"CV14","v":3},{"$f":"DB13+BK13","v":7.5},{"$f":"CY13+BK13","v":7.5},{"$f":"CU14","v":3},{"$f":"CY13","v":3},null,null,null,null,null,null,null,null,null,null,null,null,null,null,null,null,null,null,null,null,null,null,7]
[null,8,null,null,null,null,null,null,null,null,null,0,0,null,null,null,null,null,null,null,null,null,null,null,null,null,null,null,null,null,null,null,null,null,null,null,null,null,null,null,null,null,null,null,null,null,null,null,null,null,null,null,null,null,null,11,0,null,null,null,null,1,{"$f":"IF(INDEX(Hovedtal,BF6,9)<BJ14,0,INDEX(Etager,7-BJ14,2))","v":3},{"$f":"IF(BJ14>INDEX(Hovedtal,BF6,9),0,INDEX(Hovedtal,BF6,6))","v":0.2},null,null,5.0000999999999998,{"$f":"INDEX(Hovedtal,BF6,9+BJ14)","v":20.475000206231645},{"$f":"BQ13+BP14","v":101.55600106636608},64.801295999999994,0,0,0,58.278931684871097,479.48735568487103,0,0.39957279640405913,1200.0000000000002,{"$f":"INDEX(Hovedtal,BF6,8)","v":1200.0000000000002},"",null,null,0,{"$f":"SQRT((CI14-CG14)^2+(CJ14-CH14)^2)+0.0001","v":5.0000999999999998},{"$f":"INDEX(Hovedtal,BF6,2)","v":25},{"$f":"INDEX(Hovedtal,BF6,3)","v":10},{"$f":"INDEX(Hovedtal,BF6,4)","v":30},{"$f":"INDEX(Hovedtal,BF6,5)","v":10},{"$f":"SQRT(1-CL14^2)","v":1},{"$f":"(CJ14-CH14)/CF14","v":0},{"$f":"CE14","v":0},{"$f":"CF14","v":5.0000999999999998},{"$f":"IF(BK14=0,0.5*(CM14+CN14),(BQ14*BK14+CE14*BT14+0.5*(CE14+CF14)*(BR14+(CF14-CE14)*BS14)+CF14*BU14+CO13*CP13)/CP14)","v":5.1185809907388418},{"$f":"CP13+BR14+BS14*(CF14-CE14)+BT14+BU14","v":421.20842399999992},1200.0000000000002,0,58.278931684871097,0,{"$f":"BK14","v":3},{"$f":"BK14","v":3},0,{"$f":"CT14","v":0},null,null,null,null,null,null,null,null,null,null,null,null,null,null,null,null,null,null,null,null,null,null,null,null,null,null,null,8]
[null,9,null,null,null,null,null,null,null,null,null,0,0,null,null,null,null,null,null,null,null,null,null,null,null,null,null,null,null,null,null,null,null,null,null,null,null,null,null,null,null,null,null,null,null,null,null,null,null,null,null,null,null,null,null,12,0,null,null,null,null,null,null,null,null,null,null,null,null,null,null,null,null,null,null,null,null,null,null,null,null,null,null,null,null,null,null,null,null,null,null,null,null,null,null,null,null,null,null,null,null,null,null,null,null,null,null,null,null,null,null,null,null,null,null,null,null,null,null,null,null,null,null,null,null,null,null,{"$f":"MAX(CT7:DW14)+0.5","v":20},null,9]
[null,10,null,null,null,null,null,null,null,null,null,0,0,null,null,null,null,null,null,null,null,null,null,null,null,null,null,null,null,null,null,null,null,null,null,null,null,null,null,null,null,null,null,null,null,null,null,null,null,null,null,null,null,null,null,13,0,null,null,null,null,null,null,null,null,null,null,null,null,null,null,null,null,null,null,null,null,null,null,null,null,null,null,null,null,null,null,null,null,null,null,null,null,null,null,null,null,null,null,null,null,null,null,null,null,null,null,null,null,null,null,null,null,null,null,null,null,null,null,null,null,null,null,null,null,null,null,null,null,10]
[null,11,null,null,null,null,null,null,null,null,null,0,0,null,null,null,null,null,null,null,null,null,null,null,null,null,null,null,null,null,null,null,null,null,null,null,null,null,null,null,null,null,null,null,null,null,null,null,null,null,null,null,null,null,null,14,0,null,null,null,null,null,null,null,null,null,null,null,null,null,null,null,null,null,null,null,null,null,null,null,null,null,null,null,null,null,null,null,null,null,null,null,null,null,null,null,null,null,null,null,null,null,null,null,null,null,null,null,null,null,null,null,null,null,null,null,null,null,null,null,null,null,null,null,null,null,null,null,null,11]
[null,12,null,null,null,null,null,null,null,null,null,0,0,null,null,null,null,null,null,null,null,null,null,null,null,null,null,null,null,null,null,null,null,null,null,null,null,null,null,null,null,null,null,null,null,null,null,null,null,null,null,null,null,null,null,15,0,null,null,null,null,null,null,null,null,null,null,null,null,null,null,null,null,null,null,null,null,null,null,null,null,null,null,null,null,null,null,null,null,null,null,null,null,null,null,null,null,null,null,null,null,null,null,null,null,null,null,null,null,null,null,null,null,null,null,null,null,null,null,null,null,null,null,null,null,null,null,null,null,12]
[null,13,null,null,null,null,null,null,null,null,null,0,0,null,null,null,null,null,null,null,null,null,null,null,null,null,null,null,null,null,null,null,null,null,null,null,null,null,null,null,null,null,null,null,null,null,null,null,null,null,null,null,null,null,null,16,0,null,null,null,null,null,null,null,null,null,null,null,null,null,null,null,null,null,null,null,null,null,null,null,null,null,null,null,null,null,null,null,null,null,null,null,null,null,null,null,null,null,null,null,null,null,null,null,null,null,null,null,null,null,null,null,null,null,null,null,null,null,null,null,null,null,null,null,null,null,null,null,null,13]
[null,14,null,null,null,null,null,null,null,null,null,0,0,null,null,null,null,null,null,null,null,null,null,null,null,null,null,null,null,null,null,null,null,null,null,null,null,null,null,null,null,null,null,null,null,null,null,null,null,null,null,null,null,null,null,17,0,null,null,null,null,null,null,null,null,null,null,null,null,null,null,null,null,null,null,null,null,null,null,null,null,null,null,null,null,null,null,null,null,null,null,null,null,null,null,null,null,null,null,null,null,null,null,null,null,null,null,null,null,null,null,null,null,null,null,null,null,null,null,null,null,null,null,null,null,null,null,null,null,14]
[null,15,null,null,null,null,null,null,null,null,null,0,0,null,null,null,null,null,null,null,null,null,null,null,null,null,null,null,null,null,null,null,null,null,null,null,null,null,null,null,null,null,null,null,null,null,null,null,null,null,null,null,null,null,null,18,0,null,null,null,null,null,null,null,null,null,null,null,null,null,null,null,null,null,null,null,null,null,null,null,null,null,null,null,null,null,null,null,null,null,null,null,null,null,null,null,null,null,null,null,null,null,null,null,null,null,null,null,null,null,null,null,null,null,null,null,null,null,null,null,null,null,null,null,null,null,null,null,null,15]
[null,16,null,null,null,null,null,null,null,null,null,0,0,null,null,null,null,null,null,null,null,null,null,null,null,null,null,null,null,null,null,null,null,null,null,null,null,null,null,null,null,null,null,null,null,null,null,null,null,null,null,null,null,null,null,19,0,null,null,null,null,null,null,null,null,null,null,null,null,null,null,null,null,null,null,null,null,null,null,null,null,null,null,null,null,null,null,null,null,null,null,null,null,null,null,null,null,null,null,null,null,null,null,null,null,null,null,null,null,null,null,null,null,null,null,null,null,null,null,null,null,null,null,null,null,null,null,null,null,16]
[null,17,null,null,null,null,null,null,null,null,null,0,0,null,null,null,null,null,null,null,null,null,null,null,null,null,null,null,null,null,null,null,null,null,null,null,null,null,null,null,null,null,null,null,null,null,null,null,null,null,null,null,null,null,null,20,0,null,null,null,null,null,null,null,null,null,null,null,null,null,null,null,null,null,null,null,null,null,null,null,null,null,null,null,null,null,null,null,null,null,null,null,null,null,null,null,null,null,null,null,null,null,null,null,null,null,null,null,null,null,null,null,null,null,null,null,null,null,null,null,null,null,null,null,null,null,null,null,null,17]
[null,18,null,null,null,null,null,null,null,null,null,0,0,null,null,null,null,null,null,null,null,null,null,null,null,null,null,null,null,null,null,null,null,null,null,null,null,null,null,null,null,null,null,null,null,null,null,null,null,null,null,null,null,null,null,21,0,null,null,null,null,null,null,null,null,null,null,null,null,null,null,null,null,null,null,null,null,null,null,null,null,null,null,null,null,null,null,null,null,null,null,null,null,null,null,null,null,null,null,null,null,null,null,null,null,null,null,null,null,null,null,null,null,null,null,null,null,null,null,null,null,null,null,null,null,null,null,null,null,18]
[null,19,null,null,null,null,null,null,null,null,null,0,0,null,null,null,null,null,null,null,null,null,null,null,null,null,null,null,null,null,null,null,null,null,null,null,null,null,null,null,null,null,null,null,null,null,null,null,null,null,null,null,null,null,null,22,0,null,null,null,null,null,null,null,null,null,null,null,null,null,null,null,null,null,null,null,null,null,null,null,null,null,null,null,null,null,null,null,null,null,null,null,null,null,null,null,null,null,null,null,null,null,null,null,null,null,null,null,null,null,null,null,null,null,null,null,null,null,null,null,null,null,null,null,null,null,null,null,null,19]
[null,20,null,null,null,null,null,null,null,null,null,0,0,null,null,null,null,null,null,null,null,null,null,null,null,null,null,null,null,null,null,null,null,null,null,null,null,null,null,null,null,null,null,null,null,null,null,null,null,null,null,null,null,null,null,23,0,null,null,null,null,null,null,null,null,null,null,null,null,null,null,null,null,null,null,null,null,null,null,null,null,null,null,null,null,null,null,null,null,null,null,null,null,null,null,null,null,null,null,null,null,null,null,null,null,null,null,null,null,null,null,null,null,null,null,null,null,null,null,null,null,null,null,null,null,null,null,null,null,20]
[null,21,null,null,null,null,null,null,null,null,null,0,0,null,null,null,null,null,null,null,null,null,null,null,null,null,null,null,null,null,null,null,null,null,null,null,null,null,null,null,null,null,null,null,null,null,null,null,null,null,null,null,null,null,null,24,0,null,null,null,null,null,null,null,null,null,null,null,null,null,null,null,null,null,null,null,null,null,null,null,null,null,null,null,null,null,null,null,null,null,null,null,null,null,null,null,null,null,null,null,null,null,null,null,null,null,null,null,null,null,null,null,null,null,null,null,null,null,null,null,null,null,null,null,null,null,null,null,null,21]
[null,22,null,null,null,null,null,null,null,null,null,0,0,null,null,null,null,null,null,null,null,null,null,null,null,null,null,null,null,null,null,null,null,null,null,null,null,null,null,null,null,null,null,null,null,null,null,null,null,null,null,null,null,null,null,25,0,null,null,null,null,null,null,null,null,null,null,null,null,null,null,null,null,null,null,null,null,null,null,null,null,null,null,null,null,null,null,null,null,null,null,null,null,null,null,null,null,null,null,null,null,null,null,null,null,null,null,null,null,null,null,null,null,null,null,null,null,null,null,null,null,null,null,null,null,null,null,null,null,22]
[null,23,null,null,null,null,null,null,null,null,null,0,0,null,null,null,null,null,null,null,null,null,null,null,null,null,null,null,null,null,null,null,null,null,null,null,null,null,null,null,null,null,null,null,null,null,null,null,null,null,null,null,null,null,null,26,0,null,null,null,null,null,null,null,null,null,null,null,null,null,null,null,null,null,null,null,null,null,null,null,null,null,null,null,null,null,null,null,null,null,null,null,null,null,null,null,null,null,null,null,null,null,null,null,null,null,null,null,null,null,null,null,null,null,null,null,null,null,null,null,null,null,null,null,null,null,null,null,null,23]
[null,24,null,null,null,null,null,null,null,null,null,0,0,null,null,null,null,null,null,null,null,null,null,null,null,null,null,null,null,null,null,null,null,null,null,null,null,null,null,null,null,null,null,null,null,null,null,null,null,null,null,null,null,null,null,27,{"$f":"IF(INDEX(vægstabilitet,11+12*(BD30-1),2)=0,0,1)","v":0},null,null,null,null,null,null,null,null,null,null,null,null,null,null,null,null,null,null,null,null,null,null,null,null,null,null,null,null,null,null,null,null,null,null,null,null,null,null,null,null,null,null,null,null,null,null,null,null,null,null,null,null,null,null,null,null,null,null,null,null,null,null,null,null,null,null,null,null,null,null,null,null,24]
[null,25,null,null,null,null,null,null,null,null,null,0,0,null,null,null,null,null,null,null,null,null,null,null,null,null,null,null,null,null,null,null,null,null,null,null,null,null,null,null,null,null,null,null,null,null,null,null,null,null,null,null,null,null,null,0,2,null,null,null,null,null,null,null,null,null,null,null,null,null,null,null,null,null,null,null,null,null,null,null,null,null,null,null,null,null,null,null,null,null,null,null,null,null,null,null,null,null,null,null,null,null,null,null,null,null,null,null,null,null,null,null,null,null,null,null,null,null,null,null,null,null,null,null,null,null,null,null,null,25]
[null,26,null,null,null,null,null,null,null,null,null,0,0,null,null,null,null,null,null,null,null,null,null,null,null,null,null,null,null,null,null,null,null,null,null,null,null,null,null,null,null,null,null,null,null,null,null,null,null,null,null,null,null,null,null,null,null,null,null,null,null,null,null,null,null,null,null,null,null,null,null,null,null,null,null,null,null,null,null,null,null,null,null,null,null,null,null,null,null,null,null,null,null,null,null,null,null,null,null,null,null,null,null,null,null,null,null,null,null,null,null,null,null,null,null,null,null,null,null,null,null,null,null,null,null,null,null,null,null,26]
[null,27,null,null,null,null,null,null,null,null,null,0,0,null,null,null,null,null,null,null,null,null,null,null,null,null,null,null,null,null,null,null,null,null,null,null,null,null,null,null,null,null,null,null,null,null,null,null,null,null,null,null,null,null,null,null,null,null,null,null,null,null,null,null,null,null,null,null,null,null,null,null,null,null,null,null,null,null,null,null,null,null,null,null,null,null,null,null,null,null,null,null,null,null,null,null,null,null,null,null,null,null,null,null,null,null,null,null,null,null,null,null,null,null,null,null,null,null,null,null,null,null,null,null,null,null,null,null,null,27]
[]
[null,"Generelle parametre for vægge",null,null,null,null,null,null,null,{"$f":"\" Væg \"&gv","v":" Væg 2"},null,null,null,"      Rediger væg nr. :",null,null,null,null,null,null,null,null,"n_max =",{"$f":"INDEX(vægstabilitet,11+12*(gv-1),3)*E36*1000","v":1200.0000000000002}]
[null," Maks. normaltryk",null," s_max",6,"Mpa",null,null,null,null,null,null,null,"Etage","r_1","r_2","p","P1","P2",null,"V","T","N","n",null,null,null,null,null,null,null,null,null,null,null,null,null,null,null,null,null,null,null,null,null,null,null,null,null,null,null,null,null,null,null,null,null,null,null,null,null,null,null,null,"r_1","r_2","p","P1","P2"]
[null," Egenvægtsfaktor",null,"g_g",0.9,null,null,null,null,null,null,null,null,null,"(m)","(m)","(kN/m)","(kN)","(kN)",null,"(kN)","(kN)","(kN)","(kN/m)",null,null,null,null,null,null,null,null,null,null,null,null,null,null,null,null,null,null,null,null,null,null,null,null,null,null,null,null,null,null,null,null,null,null,null,null,null,null,null,null,"(m)","(m)","(kN/m)","(kN)","(kN)"]
[null," Egenvægt",null,"g",24,"kN/m3",null,null,null,null,null,null,null,6,0,0,0,0,0,null,{"$f":"BP9","v":11.793600136506566},{"$f":"BV9","v":0},{"$f":"BW9","v":64.801295999999994},{"$f":"BZ9","v":16.581186275609095},null,null,null,null,null,null,null,null,null,null,null,null,null,null,null,null,null,null,null,null,null,null,null,null,null,null,null,null,null,null,null,null,null,null,null,null,null,null,null,null,{"$f":"INDEX(vægstabilitet,12-BJ9+12*(gv-1),4)","v":0},{"$f":"INDEX(vægstabilitet,12-BJ9+12*(gv-1),5)","v":0},{"$f":"INDEX(vægstabilitet,12-$BJ9+12*(gv-1),10)","v":0},{"$f":"INDEX(vægstabilitet,12-$BJ9+12*(gv-1),11)","v":0},{"$f":"INDEX(vægstabilitet,12-$BJ9+12*(gv-1),12)","v":0}]
[null,null,null,null,null,null,null,null,null,null,null,null,null,5,0,0,0,0,0,null,16.052400170711319,0,129.60259199999999,40.949074199687338,null,null,null,null,null,null,null,null,null,null,null,null,null,null,null,null,null,null,null,null,null,null,null,null,null,null,null,null,null,null,null,null,null,null,null,null,null,null,null,null,{"$f":"INDEX(vægstabilitet,12-BJ10+12*(gv-1),4)","v":0},{"$f":"INDEX(vægstabilitet,12-BJ10+12*(gv-1),5)","v":0},0,0,0]
[null,"Masselastprocenter",null,null,null,null,null,null,null,null,null,null,null,4,0,0,0,0,0,null,16.380000173342452,0,194.40388799999999,80.608408994128595,null,null,null,null,null,null,null,null,null,null,null,null,null,null,null,null,null,null,null,null,null,null,null,null,null,null,null,null,null,null,null,null,null,null,null,null,null,null,null,null,{"$f":"INDEX(vægstabilitet,12-BJ11+12*(gv-1),4)","v":0},{"$f":"INDEX(vægstabilitet,12-BJ11+12*(gv-1),5)","v":0},0,0,0]
[null," v/ masselast alene:",null,null,1.75,"%",null,null,null,null,null,null,null,3,0,0,0,0,0,null,16.380000173342459,0,259.20518399999997,156.5327295565005,null,null,null,null,null,null,null,null,null,null,null,null,null,null,null,null,null,null,null,null,null,null,null,null,null,null,null,null,null,null,null,null,null,null,null,null,null,null,null,null,{"$f":"INDEX(vægstabilitet,12-BJ12+12*(gv-1),4)","v":0},{"$f":"INDEX(vægstabilitet,12-BJ12+12*(gv-1),5)","v":0},0,0,0]
[null," v/ masselast og vind:",null,null,0.25,"%",null,null,null,null,null,null,null,2,0,0,0,0,0,null,20.475000206231645,0,356.40712799999994,684.72975640027391,null,null,null,null,null,null,null,null,null,null,null,null,null,null,null,null,null,null,null,null,null,null,null,null,null,null,null,null,null,null,null,null,null,null,null,null,null,null,null,null,{"$f":"INDEX(vægstabilitet,12-BJ13+12*(gv-1),4)","v":0},{"$f":"INDEX(vægstabilitet,12-BJ13+12*(gv-1),5)","v":0},0,0,0]
[null,"Tværvind, lastfaktor  f_v",null,null,0.7,null,null,null,null,null,null,null,null,1,null,null,0,0,0,null,20.475000206231645,58.278931684871097,479.48735568487103,1200.0000000000002,null,null,null,null,null,null,null,null,null,null,null,null,null,null,null,null,null,null,null,null,null,null,null,null,null,null,null,null,null,null,null,null,null,null,null,null,null,null,null,null,null,null,0,0,0]
[]
[]
[null,null,null,null,null,null,null,null,null,null,null,null,null,null,null,null,null,null,null,null,null,null,null,null,null,null,null,null,null,null,null,null,null,null,null,null,null,null,null,null,null,null,null,null,null,null,null,null,null,null,null,null,null,null,null,null,null,null,null,null,null,null,null,null,"r_1","r_2","p","P1","P2"]
[null,null,null,null,null,null,null,null,null,null,null,null,null,null,null,null,null,null,null,null,null,null,null,null,null,null,null,null,null,null,null,null,null,null,null,null,null,null,null,null,null,null,null,null,null,null,null,null,null,null,null,null,null,null,null,null,null,null,null,null,null,null,null,null,"(m)","(m)","(kN/m)","(kN)","(kN)"]
[]
[]
[]
[]
[]
[]
[]
[]
[null,null,null,null,null,null,null,null,null,null,null,null,null,null,null,null,null,null,null,null,null,null,null,null,null,null,null,null,null,null,null,null,null,null,null,null,null,null,null,null,null,null,null,null,null,null,null,null,null,null,null,null,null,null,null,null,null,null,null,null,null,null,null,null,null,12,null,null,null,null,null,{"$f":"INDEX(BT57:BT72,LT,1)","v":"7a"}]
[null,null,null,null,null,null,null,null,null,null,null,null,null,null,null,null,null,null,null,null,null,null,null,null,null,null,null,null,null,null,null,null,null,null,null,null,null,null,null,null,null,null,null,null,null,null,null,null,null,null,null,null,null,null,null,null,null,null,null,null,null,null,null,null,"1,   Masselast:   + W_x",null,4,11,1,1,null,1]
[null,null,null,null,null,null,null,null,null,null,null,null,null,null,null,null,null,null,null,null,null,null,null,null,null,null,null,null,null,null,null,null,null,null,null,null,null,null,null,null,null,null,null,null,null,null,null,null,null,null,null,null,null,null,null,null,null,null,null,null,null,null,null,null,"2,   Masselast:   - W_x",null,4,11,-1,1,null,2]
[null,null,null,null,null,null,null,null,null,null,null,null,null,null,null,null,null,null,null,null,null,null,null,null,null,null,null,null,null,null,null,null,null,null,null,null,null,null,null,null,null,null,null,null,null,null,null,null,null,null,null,null,null,null,null,null,null,null,null,null,null,null,null,null,"3,   Masselast:   + W_y",null,4,10,1,null,null,3]
[null,null,null,null,null,null,null,null,null,null,null,null,null,null,null,null,null,null,null,null,null,null,null,null,null,null,null,null,null,null,null,null,null,null,null,null,null,null,null,null,null,null,null,null,null,null,null,null,null,null,null,null,null,null,null,null,null,null,null,null,null,null,null,null,"4,   Masselast:   - W_y",null,4,10,-1,null,null,4]
[null,null,null,null,null,null,null,null,null,null,null,null,null,null,null,null,null,null,null,null,null,null,null,null,null,null,null,null,null,null,null,null,null,null,null,null,null,null,null,null,null,null,null,null,null,null,null,null,null,null,null,null,null,null,null,null,null,null,null,null,null,null,null,null,"5,   Vind:  + W_x",null,12,21,1,1,null,5]
[null,null,null,null,null,null,null,null,null,null,null,null,null,null,null,null,null,null,null,null,null,null,null,null,null,null,null,null,null,null,null,null,null,null,null,null,null,null,null,null,null,null,null,null,null,null,null,null,null,null,null,null,null,null,null,null,null,null,null,null,null,null,null,null,"5a, Vind:  + W_x  og  + W_y*",null,12,21,1,1,null,"5a"]
[null,null,null,null,null,null,null,null,null,null,null,null,null,null,null,null,null,null,null,null,null,null,null,null,null,null,null,null,null,null,null,null,null,null,null,null,null,null,null,null,null,null,null,null,null,null,null,null,null,null,null,null,null,null,null,null,null,null,null,null,null,null,null,null,"5b, Vind:  + W_x  og  - W_y*",null,12,21,1,1,null,"5b"]
[null,null,null,null,null,null,null,null,null,null,null,null,null,null,null,null,null,null,null,null,null,null,null,null,null,null,null,null,null,null,null,null,null,null,null,null,null,null,null,null,null,null,null,null,null,null,null,null,null,null,null,null,null,null,null,null,null,null,null,null,null,null,null,null,"6,   Vind:  - W_x",null,12,21,-1,1,null,6]
[null,null,null,null,null,null,null,null,null,null,null,null,null,null,null,null,null,null,null,null,null,null,null,null,null,null,null,null,null,null,null,null,null,null,null,null,null,null,null,null,null,null,null,null,null,null,null,null,null,null,null,null,null,null,null,null,null,null,null,null,null,null,null,null,"6a, Vind:  - W_x  og  + W_y*",null,12,21,-1,1,null,"6a"]
[null,null,null,null,null,null,null,null,null,null,null,null,null,null,null,null,null,null,null,null,null,null,null,null,null,null,null,null,null,null,null,null,null,null,null,null,null,null,null,null,null,null,null,null,null,null,null,null,null,null,null,null,null,null,null,null,null,null,null,null,null,null,null,null,"6b, Vind:  - W_x  og  - W_y*",null,12,21,-1,1,null,"6b"]
[null,null,null,null,null,null,null,null,null,null,null,null,null,null,null,null,null,null,null,null,null,null,null,null,null,null,null,null,null,null,null,null,null,null,null,null,null,null,null,null,null,null,null,null,null,null,null,null,null,null,null,null,null,null,null,null,null,null,null,null,null,null,null,null,"7,   Vind:  + W_y",null,13,20,1,null,null,7]
[null,null,null,null,null,null,null,null,null,null,null,null,null,null,null,null,null,null,null,null,null,null,null,null,null,null,null,null,null,null,null,null,null,null,null,null,null,null,null,null,null,null,null,null,null,null,null,null,null,null,null,null,null,null,null,null,null,null,null,null,null,null,null,null,"7a, Vind:  + W_y  og  + W_x*",null,13,20,1,null,null,"7a"]
[null,null,null,null,null,null,null,null,null,null,null,null,null,null,null,null,null,null,null,null,null,null,null,null,null,null,null,null,null,null,null,null,null,null,null,null,null,null,null,null,null,null,null,null,null,null,null,null,null,null,null,null,null,null,null,null,null,null,null,null,null,null,null,null,"7b, Vind:  + W_y  og  - W_x*",null,13,20,1,null,null,"7b"]
[null,null,null,null,null,null,null,null,null,null,null,null,null,null,null,null,null,null,null,null,null,null,null,null,null,null,null,null,null,null,null,null,null,null,null,null,null,null,null,null,null,null,null,null,null,null,null,null,null,null,null,null,null,null,null,null,null,null,null,null,null,null,null,null,"8,   Vind:  - W_y",null,13,20,-1,null,null,8]
[null,null,null,null,null,null,null,null,null,null,null,null,null,null,null,null,null,null,null,null,null,null,null,null,null,null,null,null,null,null,null,null,null,null,null,null,null,null,null,null,null,null,null,null,null,null,null,null,null,null,null,null,null,null,null,null,null,null,null,null,null,null,null,null,"8a, Vind:  - W_y  og  + W_x*",null,13,20,-1,null,null,"8a"]
[null,null,null,null,null,null,null,null,null,null,null,null,null,null,null,null,null,null,null,null,null,null,null,null,null,null,null,null,null,null,null,null,null,null,null,null,null,null,null,null,null,null,null,null,null,null,null,null,null,null,null,null,null,null,null,null,null,null,null,null,null,null,null,null,"8b, Vind:  - W_y  og  - W_x*",null,13,20,-1,null,null,"8b"]
[]
[]
[null,null,null,null,null,null,null,null,null,null,null,null,null,null,null,null,null,null,null,null,null,null,null,null,null,null,null,null,null,null,null,null,null,null,null,null,null,null,null,null,null,null,null,null,null,null,null,null,null,null,null,null,null,null,null,null,null,null,null,null,null,null,null,null,{"$f":"INDEX(lasttilf,LT,1)&IF(LT>4,\"       (+ imperfektionsbidrag / masselast i vindretning)\",\"\")","v":"7a, Vind:  + W_y  og  + W_x*       (+ imperfektionsbidrag / masselast i vindretning)"}]
[]
[null,null,null,null,null,null,null,null,null,null,null,null,null,null,null,null,null,null,null,null,null,null,null,null,null,null,null,null,null,null,null,null,null,null,null,null,null,null,null,null,null,null,null,null,null,null,null,null,null,null,null,null,null,null,null,null,null,null,null,null,null,null,null,null,{"$f":"INDEX(grafetage,ge,1)","v":"Etage 1"}]

{"sheet":"System","index":1,"n_rows":63,"n_cols":19,"rows_kept":63,"cut":false,"hidden":false,"merged":[[1,13,1,15],[17,2,17,3],[17,4,17,5],[17,10,17,15],[5,1,5,2],[5,3,5,6],[15,10,15,15]]}
[]
[null,{"$f":"Inddata!C2","v":"BEF's prøvehus, ULS lastkomb. 6.10b"},null,null,null,null,null,null,null,null,null,null,"sag nr.:",{"$f":"Inddata!T2","v":"21-101"}]
[null,{"$f":"\"Lasttilfælde \"&Inddata!BM75","v":"Lasttilfælde 7a, Vind:  + W_y  og  + W_x*       (+ imperfektionsbidrag / masselast i vindretning)"},null,null,null,null,null,null,null,null,null,null,"init:",{"$f":"Inddata!X2","v":"NNN"}," ref. nr.:",{"$f":"Inddata!BT56","v":"7a"}]
[null,{"$f":"\"Bruger: \"&Inddata!O2","v":"Bruger: Bruger skal registreres"}]
[]
[null,"ETAGEHØJDER",null,"RESULTERENDE LASTE  PÅ\nDÆKSKIVER  OVER  ETAGER",null,null,null,null,null,null,"For hver væg defineres systemdata :"]
[null,"Etage","h_etg","y_Wx","W_x0","x_Wy","W_y0",null,null,null,"(x1 , y1)",null,"endepunkt 1"]
[null,null,"(m)","(m)","(KN)","(m)","(KN)",null,null,null,"(x2 , y2)",null,"endepunkt 2"]
[null,6,{"$f":"MAX(0.001,Laste!C5)","v":3},{"$f":"Inddata!P7","v":16},{"$f":"Inddata!Q7","v":23.587199999999996},{"$f":"Inddata!R7","v":19.999999999999996},{"$f":"Inddata!S7","v":62.622},null,null,null,"t",null,"vægtykkelse"]
[null,5,{"$f":"MAX(0.001,Laste!C6)","v":3},{"$f":"Inddata!P8","v":16},{"$f":"Inddata!Q8","v":32.10479999999999},{"$f":"Inddata!R8","v":20.000000000000004},{"$f":"Inddata!S8","v":82.277999999999992},null,null,null,"a0",null,"relativ styrke (skønnet)"]
[null,4,{"$f":"MAX(0.001,Laste!C7)","v":3},{"$f":"Inddata!P9","v":16},{"$f":"Inddata!Q9","v":32.759999999999991},{"$f":"Inddata!R9","v":20},{"$f":"Inddata!S9","v":83.789999999999992},null,null,null,"n_max",null,"normalkraft-kapacitet"]
[null,3,{"$f":"MAX(0.001,Laste!C8)","v":3},{"$f":"Inddata!P10","v":16},{"$f":"Inddata!Q10","v":32.759999999999991},{"$f":"Inddata!R10","v":20},{"$f":"Inddata!S10","v":83.789999999999992},null,null,null,"etager",null,"væggens højde i bygning"]
[null,2,{"$f":"MAX(0.001,Laste!C9)","v":4.5},{"$f":"Inddata!P11","v":16},{"$f":"Inddata!Q11","v":40.949999999999996},{"$f":"Inddata!R11","v":20.000000000000004},{"$f":"Inddata!S11","v":102.69},null,null,null,"Vægges egenvægt",null,null,"g =",{"$f":"Inddata!$E$38","v":24},"kN/m3"]
[null,1,{"$f":"MAX(0.001,Laste!C10)","v":3},{"$f":"Inddata!P12","v":16},{"$f":"Inddata!Q12","v":40.949999999999996},{"$f":"Inddata!R12","v":20.000000000000004},{"$f":"Inddata!S12","v":102.69},null,null,null,null,null,null,"g_g  = ",{"$f":"Inddata!$E$37","v":0.9}]
[]
[null,{"$f":"IF(AND(K56=\"\",L56=\"\",M56=\"\",N56=\"\",O56=\"\",P56=\"\"),\"\",\" NB: System ustabilt i etage  \"&K56&L56&M56&N56&O56&P56&\"  !\")","v":""},null,null,null,null,null,null,null,null,"OBS: Se altid gældende dokumentationsark\nog vejledning på hjemmesiden www.bef.dk !"]
[]
[null,"VÆGGE","1. endepunkt",null,"2. endepunkt",null,"tykkelse","rel. stivh.","till. n-kraft","væghøjde","Resultanter, V, på vægge fra dækskive over:"]
[null,null,"x1","y1","x2","y2","t","a0","n_max","etager","etage1","etage2","etage3","etage4","etage5","etage6"]
[null,"nr.","(m)","(m)","(m)","(m)","(m)",null,"(kN/m)","(antal)","(kN)","(kN)","(kN)","(kN)","(kN)","(kN)"]
[]
[null,{"$f":"ROW()-ROW($B$21)","v":1},{"$f":"Inddata!C7","v":10},{"$f":"Inddata!D7","v":10},{"$f":"Inddata!E7","v":15},{"$f":"Inddata!F7","v":10},{"$f":"Inddata!G7","v":0.2},{"$f":"Inddata!K7","v":1},{"$f":"G22*Inddata!$E$36*1000","v":1200.0000000000002},{"$f":"Inddata!J7","v":6},{"$f":"'E1'!$M15-L22-M22-N22-O22-P22+$K$57","v":20.475000206231645},{"$f":"'E2'!$M15-M22-N22-O22-P22+$L$57","v":20.475000206231645},{"$f":"'E3'!$M15-N22-O22-P22+$M$57","v":16.380000173342459},{"$f":"'E4'!$M15-O22-P22+$N$57","v":16.380000173342452},{"$f":"'E5'!$M15-P22+$O$57","v":16.052400170711319},{"$f":"'E6'!M15+$P$57","v":11.793600136506566}]
[null,{"$f":"ROW()-ROW($B$21)","v":2},{"$f":"Inddata!C8","v":25},{"$f":"Inddata!D8","v":10},{"$f":"Inddata!E8","v":30},{"$f":"Inddata!F8","v":10},{"$f":"Inddata!G8","v":0.2},{"$f":"Inddata!K8","v":1},{"$f":"G23*Inddata!$E$36*1000","v":1200.0000000000002},{"$f":"Inddata!J8","v":6},{"$f":"'E1'!$M16-L23-M23-N23-O23-P23+$K$57","v":20.475000206231645},{"$f":"'E2'!$M16-M23-N23-O23-P23+$L$57","v":20.475000206231645},{"$f":"'E3'!$M16-N23-O23-P23+$M$57","v":16.380000173342459},{"$f":"'E4'!$M16-O23-P23+$N$57","v":16.380000173342452},{"$f":"'E5'!$M16-P23+$O$57","v":16.052400170711319},{"$f":"'E6'!M16+$P$57","v":11.793600136506566}]
[null,3,{"$f":"Inddata!C9","v":10},{"$f":"Inddata!D9","v":15},{"$f":"Inddata!E9","v":10},{"$f":"Inddata!F9","v":22},{"$f":"Inddata!G9","v":0.2},{"$f":"Inddata!K9","v":1},{"$f":"G24*Inddata!$E$36*1000","v":1200.0000000000002},{"$f":"Inddata!J9","v":6},{"$f":"'E1'!$M17-L24-M24-N24-O24-P24+$K$57","v":63.629995999206649},{"$f":"'E2'!$M17-M24-N24-O24-P24+$L$57","v":63.629995999206706},{"$f":"'E3'!$M17-N24-O24-P24+$M$57","v":51.722996740873818},{"$f":"'E4'!$M17-O24-P24+$N$57","v":51.722996740873761},{"$f":"'E5'!$M17-P24+$O$57","v":50.770436800207072},{"$f":"'E6'!M17+$P$57","v":38.387157571540818}]
[null,4,{"$f":"Inddata!C10","v":30},{"$f":"Inddata!D10","v":15},{"$f":"Inddata!E10","v":30},{"$f":"Inddata!F10","v":22},{"$f":"Inddata!G10","v":0.2},{"$f":"Inddata!K10","v":1},{"$f":"G25*Inddata!$E$36*1000","v":1200.0000000000002},{"$f":"Inddata!J10","v":6},{"$f":"'E1'!$M18-L25-M25-N25-O25-P25+$K$57","v":39.060001470758635},{"$f":"'E2'!$M18-M25-N25-O25-P25+$L$57","v":39.060001470758607},{"$f":"'E3'!$M18-N25-O25-P25+$M$57","v":32.06700120166991},{"$f":"'E4'!$M18-O25-P25+$N$57","v":32.067001201669939},{"$f":"'E5'!$M18-P25+$O$57","v":31.507561180142897},{"$f":"'E6'!M18+$P$57","v":24.234840900290653}]
[null,5,{"$f":"Inddata!C11","v":0},{"$f":"Inddata!D11","v":0},{"$f":"Inddata!E11","v":0},{"$f":"Inddata!F11","v":0},{"$f":"Inddata!G11","v":0},{"$f":"Inddata!K11","v":0},{"$f":"G26*Inddata!$E$36*1000","v":0},{"$f":"Inddata!J11","v":0},{"$f":"'E1'!$M19-L26-M26-N26-O26-P26+$K$57","v":0},{"$f":"'E2'!$M19-M26-N26-O26-P26+$L$57","v":0},{"$f":"'E3'!$M19-N26-O26-P26+$M$57","v":0},{"$f":"'E4'!$M19-O26-P26+$N$57","v":0},{"$f":"'E5'!$M19-P26+$O$57","v":0},{"$f":"'E6'!M19+$P$57","v":0}]
[null,6,{"$f":"Inddata!C12","v":0},{"$f":"Inddata!D12","v":0},{"$f":"Inddata!E12","v":0},{"$f":"Inddata!F12","v":0},{"$f":"Inddata!G12","v":0},{"$f":"Inddata!K12","v":0},{"$f":"G27*Inddata!$E$36*1000","v":0},{"$f":"Inddata!J12","v":0},{"$f":"'E1'!$M20-L27-M27-N27-O27-P27+$K$57","v":0},{"$f":"'E2'!$M20-M27-N27-O27-P27+$L$57","v":0},{"$f":"'E3'!$M20-N27-O27-P27+$M$57","v":0},{"$f":"'E4'!$M20-O27-P27+$N$57","v":0},{"$f":"'E5'!$M20-P27+$O$57","v":0},{"$f":"'E6'!M20+$P$57","v":0}]
[null,7,{"$f":"Inddata!C13","v":0},{"$f":"Inddata!D13","v":0},{"$f":"Inddata!E13","v":0},{"$f":"Inddata!F13","v":0},{"$f":"Inddata!G13","v":0},{"$f":"Inddata!K13","v":0},{"$f":"G28*Inddata!$E$36*1000","v":0},{"$f":"Inddata!J13","v":0},{"$f":"'E1'!$M21-L28-M28-N28-O28-P28+$K$57","v":0},{"$f":"'E2'!$M21-M28-N28-O28-P28+$L$57","v":0},{"$f":"'E3'!$M21-N28-O28-P28+$M$57","v":0},{"$f":"'E4'!$M21-O28-P28+$N$57","v":0},{"$f":"'E5'!$M21-P28+$O$57","v":0},{"$f":"'E6'!M21+$P$57","v":0}]
[null,8,{"$f":"Inddata!C14","v":0},{"$f":"Inddata!D14","v":0},{"$f":"Inddata!E14","v":0},{"$f":"Inddata!F14","v":0},{"$f":"Inddata!G14","v":0},{"$f":"Inddata!K14","v":0},{"$f":"G29*Inddata!$E$36*1000","v":0},{"$f":"Inddata!J14","v":0},{"$f":"'E1'!$M22-L29-M29-N29-O29-P29+$K$57","v":0},{"$f":"'E2'!$M22-M29-N29-O29-P29+$L$57","v":0},{"$f":"'E3'!$M22-N29-O29-P29+$M$57","v":0},{"$f":"'E4'!$M22-O29-P29+$N$57","v":0},{"$f":"'E5'!$M22-P29+$O$57","v":0},{"$f":"'E6'!M22+$P$57","v":0}]
[null,9,{"$f":"Inddata!C15","v":0},{"$f":"Inddata!D15","v":0},{"$f":"Inddata!E15","v":0},{"$f":"Inddata!F15","v":0},{"$f":"Inddata!G15","v":0},{"$f":"Inddata!K15","v":0},{"$f":"G30*Inddata!$E$36*1000","v":0},{"$f":"Inddata!J15","v":0},{"$f":"'E1'!$M23-L30-M30-N30-O30-P30+$K$57","v":0},{"$f":"'E2'!$M23-M30-N30-O30-P30+$L$57","v":0},{"$f":"'E3'!$M23-N30-O30-P30+$M$57","v":0},{"$f":"'E4'!$M23-O30-P30+$N$57","v":0},{"$f":"'E5'!$M23-P30+$O$57","v":0},{"$f":"'E6'!M23+$P$57","v":0}]
[null,10,{"$f":"Inddata!C16","v":0},{"$f":"Inddata!D16","v":0},{"$f":"Inddata!E16","v":0},{"$f":"Inddata!F16","v":0},{"$f":"Inddata!G16","v":0},{"$f":"Inddata!K16","v":0},{"$f":"G31*Inddata!$E$36*1000","v":0},{"$f":"Inddata!J16","v":0},{"$f":"'E1'!$M24-L31-M31-N31-O31-P31+$K$57","v":0},{"$f":"'E2'!$M24-M31-N31-O31-P31+$L$57","v":0},{"$f":"'E3'!$M24-N31-O31-P31+$M$57","v":0},{"$f":"'E4'!$M24-O31-P31+$N$57","v":0},{"$f":"'E5'!$M24-P31+$O$57","v":0},{"$f":"'E6'!M24+$P$57","v":0}]
[null,11,{"$f":"Inddata!C17","v":0},{"$f":"Inddata!D17","v":0},{"$f":"Inddata!E17","v":0},{"$f":"Inddata!F17","v":0},{"$f":"Inddata!G17","v":0},{"$f":"Inddata!K17","v":0},{"$f":"G32*Inddata!$E$36*1000","v":0},{"$f":"Inddata!J17","v":0},{"$f":"'E1'!$M25-L32-M32-N32-O32-P32+$K$57","v":0},{"$f":"'E2'!$M25-M32-N32-O32-P32+$L$57","v":0},{"$f":"'E3'!$M25-N32-O32-P32+$M$57","v":0},{"$f":"'E4'!$M25-O32-P32+$N$57","v":0},{"$f":"'E5'!$M25-P32+$O$57","v":0},{"$f":"'E6'!M25+$P$57","v":0}]
[null,12,{"$f":"Inddata!C18","v":0},{"$f":"Inddata!D18","v":0},{"$f":"Inddata!E18","v":0},{"$f":"Inddata!F18","v":0},{"$f":"Inddata!G18","v":0},{"$f":"Inddata!K18","v":0},{"$f":"G33*Inddata!$E$36*1000","v":0},{"$f":"Inddata!J18","v":0},{"$f":"'E1'!$M26-L33-M33-N33-O33-P33+$K$57","v":0},{"$f":"'E2'!$M26-M33-N33-O33-P33+$L$57","v":0},{"$f":"'E3'!$M26-N33-O33-P33+$M$57","v":0},{"$f":"'E4'!$M26-O33-P33+$N$57","v":0},{"$f":"'E5'!$M26-P33+$O$57","v":0},{"$f":"'E6'!M26+$P$57","v":0}]
[null,13,{"$f":"Inddata!C19","v":0},{"$f":"Inddata!D19","v":0},{"$f":"Inddata!E19","v":0},{"$f":"Inddata!F19","v":0},{"$f":"Inddata!G19","v":0},{"$f":"Inddata!K19","v":0},{"$f":"G34*Inddata!$E$36*1000","v":0},{"$f":"Inddata!J19","v":0},{"$f":"'E1'!$M27-L34-M34-N34-O34-P34+$K$57","v":0},{"$f":"'E2'!$M27-M34-N34-O34-P34+$L$57","v":0},{"$f":"'E3'!$M27-N34-O34-P34+$M$57","v":0},{"$f":"'E4'!$M27-O34-P34+$N$57","v":0},{"$f":"'E5'!$M27-P34+$O$57","v":0},{"$f":"'E6'!M27+$P$57","v":0}]
[null,14,{"$f":"Inddata!C20","v":0},{"$f":"Inddata!D20","v":0},{"$f":"Inddata!E20","v":0},{"$f":"Inddata!F20","v":0},{"$f":"Inddata!G20","v":0},{"$f":"Inddata!K20","v":0},{"$f":"G35*Inddata!$E$36*1000","v":0},{"$f":"Inddata!J20","v":0},{"$f":"'E1'!$M28-L35-M35-N35-O35-P35+$K$57","v":0},{"$f":"'E2'!$M28-M35-N35-O35-P35+$L$57","v":0},{"$f":"'E3'!$M28-N35-O35-P35+$M$57","v":0},{"$f":"'E4'!$M28-O35-P35+$N$57","v":0},{"$f":"'E5'!$M28-P35+$O$57","v":0},{"$f":"'E6'!M28+$P$57","v":0}]
[null,15,{"$f":"Inddata!C21","v":0},{"$f":"Inddata!D21","v":0},{"$f":"Inddata!E21","v":0},{"$f":"Inddata!F21","v":0},{"$f":"Inddata!G21","v":0},{"$f":"Inddata!K21","v":0},{"$f":"G36*Inddata!$E$36*1000","v":0},{"$f":"Inddata!J21","v":0},{"$f":"'E1'!$M29-L36-M36-N36-O36-P36+$K$57","v":0},{"$f":"'E2'!$M29-M36-N36-O36-P36+$L$57","v":0},{"$f":"'E3'!$M29-N36-O36-P36+$M$57","v":0},{"$f":"'E4'!$M29-O36-P36+$N$57","v":0},{"$f":"'E5'!$M29-P36+$O$57","v":0},{"$f":"'E6'!M29+$P$57","v":0}]
[null,16,{"$f":"Inddata!C22","v":0},{"$f":"Inddata!D22","v":0},{"$f":"Inddata!E22","v":0},{"$f":"Inddata!F22","v":0},{"$f":"Inddata!G22","v":0},{"$f":"Inddata!K22","v":0},{"$f":"G37*Inddata!$E$36*1000","v":0},{"$f":"Inddata!J22","v":0},{"$f":"'E1'!$M30-L37-M37-N37-O37-P37+$K$57","v":0},{"$f":"'E2'!$M30-M37-N37-O37-P37+$L$57","v":0},{"$f":"'E3'!$M30-N37-O37-P37+$M$57","v":0},{"$f":"'E4'!$M30-O37-P37+$N$57","v":0},{"$f":"'E5'!$M30-P37+$O$57","v":0},{"$f":"'E6'!M30+$P$57","v":0}]
[null,17,{"$f":"Inddata!C23","v":0},{"$f":"Inddata!D23","v":0},{"$f":"Inddata!E23","v":0},{"$f":"Inddata!F23","v":0},{"$f":"Inddata!G23","v":0},{"$f":"Inddata!K23","v":0},{"$f":"G38*Inddata!$E$36*1000","v":0},{"$f":"Inddata!J23","v":0},{"$f":"'E1'!$M31-L38-M38-N38-O38-P38+$K$57","v":0},{"$f":"'E2'!$M31-M38-N38-O38-P38+$L$57","v":0},{"$f":"'E3'!$M31-N38-O38-P38+$M$57","v":0},{"$f":"'E4'!$M31-O38-P38+$N$57","v":0},{"$f":"'E5'!$M31-P38+$O$57","v":0},{"$f":"'E6'!M31+$P$57","v":0}]
[null,18,{"$f":"Inddata!C24","v":0},{"$f":"Inddata!D24","v":0},{"$f":"Inddata!E24","v":0},{"$f":"Inddata!F24","v":0},{"$f":"Inddata!G24","v":0},{"$f":"Inddata!K24","v":0},{"$f":"G39*Inddata!$E$36*1000","v":0},{"$f":"Inddata!J24","v":0},{"$f":"'E1'!$M32-L39-M39-N39-O39-P39+$K$57","v":0},{"$f":"'E2'!$M32-M39-N39-O39-P39+$L$57","v":0},{"$f":"'E3'!$M32-N39-O39-P39+$M$57","v":0},{"$f":"'E4'!$M32-O39-P39+$N$57","v":0},{"$f":"'E5'!$M32-P39+$O$57","v":0},{"$f":"'E6'!M32+$P$57","v":0}]
[null,19,{"$f":"Inddata!C25","v":0},{"$f":"Inddata!D25","v":0},{"$f":"Inddata!E25","v":0},{"$f":"Inddata!F25","v":0},{"$f":"Inddata!G25","v":0},{"$f":"Inddata!K25","v":0},{"$f":"G40*Inddata!$E$36*1000","v":0},{"$f":"Inddata!J25","v":0},{"$f":"'E1'!$M33-L40-M40-N40-O40-P40+$K$57","v":0},{"$f":"'E2'!$M33-M40-N40-O40-P40+$L$57","v":0},{"$f":"'E3'!$M33-N40-O40-P40+$M$57","v":0},{"$f":"'E4'!$M33-O40-P40+$N$57","v":0},{"$f":"'E5'!$M33-P40+$O$57","v":0},{"$f":"'E6'!M33+$P$57","v":0}]
[null,20,{"$f":"Inddata!C26","v":0},{"$f":"Inddata!D26","v":0},{"$f":"Inddata!E26","v":0},{"$f":"Inddata!F26","v":0},{"$f":"Inddata!G26","v":0},{"$f":"Inddata!K26","v":0},{"$f":"G41*Inddata!$E$36*1000","v":0},{"$f":"Inddata!J26","v":0},{"$f":"'E1'!$M34-L41-M41-N41-O41-P41+$K$57","v":0},{"$f":"'E2'!$M34-M41-N41-O41-P41+$L$57","v":0},{"$f":"'E3'!$M34-N41-O41-P41+$M$57","v":0},{"$f":"'E4'!$M34-O41-P41+$N$57","v":0},{"$f":"'E5'!$M34-P41+$O$57","v":0},{"$f":"'E6'!M34+$P$57","v":0}]
[null,21,{"$f":"Inddata!C27","v":0},{"$f":"Inddata!D27","v":0},{"$f":"Inddata!E27","v":0},{"$f":"Inddata!F27","v":0},{"$f":"Inddata!G27","v":0},{"$f":"Inddata!K27","v":0},{"$f":"G42*Inddata!$E$36*1000","v":0},{"$f":"Inddata!J27","v":0},{"$f":"'E1'!$M35-L42-M42-N42-O42-P42+$K$57","v":0},{"$f":"'E2'!$M35-M42-N42-O42-P42+$L$57","v":0},{"$f":"'E3'!$M35-N42-O42-P42+$M$57","v":0},{"$f":"'E4'!$M35-O42-P42+$N$57","v":0},{"$f":"'E5'!$M35-P42+$O$57","v":0},{"$f":"'E6'!M35+$P$57","v":0}]
[null,22,{"$f":"Inddata!C28","v":0},{"$f":"Inddata!D28","v":0},{"$f":"Inddata!E28","v":0},{"$f":"Inddata!F28","v":0},{"$f":"Inddata!G28","v":0},{"$f":"Inddata!K28","v":0},{"$f":"G43*Inddata!$E$36*1000","v":0},{"$f":"Inddata!J28","v":0},{"$f":"'E1'!$M36-L43-M43-N43-O43-P43+$K$57","v":0},{"$f":"'E2'!$M36-M43-N43-O43-P43+$L$57","v":0},{"$f":"'E3'!$M36-N43-O43-P43+$M$57","v":0},{"$f":"'E4'!$M36-O43-P43+$N$57","v":0},{"$f":"'E5'!$M36-P43+$O$57","v":0},{"$f":"'E6'!M36+$P$57","v":0}]
[null,23,{"$f":"Inddata!C29","v":0},{"$f":"Inddata!D29","v":0},{"$f":"Inddata!E29","v":0},{"$f":"Inddata!F29","v":0},{"$f":"Inddata!G29","v":0},{"$f":"Inddata!K29","v":0},{"$f":"G44*Inddata!$E$36*1000","v":0},{"$f":"Inddata!J29","v":0},{"$f":"'E1'!$M37-L44-M44-N44-O44-P44+$K$57","v":0},{"$f":"'E2'!$M37-M44-N44-O44-P44+$L$57","v":0},{"$f":"'E3'!$M37-N44-O44-P44+$M$57","v":0},{"$f":"'E4'!$M37-O44-P44+$N$57","v":0},{"$f":"'E5'!$M37-P44+$O$57","v":0},{"$f":"'E6'!M37+$P$57","v":0}]
[null,24,{"$f":"Inddata!C30","v":0},{"$f":"Inddata!D30","v":0},{"$f":"Inddata!E30","v":0},{"$f":"Inddata!F30","v":0},{"$f":"Inddata!G30","v":0},{"$f":"Inddata!K30","v":0},{"$f":"G45*Inddata!$E$36*1000","v":0},{"$f":"Inddata!J30","v":0},{"$f":"'E1'!$M38-L45-M45-N45-O45-P45+$K$57","v":0},{"$f":"'E2'!$M38-M45-N45-O45-P45+$L$57","v":0},{"$f":"'E3'!$M38-N45-O45-P45+$M$57","v":0},{"$f":"'E4'!$M38-O45-P45+$N$57","v":0},{"$f":"'E5'!$M38-P45+$O$57","v":0},{"$f":"'E6'!M38+$P$57","v":0}]
[null,25,{"$f":"Inddata!C31","v":0},{"$f":"Inddata!D31","v":0},{"$f":"Inddata!E31","v":0},{"$f":"Inddata!F31","v":0},{"$f":"Inddata!G31","v":0},{"$f":"Inddata!K31","v":0},{"$f":"G46*Inddata!$E$36*1000","v":0},{"$f":"Inddata!J31","v":0},{"$f":"'E1'!$M39-L46-M46-N46-O46-P46+$K$57","v":0},{"$f":"'E2'!$M39-M46-N46-O46-P46+$L$57","v":0},{"$f":"'E3'!$M39-N46-O46-P46+$M$57","v":0},{"$f":"'E4'!$M39-O46-P46+$N$57","v":0},{"$f":"'E5'!$M39-P46+$O$57","v":0},{"$f":"'E6'!M39+$P$57","v":0}]
[null,26,{"$f":"Inddata!C32","v":0},{"$f":"Inddata!D32","v":0},{"$f":"Inddata!E32","v":0},{"$f":"Inddata!F32","v":0},{"$f":"Inddata!G32","v":0},{"$f":"Inddata!K32","v":0},{"$f":"G47*Inddata!$E$36*1000","v":0},{"$f":"Inddata!J32","v":0},{"$f":"'E1'!$M40-L47-M47-N47-O47-P47+$K$57","v":0},{"$f":"'E2'!$M40-M47-N47-O47-P47+$L$57","v":0},{"$f":"'E3'!$M40-N47-O47-P47+$M$57","v":0},{"$f":"'E4'!$M40-O47-P47+$N$57","v":0},{"$f":"'E5'!$M40-P47+$O$57","v":0},{"$f":"'E6'!M40+$P$57","v":0}]
[null,27,{"$f":"Inddata!C33","v":0},{"$f":"Inddata!D33","v":0},{"$f":"Inddata!E33","v":0},{"$f":"Inddata!F33","v":0},{"$f":"Inddata!G33","v":0},{"$f":"Inddata!K33","v":0},{"$f":"G48*Inddata!$E$36*1000","v":0},{"$f":"Inddata!J33","v":0},{"$f":"'E1'!$M41-L48-M48-N48-O48-P48+$K$57","v":0},{"$f":"'E2'!$M41-M48-N48-O48-P48+$L$57","v":0},{"$f":"'E3'!$M41-N48-O48-P48+$M$57","v":0},{"$f":"'E4'!$M41-O48-P48+$N$57","v":0},{"$f":"'E5'!$M41-P48+$O$57","v":0},{"$f":"'E6'!M41+$P$57","v":0}]
[null,28,0,0,0,0.01,0.2,0.01,20,6,{"$f":"'E1'!$M42-L49-M49-N49-O49-P49","v":1.5492855768047045E-6},{"$f":"'E2'!$M42-M49-N49-O49-P49","v":1.5492855768047113E-6},{"$f":"'E3'!$M42-N49-O49-P49","v":1.2561427451117504E-6},{"$f":"'E4'!$M42-O49-P49","v":1.2561427451117483E-6},{"$f":"'E5'!$M42-P49","v":1.2326913185763095E-6},{"$f":"'E6'!M42","v":9.2782277361563091E-7},{"$f":"K49^2+L49^2+M49^2+N49^2+O49^2+P49^2","v":1.0336743775317159E-11}]
[null,29,0,0,0.01,0,0.2,0.01,20,6,{"$f":"'E1'!$M43-L50-M50-N50-O50-P50","v":5.6828577836714442E-7},{"$f":"'E2'!$M43-M50-N50-O50-P50","v":5.6828577836714145E-7},{"$f":"'E3'!$M43-N50-O50-P50","v":4.546286238805976E-7},{"$f":"'E4'!$M43-O50-P50","v":4.5462862388059782E-7},{"$f":"'E5'!$M43-P50","v":4.4553605152167576E-7},{"$f":"'E6'!M43","v":3.2733261085566913E-7},{"$f":"K50^2+L50^2+M50^2+N50^2+O50^2+P50^2","v":1.3649208344269451E-12}]
[null,30,0.01,0,0,0.01,0.2,0.01,20,6,{"$f":"'E1'!$M44-L51-M51-N51-O51-P51","v":1.3869886561714966E-6},{"$f":"'E2'!$M44-M51-N51-O51-P51","v":1.3869886561715034E-6},{"$f":"'E3'!$M44-N51-O51-P51","v":1.1332284899085118E-6},{"$f":"'E4'!$M44-O51-P51","v":1.1332284899085088E-6},{"$f":"'E5'!$M44-P51","v":1.1129276766074645E-6},{"$f":"'E6'!M44","v":8.4901710369395434E-7},{"$f":"K51^2+L51^2+M51^2+N51^2+O51^2+P51^2","v":8.3753267411012521E-12}]
[]
[]
[]
[null,null,null,null,null,null,null,null,null,null,{"$f":"$E14^2+$G14^2+L55","v":52910.498954879993},{"$f":"$E13^2+$G13^2+M55","v":40688.360354879995},{"$f":"$E12^2+$G12^2+N55","v":28466.221754879996},{"$f":"$E11^2+$G11^2+O55","v":20372.24005488},{"$f":"$E10^2+$G10^2+P55","v":12278.258354879999},{"$f":"$E9^2+$G9^2","v":4477.8708878400003}]
[null,null,null,null,null,null,null,null,null,null,{"$f":"IF(AND(OR('E1'!Q11<0.075,'E1'!Q10<0.15,'E1'!Q9<0.15),OR(MAX(Inddata!J7:J33)>=1,System!K55<>0)),\" 1.\",\"\")","v":""},{"$f":"IF(AND(OR('E2'!Q11<0.075,'E2'!Q10<0.15,'E2'!Q9<0.15),OR(MAX(Inddata!J7:J33)>=2,System!L55<>0)),\" 2.\",\"\")","v":""},{"$f":"IF(AND(OR('E3'!Q11<0.075,'E3'!Q10<0.15,'E3'!Q9<0.15),OR(MAX(Inddata!J7:J33)>=3,System!M55<>0)),\" 3.\",\"\")","v":""},{"$f":"IF(AND(OR('E4'!Q11<0.075,'E4'!Q10<0.15,'E4'!Q9<0.15),OR(MAX(Inddata!J7:J33)>=4,System!N55<>0)),\" 4.\",\"\")","v":""},{"$f":"IF(AND(OR('E5'!Q11<0.075,'E5'!Q10<0.15,'E5'!Q9<0.15),OR(MAX(Inddata!J7:J33)>=5,System!O55<>0)),\" 5.\",\"\")","v":""},{"$f":"IF(AND(OR('E6'!Q11<0.075,'E6'!Q10<0.15,'E6'!Q9<0.15),OR(MAX(Inddata!J7:J33)>=6,System!P55<>0)),\" 6.\",\"\")","v":""}]
[null,null,null,null,null,null,null,null,null,null,{"$f":"IF(K56=\"\",0,10^10)+2*L57","v":0},{"$f":"IF(L56=\"\",0,10^10)+2*M57","v":0},{"$f":"IF(M56=\"\",0,10^10)+2*N57","v":0},{"$f":"IF(N56=\"\",0,10^10)+2*O57","v":0},{"$f":"IF(O56=\"\",0,10^10)+2*P57","v":0},{"$f":"IF(P56=\"\",0,10^10)","v":0}]
[]
[]
[]
[]
[]
[null,null,null,null,null,null,null,null,null,null,null,null,null,null,null,null,null,null,1]

{"sheet":"Vægskiver","index":2,"n_rows":348,"n_cols":86,"rows_kept":348,"cut":false,"hidden":false,"merged":[[1,1,1,18],[2,1,2,18],[2,20,2,22],[1,20,1,22]]}
[]
[null,{"$f":"System!B2","v":"BEF's prøvehus, ULS lastkomb. 6.10b"},null,null,null,null,null,null,null,null,null,null,null,null,null,null,null,null,null,"sag nr.",{"$f":"System!$N$2","v":"21-101"}]
[null,{"$f":"System!B3","v":"Lasttilfælde 7a, Vind:  + W_y  og  + W_x*       (+ imperfektionsbidrag / masselast i vindretning)"},null,null,null,null,null,null,null,null,null,null,null,null,null,null,null,null,null,{"$f":"System!N3","v":"NNN"},{"$f":"\"ref. nr.:  \"&System!$P$3&\" - 1\"","v":"ref. nr.:  7a - 1"}]
[null,{"$f":"\"Bruger: \"&Inddata!O2","v":"Bruger: Bruger skal registreres"}]
[]
[]
[null,null,"V_i+1",null,null,null,null,null,null,null,null,null,"Lastvirkningerne V_i regnes positive i retningen fra væggens endepunkt"]
[null,null,null,null,null,null,null,null,null,null,null,null,"(x1, y1) mod endepunkt (x2, y2)"]
[]
[null,null,null,"P1",null,"p",null,"P2",null,null,null,null,"For hver etage skal defineres følgende"]
[null,null,"V_i",null,null,null,null,null,null,null,null,null,"p:","stabiliserende linielast på væg excl væggens egenlast"]
[null,null,null,null,null,null,null,null,null,null,null,null,"P1:","lodret, last ved endepunkt (x1, y1)"]
[null,null,null,null,null,"G",null,null,null,null,null,null,"P2:","lodret, last ved endepunkt (x2, y2)"]
[]
[null,null,null,"(x1,y1)",null,null,null,"(x2,y2)",null,null,null,null,"Ved  V_i > 0 virker P1 stabiliserende og P2 destabiliserende"]
[null,null,null,null,null,null,null,null,null,null,null,null,"Ved  V_i < 0 virker P2 stabiliserende og P1 destabiliserende"]
[null,null,null,null,null,null,"Q",null,null,null,null,null,"Ved  V_i > 0 overføres trykresultanten N (normalt) over længden b_2"]
[null,null,null,null,null,"T","        N   ",null,null,null,null,null,"Ved  V_i < 0 overføres trykresultanten N (normalt) over længden b_1"]
[]
[null,null,null,null,"b_1",null,"b_2",null,null,null,null,null,"T er den samlede, nødvendige lodrette trækforbindelse - symmetrisk i kontaktflade"]
[null,null,null,null,null,null,null,null,null,null,null,null,"ned mod underliggende væg. Længden af kontaktfladen betegnes L_eff."]
[]
[]
[]
["*"]
[null,"Væg",null,null,null,"Etage","h","t","r_1","r_2","L_eff","V_i","Q","G","p","P1","P2","T","N","b_1","b_2","n","n_max",null,null,null,"Etager:",6,null,null,null,null,null,null,null,null,null,null,null,null,null,"Hjørnepunkter i vægopstalt",null,null,null,null,null,null,null,null,null,null,null,null,null,null,null,null,null,null,null,null,null,null,null,null,null,null,null,null,null,null,null,null,null,null,null,"r_1","r_2","L_eff","V_i","Q","G","p","P1","P2"]
[null,1,null,null,null,null,"(m)","(m)","(m)","(m)","(m)","(kN)","(kN)","(kN)","(kN/m)","(kN)","(kN)","(kN)","(kN)","(m)","(m)","(kN/m)","(kN/m)",null,null,null,null,null,null,null,null,null,null,null,null,null,null,null,null,null,null,null,null,null,null,null,null,null,null,null,null,null,null,null,null,null,null,null,null,null,null,null,null,null,null,null,null,null,null,null,null,null,null,null,null,null,null,"(m)","(m)","(m)","(kN)","(kN)","(kN)","(kN/m)","(kN)","(kN)"]
[null,null,null,null,null,null,null,null,null,null,null,null,null,null,null,null,null,null,null,null,null,null,null,null,null,null,"s_1","s_2","x_1","y_1","x_2","y_2","cos(a)","sin(a)","s_1_e","s_2_e","s_N","N_0","n","T_1","T_2",0,0,{"$f":"AB35","v":5.0000999999999998},{"$f":"AB35","v":5.0000999999999998},{"$f":"AP28","v":0},{"$f":"AA34","v":0},{"$f":"AA34","v":0},{"$f":"AB34","v":5.0000999999999998},{"$f":"AB34","v":5.0000999999999998},{"$f":"AU28","v":0},{"$f":"AA33","v":0},{"$f":"AA33","v":0},{"$f":"AB33","v":5.0000999999999998},{"$f":"AB33","v":5.0000999999999998},{"$f":"AZ28","v":0},{"$f":"AA32","v":0},{"$f":"AA32","v":0},{"$f":"AB32","v":5.0000999999999998},{"$f":"AB32","v":5.0000999999999998},{"$f":"BE28","v":0},{"$f":"AA31","v":0},{"$f":"AA31","v":0},{"$f":"AB31","v":5.0000999999999998},{"$f":"AB31","v":5.0000999999999998},{"$f":"BJ28","v":0},{"$f":"AA30","v":0},{"$f":"AA30","v":0},{"$f":"AB30","v":5.0000999999999998},{"$f":"AB30","v":5.0000999999999998},{"$f":"BO28","v":0},{"$f":"BT36","v":20}]
[]
[null,null,null,null,null,6,{"$f":"IF(INDEX(Hovedtal,B27,9)<F30,0,INDEX(Etager,7-F30,2))","v":3},{"$f":"IF(F30>INDEX(Hovedtal,B27,9),0,INDEX(Hovedtal,B27,6))","v":0.2},0,0,{"$f":"AJ30-AI30","v":5.0000999999999998},{"$f":"INDEX(Hovedtal,B27,9+F30)","v":11.793600136506566},{"$f":"L30","v":11.793600136506566},{"$f":"(AB30-AA30)*H30*G30*g_g*g_e","v":64.801295999999994},0,0,0,{"$f":"IF(AK30>0.5*(AI30+AJ30),AO30,AN30)","v":0},{"$f":"AL30+R30","v":64.801295999999994},{"$f":"IF(AK30<=0.5*(AI30+AJ30),IF(AK30>AI30+0.5*AL30/AM30,2*(AK30-AI30),S30/AM30),0)","v":0},{"$f":"IF(AK30>0.5*(AI30+AJ30),IF(AK30<AJ30-0.5*AL30/AM30,2*(AJ30-AK30),S30/AM30),0)","v":3.9081218269239653},{"$f":"IF(AK30>0.5*(AI30+AJ30),S30/U30,S30/T30)","v":16.581186275609095},{"$f":"INDEX(Hovedtal,B27,8)","v":1200.0000000000002},{"$f":"IF(OR(V30>W30,ABS(M30)>0.5*S30),\"!\",\"\")","v":""},null,null,{"$f":"IF(G30=0,AA31,IF(I30=0,0,I30))","v":0},{"$f":"IF(G30=0,AB31,IF(J30=0,AB35,AB35-J30))","v":5.0000999999999998},{"$f":"IF(G30=0,0,AC35+AA30*AG35)","v":10},{"$f":"IF(G30=0,0,AD35+AA30*AH35)","v":10},{"$f":"IF(G30=0,0,AC35+AB30*AG35)","v":15},{"$f":"IF(G30=0,0,AD35+AB30*AH35)","v":10},null,null,{"$f":"MAX(AA30:AA31)","v":0},{"$f":"MIN(AB30:AB31)","v":5.0000999999999998},{"$f":"IF(G30=0,0.5*(AI30+AJ30),(M30*G30+AA30*P30+0.5*(AA30+AB30)*(N30+(AB30-AA30)*O30)+AB30*Q30)/AL30)","v":3.0460390865380171},{"$f":"N30+O30*(AB30-AA30)+P30+Q30","v":64.801295999999994},{"$f":"IF(AK30<0.5*(AI30+AJ30),MAX(W30,8*AL30*(0.5*(AJ30+AI30)-AK30)/(AJ30-AI30)^2+0.1),MAX(W30,-8*AL30*(0.5*(AJ30+AI30)-AK30)/(AJ30-AI30)^2+0.1))","v":1200.0000000000002},{"$f":"IF(AND(AK30<0.5*(AI30+AJ30),AL30/AM30>2*(AK30-AI30)),AM30*(-SQRT((AL30/AM30+0.5*AI30-0.5*AJ30)^2-2*(-AK30*AL30/AM30+0.5*AL30^2/AM30^2+AI30*AL30/AM30))-(AL30/AM30+0.5*AI30-0.5*AJ30)),0)","v":0},{"$f":"IF(AND(AK30>=0.5*(AI30+AJ30),AL30/AM30>2*(AJ30-AK30)),AM30*(-SQRT((AL30/AM30+0.5*AI30-0.5*AJ30)^2-2*(AK30*AL30/AM30+0.5*AL30^2/AM30^2-AJ30*AL30/AM30))-(AL30/AM30+0.5*AI30-0.5*AJ30)),0)","v":0},null,null,null,null,null,null,null,null,null,null,null,null,null,null,null,null,null,null,null,null,null,null,null,null,null,{"$f":"BL31","v":16.5},{"$f":"BR30+G30","v":19.5},{"$f":"BO30+G30","v":19.5},{"$f":"BK31","v":16.5},{"$f":"BO30","v":16.5},null,null,null,null,null,null,0,0,{"$f":"DA30-CZ30","v":0},{"$f":"INDEX(Hovedtal,BS27,9+BW30)","v":0},{"$f":"CC30","v":0},{"$f":"(CS30-CR30)*BY30*BX30*g_g*g_e","v":0},0,0,0]
[null,null,null,null,null,5,{"$f":"IF(INDEX(Hovedtal,B27,9)<F31,0,INDEX(Etager,7-F31,2))","v":3},{"$f":"IF(F31>INDEX(Hovedtal,B27,9),0,INDEX(Hovedtal,B27,6))","v":0.2},0,0,5.0000999999999998,{"$f":"INDEX(Hovedtal,B27,9+F31)","v":16.052400170711319},{"$f":"M30+L31","v":27.846000307217885},64.801295999999994,0,0,0,0,129.60259199999999,0,3.1649700153902272,40.949074199687338,{"$f":"INDEX(Hovedtal,B27,8)","v":1200.0000000000002},"",null,null,{"$f":"IF(G31=0,AA32,IF(I31=0,0,I31))","v":0},{"$f":"IF(G31=0,AB32,IF(J31=0,AB35,AB35-J31))","v":5.0000999999999998},{"$f":"IF(G31=0,0,AC35+AA31*AG35)","v":10},{"$f":"IF(G31=0,0,AD35+AA31*AH35)","v":10},{"$f":"IF(G31=0,0,AC35+AB31*AG35)","v":15},{"$f":"IF(G31=0,0,AD35+AB31*AH35)","v":10},null,null,{"$f":"MAX(AA31:AA32)","v":0},{"$f":"MIN(AB31:AB32)","v":5.0000999999999998},{"$f":"IF(G31=0,0.5*(AI31+AJ31),(M31*G31+AA31*P31+0.5*(AA31+AB31)*(N31+(AB31-AA31)*O31)+AB31*Q31+AK30*AL30)/AL31)","v":3.4176149923048862},{"$f":"AL30+N31+O31*(AB31-AA31)+P31+Q31","v":129.60259199999999},1200.0000000000002,0,0,null,null,null,null,null,null,null,null,null,null,null,null,null,null,null,null,null,null,null,null,{"$f":"BG32","v":13.5},{"$f":"BM31+G31","v":16.5},{"$f":"BJ31+G31","v":16.5},{"$f":"BF32","v":13.5},{"$f":"BJ31","v":13.5},null,null,null,null,null,null,null,null,null,null,null,0,0,0,{"$f":"INDEX(Hovedtal,BS27,9+BW31)","v":0},{"$f":"CD30+CC31","v":0},0,0,0,0]
[null,null,null,null,null,4,{"$f":"IF(INDEX(Hovedtal,B27,9)<F32,0,INDEX(Etager,7-F32,2))","v":3},{"$f":"IF(F32>INDEX(Hovedtal,B27,9),0,INDEX(Hovedtal,B27,6))","v":0.2},0,0,5.0000999999999998,{"$f":"INDEX(Hovedtal,B27,9+F32)","v":16.380000173342452},{"$f":"M31+L32","v":44.226000480560337},64.801295999999994,0,0,0,0,194.40388799999999,0,2.4117072948823504,80.608408994128595,{"$f":"INDEX(Hovedtal,B27,8)","v":1200.0000000000002},"",null,null,{"$f":"IF(G32=0,AA33,IF(I32=0,0,I32))","v":0},{"$f":"IF(G32=0,AB33,IF(J32=0,AB35,AB35-J32))","v":5.0000999999999998},{"$f":"IF(G32=0,0,AC35+AA32*AG35)","v":10},{"$f":"IF(G32=0,0,AD35+AA32*AH35)","v":10},{"$f":"IF(G32=0,0,AC35+AB32*AG35)","v":15},{"$f":"IF(G32=0,0,AD35+AB32*AH35)","v":10},null,null,{"$f":"MAX(AA32:AA33)","v":0},{"$f":"MIN(AB32:AB33)","v":5.0000999999999998},{"$f":"IF(G32=0,0.5*(AI32+AJ32),(M32*G32+AA32*P32+0.5*(AA32+AB32)*(N32+(AB32-AA32)*O32)+AB32*Q32+AK31*AL31)/AL32)","v":3.7942463525588246},{"$f":"AL31+N32+O32*(AB32-AA32)+P32+Q32","v":194.40388799999999},1200.0000000000002,0,0,null,null,null,null,null,null,null,null,null,null,null,null,null,null,null,{"$f":"BB33","v":10.5},{"$f":"BH32+G32","v":13.5},{"$f":"BE32+G32","v":13.5},{"$f":"BA33","v":10.5},{"$f":"BE32","v":10.5},null,null,null,null,null,null,null,null,null,null,null,null,null,null,null,null,0,0,0,{"$f":"INDEX(Hovedtal,BS27,9+BW32)","v":0},{"$f":"CD31+CC32","v":0},0,0,0,0]
[null,null,null,null,null,3,{"$f":"IF(INDEX(Hovedtal,B27,9)<F33,0,INDEX(Etager,7-F33,2))","v":3},{"$f":"IF(F33>INDEX(Hovedtal,B27,9),0,INDEX(Hovedtal,B27,6))","v":0.2},0,0,5.0000999999999998,{"$f":"INDEX(Hovedtal,B27,9+F33)","v":16.380000173342459},{"$f":"M32+L33","v":60.606000653902797},64.801295999999994,0,0,0,0,259.20518399999997,0,1.6559168471309373,156.5327295565005,{"$f":"INDEX(Hovedtal,B27,8)","v":1200.0000000000002},"",null,null,{"$f":"IF(G33=0,AA34,IF(I33=0,0,I33))","v":0},{"$f":"IF(G33=0,AB34,IF(J33=0,AB35,AB35-J33))","v":5.0000999999999998},{"$f":"IF(G33=0,0,AC35+AA33*AG35)","v":10},{"$f":"IF(G33=0,0,AD35+AA33*AH35)","v":10},{"$f":"IF(G33=0,0,AC35+AB33*AG35)","v":15},{"$f":"IF(G33=0,0,AD35+AB33*AH35)","v":10},null,null,{"$f":"MAX(AA33:AA34)","v":0},{"$f":"MIN(AB33:AB34)","v":5.0000999999999998},{"$f":"IF(G33=0,0.5*(AI33+AJ33),(M33*G33+AA33*P33+0.5*(AA33+AB33)*(N33+(AB33-AA33)*O33)+AB33*Q33+AK32*AL32)/AL33)","v":4.1721415764345311},{"$f":"AL32+N33+O33*(AB33-AA33)+P33+Q33","v":259.20518399999997},1200.0000000000002,0,0,null,null,null,null,null,null,null,null,null,null,{"$f":"AW34","v":7.5},{"$f":"BC33+G33","v":10.5},{"$f":"AZ33+G33","v":10.5},{"$f":"AV34","v":7.5},{"$f":"AZ33","v":7.5},null,null,null,null,null,null,null,null,null,null,null,null,null,null,null,null,null,null,null,null,null,0,0,0,{"$f":"INDEX(Hovedtal,BS27,9+BW33)","v":0},{"$f":"CD32+CC33","v":0},0,0,0,0]
[null,null,null,null,null,2,{"$f":"IF(INDEX(Hovedtal,B27,9)<F34,0,INDEX(Etager,7-F34,2))","v":4.5},{"$f":"IF(F34>INDEX(Hovedtal,B27,9),0,INDEX(Hovedtal,B27,6))","v":0.2},0,0,5.0000999999999998,{"$f":"INDEX(Hovedtal,B27,9+F34)","v":20.475000206231645},{"$f":"M33+L34","v":81.081000860134438},97.201943999999997,0,0,0,0,356.40712799999994,0,0.52050772537429246,684.72975640027391,{"$f":"INDEX(Hovedtal,B27,8)","v":1200.0000000000002},"",null,null,{"$f":"IF(G34=0,AA35,IF(I34=0,0,I34))","v":0},{"$f":"IF(G34=0,AB35,IF(J34=0,AB35,AB35-J34))","v":5.0000999999999998},{"$f":"IF(G34=0,0,AC35+AA34*AG35)","v":10},{"$f":"IF(G34=0,0,AD35+AA34*AH35)","v":10},{"$f":"IF(G34=0,0,AC35+AB34*AG35)","v":15},{"$f":"IF(G34=0,0,AD35+AB34*AH35)","v":10},null,null,{"$f":"MAX(AA34:AA35)","v":0},{"$f":"MIN(AB34:AB35)","v":5.0000999999999998},{"$f":"IF(G34=0,0.5*(AI34+AJ34),(M34*G34+AA34*P34+0.5*(AA34+AB34)*(N34+(AB34-AA34)*O34)+AB34*Q34+AK33*AL33)/AL34)","v":4.7398461373128535},{"$f":"AL33+N34+O34*(AB34-AA34)+P34+Q34","v":356.40712799999994},1200.0000000000002,0,0,null,null,null,null,null,{"$f":"AR35","v":3},{"$f":"AX34+G34","v":7.5},{"$f":"AU34+G34","v":7.5},{"$f":"AQ35","v":3},{"$f":"AU34","v":3},null,null,null,null,null,null,null,null,null,null,null,null,null,null,null,null,null,null,null,null,null,null,null,null,null,null,0,0,0,{"$f":"INDEX(Hovedtal,BS27,9+BW34)","v":0},{"$f":"CD33+CC34","v":0},0,0,0,0]
[null,null,null,null,null,1,{"$f":"IF(INDEX(Hovedtal,B27,9)<F35,0,INDEX(Etager,7-F35,2))","v":3},{"$f":"IF(F35>INDEX(Hovedtal,B27,9),0,INDEX(Hovedtal,B27,6))","v":0.2},null,null,5.0000999999999998,{"$f":"INDEX(Hovedtal,B27,9+F35)","v":20.475000206231645},{"$f":"M34+L35","v":101.55600106636608},64.801295999999994,0,0,0,58.278931684871097,479.48735568487103,0,0.39957279640405913,1200.0000000000002,{"$f":"INDEX(Hovedtal,B27,8)","v":1200.0000000000002},"",null,null,0,{"$f":"SQRT((AE35-AC35)^2+(AF35-AD35)^2)+0.0001","v":5.0000999999999998},{"$f":"INDEX(Hovedtal,B27,2)","v":10},{"$f":"INDEX(Hovedtal,B27,3)","v":10},{"$f":"INDEX(Hovedtal,B27,4)","v":15},{"$f":"INDEX(Hovedtal,B27,5)","v":10},{"$f":"(AE35-AC35)/AB35","v":0.99998000039999202},{"$f":"(AF35-AD35)/AB35","v":0},{"$f":"AA35","v":0},{"$f":"AB35","v":5.0000999999999998},{"$f":"IF(G35=0,0.5*(AI35+AJ35),(M35*G35+AA35*P35+0.5*(AA35+AB35)*(N35+(AB35-AA35)*O35)+AB35*Q35+AK34*AL34)/AL35)","v":5.1185809907388418},{"$f":"AL34+N35+O35*(AB35-AA35)+P35+Q35","v":421.20842399999992},1200.0000000000002,0,58.278931684871097,0,{"$f":"G35","v":3},{"$f":"G35","v":3},0,{"$f":"AP35","v":0},null,null,null,null,null,null,null,null,null,null,null,null,null,null,null,null,null,null,null,null,null,null,null,null,null,null,null,null,null,null,null,null,null,0,{"$f":"INDEX(Hovedtal,BS27,9+BW35)","v":0},{"$f":"CD34+CC35","v":0},0,0,0,0]
["*",null,null,null,null,null,null,null,null,null,null,null,null,null,null,null,null,null,null,null,null,null,null,null,null,null,null,null,null,null,null,null,null,null,null,null,null,null,null,null,null,null,null,null,null,null,null,null,null,null,null,null,null,null,null,null,null,null,null,null,null,null,null,null,null,null,null,null,null,null,null,{"$f":"MAX(AP28:BS35)+0.5","v":20}]
[]
[null,"Væg",null,null,null,"Etage","h","t","r_1","r_2","L_eff","V_i","Q","G","p","P1","P2","T","N","b_1","b_2","n","n_max",null,null,null,"Etager:",6,null,null,null,null,null,null,null,null,null,null,null,null,null,"Hjørnepunkter i vægopstalt",null,null,null,null,null,null,null,null,null,null,null,null,null,null,null,null,null,null,null,null,null,null,null,null,null,null,null,null,null,null,null,null,null,null,null,"r_1","r_2","L_eff","V_i","Q","G","p","P1","P2"]
[null,{"$f":"B27+1","v":2},null,null,null,null,"(m)","(m)","(m)","(m)","(m)","(kN)","(kN)","(kN)","(kN/m)","(kN)","(kN)","(kN)","(kN)","(m)","(m)","(kN/m)","(kN/m)",null,null,null,null,null,null,null,null,null,null,null,null,null,null,null,null,null,null,null,null,null,null,null,null,null,null,null,null,null,null,null,null,null,null,null,null,null,null,null,null,null,null,null,null,null,null,null,null,null,null,null,null,null,null,"(m)","(m)","(m)","(kN)","(kN)","(kN)","(kN/m)","(kN)","(kN)"]
[null,null,null,null,null,null,null,null,null,null,null,null,null,null,null,null,null,null,null,null,null,null,null,null,null,null,"s_1","s_2","x_1","y_1","x_2","y_2","cos(a)","sin(a)","s_1_e","s_2_e","s_N","N_0","n","T_1","T_2",0,0,{"$f":"AB47","v":5.0000999999999998},{"$f":"AB47","v":5.0000999999999998},{"$f":"AP40","v":0},{"$f":"AA46","v":0},{"$f":"AA46","v":0},{"$f":"AB46","v":5.0000999999999998},{"$f":"AB46","v":5.0000999999999998},{"$f":"AU40","v":0},{"$f":"AA45","v":0},{"$f":"AA45","v":0},{"$f":"AB45","v":5.0000999999999998},{"$f":"AB45","v":5.0000999999999998},{"$f":"AZ40","v":0},{"$f":"AA44","v":0},{"$f":"AA44","v":0},{"$f":"AB44","v":5.0000999999999998},{"$f":"AB44","v":5.0000999999999998},{"$f":"BE40","v":0},{"$f":"AA43","v":0},{"$f":"AA43","v":0},{"$f":"AB43","v":5.0000999999999998},{"$f":"AB43","v":5.0000999999999998},{"$f":"BJ40","v":0},{"$f":"AA42","v":0},{"$f":"AA42","v":0},{"$f":"AB42","v":5.0000999999999998},{"$f":"AB42","v":5.0000999999999998},{"$f":"BO40","v":0},{"$f":"BT48","v":20}]
[]
[null,null,null,null,null,6,{"$f":"IF(INDEX(Hovedtal,B39,9)<F42,0,INDEX(Etager,7-F42,2))","v":3},{"$f":"IF(F42>INDEX(Hovedtal,B39,9),0,INDEX(Hovedtal,B39,6))","v":0.2},0,0,{"$f":"AJ42-AI42","v":5.0000999999999998},{"$f":"INDEX(Hovedtal,B39,9+F42)","v":11.793600136506566},{"$f":"L42","v":11.793600136506566},{"$f":"(AB42-AA42)*H42*G42*g_g*g_e","v":64.801295999999994},0,0,0,{"$f":"IF(AK42>0.5*(AI42+AJ42),AO42,AN42)","v":0},{"$f":"AL42+R42","v":64.801295999999994},{"$f":"IF(AK42<=0.5*(AI42+AJ42),IF(AK42>AI42+0.5*AL42/AM42,2*(AK42-AI42),S42/AM42),0)","v":0},{"$f":"IF(AK42>0.5*(AI42+AJ42),IF(AK42<AJ42-0.5*AL42/AM42,2*(AJ42-AK42),S42/AM42),0)","v":3.9081218269239653},{"$f":"IF(AK42>0.5*(AI42+AJ42),S42/U42,S42/T42)","v":16.581186275609095},{"$f":"INDEX(Hovedtal,B39,8)","v":1200.0000000000002},{"$f":"IF(OR(V42>W42,ABS(M42)>0.5*S42),\"!\",\"\")","v":""},null,null,{"$f":"IF(G42=0,AA43,IF(I42=0,0,I42))","v":0},{"$f":"IF(G42=0,AB43,IF(J42=0,AB47,AB47-J42))","v":5.0000999999999998},{"$f":"IF(G42=0,0,AC47+AA42*AG47)","v":25},{"$f":"IF(G42=0,0,AD47+AA42*AH47)","v":10},{"$f":"IF(G42=0,0,AC47+AB42*AG47)","v":30},{"$f":"IF(G42=0,0,AD47+AB42*AH47)","v":10},null,null,{"$f":"MAX(AA42:AA43)","v":0},{"$f":"MIN(AB42:AB43)","v":5.0000999999999998},{"$f":"IF(G42=0,0.5*(AI42+AJ42),(M42*G42+AA42*P42+0.5*(AA42+AB42)*(N42+(AB42-AA42)*O42)+AB42*Q42)/AL42)","v":3.0460390865380171},{"$f":"N42+O42*(AB42-AA42)+P42+Q42","v":64.801295999999994},{"$f":"IF(AK42<0.5*(AI42+AJ42),MAX(W42,8*AL42*(0.5*(AJ42+AI42)-AK42)/(AJ42-AI42)^2+0.1),MAX(W42,-8*AL42*(0.5*(AJ42+AI42)-AK42)/(AJ42-AI42)^2+0.1))","v":1200.0000000000002},{"$f":"IF(AND(AK42<0.5*(AI42+AJ42),AL42/AM42>2*(AK42-AI42)),AM42*(-SQRT((AL42/AM42+0.5*AI42-0.5*AJ42)^2-2*(-AK42*AL42/AM42+0.5*AL42^2/AM42^2+AI42*AL42/AM42))-(AL42/AM42+0.5*AI42-0.5*AJ42)),0)","v":0},{"$f":"IF(AND(AK42>=0.5*(AI42+AJ42),AL42/AM42>2*(AJ42-AK42)),AM42*(-SQRT((AL42/AM42+0.5*AI42-0.5*AJ42)^2-2*(AK42*AL42/AM42+0.5*AL42^2/AM42^2-AJ42*AL42/AM42))-(AL42/AM42+0.5*AI42-0.5*AJ42)),0)","v":0},null,null,null,null,null,null,null,null,null,null,null,null,null,null,null,null,null,null,null,null,null,null,null,null,null,{"$f":"BL43","v":16.5},{"$f":"BR42+G42","v":19.5},{"$f":"BO42+G42","v":19.5},{"$f":"BK43","v":16.5},{"$f":"BO42","v":16.5},null,null,null,null,null,null,0,0,{"$f":"DA42-CZ42","v":0},{"$f":"INDEX(Hovedtal,BS39,9+BW42)","v":0},{"$f":"CC42","v":0},{"$f":"(CS42-CR42)*BY42*BX42*g_g*g_e","v":0},0,0,0]
[null,null,null,null,null,5,{"$f":"IF(INDEX(Hovedtal,B39,9)<F43,0,INDEX(Etager,7-F43,2))","v":3},{"$f":"IF(F43>INDEX(Hovedtal,B39,9),0,INDEX(Hovedtal,B39,6))","v":0.2},0,0,5.0000999999999998,{"$f":"INDEX(Hovedtal,B39,9+F43)","v":16.052400170711319},{"$f":"M42+L43","v":27.846000307217885},64.801295999999994,0,0,0,0,129.60259199999999,0,3.1649700153902272,40.949074199687338,{"$f":"INDEX(Hovedtal,B39,8)","v":1200.0000000000002},"",null,null,{"$f":"IF(G43=0,AA44,IF(I43=0,0,I43))","v":0},{"$f":"IF(G43=0,AB44,IF(J43=0,AB47,AB47-J43))","v":5.0000999999999998},{"$f":"IF(G43=0,0,AC47+AA43*AG47)","v":25},{"$f":"IF(G43=0,0,AD47+AA43*AH47)","v":10},{"$f":"IF(G43=0,0,AC47+AB43*AG47)","v":30},{"$f":"IF(G43=0,0,AD47+AB43*AH47)","v":10},null,null,{"$f":"MAX(AA43:AA44)","v":0},{"$f":"MIN(AB43:AB44)","v":5.0000999999999998},{"$f":"IF(G43=0,0.5*(AI43+AJ43),(M43*G43+AA43*P43+0.5*(AA43+AB43)*(N43+(AB43-AA43)*O43)+AB43*Q43+AK42*AL42)/AL43)","v":3.4176149923048862},{"$f":"AL42+N43+O43*(AB43-AA43)+P43+Q43","v":129.60259199999999},1200.0000000000002,0,0,null,null,null,null,null,null,null,null,null,null,null,null,null,null,null,null,null,null,null,null,{"$f":"BG44","v":13.5},{"$f":"BM43+G43","v":16.5},{"$f":"BJ43+G43","v":16.5},{"$f":"BF44","v":13.5},{"$f":"BJ43","v":13.5},null,null,null,null,null,null,null,null,null,null,null,0,0,0,{"$f":"INDEX(Hovedtal,BS39,9+BW43)","v":0},{"$f":"CD42+CC43","v":0},0,0,0,0]
[null,null,null,null,null,4,{"$f":"IF(INDEX(Hovedtal,B39,9)<F44,0,INDEX(Etager,7-F44,2))","v":3},{"$f":"IF(F44>INDEX(Hovedtal,B39,9),0,INDEX(Hovedtal,B39,6))","v":0.2},0,0,5.0000999999999998,{"$f":"INDEX(Hovedtal,B39,9+F44)","v":16.380000173342452},{"$f":"M43+L44","v":44.226000480560337},64.801295999999994,0,0,0,0,194.40388799999999,0,2.4117072948823504,80.608408994128595,{"$f":"INDEX(Hovedtal,B39,8)","v":1200.0000000000002},"",null,null,{"$f":"IF(G44=0,AA45,IF(I44=0,0,I44))","v":0},{"$f":"IF(G44=0,AB45,IF(J44=0,AB47,AB47-J44))","v":5.0000999999999998},{"$f":"IF(G44=0,0,AC47+AA44*AG47)","v":25},{"$f":"IF(G44=0,0,AD47+AA44*AH47)","v":10},{"$f":"IF(G44=0,0,AC47+AB44*AG47)","v":30},{"$f":"IF(G44=0,0,AD47+AB44*AH47)","v":10},null,null,{"$f":"MAX(AA44:AA45)","v":0},{"$f":"MIN(AB44:AB45)","v":5.0000999999999998},{"$f":"IF(G44=0,0.5*(AI44+AJ44),(M44*G44+AA44*P44+0.5*(AA44+AB44)*(N44+(AB44-AA44)*O44)+AB44*Q44+AK43*AL43)/AL44)","v":3.7942463525588246},{"$f":"AL43+N44+O44*(AB44-AA44)+P44+Q44","v":194.40388799999999},1200.0000000000002,0,0,null,null,null,null,null,null,null,null,null,null,null,null,null,null,null,{"$f":"BB45","v":10.5},{"$f":"BH44+G44","v":13.5},{"$f":"BE44+G44","v":13.5},{"$f":"BA45","v":10.5},{"$f":"BE44","v":10.5},null,null,null,null,null,null,null,null,null,null,null,null,null,null,null,null,0,0,0,{"$f":"INDEX(Hovedtal,BS39,9+BW44)","v":0},{"$f":"CD43+CC44","v":0},0,0,0,0]
[null,null,null,null,null,3,{"$f":"IF(INDEX(Hovedtal,B39,9)<F45,0,INDEX(Etager,7-F45,2))","v":3},{"$f":"IF(F45>INDEX(Hovedtal,B39,9),0,INDEX(Hovedtal,B39,6))","v":0.2},0,0,5.0000999999999998,{"$f":"INDEX(Hovedtal,B39,9+F45)","v":16.380000173342459},{"$f":"M44+L45","v":60.606000653902797},64.801295999999994,0,0,0,0,259.20518399999997,0,1.6559168471309373,156.5327295565005,{"$f":"INDEX(Hovedtal,B39,8)","v":1200.0000000000002},"",null,null,{"$f":"IF(G45=0,AA46,IF(I45=0,0,I45))","v":0},{"$f":"IF(G45=0,AB46,IF(J45=0,AB47,AB47-J45))","v":5.0000999999999998},{"$f":"IF(G45=0,0,AC47+AA45*AG47)","v":25},{"$f":"IF(G45=0,0,AD47+AA45*AH47)","v":10},{"$f":"IF(G45=0,0,AC47+AB45*AG47)","v":30},{"$f":"IF(G45=0,0,AD47+AB45*AH47)","v":10},null,null,{"$f":"MAX(AA45:AA46)","v":0},{"$f":"MIN(AB45:AB46)","v":5.0000999999999998},{"$f":"IF(G45=0,0.5*(AI45+AJ45),(M45*G45+AA45*P45+0.5*(AA45+AB45)*(N45+(AB45-AA45)*O45)+AB45*Q45+AK44*AL44)/AL45)","v":4.1721415764345311},{"$f":"AL44+N45+O45*(AB45-AA45)+P45+Q45","v":259.20518399999997},1200.0000000000002,0,0,null,null,null,null,null,null,null,null,null,null,{"$f":"AW46","v":7.5},{"$f":"BC45+G45","v":10.5},{"$f":"AZ45+G45","v":10.5},{"$f":"AV46","v":7.5},{"$f":"AZ45","v":7.5},null,null,null,null,null,null,null,null,null,null,null,null,null,null,null,null,null,null,null,null,null,0,0,0,{"$f":"INDEX(Hovedtal,BS39,9+BW45)","v":0},{"$f":"CD44+CC45","v":0},0,0,0,0]
[null,null,null,null,null,2,{"$f":"IF(INDEX(Hovedtal,B39,9)<F46,0,INDEX(Etager,7-F46,2))","v":4.5},{"$f":"IF(F46>INDEX(Hovedtal,B39,9),0,INDEX(Hovedtal,B39,6))","v":0.2},0,0,5.0000999999999998,{"$f":"INDEX(Hovedtal,B39,9+F46)","v":20.475000206231645},{"$f":"M45+L46","v":81.081000860134438},97.201943999999997,0,0,0,0,356.40712799999994,0,0.52050772537429246,684.72975640027391,{"$f":"INDEX(Hovedtal,B39,8)","v":1200.0000000000002},"",null,null,{"$f":"IF(G46=0,AA47,IF(I46=0,0,I46))","v":0},{"$f":"IF(G46=0,AB47,IF(J46=0,AB47,AB47-J46))","v":5.0000999999999998},{"$f":"IF(G46=0,0,AC47+AA46*AG47)","v":25},{"$f":"IF(G46=0,0,AD47+AA46*AH47)","v":10},{"$f":"IF(G46=0,0,AC47+AB46*AG47)","v":30},{"$f":"IF(G46=0,0,AD47+AB46*AH47)","v":10},null,null,{"$f":"MAX(AA46:AA47)","v":0},{"$f":"MIN(AB46:AB47)","v":5.0000999999999998},{"$f":"IF(G46=0,0.5*(AI46+AJ46),(M46*G46+AA46*P46+0.5*(AA46+AB46)*(N46+(AB46-AA46)*O46)+AB46*Q46+AK45*AL45)/AL46)","v":4.7398461373128535},{"$f":"AL45+N46+O46*(AB46-AA46)+P46+Q46","v":356.40712799999994},1200.0000000000002,0,0,null,null,null,null,null,{"$f":"AR47","v":3},{"$f":"AX46+G46","v":7.5},{"$f":"AU46+G46","v":7.5},{"$f":"AQ47","v":3},{"$f":"AU46","v":3},null,null,null,null,null,null,null,null,null,null,null,null,null,null,null,null,null,null,null,null,null,null,null,null,null,null,0,0,0,{"$f":"INDEX(Hovedtal,BS39,9+BW46)","v":0},{"$f":"CD45+CC46","v":0},0,0,0,0]
[null,null,null,null,null,1,{"$f":"IF(INDEX(Hovedtal,B39,9)<F47,0,INDEX(Etager,7-F47,2))","v":3},{"$f":"IF(F47>INDEX(Hovedtal,B39,9),0,INDEX(Hovedtal,B39,6))","v":0.2},null,null,5.0000999999999998,{"$f":"INDEX(Hovedtal,B39,9+F47)","v":20.475000206231645},{"$f":"M46+L47","v":101.55600106636608},64.801295999999994,0,0,0,58.278931684871097,479.48735568487103,0,0.39957279640405913,1200.0000000000002,{"$f":"INDEX(Hovedtal,B39,8)","v":1200.0000000000002},"",null,null,0,{"$f":"SQRT((AE47-AC47)^2+(AF47-AD47)^2)+0.0001","v":5.0000999999999998},{"$f":"INDEX(Hovedtal,B39,2)","v":25},{"$f":"INDEX(Hovedtal,B39,3)","v":10},{"$f":"INDEX(Hovedtal,B39,4)","v":30},{"$f":"INDEX(Hovedtal,B39,5)","v":10},{"$f":"(AE47-AC47)/AB47","v":0.99998000039999202},{"$f":"(AF47-AD47)/AB47","v":0},{"$f":"AA47","v":0},{"$f":"AB47","v":5.0000999999999998},{"$f":"IF(G47=0,0.5*(AI47+AJ47),(M47*G47+AA47*P47+0.5*(AA47+AB47)*(N47+(AB47-AA47)*O47)+AB47*Q47+AK46*AL46)/AL47)","v":5.1185809907388418},{"$f":"AL46+N47+O47*(AB47-AA47)+P47+Q47","v":421.20842399999992},1200.0000000000002,0,58.278931684871097,0,{"$f":"G47","v":3},{"$f":"G47","v":3},0,{"$f":"AP47","v":0},null,null,null,null,null,null,null,null,null,null,null,null,null,null,null,null,null,null,null,null,null,null,null,null,null,null,null,null,null,null,null,null,null,0,{"$f":"INDEX(Hovedtal,BS39,9+BW47)","v":0},{"$f":"CD46+CC47","v":0},0,0,0,0]
["*",null,null,null,null,null,null,null,null,null,null,null,null,null,null,null,null,null,null,null,null,null,null,null,null,null,null,null,null,null,null,null,null,null,null,null,null,null,null,null,null,null,null,null,null,null,null,null,null,null,null,null,null,null,null,null,null,null,null,null,null,null,null,null,null,null,null,null,null,null,null,{"$f":"MAX(AP40:BS47)+0.5","v":20}]
[]
[null,"Væg",null,null,null,"Etage","h","t","r_1","r_2","L_eff","V_i","Q","G","p","P1","P2","T","N","b_1","b_2","n","n_max",null,null,null,"Etager:",6,null,null,null,null,null,null,null,null,null,null,null,null,null,"Hjørnepunkter i vægopstalt",null,null,null,null,null,null,null,null,null,null,null,null,null,null,null,null,null,null,null,null,null,null,null,null,null,null,null,null,null,null,null,null,null,null,null,"r_1","r_2","L_eff","V_i","Q","G","p","P1","P2"]
[null,{"$f":"B39+1","v":3},null,null,null,null,"(m)","(m)","(m)","(m)","(m)","(kN)","(kN)","(kN)","(kN/m)","(kN)","(kN)","(kN)","(kN)","(m)","(m)","(kN/m)","(kN/m)",null,null,null,null,null,null,null,null,null,null,null,null,null,null,null,null,null,null,null,null,null,null,null,null,null,null,null,null,null,null,null,null,null,null,null,null,null,null,null,null,null,null,null,null,null,null,null,null,null,null,null,null,null,null,"(m)","(m)","(m)","(kN)","(kN)","(kN)","(kN/m)","(kN)","(kN)"]
[null,null,null,null,null,null,null,null,null,null,null,null,null,null,null,null,null,null,null,null,null,null,null,null,null,null,"s_1","s_2","x_1","y_1","x_2","y_2","cos(a)","sin(a)","s_1_e","s_2_e","s_N","N_0","n","T_1","T_2",0,0,{"$f":"AB59","v":7.0000999999999998},{"$f":"AB59","v":7.0000999999999998},{"$f":"AP52","v":0},{"$f":"AA58","v":0},{"$f":"AA58","v":0},{"$f":"AB58","v":7.0000999999999998},{"$f":"AB58","v":7.0000999999999998},{"$f":"AU52","v":0},{"$f":"AA57","v":0},{"$f":"AA57","v":0},{"$f":"AB57","v":7.0000999999999998},{"$f":"AB57","v":7.0000999999999998},{"$f":"AZ52","v":0},{"$f":"AA56","v":0},{"$f":"AA56","v":0},{"$f":"AB56","v":7.0000999999999998},{"$f":"AB56","v":7.0000999999999998},{"$f":"BE52","v":0},{"$f":"AA55","v":0},{"$f":"AA55","v":0},{"$f":"AB55","v":7.0000999999999998},{"$f":"AB55","v":7.0000999999999998},{"$f":"BJ52","v":0},{"$f":"AA54","v":0},{"$f":"AA54","v":0},{"$f":"AB54","v":7.0000999999999998},{"$f":"AB54","v":7.0000999999999998},{"$f":"BO52","v":0},{"$f":"BT60","v":20}]
[]
[null,null,null,null,null,6,{"$f":"IF(INDEX(Hovedtal,B51,9)<F54,0,INDEX(Etager,7-F54,2))","v":3},{"$f":"IF(F54>INDEX(Hovedtal,B51,9),0,INDEX(Hovedtal,B51,6))","v":0.2},0,0,{"$f":"AJ54-AI54","v":7.0000999999999998},{"$f":"INDEX(Hovedtal,B51,9+F54)","v":38.387157571540818},{"$f":"L54","v":38.387157571540818},{"$f":"(AB54-AA54)*H54*G54*g_g*g_e","v":90.721296000000024},0,0,0,{"$f":"IF(AK54>0.5*(AI54+AJ54),AO54,AN54)","v":0},{"$f":"AL54+R54","v":90.721296000000024},{"$f":"IF(AK54<=0.5*(AI54+AJ54),IF(AK54>AI54+0.5*AL54/AM54,2*(AK54-AI54),S54/AM54),0)","v":0},{"$f":"IF(AK54>0.5*(AI54+AJ54),IF(AK54<AJ54-0.5*AL54/AM54,2*(AJ54-AK54),S54/AM54),0)","v":4.4613030958062492},{"$f":"IF(AK54>0.5*(AI54+AJ54),S54/U54,S54/T54)","v":20.335156354940466},{"$f":"INDEX(Hovedtal,B51,8)","v":1200.0000000000002},{"$f":"IF(OR(V54>W54,ABS(M54)>0.5*S54),\"!\",\"\")","v":""},null,null,{"$f":"IF(G54=0,AA55,IF(I54=0,0,I54))","v":0},{"$f":"IF(G54=0,AB55,IF(J54=0,AB59,AB59-J54))","v":7.0000999999999998},{"$f":"IF(G54=0,0,AC59+AA54*AG59)","v":10},{"$f":"IF(G54=0,0,AD59+AA54*AH59)","v":15},{"$f":"IF(G54=0,0,AC59+AB54*AG59)","v":10},{"$f":"IF(G54=0,0,AD59+AB54*AH59)","v":22},null,null,{"$f":"MAX(AA54:AA55)","v":0},{"$f":"MIN(AB54:AB55)","v":7.0000999999999998},{"$f":"IF(G54=0,0.5*(AI54+AJ54),(M54*G54+AA54*P54+0.5*(AA54+AB54)*(N54+(AB54-AA54)*O54)+AB54*Q54)/AL54)","v":4.7694484520968752},{"$f":"N54+O54*(AB54-AA54)+P54+Q54","v":90.721296000000024},{"$f":"IF(AK54<0.5*(AI54+AJ54),MAX(W54,8*AL54*(0.5*(AJ54+AI54)-AK54)/(AJ54-AI54)^2+0.1),MAX(W54,-8*AL54*(0.5*(AJ54+AI54)-AK54)/(AJ54-AI54)^2+0.1))","v":1200.0000000000002},{"$f":"IF(AND(AK54<0.5*(AI54+AJ54),AL54/AM54>2*(AK54-AI54)),AM54*(-SQRT((AL54/AM54+0.5*AI54-0.5*AJ54)^2-2*(-AK54*AL54/AM54+0.5*AL54^2/AM54^2+AI54*AL54/AM54))-(AL54/AM54+0.5*AI54-0.5*AJ54)),0)","v":0},{"$f":"IF(AND(AK54>=0.5*(AI54+AJ54),AL54/AM54>2*(AJ54-AK54)),AM54*(-SQRT((AL54/AM54+0.5*AI54-0.5*AJ54)^2-2*(AK54*AL54/AM54+0.5*AL54^2/AM54^2-AJ54*AL54/AM54))-(AL54/AM54+0.5*AI54-0.5*AJ54)),0)","v":0},null,null,null,null,null,null,null,null,null,null,null,null,null,null,null,null,null,null,null,null,null,null,null,null,null,{"$f":"BL55","v":16.5},{"$f":"BR54+G54","v":19.5},{"$f":"BO54+G54","v":19.5},{"$f":"BK55","v":16.5},{"$f":"BO54","v":16.5},null,null,null,null,null,null,0,0,{"$f":"DA54-CZ54","v":0},{"$f":"INDEX(Hovedtal,BS51,9+BW54)","v":{"$error":"#VALUE!"}},{"$f":"CC54","v":{"$error":"#VALUE!"}},{"$f":"(CS54-CR54)*BY54*BX54*g_g*g_e","v":0},0,0,0]
[null,null,null,null,null,5,{"$f":"IF(INDEX(Hovedtal,B51,9)<F55,0,INDEX(Etager,7-F55,2))","v":3},{"$f":"IF(F55>INDEX(Hovedtal,B51,9),0,INDEX(Hovedtal,B51,6))","v":0.2},0,0,7.0000999999999998,{"$f":"INDEX(Hovedtal,B51,9+F55)","v":50.770436800207072},{"$f":"M54+L55","v":89.157594371747891},90.721296000000024,0,0,0,0,181.44259200000005,0,2.7824105191325081,65.210575776779947,{"$f":"INDEX(Hovedtal,B51,8)","v":1200.0000000000002},"",null,null,{"$f":"IF(G55=0,AA56,IF(I55=0,0,I55))","v":0},{"$f":"IF(G55=0,AB56,IF(J55=0,AB59,AB59-J55))","v":7.0000999999999998},{"$f":"IF(G55=0,0,AC59+AA55*AG59)","v":10},{"$f":"IF(G55=0,0,AD59+AA55*AH59)","v":15},{"$f":"IF(G55=0,0,AC59+AB55*AG59)","v":10},{"$f":"IF(G55=0,0,AD59+AB55*AH59)","v":22},null,null,{"$f":"MAX(AA55:AA56)","v":0},{"$f":"MIN(AB55:AB56)","v":7.0000999999999998},{"$f":"IF(G55=0,0.5*(AI55+AJ55),(M55*G55+AA55*P55+0.5*(AA55+AB55)*(N55+(AB55-AA55)*O55)+AB55*Q55+AK54*AL54)/AL55)","v":5.6088947404337457},{"$f":"AL54+N55+O55*(AB55-AA55)+P55+Q55","v":181.44259200000005},1200.0000000000002,0,0,null,null,null,null,null,null,null,null,null,null,null,null,null,null,null,null,null,null,null,null,{"$f":"BG56","v":13.5},{"$f":"BM55+G55","v":16.5},{"$f":"BJ55+G55","v":16.5},{"$f":"BF56","v":13.5},{"$f":"BJ55","v":13.5},null,null,null,null,null,null,null,null,null,null,null,0,0,0,{"$f":"INDEX(Hovedtal,BS51,9+BW55)","v":{"$error":"#VALUE!"}},{"$f":"CD54+CC55","v":{"$error":"#VALUE!"}},0,0,0,0]
[null,null,null,null,null,4,{"$f":"IF(INDEX(Hovedtal,B51,9)<F56,0,INDEX(Etager,7-F56,2))","v":3},{"$f":"IF(F56>INDEX(Hovedtal,B51,9),0,INDEX(Hovedtal,B51,6))","v":0.2},0,0,7.0000999999999998,{"$f":"INDEX(Hovedtal,B51,9+F56)","v":51.722996740873761},{"$f":"M55+L56","v":140.88059111262166},90.721296000000024,0,0,0,0,272.16388800000004,0,1.0825182437625163,251.41736831523329,{"$f":"INDEX(Hovedtal,B51,8)","v":1200.0000000000002},"!",null,null,{"$f":"IF(G56=0,AA57,IF(I56=0,0,I56))","v":0},{"$f":"IF(G56=0,AB57,IF(J56=0,AB59,AB59-J56))","v":7.0000999999999998},{"$f":"IF(G56=0,0,AC59+AA56*AG59)","v":10},{"$f":"IF(G56=0,0,AD59+AA56*AH59)","v":15},{"$f":"IF(G56=0,0,AC59+AB56*AG59)","v":10},{"$f":"IF(G56=0,0,AD59+AB56*AH59)","v":22},null,null,{"$f":"MAX(AA56:AA57)","v":0},{"$f":"MIN(AB56:AB57)","v":7.0000999999999998},{"$f":"IF(G56=0,0.5*(AI56+AJ56),(M56*G56+AA56*P56+0.5*(AA56+AB56)*(N56+(AB56-AA56)*O56)+AB56*Q56+AK55*AL55)/AL56)","v":6.4588408781187416},{"$f":"AL55+N56+O56*(AB56-AA56)+P56+Q56","v":272.16388800000004},1200.0000000000002,0,0,null,null,null,null,null,null,null,null,null,null,null,null,null,null,null,{"$f":"BB57","v":10.5},{"$f":"BH56+G56","v":13.5},{"$f":"BE56+G56","v":13.5},{"$f":"BA57","v":10.5},{"$f":"BE56","v":10.5},null,null,null,null,null,null,null,null,null,null,null,null,null,null,null,null,0,0,0,{"$f":"INDEX(Hovedtal,BS51,9+BW56)","v":{"$error":"#VALUE!"}},{"$f":"CD55+CC56","v":{"$error":"#VALUE!"}},0,0,0,0]
[null,null,null,null,null,3,{"$f":"IF(INDEX(Hovedtal,B51,9)<F57,0,INDEX(Etager,7-F57,2))","v":3},{"$f":"IF(F57>INDEX(Hovedtal,B51,9),0,INDEX(Hovedtal,B51,6))","v":0.2},0,0,7.0000999999999998,{"$f":"INDEX(Hovedtal,B51,9+F57)","v":51.722996740873818},{"$f":"M56+L57","v":192.60358785349547},90.721296000000024,0,0,0,52.852459084263266,415.73764308426337,0,0.34644803590355272,1200.0000000000002,{"$f":"INDEX(Hovedtal,B51,8)","v":1200.0000000000002},"",null,null,{"$f":"IF(G57=0,AA58,IF(I57=0,0,I57))","v":0},{"$f":"IF(G57=0,AB58,IF(J57=0,AB59,AB59-J57))","v":7.0000999999999998},{"$f":"IF(G57=0,0,AC59+AA57*AG59)","v":10},{"$f":"IF(G57=0,0,AD59+AA57*AH59)","v":15},{"$f":"IF(G57=0,0,AC59+AB57*AG59)","v":10},{"$f":"IF(G57=0,0,AD59+AB57*AH59)","v":22},null,null,{"$f":"MAX(AA57:AA58)","v":0},{"$f":"MIN(AB57:AB58)","v":7.0000999999999998},{"$f":"IF(G57=0,0.5*(AI57+AJ57),(M57*G57+AA57*P57+0.5*(AA57+AB57)*(N57+(AB57-AA57)*O57)+AB57*Q57+AK56*AL56)/AL57)","v":7.3114119781407689},{"$f":"AL56+N57+O57*(AB57-AA57)+P57+Q57","v":362.88518400000009},1200.0000000000002,0,52.852459084263266,null,null,null,null,null,null,null,null,null,null,{"$f":"AW58","v":7.5},{"$f":"BC57+G57","v":10.5},{"$f":"AZ57+G57","v":10.5},{"$f":"AV58","v":7.5},{"$f":"AZ57","v":7.5},null,null,null,null,null,null,null,null,null,null,null,null,null,null,null,null,null,null,null,null,null,0,0,0,{"$f":"INDEX(Hovedtal,BS51,9+BW57)","v":{"$error":"#VALUE!"}},{"$f":"CD56+CC57","v":{"$error":"#VALUE!"}},0,0,0,0]
[null,null,null,null,null,2,{"$f":"IF(INDEX(Hovedtal,B51,9)<F58,0,INDEX(Etager,7-F58,2))","v":4.5},{"$f":"IF(F58>INDEX(Hovedtal,B51,9),0,INDEX(Hovedtal,B51,6))","v":0.2},0,0,7.0000999999999998,{"$f":"INDEX(Hovedtal,B51,9+F58)","v":63.629995999206706},{"$f":"M57+L58","v":256.23358385270217},136.08194399999999,0,0,0,302.00873131694021,800.97585931694039,0,0.66747988276411685,1200.0000000000002,{"$f":"INDEX(Hovedtal,B51,8)","v":1200.0000000000002},"",null,null,{"$f":"IF(G58=0,AA59,IF(I58=0,0,I58))","v":0},{"$f":"IF(G58=0,AB59,IF(J58=0,AB59,AB59-J58))","v":7.0000999999999998},{"$f":"IF(G58=0,0,AC59+AA58*AG59)","v":10},{"$f":"IF(G58=0,0,AD59+AA58*AH59)","v":15},{"$f":"IF(G58=0,0,AC59+AB58*AG59)","v":10},{"$f":"IF(G58=0,0,AD59+AB58*AH59)","v":22},null,null,{"$f":"MAX(AA58:AA59)","v":0},{"$f":"MIN(AB58:AB59)","v":7.0000999999999998},{"$f":"IF(G58=0,0.5*(AI58+AJ58),(M58*G58+AA58*P58+0.5*(AA58+AB58)*(N58+(AB58-AA58)*O58)+AB58*Q58+AK57*AL57)/AL58)","v":8.5828255532331905},{"$f":"AL57+N58+O58*(AB58-AA58)+P58+Q58","v":498.96712800000012},1200.0000000000002,0,302.00873131694021,null,null,null,null,null,{"$f":"AR59","v":3},{"$f":"AX58+G58","v":7.5},{"$f":"AU58+G58","v":7.5},{"$f":"AQ59","v":3},{"$f":"AU58","v":3},null,null,null,null,null,null,null,null,null,null,null,null,null,null,null,null,null,null,null,null,null,null,null,null,null,null,0,0,0,{"$f":"INDEX(Hovedtal,BS51,9+BW58)","v":{"$error":"#VALUE!"}},{"$f":"CD57+CC58","v":{"$error":"#VALUE!"}},0,0,0,0]
[null,null,null,null,null,1,{"$f":"IF(INDEX(Hovedtal,B51,9)<F59,0,INDEX(Etager,7-F59,2))","v":3},{"$f":"IF(F59>INDEX(Hovedtal,B51,9),0,INDEX(Hovedtal,B51,6))","v":0.2},null,null,7.0000999999999998,{"$f":"INDEX(Hovedtal,B51,9+F59)","v":63.629995999206649},{"$f":"M58+L59","v":319.86357985190881},90.721296000000024,0,0,0,568.86615589808002,1158.5545798980802,0,0.96546214991506663,1200.0000000000002,{"$f":"INDEX(Hovedtal,B51,8)","v":1200.0000000000002},"",null,null,0,{"$f":"SQRT((AE59-AC59)^2+(AF59-AD59)^2)+0.0001","v":7.0000999999999998},{"$f":"INDEX(Hovedtal,B51,2)","v":10},{"$f":"INDEX(Hovedtal,B51,3)","v":15},{"$f":"INDEX(Hovedtal,B51,4)","v":10},{"$f":"INDEX(Hovedtal,B51,5)","v":22},{"$f":"(AE59-AC59)/AB59","v":0},{"$f":"(AF59-AD59)/AB59","v":0.99998571448979301},{"$f":"AA59","v":0},{"$f":"AB59","v":7.0000999999999998},{"$f":"IF(G59=0,0.5*(AI59+AJ59),(M59*G59+AA59*P59+0.5*(AA59+AB59)*(N59+(AB59-AA59)*O59)+AB59*Q59+AK58*AL58)/AL59)","v":9.4281444263899985},{"$f":"AL58+N59+O59*(AB59-AA59)+P59+Q59","v":589.68842400000017},1200.0000000000002,0,568.86615589808002,0,{"$f":"G59","v":3},{"$f":"G59","v":3},0,{"$f":"AP59","v":0},null,null,null,null,null,null,null,null,null,null,null,null,null,null,null,null,null,null,null,null,null,null,null,null,null,null,null,null,null,null,null,null,null,0,{"$f":"INDEX(Hovedtal,BS51,9+BW59)","v":{"$error":"#VALUE!"}},{"$f":"CD58+CC59","v":{"$error":"#VALUE!"}},0,0,0,0]
["*",null,null,null,null,null,null,null,null,null,null,null,null,null,null,null,null,null,null,null,null,null,null,null,null,null,null,null,null,null,null,null,null,null,null,null,null,null,null,null,null,null,null,null,null,null,null,null,null,null,null,null,null,null,null,null,null,null,null,null,null,null,null,null,null,null,null,null,null,null,null,{"$f":"MAX(AP52:BS59)+0.5","v":20}]
[]
[null,"Væg",null,null,null,"Etage","h","t","r_1","r_2","L_eff","V_i","Q","G","p","P1","P2","T","N","b_1","b_2","n","n_max",null,null,null,"Etager:",6,null,null,null,null,null,null,null,null,null,null,null,null,null,"Hjørnepunkter i vægopstalt",null,null,null,null,null,null,null,null,null,null,null,null,null,null,null,null,null,null,null,null,null,null,null,null,null,null,null,null,null,null,null,null,null,null,null,"r_1","r_2","L_eff","V_i","Q","G","p","P1","P2"]
[null,{"$f":"B51+1","v":4},null,null,null,null,"(m)","(m)","(m)","(m)","(m)","(kN)","(kN)","(kN)","(kN/m)","(kN)","(kN)","(kN)","(kN)","(m)","(m)","(kN/m)","(kN/m)",null,null,null,null,null,null,null,null,null,null,null,null,null,null,null,null,null,null,null,null,null,null,null,null,null,null,null,null,null,null,null,null,null,null,null,null,null,null,null,null,null,null,null,null,null,null,null,null,null,null,null,null,null,null,"(m)","(m)","(m)","(kN)","(kN)","(kN)","(kN/m)","(kN)","(kN)"]
[null,null,null,null,null,null,null,null,null,null,null,null,null,null,null,null,null,null,null,null,null,null,null,null,null,null,"s_1","s_2","x_1","y_1","x_2","y_2","cos(a)","sin(a)","s_1_e","s_2_e","s_N","N_0","n","T_1","T_2",0,0,{"$f":"AB71","v":7.0000999999999998},{"$f":"AB71","v":7.0000999999999998},{"$f":"AP64","v":0},{"$f":"AA70","v":0},{"$f":"AA70","v":0},{"$f":"AB70","v":7.0000999999999998},{"$f":"AB70","v":7.0000999999999998},{"$f":"AU64","v":0},{"$f":"AA69","v":0},{"$f":"AA69","v":0},{"$f":"AB69","v":7.0000999999999998},{"$f":"AB69","v":7.0000999999999998},{"$f":"AZ64","v":0},{"$f":"AA68","v":0},{"$f":"AA68","v":0},{"$f":"AB68","v":7.0000999999999998},{"$f":"AB68","v":7.0000999999999998},{"$f":"BE64","v":0},{"$f":"AA67","v":0},{"$f":"AA67","v":0},{"$f":"AB67","v":7.0000999999999998},{"$f":"AB67","v":7.0000999999999998},{"$f":"BJ64","v":0},{"$f":"AA66","v":0},{"$f":"AA66","v":0},{"$f":"AB66","v":7.0000999999999998},{"$f":"AB66","v":7.0000999999999998},{"$f":"BO64","v":0},{"$f":"BT72","v":20}]
[]
[null,null,null,null,null,6,{"$f":"IF(INDEX(Hovedtal,B63,9)<F66,0,INDEX(Etager,7-F66,2))","v":3},{"$f":"IF(F66>INDEX(Hovedtal,B63,9),0,INDEX(Hovedtal,B63,6))","v":0.2},0,0,{"$f":"AJ66-AI66","v":7.0000999999999998},{"$f":"INDEX(Hovedtal,B63,9+F66)","v":24.234840900290653},{"$f":"L66","v":24.234840900290653},{"$f":"(AB66-AA66)*H66*G66*g_g*g_e","v":90.721296000000024},0,0,0,{"$f":"IF(AK66>0.5*(AI66+AJ66),AO66,AN66)","v":0},{"$f":"AL66+R66","v":90.721296000000024},{"$f":"IF(AK66<=0.5*(AI66+AJ66),IF(AK66>AI66+0.5*AL66/AM66,2*(AK66-AI66),S66/AM66),0)","v":0},{"$f":"IF(AK66>0.5*(AI66+AJ66),IF(AK66<AJ66-0.5*AL66/AM66,2*(AJ66-AK66),S66/AM66),0)","v":5.3972895044164293},{"$f":"IF(AK66>0.5*(AI66+AJ66),S66/U66,S66/T66)","v":16.808677008295682},{"$f":"INDEX(Hovedtal,B63,8)","v":1200.0000000000002},{"$f":"IF(OR(V66>W66,ABS(M66)>0.5*S66),\"!\",\"\")","v":""},null,null,{"$f":"IF(G66=0,AA67,IF(I66=0,0,I66))","v":0},{"$f":"IF(G66=0,AB67,IF(J66=0,AB71,AB71-J66))","v":7.0000999999999998},{"$f":"IF(G66=0,0,AC71+AA66*AG71)","v":30},{"$f":"IF(G66=0,0,AD71+AA66*AH71)","v":15},{"$f":"IF(G66=0,0,AC71+AB66*AG71)","v":30},{"$f":"IF(G66=0,0,AD71+AB66*AH71)","v":22},null,null,{"$f":"MAX(AA66:AA67)","v":0},{"$f":"MIN(AB66:AB67)","v":7.0000999999999998},{"$f":"IF(G66=0,0.5*(AI66+AJ66),(M66*G66+AA66*P66+0.5*(AA66+AB66)*(N66+(AB66-AA66)*O66)+AB66*Q66)/AL66)","v":4.3014552477917851},{"$f":"N66+O66*(AB66-AA66)+P66+Q66","v":90.721296000000024},{"$f":"IF(AK66<0.5*(AI66+AJ66),MAX(W66,8*AL66*(0.5*(AJ66+AI66)-AK66)/(AJ66-AI66)^2+0.1),MAX(W66,-8*AL66*(0.5*(AJ66+AI66)-AK66)/(AJ66-AI66)^2+0.1))","v":1200.0000000000002},{"$f":"IF(AND(AK66<0.5*(AI66+AJ66),AL66/AM66>2*(AK66-AI66)),AM66*(-SQRT((AL66/AM66+0.5*AI66-0.5*AJ66)^2-2*(-AK66*AL66/AM66+0.5*AL66^2/AM66^2+AI66*AL66/AM66))-(AL66/AM66+0.5*AI66-0.5*AJ66)),0)","v":0},{"$f":"IF(AND(AK66>=0.5*(AI66+AJ66),AL66/AM66>2*(AJ66-AK66)),AM66*(-SQRT((AL66/AM66+0.5*AI66-0.5*AJ66)^2-2*(AK66*AL66/AM66+0.5*AL66^2/AM66^2-AJ66*AL66/AM66))-(AL66/AM66+0.5*AI66-0.5*AJ66)),0)","v":0},null,null,null,null,null,null,null,null,null,null,null,null,null,null,null,null,null,null,null,null,null,null,null,null,null,{"$f":"BL67","v":16.5},{"$f":"BR66+G66","v":19.5},{"$f":"BO66+G66","v":19.5},{"$f":"BK67","v":16.5},{"$f":"BO66","v":16.5},null,null,null,null,null,null,0,0,{"$f":"DA66-CZ66","v":0},{"$f":"INDEX(Hovedtal,BS63,9+BW66)","v":{"$error":"#VALUE!"}},{"$f":"CC66","v":{"$error":"#VALUE!"}},{"$f":"(CS66-CR66)*BY66*BX66*g_g*g_e","v":0},0,0,0]
[null,null,null,null,null,5,{"$f":"IF(INDEX(Hovedtal,B63,9)<F67,0,INDEX(Etager,7-F67,2))","v":3},{"$f":"IF(F67>INDEX(Hovedtal,B63,9),0,INDEX(Hovedtal,B63,6))","v":0.2},0,0,7.0000999999999998,{"$f":"INDEX(Hovedtal,B63,9+F67)","v":31.507561180142897},{"$f":"M66+L67","v":55.74240208043355},90.721296000000024,0,0,0,0,181.44259200000005,0,4.3553876830356071,41.659343600278227,{"$f":"INDEX(Hovedtal,B63,8)","v":1200.0000000000002},"",null,null,{"$f":"IF(G67=0,AA68,IF(I67=0,0,I67))","v":0},{"$f":"IF(G67=0,AB68,IF(J67=0,AB71,AB71-J67))","v":7.0000999999999998},{"$f":"IF(G67=0,0,AC71+AA67*AG71)","v":30},{"$f":"IF(G67=0,0,AD71+AA67*AH71)","v":15},{"$f":"IF(G67=0,0,AC71+AB67*AG71)","v":30},{"$f":"IF(G67=0,0,AD71+AB67*AH71)","v":22},null,null,{"$f":"MAX(AA67:AA68)","v":0},{"$f":"MIN(AB67:AB68)","v":7.0000999999999998},{"$f":"IF(G67=0,0.5*(AI67+AJ67),(M67*G67+AA67*P67+0.5*(AA67+AB67)*(N67+(AB67-AA67)*O67)+AB67*Q67+AK66*AL66)/AL67)","v":4.8224061584821962},{"$f":"AL66+N67+O67*(AB67-AA67)+P67+Q67","v":181.44259200000005},1200.0000000000002,0,0,null,null,null,null,null,null,null,null,null,null,null,null,null,null,null,null,null,null,null,null,{"$f":"BG68","v":13.5},{"$f":"BM67+G67","v":16.5},{"$f":"BJ67+G67","v":16.5},{"$f":"BF68","v":13.5},{"$f":"BJ67","v":13.5},null,null,null,null,null,null,null,null,null,null,null,0,0,0,{"$f":"INDEX(Hovedtal,BS63,9+BW67)","v":{"$error":"#VALUE!"}},{"$f":"CD66+CC67","v":{"$error":"#VALUE!"}},0,0,0,0]
[null,null,null,null,null,4,{"$f":"IF(INDEX(Hovedtal,B63,9)<F68,0,INDEX(Etager,7-F68,2))","v":3},{"$f":"IF(F68>INDEX(Hovedtal,B63,9),0,INDEX(Hovedtal,B63,6))","v":0.2},0,0,7.0000999999999998,{"$f":"INDEX(Hovedtal,B63,9+F68)","v":32.067001201669939},{"$f":"M67+L68","v":87.809403282103489},90.721296000000024,0,0,0,0,272.16388800000004,0,3.3011527040348358,82.445107028023145,{"$f":"INDEX(Hovedtal,B63,8)","v":1200.0000000000002},"",null,null,{"$f":"IF(G68=0,AA69,IF(I68=0,0,I68))","v":0},{"$f":"IF(G68=0,AB69,IF(J68=0,AB71,AB71-J68))","v":7.0000999999999998},{"$f":"IF(G68=0,0,AC71+AA68*AG71)","v":30},{"$f":"IF(G68=0,0,AD71+AA68*AH71)","v":15},{"$f":"IF(G68=0,0,AC71+AB68*AG71)","v":30},{"$f":"IF(G68=0,0,AD71+AB68*AH71)","v":22},null,null,{"$f":"MAX(AA68:AA69)","v":0},{"$f":"MIN(AB68:AB69)","v":7.0000999999999998},{"$f":"IF(G68=0,0.5*(AI68+AJ68),(M68*G68+AA68*P68+0.5*(AA68+AB68)*(N68+(AB68-AA68)*O68)+AB68*Q68+AK67*AL67)/AL68)","v":5.3495236479825818},{"$f":"AL67+N68+O68*(AB68-AA68)+P68+Q68","v":272.16388800000004},1200.0000000000002,0,0,null,null,null,null,null,null,null,null,null,null,null,null,null,null,null,{"$f":"BB69","v":10.5},{"$f":"BH68+G68","v":13.5},{"$f":"BE68+G68","v":13.5},{"$f":"BA69","v":10.5},{"$f":"BE68","v":10.5},null,null,null,null,null,null,null,null,null,null,null,null,null,null,null,null,0,0,0,{"$f":"INDEX(Hovedtal,BS63,9+BW68)","v":{"$error":"#VALUE!"}},{"$f":"CD67+CC68","v":{"$error":"#VALUE!"}},0,0,0,0]
[null,null,null,null,null,3,{"$f":"IF(INDEX(Hovedtal,B63,9)<F69,0,INDEX(Etager,7-F69,2))","v":3},{"$f":"IF(F69>INDEX(Hovedtal,B63,9),0,INDEX(Hovedtal,B63,6))","v":0.2},0,0,7.0000999999999998,{"$f":"INDEX(Hovedtal,B63,9+F69)","v":32.06700120166991},{"$f":"M68+L69","v":119.8764044837734},90.721296000000024,0,0,0,0,362.88518400000009,0,2.2438344356290774,161.725472360113,{"$f":"INDEX(Hovedtal,B63,8)","v":1200.0000000000002},"",null,null,{"$f":"IF(G69=0,AA70,IF(I69=0,0,I69))","v":0},{"$f":"IF(G69=0,AB70,IF(J69=0,AB71,AB71-J69))","v":7.0000999999999998},{"$f":"IF(G69=0,0,AC71+AA69*AG71)","v":30},{"$f":"IF(G69=0,0,AD71+AA69*AH71)","v":15},{"$f":"IF(G69=0,0,AC71+AB69*AG71)","v":30},{"$f":"IF(G69=0,0,AD71+AB69*AH71)","v":22},null,null,{"$f":"MAX(AA69:AA70)","v":0},{"$f":"MIN(AB69:AB70)","v":7.0000999999999998},{"$f":"IF(G69=0,0.5*(AI69+AJ69),(M69*G69+AA69*P69+0.5*(AA69+AB69)*(N69+(AB69-AA69)*O69)+AB69*Q69+AK68*AL68)/AL69)","v":5.8781827821854611},{"$f":"AL68+N69+O69*(AB69-AA69)+P69+Q69","v":362.88518400000009},1200.0000000000002,0,0,null,null,null,null,null,null,null,null,null,null,{"$f":"AW70","v":7.5},{"$f":"BC69+G69","v":10.5},{"$f":"AZ69+G69","v":10.5},{"$f":"AV70","v":7.5},{"$f":"AZ69","v":7.5},null,null,null,null,null,null,null,null,null,null,null,null,null,null,null,null,null,null,null,null,null,0,0,0,{"$f":"INDEX(Hovedtal,BS63,9+BW69)","v":{"$error":"#VALUE!"}},{"$f":"CD68+CC69","v":{"$error":"#VALUE!"}},0,0,0,0]
[null,null,null,null,null,2,{"$f":"IF(INDEX(Hovedtal,B63,9)<F70,0,INDEX(Etager,7-F70,2))","v":4.5},{"$f":"IF(F70>INDEX(Hovedtal,B63,9),0,INDEX(Hovedtal,B63,6))","v":0.2},0,0,7.0000999999999998,{"$f":"INDEX(Hovedtal,B63,9+F70)","v":39.060001470758607},{"$f":"M69+L70","v":158.93640595453201},136.08194399999999,0,0,0,0,498.96712800000012,0,0.67422043610537585,740.06526838948423,{"$f":"INDEX(Hovedtal,B63,8)","v":1200.0000000000002},"",null,null,{"$f":"IF(G70=0,AA71,IF(I70=0,0,I70))","v":0},{"$f":"IF(G70=0,AB71,IF(J70=0,AB71,AB71-J70))","v":7.0000999999999998},{"$f":"IF(G70=0,0,AC71+AA70*AG71)","v":30},{"$f":"IF(G70=0,0,AD71+AA70*AH71)","v":15},{"$f":"IF(G70=0,0,AC71+AB70*AG71)","v":30},{"$f":"IF(G70=0,0,AD71+AB70*AH71)","v":22},null,null,{"$f":"MAX(AA70:AA71)","v":0},{"$f":"MIN(AB70:AB71)","v":7.0000999999999998},{"$f":"IF(G70=0,0.5*(AI70+AJ70),(M70*G70+AA70*P70+0.5*(AA70+AB70)*(N70+(AB70-AA70)*O70)+AB70*Q70+AK69*AL69)/AL70)","v":6.6629897819473118},{"$f":"AL69+N70+O70*(AB70-AA70)+P70+Q70","v":498.96712800000012},1200.0000000000002,0,0,null,null,null,null,null,{"$f":"AR71","v":3},{"$f":"AX70+G70","v":7.5},{"$f":"AU70+G70","v":7.5},{"$f":"AQ71","v":3},{"$f":"AU70","v":3},null,null,null,null,null,null,null,null,null,null,null,null,null,null,null,null,null,null,null,null,null,null,null,null,null,null,0,0,0,{"$f":"INDEX(Hovedtal,BS63,9+BW70)","v":{"$error":"#VALUE!"}},{"$f":"CD69+CC70","v":{"$error":"#VALUE!"}},0,0,0,0]
[null,null,null,null,null,1,{"$f":"IF(INDEX(Hovedtal,B63,9)<F71,0,INDEX(Etager,7-F71,2))","v":3},{"$f":"IF(F71>INDEX(Hovedtal,B63,9),0,INDEX(Hovedtal,B63,6))","v":0.2},null,null,7.0000999999999998,{"$f":"INDEX(Hovedtal,B63,9+F71)","v":39.060001470758635},{"$f":"M70+L71","v":197.99640742529064},90.721296000000024,0,0,0,85.142119574016405,674.83054357401659,0,0.56235878631168035,1200.0000000000002,{"$f":"INDEX(Hovedtal,B63,8)","v":1200.0000000000002},"",null,null,0,{"$f":"SQRT((AE71-AC71)^2+(AF71-AD71)^2)+0.0001","v":7.0000999999999998},{"$f":"INDEX(Hovedtal,B63,2)","v":30},{"$f":"INDEX(Hovedtal,B63,3)","v":15},{"$f":"INDEX(Hovedtal,B63,4)","v":30},{"$f":"INDEX(Hovedtal,B63,5)","v":22},{"$f":"(AE71-AC71)/AB71","v":0},{"$f":"(AF71-AD71)/AB71","v":0.99998571448979301},{"$f":"AA71","v":0},{"$f":"AB71","v":7.0000999999999998},{"$f":"IF(G71=0,0.5*(AI71+AJ71),(M71*G71+AA71*P71+0.5*(AA71+AB71)*(N71+(AB71-AA71)*O71)+AB71*Q71+AK70*AL70)/AL71)","v":7.1836770018267613},{"$f":"AL70+N71+O71*(AB71-AA71)+P71+Q71","v":589.68842400000017},1200.0000000000002,0,85.142119574016405,0,{"$f":"G71","v":3},{"$f":"G71","v":3},0,{"$f":"AP71","v":0},null,null,null,null,null,null,null,null,null,null,null,null,null,null,null,null,null,null,null,null,null,null,null,null,null,null,null,null,null,null,null,null,null,0,{"$f":"INDEX(Hovedtal,BS63,9+BW71)","v":{"$error":"#VALUE!"}},{"$f":"CD70+CC71","v":{"$error":"#VALUE!"}},0,0,0,0]
["*",null,null,null,null,null,null,null,null,null,null,null,null,null,null,null,null,null,null,null,null,null,null,null,null,null,null,null,null,null,null,null,null,null,null,null,null,null,null,null,null,null,null,null,null,null,null,null,null,null,null,null,null,null,null,null,null,null,null,null,null,null,null,null,null,null,null,null,null,null,null,{"$f":"MAX(AP64:BS71)+0.5","v":20}]
[]
[null,"Væg",null,null,null,"Etage","h","t","r_1","r_2","L_eff","V_i","Q","G","p","P1","P2","T","N","b_1","b_2","n","n_max",null,null,null,"Etager:",6,null,null,null,null,null,null,null,null,null,null,null,null,null,"Hjørnepunkter i vægopstalt",null,null,null,null,null,null,null,null,null,null,null,null,null,null,null,null,null,null,null,null,null,null,null,null,null,null,null,null,null,null,null,null,null,null,null,"r_1","r_2","L_eff","V_i","Q","G","p","P1","P2"]
[null,{"$f":"B63+1","v":5},null,null,null,null,"(m)","(m)","(m)","(m)","(m)","(kN)","(kN)","(kN)","(kN/m)","(kN)","(kN)","(kN)","(kN)","(m)","(m)","(kN/m)","(kN/m)",null,null,null,null,null,null,null,null,null,null,null,null,null,null,null,null,null,null,null,null,null,null,null,null,null,null,null,null,null,null,null,null,null,null,null,null,null,null,null,null,null,null,null,null,null,null,null,null,null,null,null,null,null,null,"(m)","(m)","(m)","(kN)","(kN)","(kN)","(kN/m)","(kN)","(kN)"]
[null,null,null,null,null,null,null,null,null,null,null,null,null,null,null,null,null,null,null,null,null,null,null,null,null,null,"s_1","s_2","x_1","y_1","x_2","y_2","cos(a)","sin(a)","s_1_e","s_2_e","s_N","N_0","n","T_1","T_2",0,0,{"$f":"AB83","v":1E-4},{"$f":"AB83","v":1E-4},{"$f":"AP76","v":0},{"$f":"AA82","v":0},{"$f":"AA82","v":0},{"$f":"AB82","v":1E-4},{"$f":"AB82","v":1E-4},{"$f":"AU76","v":0},{"$f":"AA81","v":0},{"$f":"AA81","v":0},{"$f":"AB81","v":1E-4},{"$f":"AB81","v":1E-4},{"$f":"AZ76","v":0},{"$f":"AA80","v":0},{"$f":"AA80","v":0},{"$f":"AB80","v":1E-4},{"$f":"AB80","v":1E-4},{"$f":"BE76","v":0},{"$f":"AA79","v":0},{"$f":"AA79","v":0},{"$f":"AB79","v":1E-4},{"$f":"AB79","v":1E-4},{"$f":"BJ76","v":0},{"$f":"AA78","v":0},{"$f":"AA78","v":0},{"$f":"AB78","v":1E-4},{"$f":"AB78","v":1E-4},{"$f":"BO76","v":0},{"$f":"BT84","v":0.50009999999999999}]
[]
[null,null,null,null,null,6,{"$f":"IF(INDEX(Hovedtal,B75,9)<F78,0,INDEX(Etager,7-F78,2))","v":0},{"$f":"IF(F78>INDEX(Hovedtal,B75,9),0,INDEX(Hovedtal,B75,6))","v":0},0,0,{"$f":"AJ78-AI78","v":1E-4},{"$f":"INDEX(Hovedtal,B75,9+F78)","v":0},{"$f":"L78","v":0},{"$f":"(AB78-AA78)*H78*G78*g_g*g_e","v":0},0,0,0,{"$f":"IF(AK78>0.5*(AI78+AJ78),AO78,AN78)","v":0},{"$f":"AL78+R78","v":0},{"$f":"IF(AK78<=0.5*(AI78+AJ78),IF(AK78>AI78+0.5*AL78/AM78,2*(AK78-AI78),S78/AM78),0)","v":1E-4},{"$f":"IF(AK78>0.5*(AI78+AJ78),IF(AK78<AJ78-0.5*AL78/AM78,2*(AJ78-AK78),S78/AM78),0)","v":0},{"$f":"IF(AK78>0.5*(AI78+AJ78),S78/U78,S78/T78)","v":0},{"$f":"INDEX(Hovedtal,B75,8)","v":0},{"$f":"IF(OR(V78>W78,ABS(M78)>0.5*S78),\"!\",\"\")","v":""},null,null,{"$f":"IF(G78=0,AA79,IF(I78=0,0,I78))","v":0},{"$f":"IF(G78=0,AB79,IF(J78=0,AB83,AB83-J78))","v":1E-4},{"$f":"IF(G78=0,0,AC83+AA78*AG83)","v":0},{"$f":"IF(G78=0,0,AD83+AA78*AH83)","v":0},{"$f":"IF(G78=0,0,AC83+AB78*AG83)","v":0},{"$f":"IF(G78=0,0,AD83+AB78*AH83)","v":0},null,null,{"$f":"MAX(AA78:AA79)","v":0},{"$f":"MIN(AB78:AB79)","v":1E-4},{"$f":"IF(G78=0,0.5*(AI78+AJ78),(M78*G78+AA78*P78+0.5*(AA78+AB78)*(N78+(AB78-AA78)*O78)+AB78*Q78)/AL78)","v":5.0000000000000002E-5},{"$f":"N78+O78*(AB78-AA78)+P78+Q78","v":0},{"$f":"IF(AK78<0.5*(AI78+AJ78),MAX(W78,8*AL78*(0.5*(AJ78+AI78)-AK78)/(AJ78-AI78)^2+0.1),MAX(W78,-8*AL78*(0.5*(AJ78+AI78)-AK78)/(AJ78-AI78)^2+0.1))","v":0.1},{"$f":"IF(AND(AK78<0.5*(AI78+AJ78),AL78/AM78>2*(AK78-AI78)),AM78*(-SQRT((AL78/AM78+0.5*AI78-0.5*AJ78)^2-2*(-AK78*AL78/AM78+0.5*AL78^2/AM78^2+AI78*AL78/AM78))-(AL78/AM78+0.5*AI78-0.5*AJ78)),0)","v":0},{"$f":"IF(AND(AK78>=0.5*(AI78+AJ78),AL78/AM78>2*(AJ78-AK78)),AM78*(-SQRT((AL78/AM78+0.5*AI78-0.5*AJ78)^2-2*(AK78*AL78/AM78+0.5*AL78^2/AM78^2-AJ78*AL78/AM78))-(AL78/AM78+0.5*AI78-0.5*AJ78)),0)","v":0},null,null,null,null,null,null,null,null,null,null,null,null,null,null,null,null,null,null,null,null,null,null,null,null,null,{"$f":"BL79","v":0},{"$f":"BR78+G78","v":0},{"$f":"BO78+G78","v":0},{"$f":"BK79","v":0},{"$f":"BO78","v":0},null,null,null,null,null,null,0,0,{"$f":"DA78-CZ78","v":0},{"$f":"INDEX(Hovedtal,BS75,9+BW78)","v":{"$error":"#VALUE!"}},{"$f":"CC78","v":{"$error":"#VALUE!"}},{"$f":"(CS78-CR78)*BY78*BX78*g_g*g_e","v":0},0,0,0]
[null,null,null,null,null,5,{"$f":"IF(INDEX(Hovedtal,B75,9)<F79,0,INDEX(Etager,7-F79,2))","v":0},{"$f":"IF(F79>INDEX(Hovedtal,B75,9),0,INDEX(Hovedtal,B75,6))","v":0},0,0,1E-4,{"$f":"INDEX(Hovedtal,B75,9+F79)","v":0},{"$f":"M78+L79","v":0},0,0,0,0,0,0,1E-4,0,0,{"$f":"INDEX(Hovedtal,B75,8)","v":0},"",null,null,{"$f":"IF(G79=0,AA80,IF(I79=0,0,I79))","v":0},{"$f":"IF(G79=0,AB80,IF(J79=0,AB83,AB83-J79))","v":1E-4},{"$f":"IF(G79=0,0,AC83+AA79*AG83)","v":0},{"$f":"IF(G79=0,0,AD83+AA79*AH83)","v":0},{"$f":"IF(G79=0,0,AC83+AB79*AG83)","v":0},{"$f":"IF(G79=0,0,AD83+AB79*AH83)","v":0},null,null,{"$f":"MAX(AA79:AA80)","v":0},{"$f":"MIN(AB79:AB80)","v":1E-4},{"$f":"IF(G79=0,0.5*(AI79+AJ79),(M79*G79+AA79*P79+0.5*(AA79+AB79)*(N79+(AB79-AA79)*O79)+AB79*Q79+AK78*AL78)/AL79)","v":5.0000000000000002E-5},{"$f":"AL78+N79+O79*(AB79-AA79)+P79+Q79","v":0},0.1,0,0,null,null,null,null,null,null,null,null,null,null,null,null,null,null,null,null,null,null,null,null,{"$f":"BG80","v":0},{"$f":"BM79+G79","v":0},{"$f":"BJ79+G79","v":0},{"$f":"BF80","v":0},{"$f":"BJ79","v":0},null,null,null,null,null,null,null,null,null,null,null,0,0,0,{"$f":"INDEX(Hovedtal,BS75,9+BW79)","v":{"$error":"#VALUE!"}},{"$f":"CD78+CC79","v":{"$error":"#VALUE!"}},0,0,0,0]
[null,null,null,null,null,4,{"$f":"IF(INDEX(Hovedtal,B75,9)<F80,0,INDEX(Etager,7-F80,2))","v":0},{"$f":"IF(F80>INDEX(Hovedtal,B75,9),0,INDEX(Hovedtal,B75,6))","v":0},0,0,1E-4,{"$f":"INDEX(Hovedtal,B75,9+F80)","v":0},{"$f":"M79+L80","v":0},0,0,0,0,0,0,1E-4,0,0,{"$f":"INDEX(Hovedtal,B75,8)","v":0},"",null,null,{"$f":"IF(G80=0,AA81,IF(I80=0,0,I80))","v":0},{"$f":"IF(G80=0,AB81,IF(J80=0,AB83,AB83-J80))","v":1E-4},{"$f":"IF(G80=0,0,AC83+AA80*AG83)","v":0},{"$f":"IF(G80=0,0,AD83+AA80*AH83)","v":0},{"$f":"IF(G80=0,0,AC83+AB80*AG83)","v":0},{"$f":"IF(G80=0,0,AD83+AB80*AH83)","v":0},null,null,{"$f":"MAX(AA80:AA81)","v":0},{"$f":"MIN(AB80:AB81)","v":1E-4},{"$f":"IF(G80=0,0.5*(AI80+AJ80),(M80*G80+AA80*P80+0.5*(AA80+AB80)*(N80+(AB80-AA80)*O80)+AB80*Q80+AK79*AL79)/AL80)","v":5.0000000000000002E-5},{"$f":"AL79+N80+O80*(AB80-AA80)+P80+Q80","v":0},0.1,0,0,null,null,null,null,null,null,null,null,null,null,null,null,null,null,null,{"$f":"BB81","v":0},{"$f":"BH80+G80","v":0},{"$f":"BE80+G80","v":0},{"$f":"BA81","v":0},{"$f":"BE80","v":0},null,null,null,null,null,null,null,null,null,null,null,null,null,null,null,null,0,0,0,{"$f":"INDEX(Hovedtal,BS75,9+BW80)","v":{"$error":"#VALUE!"}},{"$f":"CD79+CC80","v":{"$error":"#VALUE!"}},0,0,0,0]
[null,null,null,null,null,3,{"$f":"IF(INDEX(Hovedtal,B75,9)<F81,0,INDEX(Etager,7-F81,2))","v":0},{"$f":"IF(F81>INDEX(Hovedtal,B75,9),0,INDEX(Hovedtal,B75,6))","v":0},0,0,1E-4,{"$f":"INDEX(Hovedtal,B75,9+F81)","v":0},{"$f":"M80+L81","v":0},0,0,0,0,0,0,1E-4,0,0,{"$f":"INDEX(Hovedtal,B75,8)","v":0},"",null,null,{"$f":"IF(G81=0,AA82,IF(I81=0,0,I81))","v":0},{"$f":"IF(G81=0,AB82,IF(J81=0,AB83,AB83-J81))","v":1E-4},{"$f":"IF(G81=0,0,AC83+AA81*AG83)","v":0},{"$f":"IF(G81=0,0,AD83+AA81*AH83)","v":0},{"$f":"IF(G81=0,0,AC83+AB81*AG83)","v":0},{"$f":"IF(G81=0,0,AD83+AB81*AH83)","v":0},null,null,{"$f":"MAX(AA81:AA82)","v":0},{"$f":"MIN(AB81:AB82)","v":1E-4},{"$f":"IF(G81=0,0.5*(AI81+AJ81),(M81*G81+AA81*P81+0.5*(AA81+AB81)*(N81+(AB81-AA81)*O81)+AB81*Q81+AK80*AL80)/AL81)","v":5.0000000000000002E-5},{"$f":"AL80+N81+O81*(AB81-AA81)+P81+Q81","v":0},0.1,0,0,null,null,null,null,null,null,null,null,null,null,{"$f":"AW82","v":0},{"$f":"BC81+G81","v":0},{"$f":"AZ81+G81","v":0},{"$f":"AV82","v":0},{"$f":"AZ81","v":0},null,null,null,null,null,null,null,null,null,null,null,null,null,null,null,null,null,null,null,null,null,0,0,0,{"$f":"INDEX(Hovedtal,BS75,9+BW81)","v":{"$error":"#VALUE!"}},{"$f":"CD80+CC81","v":{"$error":"#VALUE!"}},0,0,0,0]
[null,null,null,null,null,2,{"$f":"IF(INDEX(Hovedtal,B75,9)<F82,0,INDEX(Etager,7-F82,2))","v":0},{"$f":"IF(F82>INDEX(Hovedtal,B75,9),0,INDEX(Hovedtal,B75,6))","v":0},0,0,1E-4,{"$f":"INDEX(Hovedtal,B75,9+F82)","v":0},{"$f":"M81+L82","v":0},0,0,0,0,0,0,1E-4,0,0,{"$f":"INDEX(Hovedtal,B75,8)","v":0},"",null,null,{"$f":"IF(G82=0,AA83,IF(I82=0,0,I82))","v":0},{"$f":"IF(G82=0,AB83,IF(J82=0,AB83,AB83-J82))","v":1E-4},{"$f":"IF(G82=0,0,AC83+AA82*AG83)","v":0},{"$f":"IF(G82=0,0,AD83+AA82*AH83)","v":0},{"$f":"IF(G82=0,0,AC83+AB82*AG83)","v":0},{"$f":"IF(G82=0,0,AD83+AB82*AH83)","v":0},null,null,{"$f":"MAX(AA82:AA83)","v":0},{"$f":"MIN(AB82:AB83)","v":1E-4},{"$f":"IF(G82=0,0.5*(AI82+AJ82),(M82*G82+AA82*P82+0.5*(AA82+AB82)*(N82+(AB82-AA82)*O82)+AB82*Q82+AK81*AL81)/AL82)","v":5.0000000000000002E-5},{"$f":"AL81+N82+O82*(AB82-AA82)+P82+Q82","v":0},0.1,0,0,null,null,null,null,null,{"$f":"AR83","v":0},{"$f":"AX82+G82","v":0},{"$f":"AU82+G82","v":0},{"$f":"AQ83","v":0},{"$f":"AU82","v":0},null,null,null,null,null,null,null,null,null,null,null,null,null,null,null,null,null,null,null,null,null,null,null,null,null,null,0,0,0,{"$f":"INDEX(Hovedtal,BS75,9+BW82)","v":{"$error":"#VALUE!"}},{"$f":"CD81+CC82","v":{"$error":"#VALUE!"}},0,0,0,0]
[null,null,null,null,null,1,{"$f":"IF(INDEX(Hovedtal,B75,9)<F83,0,INDEX(Etager,7-F83,2))","v":0},{"$f":"IF(F83>INDEX(Hovedtal,B75,9),0,INDEX(Hovedtal,B75,6))","v":0},null,null,1E-4,{"$f":"INDEX(Hovedtal,B75,9+F83)","v":0},{"$f":"M82+L83","v":0},0,0,0,0,0,0,1E-4,0,0,{"$f":"INDEX(Hovedtal,B75,8)","v":0},"",null,null,0,{"$f":"SQRT((AE83-AC83)^2+(AF83-AD83)^2)+0.0001","v":1E-4},{"$f":"INDEX(Hovedtal,B75,2)","v":0},{"$f":"INDEX(Hovedtal,B75,3)","v":0},{"$f":"INDEX(Hovedtal,B75,4)","v":0},{"$f":"INDEX(Hovedtal,B75,5)","v":0},{"$f":"(AE83-AC83)/AB83","v":0},{"$f":"(AF83-AD83)/AB83","v":0},{"$f":"AA83","v":0},{"$f":"AB83","v":1E-4},{"$f":"IF(G83=0,0.5*(AI83+AJ83),(M83*G83+AA83*P83+0.5*(AA83+AB83)*(N83+(AB83-AA83)*O83)+AB83*Q83+AK82*AL82)/AL83)","v":5.0000000000000002E-5},{"$f":"AL82+N83+O83*(AB83-AA83)+P83+Q83","v":0},0.1,0,0,0,{"$f":"G83","v":0},{"$f":"G83","v":0},0,{"$f":"AP83","v":0},null,null,null,null,null,null,null,null,null,null,null,null,null,null,null,null,null,null,null,null,null,null,null,null,null,null,null,null,null,null,null,null,null,0,{"$f":"INDEX(Hovedtal,BS75,9+BW83)","v":{"$error":"#VALUE!"}},{"$f":"CD82+CC83","v":{"$error":"#VALUE!"}},0,0,0,0]
["*",null,null,null,null,null,null,null,null,null,null,null,null,null,null,null,null,null,null,null,null,null,null,null,null,null,null,null,null,null,null,null,null,null,null,null,null,null,null,null,null,null,null,null,null,null,null,null,null,null,null,null,null,null,null,null,null,null,null,null,null,null,null,null,null,null,null,null,null,null,null,{"$f":"MAX(AP76:BS83)+0.5","v":0.50009999999999999}]
[]
[null,"Væg",null,null,null,"Etage","h","t","r_1","r_2","L_eff","V_i","Q","G","p","P1","P2","T","N","b_1","b_2","n","n_max",null,null,null,"Etager:",6,null,null,null,null,null,null,null,null,null,null,null,null,null,"Hjørnepunkter i vægopstalt",null,null,null,null,null,null,null,null,null,null,null,null,null,null,null,null,null,null,null,null,null,null,null,null,null,null,null,null,null,null,null,null,null,null,null,"r_1","r_2","L_eff","V_i","Q","G","p","P1","P2"]
[null,{"$f":"B75+1","v":6},null,null,null,null,"(m)","(m)","(m)","(m)","(m)","(kN)","(kN)","(kN)","(kN/m)","(kN)","(kN)","(kN)","(kN)","(m)","(m)","(kN/m)","(kN/m)",null,null,null,null,null,null,null,null,null,null,null,null,null,null,null,null,null,null,null,null,null,null,null,null,null,null,null,null,null,null,null,null,null,null,null,null,null,null,null,null,null,null,null,null,null,null,null,null,null,null,null,null,null,null,"(m)","(m)","(m)","(kN)","(kN)","(kN)","(kN/m)","(kN)","(kN)"]
[null,null,null,null,null,null,null,null,null,null,null,null,null,null,null,null,null,null,null,null,null,null,null,null,null,null,"s_1","s_2","x_1","y_1","x_2","y_2","cos(a)","sin(a)","s_1_e","s_2_e","s_N","N_0","n","T_1","T_2",0,0,{"$f":"AB95","v":1E-4},{"$f":"AB95","v":1E-4},{"$f":"AP88","v":0},{"$f":"AA94","v":0},{"$f":"AA94","v":0},{"$f":"AB94","v":1E-4},{"$f":"AB94","v":1E-4},{"$f":"AU88","v":0},{"$f":"AA93","v":0},{"$f":"AA93","v":0},{"$f":"AB93","v":1E-4},{"$f":"AB93","v":1E-4},{"$f":"AZ88","v":0},{"$f":"AA92","v":0},{"$f":"AA92","v":0},{"$f":"AB92","v":1E-4},{"$f":"AB92","v":1E-4},{"$f":"BE88","v":0},{"$f":"AA91","v":0},{"$f":"AA91","v":0},{"$f":"AB91","v":1E-4},{"$f":"AB91","v":1E-4},{"$f":"BJ88","v":0},{"$f":"AA90","v":0},{"$f":"AA90","v":0},{"$f":"AB90","v":1E-4},{"$f":"AB90","v":1E-4},{"$f":"BO88","v":0},{"$f":"BT96","v":0.50009999999999999}]
[]
[null,null,null,null,null,6,{"$f":"IF(INDEX(Hovedtal,B87,9)<F90,0,INDEX(Etager,7-F90,2))","v":0},{"$f":"IF(F90>INDEX(Hovedtal,B87,9),0,INDEX(Hovedtal,B87,6))","v":0},0,0,{"$f":"AJ90-AI90","v":1E-4},{"$f":"INDEX(Hovedtal,B87,9+F90)","v":0},{"$f":"L90","v":0},{"$f":"(AB90-AA90)*H90*G90*g_g*g_e","v":0},0,0,0,{"$f":"IF(AK90>0.5*(AI90+AJ90),AO90,AN90)","v":0},{"$f":"AL90+R90","v":0},{"$f":"IF(AK90<=0.5*(AI90+AJ90),IF(AK90>AI90+0.5*AL90/AM90,2*(AK90-AI90),S90/AM90),0)","v":1E-4},{"$f":"IF(AK90>0.5*(AI90+AJ90),IF(AK90<AJ90-0.5*AL90/AM90,2*(AJ90-AK90),S90/AM90),0)","v":0},{"$f":"IF(AK90>0.5*(AI90+AJ90),S90/U90,S90/T90)","v":0},{"$f":"INDEX(Hovedtal,B87,8)","v":0},{"$f":"IF(OR(V90>W90,ABS(M90)>0.5*S90),\"!\",\"\")","v":""},null,null,{"$f":"IF(G90=0,AA91,IF(I90=0,0,I90))","v":0},{"$f":"IF(G90=0,AB91,IF(J90=0,AB95,AB95-J90))","v":1E-4},{"$f":"IF(G90=0,0,AC95+AA90*AG95)","v":0},{"$f":"IF(G90=0,0,AD95+AA90*AH95)","v":0},{"$f":"IF(G90=0,0,AC95+AB90*AG95)","v":0},{"$f":"IF(G90=0,0,AD95+AB90*AH95)","v":0},null,null,{"$f":"MAX(AA90:AA91)","v":0},{"$f":"MIN(AB90:AB91)","v":1E-4},{"$f":"IF(G90=0,0.5*(AI90+AJ90),(M90*G90+AA90*P90+0.5*(AA90+AB90)*(N90+(AB90-AA90)*O90)+AB90*Q90)/AL90)","v":5.0000000000000002E-5},{"$f":"N90+O90*(AB90-AA90)+P90+Q90","v":0},{"$f":"IF(AK90<0.5*(AI90+AJ90),MAX(W90,8*AL90*(0.5*(AJ90+AI90)-AK90)/(AJ90-AI90)^2+0.1),MAX(W90,-8*AL90*(0.5*(AJ90+AI90)-AK90)/(AJ90-AI90)^2+0.1))","v":0.1},{"$f":"IF(AND(AK90<0.5*(AI90+AJ90),AL90/AM90>2*(AK90-AI90)),AM90*(-SQRT((AL90/AM90+0.5*AI90-0.5*AJ90)^2-2*(-AK90*AL90/AM90+0.5*AL90^2/AM90^2+AI90*AL90/AM90))-(AL90/AM90+0.5*AI90-0.5*AJ90)),0)","v":0},{"$f":"IF(AND(AK90>=0.5*(AI90+AJ90),AL90/AM90>2*(AJ90-AK90)),AM90*(-SQRT((AL90/AM90+0.5*AI90-0.5*AJ90)^2-2*(AK90*AL90/AM90+0.5*AL90^2/AM90^2-AJ90*AL90/AM90))-(AL90/AM90+0.5*AI90-0.5*AJ90)),0)","v":0},null,null,null,null,null,null,null,null,null,null,null,null,null,null,null,null,null,null,null,null,null,null,null,null,null,{"$f":"BL91","v":0},{"$f":"BR90+G90","v":0},{"$f":"BO90+G90","v":0},{"$f":"BK91","v":0},{"$f":"BO90","v":0},null,null,null,null,null,null,0,0,{"$f":"DA90-CZ90","v":0},{"$f":"INDEX(Hovedtal,BS87,9+BW90)","v":{"$error":"#VALUE!"}},{"$f":"CC90","v":{"$error":"#VALUE!"}},{"$f":"(CS90-CR90)*BY90*BX90*g_g*g_e","v":0},0,0,0]
[null,null,null,null,null,5,{"$f":"IF(INDEX(Hovedtal,B87,9)<F91,0,INDEX(Etager,7-F91,2))","v":0},{"$f":"IF(F91>INDEX(Hovedtal,B87,9),0,INDEX(Hovedtal,B87,6))","v":0},0,0,1E-4,{"$f":"INDEX(Hovedtal,B87,9+F91)","v":0},{"$f":"M90+L91","v":0},0,0,0,0,0,0,1E-4,0,0,{"$f":"INDEX(Hovedtal,B87,8)","v":0},"",null,null,{"$f":"IF(G91=0,AA92,IF(I91=0,0,I91))","v":0},{"$f":"IF(G91=0,AB92,IF(J91=0,AB95,AB95-J91))","v":1E-4},{"$f":"IF(G91=0,0,AC95+AA91*AG95)","v":0},{"$f":"IF(G91=0,0,AD95+AA91*AH95)","v":0},{"$f":"IF(G91=0,0,AC95+AB91*AG95)","v":0},{"$f":"IF(G91=0,0,AD95+AB91*AH95)","v":0},null,null,{"$f":"MAX(AA91:AA92)","v":0},{"$f":"MIN(AB91:AB92)","v":1E-4},{"$f":"IF(G91=0,0.5*(AI91+AJ91),(M91*G91+AA91*P91+0.5*(AA91+AB91)*(N91+(AB91-AA91)*O91)+AB91*Q91+AK90*AL90)/AL91)","v":5.0000000000000002E-5},{"$f":"AL90+N91+O91*(AB91-AA91)+P91+Q91","v":0},0.1,0,0,null,null,null,null,null,null,null,null,null,null,null,null,null,null,null,null,null,null,null,null,{"$f":"BG92","v":0},{"$f":"BM91+G91","v":0},{"$f":"BJ91+G91","v":0},{"$f":"BF92","v":0},{"$f":"BJ91","v":0},null,null,null,null,null,null,null,null,null,null,null,0,0,0,{"$f":"INDEX(Hovedtal,BS87,9+BW91)","v":{"$error":"#VALUE!"}},{"$f":"CD90+CC91","v":{"$error":"#VALUE!"}},0,0,0,0]
[null,null,null,null,null,4,{"$f":"IF(INDEX(Hovedtal,B87,9)<F92,0,INDEX(Etager,7-F92,2))","v":0},{"$f":"IF(F92>INDEX(Hovedtal,B87,9),0,INDEX(Hovedtal,B87,6))","v":0},0,0,1E-4,{"$f":"INDEX(Hovedtal,B87,9+F92)","v":0},{"$f":"M91+L92","v":0},0,0,0,0,0,0,1E-4,0,0,{"$f":"INDEX(Hovedtal,B87,8)","v":0},"",null,null,{"$f":"IF(G92=0,AA93,IF(I92=0,0,I92))","v":0},{"$f":"IF(G92=0,AB93,IF(J92=0,AB95,AB95-J92))","v":1E-4},{"$f":"IF(G92=0,0,AC95+AA92*AG95)","v":0},{"$f":"IF(G92=0,0,AD95+AA92*AH95)","v":0},{"$f":"IF(G92=0,0,AC95+AB92*AG95)","v":0},{"$f":"IF(G92=0,0,AD95+AB92*AH95)","v":0},null,null,{"$f":"MAX(AA92:AA93)","v":0},{"$f":"MIN(AB92:AB93)","v":1E-4},{"$f":"IF(G92=0,0.5*(AI92+AJ92),(M92*G92+AA92*P92+0.5*(AA92+AB92)*(N92+(AB92-AA92)*O92)+AB92*Q92+AK91*AL91)/AL92)","v":5.0000000000000002E-5},{"$f":"AL91+N92+O92*(AB92-AA92)+P92+Q92","v":0},0.1,0,0,null,null,null,null,null,null,null,null,null,null,null,null,null,null,null,{"$f":"BB93","v":0},{"$f":"BH92+G92","v":0},{"$f":"BE92+G92","v":0},{"$f":"BA93","v":0},{"$f":"BE92","v":0},null,null,null,null,null,null,null,null,null,null,null,null,null,null,null,null,0,0,0,{"$f":"INDEX(Hovedtal,BS87,9+BW92)","v":{"$error":"#VALUE!"}},{"$f":"CD91+CC92","v":{"$error":"#VALUE!"}},0,0,0,0]
[null,null,null,null,null,3,{"$f":"IF(INDEX(Hovedtal,B87,9)<F93,0,INDEX(Etager,7-F93,2))","v":0},{"$f":"IF(F93>INDEX(Hovedtal,B87,9),0,INDEX(Hovedtal,B87,6))","v":0},0,0,1E-4,{"$f":"INDEX(Hovedtal,B87,9+F93)","v":0},{"$f":"M92+L93","v":0},0,0,0,0,0,0,1E-4,0,0,{"$f":"INDEX(Hovedtal,B87,8)","v":0},"",null,null,{"$f":"IF(G93=0,AA94,IF(I93=0,0,I93))","v":0},{"$f":"IF(G93=0,AB94,IF(J93=0,AB95,AB95-J93))","v":1E-4},{"$f":"IF(G93=0,0,AC95+AA93*AG95)","v":0},{"$f":"IF(G93=0,0,AD95+AA93*AH95)","v":0},{"$f":"IF(G93=0,0,AC95+AB93*AG95)","v":0},{"$f":"IF(G93=0,0,AD95+AB93*AH95)","v":0},null,null,{"$f":"MAX(AA93:AA94)","v":0},{"$f":"MIN(AB93:AB94)","v":1E-4},{"$f":"IF(G93=0,0.5*(AI93+AJ93),(M93*G93+AA93*P93+0.5*(AA93+AB93)*(N93+(AB93-AA93)*O93)+AB93*Q93+AK92*AL92)/AL93)","v":5.0000000000000002E-5},{"$f":"AL92+N93+O93*(AB93-AA93)+P93+Q93","v":0},0.1,0,0,null,null,null,null,null,null,null,null,null,null,{"$f":"AW94","v":0},{"$f":"BC93+G93","v":0},{"$f":"AZ93+G93","v":0},{"$f":"AV94","v":0},{"$f":"AZ93","v":0},null,null,null,null,null,null,null,null,null,null,null,null,null,null,null,null,null,null,null,null,null,0,0,0,{"$f":"INDEX(Hovedtal,BS87,9+BW93)","v":{"$error":"#VALUE!"}},{"$f":"CD92+CC93","v":{"$error":"#VALUE!"}},0,0,0,0]
[null,null,null,null,null,2,{"$f":"IF(INDEX(Hovedtal,B87,9)<F94,0,INDEX(Etager,7-F94,2))","v":0},{"$f":"IF(F94>INDEX(Hovedtal,B87,9),0,INDEX(Hovedtal,B87,6))","v":0},0,0,1E-4,{"$f":"INDEX(Hovedtal,B87,9+F94)","v":0},{"$f":"M93+L94","v":0},0,0,0,0,0,0,1E-4,0,0,{"$f":"INDEX(Hovedtal,B87,8)","v":0},"",null,null,{"$f":"IF(G94=0,AA95,IF(I94=0,0,I94))","v":0},{"$f":"IF(G94=0,AB95,IF(J94=0,AB95,AB95-J94))","v":1E-4},{"$f":"IF(G94=0,0,AC95+AA94*AG95)","v":0},{"$f":"IF(G94=0,0,AD95+AA94*AH95)","v":0},{"$f":"IF(G94=0,0,AC95+AB94*AG95)","v":0},{"$f":"IF(G94=0,0,AD95+AB94*AH95)","v":0},null,null,{"$f":"MAX(AA94:AA95)","v":0},{"$f":"MIN(AB94:AB95)","v":1E-4},{"$f":"IF(G94=0,0.5*(AI94+AJ94),(M94*G94+AA94*P94+0.5*(AA94+AB94)*(N94+(AB94-AA94)*O94)+AB94*Q94+AK93*AL93)/AL94)","v":5.0000000000000002E-5},{"$f":"AL93+N94+O94*(AB94-AA94)+P94+Q94","v":0},0.1,0,0,null,null,null,null,null,{"$f":"AR95","v":0},{"$f":"AX94+G94","v":0},{"$f":"AU94+G94","v":0},{"$f":"AQ95","v":0},{"$f":"AU94","v":0},null,null,null,null,null,null,null,null,null,null,null,null,null,null,null,null,null,null,null,null,null,null,null,null,null,null,0,0,0,{"$f":"INDEX(Hovedtal,BS87,9+BW94)","v":{"$error":"#VALUE!"}},{"$f":"CD93+CC94","v":{"$error":"#VALUE!"}},0,0,0,0]
[null,null,null,null,null,1,{"$f":"IF(INDEX(Hovedtal,B87,9)<F95,0,INDEX(Etager,7-F95,2))","v":0},{"$f":"IF(F95>INDEX(Hovedtal,B87,9),0,INDEX(Hovedtal,B87,6))","v":0},null,null,1E-4,{"$f":"INDEX(Hovedtal,B87,9+F95)","v":0},{"$f":"M94+L95","v":0},0,0,0,0,0,0,1E-4,0,0,{"$f":"INDEX(Hovedtal,B87,8)","v":0},"",null,null,0,{"$f":"SQRT((AE95-AC95)^2+(AF95-AD95)^2)+0.0001","v":1E-4},{"$f":"INDEX(Hovedtal,B87,2)","v":0},{"$f":"INDEX(Hovedtal,B87,3)","v":0},{"$f":"INDEX(Hovedtal,B87,4)","v":0},{"$f":"INDEX(Hovedtal,B87,5)","v":0},{"$f":"(AE95-AC95)/AB95","v":0},{"$f":"(AF95-AD95)/AB95","v":0},{"$f":"AA95","v":0},{"$f":"AB95","v":1E-4},{"$f":"IF(G95=0,0.5*(AI95+AJ95),(M95*G95+AA95*P95+0.5*(AA95+AB95)*(N95+(AB95-AA95)*O95)+AB95*Q95+AK94*AL94)/AL95)","v":5.0000000000000002E-5},{"$f":"AL94+N95+O95*(AB95-AA95)+P95+Q95","v":0},0.1,0,0,0,{"$f":"G95","v":0},{"$f":"G95","v":0},0,{"$f":"AP95","v":0},null,null,null,null,null,null,null,null,null,null,null,null,null,null,null,null,null,null,null,null,null,null,null,null,null,null,null,null,null,null,null,null,null,0,{"$f":"INDEX(Hovedtal,BS87,9+BW95)","v":{"$error":"#VALUE!"}},{"$f":"CD94+CC95","v":{"$error":"#VALUE!"}},0,0,0,0]
["*",null,null,null,null,null,null,null,null,null,null,null,null,null,null,null,null,null,null,null,null,null,null,null,null,null,null,null,null,null,null,null,null,null,null,null,null,null,null,null,null,null,null,null,null,null,null,null,null,null,null,null,null,null,null,null,null,null,null,null,null,null,null,null,null,null,null,null,null,null,null,{"$f":"MAX(AP88:BS95)+0.5","v":0.50009999999999999}]
[]
[null,"Væg",null,null,null,"Etage","h","t","r_1","r_2","L_eff","V_i","Q","G","p","P1","P2","T","N","b_1","b_2","n","n_max",null,null,null,"Etager:",6,null,null,null,null,null,null,null,null,null,null,null,null,null,"Hjørnepunkter i vægopstalt",null,null,null,null,null,null,null,null,null,null,null,null,null,null,null,null,null,null,null,null,null,null,null,null,null,null,null,null,null,null,null,null,null,null,null,"r_1","r_2","L_eff","V_i","Q","G","p","P1","P2"]
[null,{"$f":"B87+1","v":7},null,null,null,null,"(m)","(m)","(m)","(m)","(m)","(kN)","(kN)","(kN)","(kN/m)","(kN)","(kN)","(kN)","(kN)","(m)","(m)","(kN/m)","(kN/m)",null,null,null,null,null,null,null,null,null,null,null,null,null,null,null,null,null,null,null,null,null,null,null,null,null,null,null,null,null,null,null,null,null,null,null,null,null,null,null,null,null,null,null,null,null,null,null,null,null,null,null,null,null,null,"(m)","(m)","(m)","(kN)","(kN)","(kN)","(kN/m)","(kN)","(kN)"]
[null,null,null,null,null,null,null,null,null,null,null,null,null,null,null,null,null,null,null,null,null,null,null,null,null,null,"s_1","s_2","x_1","y_1","x_2","y_2","cos(a)","sin(a)","s_1_e","s_2_e","s_N","N_0","n","T_1","T_2",0,0,{"$f":"AB107","v":1E-4},{"$f":"AB107","v":1E-4},{"$f":"AP100","v":0},{"$f":"AA106","v":0},{"$f":"AA106","v":0},{"$f":"AB106","v":1E-4},{"$f":"AB106","v":1E-4},{"$f":"AU100","v":0},{"$f":"AA105","v":0},{"$f":"AA105","v":0},{"$f":"AB105","v":1E-4},{"$f":"AB105","v":1E-4},{"$f":"AZ100","v":0},{"$f":"AA104","v":0},{"$f":"AA104","v":0},{"$f":"AB104","v":1E-4},{"$f":"AB104","v":1E-4},{"$f":"BE100","v":0},{"$f":"AA103","v":0},{"$f":"AA103","v":0},{"$f":"AB103","v":1E-4},{"$f":"AB103","v":1E-4},{"$f":"BJ100","v":0},{"$f":"AA102","v":0},{"$f":"AA102","v":0},{"$f":"AB102","v":1E-4},{"$f":"AB102","v":1E-4},{"$f":"BO100","v":0},{"$f":"BT108","v":0.50009999999999999}]
[]
[null,null,null,null,null,6,{"$f":"IF(INDEX(Hovedtal,B99,9)<F102,0,INDEX(Etager,7-F102,2))","v":0},{"$f":"IF(F102>INDEX(Hovedtal,B99,9),0,INDEX(Hovedtal,B99,6))","v":0},0,0,{"$f":"AJ102-AI102","v":1E-4},{"$f":"INDEX(Hovedtal,B99,9+F102)","v":0},{"$f":"L102","v":0},{"$f":"(AB102-AA102)*H102*G102*g_g*g_e","v":0},0,0,0,{"$f":"IF(AK102>0.5*(AI102+AJ102),AO102,AN102)","v":0},{"$f":"AL102+R102","v":0},{"$f":"IF(AK102<=0.5*(AI102+AJ102),IF(AK102>AI102+0.5*AL102/AM102,2*(AK102-AI102),S102/AM102),0)","v":1E-4},{"$f":"IF(AK102>0.5*(AI102+AJ102),IF(AK102<AJ102-0.5*AL102/AM102,2*(AJ102-AK102),S102/AM102),0)","v":0},{"$f":"IF(AK102>0.5*(AI102+AJ102),S102/U102,S102/T102)","v":0},{"$f":"INDEX(Hovedtal,B99,8)","v":0},{"$f":"IF(OR(V102>W102,ABS(M102)>0.5*S102),\"!\",\"\")","v":""},null,null,{"$f":"IF(G102=0,AA103,IF(I102=0,0,I102))","v":0},{"$f":"IF(G102=0,AB103,IF(J102=0,AB107,AB107-J102))","v":1E-4},{"$f":"IF(G102=0,0,AC107+AA102*AG107)","v":0},{"$f":"IF(G102=0,0,AD107+AA102*AH107)","v":0},{"$f":"IF(G102=0,0,AC107+AB102*AG107)","v":0},{"$f":"IF(G102=0,0,AD107+AB102*AH107)","v":0},null,null,{"$f":"MAX(AA102:AA103)","v":0},{"$f":"MIN(AB102:AB103)","v":1E-4},{"$f":"IF(G102=0,0.5*(AI102+AJ102),(M102*G102+AA102*P102+0.5*(AA102+AB102)*(N102+(AB102-AA102)*O102)+AB102*Q102)/AL102)","v":5.0000000000000002E-5},{"$f":"N102+O102*(AB102-AA102)+P102+Q102","v":0},{"$f":"IF(AK102<0.5*(AI102+AJ102),MAX(W102,8*AL102*(0.5*(AJ102+AI102)-AK102)/(AJ102-AI102)^2+0.1),MAX(W102,-8*AL102*(0.5*(AJ102+AI102)-AK102)/(AJ102-AI102)^2+0.1))","v":0.1},{"$f":"IF(AND(AK102<0.5*(AI102+AJ102),AL102/AM102>2*(AK102-AI102)),AM102*(-SQRT((AL102/AM102+0.5*AI102-0.5*AJ102)^2-2*(-AK102*AL102/AM102+0.5*AL102^2/AM102^2+AI102*AL102/AM102))-(AL102/AM102+0.5*AI102-0.5*AJ102)),0)","v":0},{"$f":"IF(AND(AK102>=0.5*(AI102+AJ102),AL102/AM102>2*(AJ102-AK102)),AM102*(-SQRT((AL102/AM102+0.5*AI102-0.5*AJ102)^2-2*(AK102*AL102/AM102+0.5*AL102^2/AM102^2-AJ102*AL102/AM102))-(AL102/AM102+0.5*AI102-0.5*AJ102)),0)","v":0},null,null,null,null,null,null,null,null,null,null,null,null,null,null,null,null,null,null,null,null,null,null,null,null,null,{"$f":"BL103","v":0},{"$f":"BR102+G102","v":0},{"$f":"BO102+G102","v":0},{"$f":"BK103","v":0},{"$f":"BO102","v":0},null,null,null,null,null,null,0,0,{"$f":"DA102-CZ102","v":0},{"$f":"INDEX(Hovedtal,BS99,9+BW102)","v":{"$error":"#VALUE!"}},{"$f":"CC102","v":{"$error":"#VALUE!"}},{"$f":"(CS102-CR102)*BY102*BX102*g_g*g_e","v":0},0,0,0]
[null,null,null,null,null,5,{"$f":"IF(INDEX(Hovedtal,B99,9)<F103,0,INDEX(Etager,7-F103,2))","v":0},{"$f":"IF(F103>INDEX(Hovedtal,B99,9),0,INDEX(Hovedtal,B99,6))","v":0},0,0,1E-4,{"$f":"INDEX(Hovedtal,B99,9+F103)","v":0},{"$f":"M102+L103","v":0},0,0,0,0,0,0,1E-4,0,0,{"$f":"INDEX(Hovedtal,B99,8)","v":0},"",null,null,{"$f":"IF(G103=0,AA104,IF(I103=0,0,I103))","v":0},{"$f":"IF(G103=0,AB104,IF(J103=0,AB107,AB107-J103))","v":1E-4},{"$f":"IF(G103=0,0,AC107+AA103*AG107)","v":0},{"$f":"IF(G103=0,0,AD107+AA103*AH107)","v":0},{"$f":"IF(G103=0,0,AC107+AB103*AG107)","v":0},{"$f":"IF(G103=0,0,AD107+AB103*AH107)","v":0},null,null,{"$f":"MAX(AA103:AA104)","v":0},{"$f":"MIN(AB103:AB104)","v":1E-4},{"$f":"IF(G103=0,0.5*(AI103+AJ103),(M103*G103+AA103*P103+0.5*(AA103+AB103)*(N103+(AB103-AA103)*O103)+AB103*Q103+AK102*AL102)/AL103)","v":5.0000000000000002E-5},{"$f":"AL102+N103+O103*(AB103-AA103)+P103+Q103","v":0},0.1,0,0,null,null,null,null,null,null,null,null,null,null,null,null,null,null,null,null,null,null,null,null,{"$f":"BG104","v":0},{"$f":"BM103+G103","v":0},{"$f":"BJ103+G103","v":0},{"$f":"BF104","v":0},{"$f":"BJ103","v":0},null,null,null,null,null,null,null,null,null,null,null,0,0,0,{"$f":"INDEX(Hovedtal,BS99,9+BW103)","v":{"$error":"#VALUE!"}},{"$f":"CD102+CC103","v":{"$error":"#VALUE!"}},0,0,0,0]
[null,null,null,null,null,4,{"$f":"IF(INDEX(Hovedtal,B99,9)<F104,0,INDEX(Etager,7-F104,2))","v":0},{"$f":"IF(F104>INDEX(Hovedtal,B99,9),0,INDEX(Hovedtal,B99,6))","v":0},0,0,1E-4,{"$f":"INDEX(Hovedtal,B99,9+F104)","v":0},{"$f":"M103+L104","v":0},0,0,0,0,0,0,1E-4,0,0,{"$f":"INDEX(Hovedtal,B99,8)","v":0},"",null,null,{"$f":"IF(G104=0,AA105,IF(I104=0,0,I104))","v":0},{"$f":"IF(G104=0,AB105,IF(J104=0,AB107,AB107-J104))","v":1E-4},{"$f":"IF(G104=0,0,AC107+AA104*AG107)","v":0},{"$f":"IF(G104=0,0,AD107+AA104*AH107)","v":0},{"$f":"IF(G104=0,0,AC107+AB104*AG107)","v":0},{"$f":"IF(G104=0,0,AD107+AB104*AH107)","v":0},null,null,{"$f":"MAX(AA104:AA105)","v":0},{"$f":"MIN(AB104:AB105)","v":1E-4},{"$f":"IF(G104=0,0.5*(AI104+AJ104),(M104*G104+AA104*P104+0.5*(AA104+AB104)*(N104+(AB104-AA104)*O104)+AB104*Q104+AK103*AL103)/AL104)","v":5.0000000000000002E-5},{"$f":"AL103+N104+O104*(AB104-AA104)+P104+Q104","v":0},0.1,0,0,null,null,null,null,null,null,null,null,null,null,null,null,null,null,null,{"$f":"BB105","v":0},{"$f":"BH104+G104","v":0},{"$f":"BE104+G104","v":0},{"$f":"BA105","v":0},{"$f":"BE104","v":0},null,null,null,null,null,null,null,null,null,null,null,null,null,null,null,null,0,0,0,{"$f":"INDEX(Hovedtal,BS99,9+BW104)","v":{"$error":"#VALUE!"}},{"$f":"CD103+CC104","v":{"$error":"#VALUE!"}},0,0,0,0]
[null,null,null,null,null,3,{"$f":"IF(INDEX(Hovedtal,B99,9)<F105,0,INDEX(Etager,7-F105,2))","v":0},{"$f":"IF(F105>INDEX(Hovedtal,B99,9),0,INDEX(Hovedtal,B99,6))","v":0},0,0,1E-4,{"$f":"INDEX(Hovedtal,B99,9+F105)","v":0},{"$f":"M104+L105","v":0},0,0,0,0,0,0,1E-4,0,0,{"$f":"INDEX(Hovedtal,B99,8)","v":0},"",null,null,{"$f":"IF(G105=0,AA106,IF(I105=0,0,I105))","v":0},{"$f":"IF(G105=0,AB106,IF(J105=0,AB107,AB107-J105))","v":1E-4},{"$f":"IF(G105=0,0,AC107+AA105*AG107)","v":0},{"$f":"IF(G105=0,0,AD107+AA105*AH107)","v":0},{"$f":"IF(G105=0,0,AC107+AB105*AG107)","v":0},{"$f":"IF(G105=0,0,AD107+AB105*AH107)","v":0},null,null,{"$f":"MAX(AA105:AA106)","v":0},{"$f":"MIN(AB105:AB106)","v":1E-4},{"$f":"IF(G105=0,0.5*(AI105+AJ105),(M105*G105+AA105*P105+0.5*(AA105+AB105)*(N105+(AB105-AA105)*O105)+AB105*Q105+AK104*AL104)/AL105)","v":5.0000000000000002E-5},{"$f":"AL104+N105+O105*(AB105-AA105)+P105+Q105","v":0},0.1,0,0,null,null,null,null,null,null,null,null,null,null,{"$f":"AW106","v":0},{"$f":"BC105+G105","v":0},{"$f":"AZ105+G105","v":0},{"$f":"AV106","v":0},{"$f":"AZ105","v":0},null,null,null,null,null,null,null,null,null,null,null,null,null,null,null,null,null,null,null,null,null,0,0,0,{"$f":"INDEX(Hovedtal,BS99,9+BW105)","v":{"$error":"#VALUE!"}},{"$f":"CD104+CC105","v":{"$error":"#VALUE!"}},0,0,0,0]
[null,null,null,null,null,2,{"$f":"IF(INDEX(Hovedtal,B99,9)<F106,0,INDEX(Etager,7-F106,2))","v":0},{"$f":"IF(F106>INDEX(Hovedtal,B99,9),0,INDEX(Hovedtal,B99,6))","v":0},0,0,1E-4,{"$f":"INDEX(Hovedtal,B99,9+F106)","v":0},{"$f":"M105+L106","v":0},0,0,0,0,0,0,1E-4,0,0,{"$f":"INDEX(Hovedtal,B99,8)","v":0},"",null,null,{"$f":"IF(G106=0,AA107,IF(I106=0,0,I106))","v":0},{"$f":"IF(G106=0,AB107,IF(J106=0,AB107,AB107-J106))","v":1E-4},{"$f":"IF(G106=0,0,AC107+AA106*AG107)","v":0},{"$f":"IF(G106=0,0,AD107+AA106*AH107)","v":0},{"$f":"IF(G106=0,0,AC107+AB106*AG107)","v":0},{"$f":"IF(G106=0,0,AD107+AB106*AH107)","v":0},null,null,{"$f":"MAX(AA106:AA107)","v":0},{"$f":"MIN(AB106:AB107)","v":1E-4},{"$f":"IF(G106=0,0.5*(AI106+AJ106),(M106*G106+AA106*P106+0.5*(AA106+AB106)*(N106+(AB106-AA106)*O106)+AB106*Q106+AK105*AL105)/AL106)","v":5.0000000000000002E-5},{"$f":"AL105+N106+O106*(AB106-AA106)+P106+Q106","v":0},0.1,0,0,null,null,null,null,null,{"$f":"AR107","v":0},{"$f":"AX106+G106","v":0},{"$f":"AU106+G106","v":0},{"$f":"AQ107","v":0},{"$f":"AU106","v":0},null,null,null,null,null,null,null,null,null,null,null,null,null,null,null,null,null,null,null,null,null,null,null,null,null,null,0,0,0,{"$f":"INDEX(Hovedtal,BS99,9+BW106)","v":{"$error":"#VALUE!"}},{"$f":"CD105+CC106","v":{"$error":"#VALUE!"}},0,0,0,0]
[null,null,null,null,null,1,{"$f":"IF(INDEX(Hovedtal,B99,9)<F107,0,INDEX(Etager,7-F107,2))","v":0},{"$f":"IF(F107>INDEX(Hovedtal,B99,9),0,INDEX(Hovedtal,B99,6))","v":0},null,null,1E-4,{"$f":"INDEX(Hovedtal,B99,9+F107)","v":0},{"$f":"M106+L107","v":0},0,0,0,0,0,0,1E-4,0,0,{"$f":"INDEX(Hovedtal,B99,8)","v":0},"",null,null,0,{"$f":"SQRT((AE107-AC107)^2+(AF107-AD107)^2)+0.0001","v":1E-4},{"$f":"INDEX(Hovedtal,B99,2)","v":0},{"$f":"INDEX(Hovedtal,B99,3)","v":0},{"$f":"INDEX(Hovedtal,B99,4)","v":0},{"$f":"INDEX(Hovedtal,B99,5)","v":0},{"$f":"(AE107-AC107)/AB107","v":0},{"$f":"(AF107-AD107)/AB107","v":0},{"$f":"AA107","v":0},{"$f":"AB107","v":1E-4},{"$f":"IF(G107=0,0.5*(AI107+AJ107),(M107*G107+AA107*P107+0.5*(AA107+AB107)*(N107+(AB107-AA107)*O107)+AB107*Q107+AK106*AL106)/AL107)","v":5.0000000000000002E-5},{"$f":"AL106+N107+O107*(AB107-AA107)+P107+Q107","v":0},0.1,0,0,0,{"$f":"G107","v":0},{"$f":"G107","v":0},0,{"$f":"AP107","v":0},null,null,null,null,null,null,null,null,null,null,null,null,null,null,null,null,null,null,null,null,null,null,null,null,null,null,null,null,null,null,null,null,null,0,{"$f":"INDEX(Hovedtal,BS99,9+BW107)","v":{"$error":"#VALUE!"}},{"$f":"CD106+CC107","v":{"$error":"#VALUE!"}},0,0,0,0]
["*",null,null,null,null,null,null,null,null,null,null,null,null,null,null,null,null,null,null,null,null,null,null,null,null,null,null,null,null,null,null,null,null,null,null,null,null,null,null,null,null,null,null,null,null,null,null,null,null,null,null,null,null,null,null,null,null,null,null,null,null,null,null,null,null,null,null,null,null,null,null,{"$f":"MAX(AP100:BS107)+0.5","v":0.50009999999999999}]
[]
[null,"Væg",null,null,null,"Etage","h","t","r_1","r_2","L_eff","V_i","Q","G","p","P1","P2","T","N","b_1","b_2","n","n_max",null,null,null,"Etager:",6,null,null,null,null,null,null,null,null,null,null,null,null,null,"Hjørnepunkter i vægopstalt",null,null,null,null,null,null,null,null,null,null,null,null,null,null,null,null,null,null,null,null,null,null,null,null,null,null,null,null,null,null,null,null,null,null,null,"r_1","r_2","L_eff","V_i","Q","G","p","P1","P2"]
[null,{"$f":"B99+1","v":8},null,null,null,null,"(m)","(m)","(m)","(m)","(m)","(kN)","(kN)","(kN)","(kN/m)","(kN)","(kN)","(kN)","(kN)","(m)","(m)","(kN/m)","(kN/m)",null,null,null,null,null,null,null,null,null,null,null,null,null,null,null,null,null,null,null,null,null,null,null,null,null,null,null,null,null,null,null,null,null,null,null,null,null,null,null,null,null,null,null,null,null,null,null,null,null,null,null,null,null,null,"(m)","(m)","(m)","(kN)","(kN)","(kN)","(kN/m)","(kN)","(kN)"]
[null,null,null,null,null,null,null,null,null,null,null,null,null,null,null,null,null,null,null,null,null,null,null,null,null,null,"s_1","s_2","x_1","y_1","x_2","y_2","cos(a)","sin(a)","s_1_e","s_2_e","s_N","N_0","n","T_1","T_2",0,0,{"$f":"AB119","v":1E-4},{"$f":"AB119","v":1E-4},{"$f":"AP112","v":0},{"$f":"AA118","v":0},{"$f":"AA118","v":0},{"$f":"AB118","v":1E-4},{"$f":"AB118","v":1E-4},{"$f":"AU112","v":0},{"$f":"AA117","v":0},{"$f":"AA117","v":0},{"$f":"AB117","v":1E-4},{"$f":"AB117","v":1E-4},{"$f":"AZ112","v":0},{"$f":"AA116","v":0},{"$f":"AA116","v":0},{"$f":"AB116","v":1E-4},{"$f":"AB116","v":1E-4},{"$f":"BE112","v":0},{"$f":"AA115","v":0},{"$f":"AA115","v":0},{"$f":"AB115","v":1E-4},{"$f":"AB115","v":1E-4},{"$f":"BJ112","v":0},{"$f":"AA114","v":0},{"$f":"AA114","v":0},{"$f":"AB114","v":1E-4},{"$f":"AB114","v":1E-4},{"$f":"BO112","v":0},{"$f":"BT120","v":0.50009999999999999}]
[]
[null,null,null,null,null,6,{"$f":"IF(INDEX(Hovedtal,B111,9)<F114,0,INDEX(Etager,7-F114,2))","v":0},{"$f":"IF(F114>INDEX(Hovedtal,B111,9),0,INDEX(Hovedtal,B111,6))","v":0},0,0,{"$f":"AJ114-AI114","v":1E-4},{"$f":"INDEX(Hovedtal,B111,9+F114)","v":0},{"$f":"L114","v":0},{"$f":"(AB114-AA114)*H114*G114*g_g*g_e","v":0},0,0,0,{"$f":"IF(AK114>0.5*(AI114+AJ114),AO114,AN114)","v":0},{"$f":"AL114+R114","v":0},{"$f":"IF(AK114<=0.5*(AI114+AJ114),IF(AK114>AI114+0.5*AL114/AM114,2*(AK114-AI114),S114/AM114),0)","v":1E-4},{"$f":"IF(AK114>0.5*(AI114+AJ114),IF(AK114<AJ114-0.5*AL114/AM114,2*(AJ114-AK114),S114/AM114),0)","v":0},{"$f":"IF(AK114>0.5*(AI114+AJ114),S114/U114,S114/T114)","v":0},{"$f":"INDEX(Hovedtal,B111,8)","v":0},{"$f":"IF(OR(V114>W114,ABS(M114)>0.5*S114),\"!\",\"\")","v":""},null,null,{"$f":"IF(G114=0,AA115,IF(I114=0,0,I114))","v":0},{"$f":"IF(G114=0,AB115,IF(J114=0,AB119,AB119-J114))","v":1E-4},{"$f":"IF(G114=0,0,AC119+AA114*AG119)","v":0},{"$f":"IF(G114=0,0,AD119+AA114*AH119)","v":0},{"$f":"IF(G114=0,0,AC119+AB114*AG119)","v":0},{"$f":"IF(G114=0,0,AD119+AB114*AH119)","v":0},null,null,{"$f":"MAX(AA114:AA115)","v":0},{"$f":"MIN(AB114:AB115)","v":1E-4},{"$f":"IF(G114=0,0.5*(AI114+AJ114),(M114*G114+AA114*P114+0.5*(AA114+AB114)*(N114+(AB114-AA114)*O114)+AB114*Q114)/AL114)","v":5.0000000000000002E-5},{"$f":"N114+O114*(AB114-AA114)+P114+Q114","v":0},{"$f":"IF(AK114<0.5*(AI114+AJ114),MAX(W114,8*AL114*(0.5*(AJ114+AI114)-AK114)/(AJ114-AI114)^2+0.1),MAX(W114,-8*AL114*(0.5*(AJ114+AI114)-AK114)/(AJ114-AI114)^2+0.1))","v":0.1},{"$f":"IF(AND(AK114<0.5*(AI114+AJ114),AL114/AM114>2*(AK114-AI114)),AM114*(-SQRT((AL114/AM114+0.5*AI114-0.5*AJ114)^2-2*(-AK114*AL114/AM114+0.5*AL114^2/AM114^2+AI114*AL114/AM114))-(AL114/AM114+0.5*AI114-0.5*AJ114)),0)","v":0},{"$f":"IF(AND(AK114>=0.5*(AI114+AJ114),AL114/AM114>2*(AJ114-AK114)),AM114*(-SQRT((AL114/AM114+0.5*AI114-0.5*AJ114)^2-2*(AK114*AL114/AM114+0.5*AL114^2/AM114^2-AJ114*AL114/AM114))-(AL114/AM114+0.5*AI114-0.5*AJ114)),0)","v":0},null,null,null,null,null,null,null,null,null,null,null,null,null,null,null,null,null,null,null,null,null,null,null,null,null,{"$f":"BL115","v":0},{"$f":"BR114+G114","v":0},{"$f":"BO114+G114","v":0},{"$f":"BK115","v":0},{"$f":"BO114","v":0},null,null,null,null,null,null,0,0,{"$f":"DA114-CZ114","v":0},{"$f":"INDEX(Hovedtal,BS111,9+BW114)","v":{"$error":"#VALUE!"}},{"$f":"CC114","v":{"$error":"#VALUE!"}},{"$f":"(CS114-CR114)*BY114*BX114*g_g*g_e","v":0},0,0,0]
[null,null,null,null,null,5,{"$f":"IF(INDEX(Hovedtal,B111,9)<F115,0,INDEX(Etager,7-F115,2))","v":0},{"$f":"IF(F115>INDEX(Hovedtal,B111,9),0,INDEX(Hovedtal,B111,6))","v":0},0,0,1E-4,{"$f":"INDEX(Hovedtal,B111,9+F115)","v":0},{"$f":"M114+L115","v":0},0,0,0,0,0,0,1E-4,0,0,{"$f":"INDEX(Hovedtal,B111,8)","v":0},"",null,null,{"$f":"IF(G115=0,AA116,IF(I115=0,0,I115))","v":0},{"$f":"IF(G115=0,AB116,IF(J115=0,AB119,AB119-J115))","v":1E-4},{"$f":"IF(G115=0,0,AC119+AA115*AG119)","v":0},{"$f":"IF(G115=0,0,AD119+AA115*AH119)","v":0},{"$f":"IF(G115=0,0,AC119+AB115*AG119)","v":0},{"$f":"IF(G115=0,0,AD119+AB115*AH119)","v":0},null,null,{"$f":"MAX(AA115:AA116)","v":0},{"$f":"MIN(AB115:AB116)","v":1E-4},{"$f":"IF(G115=0,0.5*(AI115+AJ115),(M115*G115+AA115*P115+0.5*(AA115+AB115)*(N115+(AB115-AA115)*O115)+AB115*Q115+AK114*AL114)/AL115)","v":5.0000000000000002E-5},{"$f":"AL114+N115+O115*(AB115-AA115)+P115+Q115","v":0},0.1,0,0,null,null,null,null,null,null,null,null,null,null,null,null,null,null,null,null,null,null,null,null,{"$f":"BG116","v":0},{"$f":"BM115+G115","v":0},{"$f":"BJ115+G115","v":0},{"$f":"BF116","v":0},{"$f":"BJ115","v":0},null,null,null,null,null,null,null,null,null,null,null,0,0,0,{"$f":"INDEX(Hovedtal,BS111,9+BW115)","v":{"$error":"#VALUE!"}},{"$f":"CD114+CC115","v":{"$error":"#VALUE!"}},0,0,0,0]
[null,null,null,null,null,4,{"$f":"IF(INDEX(Hovedtal,B111,9)<F116,0,INDEX(Etager,7-F116,2))","v":0},{"$f":"IF(F116>INDEX(Hovedtal,B111,9),0,INDEX(Hovedtal,B111,6))","v":0},0,0,1E-4,{"$f":"INDEX(Hovedtal,B111,9+F116)","v":0},{"$f":"M115+L116","v":0},0,0,0,0,0,0,1E-4,0,0,{"$f":"INDEX(Hovedtal,B111,8)","v":0},"",null,null,{"$f":"IF(G116=0,AA117,IF(I116=0,0,I116))","v":0},{"$f":"IF(G116=0,AB117,IF(J116=0,AB119,AB119-J116))","v":1E-4},{"$f":"IF(G116=0,0,AC119+AA116*AG119)","v":0},{"$f":"IF(G116=0,0,AD119+AA116*AH119)","v":0},{"$f":"IF(G116=0,0,AC119+AB116*AG119)","v":0},{"$f":"IF(G116=0,0,AD119+AB116*AH119)","v":0},null,null,{"$f":"MAX(AA116:AA117)","v":0},{"$f":"MIN(AB116:AB117)","v":1E-4},{"$f":"IF(G116=0,0.5*(AI116+AJ116),(M116*G116+AA116*P116+0.5*(AA116+AB116)*(N116+(AB116-AA116)*O116)+AB116*Q116+AK115*AL115)/AL116)","v":5.0000000000000002E-5},{"$f":"AL115+N116+O116*(AB116-AA116)+P116+Q116","v":0},0.1,0,0,null,null,null,null,null,null,null,null,null,null,null,null,null,null,null,{"$f":"BB117","v":0},{"$f":"BH116+G116","v":0},{"$f":"BE116+G116","v":0},{"$f":"BA117","v":0},{"$f":"BE116","v":0},null,null,null,null,null,null,null,null,null,null,null,null,null,null,null,null,0,0,0,{"$f":"INDEX(Hovedtal,BS111,9+BW116)","v":{"$error":"#VALUE!"}},{"$f":"CD115+CC116","v":{"$error":"#VALUE!"}},0,0,0,0]
[null,null,null,null,null,3,{"$f":"IF(INDEX(Hovedtal,B111,9)<F117,0,INDEX(Etager,7-F117,2))","v":0},{"$f":"IF(F117>INDEX(Hovedtal,B111,9),0,INDEX(Hovedtal,B111,6))","v":0},0,0,1E-4,{"$f":"INDEX(Hovedtal,B111,9+F117)","v":0},{"$f":"M116+L117","v":0},0,0,0,0,0,0,1E-4,0,0,{"$f":"INDEX(Hovedtal,B111,8)","v":0},"",null,null,{"$f":"IF(G117=0,AA118,IF(I117=0,0,I117))","v":0},{"$f":"IF(G117=0,AB118,IF(J117=0,AB119,AB119-J117))","v":1E-4},{"$f":"IF(G117=0,0,AC119+AA117*AG119)","v":0},{"$f":"IF(G117=0,0,AD119+AA117*AH119)","v":0},{"$f":"IF(G117=0,0,AC119+AB117*AG119)","v":0},{"$f":"IF(G117=0,0,AD119+AB117*AH119)","v":0},null,null,{"$f":"MAX(AA117:AA118)","v":0},{"$f":"MIN(AB117:AB118)","v":1E-4},{"$f":"IF(G117=0,0.5*(AI117+AJ117),(M117*G117+AA117*P117+0.5*(AA117+AB117)*(N117+(AB117-AA117)*O117)+AB117*Q117+AK116*AL116)/AL117)","v":5.0000000000000002E-5},{"$f":"AL116+N117+O117*(AB117-AA117)+P117+Q117","v":0},0.1,0,0,null,null,null,null,null,null,null,null,null,null,{"$f":"AW118","v":0},{"$f":"BC117+G117","v":0},{"$f":"AZ117+G117","v":0},{"$f":"AV118","v":0},{"$f":"AZ117","v":0},null,null,null,null,null,null,null,null,null,null,null,null,null,null,null,null,null,null,null,null,null,0,0,0,{"$f":"INDEX(Hovedtal,BS111,9+BW117)","v":{"$error":"#VALUE!"}},{"$f":"CD116+CC117","v":{"$error":"#VALUE!"}},0,0,0,0]
[null,null,null,null,null,2,{"$f":"IF(INDEX(Hovedtal,B111,9)<F118,0,INDEX(Etager,7-F118,2))","v":0},{"$f":"IF(F118>INDEX(Hovedtal,B111,9),0,INDEX(Hovedtal,B111,6))","v":0},0,0,1E-4,{"$f":"INDEX(Hovedtal,B111,9+F118)","v":0},{"$f":"M117+L118","v":0},0,0,0,0,0,0,1E-4,0,0,{"$f":"INDEX(Hovedtal,B111,8)","v":0},"",null,null,{"$f":"IF(G118=0,AA119,IF(I118=0,0,I118))","v":0},{"$f":"IF(G118=0,AB119,IF(J118=0,AB119,AB119-J118))","v":1E-4},{"$f":"IF(G118=0,0,AC119+AA118*AG119)","v":0},{"$f":"IF(G118=0,0,AD119+AA118*AH119)","v":0},{"$f":"IF(G118=0,0,AC119+AB118*AG119)","v":0},{"$f":"IF(G118=0,0,AD119+AB118*AH119)","v":0},null,null,{"$f":"MAX(AA118:AA119)","v":0},{"$f":"MIN(AB118:AB119)","v":1E-4},{"$f":"IF(G118=0,0.5*(AI118+AJ118),(M118*G118+AA118*P118+0.5*(AA118+AB118)*(N118+(AB118-AA118)*O118)+AB118*Q118+AK117*AL117)/AL118)","v":5.0000000000000002E-5},{"$f":"AL117+N118+O118*(AB118-AA118)+P118+Q118","v":0},0.1,0,0,null,null,null,null,null,{"$f":"AR119","v":0},{"$f":"AX118+G118","v":0},{"$f":"AU118+G118","v":0},{"$f":"AQ119","v":0},{"$f":"AU118","v":0},null,null,null,null,null,null,null,null,null,null,null,null,null,null,null,null,null,null,null,null,null,null,null,null,null,null,0,0,0,{"$f":"INDEX(Hovedtal,BS111,9+BW118)","v":{"$error":"#VALUE!"}},{"$f":"CD117+CC118","v":{"$error":"#VALUE!"}},0,0,0,0]
[null,null,null,null,null,1,{"$f":"IF(INDEX(Hovedtal,B111,9)<F119,0,INDEX(Etager,7-F119,2))","v":0},{"$f":"IF(F119>INDEX(Hovedtal,B111,9),0,INDEX(Hovedtal,B111,6))","v":0},null,null,1E-4,{"$f":"INDEX(Hovedtal,B111,9+F119)","v":0},{"$f":"M118+L119","v":0},0,0,0,0,0,0,1E-4,0,0,{"$f":"INDEX(Hovedtal,B111,8)","v":0},"",null,null,0,{"$f":"SQRT((AE119-AC119)^2+(AF119-AD119)^2)+0.0001","v":1E-4},{"$f":"INDEX(Hovedtal,B111,2)","v":0},{"$f":"INDEX(Hovedtal,B111,3)","v":0},{"$f":"INDEX(Hovedtal,B111,4)","v":0},{"$f":"INDEX(Hovedtal,B111,5)","v":0},{"$f":"(AE119-AC119)/AB119","v":0},{"$f":"(AF119-AD119)/AB119","v":0},{"$f":"AA119","v":0},{"$f":"AB119","v":1E-4},{"$f":"IF(G119=0,0.5*(AI119+AJ119),(M119*G119+AA119*P119+0.5*(AA119+AB119)*(N119+(AB119-AA119)*O119)+AB119*Q119+AK118*AL118)/AL119)","v":5.0000000000000002E-5},{"$f":"AL118+N119+O119*(AB119-AA119)+P119+Q119","v":0},0.1,0,0,0,{"$f":"G119","v":0},{"$f":"G119","v":0},0,{"$f":"AP119","v":0},null,null,null,null,null,null,null,null,null,null,null,null,null,null,null,null,null,null,null,null,null,null,null,null,null,null,null,null,null,null,null,null,null,0,{"$f":"INDEX(Hovedtal,BS111,9+BW119)","v":{"$error":"#VALUE!"}},{"$f":"CD118+CC119","v":{"$error":"#VALUE!"}},0,0,0,0]
["*",null,null,null,null,null,null,null,null,null,null,null,null,null,null,null,null,null,null,null,null,null,null,null,null,null,null,null,null,null,null,null,null,null,null,null,null,null,null,null,null,null,null,null,null,null,null,null,null,null,null,null,null,null,null,null,null,null,null,null,null,null,null,null,null,null,null,null,null,null,null,{"$f":"MAX(AP112:BS119)+0.5","v":0.50009999999999999}]
[]
[null,"Væg",null,null,null,"Etage","h","t","r_1","r_2","L_eff","V_i","Q","G","p","P1","P2","T","N","b_1","b_2","n","n_max",null,null,null,"Etager:",6,null,null,null,null,null,null,null,null,null,null,null,null,null,"Hjørnepunkter i vægopstalt",null,null,null,null,null,null,null,null,null,null,null,null,null,null,null,null,null,null,null,null,null,null,null,null,null,null,null,null,null,null,null,null,null,null,null,"r_1","r_2","L_eff","V_i","Q","G","p","P1","P2"]
[null,{"$f":"B111+1","v":9},null,null,null,null,"(m)","(m)","(m)","(m)","(m)","(kN)","(kN)","(kN)","(kN/m)","(kN)","(kN)","(kN)","(kN)","(m)","(m)","(kN/m)","(kN/m)",null,null,null,null,null,null,null,null,null,null,null,null,null,null,null,null,null,null,null,null,null,null,null,null,null,null,null,null,null,null,null,null,null,null,null,null,null,null,null,null,null,null,null,null,null,null,null,null,null,null,null,null,null,null,"(m)","(m)","(m)","(kN)","(kN)","(kN)","(kN/m)","(kN)","(kN)"]
[null,null,null,null,null,null,null,null,null,null,null,null,null,null,null,null,null,null,null,null,null,null,null,null,null,null,"s_1","s_2","x_1","y_1","x_2","y_2","cos(a)","sin(a)","s_1_e","s_2_e","s_N","N_0","n","T_1","T_2",0,0,{"$f":"AB131","v":1E-4},{"$f":"AB131","v":1E-4},{"$f":"AP124","v":0},{"$f":"AA130","v":0},{"$f":"AA130","v":0},{"$f":"AB130","v":1E-4},{"$f":"AB130","v":1E-4},{"$f":"AU124","v":0},{"$f":"AA129","v":0},{"$f":"AA129","v":0},{"$f":"AB129","v":1E-4},{"$f":"AB129","v":1E-4},{"$f":"AZ124","v":0},{"$f":"AA128","v":0},{"$f":"AA128","v":0},{"$f":"AB128","v":1E-4},{"$f":"AB128","v":1E-4},{"$f":"BE124","v":0},{"$f":"AA127","v":0},{"$f":"AA127","v":0},{"$f":"AB127","v":1E-4},{"$f":"AB127","v":1E-4},{"$f":"BJ124","v":0},{"$f":"AA126","v":0},{"$f":"AA126","v":0},{"$f":"AB126","v":1E-4},{"$f":"AB126","v":1E-4},{"$f":"BO124","v":0},{"$f":"BT132","v":0.50009999999999999}]
[]
[null,null,null,null,null,6,{"$f":"IF(INDEX(Hovedtal,B123,9)<F126,0,INDEX(Etager,7-F126,2))","v":0},{"$f":"IF(F126>INDEX(Hovedtal,B123,9),0,INDEX(Hovedtal,B123,6))","v":0},0,0,{"$f":"AJ126-AI126","v":1E-4},{"$f":"INDEX(Hovedtal,B123,9+F126)","v":0},{"$f":"L126","v":0},{"$f":"(AB126-AA126)*H126*G126*g_g*g_e","v":0},0,0,0,{"$f":"IF(AK126>0.5*(AI126+AJ126),AO126,AN126)","v":0},{"$f":"AL126+R126","v":0},{"$f":"IF(AK126<=0.5*(AI126+AJ126),IF(AK126>AI126+0.5*AL126/AM126,2*(AK126-AI126),S126/AM126),0)","v":1E-4},{"$f":"IF(AK126>0.5*(AI126+AJ126),IF(AK126<AJ126-0.5*AL126/AM126,2*(AJ126-AK126),S126/AM126),0)","v":0},{"$f":"IF(AK126>0.5*(AI126+AJ126),S126/U126,S126/T126)","v":0},{"$f":"INDEX(Hovedtal,B123,8)","v":0},{"$f":"IF(OR(V126>W126,ABS(M126)>0.5*S126),\"!\",\"\")","v":""},null,null,{"$f":"IF(G126=0,AA127,IF(I126=0,0,I126))","v":0},{"$f":"IF(G126=0,AB127,IF(J126=0,AB131,AB131-J126))","v":1E-4},{"$f":"IF(G126=0,0,AC131+AA126*AG131)","v":0},{"$f":"IF(G126=0,0,AD131+AA126*AH131)","v":0},{"$f":"IF(G126=0,0,AC131+AB126*AG131)","v":0},{"$f":"IF(G126=0,0,AD131+AB126*AH131)","v":0},null,null,{"$f":"MAX(AA126:AA127)","v":0},{"$f":"MIN(AB126:AB127)","v":1E-4},{"$f":"IF(G126=0,0.5*(AI126+AJ126),(M126*G126+AA126*P126+0.5*(AA126+AB126)*(N126+(AB126-AA126)*O126)+AB126*Q126)/AL126)","v":5.0000000000000002E-5},{"$f":"N126+O126*(AB126-AA126)+P126+Q126","v":0},{"$f":"IF(AK126<0.5*(AI126+AJ126),MAX(W126,8*AL126*(0.5*(AJ126+AI126)-AK126)/(AJ126-AI126)^2+0.1),MAX(W126,-8*AL126*(0.5*(AJ126+AI126)-AK126)/(AJ126-AI126)^2+0.1))","v":0.1},{"$f":"IF(AND(AK126<0.5*(AI126+AJ126),AL126/AM126>2*(AK126-AI126)),AM126*(-SQRT((AL126/AM126+0.5*AI126-0.5*AJ126)^2-2*(-AK126*AL126/AM126+0.5*AL126^2/AM126^2+AI126*AL126/AM126))-(AL126/AM126+0.5*AI126-0.5*AJ126)),0)","v":0},{"$f":"IF(AND(AK126>=0.5*(AI126+AJ126),AL126/AM126>2*(AJ126-AK126)),AM126*(-SQRT((AL126/AM126+0.5*AI126-0.5*AJ126)^2-2*(AK126*AL126/AM126+0.5*AL126^2/AM126^2-AJ126*AL126/AM126))-(AL126/AM126+0.5*AI126-0.5*AJ126)),0)","v":0},null,null,null,null,null,null,null,null,null,null,null,null,null,null,null,null,null,null,null,null,null,null,null,null,null,{"$f":"BL127","v":0},{"$f":"BR126+G126","v":0},{"$f":"BO126+G126","v":0},{"$f":"BK127","v":0},{"$f":"BO126","v":0},null,null,null,null,null,null,0,0,{"$f":"DA126-CZ126","v":0},{"$f":"INDEX(Hovedtal,BS123,9+BW126)","v":{"$error":"#VALUE!"}},{"$f":"CC126","v":{"$error":"#VALUE!"}},{"$f":"(CS126-CR126)*BY126*BX126*g_g*g_e","v":0},0,0,0]
[null,null,null,null,null,5,{"$f":"IF(INDEX(Hovedtal,B123,9)<F127,0,INDEX(Etager,7-F127,2))","v":0},{"$f":"IF(F127>INDEX(Hovedtal,B123,9),0,INDEX(Hovedtal,B123,6))","v":0},0,0,1E-4,{"$f":"INDEX(Hovedtal,B123,9+F127)","v":0},{"$f":"M126+L127","v":0},0,0,0,0,0,0,1E-4,0,0,{"$f":"INDEX(Hovedtal,B123,8)","v":0},"",null,null,{"$f":"IF(G127=0,AA128,IF(I127=0,0,I127))","v":0},{"$f":"IF(G127=0,AB128,IF(J127=0,AB131,AB131-J127))","v":1E-4},{"$f":"IF(G127=0,0,AC131+AA127*AG131)","v":0},{"$f":"IF(G127=0,0,AD131+AA127*AH131)","v":0},{"$f":"IF(G127=0,0,AC131+AB127*AG131)","v":0},{"$f":"IF(G127=0,0,AD131+AB127*AH131)","v":0},null,null,{"$f":"MAX(AA127:AA128)","v":0},{"$f":"MIN(AB127:AB128)","v":1E-4},{"$f":"IF(G127=0,0.5*(AI127+AJ127),(M127*G127+AA127*P127+0.5*(AA127+AB127)*(N127+(AB127-AA127)*O127)+AB127*Q127+AK126*AL126)/AL127)","v":5.0000000000000002E-5},{"$f":"AL126+N127+O127*(AB127-AA127)+P127+Q127","v":0},0.1,0,0,null,null,null,null,null,null,null,null,null,null,null,null,null,null,null,null,null,null,null,null,{"$f":"BG128","v":0},{"$f":"BM127+G127","v":0},{"$f":"BJ127+G127","v":0},{"$f":"BF128","v":0},{"$f":"BJ127","v":0},null,null,null,null,null,null,null,null,null,null,null,0,0,0,{"$f":"INDEX(Hovedtal,BS123,9+BW127)","v":{"$error":"#VALUE!"}},{"$f":"CD126+CC127","v":{"$error":"#VALUE!"}},0,0,0,0]
[null,null,null,null,null,4,{"$f":"IF(INDEX(Hovedtal,B123,9)<F128,0,INDEX(Etager,7-F128,2))","v":0},{"$f":"IF(F128>INDEX(Hovedtal,B123,9),0,INDEX(Hovedtal,B123,6))","v":0},0,0,1E-4,{"$f":"INDEX(Hovedtal,B123,9+F128)","v":0},{"$f":"M127+L128","v":0},0,0,0,0,0,0,1E-4,0,0,{"$f":"INDEX(Hovedtal,B123,8)","v":0},"",null,null,{"$f":"IF(G128=0,AA129,IF(I128=0,0,I128))","v":0},{"$f":"IF(G128=0,AB129,IF(J128=0,AB131,AB131-J128))","v":1E-4},{"$f":"IF(G128=0,0,AC131+AA128*AG131)","v":0},{"$f":"IF(G128=0,0,AD131+AA128*AH131)","v":0},{"$f":"IF(G128=0,0,AC131+AB128*AG131)","v":0},{"$f":"IF(G128=0,0,AD131+AB128*AH131)","v":0},null,null,{"$f":"MAX(AA128:AA129)","v":0},{"$f":"MIN(AB128:AB129)","v":1E-4},{"$f":"IF(G128=0,0.5*(AI128+AJ128),(M128*G128+AA128*P128+0.5*(AA128+AB128)*(N128+(AB128-AA128)*O128)+AB128*Q128+AK127*AL127)/AL128)","v":5.0000000000000002E-5},{"$f":"AL127+N128+O128*(AB128-AA128)+P128+Q128","v":0},0.1,0,0,null,null,null,null,null,null,null,null,null,null,null,null,null,null,null,{"$f":"BB129","v":0},{"$f":"BH128+G128","v":0},{"$f":"BE128+G128","v":0},{"$f":"BA129","v":0},{"$f":"BE128","v":0},null,null,null,null,null,null,null,null,null,null,null,null,null,null,null,null,0,0,0,{"$f":"INDEX(Hovedtal,BS123,9+BW128)","v":{"$error":"#VALUE!"}},{"$f":"CD127+CC128","v":{"$error":"#VALUE!"}},0,0,0,0]
[null,null,null,null,null,3,{"$f":"IF(INDEX(Hovedtal,B123,9)<F129,0,INDEX(Etager,7-F129,2))","v":0},{"$f":"IF(F129>INDEX(Hovedtal,B123,9),0,INDEX(Hovedtal,B123,6))","v":0},0,0,1E-4,{"$f":"INDEX(Hovedtal,B123,9+F129)","v":0},{"$f":"M128+L129","v":0},0,0,0,0,0,0,1E-4,0,0,{"$f":"INDEX(Hovedtal,B123,8)","v":0},"",null,null,{"$f":"IF(G129=0,AA130,IF(I129=0,0,I129))","v":0},{"$f":"IF(G129=0,AB130,IF(J129=0,AB131,AB131-J129))","v":1E-4},{"$f":"IF(G129=0,0,AC131+AA129*AG131)","v":0},{"$f":"IF(G129=0,0,AD131+AA129*AH131)","v":0},{"$f":"IF(G129=0,0,AC131+AB129*AG131)","v":0},{"$f":"IF(G129=0,0,AD131+AB129*AH131)","v":0},null,null,{"$f":"MAX(AA129:AA130)","v":0},{"$f":"MIN(AB129:AB130)","v":1E-4},{"$f":"IF(G129=0,0.5*(AI129+AJ129),(M129*G129+AA129*P129+0.5*(AA129+AB129)*(N129+(AB129-AA129)*O129)+AB129*Q129+AK128*AL128)/AL129)","v":5.0000000000000002E-5},{"$f":"AL128+N129+O129*(AB129-AA129)+P129+Q129","v":0},0.1,0,0,null,null,null,null,null,null,null,null,null,null,{"$f":"AW130","v":0},{"$f":"BC129+G129","v":0},{"$f":"AZ129+G129","v":0},{"$f":"AV130","v":0},{"$f":"AZ129","v":0},null,null,null,null,null,null,null,null,null,null,null,null,null,null,null,null,null,null,null,null,null,0,0,0,{"$f":"INDEX(Hovedtal,BS123,9+BW129)","v":{"$error":"#VALUE!"}},{"$f":"CD128+CC129","v":{"$error":"#VALUE!"}},0,0,0,0]
[null,null,null,null,null,2,{"$f":"IF(INDEX(Hovedtal,B123,9)<F130,0,INDEX(Etager,7-F130,2))","v":0},{"$f":"IF(F130>INDEX(Hovedtal,B123,9),0,INDEX(Hovedtal,B123,6))","v":0},0,0,1E-4,{"$f":"INDEX(Hovedtal,B123,9+F130)","v":0},{"$f":"M129+L130","v":0},0,0,0,0,0,0,1E-4,0,0,{"$f":"INDEX(Hovedtal,B123,8)","v":0},"",null,null,{"$f":"IF(G130=0,AA131,IF(I130=0,0,I130))","v":0},{"$f":"IF(G130=0,AB131,IF(J130=0,AB131,AB131-J130))","v":1E-4},{"$f":"IF(G130=0,0,AC131+AA130*AG131)","v":0},{"$f":"IF(G130=0,0,AD131+AA130*AH131)","v":0},{"$f":"IF(G130=0,0,AC131+AB130*AG131)","v":0},{"$f":"IF(G130=0,0,AD131+AB130*AH131)","v":0},null,null,{"$f":"MAX(AA130:AA131)","v":0},{"$f":"MIN(AB130:AB131)","v":1E-4},{"$f":"IF(G130=0,0.5*(AI130+AJ130),(M130*G130+AA130*P130+0.5*(AA130+AB130)*(N130+(AB130-AA130)*O130)+AB130*Q130+AK129*AL129)/AL130)","v":5.0000000000000002E-5},{"$f":"AL129+N130+O130*(AB130-AA130)+P130+Q130","v":0},0.1,0,0,null,null,null,null,null,{"$f":"AR131","v":0},{"$f":"AX130+G130","v":0},{"$f":"AU130+G130","v":0},{"$f":"AQ131","v":0},{"$f":"AU130","v":0},null,null,null,null,null,null,null,null,null,null,null,null,null,null,null,null,null,null,null,null,null,null,null,null,null,null,0,0,0,{"$f":"INDEX(Hovedtal,BS123,9+BW130)","v":{"$error":"#VALUE!"}},{"$f":"CD129+CC130","v":{"$error":"#VALUE!"}},0,0,0,0]
[null,null,null,null,null,1,{"$f":"IF(INDEX(Hovedtal,B123,9)<F131,0,INDEX(Etager,7-F131,2))","v":0},{"$f":"IF(F131>INDEX(Hovedtal,B123,9),0,INDEX(Hovedtal,B123,6))","v":0},null,null,1E-4,{"$f":"INDEX(Hovedtal,B123,9+F131)","v":0},{"$f":"M130+L131","v":0},0,0,0,0,0,0,1E-4,0,0,{"$f":"INDEX(Hovedtal,B123,8)","v":0},"",null,null,0,{"$f":"SQRT((AE131-AC131)^2+(AF131-AD131)^2)+0.0001","v":1E-4},{"$f":"INDEX(Hovedtal,B123,2)","v":0},{"$f":"INDEX(Hovedtal,B123,3)","v":0},{"$f":"INDEX(Hovedtal,B123,4)","v":0},{"$f":"INDEX(Hovedtal,B123,5)","v":0},{"$f":"(AE131-AC131)/AB131","v":0},{"$f":"(AF131-AD131)/AB131","v":0},{"$f":"AA131","v":0},{"$f":"AB131","v":1E-4},{"$f":"IF(G131=0,0.5*(AI131+AJ131),(M131*G131+AA131*P131+0.5*(AA131+AB131)*(N131+(AB131-AA131)*O131)+AB131*Q131+AK130*AL130)/AL131)","v":5.0000000000000002E-5},{"$f":"AL130+N131+O131*(AB131-AA131)+P131+Q131","v":0},0.1,0,0,0,{"$f":"G131","v":0},{"$f":"G131","v":0},0,{"$f":"AP131","v":0},null,null,null,null,null,null,null,null,null,null,null,null,null,null,null,null,null,null,null,null,null,null,null,null,null,null,null,null,null,null,null,null,null,0,{"$f":"INDEX(Hovedtal,BS123,9+BW131)","v":{"$error":"#VALUE!"}},{"$f":"CD130+CC131","v":{"$error":"#VALUE!"}},0,0,0,0]
["*",null,null,null,null,null,null,null,null,null,null,null,null,null,null,null,null,null,null,null,null,null,null,null,null,null,null,null,null,null,null,null,null,null,null,null,null,null,null,null,null,null,null,null,null,null,null,null,null,null,null,null,null,null,null,null,null,null,null,null,null,null,null,null,null,null,null,null,null,null,null,{"$f":"MAX(AP124:BS131)+0.5","v":0.50009999999999999}]
[]
[null,"Væg",null,null,null,"Etage","h","t","r_1","r_2","L_eff","V_i","Q","G","p","P1","P2","T","N","b_1","b_2","n","n_max",null,null,null,"Etager:",6,null,null,null,null,null,null,null,null,null,null,null,null,null,"Hjørnepunkter i vægopstalt",null,null,null,null,null,null,null,null,null,null,null,null,null,null,null,null,null,null,null,null,null,null,null,null,null,null,null,null,null,null,null,null,null,null,null,"r_1","r_2","L_eff","V_i","Q","G","p","P1","P2"]
[null,{"$f":"B123+1","v":10},null,null,null,null,"(m)","(m)","(m)","(m)","(m)","(kN)","(kN)","(kN)","(kN/m)","(kN)","(kN)","(kN)","(kN)","(m)","(m)","(kN/m)","(kN/m)",null,null,null,null,null,null,null,null,null,null,null,null,null,null,null,null,null,null,null,null,null,null,null,null,null,null,null,null,null,null,null,null,null,null,null,null,null,null,null,null,null,null,null,null,null,null,null,null,null,null,null,null,null,null,"(m)","(m)","(m)","(kN)","(kN)","(kN)","(kN/m)","(kN)","(kN)"]
[null,null,null,null,null,null,null,null,null,null,null,null,null,null,null,null,null,null,null,null,null,null,null,null,null,null,"s_1","s_2","x_1","y_1","x_2","y_2","cos(a)","sin(a)","s_1_e","s_2_e","s_N","N_0","n","T_1","T_2",0,0,{"$f":"AB143","v":1E-4},{"$f":"AB143","v":1E-4},{"$f":"AP136","v":0},{"$f":"AA142","v":0},{"$f":"AA142","v":0},{"$f":"AB142","v":1E-4},{"$f":"AB142","v":1E-4},{"$f":"AU136","v":0},{"$f":"AA141","v":0},{"$f":"AA141","v":0},{"$f":"AB141","v":1E-4},{"$f":"AB141","v":1E-4},{"$f":"AZ136","v":0},{"$f":"AA140","v":0},{"$f":"AA140","v":0},{"$f":"AB140","v":1E-4},{"$f":"AB140","v":1E-4},{"$f":"BE136","v":0},{"$f":"AA139","v":0},{"$f":"AA139","v":0},{"$f":"AB139","v":1E-4},{"$f":"AB139","v":1E-4},{"$f":"BJ136","v":0},{"$f":"AA138","v":0},{"$f":"AA138","v":0},{"$f":"AB138","v":1E-4},{"$f":"AB138","v":1E-4},{"$f":"BO136","v":0},{"$f":"BT144","v":0.50009999999999999}]
[]
[null,null,null,null,null,6,{"$f":"IF(INDEX(Hovedtal,B135,9)<F138,0,INDEX(Etager,7-F138,2))","v":0},{"$f":"IF(F138>INDEX(Hovedtal,B135,9),0,INDEX(Hovedtal,B135,6))","v":0},null,null,{"$f":"AJ138-AI138","v":1E-4},{"$f":"INDEX(Hovedtal,B135,9+F138)","v":0},{"$f":"L138","v":0},{"$f":"(AB138-AA138)*H138*G138*g_g*g_e","v":0},0,0,0,{"$f":"IF(AK138>0.5*(AI138+AJ138),AO138,AN138)","v":0},{"$f":"AL138+R138","v":0},{"$f":"IF(AK138<=0.5*(AI138+AJ138),IF(AK138>AI138+0.5*AL138/AM138,2*(AK138-AI138),S138/AM138),0)","v":1E-4},{"$f":"IF(AK138>0.5*(AI138+AJ138),IF(AK138<AJ138-0.5*AL138/AM138,2*(AJ138-AK138),S138/AM138),0)","v":0},{"$f":"IF(AK138>0.5*(AI138+AJ138),S138/U138,S138/T138)","v":0},{"$f":"INDEX(Hovedtal,B135,8)","v":0},{"$f":"IF(OR(V138>W138,ABS(M138)>0.5*S138),\"!\",\"\")","v":""},null,null,{"$f":"IF(G138=0,AA139,IF(I138=0,0,I138))","v":0},{"$f":"IF(G138=0,AB139,IF(J138=0,AB143,AB143-J138))","v":1E-4},{"$f":"IF(G138=0,0,AC143+AA138*AG143)","v":0},{"$f":"IF(G138=0,0,AD143+AA138*AH143)","v":0},{"$f":"IF(G138=0,0,AC143+AB138*AG143)","v":0},{"$f":"IF(G138=0,0,AD143+AB138*AH143)","v":0},null,null,{"$f":"MAX(AA138:AA139)","v":0},{"$f":"MIN(AB138:AB139)","v":1E-4},{"$f":"IF(G138=0,0.5*(AI138+AJ138),(M138*G138+AA138*P138+0.5*(AA138+AB138)*(N138+(AB138-AA138)*O138)+AB138*Q138)/AL138)","v":5.0000000000000002E-5},{"$f":"N138+O138*(AB138-AA138)+P138+Q138","v":0},{"$f":"IF(AK138<0.5*(AI138+AJ138),MAX(W138,8*AL138*(0.5*(AJ138+AI138)-AK138)/(AJ138-AI138)^2+0.1),MAX(W138,-8*AL138*(0.5*(AJ138+AI138)-AK138)/(AJ138-AI138)^2+0.1))","v":0.1},{"$f":"IF(AND(AK138<0.5*(AI138+AJ138),AL138/AM138>2*(AK138-AI138)),AM138*(-SQRT((AL138/AM138+0.5*AI138-0.5*AJ138)^2-2*(-AK138*AL138/AM138+0.5*AL138^2/AM138^2+AI138*AL138/AM138))-(AL138/AM138+0.5*AI138-0.5*AJ138)),0)","v":0},{"$f":"IF(AND(AK138>=0.5*(AI138+AJ138),AL138/AM138>2*(AJ138-AK138)),AM138*(-SQRT((AL138/AM138+0.5*AI138-0.5*AJ138)^2-2*(AK138*AL138/AM138+0.5*AL138^2/AM138^2-AJ138*AL138/AM138))-(AL138/AM138+0.5*AI138-0.5*AJ138)),0)","v":0},null,null,null,null,null,null,null,null,null,null,null,null,null,null,null,null,null,null,null,null,null,null,null,null,null,{"$f":"BL139","v":0},{"$f":"BR138+G138","v":0},{"$f":"BO138+G138","v":0},{"$f":"BK139","v":0},{"$f":"BO138","v":0},null,null,null,null,null,null,null,null,{"$f":"DA138-CZ138","v":0},{"$f":"INDEX(Hovedtal,BS135,9+BW138)","v":{"$error":"#VALUE!"}},{"$f":"CC138","v":{"$error":"#VALUE!"}},{"$f":"(CS138-CR138)*BY138*BX138*g_g*g_e","v":0},0,0,0]
[null,null,null,null,null,5,{"$f":"IF(INDEX(Hovedtal,B135,9)<F139,0,INDEX(Etager,7-F139,2))","v":0},{"$f":"IF(F139>INDEX(Hovedtal,B135,9),0,INDEX(Hovedtal,B135,6))","v":0},null,null,1E-4,{"$f":"INDEX(Hovedtal,B135,9+F139)","v":0},{"$f":"M138+L139","v":0},0,0,0,0,0,0,1E-4,0,0,{"$f":"INDEX(Hovedtal,B135,8)","v":0},"",null,null,{"$f":"IF(G139=0,AA140,IF(I139=0,0,I139))","v":0},{"$f":"IF(G139=0,AB140,IF(J139=0,AB143,AB143-J139))","v":1E-4},{"$f":"IF(G139=0,0,AC143+AA139*AG143)","v":0},{"$f":"IF(G139=0,0,AD143+AA139*AH143)","v":0},{"$f":"IF(G139=0,0,AC143+AB139*AG143)","v":0},{"$f":"IF(G139=0,0,AD143+AB139*AH143)","v":0},null,null,{"$f":"MAX(AA139:AA140)","v":0},{"$f":"MIN(AB139:AB140)","v":1E-4},{"$f":"IF(G139=0,0.5*(AI139+AJ139),(M139*G139+AA139*P139+0.5*(AA139+AB139)*(N139+(AB139-AA139)*O139)+AB139*Q139+AK138*AL138)/AL139)","v":5.0000000000000002E-5},{"$f":"AL138+N139+O139*(AB139-AA139)+P139+Q139","v":0},0.1,0,0,null,null,null,null,null,null,null,null,null,null,null,null,null,null,null,null,null,null,null,null,{"$f":"BG140","v":0},{"$f":"BM139+G139","v":0},{"$f":"BJ139+G139","v":0},{"$f":"BF140","v":0},{"$f":"BJ139","v":0},null,null,null,null,null,null,null,null,null,null,null,null,null,0,{"$f":"INDEX(Hovedtal,BS135,9+BW139)","v":{"$error":"#VALUE!"}},{"$f":"CD138+CC139","v":{"$error":"#VALUE!"}},0,0,0,0]
[null,null,null,null,null,4,{"$f":"IF(INDEX(Hovedtal,B135,9)<F140,0,INDEX(Etager,7-F140,2))","v":0},{"$f":"IF(F140>INDEX(Hovedtal,B135,9),0,INDEX(Hovedtal,B135,6))","v":0},null,null,1E-4,{"$f":"INDEX(Hovedtal,B135,9+F140)","v":0},{"$f":"M139+L140","v":0},0,0,0,0,0,0,1E-4,0,0,{"$f":"INDEX(Hovedtal,B135,8)","v":0},"",null,null,{"$f":"IF(G140=0,AA141,IF(I140=0,0,I140))","v":0},{"$f":"IF(G140=0,AB141,IF(J140=0,AB143,AB143-J140))","v":1E-4},{"$f":"IF(G140=0,0,AC143+AA140*AG143)","v":0},{"$f":"IF(G140=0,0,AD143+AA140*AH143)","v":0},{"$f":"IF(G140=0,0,AC143+AB140*AG143)","v":0},{"$f":"IF(G140=0,0,AD143+AB140*AH143)","v":0},null,null,{"$f":"MAX(AA140:AA141)","v":0},{"$f":"MIN(AB140:AB141)","v":1E-4},{"$f":"IF(G140=0,0.5*(AI140+AJ140),(M140*G140+AA140*P140+0.5*(AA140+AB140)*(N140+(AB140-AA140)*O140)+AB140*Q140+AK139*AL139)/AL140)","v":5.0000000000000002E-5},{"$f":"AL139+N140+O140*(AB140-AA140)+P140+Q140","v":0},0.1,0,0,null,null,null,null,null,null,null,null,null,null,null,null,null,null,null,{"$f":"BB141","v":0},{"$f":"BH140+G140","v":0},{"$f":"BE140+G140","v":0},{"$f":"BA141","v":0},{"$f":"BE140","v":0},null,null,null,null,null,null,null,null,null,null,null,null,null,null,null,null,null,null,0,{"$f":"INDEX(Hovedtal,BS135,9+BW140)","v":{"$error":"#VALUE!"}},{"$f":"CD139+CC140","v":{"$error":"#VALUE!"}},0,0,0,0]
[null,null,null,null,null,3,{"$f":"IF(INDEX(Hovedtal,B135,9)<F141,0,INDEX(Etager,7-F141,2))","v":0},{"$f":"IF(F141>INDEX(Hovedtal,B135,9),0,INDEX(Hovedtal,B135,6))","v":0},null,null,1E-4,{"$f":"INDEX(Hovedtal,B135,9+F141)","v":0},{"$f":"M140+L141","v":0},0,0,0,0,0,0,1E-4,0,0,{"$f":"INDEX(Hovedtal,B135,8)","v":0},"",null,null,{"$f":"IF(G141=0,AA142,IF(I141=0,0,I141))","v":0},{"$f":"IF(G141=0,AB142,IF(J141=0,AB143,AB143-J141))","v":1E-4},{"$f":"IF(G141=0,0,AC143+AA141*AG143)","v":0},{"$f":"IF(G141=0,0,AD143+AA141*AH143)","v":0},{"$f":"IF(G141=0,0,AC143+AB141*AG143)","v":0},{"$f":"IF(G141=0,0,AD143+AB141*AH143)","v":0},null,null,{"$f":"MAX(AA141:AA142)","v":0},{"$f":"MIN(AB141:AB142)","v":1E-4},{"$f":"IF(G141=0,0.5*(AI141+AJ141),(M141*G141+AA141*P141+0.5*(AA141+AB141)*(N141+(AB141-AA141)*O141)+AB141*Q141+AK140*AL140)/AL141)","v":5.0000000000000002E-5},{"$f":"AL140+N141+O141*(AB141-AA141)+P141+Q141","v":0},0.1,0,0,null,null,null,null,null,null,null,null,null,null,{"$f":"AW142","v":0},{"$f":"BC141+G141","v":0},{"$f":"AZ141+G141","v":0},{"$f":"AV142","v":0},{"$f":"AZ141","v":0},null,null,null,null,null,null,null,null,null,null,null,null,null,null,null,null,null,null,null,null,null,null,null,0,{"$f":"INDEX(Hovedtal,BS135,9+BW141)","v":{"$error":"#VALUE!"}},{"$f":"CD140+CC141","v":{"$error":"#VALUE!"}},0,0,0,0]
[null,null,null,null,null,2,{"$f":"IF(INDEX(Hovedtal,B135,9)<F142,0,INDEX(Etager,7-F142,2))","v":0},{"$f":"IF(F142>INDEX(Hovedtal,B135,9),0,INDEX(Hovedtal,B135,6))","v":0},null,null,1E-4,{"$f":"INDEX(Hovedtal,B135,9+F142)","v":0},{"$f":"M141+L142","v":0},0,0,0,0,0,0,1E-4,0,0,{"$f":"INDEX(Hovedtal,B135,8)","v":0},"",null,null,{"$f":"IF(G142=0,AA143,IF(I142=0,0,I142))","v":0},{"$f":"IF(G142=0,AB143,IF(J142=0,AB143,AB143-J142))","v":1E-4},{"$f":"IF(G142=0,0,AC143+AA142*AG143)","v":0},{"$f":"IF(G142=0,0,AD143+AA142*AH143)","v":0},{"$f":"IF(G142=0,0,AC143+AB142*AG143)","v":0},{"$f":"IF(G142=0,0,AD143+AB142*AH143)","v":0},null,null,{"$f":"MAX(AA142:AA143)","v":0},{"$f":"MIN(AB142:AB143)","v":1E-4},{"$f":"IF(G142=0,0.5*(AI142+AJ142),(M142*G142+AA142*P142+0.5*(AA142+AB142)*(N142+(AB142-AA142)*O142)+AB142*Q142+AK141*AL141)/AL142)","v":5.0000000000000002E-5},{"$f":"AL141+N142+O142*(AB142-AA142)+P142+Q142","v":0},0.1,0,0,null,null,null,null,null,{"$f":"AR143","v":0},{"$f":"AX142+G142","v":0},{"$f":"AU142+G142","v":0},{"$f":"AQ143","v":0},{"$f":"AU142","v":0},null,null,null,null,null,null,null,null,null,null,null,null,null,null,null,null,null,null,null,null,null,null,null,null,null,null,null,null,0,{"$f":"INDEX(Hovedtal,BS135,9+BW142)","v":{"$error":"#VALUE!"}},{"$f":"CD141+CC142","v":{"$error":"#VALUE!"}},0,0,0,0]
[null,null,null,null,null,1,{"$f":"IF(INDEX(Hovedtal,B135,9)<F143,0,INDEX(Etager,7-F143,2))","v":0},{"$f":"IF(F143>INDEX(Hovedtal,B135,9),0,INDEX(Hovedtal,B135,6))","v":0},null,null,1E-4,{"$f":"INDEX(Hovedtal,B135,9+F143)","v":0},{"$f":"M142+L143","v":0},0,0,0,0,0,0,1E-4,0,0,{"$f":"INDEX(Hovedtal,B135,8)","v":0},"",null,null,0,{"$f":"SQRT((AE143-AC143)^2+(AF143-AD143)^2)+0.0001","v":1E-4},{"$f":"INDEX(Hovedtal,B135,2)","v":0},{"$f":"INDEX(Hovedtal,B135,3)","v":0},{"$f":"INDEX(Hovedtal,B135,4)","v":0},{"$f":"INDEX(Hovedtal,B135,5)","v":0},{"$f":"(AE143-AC143)/AB143","v":0},{"$f":"(AF143-AD143)/AB143","v":0},{"$f":"AA143","v":0},{"$f":"AB143","v":1E-4},{"$f":"IF(G143=0,0.5*(AI143+AJ143),(M143*G143+AA143*P143+0.5*(AA143+AB143)*(N143+(AB143-AA143)*O143)+AB143*Q143+AK142*AL142)/AL143)","v":5.0000000000000002E-5},{"$f":"AL142+N143+O143*(AB143-AA143)+P143+Q143","v":0},0.1,0,0,0,{"$f":"G143","v":0},{"$f":"G143","v":0},0,{"$f":"AP143","v":0},null,null,null,null,null,null,null,null,null,null,null,null,null,null,null,null,null,null,null,null,null,null,null,null,null,null,null,null,null,null,null,null,null,0,{"$f":"INDEX(Hovedtal,BS135,9+BW143)","v":{"$error":"#VALUE!"}},{"$f":"CD142+CC143","v":{"$error":"#VALUE!"}},0,0,0,0]
["*",null,null,null,null,null,null,null,null,null,null,null,null,null,null,null,null,null,null,null,null,null,null,null,null,null,null,null,null,null,null,null,null,null,null,null,null,null,null,null,null,null,null,null,null,null,null,null,null,null,null,null,null,null,null,null,null,null,null,null,null,null,null,null,null,null,null,null,null,null,null,{"$f":"MAX(AP136:BS143)+0.5","v":0.50009999999999999}]
[]
[null,"Væg",null,null,null,"Etage","h","t","r_1","r_2","L_eff","V_i","Q","G","p","P1","P2","T","N","b_1","b_2","n","n_max",null,null,null,"Etager:",6,null,null,null,null,null,null,null,null,null,null,null,null,null,"Hjørnepunkter i vægopstalt",null,null,null,null,null,null,null,null,null,null,null,null,null,null,null,null,null,null,null,null,null,null,null,null,null,null,null,null,null,null,null,null,null,null,null,"r_1","r_2","L_eff","V_i","Q","G","p","P1","P2"]
[null,{"$f":"B135+1","v":11},null,null,null,null,"(m)","(m)","(m)","(m)","(m)","(kN)","(kN)","(kN)","(kN/m)","(kN)","(kN)","(kN)","(kN)","(m)","(m)","(kN/m)","(kN/m)",null,null,null,null,null,null,null,null,null,null,null,null,null,null,null,null,null,null,null,null,null,null,null,null,null,null,null,null,null,null,null,null,null,null,null,null,null,null,null,null,null,null,null,null,null,null,null,null,null,null,null,null,null,null,"(m)","(m)","(m)","(kN)","(kN)","(kN)","(kN/m)","(kN)","(kN)"]
[null,null,null,null,null,null,null,null,null,null,null,null,null,null,null,null,null,null,null,null,null,null,null,null,null,null,"s_1","s_2","x_1","y_1","x_2","y_2","cos(a)","sin(a)","s_1_e","s_2_e","s_N","N_0","n","T_1","T_2",0,0,{"$f":"AB155","v":1E-4},{"$f":"AB155","v":1E-4},{"$f":"AP148","v":0},{"$f":"AA154","v":0},{"$f":"AA154","v":0},{"$f":"AB154","v":1E-4},{"$f":"AB154","v":1E-4},{"$f":"AU148","v":0},{"$f":"AA153","v":0},{"$f":"AA153","v":0},{"$f":"AB153","v":1E-4},{"$f":"AB153","v":1E-4},{"$f":"AZ148","v":0},{"$f":"AA152","v":0},{"$f":"AA152","v":0},{"$f":"AB152","v":1E-4},{"$f":"AB152","v":1E-4},{"$f":"BE148","v":0},{"$f":"AA151","v":0},{"$f":"AA151","v":0},{"$f":"AB151","v":1E-4},{"$f":"AB151","v":1E-4},{"$f":"BJ148","v":0},{"$f":"AA150","v":0},{"$f":"AA150","v":0},{"$f":"AB150","v":1E-4},{"$f":"AB150","v":1E-4},{"$f":"BO148","v":0},{"$f":"BT156","v":0.50009999999999999}]
[]
[null,null,null,null,null,6,{"$f":"IF(INDEX(Hovedtal,B147,9)<F150,0,INDEX(Etager,7-F150,2))","v":0},{"$f":"IF(F150>INDEX(Hovedtal,B147,9),0,INDEX(Hovedtal,B147,6))","v":0},0,0,{"$f":"AJ150-AI150","v":1E-4},{"$f":"INDEX(Hovedtal,B147,9+F150)","v":0},{"$f":"L150","v":0},{"$f":"(AB150-AA150)*H150*G150*g_g*g_e","v":0},0,0,0,{"$f":"IF(AK150>0.5*(AI150+AJ150),AO150,AN150)","v":0},{"$f":"AL150+R150","v":0},{"$f":"IF(AK150<=0.5*(AI150+AJ150),IF(AK150>AI150+0.5*AL150/AM150,2*(AK150-AI150),S150/AM150),0)","v":1E-4},{"$f":"IF(AK150>0.5*(AI150+AJ150),IF(AK150<AJ150-0.5*AL150/AM150,2*(AJ150-AK150),S150/AM150),0)","v":0},{"$f":"IF(AK150>0.5*(AI150+AJ150),S150/U150,S150/T150)","v":0},{"$f":"INDEX(Hovedtal,B147,8)","v":0},{"$f":"IF(OR(V150>W150,ABS(M150)>0.5*S150),\"!\",\"\")","v":""},null,null,{"$f":"IF(G150=0,AA151,IF(I150=0,0,I150))","v":0},{"$f":"IF(G150=0,AB151,IF(J150=0,AB155,AB155-J150))","v":1E-4},{"$f":"IF(G150=0,0,AC155+AA150*AG155)","v":0},{"$f":"IF(G150=0,0,AD155+AA150*AH155)","v":0},{"$f":"IF(G150=0,0,AC155+AB150*AG155)","v":0},{"$f":"IF(G150=0,0,AD155+AB150*AH155)","v":0},null,null,{"$f":"MAX(AA150:AA151)","v":0},{"$f":"MIN(AB150:AB151)","v":1E-4},{"$f":"IF(G150=0,0.5*(AI150+AJ150),(M150*G150+AA150*P150+0.5*(AA150+AB150)*(N150+(AB150-AA150)*O150)+AB150*Q150)/AL150)","v":5.0000000000000002E-5},{"$f":"N150+O150*(AB150-AA150)+P150+Q150","v":0},{"$f":"IF(AK150<0.5*(AI150+AJ150),MAX(W150,8*AL150*(0.5*(AJ150+AI150)-AK150)/(AJ150-AI150)^2+0.1),MAX(W150,-8*AL150*(0.5*(AJ150+AI150)-AK150)/(AJ150-AI150)^2+0.1))","v":0.1},{"$f":"IF(AND(AK150<0.5*(AI150+AJ150),AL150/AM150>2*(AK150-AI150)),AM150*(-SQRT((AL150/AM150+0.5*AI150-0.5*AJ150)^2-2*(-AK150*AL150/AM150+0.5*AL150^2/AM150^2+AI150*AL150/AM150))-(AL150/AM150+0.5*AI150-0.5*AJ150)),0)","v":0},{"$f":"IF(AND(AK150>=0.5*(AI150+AJ150),AL150/AM150>2*(AJ150-AK150)),AM150*(-SQRT((AL150/AM150+0.5*AI150-0.5*AJ150)^2-2*(AK150*AL150/AM150+0.5*AL150^2/AM150^2-AJ150*AL150/AM150))-(AL150/AM150+0.5*AI150-0.5*AJ150)),0)","v":0},null,null,null,null,null,null,null,null,null,null,null,null,null,null,null,null,null,null,null,null,null,null,null,null,null,{"$f":"BL151","v":0},{"$f":"BR150+G150","v":0},{"$f":"BO150+G150","v":0},{"$f":"BK151","v":0},{"$f":"BO150","v":0},null,null,null,null,null,null,0,0,{"$f":"DA150-CZ150","v":0},{"$f":"INDEX(Hovedtal,BS147,9+BW150)","v":{"$error":"#VALUE!"}},{"$f":"CC150","v":{"$error":"#VALUE!"}},{"$f":"(CS150-CR150)*BY150*BX150*g_g*g_e","v":0},0,0,0]
[null,null,null,null,null,5,{"$f":"IF(INDEX(Hovedtal,B147,9)<F151,0,INDEX(Etager,7-F151,2))","v":0},{"$f":"IF(F151>INDEX(Hovedtal,B147,9),0,INDEX(Hovedtal,B147,6))","v":0},0,0,1E-4,{"$f":"INDEX(Hovedtal,B147,9+F151)","v":0},{"$f":"M150+L151","v":0},0,0,0,0,0,0,1E-4,0,0,{"$f":"INDEX(Hovedtal,B147,8)","v":0},"",null,null,{"$f":"IF(G151=0,AA152,IF(I151=0,0,I151))","v":0},{"$f":"IF(G151=0,AB152,IF(J151=0,AB155,AB155-J151))","v":1E-4},{"$f":"IF(G151=0,0,AC155+AA151*AG155)","v":0},{"$f":"IF(G151=0,0,AD155+AA151*AH155)","v":0},{"$f":"IF(G151=0,0,AC155+AB151*AG155)","v":0},{"$f":"IF(G151=0,0,AD155+AB151*AH155)","v":0},null,null,{"$f":"MAX(AA151:AA152)","v":0},{"$f":"MIN(AB151:AB152)","v":1E-4},{"$f":"IF(G151=0,0.5*(AI151+AJ151),(M151*G151+AA151*P151+0.5*(AA151+AB151)*(N151+(AB151-AA151)*O151)+AB151*Q151+AK150*AL150)/AL151)","v":5.0000000000000002E-5},{"$f":"AL150+N151+O151*(AB151-AA151)+P151+Q151","v":0},0.1,0,0,null,null,null,null,null,null,null,null,null,null,null,null,null,null,null,null,null,null,null,null,{"$f":"BG152","v":0},{"$f":"BM151+G151","v":0},{"$f":"BJ151+G151","v":0},{"$f":"BF152","v":0},{"$f":"BJ151","v":0},null,null,null,null,null,null,null,null,null,null,null,0,0,0,{"$f":"INDEX(Hovedtal,BS147,9+BW151)","v":{"$error":"#VALUE!"}},{"$f":"CD150+CC151","v":{"$error":"#VALUE!"}},0,0,0,0]
[null,null,null,null,null,4,{"$f":"IF(INDEX(Hovedtal,B147,9)<F152,0,INDEX(Etager,7-F152,2))","v":0},{"$f":"IF(F152>INDEX(Hovedtal,B147,9),0,INDEX(Hovedtal,B147,6))","v":0},0,null,1E-4,{"$f":"INDEX(Hovedtal,B147,9+F152)","v":0},{"$f":"M151+L152","v":0},0,0,0,0,0,0,1E-4,0,0,{"$f":"INDEX(Hovedtal,B147,8)","v":0},"",null,null,{"$f":"IF(G152=0,AA153,IF(I152=0,0,I152))","v":0},{"$f":"IF(G152=0,AB153,IF(J152=0,AB155,AB155-J152))","v":1E-4},{"$f":"IF(G152=0,0,AC155+AA152*AG155)","v":0},{"$f":"IF(G152=0,0,AD155+AA152*AH155)","v":0},{"$f":"IF(G152=0,0,AC155+AB152*AG155)","v":0},{"$f":"IF(G152=0,0,AD155+AB152*AH155)","v":0},null,null,{"$f":"MAX(AA152:AA153)","v":0},{"$f":"MIN(AB152:AB153)","v":1E-4},{"$f":"IF(G152=0,0.5*(AI152+AJ152),(M152*G152+AA152*P152+0.5*(AA152+AB152)*(N152+(AB152-AA152)*O152)+AB152*Q152+AK151*AL151)/AL152)","v":5.0000000000000002E-5},{"$f":"AL151+N152+O152*(AB152-AA152)+P152+Q152","v":0},0.1,0,0,null,null,null,null,null,null,null,null,null,null,null,null,null,null,null,{"$f":"BB153","v":0},{"$f":"BH152+G152","v":0},{"$f":"BE152+G152","v":0},{"$f":"BA153","v":0},{"$f":"BE152","v":0},null,null,null,null,null,null,null,null,null,null,null,null,null,null,null,null,0,null,0,{"$f":"INDEX(Hovedtal,BS147,9+BW152)","v":{"$error":"#VALUE!"}},{"$f":"CD151+CC152","v":{"$error":"#VALUE!"}},0,0,0,0]
[null,null,null,null,null,3,{"$f":"IF(INDEX(Hovedtal,B147,9)<F153,0,INDEX(Etager,7-F153,2))","v":0},{"$f":"IF(F153>INDEX(Hovedtal,B147,9),0,INDEX(Hovedtal,B147,6))","v":0},0,null,1E-4,{"$f":"INDEX(Hovedtal,B147,9+F153)","v":0},{"$f":"M152+L153","v":0},0,0,0,0,0,0,1E-4,0,0,{"$f":"INDEX(Hovedtal,B147,8)","v":0},"",null,null,{"$f":"IF(G153=0,AA154,IF(I153=0,0,I153))","v":0},{"$f":"IF(G153=0,AB154,IF(J153=0,AB155,AB155-J153))","v":1E-4},{"$f":"IF(G153=0,0,AC155+AA153*AG155)","v":0},{"$f":"IF(G153=0,0,AD155+AA153*AH155)","v":0},{"$f":"IF(G153=0,0,AC155+AB153*AG155)","v":0},{"$f":"IF(G153=0,0,AD155+AB153*AH155)","v":0},null,null,{"$f":"MAX(AA153:AA154)","v":0},{"$f":"MIN(AB153:AB154)","v":1E-4},{"$f":"IF(G153=0,0.5*(AI153+AJ153),(M153*G153+AA153*P153+0.5*(AA153+AB153)*(N153+(AB153-AA153)*O153)+AB153*Q153+AK152*AL152)/AL153)","v":5.0000000000000002E-5},{"$f":"AL152+N153+O153*(AB153-AA153)+P153+Q153","v":0},0.1,0,0,null,null,null,null,null,null,null,null,null,null,{"$f":"AW154","v":0},{"$f":"BC153+G153","v":0},{"$f":"AZ153+G153","v":0},{"$f":"AV154","v":0},{"$f":"AZ153","v":0},null,null,null,null,null,null,null,null,null,null,null,null,null,null,null,null,null,null,null,null,null,0,null,0,{"$f":"INDEX(Hovedtal,BS147,9+BW153)","v":{"$error":"#VALUE!"}},{"$f":"CD152+CC153","v":{"$error":"#VALUE!"}},0,0,0,0]
[null,null,null,null,null,2,{"$f":"IF(INDEX(Hovedtal,B147,9)<F154,0,INDEX(Etager,7-F154,2))","v":0},{"$f":"IF(F154>INDEX(Hovedtal,B147,9),0,INDEX(Hovedtal,B147,6))","v":0},0,null,1E-4,{"$f":"INDEX(Hovedtal,B147,9+F154)","v":0},{"$f":"M153+L154","v":0},0,0,0,0,0,0,1E-4,0,0,{"$f":"INDEX(Hovedtal,B147,8)","v":0},"",null,null,{"$f":"IF(G154=0,AA155,IF(I154=0,0,I154))","v":0},{"$f":"IF(G154=0,AB155,IF(J154=0,AB155,AB155-J154))","v":1E-4},{"$f":"IF(G154=0,0,AC155+AA154*AG155)","v":0},{"$f":"IF(G154=0,0,AD155+AA154*AH155)","v":0},{"$f":"IF(G154=0,0,AC155+AB154*AG155)","v":0},{"$f":"IF(G154=0,0,AD155+AB154*AH155)","v":0},null,null,{"$f":"MAX(AA154:AA155)","v":0},{"$f":"MIN(AB154:AB155)","v":1E-4},{"$f":"IF(G154=0,0.5*(AI154+AJ154),(M154*G154+AA154*P154+0.5*(AA154+AB154)*(N154+(AB154-AA154)*O154)+AB154*Q154+AK153*AL153)/AL154)","v":5.0000000000000002E-5},{"$f":"AL153+N154+O154*(AB154-AA154)+P154+Q154","v":0},0.1,0,0,null,null,null,null,null,{"$f":"AR155","v":0},{"$f":"AX154+G154","v":0},{"$f":"AU154+G154","v":0},{"$f":"AQ155","v":0},{"$f":"AU154","v":0},null,null,null,null,null,null,null,null,null,null,null,null,null,null,null,null,null,null,null,null,null,null,null,null,null,null,0,null,0,{"$f":"INDEX(Hovedtal,BS147,9+BW154)","v":{"$error":"#VALUE!"}},{"$f":"CD153+CC154","v":{"$error":"#VALUE!"}},0,0,0,0]
[null,null,null,null,null,1,{"$f":"IF(INDEX(Hovedtal,B147,9)<F155,0,INDEX(Etager,7-F155,2))","v":0},{"$f":"IF(F155>INDEX(Hovedtal,B147,9),0,INDEX(Hovedtal,B147,6))","v":0},null,null,1E-4,{"$f":"INDEX(Hovedtal,B147,9+F155)","v":0},{"$f":"M154+L155","v":0},0,0,0,0,0,0,1E-4,0,0,{"$f":"INDEX(Hovedtal,B147,8)","v":0},"",null,null,0,{"$f":"SQRT((AE155-AC155)^2+(AF155-AD155)^2)+0.0001","v":1E-4},{"$f":"INDEX(Hovedtal,B147,2)","v":0},{"$f":"INDEX(Hovedtal,B147,3)","v":0},{"$f":"INDEX(Hovedtal,B147,4)","v":0},{"$f":"INDEX(Hovedtal,B147,5)","v":0},{"$f":"(AE155-AC155)/AB155","v":0},{"$f":"(AF155-AD155)/AB155","v":0},{"$f":"AA155","v":0},{"$f":"AB155","v":1E-4},{"$f":"IF(G155=0,0.5*(AI155+AJ155),(M155*G155+AA155*P155+0.5*(AA155+AB155)*(N155+(AB155-AA155)*O155)+AB155*Q155+AK154*AL154)/AL155)","v":5.0000000000000002E-5},{"$f":"AL154+N155+O155*(AB155-AA155)+P155+Q155","v":0},0.1,0,0,0,{"$f":"G155","v":0},{"$f":"G155","v":0},0,{"$f":"AP155","v":0},null,null,null,null,null,null,null,null,null,null,null,null,null,null,null,null,null,null,null,null,null,null,null,null,null,null,null,null,null,null,null,null,null,0,{"$f":"INDEX(Hovedtal,BS147,9+BW155)","v":{"$error":"#VALUE!"}},{"$f":"CD154+CC155","v":{"$error":"#VALUE!"}},0,0,0,0]
["*",null,null,null,null,null,null,null,null,null,null,null,null,null,null,null,null,null,null,null,null,null,null,null,null,null,null,null,null,null,null,null,null,null,null,null,null,null,null,null,null,null,null,null,null,null,null,null,null,null,null,null,null,null,null,null,null,null,null,null,null,null,null,null,null,null,null,null,null,null,null,{"$f":"MAX(AP148:BS155)+0.5","v":0.50009999999999999}]
[]
[null,"Væg",null,null,null,"Etage","h","t","r_1","r_2","L_eff","V_i","Q","G","p","P1","P2","T","N","b_1","b_2","n","n_max",null,null,null,"Etager:",6,null,null,null,null,null,null,null,null,null,null,null,null,null,"Hjørnepunkter i vægopstalt",null,null,null,null,null,null,null,null,null,null,null,null,null,null,null,null,null,null,null,null,null,null,null,null,null,null,null,null,null,null,null,null,null,null,null,"r_1","r_2","L_eff","V_i","Q","G","p","P1","P2"]
[null,{"$f":"B147+1","v":12},null,null,null,null,"(m)","(m)","(m)","(m)","(m)","(kN)","(kN)","(kN)","(kN/m)","(kN)","(kN)","(kN)","(kN)","(m)","(m)","(kN/m)","(kN/m)",null,null,null,null,null,null,null,null,null,null,null,null,null,null,null,null,null,null,null,null,null,null,null,null,null,null,null,null,null,null,null,null,null,null,null,null,null,null,null,null,null,null,null,null,null,null,null,null,null,null,null,null,null,null,"(m)","(m)","(m)","(kN)","(kN)","(kN)","(kN/m)","(kN)","(kN)"]
[null,null,null,null,null,null,null,null,null,null,null,null,null,null,null,null,null,null,null,null,null,null,null,null,null,null,"s_1","s_2","x_1","y_1","x_2","y_2","cos(a)","sin(a)","s_1_e","s_2_e","s_N","N_0","n","T_1","T_2",0,0,{"$f":"AB167","v":1E-4},{"$f":"AB167","v":1E-4},{"$f":"AP160","v":0},{"$f":"AA166","v":0},{"$f":"AA166","v":0},{"$f":"AB166","v":1E-4},{"$f":"AB166","v":1E-4},{"$f":"AU160","v":0},{"$f":"AA165","v":0},{"$f":"AA165","v":0},{"$f":"AB165","v":1E-4},{"$f":"AB165","v":1E-4},{"$f":"AZ160","v":0},{"$f":"AA164","v":0},{"$f":"AA164","v":0},{"$f":"AB164","v":1E-4},{"$f":"AB164","v":1E-4},{"$f":"BE160","v":0},{"$f":"AA163","v":0},{"$f":"AA163","v":0},{"$f":"AB163","v":1E-4},{"$f":"AB163","v":1E-4},{"$f":"BJ160","v":0},{"$f":"AA162","v":0},{"$f":"AA162","v":0},{"$f":"AB162","v":1E-4},{"$f":"AB162","v":1E-4},{"$f":"BO160","v":0},{"$f":"BT168","v":0.50009999999999999}]
[]
[null,null,null,null,null,6,{"$f":"IF(INDEX(Hovedtal,B159,9)<F162,0,INDEX(Etager,7-F162,2))","v":0},{"$f":"IF(F162>INDEX(Hovedtal,B159,9),0,INDEX(Hovedtal,B159,6))","v":0},0,0,{"$f":"AJ162-AI162","v":1E-4},{"$f":"INDEX(Hovedtal,B159,9+F162)","v":0},{"$f":"L162","v":0},{"$f":"(AB162-AA162)*H162*G162*g_g*g_e","v":0},0,0,0,{"$f":"IF(AK162>0.5*(AI162+AJ162),AO162,AN162)","v":0},{"$f":"AL162+R162","v":0},{"$f":"IF(AK162<=0.5*(AI162+AJ162),IF(AK162>AI162+0.5*AL162/AM162,2*(AK162-AI162),S162/AM162),0)","v":1E-4},{"$f":"IF(AK162>0.5*(AI162+AJ162),IF(AK162<AJ162-0.5*AL162/AM162,2*(AJ162-AK162),S162/AM162),0)","v":0},{"$f":"IF(AK162>0.5*(AI162+AJ162),S162/U162,S162/T162)","v":0},{"$f":"INDEX(Hovedtal,B159,8)","v":0},{"$f":"IF(OR(V162>W162,ABS(M162)>0.5*S162),\"!\",\"\")","v":""},null,null,{"$f":"IF(G162=0,AA163,IF(I162=0,0,I162))","v":0},{"$f":"IF(G162=0,AB163,IF(J162=0,AB167,AB167-J162))","v":1E-4},{"$f":"IF(G162=0,0,AC167+AA162*AG167)","v":0},{"$f":"IF(G162=0,0,AD167+AA162*AH167)","v":0},{"$f":"IF(G162=0,0,AC167+AB162*AG167)","v":0},{"$f":"IF(G162=0,0,AD167+AB162*AH167)","v":0},null,null,{"$f":"MAX(AA162:AA163)","v":0},{"$f":"MIN(AB162:AB163)","v":1E-4},{"$f":"IF(G162=0,0.5*(AI162+AJ162),(M162*G162+AA162*P162+0.5*(AA162+AB162)*(N162+(AB162-AA162)*O162)+AB162*Q162)/AL162)","v":5.0000000000000002E-5},{"$f":"N162+O162*(AB162-AA162)+P162+Q162","v":0},{"$f":"IF(AK162<0.5*(AI162+AJ162),MAX(W162,8*AL162*(0.5*(AJ162+AI162)-AK162)/(AJ162-AI162)^2+0.1),MAX(W162,-8*AL162*(0.5*(AJ162+AI162)-AK162)/(AJ162-AI162)^2+0.1))","v":0.1},{"$f":"IF(AND(AK162<0.5*(AI162+AJ162),AL162/AM162>2*(AK162-AI162)),AM162*(-SQRT((AL162/AM162+0.5*AI162-0.5*AJ162)^2-2*(-AK162*AL162/AM162+0.5*AL162^2/AM162^2+AI162*AL162/AM162))-(AL162/AM162+0.5*AI162-0.5*AJ162)),0)","v":0},{"$f":"IF(AND(AK162>=0.5*(AI162+AJ162),AL162/AM162>2*(AJ162-AK162)),AM162*(-SQRT((AL162/AM162+0.5*AI162-0.5*AJ162)^2-2*(AK162*AL162/AM162+0.5*AL162^2/AM162^2-AJ162*AL162/AM162))-(AL162/AM162+0.5*AI162-0.5*AJ162)),0)","v":0},null,null,null,null,null,null,null,null,null,null,null,null,null,null,null,null,null,null,null,null,null,null,null,null,null,{"$f":"BL163","v":0},{"$f":"BR162+G162","v":0},{"$f":"BO162+G162","v":0},{"$f":"BK163","v":0},{"$f":"BO162","v":0},null,null,null,null,null,null,0,0,{"$f":"DA162-CZ162","v":0},{"$f":"INDEX(Hovedtal,BS159,9+BW162)","v":{"$error":"#VALUE!"}},{"$f":"CC162","v":{"$error":"#VALUE!"}},{"$f":"(CS162-CR162)*BY162*BX162*g_g*g_e","v":0},0,0,0]
[null,null,null,null,null,5,{"$f":"IF(INDEX(Hovedtal,B159,9)<F163,0,INDEX(Etager,7-F163,2))","v":0},{"$f":"IF(F163>INDEX(Hovedtal,B159,9),0,INDEX(Hovedtal,B159,6))","v":0},0,0,1E-4,{"$f":"INDEX(Hovedtal,B159,9+F163)","v":0},{"$f":"M162+L163","v":0},0,0,0,0,0,0,1E-4,0,0,{"$f":"INDEX(Hovedtal,B159,8)","v":0},"",null,null,{"$f":"IF(G163=0,AA164,IF(I163=0,0,I163))","v":0},{"$f":"IF(G163=0,AB164,IF(J163=0,AB167,AB167-J163))","v":1E-4},{"$f":"IF(G163=0,0,AC167+AA163*AG167)","v":0},{"$f":"IF(G163=0,0,AD167+AA163*AH167)","v":0},{"$f":"IF(G163=0,0,AC167+AB163*AG167)","v":0},{"$f":"IF(G163=0,0,AD167+AB163*AH167)","v":0},null,null,{"$f":"MAX(AA163:AA164)","v":0},{"$f":"MIN(AB163:AB164)","v":1E-4},{"$f":"IF(G163=0,0.5*(AI163+AJ163),(M163*G163+AA163*P163+0.5*(AA163+AB163)*(N163+(AB163-AA163)*O163)+AB163*Q163+AK162*AL162)/AL163)","v":5.0000000000000002E-5},{"$f":"AL162+N163+O163*(AB163-AA163)+P163+Q163","v":0},0.1,0,0,null,null,null,null,null,null,null,null,null,null,null,null,null,null,null,null,null,null,null,null,{"$f":"BG164","v":0},{"$f":"BM163+G163","v":0},{"$f":"BJ163+G163","v":0},{"$f":"BF164","v":0},{"$f":"BJ163","v":0},null,null,null,null,null,null,null,null,null,null,null,0,0,0,{"$f":"INDEX(Hovedtal,BS159,9+BW163)","v":{"$error":"#VALUE!"}},{"$f":"CD162+CC163","v":{"$error":"#VALUE!"}},0,0,0,0]
[null,null,null,null,null,4,{"$f":"IF(INDEX(Hovedtal,B159,9)<F164,0,INDEX(Etager,7-F164,2))","v":0},{"$f":"IF(F164>INDEX(Hovedtal,B159,9),0,INDEX(Hovedtal,B159,6))","v":0},0,0,1E-4,{"$f":"INDEX(Hovedtal,B159,9+F164)","v":0},{"$f":"M163+L164","v":0},0,0,0,0,0,0,1E-4,0,0,{"$f":"INDEX(Hovedtal,B159,8)","v":0},"",null,null,{"$f":"IF(G164=0,AA165,IF(I164=0,0,I164))","v":0},{"$f":"IF(G164=0,AB165,IF(J164=0,AB167,AB167-J164))","v":1E-4},{"$f":"IF(G164=0,0,AC167+AA164*AG167)","v":0},{"$f":"IF(G164=0,0,AD167+AA164*AH167)","v":0},{"$f":"IF(G164=0,0,AC167+AB164*AG167)","v":0},{"$f":"IF(G164=0,0,AD167+AB164*AH167)","v":0},null,null,{"$f":"MAX(AA164:AA165)","v":0},{"$f":"MIN(AB164:AB165)","v":1E-4},{"$f":"IF(G164=0,0.5*(AI164+AJ164),(M164*G164+AA164*P164+0.5*(AA164+AB164)*(N164+(AB164-AA164)*O164)+AB164*Q164+AK163*AL163)/AL164)","v":5.0000000000000002E-5},{"$f":"AL163+N164+O164*(AB164-AA164)+P164+Q164","v":0},0.1,0,0,null,null,null,null,null,null,null,null,null,null,null,null,null,null,null,{"$f":"BB165","v":0},{"$f":"BH164+G164","v":0},{"$f":"BE164+G164","v":0},{"$f":"BA165","v":0},{"$f":"BE164","v":0},null,null,null,null,null,null,null,null,null,null,null,null,null,null,null,null,0,0,0,{"$f":"INDEX(Hovedtal,BS159,9+BW164)","v":{"$error":"#VALUE!"}},{"$f":"CD163+CC164","v":{"$error":"#VALUE!"}},0,0,0,0]
[null,null,null,null,null,3,{"$f":"IF(INDEX(Hovedtal,B159,9)<F165,0,INDEX(Etager,7-F165,2))","v":0},{"$f":"IF(F165>INDEX(Hovedtal,B159,9),0,INDEX(Hovedtal,B159,6))","v":0},0,0,1E-4,{"$f":"INDEX(Hovedtal,B159,9+F165)","v":0},{"$f":"M164+L165","v":0},0,0,0,0,0,0,1E-4,0,0,{"$f":"INDEX(Hovedtal,B159,8)","v":0},"",null,null,{"$f":"IF(G165=0,AA166,IF(I165=0,0,I165))","v":0},{"$f":"IF(G165=0,AB166,IF(J165=0,AB167,AB167-J165))","v":1E-4},{"$f":"IF(G165=0,0,AC167+AA165*AG167)","v":0},{"$f":"IF(G165=0,0,AD167+AA165*AH167)","v":0},{"$f":"IF(G165=0,0,AC167+AB165*AG167)","v":0},{"$f":"IF(G165=0,0,AD167+AB165*AH167)","v":0},null,null,{"$f":"MAX(AA165:AA166)","v":0},{"$f":"MIN(AB165:AB166)","v":1E-4},{"$f":"IF(G165=0,0.5*(AI165+AJ165),(M165*G165+AA165*P165+0.5*(AA165+AB165)*(N165+(AB165-AA165)*O165)+AB165*Q165+AK164*AL164)/AL165)","v":5.0000000000000002E-5},{"$f":"AL164+N165+O165*(AB165-AA165)+P165+Q165","v":0},0.1,0,0,null,null,null,null,null,null,null,null,null,null,{"$f":"AW166","v":0},{"$f":"BC165+G165","v":0},{"$f":"AZ165+G165","v":0},{"$f":"AV166","v":0},{"$f":"AZ165","v":0},null,null,null,null,null,null,null,null,null,null,null,null,null,null,null,null,null,null,null,null,null,0,0,0,{"$f":"INDEX(Hovedtal,BS159,9+BW165)","v":{"$error":"#VALUE!"}},{"$f":"CD164+CC165","v":{"$error":"#VALUE!"}},0,0,0,0]
[null,null,null,null,null,2,{"$f":"IF(INDEX(Hovedtal,B159,9)<F166,0,INDEX(Etager,7-F166,2))","v":0},{"$f":"IF(F166>INDEX(Hovedtal,B159,9),0,INDEX(Hovedtal,B159,6))","v":0},0,0,1E-4,{"$f":"INDEX(Hovedtal,B159,9+F166)","v":0},{"$f":"M165+L166","v":0},0,0,0,0,0,0,1E-4,0,0,{"$f":"INDEX(Hovedtal,B159,8)","v":0},"",null,null,{"$f":"IF(G166=0,AA167,IF(I166=0,0,I166))","v":0},{"$f":"IF(G166=0,AB167,IF(J166=0,AB167,AB167-J166))","v":1E-4},{"$f":"IF(G166=0,0,AC167+AA166*AG167)","v":0},{"$f":"IF(G166=0,0,AD167+AA166*AH167)","v":0},{"$f":"IF(G166=0,0,AC167+AB166*AG167)","v":0},{"$f":"IF(G166=0,0,AD167+AB166*AH167)","v":0},null,null,{"$f":"MAX(AA166:AA167)","v":0},{"$f":"MIN(AB166:AB167)","v":1E-4},{"$f":"IF(G166=0,0.5*(AI166+AJ166),(M166*G166+AA166*P166+0.5*(AA166+AB166)*(N166+(AB166-AA166)*O166)+AB166*Q166+AK165*AL165)/AL166)","v":5.0000000000000002E-5},{"$f":"AL165+N166+O166*(AB166-AA166)+P166+Q166","v":0},0.1,0,0,null,null,null,null,null,{"$f":"AR167","v":0},{"$f":"AX166+G166","v":0},{"$f":"AU166+G166","v":0},{"$f":"AQ167","v":0},{"$f":"AU166","v":0},null,null,null,null,null,null,null,null,null,null,null,null,null,null,null,null,null,null,null,null,null,null,null,null,null,null,0,0,0,{"$f":"INDEX(Hovedtal,BS159,9+BW166)","v":{"$error":"#VALUE!"}},{"$f":"CD165+CC166","v":{"$error":"#VALUE!"}},0,0,0,0]
[null,null,null,null,null,1,{"$f":"IF(INDEX(Hovedtal,B159,9)<F167,0,INDEX(Etager,7-F167,2))","v":0},{"$f":"IF(F167>INDEX(Hovedtal,B159,9),0,INDEX(Hovedtal,B159,6))","v":0},null,null,1E-4,{"$f":"INDEX(Hovedtal,B159,9+F167)","v":0},{"$f":"M166+L167","v":0},0,0,0,0,0,0,1E-4,0,0,{"$f":"INDEX(Hovedtal,B159,8)","v":0},"",null,null,0,{"$f":"SQRT((AE167-AC167)^2+(AF167-AD167)^2)+0.0001","v":1E-4},{"$f":"INDEX(Hovedtal,B159,2)","v":0},{"$f":"INDEX(Hovedtal,B159,3)","v":0},{"$f":"INDEX(Hovedtal,B159,4)","v":0},{"$f":"INDEX(Hovedtal,B159,5)","v":0},{"$f":"(AE167-AC167)/AB167","v":0},{"$f":"(AF167-AD167)/AB167","v":0},{"$f":"AA167","v":0},{"$f":"AB167","v":1E-4},{"$f":"IF(G167=0,0.5*(AI167+AJ167),(M167*G167+AA167*P167+0.5*(AA167+AB167)*(N167+(AB167-AA167)*O167)+AB167*Q167+AK166*AL166)/AL167)","v":5.0000000000000002E-5},{"$f":"AL166+N167+O167*(AB167-AA167)+P167+Q167","v":0},0.1,0,0,0,{"$f":"G167","v":0},{"$f":"G167","v":0},0,{"$f":"AP167","v":0},null,null,null,null,null,null,null,null,null,null,null,null,null,null,null,null,null,null,null,null,null,null,null,null,null,null,null,null,null,null,null,null,null,0,{"$f":"INDEX(Hovedtal,BS159,9+BW167)","v":{"$error":"#VALUE!"}},{"$f":"CD166+CC167","v":{"$error":"#VALUE!"}},0,0,0,0]
["*",null,null,null,null,null,null,null,null,null,null,null,null,null,null,null,null,null,null,null,null,null,null,null,null,null,null,null,null,null,null,null,null,null,null,null,null,null,null,null,null,null,null,null,null,null,null,null,null,null,null,null,null,null,null,null,null,null,null,null,null,null,null,null,null,null,null,null,null,null,null,{"$f":"MAX(AP160:BS167)+0.5","v":0.50009999999999999}]
[]
[null,"Væg",null,null,null,"Etage","h","t","r_1","r_2","L_eff","V_i","Q","G","p","P1","P2","T","N","b_1","b_2","n","n_max",null,null,null,"Etager:",6,null,null,null,null,null,null,null,null,null,null,null,null,null,"Hjørnepunkter i vægopstalt",null,null,null,null,null,null,null,null,null,null,null,null,null,null,null,null,null,null,null,null,null,null,null,null,null,null,null,null,null,null,null,null,null,null,null,"r_1","r_2","L_eff","V_i","Q","G","p","P1","P2"]
[null,{"$f":"B159+1","v":13},null,null,null,null,"(m)","(m)","(m)","(m)","(m)","(kN)","(kN)","(kN)","(kN/m)","(kN)","(kN)","(kN)","(kN)","(m)","(m)","(kN/m)","(kN/m)",null,null,null,null,null,null,null,null,null,null,null,null,null,null,null,null,null,null,null,null,null,null,null,null,null,null,null,null,null,null,null,null,null,null,null,null,null,null,null,null,null,null,null,null,null,null,null,null,null,null,null,null,null,null,"(m)","(m)","(m)","(kN)","(kN)","(kN)","(kN/m)","(kN)","(kN)"]
[null,null,null,null,null,null,null,null,null,null,null,null,null,null,null,null,null,null,null,null,null,null,null,null,null,null,"s_1","s_2","x_1","y_1","x_2","y_2","cos(a)","sin(a)","s_1_e","s_2_e","s_N","N_0","n","T_1","T_2",0,0,{"$f":"AB179","v":1E-4},{"$f":"AB179","v":1E-4},{"$f":"AP172","v":0},{"$f":"AA178","v":0},{"$f":"AA178","v":0},{"$f":"AB178","v":1E-4},{"$f":"AB178","v":1E-4},{"$f":"AU172","v":0},{"$f":"AA177","v":0},{"$f":"AA177","v":0},{"$f":"AB177","v":1E-4},{"$f":"AB177","v":1E-4},{"$f":"AZ172","v":0},{"$f":"AA176","v":0},{"$f":"AA176","v":0},{"$f":"AB176","v":1E-4},{"$f":"AB176","v":1E-4},{"$f":"BE172","v":0},{"$f":"AA175","v":0},{"$f":"AA175","v":0},{"$f":"AB175","v":1E-4},{"$f":"AB175","v":1E-4},{"$f":"BJ172","v":0},{"$f":"AA174","v":0},{"$f":"AA174","v":0},{"$f":"AB174","v":1E-4},{"$f":"AB174","v":1E-4},{"$f":"BO172","v":0},{"$f":"BT180","v":0.50009999999999999}]
[]
[null,null,null,null,null,6,{"$f":"IF(INDEX(Hovedtal,B171,9)<F174,0,INDEX(Etager,7-F174,2))","v":0},{"$f":"IF(F174>INDEX(Hovedtal,B171,9),0,INDEX(Hovedtal,B171,6))","v":0},0,0,{"$f":"AJ174-AI174","v":1E-4},{"$f":"INDEX(Hovedtal,B171,9+F174)","v":0},{"$f":"L174","v":0},{"$f":"(AB174-AA174)*H174*G174*g_g*g_e","v":0},0,0,0,{"$f":"IF(AK174>0.5*(AI174+AJ174),AO174,AN174)","v":0},{"$f":"AL174+R174","v":0},{"$f":"IF(AK174<=0.5*(AI174+AJ174),IF(AK174>AI174+0.5*AL174/AM174,2*(AK174-AI174),S174/AM174),0)","v":1E-4},{"$f":"IF(AK174>0.5*(AI174+AJ174),IF(AK174<AJ174-0.5*AL174/AM174,2*(AJ174-AK174),S174/AM174),0)","v":0},{"$f":"IF(AK174>0.5*(AI174+AJ174),S174/U174,S174/T174)","v":0},{"$f":"INDEX(Hovedtal,B171,8)","v":0},{"$f":"IF(OR(V174>W174,ABS(M174)>0.5*S174),\"!\",\"\")","v":""},null,null,{"$f":"IF(G174=0,AA175,IF(I174=0,0,I174))","v":0},{"$f":"IF(G174=0,AB175,IF(J174=0,AB179,AB179-J174))","v":1E-4},{"$f":"IF(G174=0,0,AC179+AA174*AG179)","v":0},{"$f":"IF(G174=0,0,AD179+AA174*AH179)","v":0},{"$f":"IF(G174=0,0,AC179+AB174*AG179)","v":0},{"$f":"IF(G174=0,0,AD179+AB174*AH179)","v":0},null,null,{"$f":"MAX(AA174:AA175)","v":0},{"$f":"MIN(AB174:AB175)","v":1E-4},{"$f":"IF(G174=0,0.5*(AI174+AJ174),(M174*G174+AA174*P174+0.5*(AA174+AB174)*(N174+(AB174-AA174)*O174)+AB174*Q174)/AL174)","v":5.0000000000000002E-5},{"$f":"N174+O174*(AB174-AA174)+P174+Q174","v":0},{"$f":"IF(AK174<0.5*(AI174+AJ174),MAX(W174,8*AL174*(0.5*(AJ174+AI174)-AK174)/(AJ174-AI174)^2+0.1),MAX(W174,-8*AL174*(0.5*(AJ174+AI174)-AK174)/(AJ174-AI174)^2+0.1))","v":0.1},{"$f":"IF(AND(AK174<0.5*(AI174+AJ174),AL174/AM174>2*(AK174-AI174)),AM174*(-SQRT((AL174/AM174+0.5*AI174-0.5*AJ174)^2-2*(-AK174*AL174/AM174+0.5*AL174^2/AM174^2+AI174*AL174/AM174))-(AL174/AM174+0.5*AI174-0.5*AJ174)),0)","v":0},{"$f":"IF(AND(AK174>=0.5*(AI174+AJ174),AL174/AM174>2*(AJ174-AK174)),AM174*(-SQRT((AL174/AM174+0.5*AI174-0.5*AJ174)^2-2*(AK174*AL174/AM174+0.5*AL174^2/AM174^2-AJ174*AL174/AM174))-(AL174/AM174+0.5*AI174-0.5*AJ174)),0)","v":0},null,null,null,null,null,null,null,null,null,null,null,null,null,null,null,null,null,null,null,null,null,null,null,null,null,{"$f":"BL175","v":0},{"$f":"BR174+G174","v":0},{"$f":"BO174+G174","v":0},{"$f":"BK175","v":0},{"$f":"BO174","v":0},null,null,null,null,null,null,0,0,{"$f":"DA174-CZ174","v":0},{"$f":"INDEX(Hovedtal,BS171,9+BW174)","v":{"$error":"#VALUE!"}},{"$f":"CC174","v":{"$error":"#VALUE!"}},{"$f":"(CS174-CR174)*BY174*BX174*g_g*g_e","v":0},0,0,0]
[null,null,null,null,null,5,{"$f":"IF(INDEX(Hovedtal,B171,9)<F175,0,INDEX(Etager,7-F175,2))","v":0},{"$f":"IF(F175>INDEX(Hovedtal,B171,9),0,INDEX(Hovedtal,B171,6))","v":0},0,0,1E-4,{"$f":"INDEX(Hovedtal,B171,9+F175)","v":0},{"$f":"M174+L175","v":0},0,0,0,0,0,0,1E-4,0,0,{"$f":"INDEX(Hovedtal,B171,8)","v":0},"",null,null,{"$f":"IF(G175=0,AA176,IF(I175=0,0,I175))","v":0},{"$f":"IF(G175=0,AB176,IF(J175=0,AB179,AB179-J175))","v":1E-4},{"$f":"IF(G175=0,0,AC179+AA175*AG179)","v":0},{"$f":"IF(G175=0,0,AD179+AA175*AH179)","v":0},{"$f":"IF(G175=0,0,AC179+AB175*AG179)","v":0},{"$f":"IF(G175=0,0,AD179+AB175*AH179)","v":0},null,null,{"$f":"MAX(AA175:AA176)","v":0},{"$f":"MIN(AB175:AB176)","v":1E-4},{"$f":"IF(G175=0,0.5*(AI175+AJ175),(M175*G175+AA175*P175+0.5*(AA175+AB175)*(N175+(AB175-AA175)*O175)+AB175*Q175+AK174*AL174)/AL175)","v":5.0000000000000002E-5},{"$f":"AL174+N175+O175*(AB175-AA175)+P175+Q175","v":0},0.1,0,0,null,null,null,null,null,null,null,null,null,null,null,null,null,null,null,null,null,null,null,null,{"$f":"BG176","v":0},{"$f":"BM175+G175","v":0},{"$f":"BJ175+G175","v":0},{"$f":"BF176","v":0},{"$f":"BJ175","v":0},null,null,null,null,null,null,null,null,null,null,null,0,0,0,{"$f":"INDEX(Hovedtal,BS171,9+BW175)","v":{"$error":"#VALUE!"}},{"$f":"CD174+CC175","v":{"$error":"#VALUE!"}},0,0,0,0]
[null,null,null,null,null,4,{"$f":"IF(INDEX(Hovedtal,B171,9)<F176,0,INDEX(Etager,7-F176,2))","v":0},{"$f":"IF(F176>INDEX(Hovedtal,B171,9),0,INDEX(Hovedtal,B171,6))","v":0},0,null,1E-4,{"$f":"INDEX(Hovedtal,B171,9+F176)","v":0},{"$f":"M175+L176","v":0},0,0,0,0,0,0,1E-4,0,0,{"$f":"INDEX(Hovedtal,B171,8)","v":0},"",null,null,{"$f":"IF(G176=0,AA177,IF(I176=0,0,I176))","v":0},{"$f":"IF(G176=0,AB177,IF(J176=0,AB179,AB179-J176))","v":1E-4},{"$f":"IF(G176=0,0,AC179+AA176*AG179)","v":0},{"$f":"IF(G176=0,0,AD179+AA176*AH179)","v":0},{"$f":"IF(G176=0,0,AC179+AB176*AG179)","v":0},{"$f":"IF(G176=0,0,AD179+AB176*AH179)","v":0},null,null,{"$f":"MAX(AA176:AA177)","v":0},{"$f":"MIN(AB176:AB177)","v":1E-4},{"$f":"IF(G176=0,0.5*(AI176+AJ176),(M176*G176+AA176*P176+0.5*(AA176+AB176)*(N176+(AB176-AA176)*O176)+AB176*Q176+AK175*AL175)/AL176)","v":5.0000000000000002E-5},{"$f":"AL175+N176+O176*(AB176-AA176)+P176+Q176","v":0},0.1,0,0,null,null,null,null,null,null,null,null,null,null,null,null,null,null,null,{"$f":"BB177","v":0},{"$f":"BH176+G176","v":0},{"$f":"BE176+G176","v":0},{"$f":"BA177","v":0},{"$f":"BE176","v":0},null,null,null,null,null,null,null,null,null,null,null,null,null,null,null,null,0,null,0,{"$f":"INDEX(Hovedtal,BS171,9+BW176)","v":{"$error":"#VALUE!"}},{"$f":"CD175+CC176","v":{"$error":"#VALUE!"}},0,0,0,0]
[null,null,null,null,null,3,{"$f":"IF(INDEX(Hovedtal,B171,9)<F177,0,INDEX(Etager,7-F177,2))","v":0},{"$f":"IF(F177>INDEX(Hovedtal,B171,9),0,INDEX(Hovedtal,B171,6))","v":0},0,null,1E-4,{"$f":"INDEX(Hovedtal,B171,9+F177)","v":0},{"$f":"M176+L177","v":0},0,0,0,0,0,0,1E-4,0,0,{"$f":"INDEX(Hovedtal,B171,8)","v":0},"",null,null,{"$f":"IF(G177=0,AA178,IF(I177=0,0,I177))","v":0},{"$f":"IF(G177=0,AB178,IF(J177=0,AB179,AB179-J177))","v":1E-4},{"$f":"IF(G177=0,0,AC179+AA177*AG179)","v":0},{"$f":"IF(G177=0,0,AD179+AA177*AH179)","v":0},{"$f":"IF(G177=0,0,AC179+AB177*AG179)","v":0},{"$f":"IF(G177=0,0,AD179+AB177*AH179)","v":0},null,null,{"$f":"MAX(AA177:AA178)","v":0},{"$f":"MIN(AB177:AB178)","v":1E-4},{"$f":"IF(G177=0,0.5*(AI177+AJ177),(M177*G177+AA177*P177+0.5*(AA177+AB177)*(N177+(AB177-AA177)*O177)+AB177*Q177+AK176*AL176)/AL177)","v":5.0000000000000002E-5},{"$f":"AL176+N177+O177*(AB177-AA177)+P177+Q177","v":0},0.1,0,0,null,null,null,null,null,null,null,null,null,null,{"$f":"AW178","v":0},{"$f":"BC177+G177","v":0},{"$f":"AZ177+G177","v":0},{"$f":"AV178","v":0},{"$f":"AZ177","v":0},null,null,null,null,null,null,null,null,null,null,null,null,null,null,null,null,null,null,null,null,null,0,null,0,{"$f":"INDEX(Hovedtal,BS171,9+BW177)","v":{"$error":"#VALUE!"}},{"$f":"CD176+CC177","v":{"$error":"#VALUE!"}},0,0,0,0]
[null,null,null,null,null,2,{"$f":"IF(INDEX(Hovedtal,B171,9)<F178,0,INDEX(Etager,7-F178,2))","v":0},{"$f":"IF(F178>INDEX(Hovedtal,B171,9),0,INDEX(Hovedtal,B171,6))","v":0},0,null,1E-4,{"$f":"INDEX(Hovedtal,B171,9+F178)","v":0},{"$f":"M177+L178","v":0},0,0,0,0,0,0,1E-4,0,0,{"$f":"INDEX(Hovedtal,B171,8)","v":0},"",null,null,{"$f":"IF(G178=0,AA179,IF(I178=0,0,I178))","v":0},{"$f":"IF(G178=0,AB179,IF(J178=0,AB179,AB179-J178))","v":1E-4},{"$f":"IF(G178=0,0,AC179+AA178*AG179)","v":0},{"$f":"IF(G178=0,0,AD179+AA178*AH179)","v":0},{"$f":"IF(G178=0,0,AC179+AB178*AG179)","v":0},{"$f":"IF(G178=0,0,AD179+AB178*AH179)","v":0},null,null,{"$f":"MAX(AA178:AA179)","v":0},{"$f":"MIN(AB178:AB179)","v":1E-4},{"$f":"IF(G178=0,0.5*(AI178+AJ178),(M178*G178+AA178*P178+0.5*(AA178+AB178)*(N178+(AB178-AA178)*O178)+AB178*Q178+AK177*AL177)/AL178)","v":5.0000000000000002E-5},{"$f":"AL177+N178+O178*(AB178-AA178)+P178+Q178","v":0},0.1,0,0,null,null,null,null,null,{"$f":"AR179","v":0},{"$f":"AX178+G178","v":0},{"$f":"AU178+G178","v":0},{"$f":"AQ179","v":0},{"$f":"AU178","v":0},null,null,null,null,null,null,null,null,null,null,null,null,null,null,null,null,null,null,null,null,null,null,null,null,null,null,0,null,0,{"$f":"INDEX(Hovedtal,BS171,9+BW178)","v":{"$error":"#VALUE!"}},{"$f":"CD177+CC178","v":{"$error":"#VALUE!"}},0,0,0,0]
[null,null,null,null,null,1,{"$f":"IF(INDEX(Hovedtal,B171,9)<F179,0,INDEX(Etager,7-F179,2))","v":0},{"$f":"IF(F179>INDEX(Hovedtal,B171,9),0,INDEX(Hovedtal,B171,6))","v":0},null,null,1E-4,{"$f":"INDEX(Hovedtal,B171,9+F179)","v":0},{"$f":"M178+L179","v":0},0,0,0,0,0,0,1E-4,0,0,{"$f":"INDEX(Hovedtal,B171,8)","v":0},"",null,null,0,{"$f":"SQRT((AE179-AC179)^2+(AF179-AD179)^2)+0.0001","v":1E-4},{"$f":"INDEX(Hovedtal,B171,2)","v":0},{"$f":"INDEX(Hovedtal,B171,3)","v":0},{"$f":"INDEX(Hovedtal,B171,4)","v":0},{"$f":"INDEX(Hovedtal,B171,5)","v":0},{"$f":"(AE179-AC179)/AB179","v":0},{"$f":"(AF179-AD179)/AB179","v":0},{"$f":"AA179","v":0},{"$f":"AB179","v":1E-4},{"$f":"IF(G179=0,0.5*(AI179+AJ179),(M179*G179+AA179*P179+0.5*(AA179+AB179)*(N179+(AB179-AA179)*O179)+AB179*Q179+AK178*AL178)/AL179)","v":5.0000000000000002E-5},{"$f":"AL178+N179+O179*(AB179-AA179)+P179+Q179","v":0},0.1,0,0,0,{"$f":"G179","v":0},{"$f":"G179","v":0},0,{"$f":"AP179","v":0},null,null,null,null,null,null,null,null,null,null,null,null,null,null,null,null,null,null,null,null,null,null,null,null,null,null,null,null,null,null,null,null,null,0,{"$f":"INDEX(Hovedtal,BS171,9+BW179)","v":{"$error":"#VALUE!"}},{"$f":"CD178+CC179","v":{"$error":"#VALUE!"}},0,0,0,0]
["*",null,null,null,null,null,null,null,null,null,null,null,null,null,null,null,null,null,null,null,null,null,null,null,null,null,null,null,null,null,null,null,null,null,null,null,null,null,null,null,null,null,null,null,null,null,null,null,null,null,null,null,null,null,null,null,null,null,null,null,null,null,null,null,null,null,null,null,null,null,null,{"$f":"MAX(AP172:BS179)+0.5","v":0.50009999999999999}]
[]
[null,"Væg",null,null,null,"Etage","h","t","r_1","r_2","L_eff","V_i","Q","G","p","P1","P2","T","N","b_1","b_2","n","n_max",null,null,null,"Etager:",6,null,null,null,null,null,null,null,null,null,null,null,null,null,"Hjørnepunkter i vægopstalt",null,null,null,null,null,null,null,null,null,null,null,null,null,null,null,null,null,null,null,null,null,null,null,null,null,null,null,null,null,null,null,null,null,null,null,"r_1","r_2","L_eff","V_i","Q","G","p","P1","P2"]
[null,{"$f":"B171+1","v":14},null,null,null,null,"(m)","(m)","(m)","(m)","(m)","(kN)","(kN)","(kN)","(kN/m)","(kN)","(kN)","(kN)","(kN)","(m)","(m)","(kN/m)","(kN/m)",null,null,null,null,null,null,null,null,null,null,null,null,null,null,null,null,null,null,null,null,null,null,null,null,null,null,null,null,null,null,null,null,null,null,null,null,null,null,null,null,null,null,null,null,null,null,null,null,null,null,null,null,null,null,"(m)","(m)","(m)","(kN)","(kN)","(kN)","(kN/m)","(kN)","(kN)"]
[null,null,null,null,null,null,null,null,null,null,null,null,null,null,null,null,null,null,null,null,null,null,null,null,null,null,"s_1","s_2","x_1","y_1","x_2","y_2","cos(a)","sin(a)","s_1_e","s_2_e","s_N","N_0","n","T_1","T_2",0,0,{"$f":"AB191","v":1E-4},{"$f":"AB191","v":1E-4},{"$f":"AP184","v":0},{"$f":"AA190","v":0},{"$f":"AA190","v":0},{"$f":"AB190","v":1E-4},{"$f":"AB190","v":1E-4},{"$f":"AU184","v":0},{"$f":"AA189","v":0},{"$f":"AA189","v":0},{"$f":"AB189","v":1E-4},{"$f":"AB189","v":1E-4},{"$f":"AZ184","v":0},{"$f":"AA188","v":0},{"$f":"AA188","v":0},{"$f":"AB188","v":1E-4},{"$f":"AB188","v":1E-4},{"$f":"BE184","v":0},{"$f":"AA187","v":0},{"$f":"AA187","v":0},{"$f":"AB187","v":1E-4},{"$f":"AB187","v":1E-4},{"$f":"BJ184","v":0},{"$f":"AA186","v":0},{"$f":"AA186","v":0},{"$f":"AB186","v":1E-4},{"$f":"AB186","v":1E-4},{"$f":"BO184","v":0},{"$f":"BT192","v":0.50009999999999999}]
[]
[null,null,null,null,null,6,{"$f":"IF(INDEX(Hovedtal,B183,9)<F186,0,INDEX(Etager,7-F186,2))","v":0},{"$f":"IF(F186>INDEX(Hovedtal,B183,9),0,INDEX(Hovedtal,B183,6))","v":0},0,0,{"$f":"AJ186-AI186","v":1E-4},{"$f":"INDEX(Hovedtal,B183,9+F186)","v":0},{"$f":"L186","v":0},{"$f":"(AB186-AA186)*H186*G186*g_g*g_e","v":0},0,0,0,{"$f":"IF(AK186>0.5*(AI186+AJ186),AO186,AN186)","v":0},{"$f":"AL186+R186","v":0},{"$f":"IF(AK186<=0.5*(AI186+AJ186),IF(AK186>AI186+0.5*AL186/AM186,2*(AK186-AI186),S186/AM186),0)","v":1E-4},{"$f":"IF(AK186>0.5*(AI186+AJ186),IF(AK186<AJ186-0.5*AL186/AM186,2*(AJ186-AK186),S186/AM186),0)","v":0},{"$f":"IF(AK186>0.5*(AI186+AJ186),S186/U186,S186/T186)","v":0},{"$f":"INDEX(Hovedtal,B183,8)","v":0},{"$f":"IF(OR(V186>W186,ABS(M186)>0.5*S186),\"!\",\"\")","v":""},null,null,{"$f":"IF(G186=0,AA187,IF(I186=0,0,I186))","v":0},{"$f":"IF(G186=0,AB187,IF(J186=0,AB191,AB191-J186))","v":1E-4},{"$f":"IF(G186=0,0,AC191+AA186*AG191)","v":0},{"$f":"IF(G186=0,0,AD191+AA186*AH191)","v":0},{"$f":"IF(G186=0,0,AC191+AB186*AG191)","v":0},{"$f":"IF(G186=0,0,AD191+AB186*AH191)","v":0},null,null,{"$f":"MAX(AA186:AA187)","v":0},{"$f":"MIN(AB186:AB187)","v":1E-4},{"$f":"IF(G186=0,0.5*(AI186+AJ186),(M186*G186+AA186*P186+0.5*(AA186+AB186)*(N186+(AB186-AA186)*O186)+AB186*Q186)/AL186)","v":5.0000000000000002E-5},{"$f":"N186+O186*(AB186-AA186)+P186+Q186","v":0},{"$f":"IF(AK186<0.5*(AI186+AJ186),MAX(W186,8*AL186*(0.5*(AJ186+AI186)-AK186)/(AJ186-AI186)^2+0.1),MAX(W186,-8*AL186*(0.5*(AJ186+AI186)-AK186)/(AJ186-AI186)^2+0.1))","v":0.1},{"$f":"IF(AND(AK186<0.5*(AI186+AJ186),AL186/AM186>2*(AK186-AI186)),AM186*(-SQRT((AL186/AM186+0.5*AI186-0.5*AJ186)^2-2*(-AK186*AL186/AM186+0.5*AL186^2/AM186^2+AI186*AL186/AM186))-(AL186/AM186+0.5*AI186-0.5*AJ186)),0)","v":0},{"$f":"IF(AND(AK186>=0.5*(AI186+AJ186),AL186/AM186>2*(AJ186-AK186)),AM186*(-SQRT((AL186/AM186+0.5*AI186-0.5*AJ186)^2-2*(AK186*AL186/AM186+0.5*AL186^2/AM186^2-AJ186*AL186/AM186))-(AL186/AM186+0.5*AI186-0.5*AJ186)),0)","v":0},null,null,null,null,null,null,null,null,null,null,null,null,null,null,null,null,null,null,null,null,null,null,null,null,null,{"$f":"BL187","v":0},{"$f":"BR186+G186","v":0},{"$f":"BO186+G186","v":0},{"$f":"BK187","v":0},{"$f":"BO186","v":0},null,null,null,null,null,null,0,0,{"$f":"DA186-CZ186","v":0},{"$f":"INDEX(Hovedtal,BS183,9+BW186)","v":{"$error":"#VALUE!"}},{"$f":"CC186","v":{"$error":"#VALUE!"}},{"$f":"(CS186-CR186)*BY186*BX186*g_g*g_e","v":0},0,0,0]
[null,null,null,null,null,5,{"$f":"IF(INDEX(Hovedtal,B183,9)<F187,0,INDEX(Etager,7-F187,2))","v":0},{"$f":"IF(F187>INDEX(Hovedtal,B183,9),0,INDEX(Hovedtal,B183,6))","v":0},0,0,1E-4,{"$f":"INDEX(Hovedtal,B183,9+F187)","v":0},{"$f":"M186+L187","v":0},0,0,0,0,0,0,1E-4,0,0,{"$f":"INDEX(Hovedtal,B183,8)","v":0},"",null,null,{"$f":"IF(G187=0,AA188,IF(I187=0,0,I187))","v":0},{"$f":"IF(G187=0,AB188,IF(J187=0,AB191,AB191-J187))","v":1E-4},{"$f":"IF(G187=0,0,AC191+AA187*AG191)","v":0},{"$f":"IF(G187=0,0,AD191+AA187*AH191)","v":0},{"$f":"IF(G187=0,0,AC191+AB187*AG191)","v":0},{"$f":"IF(G187=0,0,AD191+AB187*AH191)","v":0},null,null,{"$f":"MAX(AA187:AA188)","v":0},{"$f":"MIN(AB187:AB188)","v":1E-4},{"$f":"IF(G187=0,0.5*(AI187+AJ187),(M187*G187+AA187*P187+0.5*(AA187+AB187)*(N187+(AB187-AA187)*O187)+AB187*Q187+AK186*AL186)/AL187)","v":5.0000000000000002E-5},{"$f":"AL186+N187+O187*(AB187-AA187)+P187+Q187","v":0},0.1,0,0,null,null,null,null,null,null,null,null,null,null,null,null,null,null,null,null,null,null,null,null,{"$f":"BG188","v":0},{"$f":"BM187+G187","v":0},{"$f":"BJ187+G187","v":0},{"$f":"BF188","v":0},{"$f":"BJ187","v":0},null,null,null,null,null,null,null,null,null,null,null,0,0,0,{"$f":"INDEX(Hovedtal,BS183,9+BW187)","v":{"$error":"#VALUE!"}},{"$f":"CD186+CC187","v":{"$error":"#VALUE!"}},0,0,0,0]
[null,null,null,null,null,4,{"$f":"IF(INDEX(Hovedtal,B183,9)<F188,0,INDEX(Etager,7-F188,2))","v":0},{"$f":"IF(F188>INDEX(Hovedtal,B183,9),0,INDEX(Hovedtal,B183,6))","v":0},null,0,1E-4,{"$f":"INDEX(Hovedtal,B183,9+F188)","v":0},{"$f":"M187+L188","v":0},0,0,0,0,0,0,1E-4,0,0,{"$f":"INDEX(Hovedtal,B183,8)","v":0},"",null,null,{"$f":"IF(G188=0,AA189,IF(I188=0,0,I188))","v":0},{"$f":"IF(G188=0,AB189,IF(J188=0,AB191,AB191-J188))","v":1E-4},{"$f":"IF(G188=0,0,AC191+AA188*AG191)","v":0},{"$f":"IF(G188=0,0,AD191+AA188*AH191)","v":0},{"$f":"IF(G188=0,0,AC191+AB188*AG191)","v":0},{"$f":"IF(G188=0,0,AD191+AB188*AH191)","v":0},null,null,{"$f":"MAX(AA188:AA189)","v":0},{"$f":"MIN(AB188:AB189)","v":1E-4},{"$f":"IF(G188=0,0.5*(AI188+AJ188),(M188*G188+AA188*P188+0.5*(AA188+AB188)*(N188+(AB188-AA188)*O188)+AB188*Q188+AK187*AL187)/AL188)","v":5.0000000000000002E-5},{"$f":"AL187+N188+O188*(AB188-AA188)+P188+Q188","v":0},0.1,0,0,null,null,null,null,null,null,null,null,null,null,null,null,null,null,null,{"$f":"BB189","v":0},{"$f":"BH188+G188","v":0},{"$f":"BE188+G188","v":0},{"$f":"BA189","v":0},{"$f":"BE188","v":0},null,null,null,null,null,null,null,null,null,null,null,null,null,null,null,null,null,0,0,{"$f":"INDEX(Hovedtal,BS183,9+BW188)","v":{"$error":"#VALUE!"}},{"$f":"CD187+CC188","v":{"$error":"#VALUE!"}},0,0,0,0]
[null,null,null,null,null,3,{"$f":"IF(INDEX(Hovedtal,B183,9)<F189,0,INDEX(Etager,7-F189,2))","v":0},{"$f":"IF(F189>INDEX(Hovedtal,B183,9),0,INDEX(Hovedtal,B183,6))","v":0},null,0,1E-4,{"$f":"INDEX(Hovedtal,B183,9+F189)","v":0},{"$f":"M188+L189","v":0},0,0,0,0,0,0,1E-4,0,0,{"$f":"INDEX(Hovedtal,B183,8)","v":0},"",null,null,{"$f":"IF(G189=0,AA190,IF(I189=0,0,I189))","v":0},{"$f":"IF(G189=0,AB190,IF(J189=0,AB191,AB191-J189))","v":1E-4},{"$f":"IF(G189=0,0,AC191+AA189*AG191)","v":0},{"$f":"IF(G189=0,0,AD191+AA189*AH191)","v":0},{"$f":"IF(G189=0,0,AC191+AB189*AG191)","v":0},{"$f":"IF(G189=0,0,AD191+AB189*AH191)","v":0},null,null,{"$f":"MAX(AA189:AA190)","v":0},{"$f":"MIN(AB189:AB190)","v":1E-4},{"$f":"IF(G189=0,0.5*(AI189+AJ189),(M189*G189+AA189*P189+0.5*(AA189+AB189)*(N189+(AB189-AA189)*O189)+AB189*Q189+AK188*AL188)/AL189)","v":5.0000000000000002E-5},{"$f":"AL188+N189+O189*(AB189-AA189)+P189+Q189","v":0},0.1,0,0,null,null,null,null,null,null,null,null,null,null,{"$f":"AW190","v":0},{"$f":"BC189+G189","v":0},{"$f":"AZ189+G189","v":0},{"$f":"AV190","v":0},{"$f":"AZ189","v":0},null,null,null,null,null,null,null,null,null,null,null,null,null,null,null,null,null,null,null,null,null,null,0,0,{"$f":"INDEX(Hovedtal,BS183,9+BW189)","v":{"$error":"#VALUE!"}},{"$f":"CD188+CC189","v":{"$error":"#VALUE!"}},0,0,0,0]
[null,null,null,null,null,2,{"$f":"IF(INDEX(Hovedtal,B183,9)<F190,0,INDEX(Etager,7-F190,2))","v":0},{"$f":"IF(F190>INDEX(Hovedtal,B183,9),0,INDEX(Hovedtal,B183,6))","v":0},null,0,1E-4,{"$f":"INDEX(Hovedtal,B183,9+F190)","v":0},{"$f":"M189+L190","v":0},0,0,0,0,0,0,1E-4,0,0,{"$f":"INDEX(Hovedtal,B183,8)","v":0},"",null,null,{"$f":"IF(G190=0,AA191,IF(I190=0,0,I190))","v":0},{"$f":"IF(G190=0,AB191,IF(J190=0,AB191,AB191-J190))","v":1E-4},{"$f":"IF(G190=0,0,AC191+AA190*AG191)","v":0},{"$f":"IF(G190=0,0,AD191+AA190*AH191)","v":0},{"$f":"IF(G190=0,0,AC191+AB190*AG191)","v":0},{"$f":"IF(G190=0,0,AD191+AB190*AH191)","v":0},null,null,{"$f":"MAX(AA190:AA191)","v":0},{"$f":"MIN(AB190:AB191)","v":1E-4},{"$f":"IF(G190=0,0.5*(AI190+AJ190),(M190*G190+AA190*P190+0.5*(AA190+AB190)*(N190+(AB190-AA190)*O190)+AB190*Q190+AK189*AL189)/AL190)","v":5.0000000000000002E-5},{"$f":"AL189+N190+O190*(AB190-AA190)+P190+Q190","v":0},0.1,0,0,null,null,null,null,null,{"$f":"AR191","v":0},{"$f":"AX190+G190","v":0},{"$f":"AU190+G190","v":0},{"$f":"AQ191","v":0},{"$f":"AU190","v":0},null,null,null,null,null,null,null,null,null,null,null,null,null,null,null,null,null,null,null,null,null,null,null,null,null,null,null,0,0,{"$f":"INDEX(Hovedtal,BS183,9+BW190)","v":{"$error":"#VALUE!"}},{"$f":"CD189+CC190","v":{"$error":"#VALUE!"}},0,0,0,0]
[null,null,null,null,null,1,{"$f":"IF(INDEX(Hovedtal,B183,9)<F191,0,INDEX(Etager,7-F191,2))","v":0},{"$f":"IF(F191>INDEX(Hovedtal,B183,9),0,INDEX(Hovedtal,B183,6))","v":0},null,null,1E-4,{"$f":"INDEX(Hovedtal,B183,9+F191)","v":0},{"$f":"M190+L191","v":0},0,0,0,0,0,0,1E-4,0,0,{"$f":"INDEX(Hovedtal,B183,8)","v":0},"",null,null,0,{"$f":"SQRT((AE191-AC191)^2+(AF191-AD191)^2)+0.0001","v":1E-4},{"$f":"INDEX(Hovedtal,B183,2)","v":0},{"$f":"INDEX(Hovedtal,B183,3)","v":0},{"$f":"INDEX(Hovedtal,B183,4)","v":0},{"$f":"INDEX(Hovedtal,B183,5)","v":0},{"$f":"(AE191-AC191)/AB191","v":0},{"$f":"(AF191-AD191)/AB191","v":0},{"$f":"AA191","v":0},{"$f":"AB191","v":1E-4},{"$f":"IF(G191=0,0.5*(AI191+AJ191),(M191*G191+AA191*P191+0.5*(AA191+AB191)*(N191+(AB191-AA191)*O191)+AB191*Q191+AK190*AL190)/AL191)","v":5.0000000000000002E-5},{"$f":"AL190+N191+O191*(AB191-AA191)+P191+Q191","v":0},0.1,0,0,0,{"$f":"G191","v":0},{"$f":"G191","v":0},0,{"$f":"AP191","v":0},null,null,null,null,null,null,null,null,null,null,null,null,null,null,null,null,null,null,null,null,null,null,null,null,null,null,null,null,null,null,null,null,null,0,{"$f":"INDEX(Hovedtal,BS183,9+BW191)","v":{"$error":"#VALUE!"}},{"$f":"CD190+CC191","v":{"$error":"#VALUE!"}},0,0,0,0]
["*",null,null,null,null,null,null,null,null,null,null,null,null,null,null,null,null,null,null,null,null,null,null,null,null,null,null,null,null,null,null,null,null,null,null,null,null,null,null,null,null,null,null,null,null,null,null,null,null,null,null,null,null,null,null,null,null,null,null,null,null,null,null,null,null,null,null,null,null,null,null,{"$f":"MAX(AP184:BS191)+0.5","v":0.50009999999999999}]
[]
[null,"Væg",null,null,null,"Etage","h","t","r_1","r_2","L_eff","V_i","Q","G","p","P1","P2","T","N","b_1","b_2","n","n_max",null,null,null,"Etager:",6,null,null,null,null,null,null,null,null,null,null,null,null,null,"Hjørnepunkter i vægopstalt",null,null,null,null,null,null,null,null,null,null,null,null,null,null,null,null,null,null,null,null,null,null,null,null,null,null,null,null,null,null,null,null,null,null,null,"r_1","r_2","L_eff","V_i","Q","G","p","P1","P2"]
[null,{"$f":"B183+1","v":15},null,null,null,null,"(m)","(m)","(m)","(m)","(m)","(kN)","(kN)","(kN)","(kN/m)","(kN)","(kN)","(kN)","(kN)","(m)","(m)","(kN/m)","(kN/m)",null,null,null,null,null,null,null,null,null,null,null,null,null,null,null,null,null,null,null,null,null,null,null,null,null,null,null,null,null,null,null,null,null,null,null,null,null,null,null,null,null,null,null,null,null,null,null,null,null,null,null,null,null,null,"(m)","(m)","(m)","(kN)","(kN)","(kN)","(kN/m)","(kN)","(kN)"]
[null,null,null,null,null,null,null,null,null,null,null,null,null,null,null,null,null,null,null,null,null,null,null,null,null,null,"s_1","s_2","x_1","y_1","x_2","y_2","cos(a)","sin(a)","s_1_e","s_2_e","s_N","N_0","n","T_1","T_2",0,0,{"$f":"AB203","v":1E-4},{"$f":"AB203","v":1E-4},{"$f":"AP196","v":0},{"$f":"AA202","v":0},{"$f":"AA202","v":0},{"$f":"AB202","v":1E-4},{"$f":"AB202","v":1E-4},{"$f":"AU196","v":0},{"$f":"AA201","v":0},{"$f":"AA201","v":0},{"$f":"AB201","v":1E-4},{"$f":"AB201","v":1E-4},{"$f":"AZ196","v":0},{"$f":"AA200","v":0},{"$f":"AA200","v":0},{"$f":"AB200","v":1E-4},{"$f":"AB200","v":1E-4},{"$f":"BE196","v":0},{"$f":"AA199","v":0},{"$f":"AA199","v":0},{"$f":"AB199","v":1E-4},{"$f":"AB199","v":1E-4},{"$f":"BJ196","v":0},{"$f":"AA198","v":0},{"$f":"AA198","v":0},{"$f":"AB198","v":1E-4},{"$f":"AB198","v":1E-4},{"$f":"BO196","v":0},{"$f":"BT204","v":0.50009999999999999}]
[]
[null,null,null,null,null,6,{"$f":"IF(INDEX(Hovedtal,B195,9)<F198,0,INDEX(Etager,7-F198,2))","v":0},{"$f":"IF(F198>INDEX(Hovedtal,B195,9),0,INDEX(Hovedtal,B195,6))","v":0},0,0,{"$f":"AJ198-AI198","v":1E-4},{"$f":"INDEX(Hovedtal,B195,9+F198)","v":0},{"$f":"L198","v":0},{"$f":"(AB198-AA198)*H198*G198*g_g*g_e","v":0},0,0,0,{"$f":"IF(AK198>0.5*(AI198+AJ198),AO198,AN198)","v":0},{"$f":"AL198+R198","v":0},{"$f":"IF(AK198<=0.5*(AI198+AJ198),IF(AK198>AI198+0.5*AL198/AM198,2*(AK198-AI198),S198/AM198),0)","v":1E-4},{"$f":"IF(AK198>0.5*(AI198+AJ198),IF(AK198<AJ198-0.5*AL198/AM198,2*(AJ198-AK198),S198/AM198),0)","v":0},{"$f":"IF(AK198>0.5*(AI198+AJ198),S198/U198,S198/T198)","v":0},{"$f":"INDEX(Hovedtal,B195,8)","v":0},{"$f":"IF(OR(V198>W198,ABS(M198)>0.5*S198),\"!\",\"\")","v":""},null,null,{"$f":"IF(G198=0,AA199,IF(I198=0,0,I198))","v":0},{"$f":"IF(G198=0,AB199,IF(J198=0,AB203,AB203-J198))","v":1E-4},{"$f":"IF(G198=0,0,AC203+AA198*AG203)","v":0},{"$f":"IF(G198=0,0,AD203+AA198*AH203)","v":0},{"$f":"IF(G198=0,0,AC203+AB198*AG203)","v":0},{"$f":"IF(G198=0,0,AD203+AB198*AH203)","v":0},null,null,{"$f":"MAX(AA198:AA199)","v":0},{"$f":"MIN(AB198:AB199)","v":1E-4},{"$f":"IF(G198=0,0.5*(AI198+AJ198),(M198*G198+AA198*P198+0.5*(AA198+AB198)*(N198+(AB198-AA198)*O198)+AB198*Q198)/AL198)","v":5.0000000000000002E-5},{"$f":"N198+O198*(AB198-AA198)+P198+Q198","v":0},{"$f":"IF(AK198<0.5*(AI198+AJ198),MAX(W198,8*AL198*(0.5*(AJ198+AI198)-AK198)/(AJ198-AI198)^2+0.1),MAX(W198,-8*AL198*(0.5*(AJ198+AI198)-AK198)/(AJ198-AI198)^2+0.1))","v":0.1},{"$f":"IF(AND(AK198<0.5*(AI198+AJ198),AL198/AM198>2*(AK198-AI198)),AM198*(-SQRT((AL198/AM198+0.5*AI198-0.5*AJ198)^2-2*(-AK198*AL198/AM198+0.5*AL198^2/AM198^2+AI198*AL198/AM198))-(AL198/AM198+0.5*AI198-0.5*AJ198)),0)","v":0},{"$f":"IF(AND(AK198>=0.5*(AI198+AJ198),AL198/AM198>2*(AJ198-AK198)),AM198*(-SQRT((AL198/AM198+0.5*AI198-0.5*AJ198)^2-2*(AK198*AL198/AM198+0.5*AL198^2/AM198^2-AJ198*AL198/AM198))-(AL198/AM198+0.5*AI198-0.5*AJ198)),0)","v":0},null,null,null,null,null,null,null,null,null,null,null,null,null,null,null,null,null,null,null,null,null,null,null,null,null,{"$f":"BL199","v":0},{"$f":"BR198+G198","v":0},{"$f":"BO198+G198","v":0},{"$f":"BK199","v":0},{"$f":"BO198","v":0},null,null,null,null,null,null,0,0,{"$f":"DA198-CZ198","v":0},{"$f":"INDEX(Hovedtal,BS195,9+BW198)","v":{"$error":"#VALUE!"}},{"$f":"CC198","v":{"$error":"#VALUE!"}},{"$f":"(CS198-CR198)*BY198*BX198*g_g*g_e","v":0},0,0,0]
[null,null,null,null,null,5,{"$f":"IF(INDEX(Hovedtal,B195,9)<F199,0,INDEX(Etager,7-F199,2))","v":0},{"$f":"IF(F199>INDEX(Hovedtal,B195,9),0,INDEX(Hovedtal,B195,6))","v":0},0,0,1E-4,{"$f":"INDEX(Hovedtal,B195,9+F199)","v":0},{"$f":"M198+L199","v":0},0,0,0,0,0,0,1E-4,0,0,{"$f":"INDEX(Hovedtal,B195,8)","v":0},"",null,null,{"$f":"IF(G199=0,AA200,IF(I199=0,0,I199))","v":0},{"$f":"IF(G199=0,AB200,IF(J199=0,AB203,AB203-J199))","v":1E-4},{"$f":"IF(G199=0,0,AC203+AA199*AG203)","v":0},{"$f":"IF(G199=0,0,AD203+AA199*AH203)","v":0},{"$f":"IF(G199=0,0,AC203+AB199*AG203)","v":0},{"$f":"IF(G199=0,0,AD203+AB199*AH203)","v":0},null,null,{"$f":"MAX(AA199:AA200)","v":0},{"$f":"MIN(AB199:AB200)","v":1E-4},{"$f":"IF(G199=0,0.5*(AI199+AJ199),(M199*G199+AA199*P199+0.5*(AA199+AB199)*(N199+(AB199-AA199)*O199)+AB199*Q199+AK198*AL198)/AL199)","v":5.0000000000000002E-5},{"$f":"AL198+N199+O199*(AB199-AA199)+P199+Q199","v":0},0.1,0,0,null,null,null,null,null,null,null,null,null,null,null,null,null,null,null,null,null,null,null,null,{"$f":"BG200","v":0},{"$f":"BM199+G199","v":0},{"$f":"BJ199+G199","v":0},{"$f":"BF200","v":0},{"$f":"BJ199","v":0},null,null,null,null,null,null,null,null,null,null,null,0,0,0,{"$f":"INDEX(Hovedtal,BS195,9+BW199)","v":{"$error":"#VALUE!"}},{"$f":"CD198+CC199","v":{"$error":"#VALUE!"}},0,0,0,0]
[null,null,null,null,null,4,{"$f":"IF(INDEX(Hovedtal,B195,9)<F200,0,INDEX(Etager,7-F200,2))","v":0},{"$f":"IF(F200>INDEX(Hovedtal,B195,9),0,INDEX(Hovedtal,B195,6))","v":0},null,null,1E-4,{"$f":"INDEX(Hovedtal,B195,9+F200)","v":0},{"$f":"M199+L200","v":0},0,0,0,0,0,0,1E-4,0,0,{"$f":"INDEX(Hovedtal,B195,8)","v":0},"",null,null,{"$f":"IF(G200=0,AA201,IF(I200=0,0,I200))","v":0},{"$f":"IF(G200=0,AB201,IF(J200=0,AB203,AB203-J200))","v":1E-4},{"$f":"IF(G200=0,0,AC203+AA200*AG203)","v":0},{"$f":"IF(G200=0,0,AD203+AA200*AH203)","v":0},{"$f":"IF(G200=0,0,AC203+AB200*AG203)","v":0},{"$f":"IF(G200=0,0,AD203+AB200*AH203)","v":0},null,null,{"$f":"MAX(AA200:AA201)","v":0},{"$f":"MIN(AB200:AB201)","v":1E-4},{"$f":"IF(G200=0,0.5*(AI200+AJ200),(M200*G200+AA200*P200+0.5*(AA200+AB200)*(N200+(AB200-AA200)*O200)+AB200*Q200+AK199*AL199)/AL200)","v":5.0000000000000002E-5},{"$f":"AL199+N200+O200*(AB200-AA200)+P200+Q200","v":0},0.1,0,0,null,null,null,null,null,null,null,null,null,null,null,null,null,null,null,{"$f":"BB201","v":0},{"$f":"BH200+G200","v":0},{"$f":"BE200+G200","v":0},{"$f":"BA201","v":0},{"$f":"BE200","v":0},null,null,null,null,null,null,null,null,null,null,null,null,null,null,null,null,null,null,0,{"$f":"INDEX(Hovedtal,BS195,9+BW200)","v":{"$error":"#VALUE!"}},{"$f":"CD199+CC200","v":{"$error":"#VALUE!"}},0,0,0,0]
[null,null,null,null,null,3,{"$f":"IF(INDEX(Hovedtal,B195,9)<F201,0,INDEX(Etager,7-F201,2))","v":0},{"$f":"IF(F201>INDEX(Hovedtal,B195,9),0,INDEX(Hovedtal,B195,6))","v":0},null,null,1E-4,{"$f":"INDEX(Hovedtal,B195,9+F201)","v":0},{"$f":"M200+L201","v":0},0,0,0,0,0,0,1E-4,0,0,{"$f":"INDEX(Hovedtal,B195,8)","v":0},"",null,null,{"$f":"IF(G201=0,AA202,IF(I201=0,0,I201))","v":0},{"$f":"IF(G201=0,AB202,IF(J201=0,AB203,AB203-J201))","v":1E-4},{"$f":"IF(G201=0,0,AC203+AA201*AG203)","v":0},{"$f":"IF(G201=0,0,AD203+AA201*AH203)","v":0},{"$f":"IF(G201=0,0,AC203+AB201*AG203)","v":0},{"$f":"IF(G201=0,0,AD203+AB201*AH203)","v":0},null,null,{"$f":"MAX(AA201:AA202)","v":0},{"$f":"MIN(AB201:AB202)","v":1E-4},{"$f":"IF(G201=0,0.5*(AI201+AJ201),(M201*G201+AA201*P201+0.5*(AA201+AB201)*(N201+(AB201-AA201)*O201)+AB201*Q201+AK200*AL200)/AL201)","v":5.0000000000000002E-5},{"$f":"AL200+N201+O201*(AB201-AA201)+P201+Q201","v":0},0.1,0,0,null,null,null,null,null,null,null,null,null,null,{"$f":"AW202","v":0},{"$f":"BC201+G201","v":0},{"$f":"AZ201+G201","v":0},{"$f":"AV202","v":0},{"$f":"AZ201","v":0},null,null,null,null,null,null,null,null,null,null,null,null,null,null,null,null,null,null,null,null,null,null,null,0,{"$f":"INDEX(Hovedtal,BS195,9+BW201)","v":{"$error":"#VALUE!"}},{"$f":"CD200+CC201","v":{"$error":"#VALUE!"}},0,0,0,0]
[null,null,null,null,null,2,{"$f":"IF(INDEX(Hovedtal,B195,9)<F202,0,INDEX(Etager,7-F202,2))","v":0},{"$f":"IF(F202>INDEX(Hovedtal,B195,9),0,INDEX(Hovedtal,B195,6))","v":0},null,null,1E-4,{"$f":"INDEX(Hovedtal,B195,9+F202)","v":0},{"$f":"M201+L202","v":0},0,0,0,0,0,0,1E-4,0,0,{"$f":"INDEX(Hovedtal,B195,8)","v":0},"",null,null,{"$f":"IF(G202=0,AA203,IF(I202=0,0,I202))","v":0},{"$f":"IF(G202=0,AB203,IF(J202=0,AB203,AB203-J202))","v":1E-4},{"$f":"IF(G202=0,0,AC203+AA202*AG203)","v":0},{"$f":"IF(G202=0,0,AD203+AA202*AH203)","v":0},{"$f":"IF(G202=0,0,AC203+AB202*AG203)","v":0},{"$f":"IF(G202=0,0,AD203+AB202*AH203)","v":0},null,null,{"$f":"MAX(AA202:AA203)","v":0},{"$f":"MIN(AB202:AB203)","v":1E-4},{"$f":"IF(G202=0,0.5*(AI202+AJ202),(M202*G202+AA202*P202+0.5*(AA202+AB202)*(N202+(AB202-AA202)*O202)+AB202*Q202+AK201*AL201)/AL202)","v":5.0000000000000002E-5},{"$f":"AL201+N202+O202*(AB202-AA202)+P202+Q202","v":0},0.1,0,0,null,null,null,null,null,{"$f":"AR203","v":0},{"$f":"AX202+G202","v":0},{"$f":"AU202+G202","v":0},{"$f":"AQ203","v":0},{"$f":"AU202","v":0},null,null,null,null,null,null,null,null,null,null,null,null,null,null,null,null,null,null,null,null,null,null,null,null,null,null,null,null,0,{"$f":"INDEX(Hovedtal,BS195,9+BW202)","v":{"$error":"#VALUE!"}},{"$f":"CD201+CC202","v":{"$error":"#VALUE!"}},0,0,0,0]
[null,null,null,null,null,1,{"$f":"IF(INDEX(Hovedtal,B195,9)<F203,0,INDEX(Etager,7-F203,2))","v":0},{"$f":"IF(F203>INDEX(Hovedtal,B195,9),0,INDEX(Hovedtal,B195,6))","v":0},null,null,1E-4,{"$f":"INDEX(Hovedtal,B195,9+F203)","v":0},{"$f":"M202+L203","v":0},0,0,0,0,0,0,1E-4,0,0,{"$f":"INDEX(Hovedtal,B195,8)","v":0},"",null,null,0,{"$f":"SQRT((AE203-AC203)^2+(AF203-AD203)^2)+0.0001","v":1E-4},{"$f":"INDEX(Hovedtal,B195,2)","v":0},{"$f":"INDEX(Hovedtal,B195,3)","v":0},{"$f":"INDEX(Hovedtal,B195,4)","v":0},{"$f":"INDEX(Hovedtal,B195,5)","v":0},{"$f":"(AE203-AC203)/AB203","v":0},{"$f":"(AF203-AD203)/AB203","v":0},{"$f":"AA203","v":0},{"$f":"AB203","v":1E-4},{"$f":"IF(G203=0,0.5*(AI203+AJ203),(M203*G203+AA203*P203+0.5*(AA203+AB203)*(N203+(AB203-AA203)*O203)+AB203*Q203+AK202*AL202)/AL203)","v":5.0000000000000002E-5},{"$f":"AL202+N203+O203*(AB203-AA203)+P203+Q203","v":0},0.1,0,0,0,{"$f":"G203","v":0},{"$f":"G203","v":0},0,{"$f":"AP203","v":0},null,null,null,null,null,null,null,null,null,null,null,null,null,null,null,null,null,null,null,null,null,null,null,null,null,null,null,null,null,null,null,null,null,0,{"$f":"INDEX(Hovedtal,BS195,9+BW203)","v":{"$error":"#VALUE!"}},{"$f":"CD202+CC203","v":{"$error":"#VALUE!"}},0,0,0,0]
["*",null,null,null,null,null,null,null,null,null,null,null,null,null,null,null,null,null,null,null,null,null,null,null,null,null,null,null,null,null,null,null,null,null,null,null,null,null,null,null,null,null,null,null,null,null,null,null,null,null,null,null,null,null,null,null,null,null,null,null,null,null,null,null,null,null,null,null,null,null,null,{"$f":"MAX(AP196:BS203)+0.5","v":0.50009999999999999}]
[]
[null,"Væg",null,null,null,"Etage","h","t","r_1","r_2","L_eff","V_i","Q","G","p","P1","P2","T","N","b_1","b_2","n","n_max",null,null,null,"Etager:",6,null,null,null,null,null,null,null,null,null,null,null,null,null,"Hjørnepunkter i vægopstalt",null,null,null,null,null,null,null,null,null,null,null,null,null,null,null,null,null,null,null,null,null,null,null,null,null,null,null,null,null,null,null,null,null,null,null,"r_1","r_2","L_eff","V_i","Q","G","p","P1","P2"]
[null,{"$f":"B195+1","v":16},null,null,null,null,"(m)","(m)","(m)","(m)","(m)","(kN)","(kN)","(kN)","(kN/m)","(kN)","(kN)","(kN)","(kN)","(m)","(m)","(kN/m)","(kN/m)",null,null,null,null,null,null,null,null,null,null,null,null,null,null,null,null,null,null,null,null,null,null,null,null,null,null,null,null,null,null,null,null,null,null,null,null,null,null,null,null,null,null,null,null,null,null,null,null,null,null,null,null,null,null,"(m)","(m)","(m)","(kN)","(kN)","(kN)","(kN/m)","(kN)","(kN)"]
[null,null,null,null,null,null,null,null,null,null,null,null,null,null,null,null,null,null,null,null,null,null,null,null,null,null,"s_1","s_2","x_1","y_1","x_2","y_2","cos(a)","sin(a)","s_1_e","s_2_e","s_N","N_0","n","T_1","T_2",0,0,{"$f":"AB215","v":1E-4},{"$f":"AB215","v":1E-4},{"$f":"AP208","v":0},{"$f":"AA214","v":0},{"$f":"AA214","v":0},{"$f":"AB214","v":1E-4},{"$f":"AB214","v":1E-4},{"$f":"AU208","v":0},{"$f":"AA213","v":0},{"$f":"AA213","v":0},{"$f":"AB213","v":1E-4},{"$f":"AB213","v":1E-4},{"$f":"AZ208","v":0},{"$f":"AA212","v":0},{"$f":"AA212","v":0},{"$f":"AB212","v":1E-4},{"$f":"AB212","v":1E-4},{"$f":"BE208","v":0},{"$f":"AA211","v":0},{"$f":"AA211","v":0},{"$f":"AB211","v":1E-4},{"$f":"AB211","v":1E-4},{"$f":"BJ208","v":0},{"$f":"AA210","v":0},{"$f":"AA210","v":0},{"$f":"AB210","v":1E-4},{"$f":"AB210","v":1E-4},{"$f":"BO208","v":0},{"$f":"BT216","v":0.50009999999999999}]
[]
[null,null,null,null,null,6,{"$f":"IF(INDEX(Hovedtal,B207,9)<F210,0,INDEX(Etager,7-F210,2))","v":0},{"$f":"IF(F210>INDEX(Hovedtal,B207,9),0,INDEX(Hovedtal,B207,6))","v":0},0,0,{"$f":"AJ210-AI210","v":1E-4},{"$f":"INDEX(Hovedtal,B207,9+F210)","v":0},{"$f":"L210","v":0},{"$f":"(AB210-AA210)*H210*G210*g_g*g_e","v":0},0,0,0,{"$f":"IF(AK210>0.5*(AI210+AJ210),AO210,AN210)","v":0},{"$f":"AL210+R210","v":0},{"$f":"IF(AK210<=0.5*(AI210+AJ210),IF(AK210>AI210+0.5*AL210/AM210,2*(AK210-AI210),S210/AM210),0)","v":1E-4},{"$f":"IF(AK210>0.5*(AI210+AJ210),IF(AK210<AJ210-0.5*AL210/AM210,2*(AJ210-AK210),S210/AM210),0)","v":0},{"$f":"IF(AK210>0.5*(AI210+AJ210),S210/U210,S210/T210)","v":0},{"$f":"INDEX(Hovedtal,B207,8)","v":0},{"$f":"IF(OR(V210>W210,ABS(M210)>0.5*S210),\"!\",\"\")","v":""},null,null,{"$f":"IF(G210=0,AA211,IF(I210=0,0,I210))","v":0},{"$f":"IF(G210=0,AB211,IF(J210=0,AB215,AB215-J210))","v":1E-4},{"$f":"IF(G210=0,0,AC215+AA210*AG215)","v":0},{"$f":"IF(G210=0,0,AD215+AA210*AH215)","v":0},{"$f":"IF(G210=0,0,AC215+AB210*AG215)","v":0},{"$f":"IF(G210=0,0,AD215+AB210*AH215)","v":0},null,null,{"$f":"MAX(AA210:AA211)","v":0},{"$f":"MIN(AB210:AB211)","v":1E-4},{"$f":"IF(G210=0,0.5*(AI210+AJ210),(M210*G210+AA210*P210+0.5*(AA210+AB210)*(N210+(AB210-AA210)*O210)+AB210*Q210)/AL210)","v":5.0000000000000002E-5},{"$f":"N210+O210*(AB210-AA210)+P210+Q210","v":0},{"$f":"IF(AK210<0.5*(AI210+AJ210),MAX(W210,8*AL210*(0.5*(AJ210+AI210)-AK210)/(AJ210-AI210)^2+0.1),MAX(W210,-8*AL210*(0.5*(AJ210+AI210)-AK210)/(AJ210-AI210)^2+0.1))","v":0.1},{"$f":"IF(AND(AK210<0.5*(AI210+AJ210),AL210/AM210>2*(AK210-AI210)),AM210*(-SQRT((AL210/AM210+0.5*AI210-0.5*AJ210)^2-2*(-AK210*AL210/AM210+0.5*AL210^2/AM210^2+AI210*AL210/AM210))-(AL210/AM210+0.5*AI210-0.5*AJ210)),0)","v":0},{"$f":"IF(AND(AK210>=0.5*(AI210+AJ210),AL210/AM210>2*(AJ210-AK210)),AM210*(-SQRT((AL210/AM210+0.5*AI210-0.5*AJ210)^2-2*(AK210*AL210/AM210+0.5*AL210^2/AM210^2-AJ210*AL210/AM210))-(AL210/AM210+0.5*AI210-0.5*AJ210)),0)","v":0},null,null,null,null,null,null,null,null,null,null,null,null,null,null,null,null,null,null,null,null,null,null,null,null,null,{"$f":"BL211","v":0},{"$f":"BR210+G210","v":0},{"$f":"BO210+G210","v":0},{"$f":"BK211","v":0},{"$f":"BO210","v":0},null,null,null,null,null,null,0,0,{"$f":"DA210-CZ210","v":0},{"$f":"INDEX(Hovedtal,BS207,9+BW210)","v":{"$error":"#VALUE!"}},{"$f":"CC210","v":{"$error":"#VALUE!"}},{"$f":"(CS210-CR210)*BY210*BX210*g_g*g_e","v":0},0,0,0]
[null,null,null,null,null,5,{"$f":"IF(INDEX(Hovedtal,B207,9)<F211,0,INDEX(Etager,7-F211,2))","v":0},{"$f":"IF(F211>INDEX(Hovedtal,B207,9),0,INDEX(Hovedtal,B207,6))","v":0},0,0,1E-4,{"$f":"INDEX(Hovedtal,B207,9+F211)","v":0},{"$f":"M210+L211","v":0},0,0,0,0,0,0,1E-4,0,0,{"$f":"INDEX(Hovedtal,B207,8)","v":0},"",null,null,{"$f":"IF(G211=0,AA212,IF(I211=0,0,I211))","v":0},{"$f":"IF(G211=0,AB212,IF(J211=0,AB215,AB215-J211))","v":1E-4},{"$f":"IF(G211=0,0,AC215+AA211*AG215)","v":0},{"$f":"IF(G211=0,0,AD215+AA211*AH215)","v":0},{"$f":"IF(G211=0,0,AC215+AB211*AG215)","v":0},{"$f":"IF(G211=0,0,AD215+AB211*AH215)","v":0},null,null,{"$f":"MAX(AA211:AA212)","v":0},{"$f":"MIN(AB211:AB212)","v":1E-4},{"$f":"IF(G211=0,0.5*(AI211+AJ211),(M211*G211+AA211*P211+0.5*(AA211+AB211)*(N211+(AB211-AA211)*O211)+AB211*Q211+AK210*AL210)/AL211)","v":5.0000000000000002E-5},{"$f":"AL210+N211+O211*(AB211-AA211)+P211+Q211","v":0},0.1,0,0,null,null,null,null,null,null,null,null,null,null,null,null,null,null,null,null,null,null,null,null,{"$f":"BG212","v":0},{"$f":"BM211+G211","v":0},{"$f":"BJ211+G211","v":0},{"$f":"BF212","v":0},{"$f":"BJ211","v":0},null,null,null,null,null,null,null,null,null,null,null,0,0,0,{"$f":"INDEX(Hovedtal,BS207,9+BW211)","v":{"$error":"#VALUE!"}},{"$f":"CD210+CC211","v":{"$error":"#VALUE!"}},0,0,0,0]
[null,null,null,null,null,4,{"$f":"IF(INDEX(Hovedtal,B207,9)<F212,0,INDEX(Etager,7-F212,2))","v":0},{"$f":"IF(F212>INDEX(Hovedtal,B207,9),0,INDEX(Hovedtal,B207,6))","v":0},0,null,1E-4,{"$f":"INDEX(Hovedtal,B207,9+F212)","v":0},{"$f":"M211+L212","v":0},0,0,0,0,0,0,1E-4,0,0,{"$f":"INDEX(Hovedtal,B207,8)","v":0},"",null,null,{"$f":"IF(G212=0,AA213,IF(I212=0,0,I212))","v":0},{"$f":"IF(G212=0,AB213,IF(J212=0,AB215,AB215-J212))","v":1E-4},{"$f":"IF(G212=0,0,AC215+AA212*AG215)","v":0},{"$f":"IF(G212=0,0,AD215+AA212*AH215)","v":0},{"$f":"IF(G212=0,0,AC215+AB212*AG215)","v":0},{"$f":"IF(G212=0,0,AD215+AB212*AH215)","v":0},null,null,{"$f":"MAX(AA212:AA213)","v":0},{"$f":"MIN(AB212:AB213)","v":1E-4},{"$f":"IF(G212=0,0.5*(AI212+AJ212),(M212*G212+AA212*P212+0.5*(AA212+AB212)*(N212+(AB212-AA212)*O212)+AB212*Q212+AK211*AL211)/AL212)","v":5.0000000000000002E-5},{"$f":"AL211+N212+O212*(AB212-AA212)+P212+Q212","v":0},0.1,0,0,null,null,null,null,null,null,null,null,null,null,null,null,null,null,null,{"$f":"BB213","v":0},{"$f":"BH212+G212","v":0},{"$f":"BE212+G212","v":0},{"$f":"BA213","v":0},{"$f":"BE212","v":0},null,null,null,null,null,null,null,null,null,null,null,null,null,null,null,null,0,null,0,{"$f":"INDEX(Hovedtal,BS207,9+BW212)","v":{"$error":"#VALUE!"}},{"$f":"CD211+CC212","v":{"$error":"#VALUE!"}},0,0,0,0]
[null,null,null,null,null,3,{"$f":"IF(INDEX(Hovedtal,B207,9)<F213,0,INDEX(Etager,7-F213,2))","v":0},{"$f":"IF(F213>INDEX(Hovedtal,B207,9),0,INDEX(Hovedtal,B207,6))","v":0},0,null,1E-4,{"$f":"INDEX(Hovedtal,B207,9+F213)","v":0},{"$f":"M212+L213","v":0},0,0,0,0,0,0,1E-4,0,0,{"$f":"INDEX(Hovedtal,B207,8)","v":0},"",null,null,{"$f":"IF(G213=0,AA214,IF(I213=0,0,I213))","v":0},{"$f":"IF(G213=0,AB214,IF(J213=0,AB215,AB215-J213))","v":1E-4},{"$f":"IF(G213=0,0,AC215+AA213*AG215)","v":0},{"$f":"IF(G213=0,0,AD215+AA213*AH215)","v":0},{"$f":"IF(G213=0,0,AC215+AB213*AG215)","v":0},{"$f":"IF(G213=0,0,AD215+AB213*AH215)","v":0},null,null,{"$f":"MAX(AA213:AA214)","v":0},{"$f":"MIN(AB213:AB214)","v":1E-4},{"$f":"IF(G213=0,0.5*(AI213+AJ213),(M213*G213+AA213*P213+0.5*(AA213+AB213)*(N213+(AB213-AA213)*O213)+AB213*Q213+AK212*AL212)/AL213)","v":5.0000000000000002E-5},{"$f":"AL212+N213+O213*(AB213-AA213)+P213+Q213","v":0},0.1,0,0,null,null,null,null,null,null,null,null,null,null,{"$f":"AW214","v":0},{"$f":"BC213+G213","v":0},{"$f":"AZ213+G213","v":0},{"$f":"AV214","v":0},{"$f":"AZ213","v":0},null,null,null,null,null,null,null,null,null,null,null,null,null,null,null,null,null,null,null,null,null,0,null,0,{"$f":"INDEX(Hovedtal,BS207,9+BW213)","v":{"$error":"#VALUE!"}},{"$f":"CD212+CC213","v":{"$error":"#VALUE!"}},0,0,0,0]
[null,null,null,null,null,2,{"$f":"IF(INDEX(Hovedtal,B207,9)<F214,0,INDEX(Etager,7-F214,2))","v":0},{"$f":"IF(F214>INDEX(Hovedtal,B207,9),0,INDEX(Hovedtal,B207,6))","v":0},0,null,1E-4,{"$f":"INDEX(Hovedtal,B207,9+F214)","v":0},{"$f":"M213+L214","v":0},0,0,0,0,0,0,1E-4,0,0,{"$f":"INDEX(Hovedtal,B207,8)","v":0},"",null,null,{"$f":"IF(G214=0,AA215,IF(I214=0,0,I214))","v":0},{"$f":"IF(G214=0,AB215,IF(J214=0,AB215,AB215-J214))","v":1E-4},{"$f":"IF(G214=0,0,AC215+AA214*AG215)","v":0},{"$f":"IF(G214=0,0,AD215+AA214*AH215)","v":0},{"$f":"IF(G214=0,0,AC215+AB214*AG215)","v":0},{"$f":"IF(G214=0,0,AD215+AB214*AH215)","v":0},null,null,{"$f":"MAX(AA214:AA215)","v":0},{"$f":"MIN(AB214:AB215)","v":1E-4},{"$f":"IF(G214=0,0.5*(AI214+AJ214),(M214*G214+AA214*P214+0.5*(AA214+AB214)*(N214+(AB214-AA214)*O214)+AB214*Q214+AK213*AL213)/AL214)","v":5.0000000000000002E-5},{"$f":"AL213+N214+O214*(AB214-AA214)+P214+Q214","v":0},0.1,0,0,null,null,null,null,null,{"$f":"AR215","v":0},{"$f":"AX214+G214","v":0},{"$f":"AU214+G214","v":0},{"$f":"AQ215","v":0},{"$f":"AU214","v":0},null,null,null,null,null,null,null,null,null,null,null,null,null,null,null,null,null,null,null,null,null,null,null,null,null,null,0,null,0,{"$f":"INDEX(Hovedtal,BS207,9+BW214)","v":{"$error":"#VALUE!"}},{"$f":"CD213+CC214","v":{"$error":"#VALUE!"}},0,0,0,0]
[null,null,null,null,null,1,{"$f":"IF(INDEX(Hovedtal,B207,9)<F215,0,INDEX(Etager,7-F215,2))","v":0},{"$f":"IF(F215>INDEX(Hovedtal,B207,9),0,INDEX(Hovedtal,B207,6))","v":0},null,null,1E-4,{"$f":"INDEX(Hovedtal,B207,9+F215)","v":0},{"$f":"M214+L215","v":0},0,0,0,0,0,0,1E-4,0,0,{"$f":"INDEX(Hovedtal,B207,8)","v":0},"",null,null,0,{"$f":"SQRT((AE215-AC215)^2+(AF215-AD215)^2)+0.0001","v":1E-4},{"$f":"INDEX(Hovedtal,B207,2)","v":0},{"$f":"INDEX(Hovedtal,B207,3)","v":0},{"$f":"INDEX(Hovedtal,B207,4)","v":0},{"$f":"INDEX(Hovedtal,B207,5)","v":0},{"$f":"(AE215-AC215)/AB215","v":0},{"$f":"(AF215-AD215)/AB215","v":0},{"$f":"AA215","v":0},{"$f":"AB215","v":1E-4},{"$f":"IF(G215=0,0.5*(AI215+AJ215),(M215*G215+AA215*P215+0.5*(AA215+AB215)*(N215+(AB215-AA215)*O215)+AB215*Q215+AK214*AL214)/AL215)","v":5.0000000000000002E-5},{"$f":"AL214+N215+O215*(AB215-AA215)+P215+Q215","v":0},0.1,0,0,0,{"$f":"G215","v":0},{"$f":"G215","v":0},0,{"$f":"AP215","v":0},null,null,null,null,null,null,null,null,null,null,null,null,null,null,null,null,null,null,null,null,null,null,null,null,null,null,null,null,null,null,null,null,null,0,{"$f":"INDEX(Hovedtal,BS207,9+BW215)","v":{"$error":"#VALUE!"}},{"$f":"CD214+CC215","v":{"$error":"#VALUE!"}},0,0,0,0]
["*",null,null,null,null,null,null,null,null,null,null,null,null,null,null,null,null,null,null,null,null,null,null,null,null,null,null,null,null,null,null,null,null,null,null,null,null,null,null,null,null,null,null,null,null,null,null,null,null,null,null,null,null,null,null,null,null,null,null,null,null,null,null,null,null,null,null,null,null,null,null,{"$f":"MAX(AP208:BS215)+0.5","v":0.50009999999999999}]
[]
[null,"Væg",null,null,null,"Etage","h","t","r_1","r_2","L_eff","V_i","Q","G","p","P1","P2","T","N","b_1","b_2","n","n_max",null,null,null,"Etager:",6,null,null,null,null,null,null,null,null,null,null,null,null,null,"Hjørnepunkter i vægopstalt",null,null,null,null,null,null,null,null,null,null,null,null,null,null,null,null,null,null,null,null,null,null,null,null,null,null,null,null,null,null,null,null,null,null,null,"r_1","r_2","L_eff","V_i","Q","G","p","P1","P2"]
[null,{"$f":"B207+1","v":17},null,null,null,null,"(m)","(m)","(m)","(m)","(m)","(kN)","(kN)","(kN)","(kN/m)","(kN)","(kN)","(kN)","(kN)","(m)","(m)","(kN/m)","(kN/m)",null,null,null,null,null,null,null,null,null,null,null,null,null,null,null,null,null,null,null,null,null,null,null,null,null,null,null,null,null,null,null,null,null,null,null,null,null,null,null,null,null,null,null,null,null,null,null,null,null,null,null,null,null,null,"(m)","(m)","(m)","(kN)","(kN)","(kN)","(kN/m)","(kN)","(kN)"]
[null,null,null,null,null,null,null,null,null,null,null,null,null,null,null,null,null,null,null,null,null,null,null,null,null,null,"s_1","s_2","x_1","y_1","x_2","y_2","cos(a)","sin(a)","s_1_e","s_2_e","s_N","N_0","n","T_1","T_2",0,0,{"$f":"AB227","v":1E-4},{"$f":"AB227","v":1E-4},{"$f":"AP220","v":0},{"$f":"AA226","v":0},{"$f":"AA226","v":0},{"$f":"AB226","v":1E-4},{"$f":"AB226","v":1E-4},{"$f":"AU220","v":0},{"$f":"AA225","v":0},{"$f":"AA225","v":0},{"$f":"AB225","v":1E-4},{"$f":"AB225","v":1E-4},{"$f":"AZ220","v":0},{"$f":"AA224","v":0},{"$f":"AA224","v":0},{"$f":"AB224","v":1E-4},{"$f":"AB224","v":1E-4},{"$f":"BE220","v":0},{"$f":"AA223","v":0},{"$f":"AA223","v":0},{"$f":"AB223","v":1E-4},{"$f":"AB223","v":1E-4},{"$f":"BJ220","v":0},{"$f":"AA222","v":0},{"$f":"AA222","v":0},{"$f":"AB222","v":1E-4},{"$f":"AB222","v":1E-4},{"$f":"BO220","v":0},{"$f":"BT228","v":0.50009999999999999}]
[]
[null,null,null,null,null,6,{"$f":"IF(INDEX(Hovedtal,B219,9)<F222,0,INDEX(Etager,7-F222,2))","v":0},{"$f":"IF(F222>INDEX(Hovedtal,B219,9),0,INDEX(Hovedtal,B219,6))","v":0},0,0,{"$f":"AJ222-AI222","v":1E-4},{"$f":"INDEX(Hovedtal,B219,9+F222)","v":0},{"$f":"L222","v":0},{"$f":"(AB222-AA222)*H222*G222*g_g*g_e","v":0},0,0,0,{"$f":"IF(AK222>0.5*(AI222+AJ222),AO222,AN222)","v":0},{"$f":"AL222+R222","v":0},{"$f":"IF(AK222<=0.5*(AI222+AJ222),IF(AK222>AI222+0.5*AL222/AM222,2*(AK222-AI222),S222/AM222),0)","v":1E-4},{"$f":"IF(AK222>0.5*(AI222+AJ222),IF(AK222<AJ222-0.5*AL222/AM222,2*(AJ222-AK222),S222/AM222),0)","v":0},{"$f":"IF(AK222>0.5*(AI222+AJ222),S222/U222,S222/T222)","v":0},{"$f":"INDEX(Hovedtal,B219,8)","v":0},{"$f":"IF(OR(V222>W222,ABS(M222)>0.5*S222),\"!\",\"\")","v":""},null,null,{"$f":"IF(G222=0,AA223,IF(I222=0,0,I222))","v":0},{"$f":"IF(G222=0,AB223,IF(J222=0,AB227,AB227-J222))","v":1E-4},{"$f":"IF(G222=0,0,AC227+AA222*AG227)","v":0},{"$f":"IF(G222=0,0,AD227+AA222*AH227)","v":0},{"$f":"IF(G222=0,0,AC227+AB222*AG227)","v":0},{"$f":"IF(G222=0,0,AD227+AB222*AH227)","v":0},null,null,{"$f":"MAX(AA222:AA223)","v":0},{"$f":"MIN(AB222:AB223)","v":1E-4},{"$f":"IF(G222=0,0.5*(AI222+AJ222),(M222*G222+AA222*P222+0.5*(AA222+AB222)*(N222+(AB222-AA222)*O222)+AB222*Q222)/AL222)","v":5.0000000000000002E-5},{"$f":"N222+O222*(AB222-AA222)+P222+Q222","v":0},{"$f":"IF(AK222<0.5*(AI222+AJ222),MAX(W222,8*AL222*(0.5*(AJ222+AI222)-AK222)/(AJ222-AI222)^2+0.1),MAX(W222,-8*AL222*(0.5*(AJ222+AI222)-AK222)/(AJ222-AI222)^2+0.1))","v":0.1},{"$f":"IF(AND(AK222<0.5*(AI222+AJ222),AL222/AM222>2*(AK222-AI222)),AM222*(-SQRT((AL222/AM222+0.5*AI222-0.5*AJ222)^2-2*(-AK222*AL222/AM222+0.5*AL222^2/AM222^2+AI222*AL222/AM222))-(AL222/AM222+0.5*AI222-0.5*AJ222)),0)","v":0},{"$f":"IF(AND(AK222>=0.5*(AI222+AJ222),AL222/AM222>2*(AJ222-AK222)),AM222*(-SQRT((AL222/AM222+0.5*AI222-0.5*AJ222)^2-2*(AK222*AL222/AM222+0.5*AL222^2/AM222^2-AJ222*AL222/AM222))-(AL222/AM222+0.5*AI222-0.5*AJ222)),0)","v":0},null,null,null,null,null,null,null,null,null,null,null,null,null,null,null,null,null,null,null,null,null,null,null,null,null,{"$f":"BL223","v":0},{"$f":"BR222+G222","v":0},{"$f":"BO222+G222","v":0},{"$f":"BK223","v":0},{"$f":"BO222","v":0},null,null,null,null,null,null,0,0,{"$f":"DA222-CZ222","v":0},{"$f":"INDEX(Hovedtal,BS219,9+BW222)","v":{"$error":"#VALUE!"}},{"$f":"CC222","v":{"$error":"#VALUE!"}},{"$f":"(CS222-CR222)*BY222*BX222*g_g*g_e","v":0},0,0,0]
[null,null,null,null,null,5,{"$f":"IF(INDEX(Hovedtal,B219,9)<F223,0,INDEX(Etager,7-F223,2))","v":0},{"$f":"IF(F223>INDEX(Hovedtal,B219,9),0,INDEX(Hovedtal,B219,6))","v":0},0,0,1E-4,{"$f":"INDEX(Hovedtal,B219,9+F223)","v":0},{"$f":"M222+L223","v":0},0,0,0,0,0,0,1E-4,0,0,{"$f":"INDEX(Hovedtal,B219,8)","v":0},"",null,null,{"$f":"IF(G223=0,AA224,IF(I223=0,0,I223))","v":0},{"$f":"IF(G223=0,AB224,IF(J223=0,AB227,AB227-J223))","v":1E-4},{"$f":"IF(G223=0,0,AC227+AA223*AG227)","v":0},{"$f":"IF(G223=0,0,AD227+AA223*AH227)","v":0},{"$f":"IF(G223=0,0,AC227+AB223*AG227)","v":0},{"$f":"IF(G223=0,0,AD227+AB223*AH227)","v":0},null,null,{"$f":"MAX(AA223:AA224)","v":0},{"$f":"MIN(AB223:AB224)","v":1E-4},{"$f":"IF(G223=0,0.5*(AI223+AJ223),(M223*G223+AA223*P223+0.5*(AA223+AB223)*(N223+(AB223-AA223)*O223)+AB223*Q223+AK222*AL222)/AL223)","v":5.0000000000000002E-5},{"$f":"AL222+N223+O223*(AB223-AA223)+P223+Q223","v":0},0.1,0,0,null,null,null,null,null,null,null,null,null,null,null,null,null,null,null,null,null,null,null,null,{"$f":"BG224","v":0},{"$f":"BM223+G223","v":0},{"$f":"BJ223+G223","v":0},{"$f":"BF224","v":0},{"$f":"BJ223","v":0},null,null,null,null,null,null,null,null,null,null,null,0,0,0,{"$f":"INDEX(Hovedtal,BS219,9+BW223)","v":{"$error":"#VALUE!"}},{"$f":"CD222+CC223","v":{"$error":"#VALUE!"}},0,0,0,0]
[null,null,null,null,null,4,{"$f":"IF(INDEX(Hovedtal,B219,9)<F224,0,INDEX(Etager,7-F224,2))","v":0},{"$f":"IF(F224>INDEX(Hovedtal,B219,9),0,INDEX(Hovedtal,B219,6))","v":0},null,0,1E-4,{"$f":"INDEX(Hovedtal,B219,9+F224)","v":0},{"$f":"M223+L224","v":0},0,0,0,0,0,0,1E-4,0,0,{"$f":"INDEX(Hovedtal,B219,8)","v":0},"",null,null,{"$f":"IF(G224=0,AA225,IF(I224=0,0,I224))","v":0},{"$f":"IF(G224=0,AB225,IF(J224=0,AB227,AB227-J224))","v":1E-4},{"$f":"IF(G224=0,0,AC227+AA224*AG227)","v":0},{"$f":"IF(G224=0,0,AD227+AA224*AH227)","v":0},{"$f":"IF(G224=0,0,AC227+AB224*AG227)","v":0},{"$f":"IF(G224=0,0,AD227+AB224*AH227)","v":0},null,null,{"$f":"MAX(AA224:AA225)","v":0},{"$f":"MIN(AB224:AB225)","v":1E-4},{"$f":"IF(G224=0,0.5*(AI224+AJ224),(M224*G224+AA224*P224+0.5*(AA224+AB224)*(N224+(AB224-AA224)*O224)+AB224*Q224+AK223*AL223)/AL224)","v":5.0000000000000002E-5},{"$f":"AL223+N224+O224*(AB224-AA224)+P224+Q224","v":0},0.1,0,0,null,null,null,null,null,null,null,null,null,null,null,null,null,null,null,{"$f":"BB225","v":0},{"$f":"BH224+G224","v":0},{"$f":"BE224+G224","v":0},{"$f":"BA225","v":0},{"$f":"BE224","v":0},null,null,null,null,null,null,null,null,null,null,null,null,null,null,null,null,null,0,0,{"$f":"INDEX(Hovedtal,BS219,9+BW224)","v":{"$error":"#VALUE!"}},{"$f":"CD223+CC224","v":{"$error":"#VALUE!"}},0,0,0,0]
[null,null,null,null,null,3,{"$f":"IF(INDEX(Hovedtal,B219,9)<F225,0,INDEX(Etager,7-F225,2))","v":0},{"$f":"IF(F225>INDEX(Hovedtal,B219,9),0,INDEX(Hovedtal,B219,6))","v":0},null,0,1E-4,{"$f":"INDEX(Hovedtal,B219,9+F225)","v":0},{"$f":"M224+L225","v":0},0,0,0,0,0,0,1E-4,0,0,{"$f":"INDEX(Hovedtal,B219,8)","v":0},"",null,null,{"$f":"IF(G225=0,AA226,IF(I225=0,0,I225))","v":0},{"$f":"IF(G225=0,AB226,IF(J225=0,AB227,AB227-J225))","v":1E-4},{"$f":"IF(G225=0,0,AC227+AA225*AG227)","v":0},{"$f":"IF(G225=0,0,AD227+AA225*AH227)","v":0},{"$f":"IF(G225=0,0,AC227+AB225*AG227)","v":0},{"$f":"IF(G225=0,0,AD227+AB225*AH227)","v":0},null,null,{"$f":"MAX(AA225:AA226)","v":0},{"$f":"MIN(AB225:AB226)","v":1E-4},{"$f":"IF(G225=0,0.5*(AI225+AJ225),(M225*G225+AA225*P225+0.5*(AA225+AB225)*(N225+(AB225-AA225)*O225)+AB225*Q225+AK224*AL224)/AL225)","v":5.0000000000000002E-5},{"$f":"AL224+N225+O225*(AB225-AA225)+P225+Q225","v":0},0.1,0,0,null,null,null,null,null,null,null,null,null,null,{"$f":"AW226","v":0},{"$f":"BC225+G225","v":0},{"$f":"AZ225+G225","v":0},{"$f":"AV226","v":0},{"$f":"AZ225","v":0},null,null,null,null,null,null,null,null,null,null,null,null,null,null,null,null,null,null,null,null,null,null,0,0,{"$f":"INDEX(Hovedtal,BS219,9+BW225)","v":{"$error":"#VALUE!"}},{"$f":"CD224+CC225","v":{"$error":"#VALUE!"}},0,0,0,0]
[null,null,null,null,null,2,{"$f":"IF(INDEX(Hovedtal,B219,9)<F226,0,INDEX(Etager,7-F226,2))","v":0},{"$f":"IF(F226>INDEX(Hovedtal,B219,9),0,INDEX(Hovedtal,B219,6))","v":0},null,0,1E-4,{"$f":"INDEX(Hovedtal,B219,9+F226)","v":0},{"$f":"M225+L226","v":0},0,0,0,0,0,0,1E-4,0,0,{"$f":"INDEX(Hovedtal,B219,8)","v":0},"",null,null,{"$f":"IF(G226=0,AA227,IF(I226=0,0,I226))","v":0},{"$f":"IF(G226=0,AB227,IF(J226=0,AB227,AB227-J226))","v":1E-4},{"$f":"IF(G226=0,0,AC227+AA226*AG227)","v":0},{"$f":"IF(G226=0,0,AD227+AA226*AH227)","v":0},{"$f":"IF(G226=0,0,AC227+AB226*AG227)","v":0},{"$f":"IF(G226=0,0,AD227+AB226*AH227)","v":0},null,null,{"$f":"MAX(AA226:AA227)","v":0},{"$f":"MIN(AB226:AB227)","v":1E-4},{"$f":"IF(G226=0,0.5*(AI226+AJ226),(M226*G226+AA226*P226+0.5*(AA226+AB226)*(N226+(AB226-AA226)*O226)+AB226*Q226+AK225*AL225)/AL226)","v":5.0000000000000002E-5},{"$f":"AL225+N226+O226*(AB226-AA226)+P226+Q226","v":0},0.1,0,0,null,null,null,null,null,{"$f":"AR227","v":0},{"$f":"AX226+G226","v":0},{"$f":"AU226+G226","v":0},{"$f":"AQ227","v":0},{"$f":"AU226","v":0},null,null,null,null,null,null,null,null,null,null,null,null,null,null,null,null,null,null,null,null,null,null,null,null,null,null,null,0,0,{"$f":"INDEX(Hovedtal,BS219,9+BW226)","v":{"$error":"#VALUE!"}},{"$f":"CD225+CC226","v":{"$error":"#VALUE!"}},0,0,0,0]
[null,null,null,null,null,1,{"$f":"IF(INDEX(Hovedtal,B219,9)<F227,0,INDEX(Etager,7-F227,2))","v":0},{"$f":"IF(F227>INDEX(Hovedtal,B219,9),0,INDEX(Hovedtal,B219,6))","v":0},null,null,1E-4,{"$f":"INDEX(Hovedtal,B219,9+F227)","v":0},{"$f":"M226+L227","v":0},0,0,0,0,0,0,1E-4,0,0,{"$f":"INDEX(Hovedtal,B219,8)","v":0},"",null,null,0,{"$f":"SQRT((AE227-AC227)^2+(AF227-AD227)^2)+0.0001","v":1E-4},{"$f":"INDEX(Hovedtal,B219,2)","v":0},{"$f":"INDEX(Hovedtal,B219,3)","v":0},{"$f":"INDEX(Hovedtal,B219,4)","v":0},{"$f":"INDEX(Hovedtal,B219,5)","v":0},{"$f":"(AE227-AC227)/AB227","v":0},{"$f":"(AF227-AD227)/AB227","v":0},{"$f":"AA227","v":0},{"$f":"AB227","v":1E-4},{"$f":"IF(G227=0,0.5*(AI227+AJ227),(M227*G227+AA227*P227+0.5*(AA227+AB227)*(N227+(AB227-AA227)*O227)+AB227*Q227+AK226*AL226)/AL227)","v":5.0000000000000002E-5},{"$f":"AL226+N227+O227*(AB227-AA227)+P227+Q227","v":0},0.1,0,0,0,{"$f":"G227","v":0},{"$f":"G227","v":0},0,{"$f":"AP227","v":0},null,null,null,null,null,null,null,null,null,null,null,null,null,null,null,null,null,null,null,null,null,null,null,null,null,null,null,null,null,null,null,null,null,0,{"$f":"INDEX(Hovedtal,BS219,9+BW227)","v":{"$error":"#VALUE!"}},{"$f":"CD226+CC227","v":{"$error":"#VALUE!"}},0,0,0,0]
["*",null,null,null,null,null,null,null,null,null,null,null,null,null,null,null,null,null,null,null,null,null,null,null,null,null,null,null,null,null,null,null,null,null,null,null,null,null,null,null,null,null,null,null,null,null,null,null,null,null,null,null,null,null,null,null,null,null,null,null,null,null,null,null,null,null,null,null,null,null,null,{"$f":"MAX(AP220:BS227)+0.5","v":0.50009999999999999}]
[]
[null,"Væg",null,null,null,"Etage","h","t","r_1","r_2","L_eff","V_i","Q","G","p","P1","P2","T","N","b_1","b_2","n","n_max",null,null,null,"Etager:",6,null,null,null,null,null,null,null,null,null,null,null,null,null,"Hjørnepunkter i vægopstalt",null,null,null,null,null,null,null,null,null,null,null,null,null,null,null,null,null,null,null,null,null,null,null,null,null,null,null,null,null,null,null,null,null,null,null,"r_1","r_2","L_eff","V_i","Q","G","p","P1","P2"]
[null,{"$f":"B219+1","v":18},null,null,null,null,"(m)","(m)","(m)","(m)","(m)","(kN)","(kN)","(kN)","(kN/m)","(kN)","(kN)","(kN)","(kN)","(m)","(m)","(kN/m)","(kN/m)",null,null,null,null,null,null,null,null,null,null,null,null,null,null,null,null,null,null,null,null,null,null,null,null,null,null,null,null,null,null,null,null,null,null,null,null,null,null,null,null,null,null,null,null,null,null,null,null,null,null,null,null,null,null,"(m)","(m)","(m)","(kN)","(kN)","(kN)","(kN/m)","(kN)","(kN)"]
[null,null,null,null,null,null,null,null,null,null,null,null,null,null,null,null,null,null,null,null,null,null,null,null,null,null,"s_1","s_2","x_1","y_1","x_2","y_2","cos(a)","sin(a)","s_1_e","s_2_e","s_N","N_0","n","T_1","T_2",0,0,{"$f":"AB239","v":1E-4},{"$f":"AB239","v":1E-4},{"$f":"AP232","v":0},{"$f":"AA238","v":0},{"$f":"AA238","v":0},{"$f":"AB238","v":1E-4},{"$f":"AB238","v":1E-4},{"$f":"AU232","v":0},{"$f":"AA237","v":0},{"$f":"AA237","v":0},{"$f":"AB237","v":1E-4},{"$f":"AB237","v":1E-4},{"$f":"AZ232","v":0},{"$f":"AA236","v":0},{"$f":"AA236","v":0},{"$f":"AB236","v":1E-4},{"$f":"AB236","v":1E-4},{"$f":"BE232","v":0},{"$f":"AA235","v":0},{"$f":"AA235","v":0},{"$f":"AB235","v":1E-4},{"$f":"AB235","v":1E-4},{"$f":"BJ232","v":0},{"$f":"AA234","v":0},{"$f":"AA234","v":0},{"$f":"AB234","v":1E-4},{"$f":"AB234","v":1E-4},{"$f":"BO232","v":0},{"$f":"BT240","v":0.50009999999999999}]
[]
[null,null,null,null,null,6,{"$f":"IF(INDEX(Hovedtal,B231,9)<F234,0,INDEX(Etager,7-F234,2))","v":0},{"$f":"IF(F234>INDEX(Hovedtal,B231,9),0,INDEX(Hovedtal,B231,6))","v":0},0,0,{"$f":"AJ234-AI234","v":1E-4},{"$f":"INDEX(Hovedtal,B231,9+F234)","v":0},{"$f":"L234","v":0},{"$f":"(AB234-AA234)*H234*G234*g_g*g_e","v":0},0,0,0,{"$f":"IF(AK234>0.5*(AI234+AJ234),AO234,AN234)","v":0},{"$f":"AL234+R234","v":0},{"$f":"IF(AK234<=0.5*(AI234+AJ234),IF(AK234>AI234+0.5*AL234/AM234,2*(AK234-AI234),S234/AM234),0)","v":1E-4},{"$f":"IF(AK234>0.5*(AI234+AJ234),IF(AK234<AJ234-0.5*AL234/AM234,2*(AJ234-AK234),S234/AM234),0)","v":0},{"$f":"IF(AK234>0.5*(AI234+AJ234),S234/U234,S234/T234)","v":0},{"$f":"INDEX(Hovedtal,B231,8)","v":0},{"$f":"IF(OR(V234>W234,ABS(M234)>0.5*S234),\"!\",\"\")","v":""},null,null,{"$f":"IF(G234=0,AA235,IF(I234=0,0,I234))","v":0},{"$f":"IF(G234=0,AB235,IF(J234=0,AB239,AB239-J234))","v":1E-4},{"$f":"IF(G234=0,0,AC239+AA234*AG239)","v":0},{"$f":"IF(G234=0,0,AD239+AA234*AH239)","v":0},{"$f":"IF(G234=0,0,AC239+AB234*AG239)","v":0},{"$f":"IF(G234=0,0,AD239+AB234*AH239)","v":0},null,null,{"$f":"MAX(AA234:AA235)","v":0},{"$f":"MIN(AB234:AB235)","v":1E-4},{"$f":"IF(G234=0,0.5*(AI234+AJ234),(M234*G234+AA234*P234+0.5*(AA234+AB234)*(N234+(AB234-AA234)*O234)+AB234*Q234)/AL234)","v":5.0000000000000002E-5},{"$f":"N234+O234*(AB234-AA234)+P234+Q234","v":0},{"$f":"IF(AK234<0.5*(AI234+AJ234),MAX(W234,8*AL234*(0.5*(AJ234+AI234)-AK234)/(AJ234-AI234)^2+0.1),MAX(W234,-8*AL234*(0.5*(AJ234+AI234)-AK234)/(AJ234-AI234)^2+0.1))","v":0.1},{"$f":"IF(AND(AK234<0.5*(AI234+AJ234),AL234/AM234>2*(AK234-AI234)),AM234*(-SQRT((AL234/AM234+0.5*AI234-0.5*AJ234)^2-2*(-AK234*AL234/AM234+0.5*AL234^2/AM234^2+AI234*AL234/AM234))-(AL234/AM234+0.5*AI234-0.5*AJ234)),0)","v":0},{"$f":"IF(AND(AK234>=0.5*(AI234+AJ234),AL234/AM234>2*(AJ234-AK234)),AM234*(-SQRT((AL234/AM234+0.5*AI234-0.5*AJ234)^2-2*(AK234*AL234/AM234+0.5*AL234^2/AM234^2-AJ234*AL234/AM234))-(AL234/AM234+0.5*AI234-0.5*AJ234)),0)","v":0},null,null,null,null,null,null,null,null,null,null,null,null,null,null,null,null,null,null,null,null,null,null,null,null,null,{"$f":"BL235","v":0},{"$f":"BR234+G234","v":0},{"$f":"BO234+G234","v":0},{"$f":"BK235","v":0},{"$f":"BO234","v":0},null,null,null,null,null,null,0,0,{"$f":"DA234-CZ234","v":0},{"$f":"INDEX(Hovedtal,BS231,9+BW234)","v":{"$error":"#VALUE!"}},{"$f":"CC234","v":{"$error":"#VALUE!"}},{"$f":"(CS234-CR234)*BY234*BX234*g_g*g_e","v":0},0,0,0]
[null,null,null,null,null,5,{"$f":"IF(INDEX(Hovedtal,B231,9)<F235,0,INDEX(Etager,7-F235,2))","v":0},{"$f":"IF(F235>INDEX(Hovedtal,B231,9),0,INDEX(Hovedtal,B231,6))","v":0},0,0,1E-4,{"$f":"INDEX(Hovedtal,B231,9+F235)","v":0},{"$f":"M234+L235","v":0},0,0,0,0,0,0,1E-4,0,0,{"$f":"INDEX(Hovedtal,B231,8)","v":0},"",null,null,{"$f":"IF(G235=0,AA236,IF(I235=0,0,I235))","v":0},{"$f":"IF(G235=0,AB236,IF(J235=0,AB239,AB239-J235))","v":1E-4},{"$f":"IF(G235=0,0,AC239+AA235*AG239)","v":0},{"$f":"IF(G235=0,0,AD239+AA235*AH239)","v":0},{"$f":"IF(G235=0,0,AC239+AB235*AG239)","v":0},{"$f":"IF(G235=0,0,AD239+AB235*AH239)","v":0},null,null,{"$f":"MAX(AA235:AA236)","v":0},{"$f":"MIN(AB235:AB236)","v":1E-4},{"$f":"IF(G235=0,0.5*(AI235+AJ235),(M235*G235+AA235*P235+0.5*(AA235+AB235)*(N235+(AB235-AA235)*O235)+AB235*Q235+AK234*AL234)/AL235)","v":5.0000000000000002E-5},{"$f":"AL234+N235+O235*(AB235-AA235)+P235+Q235","v":0},0.1,0,0,null,null,null,null,null,null,null,null,null,null,null,null,null,null,null,null,null,null,null,null,{"$f":"BG236","v":0},{"$f":"BM235+G235","v":0},{"$f":"BJ235+G235","v":0},{"$f":"BF236","v":0},{"$f":"BJ235","v":0},null,null,null,null,null,null,null,null,null,null,null,0,0,0,{"$f":"INDEX(Hovedtal,BS231,9+BW235)","v":{"$error":"#VALUE!"}},{"$f":"CD234+CC235","v":{"$error":"#VALUE!"}},0,0,0,0]
[null,null,null,null,null,4,{"$f":"IF(INDEX(Hovedtal,B231,9)<F236,0,INDEX(Etager,7-F236,2))","v":0},{"$f":"IF(F236>INDEX(Hovedtal,B231,9),0,INDEX(Hovedtal,B231,6))","v":0},0,null,1E-4,{"$f":"INDEX(Hovedtal,B231,9+F236)","v":0},{"$f":"M235+L236","v":0},0,0,0,0,0,0,1E-4,0,0,{"$f":"INDEX(Hovedtal,B231,8)","v":0},"",null,null,{"$f":"IF(G236=0,AA237,IF(I236=0,0,I236))","v":0},{"$f":"IF(G236=0,AB237,IF(J236=0,AB239,AB239-J236))","v":1E-4},{"$f":"IF(G236=0,0,AC239+AA236*AG239)","v":0},{"$f":"IF(G236=0,0,AD239+AA236*AH239)","v":0},{"$f":"IF(G236=0,0,AC239+AB236*AG239)","v":0},{"$f":"IF(G236=0,0,AD239+AB236*AH239)","v":0},null,null,{"$f":"MAX(AA236:AA237)","v":0},{"$f":"MIN(AB236:AB237)","v":1E-4},{"$f":"IF(G236=0,0.5*(AI236+AJ236),(M236*G236+AA236*P236+0.5*(AA236+AB236)*(N236+(AB236-AA236)*O236)+AB236*Q236+AK235*AL235)/AL236)","v":5.0000000000000002E-5},{"$f":"AL235+N236+O236*(AB236-AA236)+P236+Q236","v":0},0.1,0,0,null,null,null,null,null,null,null,null,null,null,null,null,null,null,null,{"$f":"BB237","v":0},{"$f":"BH236+G236","v":0},{"$f":"BE236+G236","v":0},{"$f":"BA237","v":0},{"$f":"BE236","v":0},null,null,null,null,null,null,null,null,null,null,null,null,null,null,null,null,0,null,0,{"$f":"INDEX(Hovedtal,BS231,9+BW236)","v":{"$error":"#VALUE!"}},{"$f":"CD235+CC236","v":{"$error":"#VALUE!"}},0,0,0,0]
[null,null,null,null,null,3,{"$f":"IF(INDEX(Hovedtal,B231,9)<F237,0,INDEX(Etager,7-F237,2))","v":0},{"$f":"IF(F237>INDEX(Hovedtal,B231,9),0,INDEX(Hovedtal,B231,6))","v":0},0,null,1E-4,{"$f":"INDEX(Hovedtal,B231,9+F237)","v":0},{"$f":"M236+L237","v":0},0,0,0,0,0,0,1E-4,0,0,{"$f":"INDEX(Hovedtal,B231,8)","v":0},"",null,null,{"$f":"IF(G237=0,AA238,IF(I237=0,0,I237))","v":0},{"$f":"IF(G237=0,AB238,IF(J237=0,AB239,AB239-J237))","v":1E-4},{"$f":"IF(G237=0,0,AC239+AA237*AG239)","v":0},{"$f":"IF(G237=0,0,AD239+AA237*AH239)","v":0},{"$f":"IF(G237=0,0,AC239+AB237*AG239)","v":0},{"$f":"IF(G237=0,0,AD239+AB237*AH239)","v":0},null,null,{"$f":"MAX(AA237:AA238)","v":0},{"$f":"MIN(AB237:AB238)","v":1E-4},{"$f":"IF(G237=0,0.5*(AI237+AJ237),(M237*G237+AA237*P237+0.5*(AA237+AB237)*(N237+(AB237-AA237)*O237)+AB237*Q237+AK236*AL236)/AL237)","v":5.0000000000000002E-5},{"$f":"AL236+N237+O237*(AB237-AA237)+P237+Q237","v":0},0.1,0,0,null,null,null,null,null,null,null,null,null,null,{"$f":"AW238","v":0},{"$f":"BC237+G237","v":0},{"$f":"AZ237+G237","v":0},{"$f":"AV238","v":0},{"$f":"AZ237","v":0},null,null,null,null,null,null,null,null,null,null,null,null,null,null,null,null,null,null,null,null,null,0,null,0,{"$f":"INDEX(Hovedtal,BS231,9+BW237)","v":{"$error":"#VALUE!"}},{"$f":"CD236+CC237","v":{"$error":"#VALUE!"}},0,0,0,0]
[null,null,null,null,null,2,{"$f":"IF(INDEX(Hovedtal,B231,9)<F238,0,INDEX(Etager,7-F238,2))","v":0},{"$f":"IF(F238>INDEX(Hovedtal,B231,9),0,INDEX(Hovedtal,B231,6))","v":0},0,null,1E-4,{"$f":"INDEX(Hovedtal,B231,9+F238)","v":0},{"$f":"M237+L238","v":0},0,0,0,0,0,0,1E-4,0,0,{"$f":"INDEX(Hovedtal,B231,8)","v":0},"",null,null,{"$f":"IF(G238=0,AA239,IF(I238=0,0,I238))","v":0},{"$f":"IF(G238=0,AB239,IF(J238=0,AB239,AB239-J238))","v":1E-4},{"$f":"IF(G238=0,0,AC239+AA238*AG239)","v":0},{"$f":"IF(G238=0,0,AD239+AA238*AH239)","v":0},{"$f":"IF(G238=0,0,AC239+AB238*AG239)","v":0},{"$f":"IF(G238=0,0,AD239+AB238*AH239)","v":0},null,null,{"$f":"MAX(AA238:AA239)","v":0},{"$f":"MIN(AB238:AB239)","v":1E-4},{"$f":"IF(G238=0,0.5*(AI238+AJ238),(M238*G238+AA238*P238+0.5*(AA238+AB238)*(N238+(AB238-AA238)*O238)+AB238*Q238+AK237*AL237)/AL238)","v":5.0000000000000002E-5},{"$f":"AL237+N238+O238*(AB238-AA238)+P238+Q238","v":0},0.1,0,0,null,null,null,null,null,{"$f":"AR239","v":0},{"$f":"AX238+G238","v":0},{"$f":"AU238+G238","v":0},{"$f":"AQ239","v":0},{"$f":"AU238","v":0},null,null,null,null,null,null,null,null,null,null,null,null,null,null,null,null,null,null,null,null,null,null,null,null,null,null,0,null,0,{"$f":"INDEX(Hovedtal,BS231,9+BW238)","v":{"$error":"#VALUE!"}},{"$f":"CD237+CC238","v":{"$error":"#VALUE!"}},0,0,0,0]
[null,null,null,null,null,1,{"$f":"IF(INDEX(Hovedtal,B231,9)<F239,0,INDEX(Etager,7-F239,2))","v":0},{"$f":"IF(F239>INDEX(Hovedtal,B231,9),0,INDEX(Hovedtal,B231,6))","v":0},null,null,1E-4,{"$f":"INDEX(Hovedtal,B231,9+F239)","v":0},{"$f":"M238+L239","v":0},0,0,0,0,0,0,1E-4,0,0,{"$f":"INDEX(Hovedtal,B231,8)","v":0},"",null,null,0,{"$f":"SQRT((AE239-AC239)^2+(AF239-AD239)^2)+0.0001","v":1E-4},{"$f":"INDEX(Hovedtal,B231,2)","v":0},{"$f":"INDEX(Hovedtal,B231,3)","v":0},{"$f":"INDEX(Hovedtal,B231,4)","v":0},{"$f":"INDEX(Hovedtal,B231,5)","v":0},{"$f":"(AE239-AC239)/AB239","v":0},{"$f":"(AF239-AD239)/AB239","v":0},{"$f":"AA239","v":0},{"$f":"AB239","v":1E-4},{"$f":"IF(G239=0,0.5*(AI239+AJ239),(M239*G239+AA239*P239+0.5*(AA239+AB239)*(N239+(AB239-AA239)*O239)+AB239*Q239+AK238*AL238)/AL239)","v":5.0000000000000002E-5},{"$f":"AL238+N239+O239*(AB239-AA239)+P239+Q239","v":0},0.1,0,0,0,{"$f":"G239","v":0},{"$f":"G239","v":0},0,{"$f":"AP239","v":0},null,null,null,null,null,null,null,null,null,null,null,null,null,null,null,null,null,null,null,null,null,null,null,null,null,null,null,null,null,null,null,null,null,0,{"$f":"INDEX(Hovedtal,BS231,9+BW239)","v":{"$error":"#VALUE!"}},{"$f":"CD238+CC239","v":{"$error":"#VALUE!"}},0,0,0,0]
["*",null,null,null,null,null,null,null,null,null,null,null,null,null,null,null,null,null,null,null,null,null,null,null,null,null,null,null,null,null,null,null,null,null,null,null,null,null,null,null,null,null,null,null,null,null,null,null,null,null,null,null,null,null,null,null,null,null,null,null,null,null,null,null,null,null,null,null,null,null,null,{"$f":"MAX(AP232:BS239)+0.5","v":0.50009999999999999}]
[]
[null,"Væg",null,null,null,"Etage","h","t","r_1","r_2","L_eff","V_i","Q","G","p","P1","P2","T","N","b_1","b_2","n","n_max",null,null,null,"Etager:",6,null,null,null,null,null,null,null,null,null,null,null,null,null,"Hjørnepunkter i vægopstalt",null,null,null,null,null,null,null,null,null,null,null,null,null,null,null,null,null,null,null,null,null,null,null,null,null,null,null,null,null,null,null,null,null,null,null,"r_1","r_2","L_eff","V_i","Q","G","p","P1","P2"]
[null,{"$f":"B231+1","v":19},null,null,null,null,"(m)","(m)","(m)","(m)","(m)","(kN)","(kN)","(kN)","(kN/m)","(kN)","(kN)","(kN)","(kN)","(m)","(m)","(kN/m)","(kN/m)",null,null,null,null,null,null,null,null,null,null,null,null,null,null,null,null,null,null,null,null,null,null,null,null,null,null,null,null,null,null,null,null,null,null,null,null,null,null,null,null,null,null,null,null,null,null,null,null,null,null,null,null,null,null,"(m)","(m)","(m)","(kN)","(kN)","(kN)","(kN/m)","(kN)","(kN)"]
[null,null,null,null,null,null,null,null,null,null,null,null,null,null,null,null,null,null,null,null,null,null,null,null,null,null,"s_1","s_2","x_1","y_1","x_2","y_2","cos(a)","sin(a)","s_1_e","s_2_e","s_N","N_0","n","T_1","T_2",0,0,{"$f":"AB251","v":1E-4},{"$f":"AB251","v":1E-4},{"$f":"AP244","v":0},{"$f":"AA250","v":0},{"$f":"AA250","v":0},{"$f":"AB250","v":1E-4},{"$f":"AB250","v":1E-4},{"$f":"AU244","v":0},{"$f":"AA249","v":0},{"$f":"AA249","v":0},{"$f":"AB249","v":1E-4},{"$f":"AB249","v":1E-4},{"$f":"AZ244","v":0},{"$f":"AA248","v":0},{"$f":"AA248","v":0},{"$f":"AB248","v":1E-4},{"$f":"AB248","v":1E-4},{"$f":"BE244","v":0},{"$f":"AA247","v":0},{"$f":"AA247","v":0},{"$f":"AB247","v":1E-4},{"$f":"AB247","v":1E-4},{"$f":"BJ244","v":0},{"$f":"AA246","v":0},{"$f":"AA246","v":0},{"$f":"AB246","v":1E-4},{"$f":"AB246","v":1E-4},{"$f":"BO244","v":0},{"$f":"BT252","v":0.50009999999999999}]
[]
[null,null,null,null,null,6,{"$f":"IF(INDEX(Hovedtal,B243,9)<F246,0,INDEX(Etager,7-F246,2))","v":0},{"$f":"IF(F246>INDEX(Hovedtal,B243,9),0,INDEX(Hovedtal,B243,6))","v":0},0,0,{"$f":"AJ246-AI246","v":1E-4},{"$f":"INDEX(Hovedtal,B243,9+F246)","v":0},{"$f":"L246","v":0},{"$f":"(AB246-AA246)*H246*G246*g_g*g_e","v":0},0,0,0,{"$f":"IF(AK246>0.5*(AI246+AJ246),AO246,AN246)","v":0},{"$f":"AL246+R246","v":0},{"$f":"IF(AK246<=0.5*(AI246+AJ246),IF(AK246>AI246+0.5*AL246/AM246,2*(AK246-AI246),S246/AM246),0)","v":1E-4},{"$f":"IF(AK246>0.5*(AI246+AJ246),IF(AK246<AJ246-0.5*AL246/AM246,2*(AJ246-AK246),S246/AM246),0)","v":0},{"$f":"IF(AK246>0.5*(AI246+AJ246),S246/U246,S246/T246)","v":0},{"$f":"INDEX(Hovedtal,B243,8)","v":0},{"$f":"IF(OR(V246>W246,ABS(M246)>0.5*S246),\"!\",\"\")","v":""},null,null,{"$f":"IF(G246=0,AA247,IF(I246=0,0,I246))","v":0},{"$f":"IF(G246=0,AB247,IF(J246=0,AB251,AB251-J246))","v":1E-4},{"$f":"IF(G246=0,0,AC251+AA246*AG251)","v":0},{"$f":"IF(G246=0,0,AD251+AA246*AH251)","v":0},{"$f":"IF(G246=0,0,AC251+AB246*AG251)","v":0},{"$f":"IF(G246=0,0,AD251+AB246*AH251)","v":0},null,null,{"$f":"MAX(AA246:AA247)","v":0},{"$f":"MIN(AB246:AB247)","v":1E-4},{"$f":"IF(G246=0,0.5*(AI246+AJ246),(M246*G246+AA246*P246+0.5*(AA246+AB246)*(N246+(AB246-AA246)*O246)+AB246*Q246)/AL246)","v":5.0000000000000002E-5},{"$f":"N246+O246*(AB246-AA246)+P246+Q246","v":0},{"$f":"IF(AK246<0.5*(AI246+AJ246),MAX(W246,8*AL246*(0.5*(AJ246+AI246)-AK246)/(AJ246-AI246)^2+0.1),MAX(W246,-8*AL246*(0.5*(AJ246+AI246)-AK246)/(AJ246-AI246)^2+0.1))","v":0.1},{"$f":"IF(AND(AK246<0.5*(AI246+AJ246),AL246/AM246>2*(AK246-AI246)),AM246*(-SQRT((AL246/AM246+0.5*AI246-0.5*AJ246)^2-2*(-AK246*AL246/AM246+0.5*AL246^2/AM246^2+AI246*AL246/AM246))-(AL246/AM246+0.5*AI246-0.5*AJ246)),0)","v":0},{"$f":"IF(AND(AK246>=0.5*(AI246+AJ246),AL246/AM246>2*(AJ246-AK246)),AM246*(-SQRT((AL246/AM246+0.5*AI246-0.5*AJ246)^2-2*(AK246*AL246/AM246+0.5*AL246^2/AM246^2-AJ246*AL246/AM246))-(AL246/AM246+0.5*AI246-0.5*AJ246)),0)","v":0},null,null,null,null,null,null,null,null,null,null,null,null,null,null,null,null,null,null,null,null,null,null,null,null,null,{"$f":"BL247","v":0},{"$f":"BR246+G246","v":0},{"$f":"BO246+G246","v":0},{"$f":"BK247","v":0},{"$f":"BO246","v":0},null,null,null,null,null,null,0,0,{"$f":"DA246-CZ246","v":0},{"$f":"INDEX(Hovedtal,BS243,9+BW246)","v":{"$error":"#VALUE!"}},{"$f":"CC246","v":{"$error":"#VALUE!"}},{"$f":"(CS246-CR246)*BY246*BX246*g_g*g_e","v":0},0,0,0]
[null,null,null,null,null,5,{"$f":"IF(INDEX(Hovedtal,B243,9)<F247,0,INDEX(Etager,7-F247,2))","v":0},{"$f":"IF(F247>INDEX(Hovedtal,B243,9),0,INDEX(Hovedtal,B243,6))","v":0},0,0,1E-4,{"$f":"INDEX(Hovedtal,B243,9+F247)","v":0},{"$f":"M246+L247","v":0},0,0,0,0,0,0,1E-4,0,0,{"$f":"INDEX(Hovedtal,B243,8)","v":0},"",null,null,{"$f":"IF(G247=0,AA248,IF(I247=0,0,I247))","v":0},{"$f":"IF(G247=0,AB248,IF(J247=0,AB251,AB251-J247))","v":1E-4},{"$f":"IF(G247=0,0,AC251+AA247*AG251)","v":0},{"$f":"IF(G247=0,0,AD251+AA247*AH251)","v":0},{"$f":"IF(G247=0,0,AC251+AB247*AG251)","v":0},{"$f":"IF(G247=0,0,AD251+AB247*AH251)","v":0},null,null,{"$f":"MAX(AA247:AA248)","v":0},{"$f":"MIN(AB247:AB248)","v":1E-4},{"$f":"IF(G247=0,0.5*(AI247+AJ247),(M247*G247+AA247*P247+0.5*(AA247+AB247)*(N247+(AB247-AA247)*O247)+AB247*Q247+AK246*AL246)/AL247)","v":5.0000000000000002E-5},{"$f":"AL246+N247+O247*(AB247-AA247)+P247+Q247","v":0},0.1,0,0,null,null,null,null,null,null,null,null,null,null,null,null,null,null,null,null,null,null,null,null,{"$f":"BG248","v":0},{"$f":"BM247+G247","v":0},{"$f":"BJ247+G247","v":0},{"$f":"BF248","v":0},{"$f":"BJ247","v":0},null,null,null,null,null,null,null,null,null,null,null,0,0,0,{"$f":"INDEX(Hovedtal,BS243,9+BW247)","v":{"$error":"#VALUE!"}},{"$f":"CD246+CC247","v":{"$error":"#VALUE!"}},0,0,0,0]
[null,null,null,null,null,4,{"$f":"IF(INDEX(Hovedtal,B243,9)<F248,0,INDEX(Etager,7-F248,2))","v":0},{"$f":"IF(F248>INDEX(Hovedtal,B243,9),0,INDEX(Hovedtal,B243,6))","v":0},0,0,1E-4,{"$f":"INDEX(Hovedtal,B243,9+F248)","v":0},{"$f":"M247+L248","v":0},0,0,0,0,0,0,1E-4,0,0,{"$f":"INDEX(Hovedtal,B243,8)","v":0},"",null,null,{"$f":"IF(G248=0,AA249,IF(I248=0,0,I248))","v":0},{"$f":"IF(G248=0,AB249,IF(J248=0,AB251,AB251-J248))","v":1E-4},{"$f":"IF(G248=0,0,AC251+AA248*AG251)","v":0},{"$f":"IF(G248=0,0,AD251+AA248*AH251)","v":0},{"$f":"IF(G248=0,0,AC251+AB248*AG251)","v":0},{"$f":"IF(G248=0,0,AD251+AB248*AH251)","v":0},null,null,{"$f":"MAX(AA248:AA249)","v":0},{"$f":"MIN(AB248:AB249)","v":1E-4},{"$f":"IF(G248=0,0.5*(AI248+AJ248),(M248*G248+AA248*P248+0.5*(AA248+AB248)*(N248+(AB248-AA248)*O248)+AB248*Q248+AK247*AL247)/AL248)","v":5.0000000000000002E-5},{"$f":"AL247+N248+O248*(AB248-AA248)+P248+Q248","v":0},0.1,0,0,null,null,null,null,null,null,null,null,null,null,null,null,null,null,null,{"$f":"BB249","v":0},{"$f":"BH248+G248","v":0},{"$f":"BE248+G248","v":0},{"$f":"BA249","v":0},{"$f":"BE248","v":0},null,null,null,null,null,null,null,null,null,null,null,null,null,null,null,null,0,0,0,{"$f":"INDEX(Hovedtal,BS243,9+BW248)","v":{"$error":"#VALUE!"}},{"$f":"CD247+CC248","v":{"$error":"#VALUE!"}},0,0,0,0]
[null,null,null,null,null,3,{"$f":"IF(INDEX(Hovedtal,B243,9)<F249,0,INDEX(Etager,7-F249,2))","v":0},{"$f":"IF(F249>INDEX(Hovedtal,B243,9),0,INDEX(Hovedtal,B243,6))","v":0},0,0,1E-4,{"$f":"INDEX(Hovedtal,B243,9+F249)","v":0},{"$f":"M248+L249","v":0},0,0,0,0,0,0,1E-4,0,0,{"$f":"INDEX(Hovedtal,B243,8)","v":0},"",null,null,{"$f":"IF(G249=0,AA250,IF(I249=0,0,I249))","v":0},{"$f":"IF(G249=0,AB250,IF(J249=0,AB251,AB251-J249))","v":1E-4},{"$f":"IF(G249=0,0,AC251+AA249*AG251)","v":0},{"$f":"IF(G249=0,0,AD251+AA249*AH251)","v":0},{"$f":"IF(G249=0,0,AC251+AB249*AG251)","v":0},{"$f":"IF(G249=0,0,AD251+AB249*AH251)","v":0},null,null,{"$f":"MAX(AA249:AA250)","v":0},{"$f":"MIN(AB249:AB250)","v":1E-4},{"$f":"IF(G249=0,0.5*(AI249+AJ249),(M249*G249+AA249*P249+0.5*(AA249+AB249)*(N249+(AB249-AA249)*O249)+AB249*Q249+AK248*AL248)/AL249)","v":5.0000000000000002E-5},{"$f":"AL248+N249+O249*(AB249-AA249)+P249+Q249","v":0},0.1,0,0,null,null,null,null,null,null,null,null,null,null,{"$f":"AW250","v":0},{"$f":"BC249+G249","v":0},{"$f":"AZ249+G249","v":0},{"$f":"AV250","v":0},{"$f":"AZ249","v":0},null,null,null,null,null,null,null,null,null,null,null,null,null,null,null,null,null,null,null,null,null,0,0,0,{"$f":"INDEX(Hovedtal,BS243,9+BW249)","v":{"$error":"#VALUE!"}},{"$f":"CD248+CC249","v":{"$error":"#VALUE!"}},0,0,0,0]
[null,null,null,null,null,2,{"$f":"IF(INDEX(Hovedtal,B243,9)<F250,0,INDEX(Etager,7-F250,2))","v":0},{"$f":"IF(F250>INDEX(Hovedtal,B243,9),0,INDEX(Hovedtal,B243,6))","v":0},0,0,1E-4,{"$f":"INDEX(Hovedtal,B243,9+F250)","v":0},{"$f":"M249+L250","v":0},0,0,0,0,0,0,1E-4,0,0,{"$f":"INDEX(Hovedtal,B243,8)","v":0},"",null,null,{"$f":"IF(G250=0,AA251,IF(I250=0,0,I250))","v":0},{"$f":"IF(G250=0,AB251,IF(J250=0,AB251,AB251-J250))","v":1E-4},{"$f":"IF(G250=0,0,AC251+AA250*AG251)","v":0},{"$f":"IF(G250=0,0,AD251+AA250*AH251)","v":0},{"$f":"IF(G250=0,0,AC251+AB250*AG251)","v":0},{"$f":"IF(G250=0,0,AD251+AB250*AH251)","v":0},null,null,{"$f":"MAX(AA250:AA251)","v":0},{"$f":"MIN(AB250:AB251)","v":1E-4},{"$f":"IF(G250=0,0.5*(AI250+AJ250),(M250*G250+AA250*P250+0.5*(AA250+AB250)*(N250+(AB250-AA250)*O250)+AB250*Q250+AK249*AL249)/AL250)","v":5.0000000000000002E-5},{"$f":"AL249+N250+O250*(AB250-AA250)+P250+Q250","v":0},0.1,0,0,null,null,null,null,null,{"$f":"AR251","v":0},{"$f":"AX250+G250","v":0},{"$f":"AU250+G250","v":0},{"$f":"AQ251","v":0},{"$f":"AU250","v":0},null,null,null,null,null,null,null,null,null,null,null,null,null,null,null,null,null,null,null,null,null,null,null,null,null,null,0,0,0,{"$f":"INDEX(Hovedtal,BS243,9+BW250)","v":{"$error":"#VALUE!"}},{"$f":"CD249+CC250","v":{"$error":"#VALUE!"}},0,0,0,0]
[null,null,null,null,null,1,{"$f":"IF(INDEX(Hovedtal,B243,9)<F251,0,INDEX(Etager,7-F251,2))","v":0},{"$f":"IF(F251>INDEX(Hovedtal,B243,9),0,INDEX(Hovedtal,B243,6))","v":0},null,null,1E-4,{"$f":"INDEX(Hovedtal,B243,9+F251)","v":0},{"$f":"M250+L251","v":0},0,0,0,0,0,0,1E-4,0,0,{"$f":"INDEX(Hovedtal,B243,8)","v":0},"",null,null,0,{"$f":"SQRT((AE251-AC251)^2+(AF251-AD251)^2)+0.0001","v":1E-4},{"$f":"INDEX(Hovedtal,B243,2)","v":0},{"$f":"INDEX(Hovedtal,B243,3)","v":0},{"$f":"INDEX(Hovedtal,B243,4)","v":0},{"$f":"INDEX(Hovedtal,B243,5)","v":0},{"$f":"(AE251-AC251)/AB251","v":0},{"$f":"(AF251-AD251)/AB251","v":0},{"$f":"AA251","v":0},{"$f":"AB251","v":1E-4},{"$f":"IF(G251=0,0.5*(AI251+AJ251),(M251*G251+AA251*P251+0.5*(AA251+AB251)*(N251+(AB251-AA251)*O251)+AB251*Q251+AK250*AL250)/AL251)","v":5.0000000000000002E-5},{"$f":"AL250+N251+O251*(AB251-AA251)+P251+Q251","v":0},0.1,0,0,0,{"$f":"G251","v":0},{"$f":"G251","v":0},0,{"$f":"AP251","v":0},null,null,null,null,null,null,null,null,null,null,null,null,null,null,null,null,null,null,null,null,null,null,null,null,null,null,null,null,null,null,null,null,null,0,{"$f":"INDEX(Hovedtal,BS243,9+BW251)","v":{"$error":"#VALUE!"}},{"$f":"CD250+CC251","v":{"$error":"#VALUE!"}},0,0,0,0]
["*",null,null,null,null,null,null,null,null,null,null,null,null,null,null,null,null,null,null,null,null,null,null,null,null,null,null,null,null,null,null,null,null,null,null,null,null,null,null,null,null,null,null,null,null,null,null,null,null,null,null,null,null,null,null,null,null,null,null,null,null,null,null,null,null,null,null,null,null,null,null,{"$f":"MAX(AP244:BS251)+0.5","v":0.50009999999999999}]
[]
[null,"Væg",null,null,null,"Etage","h","t","r_1","r_2","L_eff","V_i","Q","G","p","P1","P2","T","N","b_1","b_2","n","n_max",null,null,null,"Etager:",6,null,null,null,null,null,null,null,null,null,null,null,null,null,"Hjørnepunkter i vægopstalt",null,null,null,null,null,null,null,null,null,null,null,null,null,null,null,null,null,null,null,null,null,null,null,null,null,null,null,null,null,null,null,null,null,null,null,"r_1","r_2","L_eff","V_i","Q","G","p","P1","P2"]
[null,{"$f":"B243+1","v":20},null,null,null,null,"(m)","(m)","(m)","(m)","(m)","(kN)","(kN)","(kN)","(kN/m)","(kN)","(kN)","(kN)","(kN)","(m)","(m)","(kN/m)","(kN/m)",null,null,null,null,null,null,null,null,null,null,null,null,null,null,null,null,null,null,null,null,null,null,null,null,null,null,null,null,null,null,null,null,null,null,null,null,null,null,null,null,null,null,null,null,null,null,null,null,null,null,null,null,null,null,"(m)","(m)","(m)","(kN)","(kN)","(kN)","(kN/m)","(kN)","(kN)"]
[null,null,null,null,null,null,null,null,null,null,null,null,null,null,null,null,null,null,null,null,null,null,null,null,null,null,"s_1","s_2","x_1","y_1","x_2","y_2","cos(a)","sin(a)","s_1_e","s_2_e","s_N","N_0","n","T_1","T_2",0,0,{"$f":"AB263","v":1E-4},{"$f":"AB263","v":1E-4},{"$f":"AP256","v":0},{"$f":"AA262","v":0},{"$f":"AA262","v":0},{"$f":"AB262","v":1E-4},{"$f":"AB262","v":1E-4},{"$f":"AU256","v":0},{"$f":"AA261","v":0},{"$f":"AA261","v":0},{"$f":"AB261","v":1E-4},{"$f":"AB261","v":1E-4},{"$f":"AZ256","v":0},{"$f":"AA260","v":0},{"$f":"AA260","v":0},{"$f":"AB260","v":1E-4},{"$f":"AB260","v":1E-4},{"$f":"BE256","v":0},{"$f":"AA259","v":0},{"$f":"AA259","v":0},{"$f":"AB259","v":1E-4},{"$f":"AB259","v":1E-4},{"$f":"BJ256","v":0},{"$f":"AA258","v":0},{"$f":"AA258","v":0},{"$f":"AB258","v":1E-4},{"$f":"AB258","v":1E-4},{"$f":"BO256","v":0},{"$f":"BT264","v":0.50009999999999999}]
[]
[null,null,null,null,null,6,{"$f":"IF(INDEX(Hovedtal,B255,9)<F258,0,INDEX(Etager,7-F258,2))","v":0},{"$f":"IF(F258>INDEX(Hovedtal,B255,9),0,INDEX(Hovedtal,B255,6))","v":0},0,0,{"$f":"AJ258-AI258","v":1E-4},{"$f":"INDEX(Hovedtal,B255,9+F258)","v":0},{"$f":"L258","v":0},{"$f":"(AB258-AA258)*H258*G258*g_g*g_e","v":0},0,0,0,{"$f":"IF(AK258>0.5*(AI258+AJ258),AO258,AN258)","v":0},{"$f":"AL258+R258","v":0},{"$f":"IF(AK258<=0.5*(AI258+AJ258),IF(AK258>AI258+0.5*AL258/AM258,2*(AK258-AI258),S258/AM258),0)","v":1E-4},{"$f":"IF(AK258>0.5*(AI258+AJ258),IF(AK258<AJ258-0.5*AL258/AM258,2*(AJ258-AK258),S258/AM258),0)","v":0},{"$f":"IF(AK258>0.5*(AI258+AJ258),S258/U258,S258/T258)","v":0},{"$f":"INDEX(Hovedtal,B255,8)","v":0},{"$f":"IF(OR(V258>W258,ABS(M258)>0.5*S258),\"!\",\"\")","v":""},null,null,{"$f":"IF(G258=0,AA259,IF(I258=0,0,I258))","v":0},{"$f":"IF(G258=0,AB259,IF(J258=0,AB263,AB263-J258))","v":1E-4},{"$f":"IF(G258=0,0,AC263+AA258*AG263)","v":0},{"$f":"IF(G258=0,0,AD263+AA258*AH263)","v":0},{"$f":"IF(G258=0,0,AC263+AB258*AG263)","v":0},{"$f":"IF(G258=0,0,AD263+AB258*AH263)","v":0},null,null,{"$f":"MAX(AA258:AA259)","v":0},{"$f":"MIN(AB258:AB259)","v":1E-4},{"$f":"IF(G258=0,0.5*(AI258+AJ258),(M258*G258+AA258*P258+0.5*(AA258+AB258)*(N258+(AB258-AA258)*O258)+AB258*Q258)/AL258)","v":5.0000000000000002E-5},{"$f":"N258+O258*(AB258-AA258)+P258+Q258","v":0},{"$f":"IF(AK258<0.5*(AI258+AJ258),MAX(W258,8*AL258*(0.5*(AJ258+AI258)-AK258)/(AJ258-AI258)^2+0.1),MAX(W258,-8*AL258*(0.5*(AJ258+AI258)-AK258)/(AJ258-AI258)^2+0.1))","v":0.1},{"$f":"IF(AND(AK258<0.5*(AI258+AJ258),AL258/AM258>2*(AK258-AI258)),AM258*(-SQRT((AL258/AM258+0.5*AI258-0.5*AJ258)^2-2*(-AK258*AL258/AM258+0.5*AL258^2/AM258^2+AI258*AL258/AM258))-(AL258/AM258+0.5*AI258-0.5*AJ258)),0)","v":0},{"$f":"IF(AND(AK258>=0.5*(AI258+AJ258),AL258/AM258>2*(AJ258-AK258)),AM258*(-SQRT((AL258/AM258+0.5*AI258-0.5*AJ258)^2-2*(AK258*AL258/AM258+0.5*AL258^2/AM258^2-AJ258*AL258/AM258))-(AL258/AM258+0.5*AI258-0.5*AJ258)),0)","v":0},null,null,null,null,null,null,null,null,null,null,null,null,null,null,null,null,null,null,null,null,null,null,null,null,null,{"$f":"BL259","v":0},{"$f":"BR258+G258","v":0},{"$f":"BO258+G258","v":0},{"$f":"BK259","v":0},{"$f":"BO258","v":0},null,null,null,null,null,null,0,0,{"$f":"DA258-CZ258","v":0},{"$f":"INDEX(Hovedtal,BS255,9+BW258)","v":{"$error":"#VALUE!"}},{"$f":"CC258","v":{"$error":"#VALUE!"}},{"$f":"(CS258-CR258)*BY258*BX258*g_g*g_e","v":0},0,0,0]
[null,null,null,null,null,5,{"$f":"IF(INDEX(Hovedtal,B255,9)<F259,0,INDEX(Etager,7-F259,2))","v":0},{"$f":"IF(F259>INDEX(Hovedtal,B255,9),0,INDEX(Hovedtal,B255,6))","v":0},0,0,1E-4,{"$f":"INDEX(Hovedtal,B255,9+F259)","v":0},{"$f":"M258+L259","v":0},0,0,0,0,0,0,1E-4,0,0,{"$f":"INDEX(Hovedtal,B255,8)","v":0},"",null,null,{"$f":"IF(G259=0,AA260,IF(I259=0,0,I259))","v":0},{"$f":"IF(G259=0,AB260,IF(J259=0,AB263,AB263-J259))","v":1E-4},{"$f":"IF(G259=0,0,AC263+AA259*AG263)","v":0},{"$f":"IF(G259=0,0,AD263+AA259*AH263)","v":0},{"$f":"IF(G259=0,0,AC263+AB259*AG263)","v":0},{"$f":"IF(G259=0,0,AD263+AB259*AH263)","v":0},null,null,{"$f":"MAX(AA259:AA260)","v":0},{"$f":"MIN(AB259:AB260)","v":1E-4},{"$f":"IF(G259=0,0.5*(AI259+AJ259),(M259*G259+AA259*P259+0.5*(AA259+AB259)*(N259+(AB259-AA259)*O259)+AB259*Q259+AK258*AL258)/AL259)","v":5.0000000000000002E-5},{"$f":"AL258+N259+O259*(AB259-AA259)+P259+Q259","v":0},0.1,0,0,null,null,null,null,null,null,null,null,null,null,null,null,null,null,null,null,null,null,null,null,{"$f":"BG260","v":0},{"$f":"BM259+G259","v":0},{"$f":"BJ259+G259","v":0},{"$f":"BF260","v":0},{"$f":"BJ259","v":0},null,null,null,null,null,null,null,null,null,null,null,0,0,0,{"$f":"INDEX(Hovedtal,BS255,9+BW259)","v":{"$error":"#VALUE!"}},{"$f":"CD258+CC259","v":{"$error":"#VALUE!"}},0,0,0,0]
[null,null,null,null,null,4,{"$f":"IF(INDEX(Hovedtal,B255,9)<F260,0,INDEX(Etager,7-F260,2))","v":0},{"$f":"IF(F260>INDEX(Hovedtal,B255,9),0,INDEX(Hovedtal,B255,6))","v":0},0,0,1E-4,{"$f":"INDEX(Hovedtal,B255,9+F260)","v":0},{"$f":"M259+L260","v":0},0,0,0,0,0,0,1E-4,0,0,{"$f":"INDEX(Hovedtal,B255,8)","v":0},"",null,null,{"$f":"IF(G260=0,AA261,IF(I260=0,0,I260))","v":0},{"$f":"IF(G260=0,AB261,IF(J260=0,AB263,AB263-J260))","v":1E-4},{"$f":"IF(G260=0,0,AC263+AA260*AG263)","v":0},{"$f":"IF(G260=0,0,AD263+AA260*AH263)","v":0},{"$f":"IF(G260=0,0,AC263+AB260*AG263)","v":0},{"$f":"IF(G260=0,0,AD263+AB260*AH263)","v":0},null,null,{"$f":"MAX(AA260:AA261)","v":0},{"$f":"MIN(AB260:AB261)","v":1E-4},{"$f":"IF(G260=0,0.5*(AI260+AJ260),(M260*G260+AA260*P260+0.5*(AA260+AB260)*(N260+(AB260-AA260)*O260)+AB260*Q260+AK259*AL259)/AL260)","v":5.0000000000000002E-5},{"$f":"AL259+N260+O260*(AB260-AA260)+P260+Q260","v":0},0.1,0,0,null,null,null,null,null,null,null,null,null,null,null,null,null,null,null,{"$f":"BB261","v":0},{"$f":"BH260+G260","v":0},{"$f":"BE260+G260","v":0},{"$f":"BA261","v":0},{"$f":"BE260","v":0},null,null,null,null,null,null,null,null,null,null,null,null,null,null,null,null,0,0,0,{"$f":"INDEX(Hovedtal,BS255,9+BW260)","v":{"$error":"#VALUE!"}},{"$f":"CD259+CC260","v":{"$error":"#VALUE!"}},0,0,0,0]
[null,null,null,null,null,3,{"$f":"IF(INDEX(Hovedtal,B255,9)<F261,0,INDEX(Etager,7-F261,2))","v":0},{"$f":"IF(F261>INDEX(Hovedtal,B255,9),0,INDEX(Hovedtal,B255,6))","v":0},0,0,1E-4,{"$f":"INDEX(Hovedtal,B255,9+F261)","v":0},{"$f":"M260+L261","v":0},0,0,0,0,0,0,1E-4,0,0,{"$f":"INDEX(Hovedtal,B255,8)","v":0},"",null,null,{"$f":"IF(G261=0,AA262,IF(I261=0,0,I261))","v":0},{"$f":"IF(G261=0,AB262,IF(J261=0,AB263,AB263-J261))","v":1E-4},{"$f":"IF(G261=0,0,AC263+AA261*AG263)","v":0},{"$f":"IF(G261=0,0,AD263+AA261*AH263)","v":0},{"$f":"IF(G261=0,0,AC263+AB261*AG263)","v":0},{"$f":"IF(G261=0,0,AD263+AB261*AH263)","v":0},null,null,{"$f":"MAX(AA261:AA262)","v":0},{"$f":"MIN(AB261:AB262)","v":1E-4},{"$f":"IF(G261=0,0.5*(AI261+AJ261),(M261*G261+AA261*P261+0.5*(AA261+AB261)*(N261+(AB261-AA261)*O261)+AB261*Q261+AK260*AL260)/AL261)","v":5.0000000000000002E-5},{"$f":"AL260+N261+O261*(AB261-AA261)+P261+Q261","v":0},0.1,0,0,null,null,null,null,null,null,null,null,null,null,{"$f":"AW262","v":0},{"$f":"BC261+G261","v":0},{"$f":"AZ261+G261","v":0},{"$f":"AV262","v":0},{"$f":"AZ261","v":0},null,null,null,null,null,null,null,null,null,null,null,null,null,null,null,null,null,null,null,null,null,0,0,0,{"$f":"INDEX(Hovedtal,BS255,9+BW261)","v":{"$error":"#VALUE!"}},{"$f":"CD260+CC261","v":{"$error":"#VALUE!"}},0,0,0,0]
[null,null,null,null,null,2,{"$f":"IF(INDEX(Hovedtal,B255,9)<F262,0,INDEX(Etager,7-F262,2))","v":0},{"$f":"IF(F262>INDEX(Hovedtal,B255,9),0,INDEX(Hovedtal,B255,6))","v":0},0,0,1E-4,{"$f":"INDEX(Hovedtal,B255,9+F262)","v":0},{"$f":"M261+L262","v":0},0,0,0,0,0,0,1E-4,0,0,{"$f":"INDEX(Hovedtal,B255,8)","v":0},"",null,null,{"$f":"IF(G262=0,AA263,IF(I262=0,0,I262))","v":0},{"$f":"IF(G262=0,AB263,IF(J262=0,AB263,AB263-J262))","v":1E-4},{"$f":"IF(G262=0,0,AC263+AA262*AG263)","v":0},{"$f":"IF(G262=0,0,AD263+AA262*AH263)","v":0},{"$f":"IF(G262=0,0,AC263+AB262*AG263)","v":0},{"$f":"IF(G262=0,0,AD263+AB262*AH263)","v":0},null,null,{"$f":"MAX(AA262:AA263)","v":0},{"$f":"MIN(AB262:AB263)","v":1E-4},{"$f":"IF(G262=0,0.5*(AI262+AJ262),(M262*G262+AA262*P262+0.5*(AA262+AB262)*(N262+(AB262-AA262)*O262)+AB262*Q262+AK261*AL261)/AL262)","v":5.0000000000000002E-5},{"$f":"AL261+N262+O262*(AB262-AA262)+P262+Q262","v":0},0.1,0,0,null,null,null,null,null,{"$f":"AR263","v":0},{"$f":"AX262+G262","v":0},{"$f":"AU262+G262","v":0},{"$f":"AQ263","v":0},{"$f":"AU262","v":0},null,null,null,null,null,null,null,null,null,null,null,null,null,null,null,null,null,null,null,null,null,null,null,null,null,null,0,0,0,{"$f":"INDEX(Hovedtal,BS255,9+BW262)","v":{"$error":"#VALUE!"}},{"$f":"CD261+CC262","v":{"$error":"#VALUE!"}},0,0,0,0]
[null,null,null,null,null,1,{"$f":"IF(INDEX(Hovedtal,B255,9)<F263,0,INDEX(Etager,7-F263,2))","v":0},{"$f":"IF(F263>INDEX(Hovedtal,B255,9),0,INDEX(Hovedtal,B255,6))","v":0},null,null,1E-4,{"$f":"INDEX(Hovedtal,B255,9+F263)","v":0},{"$f":"M262+L263","v":0},0,0,0,0,0,0,1E-4,0,0,{"$f":"INDEX(Hovedtal,B255,8)","v":0},"",null,null,0,{"$f":"SQRT((AE263-AC263)^2+(AF263-AD263)^2)+0.0001","v":1E-4},{"$f":"INDEX(Hovedtal,B255,2)","v":0},{"$f":"INDEX(Hovedtal,B255,3)","v":0},{"$f":"INDEX(Hovedtal,B255,4)","v":0},{"$f":"INDEX(Hovedtal,B255,5)","v":0},{"$f":"(AE263-AC263)/AB263","v":0},{"$f":"(AF263-AD263)/AB263","v":0},{"$f":"AA263","v":0},{"$f":"AB263","v":1E-4},{"$f":"IF(G263=0,0.5*(AI263+AJ263),(M263*G263+AA263*P263+0.5*(AA263+AB263)*(N263+(AB263-AA263)*O263)+AB263*Q263+AK262*AL262)/AL263)","v":5.0000000000000002E-5},{"$f":"AL262+N263+O263*(AB263-AA263)+P263+Q263","v":0},0.1,0,0,0,{"$f":"G263","v":0},{"$f":"G263","v":0},0,{"$f":"AP263","v":0},null,null,null,null,null,null,null,null,null,null,null,null,null,null,null,null,null,null,null,null,null,null,null,null,null,null,null,null,null,null,null,null,null,0,{"$f":"INDEX(Hovedtal,BS255,9+BW263)","v":{"$error":"#VALUE!"}},{"$f":"CD262+CC263","v":{"$error":"#VALUE!"}},0,0,0,0]
["*",null,null,null,null,null,null,null,null,null,null,null,null,null,null,null,null,null,null,null,null,null,null,null,null,null,null,null,null,null,null,null,null,null,null,null,null,null,null,null,null,null,null,null,null,null,null,null,null,null,null,null,null,null,null,null,null,null,null,null,null,null,null,null,null,null,null,null,null,null,null,{"$f":"MAX(AP256:BS263)+0.5","v":0.50009999999999999}]
[]
[null,"Væg",null,null,null,"Etage","h","t","r_1","r_2","L_eff","V_i","Q","G","p","P1","P2","T","N","b_1","b_2","n","n_max",null,null,null,"Etager:",6,null,null,null,null,null,null,null,null,null,null,null,null,null,"Hjørnepunkter i vægopstalt",null,null,null,null,null,null,null,null,null,null,null,null,null,null,null,null,null,null,null,null,null,null,null,null,null,null,null,null,null,null,null,null,null,null,null,"r_1","r_2","L_eff","V_i","Q","G","p","P1","P2"]
[null,{"$f":"B255+1","v":21},null,null,null,null,"(m)","(m)","(m)","(m)","(m)","(kN)","(kN)","(kN)","(kN/m)","(kN)","(kN)","(kN)","(kN)","(m)","(m)","(kN/m)","(kN/m)",null,null,null,null,null,null,null,null,null,null,null,null,null,null,null,null,null,null,null,null,null,null,null,null,null,null,null,null,null,null,null,null,null,null,null,null,null,null,null,null,null,null,null,null,null,null,null,null,null,null,null,null,null,null,"(m)","(m)","(m)","(kN)","(kN)","(kN)","(kN/m)","(kN)","(kN)"]
[null,null,null,null,null,null,null,null,null,null,null,null,null,null,null,null,null,null,null,null,null,null,null,null,null,null,"s_1","s_2","x_1","y_1","x_2","y_2","cos(a)","sin(a)","s_1_e","s_2_e","s_N","N_0","n","T_1","T_2",0,0,{"$f":"AB275","v":1E-4},{"$f":"AB275","v":1E-4},{"$f":"AP268","v":0},{"$f":"AA274","v":0},{"$f":"AA274","v":0},{"$f":"AB274","v":1E-4},{"$f":"AB274","v":1E-4},{"$f":"AU268","v":0},{"$f":"AA273","v":0},{"$f":"AA273","v":0},{"$f":"AB273","v":1E-4},{"$f":"AB273","v":1E-4},{"$f":"AZ268","v":0},{"$f":"AA272","v":0},{"$f":"AA272","v":0},{"$f":"AB272","v":1E-4},{"$f":"AB272","v":1E-4},{"$f":"BE268","v":0},{"$f":"AA271","v":0},{"$f":"AA271","v":0},{"$f":"AB271","v":1E-4},{"$f":"AB271","v":1E-4},{"$f":"BJ268","v":0},{"$f":"AA270","v":0},{"$f":"AA270","v":0},{"$f":"AB270","v":1E-4},{"$f":"AB270","v":1E-4},{"$f":"BO268","v":0},{"$f":"BT276","v":0.50009999999999999}]
[]
[null,null,null,null,null,6,{"$f":"IF(INDEX(Hovedtal,B267,9)<F270,0,INDEX(Etager,7-F270,2))","v":0},{"$f":"IF(F270>INDEX(Hovedtal,B267,9),0,INDEX(Hovedtal,B267,6))","v":0},0,0,{"$f":"AJ270-AI270","v":1E-4},{"$f":"INDEX(Hovedtal,B267,9+F270)","v":0},{"$f":"L270","v":0},{"$f":"(AB270-AA270)*H270*G270*g_g*g_e","v":0},0,0,0,{"$f":"IF(AK270>0.5*(AI270+AJ270),AO270,AN270)","v":0},{"$f":"AL270+R270","v":0},{"$f":"IF(AK270<=0.5*(AI270+AJ270),IF(AK270>AI270+0.5*AL270/AM270,2*(AK270-AI270),S270/AM270),0)","v":1E-4},{"$f":"IF(AK270>0.5*(AI270+AJ270),IF(AK270<AJ270-0.5*AL270/AM270,2*(AJ270-AK270),S270/AM270),0)","v":0},{"$f":"IF(AK270>0.5*(AI270+AJ270),S270/U270,S270/T270)","v":0},{"$f":"INDEX(Hovedtal,B267,8)","v":0},{"$f":"IF(OR(V270>W270,ABS(M270)>0.5*S270),\"!\",\"\")","v":""},null,null,{"$f":"IF(G270=0,AA271,IF(I270=0,0,I270))","v":0},{"$f":"IF(G270=0,AB271,IF(J270=0,AB275,AB275-J270))","v":1E-4},{"$f":"IF(G270=0,0,AC275+AA270*AG275)","v":0},{"$f":"IF(G270=0,0,AD275+AA270*AH275)","v":0},{"$f":"IF(G270=0,0,AC275+AB270*AG275)","v":0},{"$f":"IF(G270=0,0,AD275+AB270*AH275)","v":0},null,null,{"$f":"MAX(AA270:AA271)","v":0},{"$f":"MIN(AB270:AB271)","v":1E-4},{"$f":"IF(G270=0,0.5*(AI270+AJ270),(M270*G270+AA270*P270+0.5*(AA270+AB270)*(N270+(AB270-AA270)*O270)+AB270*Q270)/AL270)","v":5.0000000000000002E-5},{"$f":"N270+O270*(AB270-AA270)+P270+Q270","v":0},{"$f":"IF(AK270<0.5*(AI270+AJ270),MAX(W270,8*AL270*(0.5*(AJ270+AI270)-AK270)/(AJ270-AI270)^2+0.1),MAX(W270,-8*AL270*(0.5*(AJ270+AI270)-AK270)/(AJ270-AI270)^2+0.1))","v":0.1},{"$f":"IF(AND(AK270<0.5*(AI270+AJ270),AL270/AM270>2*(AK270-AI270)),AM270*(-SQRT((AL270/AM270+0.5*AI270-0.5*AJ270)^2-2*(-AK270*AL270/AM270+0.5*AL270^2/AM270^2+AI270*AL270/AM270))-(AL270/AM270+0.5*AI270-0.5*AJ270)),0)","v":0},{"$f":"IF(AND(AK270>=0.5*(AI270+AJ270),AL270/AM270>2*(AJ270-AK270)),AM270*(-SQRT((AL270/AM270+0.5*AI270-0.5*AJ270)^2-2*(AK270*AL270/AM270+0.5*AL270^2/AM270^2-AJ270*AL270/AM270))-(AL270/AM270+0.5*AI270-0.5*AJ270)),0)","v":0},null,null,null,null,null,null,null,null,null,null,null,null,null,null,null,null,null,null,null,null,null,null,null,null,null,{"$f":"BL271","v":0},{"$f":"BR270+G270","v":0},{"$f":"BO270+G270","v":0},{"$f":"BK271","v":0},{"$f":"BO270","v":0},null,null,null,null,null,null,0,0,{"$f":"DA270-CZ270","v":0},{"$f":"INDEX(Hovedtal,BS267,9+BW270)","v":{"$error":"#VALUE!"}},{"$f":"CC270","v":{"$error":"#VALUE!"}},{"$f":"(CS270-CR270)*BY270*BX270*g_g*g_e","v":0},0,0,0]
[null,null,null,null,null,5,{"$f":"IF(INDEX(Hovedtal,B267,9)<F271,0,INDEX(Etager,7-F271,2))","v":0},{"$f":"IF(F271>INDEX(Hovedtal,B267,9),0,INDEX(Hovedtal,B267,6))","v":0},0,0,1E-4,{"$f":"INDEX(Hovedtal,B267,9+F271)","v":0},{"$f":"M270+L271","v":0},0,0,0,0,0,0,1E-4,0,0,{"$f":"INDEX(Hovedtal,B267,8)","v":0},"",null,null,{"$f":"IF(G271=0,AA272,IF(I271=0,0,I271))","v":0},{"$f":"IF(G271=0,AB272,IF(J271=0,AB275,AB275-J271))","v":1E-4},{"$f":"IF(G271=0,0,AC275+AA271*AG275)","v":0},{"$f":"IF(G271=0,0,AD275+AA271*AH275)","v":0},{"$f":"IF(G271=0,0,AC275+AB271*AG275)","v":0},{"$f":"IF(G271=0,0,AD275+AB271*AH275)","v":0},null,null,{"$f":"MAX(AA271:AA272)","v":0},{"$f":"MIN(AB271:AB272)","v":1E-4},{"$f":"IF(G271=0,0.5*(AI271+AJ271),(M271*G271+AA271*P271+0.5*(AA271+AB271)*(N271+(AB271-AA271)*O271)+AB271*Q271+AK270*AL270)/AL271)","v":5.0000000000000002E-5},{"$f":"AL270+N271+O271*(AB271-AA271)+P271+Q271","v":0},0.1,0,0,null,null,null,null,null,null,null,null,null,null,null,null,null,null,null,null,null,null,null,null,{"$f":"BG272","v":0},{"$f":"BM271+G271","v":0},{"$f":"BJ271+G271","v":0},{"$f":"BF272","v":0},{"$f":"BJ271","v":0},null,null,null,null,null,null,null,null,null,null,null,0,0,0,{"$f":"INDEX(Hovedtal,BS267,9+BW271)","v":{"$error":"#VALUE!"}},{"$f":"CD270+CC271","v":{"$error":"#VALUE!"}},0,0,0,0]
[null,null,null,null,null,4,{"$f":"IF(INDEX(Hovedtal,B267,9)<F272,0,INDEX(Etager,7-F272,2))","v":0},{"$f":"IF(F272>INDEX(Hovedtal,B267,9),0,INDEX(Hovedtal,B267,6))","v":0},0,0,1E-4,{"$f":"INDEX(Hovedtal,B267,9+F272)","v":0},{"$f":"M271+L272","v":0},0,0,0,0,0,0,1E-4,0,0,{"$f":"INDEX(Hovedtal,B267,8)","v":0},"",null,null,{"$f":"IF(G272=0,AA273,IF(I272=0,0,I272))","v":0},{"$f":"IF(G272=0,AB273,IF(J272=0,AB275,AB275-J272))","v":1E-4},{"$f":"IF(G272=0,0,AC275+AA272*AG275)","v":0},{"$f":"IF(G272=0,0,AD275+AA272*AH275)","v":0},{"$f":"IF(G272=0,0,AC275+AB272*AG275)","v":0},{"$f":"IF(G272=0,0,AD275+AB272*AH275)","v":0},null,null,{"$f":"MAX(AA272:AA273)","v":0},{"$f":"MIN(AB272:AB273)","v":1E-4},{"$f":"IF(G272=0,0.5*(AI272+AJ272),(M272*G272+AA272*P272+0.5*(AA272+AB272)*(N272+(AB272-AA272)*O272)+AB272*Q272+AK271*AL271)/AL272)","v":5.0000000000000002E-5},{"$f":"AL271+N272+O272*(AB272-AA272)+P272+Q272","v":0},0.1,0,0,null,null,null,null,null,null,null,null,null,null,null,null,null,null,null,{"$f":"BB273","v":0},{"$f":"BH272+G272","v":0},{"$f":"BE272+G272","v":0},{"$f":"BA273","v":0},{"$f":"BE272","v":0},null,null,null,null,null,null,null,null,null,null,null,null,null,null,null,null,0,0,0,{"$f":"INDEX(Hovedtal,BS267,9+BW272)","v":{"$error":"#VALUE!"}},{"$f":"CD271+CC272","v":{"$error":"#VALUE!"}},0,0,0,0]
[null,null,null,null,null,3,{"$f":"IF(INDEX(Hovedtal,B267,9)<F273,0,INDEX(Etager,7-F273,2))","v":0},{"$f":"IF(F273>INDEX(Hovedtal,B267,9),0,INDEX(Hovedtal,B267,6))","v":0},0,0,1E-4,{"$f":"INDEX(Hovedtal,B267,9+F273)","v":0},{"$f":"M272+L273","v":0},0,0,0,0,0,0,1E-4,0,0,{"$f":"INDEX(Hovedtal,B267,8)","v":0},"",null,null,{"$f":"IF(G273=0,AA274,IF(I273=0,0,I273))","v":0},{"$f":"IF(G273=0,AB274,IF(J273=0,AB275,AB275-J273))","v":1E-4},{"$f":"IF(G273=0,0,AC275+AA273*AG275)","v":0},{"$f":"IF(G273=0,0,AD275+AA273*AH275)","v":0},{"$f":"IF(G273=0,0,AC275+AB273*AG275)","v":0},{"$f":"IF(G273=0,0,AD275+AB273*AH275)","v":0},null,null,{"$f":"MAX(AA273:AA274)","v":0},{"$f":"MIN(AB273:AB274)","v":1E-4},{"$f":"IF(G273=0,0.5*(AI273+AJ273),(M273*G273+AA273*P273+0.5*(AA273+AB273)*(N273+(AB273-AA273)*O273)+AB273*Q273+AK272*AL272)/AL273)","v":5.0000000000000002E-5},{"$f":"AL272+N273+O273*(AB273-AA273)+P273+Q273","v":0},0.1,0,0,null,null,null,null,null,null,null,null,null,null,{"$f":"AW274","v":0},{"$f":"BC273+G273","v":0},{"$f":"AZ273+G273","v":0},{"$f":"AV274","v":0},{"$f":"AZ273","v":0},null,null,null,null,null,null,null,null,null,null,null,null,null,null,null,null,null,null,null,null,null,0,0,0,{"$f":"INDEX(Hovedtal,BS267,9+BW273)","v":{"$error":"#VALUE!"}},{"$f":"CD272+CC273","v":{"$error":"#VALUE!"}},0,0,0,0]
[null,null,null,null,null,2,{"$f":"IF(INDEX(Hovedtal,B267,9)<F274,0,INDEX(Etager,7-F274,2))","v":0},{"$f":"IF(F274>INDEX(Hovedtal,B267,9),0,INDEX(Hovedtal,B267,6))","v":0},0,0,1E-4,{"$f":"INDEX(Hovedtal,B267,9+F274)","v":0},{"$f":"M273+L274","v":0},0,0,0,0,0,0,1E-4,0,0,{"$f":"INDEX(Hovedtal,B267,8)","v":0},"",null,null,{"$f":"IF(G274=0,AA275,IF(I274=0,0,I274))","v":0},{"$f":"IF(G274=0,AB275,IF(J274=0,AB275,AB275-J274))","v":1E-4},{"$f":"IF(G274=0,0,AC275+AA274*AG275)","v":0},{"$f":"IF(G274=0,0,AD275+AA274*AH275)","v":0},{"$f":"IF(G274=0,0,AC275+AB274*AG275)","v":0},{"$f":"IF(G274=0,0,AD275+AB274*AH275)","v":0},null,null,{"$f":"MAX(AA274:AA275)","v":0},{"$f":"MIN(AB274:AB275)","v":1E-4},{"$f":"IF(G274=0,0.5*(AI274+AJ274),(M274*G274+AA274*P274+0.5*(AA274+AB274)*(N274+(AB274-AA274)*O274)+AB274*Q274+AK273*AL273)/AL274)","v":5.0000000000000002E-5},{"$f":"AL273+N274+O274*(AB274-AA274)+P274+Q274","v":0},0.1,0,0,null,null,null,null,null,{"$f":"AR275","v":0},{"$f":"AX274+G274","v":0},{"$f":"AU274+G274","v":0},{"$f":"AQ275","v":0},{"$f":"AU274","v":0},null,null,null,null,null,null,null,null,null,null,null,null,null,null,null,null,null,null,null,null,null,null,null,null,null,null,0,0,0,{"$f":"INDEX(Hovedtal,BS267,9+BW274)","v":{"$error":"#VALUE!"}},{"$f":"CD273+CC274","v":{"$error":"#VALUE!"}},0,0,0,0]
[null,null,null,null,null,1,{"$f":"IF(INDEX(Hovedtal,B267,9)<F275,0,INDEX(Etager,7-F275,2))","v":0},{"$f":"IF(F275>INDEX(Hovedtal,B267,9),0,INDEX(Hovedtal,B267,6))","v":0},null,null,1E-4,{"$f":"INDEX(Hovedtal,B267,9+F275)","v":0},{"$f":"M274+L275","v":0},0,0,0,0,0,0,1E-4,0,0,{"$f":"INDEX(Hovedtal,B267,8)","v":0},"",null,null,0,{"$f":"SQRT((AE275-AC275)^2+(AF275-AD275)^2)+0.0001","v":1E-4},{"$f":"INDEX(Hovedtal,B267,2)","v":0},{"$f":"INDEX(Hovedtal,B267,3)","v":0},{"$f":"INDEX(Hovedtal,B267,4)","v":0},{"$f":"INDEX(Hovedtal,B267,5)","v":0},{"$f":"(AE275-AC275)/AB275","v":0},{"$f":"(AF275-AD275)/AB275","v":0},{"$f":"AA275","v":0},{"$f":"AB275","v":1E-4},{"$f":"IF(G275=0,0.5*(AI275+AJ275),(M275*G275+AA275*P275+0.5*(AA275+AB275)*(N275+(AB275-AA275)*O275)+AB275*Q275+AK274*AL274)/AL275)","v":5.0000000000000002E-5},{"$f":"AL274+N275+O275*(AB275-AA275)+P275+Q275","v":0},0.1,0,0,0,{"$f":"G275","v":0},{"$f":"G275","v":0},0,{"$f":"AP275","v":0},null,null,null,null,null,null,null,null,null,null,null,null,null,null,null,null,null,null,null,null,null,null,null,null,null,null,null,null,null,null,null,null,null,0,{"$f":"INDEX(Hovedtal,BS267,9+BW275)","v":{"$error":"#VALUE!"}},{"$f":"CD274+CC275","v":{"$error":"#VALUE!"}},0,0,0,0]
["*",null,null,null,null,null,null,null,null,null,null,null,null,null,null,null,null,null,null,null,null,null,null,null,null,null,null,null,null,null,null,null,null,null,null,null,null,null,null,null,null,null,null,null,null,null,null,null,null,null,null,null,null,null,null,null,null,null,null,null,null,null,null,null,null,null,null,null,null,null,null,{"$f":"MAX(AP268:BS275)+0.5","v":0.50009999999999999}]
[]
[null,"Væg",null,null,null,"Etage","h","t","r_1","r_2","L_eff","V_i","Q","G","p","P1","P2","T","N","b_1","b_2","n","n_max",null,null,null,"Etager:",6,null,null,null,null,null,null,null,null,null,null,null,null,null,"Hjørnepunkter i vægopstalt",null,null,null,null,null,null,null,null,null,null,null,null,null,null,null,null,null,null,null,null,null,null,null,null,null,null,null,null,null,null,null,null,null,null,null,"r_1","r_2","L_eff","V_i","Q","G","p","P1","P2"]
[null,{"$f":"B267+1","v":22},null,null,null,null,"(m)","(m)","(m)","(m)","(m)","(kN)","(kN)","(kN)","(kN/m)","(kN)","(kN)","(kN)","(kN)","(m)","(m)","(kN/m)","(kN/m)",null,null,null,null,null,null,null,null,null,null,null,null,null,null,null,null,null,null,null,null,null,null,null,null,null,null,null,null,null,null,null,null,null,null,null,null,null,null,null,null,null,null,null,null,null,null,null,null,null,null,null,null,null,null,"(m)","(m)","(m)","(kN)","(kN)","(kN)","(kN/m)","(kN)","(kN)"]
[null,null,null,null,null,null,null,null,null,null,null,null,null,null,null,null,null,null,null,null,null,null,null,null,null,null,"s_1","s_2","x_1","y_1","x_2","y_2","cos(a)","sin(a)","s_1_e","s_2_e","s_N","N_0","n","T_1","T_2",0,0,{"$f":"AB287","v":1E-4},{"$f":"AB287","v":1E-4},{"$f":"AP280","v":0},{"$f":"AA286","v":0},{"$f":"AA286","v":0},{"$f":"AB286","v":1E-4},{"$f":"AB286","v":1E-4},{"$f":"AU280","v":0},{"$f":"AA285","v":0},{"$f":"AA285","v":0},{"$f":"AB285","v":1E-4},{"$f":"AB285","v":1E-4},{"$f":"AZ280","v":0},{"$f":"AA284","v":0},{"$f":"AA284","v":0},{"$f":"AB284","v":1E-4},{"$f":"AB284","v":1E-4},{"$f":"BE280","v":0},{"$f":"AA283","v":0},{"$f":"AA283","v":0},{"$f":"AB283","v":1E-4},{"$f":"AB283","v":1E-4},{"$f":"BJ280","v":0},{"$f":"AA282","v":0},{"$f":"AA282","v":0},{"$f":"AB282","v":1E-4},{"$f":"AB282","v":1E-4},{"$f":"BO280","v":0},{"$f":"BT288","v":0.50009999999999999}]
[]
[null,null,null,null,null,6,{"$f":"IF(INDEX(Hovedtal,B279,9)<F282,0,INDEX(Etager,7-F282,2))","v":0},{"$f":"IF(F282>INDEX(Hovedtal,B279,9),0,INDEX(Hovedtal,B279,6))","v":0},0,0,{"$f":"AJ282-AI282","v":1E-4},{"$f":"INDEX(Hovedtal,B279,9+F282)","v":0},{"$f":"L282","v":0},{"$f":"(AB282-AA282)*H282*G282*g_g*g_e","v":0},0,0,0,{"$f":"IF(AK282>0.5*(AI282+AJ282),AO282,AN282)","v":0},{"$f":"AL282+R282","v":0},{"$f":"IF(AK282<=0.5*(AI282+AJ282),IF(AK282>AI282+0.5*AL282/AM282,2*(AK282-AI282),S282/AM282),0)","v":1E-4},{"$f":"IF(AK282>0.5*(AI282+AJ282),IF(AK282<AJ282-0.5*AL282/AM282,2*(AJ282-AK282),S282/AM282),0)","v":0},{"$f":"IF(AK282>0.5*(AI282+AJ282),S282/U282,S282/T282)","v":0},{"$f":"INDEX(Hovedtal,B279,8)","v":0},{"$f":"IF(OR(V282>W282,ABS(M282)>0.5*S282),\"!\",\"\")","v":""},null,null,{"$f":"IF(G282=0,AA283,IF(I282=0,0,I282))","v":0},{"$f":"IF(G282=0,AB283,IF(J282=0,AB287,AB287-J282))","v":1E-4},{"$f":"IF(G282=0,0,AC287+AA282*AG287)","v":0},{"$f":"IF(G282=0,0,AD287+AA282*AH287)","v":0},{"$f":"IF(G282=0,0,AC287+AB282*AG287)","v":0},{"$f":"IF(G282=0,0,AD287+AB282*AH287)","v":0},null,null,{"$f":"MAX(AA282:AA283)","v":0},{"$f":"MIN(AB282:AB283)","v":1E-4},{"$f":"IF(G282=0,0.5*(AI282+AJ282),(M282*G282+AA282*P282+0.5*(AA282+AB282)*(N282+(AB282-AA282)*O282)+AB282*Q282)/AL282)","v":5.0000000000000002E-5},{"$f":"N282+O282*(AB282-AA282)+P282+Q282","v":0},{"$f":"IF(AK282<0.5*(AI282+AJ282),MAX(W282,8*AL282*(0.5*(AJ282+AI282)-AK282)/(AJ282-AI282)^2+0.1),MAX(W282,-8*AL282*(0.5*(AJ282+AI282)-AK282)/(AJ282-AI282)^2+0.1))","v":0.1},{"$f":"IF(AND(AK282<0.5*(AI282+AJ282),AL282/AM282>2*(AK282-AI282)),AM282*(-SQRT((AL282/AM282+0.5*AI282-0.5*AJ282)^2-2*(-AK282*AL282/AM282+0.5*AL282^2/AM282^2+AI282*AL282/AM282))-(AL282/AM282+0.5*AI282-0.5*AJ282)),0)","v":0},{"$f":"IF(AND(AK282>=0.5*(AI282+AJ282),AL282/AM282>2*(AJ282-AK282)),AM282*(-SQRT((AL282/AM282+0.5*AI282-0.5*AJ282)^2-2*(AK282*AL282/AM282+0.5*AL282^2/AM282^2-AJ282*AL282/AM282))-(AL282/AM282+0.5*AI282-0.5*AJ282)),0)","v":0},null,null,null,null,null,null,null,null,null,null,null,null,null,null,null,null,null,null,null,null,null,null,null,null,null,{"$f":"BL283","v":0},{"$f":"BR282+G282","v":0},{"$f":"BO282+G282","v":0},{"$f":"BK283","v":0},{"$f":"BO282","v":0},null,null,null,null,null,null,0,0,{"$f":"DA282-CZ282","v":0},{"$f":"INDEX(Hovedtal,BS279,9+BW282)","v":{"$error":"#VALUE!"}},{"$f":"CC282","v":{"$error":"#VALUE!"}},{"$f":"(CS282-CR282)*BY282*BX282*g_g*g_e","v":0},0,0,0]
[null,null,null,null,null,5,{"$f":"IF(INDEX(Hovedtal,B279,9)<F283,0,INDEX(Etager,7-F283,2))","v":0},{"$f":"IF(F283>INDEX(Hovedtal,B279,9),0,INDEX(Hovedtal,B279,6))","v":0},0,0,1E-4,{"$f":"INDEX(Hovedtal,B279,9+F283)","v":0},{"$f":"M282+L283","v":0},0,0,0,0,0,0,1E-4,0,0,{"$f":"INDEX(Hovedtal,B279,8)","v":0},"",null,null,{"$f":"IF(G283=0,AA284,IF(I283=0,0,I283))","v":0},{"$f":"IF(G283=0,AB284,IF(J283=0,AB287,AB287-J283))","v":1E-4},{"$f":"IF(G283=0,0,AC287+AA283*AG287)","v":0},{"$f":"IF(G283=0,0,AD287+AA283*AH287)","v":0},{"$f":"IF(G283=0,0,AC287+AB283*AG287)","v":0},{"$f":"IF(G283=0,0,AD287+AB283*AH287)","v":0},null,null,{"$f":"MAX(AA283:AA284)","v":0},{"$f":"MIN(AB283:AB284)","v":1E-4},{"$f":"IF(G283=0,0.5*(AI283+AJ283),(M283*G283+AA283*P283+0.5*(AA283+AB283)*(N283+(AB283-AA283)*O283)+AB283*Q283+AK282*AL282)/AL283)","v":5.0000000000000002E-5},{"$f":"AL282+N283+O283*(AB283-AA283)+P283+Q283","v":0},0.1,0,0,null,null,null,null,null,null,null,null,null,null,null,null,null,null,null,null,null,null,null,null,{"$f":"BG284","v":0},{"$f":"BM283+G283","v":0},{"$f":"BJ283+G283","v":0},{"$f":"BF284","v":0},{"$f":"BJ283","v":0},null,null,null,null,null,null,null,null,null,null,null,0,0,0,{"$f":"INDEX(Hovedtal,BS279,9+BW283)","v":{"$error":"#VALUE!"}},{"$f":"CD282+CC283","v":{"$error":"#VALUE!"}},0,0,0,0]
[null,null,null,null,null,4,{"$f":"IF(INDEX(Hovedtal,B279,9)<F284,0,INDEX(Etager,7-F284,2))","v":0},{"$f":"IF(F284>INDEX(Hovedtal,B279,9),0,INDEX(Hovedtal,B279,6))","v":0},0,0,1E-4,{"$f":"INDEX(Hovedtal,B279,9+F284)","v":0},{"$f":"M283+L284","v":0},0,0,0,0,0,0,1E-4,0,0,{"$f":"INDEX(Hovedtal,B279,8)","v":0},"",null,null,{"$f":"IF(G284=0,AA285,IF(I284=0,0,I284))","v":0},{"$f":"IF(G284=0,AB285,IF(J284=0,AB287,AB287-J284))","v":1E-4},{"$f":"IF(G284=0,0,AC287+AA284*AG287)","v":0},{"$f":"IF(G284=0,0,AD287+AA284*AH287)","v":0},{"$f":"IF(G284=0,0,AC287+AB284*AG287)","v":0},{"$f":"IF(G284=0,0,AD287+AB284*AH287)","v":0},null,null,{"$f":"MAX(AA284:AA285)","v":0},{"$f":"MIN(AB284:AB285)","v":1E-4},{"$f":"IF(G284=0,0.5*(AI284+AJ284),(M284*G284+AA284*P284+0.5*(AA284+AB284)*(N284+(AB284-AA284)*O284)+AB284*Q284+AK283*AL283)/AL284)","v":5.0000000000000002E-5},{"$f":"AL283+N284+O284*(AB284-AA284)+P284+Q284","v":0},0.1,0,0,null,null,null,null,null,null,null,null,null,null,null,null,null,null,null,{"$f":"BB285","v":0},{"$f":"BH284+G284","v":0},{"$f":"BE284+G284","v":0},{"$f":"BA285","v":0},{"$f":"BE284","v":0},null,null,null,null,null,null,null,null,null,null,null,null,null,null,null,null,0,0,0,{"$f":"INDEX(Hovedtal,BS279,9+BW284)","v":{"$error":"#VALUE!"}},{"$f":"CD283+CC284","v":{"$error":"#VALUE!"}},0,0,0,0]
[null,null,null,null,null,3,{"$f":"IF(INDEX(Hovedtal,B279,9)<F285,0,INDEX(Etager,7-F285,2))","v":0},{"$f":"IF(F285>INDEX(Hovedtal,B279,9),0,INDEX(Hovedtal,B279,6))","v":0},0,0,1E-4,{"$f":"INDEX(Hovedtal,B279,9+F285)","v":0},{"$f":"M284+L285","v":0},0,0,0,0,0,0,1E-4,0,0,{"$f":"INDEX(Hovedtal,B279,8)","v":0},"",null,null,{"$f":"IF(G285=0,AA286,IF(I285=0,0,I285))","v":0},{"$f":"IF(G285=0,AB286,IF(J285=0,AB287,AB287-J285))","v":1E-4},{"$f":"IF(G285=0,0,AC287+AA285*AG287)","v":0},{"$f":"IF(G285=0,0,AD287+AA285*AH287)","v":0},{"$f":"IF(G285=0,0,AC287+AB285*AG287)","v":0},{"$f":"IF(G285=0,0,AD287+AB285*AH287)","v":0},null,null,{"$f":"MAX(AA285:AA286)","v":0},{"$f":"MIN(AB285:AB286)","v":1E-4},{"$f":"IF(G285=0,0.5*(AI285+AJ285),(M285*G285+AA285*P285+0.5*(AA285+AB285)*(N285+(AB285-AA285)*O285)+AB285*Q285+AK284*AL284)/AL285)","v":5.0000000000000002E-5},{"$f":"AL284+N285+O285*(AB285-AA285)+P285+Q285","v":0},0.1,0,0,null,null,null,null,null,null,null,null,null,null,{"$f":"AW286","v":0},{"$f":"BC285+G285","v":0},{"$f":"AZ285+G285","v":0},{"$f":"AV286","v":0},{"$f":"AZ285","v":0},null,null,null,null,null,null,null,null,null,null,null,null,null,null,null,null,null,null,null,null,null,0,0,0,{"$f":"INDEX(Hovedtal,BS279,9+BW285)","v":{"$error":"#VALUE!"}},{"$f":"CD284+CC285","v":{"$error":"#VALUE!"}},0,0,0,0]
[null,null,null,null,null,2,{"$f":"IF(INDEX(Hovedtal,B279,9)<F286,0,INDEX(Etager,7-F286,2))","v":0},{"$f":"IF(F286>INDEX(Hovedtal,B279,9),0,INDEX(Hovedtal,B279,6))","v":0},0,0,1E-4,{"$f":"INDEX(Hovedtal,B279,9+F286)","v":0},{"$f":"M285+L286","v":0},0,0,0,0,0,0,1E-4,0,0,{"$f":"INDEX(Hovedtal,B279,8)","v":0},"",null,null,{"$f":"IF(G286=0,AA287,IF(I286=0,0,I286))","v":0},{"$f":"IF(G286=0,AB287,IF(J286=0,AB287,AB287-J286))","v":1E-4},{"$f":"IF(G286=0,0,AC287+AA286*AG287)","v":0},{"$f":"IF(G286=0,0,AD287+AA286*AH287)","v":0},{"$f":"IF(G286=0,0,AC287+AB286*AG287)","v":0},{"$f":"IF(G286=0,0,AD287+AB286*AH287)","v":0},null,null,{"$f":"MAX(AA286:AA287)","v":0},{"$f":"MIN(AB286:AB287)","v":1E-4},{"$f":"IF(G286=0,0.5*(AI286+AJ286),(M286*G286+AA286*P286+0.5*(AA286+AB286)*(N286+(AB286-AA286)*O286)+AB286*Q286+AK285*AL285)/AL286)","v":5.0000000000000002E-5},{"$f":"AL285+N286+O286*(AB286-AA286)+P286+Q286","v":0},0.1,0,0,null,null,null,null,null,{"$f":"AR287","v":0},{"$f":"AX286+G286","v":0},{"$f":"AU286+G286","v":0},{"$f":"AQ287","v":0},{"$f":"AU286","v":0},null,null,null,null,null,null,null,null,null,null,null,null,null,null,null,null,null,null,null,null,null,null,null,null,null,null,0,0,0,{"$f":"INDEX(Hovedtal,BS279,9+BW286)","v":{"$error":"#VALUE!"}},{"$f":"CD285+CC286","v":{"$error":"#VALUE!"}},0,0,0,0]
[null,null,null,null,null,1,{"$f":"IF(INDEX(Hovedtal,B279,9)<F287,0,INDEX(Etager,7-F287,2))","v":0},{"$f":"IF(F287>INDEX(Hovedtal,B279,9),0,INDEX(Hovedtal,B279,6))","v":0},null,null,1E-4,{"$f":"INDEX(Hovedtal,B279,9+F287)","v":0},{"$f":"M286+L287","v":0},0,0,0,0,0,0,1E-4,0,0,{"$f":"INDEX(Hovedtal,B279,8)","v":0},"",null,null,0,{"$f":"SQRT((AE287-AC287)^2+(AF287-AD287)^2)+0.0001","v":1E-4},{"$f":"INDEX(Hovedtal,B279,2)","v":0},{"$f":"INDEX(Hovedtal,B279,3)","v":0},{"$f":"INDEX(Hovedtal,B279,4)","v":0},{"$f":"INDEX(Hovedtal,B279,5)","v":0},{"$f":"(AE287-AC287)/AB287","v":0},{"$f":"(AF287-AD287)/AB287","v":0},{"$f":"AA287","v":0},{"$f":"AB287","v":1E-4},{"$f":"IF(G287=0,0.5*(AI287+AJ287),(M287*G287+AA287*P287+0.5*(AA287+AB287)*(N287+(AB287-AA287)*O287)+AB287*Q287+AK286*AL286)/AL287)","v":5.0000000000000002E-5},{"$f":"AL286+N287+O287*(AB287-AA287)+P287+Q287","v":0},0.1,0,0,0,{"$f":"G287","v":0},{"$f":"G287","v":0},0,{"$f":"AP287","v":0},null,null,null,null,null,null,null,null,null,null,null,null,null,null,null,null,null,null,null,null,null,null,null,null,null,null,null,null,null,null,null,null,null,0,{"$f":"INDEX(Hovedtal,BS279,9+BW287)","v":{"$error":"#VALUE!"}},{"$f":"CD286+CC287","v":{"$error":"#VALUE!"}},0,0,0,0]
["*",null,null,null,null,null,null,null,null,null,null,null,null,null,null,null,null,null,null,null,null,null,null,null,null,null,null,null,null,null,null,null,null,null,null,null,null,null,null,null,null,null,null,null,null,null,null,null,null,null,null,null,null,null,null,null,null,null,null,null,null,null,null,null,null,null,null,null,null,null,null,{"$f":"MAX(AP280:BS287)+0.5","v":0.50009999999999999}]
[]
[null,"Væg",null,null,null,"Etage","h","t","r_1","r_2","L_eff","V_i","Q","G","p","P1","P2","T","N","b_1","b_2","n","n_max",null,null,null,"Etager:",6,null,null,null,null,null,null,null,null,null,null,null,null,null,"Hjørnepunkter i vægopstalt",null,null,null,null,null,null,null,null,null,null,null,null,null,null,null,null,null,null,null,null,null,null,null,null,null,null,null,null,null,null,null,null,null,null,null,"r_1","r_2","L_eff","V_i","Q","G","p","P1","P2"]
[null,{"$f":"B279+1","v":23},null,null,null,null,"(m)","(m)","(m)","(m)","(m)","(kN)","(kN)","(kN)","(kN/m)","(kN)","(kN)","(kN)","(kN)","(m)","(m)","(kN/m)","(kN/m)",null,null,null,null,null,null,null,null,null,null,null,null,null,null,null,null,null,null,null,null,null,null,null,null,null,null,null,null,null,null,null,null,null,null,null,null,null,null,null,null,null,null,null,null,null,null,null,null,null,null,null,null,null,null,"(m)","(m)","(m)","(kN)","(kN)","(kN)","(kN/m)","(kN)","(kN)"]
[null,null,null,null,null,null,null,null,null,null,null,null,null,null,null,null,null,null,null,null,null,null,null,null,null,null,"s_1","s_2","x_1","y_1","x_2","y_2","cos(a)","sin(a)","s_1_e","s_2_e","s_N","N_0","n","T_1","T_2",0,0,{"$f":"AB299","v":1E-4},{"$f":"AB299","v":1E-4},{"$f":"AP292","v":0},{"$f":"AA298","v":0},{"$f":"AA298","v":0},{"$f":"AB298","v":1E-4},{"$f":"AB298","v":1E-4},{"$f":"AU292","v":0},{"$f":"AA297","v":0},{"$f":"AA297","v":0},{"$f":"AB297","v":1E-4},{"$f":"AB297","v":1E-4},{"$f":"AZ292","v":0},{"$f":"AA296","v":0},{"$f":"AA296","v":0},{"$f":"AB296","v":1E-4},{"$f":"AB296","v":1E-4},{"$f":"BE292","v":0},{"$f":"AA295","v":0},{"$f":"AA295","v":0},{"$f":"AB295","v":1E-4},{"$f":"AB295","v":1E-4},{"$f":"BJ292","v":0},{"$f":"AA294","v":0},{"$f":"AA294","v":0},{"$f":"AB294","v":1E-4},{"$f":"AB294","v":1E-4},{"$f":"BO292","v":0},{"$f":"BT300","v":0.50009999999999999}]
[]
[null,null,null,null,null,6,{"$f":"IF(INDEX(Hovedtal,B291,9)<F294,0,INDEX(Etager,7-F294,2))","v":0},{"$f":"IF(F294>INDEX(Hovedtal,B291,9),0,INDEX(Hovedtal,B291,6))","v":0},null,null,{"$f":"AJ294-AI294","v":1E-4},{"$f":"INDEX(Hovedtal,B291,9+F294)","v":0},{"$f":"L294","v":0},{"$f":"(AB294-AA294)*H294*G294*g_g*g_e","v":0},0,0,0,{"$f":"IF(AK294>0.5*(AI294+AJ294),AO294,AN294)","v":0},{"$f":"AL294+R294","v":0},{"$f":"IF(AK294<=0.5*(AI294+AJ294),IF(AK294>AI294+0.5*AL294/AM294,2*(AK294-AI294),S294/AM294),0)","v":1E-4},{"$f":"IF(AK294>0.5*(AI294+AJ294),IF(AK294<AJ294-0.5*AL294/AM294,2*(AJ294-AK294),S294/AM294),0)","v":0},{"$f":"IF(AK294>0.5*(AI294+AJ294),S294/U294,S294/T294)","v":0},{"$f":"INDEX(Hovedtal,B291,8)","v":0},{"$f":"IF(OR(V294>W294,ABS(M294)>0.5*S294),\"!\",\"\")","v":""},null,null,{"$f":"IF(G294=0,AA295,IF(I294=0,0,I294))","v":0},{"$f":"IF(G294=0,AB295,IF(J294=0,AB299,AB299-J294))","v":1E-4},{"$f":"IF(G294=0,0,AC299+AA294*AG299)","v":0},{"$f":"IF(G294=0,0,AD299+AA294*AH299)","v":0},{"$f":"IF(G294=0,0,AC299+AB294*AG299)","v":0},{"$f":"IF(G294=0,0,AD299+AB294*AH299)","v":0},null,null,{"$f":"MAX(AA294:AA295)","v":0},{"$f":"MIN(AB294:AB295)","v":1E-4},{"$f":"IF(G294=0,0.5*(AI294+AJ294),(M294*G294+AA294*P294+0.5*(AA294+AB294)*(N294+(AB294-AA294)*O294)+AB294*Q294)/AL294)","v":5.0000000000000002E-5},{"$f":"N294+O294*(AB294-AA294)+P294+Q294","v":0},{"$f":"IF(AK294<0.5*(AI294+AJ294),MAX(W294,8*AL294*(0.5*(AJ294+AI294)-AK294)/(AJ294-AI294)^2+0.1),MAX(W294,-8*AL294*(0.5*(AJ294+AI294)-AK294)/(AJ294-AI294)^2+0.1))","v":0.1},{"$f":"IF(AND(AK294<0.5*(AI294+AJ294),AL294/AM294>2*(AK294-AI294)),AM294*(-SQRT((AL294/AM294+0.5*AI294-0.5*AJ294)^2-2*(-AK294*AL294/AM294+0.5*AL294^2/AM294^2+AI294*AL294/AM294))-(AL294/AM294+0.5*AI294-0.5*AJ294)),0)","v":0},{"$f":"IF(AND(AK294>=0.5*(AI294+AJ294),AL294/AM294>2*(AJ294-AK294)),AM294*(-SQRT((AL294/AM294+0.5*AI294-0.5*AJ294)^2-2*(AK294*AL294/AM294+0.5*AL294^2/AM294^2-AJ294*AL294/AM294))-(AL294/AM294+0.5*AI294-0.5*AJ294)),0)","v":0},null,null,null,null,null,null,null,null,null,null,null,null,null,null,null,null,null,null,null,null,null,null,null,null,null,{"$f":"BL295","v":0},{"$f":"BR294+G294","v":0},{"$f":"BO294+G294","v":0},{"$f":"BK295","v":0},{"$f":"BO294","v":0},null,null,null,null,null,null,null,null,{"$f":"DA294-CZ294","v":0},{"$f":"INDEX(Hovedtal,BS291,9+BW294)","v":{"$error":"#VALUE!"}},{"$f":"CC294","v":{"$error":"#VALUE!"}},{"$f":"(CS294-CR294)*BY294*BX294*g_g*g_e","v":0},0,0,0]
[null,null,null,null,null,5,{"$f":"IF(INDEX(Hovedtal,B291,9)<F295,0,INDEX(Etager,7-F295,2))","v":0},{"$f":"IF(F295>INDEX(Hovedtal,B291,9),0,INDEX(Hovedtal,B291,6))","v":0},null,null,1E-4,{"$f":"INDEX(Hovedtal,B291,9+F295)","v":0},{"$f":"M294+L295","v":0},0,0,0,0,0,0,1E-4,0,0,{"$f":"INDEX(Hovedtal,B291,8)","v":0},"",null,null,{"$f":"IF(G295=0,AA296,IF(I295=0,0,I295))","v":0},{"$f":"IF(G295=0,AB296,IF(J295=0,AB299,AB299-J295))","v":1E-4},{"$f":"IF(G295=0,0,AC299+AA295*AG299)","v":0},{"$f":"IF(G295=0,0,AD299+AA295*AH299)","v":0},{"$f":"IF(G295=0,0,AC299+AB295*AG299)","v":0},{"$f":"IF(G295=0,0,AD299+AB295*AH299)","v":0},null,null,{"$f":"MAX(AA295:AA296)","v":0},{"$f":"MIN(AB295:AB296)","v":1E-4},{"$f":"IF(G295=0,0.5*(AI295+AJ295),(M295*G295+AA295*P295+0.5*(AA295+AB295)*(N295+(AB295-AA295)*O295)+AB295*Q295+AK294*AL294)/AL295)","v":5.0000000000000002E-5},{"$f":"AL294+N295+O295*(AB295-AA295)+P295+Q295","v":0},0.1,0,0,null,null,null,null,null,null,null,null,null,null,null,null,null,null,null,null,null,null,null,null,{"$f":"BG296","v":0},{"$f":"BM295+G295","v":0},{"$f":"BJ295+G295","v":0},{"$f":"BF296","v":0},{"$f":"BJ295","v":0},null,null,null,null,null,null,null,null,null,null,null,null,null,0,{"$f":"INDEX(Hovedtal,BS291,9+BW295)","v":{"$error":"#VALUE!"}},{"$f":"CD294+CC295","v":{"$error":"#VALUE!"}},0,0,0,0]
[null,null,null,null,null,4,{"$f":"IF(INDEX(Hovedtal,B291,9)<F296,0,INDEX(Etager,7-F296,2))","v":0},{"$f":"IF(F296>INDEX(Hovedtal,B291,9),0,INDEX(Hovedtal,B291,6))","v":0},null,null,1E-4,{"$f":"INDEX(Hovedtal,B291,9+F296)","v":0},{"$f":"M295+L296","v":0},0,0,0,0,0,0,1E-4,0,0,{"$f":"INDEX(Hovedtal,B291,8)","v":0},"",null,null,{"$f":"IF(G296=0,AA297,IF(I296=0,0,I296))","v":0},{"$f":"IF(G296=0,AB297,IF(J296=0,AB299,AB299-J296))","v":1E-4},{"$f":"IF(G296=0,0,AC299+AA296*AG299)","v":0},{"$f":"IF(G296=0,0,AD299+AA296*AH299)","v":0},{"$f":"IF(G296=0,0,AC299+AB296*AG299)","v":0},{"$f":"IF(G296=0,0,AD299+AB296*AH299)","v":0},null,null,{"$f":"MAX(AA296:AA297)","v":0},{"$f":"MIN(AB296:AB297)","v":1E-4},{"$f":"IF(G296=0,0.5*(AI296+AJ296),(M296*G296+AA296*P296+0.5*(AA296+AB296)*(N296+(AB296-AA296)*O296)+AB296*Q296+AK295*AL295)/AL296)","v":5.0000000000000002E-5},{"$f":"AL295+N296+O296*(AB296-AA296)+P296+Q296","v":0},0.1,0,0,null,null,null,null,null,null,null,null,null,null,null,null,null,null,null,{"$f":"BB297","v":0},{"$f":"BH296+G296","v":0},{"$f":"BE296+G296","v":0},{"$f":"BA297","v":0},{"$f":"BE296","v":0},null,null,null,null,null,null,null,null,null,null,null,null,null,null,null,null,null,null,0,{"$f":"INDEX(Hovedtal,BS291,9+BW296)","v":{"$error":"#VALUE!"}},{"$f":"CD295+CC296","v":{"$error":"#VALUE!"}},0,0,0,0]
[null,null,null,null,null,3,{"$f":"IF(INDEX(Hovedtal,B291,9)<F297,0,INDEX(Etager,7-F297,2))","v":0},{"$f":"IF(F297>INDEX(Hovedtal,B291,9),0,INDEX(Hovedtal,B291,6))","v":0},null,null,1E-4,{"$f":"INDEX(Hovedtal,B291,9+F297)","v":0},{"$f":"M296+L297","v":0},0,0,0,0,0,0,1E-4,0,0,{"$f":"INDEX(Hovedtal,B291,8)","v":0},"",null,null,{"$f":"IF(G297=0,AA298,IF(I297=0,0,I297))","v":0},{"$f":"IF(G297=0,AB298,IF(J297=0,AB299,AB299-J297))","v":1E-4},{"$f":"IF(G297=0,0,AC299+AA297*AG299)","v":0},{"$f":"IF(G297=0,0,AD299+AA297*AH299)","v":0},{"$f":"IF(G297=0,0,AC299+AB297*AG299)","v":0},{"$f":"IF(G297=0,0,AD299+AB297*AH299)","v":0},null,null,{"$f":"MAX(AA297:AA298)","v":0},{"$f":"MIN(AB297:AB298)","v":1E-4},{"$f":"IF(G297=0,0.5*(AI297+AJ297),(M297*G297+AA297*P297+0.5*(AA297+AB297)*(N297+(AB297-AA297)*O297)+AB297*Q297+AK296*AL296)/AL297)","v":5.0000000000000002E-5},{"$f":"AL296+N297+O297*(AB297-AA297)+P297+Q297","v":0},0.1,0,0,null,null,null,null,null,null,null,null,null,null,{"$f":"AW298","v":0},{"$f":"BC297+G297","v":0},{"$f":"AZ297+G297","v":0},{"$f":"AV298","v":0},{"$f":"AZ297","v":0},null,null,null,null,null,null,null,null,null,null,null,null,null,null,null,null,null,null,null,null,null,null,null,0,{"$f":"INDEX(Hovedtal,BS291,9+BW297)","v":{"$error":"#VALUE!"}},{"$f":"CD296+CC297","v":{"$error":"#VALUE!"}},0,0,0,0]
[null,null,null,null,null,2,{"$f":"IF(INDEX(Hovedtal,B291,9)<F298,0,INDEX(Etager,7-F298,2))","v":0},{"$f":"IF(F298>INDEX(Hovedtal,B291,9),0,INDEX(Hovedtal,B291,6))","v":0},null,null,1E-4,{"$f":"INDEX(Hovedtal,B291,9+F298)","v":0},{"$f":"M297+L298","v":0},0,0,0,0,0,0,1E-4,0,0,{"$f":"INDEX(Hovedtal,B291,8)","v":0},"",null,null,{"$f":"IF(G298=0,AA299,IF(I298=0,0,I298))","v":0},{"$f":"IF(G298=0,AB299,IF(J298=0,AB299,AB299-J298))","v":1E-4},{"$f":"IF(G298=0,0,AC299+AA298*AG299)","v":0},{"$f":"IF(G298=0,0,AD299+AA298*AH299)","v":0},{"$f":"IF(G298=0,0,AC299+AB298*AG299)","v":0},{"$f":"IF(G298=0,0,AD299+AB298*AH299)","v":0},null,null,{"$f":"MAX(AA298:AA299)","v":0},{"$f":"MIN(AB298:AB299)","v":1E-4},{"$f":"IF(G298=0,0.5*(AI298+AJ298),(M298*G298+AA298*P298+0.5*(AA298+AB298)*(N298+(AB298-AA298)*O298)+AB298*Q298+AK297*AL297)/AL298)","v":5.0000000000000002E-5},{"$f":"AL297+N298+O298*(AB298-AA298)+P298+Q298","v":0},0.1,0,0,null,null,null,null,null,{"$f":"AR299","v":0},{"$f":"AX298+G298","v":0},{"$f":"AU298+G298","v":0},{"$f":"AQ299","v":0},{"$f":"AU298","v":0},null,null,null,null,null,null,null,null,null,null,null,null,null,null,null,null,null,null,null,null,null,null,null,null,null,null,null,null,0,{"$f":"INDEX(Hovedtal,BS291,9+BW298)","v":{"$error":"#VALUE!"}},{"$f":"CD297+CC298","v":{"$error":"#VALUE!"}},0,0,0,0]
[null,null,null,null,null,1,{"$f":"IF(INDEX(Hovedtal,B291,9)<F299,0,INDEX(Etager,7-F299,2))","v":0},{"$f":"IF(F299>INDEX(Hovedtal,B291,9),0,INDEX(Hovedtal,B291,6))","v":0},null,null,1E-4,{"$f":"INDEX(Hovedtal,B291,9+F299)","v":0},{"$f":"M298+L299","v":0},0,0,0,0,0,0,1E-4,0,0,{"$f":"INDEX(Hovedtal,B291,8)","v":0},"",null,null,0,{"$f":"SQRT((AE299-AC299)^2+(AF299-AD299)^2)+0.0001","v":1E-4},{"$f":"INDEX(Hovedtal,B291,2)","v":0},{"$f":"INDEX(Hovedtal,B291,3)","v":0},{"$f":"INDEX(Hovedtal,B291,4)","v":0},{"$f":"INDEX(Hovedtal,B291,5)","v":0},{"$f":"(AE299-AC299)/AB299","v":0},{"$f":"(AF299-AD299)/AB299","v":0},{"$f":"AA299","v":0},{"$f":"AB299","v":1E-4},{"$f":"IF(G299=0,0.5*(AI299+AJ299),(M299*G299+AA299*P299+0.5*(AA299+AB299)*(N299+(AB299-AA299)*O299)+AB299*Q299+AK298*AL298)/AL299)","v":5.0000000000000002E-5},{"$f":"AL298+N299+O299*(AB299-AA299)+P299+Q299","v":0},0.1,0,0,0,{"$f":"G299","v":0},{"$f":"G299","v":0},0,{"$f":"AP299","v":0},null,null,null,null,null,null,null,null,null,null,null,null,null,null,null,null,null,null,null,null,null,null,null,null,null,null,null,null,null,null,null,null,null,0,{"$f":"INDEX(Hovedtal,BS291,9+BW299)","v":{"$error":"#VALUE!"}},{"$f":"CD298+CC299","v":{"$error":"#VALUE!"}},0,0,0,0]
["*",null,null,null,null,null,null,null,null,null,null,null,null,null,null,null,null,null,null,null,null,null,null,null,null,null,null,null,null,null,null,null,null,null,null,null,null,null,null,null,null,null,null,null,null,null,null,null,null,null,null,null,null,null,null,null,null,null,null,null,null,null,null,null,null,null,null,null,null,null,null,{"$f":"MAX(AP292:BS299)+0.5","v":0.50009999999999999}]
[]
[null,"Væg",null,null,null,"Etage","h","t","r_1","r_2","L_eff","V_i","Q","G","p","P1","P2","T","N","b_1","b_2","n","n_max",null,null,null,"Etager:",6,null,null,null,null,null,null,null,null,null,null,null,null,null,"Hjørnepunkter i vægopstalt",null,null,null,null,null,null,null,null,null,null,null,null,null,null,null,null,null,null,null,null,null,null,null,null,null,null,null,null,null,null,null,null,null,null,null,"r_1","r_2","L_eff","V_i","Q","G","p","P1","P2"]
[null,{"$f":"B291+1","v":24},null,null,null,null,"(m)","(m)","(m)","(m)","(m)","(kN)","(kN)","(kN)","(kN/m)","(kN)","(kN)","(kN)","(kN)","(m)","(m)","(kN/m)","(kN/m)",null,null,null,null,null,null,null,null,null,null,null,null,null,null,null,null,null,null,null,null,null,null,null,null,null,null,null,null,null,null,null,null,null,null,null,null,null,null,null,null,null,null,null,null,null,null,null,null,null,null,null,null,null,null,"(m)","(m)","(m)","(kN)","(kN)","(kN)","(kN/m)","(kN)","(kN)"]
[null,null,null,null,null,null,null,null,null,null,null,null,null,null,null,null,null,null,null,null,null,null,null,null,null,null,"s_1","s_2","x_1","y_1","x_2","y_2","cos(a)","sin(a)","s_1_e","s_2_e","s_N","N_0","n","T_1","T_2",0,0,{"$f":"AB311","v":1E-4},{"$f":"AB311","v":1E-4},{"$f":"AP304","v":0},{"$f":"AA310","v":0},{"$f":"AA310","v":0},{"$f":"AB310","v":1E-4},{"$f":"AB310","v":1E-4},{"$f":"AU304","v":0},{"$f":"AA309","v":0},{"$f":"AA309","v":0},{"$f":"AB309","v":1E-4},{"$f":"AB309","v":1E-4},{"$f":"AZ304","v":0},{"$f":"AA308","v":0},{"$f":"AA308","v":0},{"$f":"AB308","v":1E-4},{"$f":"AB308","v":1E-4},{"$f":"BE304","v":0},{"$f":"AA307","v":0},{"$f":"AA307","v":0},{"$f":"AB307","v":1E-4},{"$f":"AB307","v":1E-4},{"$f":"BJ304","v":0},{"$f":"AA306","v":0},{"$f":"AA306","v":0},{"$f":"AB306","v":1E-4},{"$f":"AB306","v":1E-4},{"$f":"BO304","v":0},{"$f":"BT312","v":0.50009999999999999}]
[]
[null,null,null,null,null,6,{"$f":"IF(INDEX(Hovedtal,B303,9)<F306,0,INDEX(Etager,7-F306,2))","v":0},{"$f":"IF(F306>INDEX(Hovedtal,B303,9),0,INDEX(Hovedtal,B303,6))","v":0},null,null,{"$f":"AJ306-AI306","v":1E-4},{"$f":"INDEX(Hovedtal,B303,9+F306)","v":0},{"$f":"L306","v":0},{"$f":"(AB306-AA306)*H306*G306*g_g*g_e","v":0},0,0,0,{"$f":"IF(AK306>0.5*(AI306+AJ306),AO306,AN306)","v":0},{"$f":"AL306+R306","v":0},{"$f":"IF(AK306<=0.5*(AI306+AJ306),IF(AK306>AI306+0.5*AL306/AM306,2*(AK306-AI306),S306/AM306),0)","v":1E-4},{"$f":"IF(AK306>0.5*(AI306+AJ306),IF(AK306<AJ306-0.5*AL306/AM306,2*(AJ306-AK306),S306/AM306),0)","v":0},{"$f":"IF(AK306>0.5*(AI306+AJ306),S306/U306,S306/T306)","v":0},{"$f":"INDEX(Hovedtal,B303,8)","v":0},{"$f":"IF(OR(V306>W306,ABS(M306)>0.5*S306),\"!\",\"\")","v":""},null,null,{"$f":"IF(G306=0,AA307,IF(I306=0,0,I306))","v":0},{"$f":"IF(G306=0,AB307,IF(J306=0,AB311,AB311-J306))","v":1E-4},{"$f":"IF(G306=0,0,AC311+AA306*AG311)","v":0},{"$f":"IF(G306=0,0,AD311+AA306*AH311)","v":0},{"$f":"IF(G306=0,0,AC311+AB306*AG311)","v":0},{"$f":"IF(G306=0,0,AD311+AB306*AH311)","v":0},null,null,{"$f":"MAX(AA306:AA307)","v":0},{"$f":"MIN(AB306:AB307)","v":1E-4},{"$f":"IF(G306=0,0.5*(AI306+AJ306),(M306*G306+AA306*P306+0.5*(AA306+AB306)*(N306+(AB306-AA306)*O306)+AB306*Q306)/AL306)","v":5.0000000000000002E-5},{"$f":"N306+O306*(AB306-AA306)+P306+Q306","v":0},{"$f":"IF(AK306<0.5*(AI306+AJ306),MAX(W306,8*AL306*(0.5*(AJ306+AI306)-AK306)/(AJ306-AI306)^2+0.1),MAX(W306,-8*AL306*(0.5*(AJ306+AI306)-AK306)/(AJ306-AI306)^2+0.1))","v":0.1},{"$f":"IF(AND(AK306<0.5*(AI306+AJ306),AL306/AM306>2*(AK306-AI306)),AM306*(-SQRT((AL306/AM306+0.5*AI306-0.5*AJ306)^2-2*(-AK306*AL306/AM306+0.5*AL306^2/AM306^2+AI306*AL306/AM306))-(AL306/AM306+0.5*AI306-0.5*AJ306)),0)","v":0},{"$f":"IF(AND(AK306>=0.5*(AI306+AJ306),AL306/AM306>2*(AJ306-AK306)),AM306*(-SQRT((AL306/AM306+0.5*AI306-0.5*AJ306)^2-2*(AK306*AL306/AM306+0.5*AL306^2/AM306^2-AJ306*AL306/AM306))-(AL306/AM306+0.5*AI306-0.5*AJ306)),0)","v":0},null,null,null,null,null,null,null,null,null,null,null,null,null,null,null,null,null,null,null,null,null,null,null,null,null,{"$f":"BL307","v":0},{"$f":"BR306+G306","v":0},{"$f":"BO306+G306","v":0},{"$f":"BK307","v":0},{"$f":"BO306","v":0},null,null,null,null,null,null,null,null,{"$f":"DA306-CZ306","v":0},{"$f":"INDEX(Hovedtal,BS303,9+BW306)","v":{"$error":"#VALUE!"}},{"$f":"CC306","v":{"$error":"#VALUE!"}},{"$f":"(CS306-CR306)*BY306*BX306*g_g*g_e","v":0},0,0,0]
[null,null,null,null,null,5,{"$f":"IF(INDEX(Hovedtal,B303,9)<F307,0,INDEX(Etager,7-F307,2))","v":0},{"$f":"IF(F307>INDEX(Hovedtal,B303,9),0,INDEX(Hovedtal,B303,6))","v":0},null,null,1E-4,{"$f":"INDEX(Hovedtal,B303,9+F307)","v":0},{"$f":"M306+L307","v":0},0,0,0,0,0,0,1E-4,0,0,{"$f":"INDEX(Hovedtal,B303,8)","v":0},"",null,null,{"$f":"IF(G307=0,AA308,IF(I307=0,0,I307))","v":0},{"$f":"IF(G307=0,AB308,IF(J307=0,AB311,AB311-J307))","v":1E-4},{"$f":"IF(G307=0,0,AC311+AA307*AG311)","v":0},{"$f":"IF(G307=0,0,AD311+AA307*AH311)","v":0},{"$f":"IF(G307=0,0,AC311+AB307*AG311)","v":0},{"$f":"IF(G307=0,0,AD311+AB307*AH311)","v":0},null,null,{"$f":"MAX(AA307:AA308)","v":0},{"$f":"MIN(AB307:AB308)","v":1E-4},{"$f":"IF(G307=0,0.5*(AI307+AJ307),(M307*G307+AA307*P307+0.5*(AA307+AB307)*(N307+(AB307-AA307)*O307)+AB307*Q307+AK306*AL306)/AL307)","v":5.0000000000000002E-5},{"$f":"AL306+N307+O307*(AB307-AA307)+P307+Q307","v":0},0.1,0,0,null,null,null,null,null,null,null,null,null,null,null,null,null,null,null,null,null,null,null,null,{"$f":"BG308","v":0},{"$f":"BM307+G307","v":0},{"$f":"BJ307+G307","v":0},{"$f":"BF308","v":0},{"$f":"BJ307","v":0},null,null,null,null,null,null,null,null,null,null,null,null,null,0,{"$f":"INDEX(Hovedtal,BS303,9+BW307)","v":{"$error":"#VALUE!"}},{"$f":"CD306+CC307","v":{"$error":"#VALUE!"}},0,0,0,0]
[null,null,null,null,null,4,{"$f":"IF(INDEX(Hovedtal,B303,9)<F308,0,INDEX(Etager,7-F308,2))","v":0},{"$f":"IF(F308>INDEX(Hovedtal,B303,9),0,INDEX(Hovedtal,B303,6))","v":0},null,null,1E-4,{"$f":"INDEX(Hovedtal,B303,9+F308)","v":0},{"$f":"M307+L308","v":0},0,0,0,0,0,0,1E-4,0,0,{"$f":"INDEX(Hovedtal,B303,8)","v":0},"",null,null,{"$f":"IF(G308=0,AA309,IF(I308=0,0,I308))","v":0},{"$f":"IF(G308=0,AB309,IF(J308=0,AB311,AB311-J308))","v":1E-4},{"$f":"IF(G308=0,0,AC311+AA308*AG311)","v":0},{"$f":"IF(G308=0,0,AD311+AA308*AH311)","v":0},{"$f":"IF(G308=0,0,AC311+AB308*AG311)","v":0},{"$f":"IF(G308=0,0,AD311+AB308*AH311)","v":0},null,null,{"$f":"MAX(AA308:AA309)","v":0},{"$f":"MIN(AB308:AB309)","v":1E-4},{"$f":"IF(G308=0,0.5*(AI308+AJ308),(M308*G308+AA308*P308+0.5*(AA308+AB308)*(N308+(AB308-AA308)*O308)+AB308*Q308+AK307*AL307)/AL308)","v":5.0000000000000002E-5},{"$f":"AL307+N308+O308*(AB308-AA308)+P308+Q308","v":0},0.1,0,0,null,null,null,null,null,null,null,null,null,null,null,null,null,null,null,{"$f":"BB309","v":0},{"$f":"BH308+G308","v":0},{"$f":"BE308+G308","v":0},{"$f":"BA309","v":0},{"$f":"BE308","v":0},null,null,null,null,null,null,null,null,null,null,null,null,null,null,null,null,null,null,0,{"$f":"INDEX(Hovedtal,BS303,9+BW308)","v":{"$error":"#VALUE!"}},{"$f":"CD307+CC308","v":{"$error":"#VALUE!"}},0,0,0,0]
[null,null,null,null,null,3,{"$f":"IF(INDEX(Hovedtal,B303,9)<F309,0,INDEX(Etager,7-F309,2))","v":0},{"$f":"IF(F309>INDEX(Hovedtal,B303,9),0,INDEX(Hovedtal,B303,6))","v":0},null,null,1E-4,{"$f":"INDEX(Hovedtal,B303,9+F309)","v":0},{"$f":"M308+L309","v":0},0,0,0,0,0,0,1E-4,0,0,{"$f":"INDEX(Hovedtal,B303,8)","v":0},"",null,null,{"$f":"IF(G309=0,AA310,IF(I309=0,0,I309))","v":0},{"$f":"IF(G309=0,AB310,IF(J309=0,AB311,AB311-J309))","v":1E-4},{"$f":"IF(G309=0,0,AC311+AA309*AG311)","v":0},{"$f":"IF(G309=0,0,AD311+AA309*AH311)","v":0},{"$f":"IF(G309=0,0,AC311+AB309*AG311)","v":0},{"$f":"IF(G309=0,0,AD311+AB309*AH311)","v":0},null,null,{"$f":"MAX(AA309:AA310)","v":0},{"$f":"MIN(AB309:AB310)","v":1E-4},{"$f":"IF(G309=0,0.5*(AI309+AJ309),(M309*G309+AA309*P309+0.5*(AA309+AB309)*(N309+(AB309-AA309)*O309)+AB309*Q309+AK308*AL308)/AL309)","v":5.0000000000000002E-5},{"$f":"AL308+N309+O309*(AB309-AA309)+P309+Q309","v":0},0.1,0,0,null,null,null,null,null,null,null,null,null,null,{"$f":"AW310","v":0},{"$f":"BC309+G309","v":0},{"$f":"AZ309+G309","v":0},{"$f":"AV310","v":0},{"$f":"AZ309","v":0},null,null,null,null,null,null,null,null,null,null,null,null,null,null,null,null,null,null,null,null,null,null,null,0,{"$f":"INDEX(Hovedtal,BS303,9+BW309)","v":{"$error":"#VALUE!"}},{"$f":"CD308+CC309","v":{"$error":"#VALUE!"}},0,0,0,0]
[null,null,null,null,null,2,{"$f":"IF(INDEX(Hovedtal,B303,9)<F310,0,INDEX(Etager,7-F310,2))","v":0},{"$f":"IF(F310>INDEX(Hovedtal,B303,9),0,INDEX(Hovedtal,B303,6))","v":0},null,null,1E-4,{"$f":"INDEX(Hovedtal,B303,9+F310)","v":0},{"$f":"M309+L310","v":0},0,0,0,0,0,0,1E-4,0,0,{"$f":"INDEX(Hovedtal,B303,8)","v":0},"",null,null,{"$f":"IF(G310=0,AA311,IF(I310=0,0,I310))","v":0},{"$f":"IF(G310=0,AB311,IF(J310=0,AB311,AB311-J310))","v":1E-4},{"$f":"IF(G310=0,0,AC311+AA310*AG311)","v":0},{"$f":"IF(G310=0,0,AD311+AA310*AH311)","v":0},{"$f":"IF(G310=0,0,AC311+AB310*AG311)","v":0},{"$f":"IF(G310=0,0,AD311+AB310*AH311)","v":0},null,null,{"$f":"MAX(AA310:AA311)","v":0},{"$f":"MIN(AB310:AB311)","v":1E-4},{"$f":"IF(G310=0,0.5*(AI310+AJ310),(M310*G310+AA310*P310+0.5*(AA310+AB310)*(N310+(AB310-AA310)*O310)+AB310*Q310+AK309*AL309)/AL310)","v":5.0000000000000002E-5},{"$f":"AL309+N310+O310*(AB310-AA310)+P310+Q310","v":0},0.1,0,0,null,null,null,null,null,{"$f":"AR311","v":0},{"$f":"AX310+G310","v":0},{"$f":"AU310+G310","v":0},{"$f":"AQ311","v":0},{"$f":"AU310","v":0},null,null,null,null,null,null,null,null,null,null,null,null,null,null,null,null,null,null,null,null,null,null,null,null,null,null,null,null,0,{"$f":"INDEX(Hovedtal,BS303,9+BW310)","v":{"$error":"#VALUE!"}},{"$f":"CD309+CC310","v":{"$error":"#VALUE!"}},0,0,0,0]
[null,null,null,null,null,1,{"$f":"IF(INDEX(Hovedtal,B303,9)<F311,0,INDEX(Etager,7-F311,2))","v":0},{"$f":"IF(F311>INDEX(Hovedtal,B303,9),0,INDEX(Hovedtal,B303,6))","v":0},null,null,1E-4,{"$f":"INDEX(Hovedtal,B303,9+F311)","v":0},{"$f":"M310+L311","v":0},0,0,0,0,0,0,1E-4,0,0,{"$f":"INDEX(Hovedtal,B303,8)","v":0},"",null,null,0,{"$f":"SQRT((AE311-AC311)^2+(AF311-AD311)^2)+0.0001","v":1E-4},{"$f":"INDEX(Hovedtal,B303,2)","v":0},{"$f":"INDEX(Hovedtal,B303,3)","v":0},{"$f":"INDEX(Hovedtal,B303,4)","v":0},{"$f":"INDEX(Hovedtal,B303,5)","v":0},{"$f":"(AE311-AC311)/AB311","v":0},{"$f":"(AF311-AD311)/AB311","v":0},{"$f":"AA311","v":0},{"$f":"AB311","v":1E-4},{"$f":"IF(G311=0,0.5*(AI311+AJ311),(M311*G311+AA311*P311+0.5*(AA311+AB311)*(N311+(AB311-AA311)*O311)+AB311*Q311+AK310*AL310)/AL311)","v":5.0000000000000002E-5},{"$f":"AL310+N311+O311*(AB311-AA311)+P311+Q311","v":0},0.1,0,0,0,{"$f":"G311","v":0},{"$f":"G311","v":0},0,{"$f":"AP311","v":0},null,null,null,null,null,null,null,null,null,null,null,null,null,null,null,null,null,null,null,null,null,null,null,null,null,null,null,null,null,null,null,null,null,0,{"$f":"INDEX(Hovedtal,BS303,9+BW311)","v":{"$error":"#VALUE!"}},{"$f":"CD310+CC311","v":{"$error":"#VALUE!"}},0,0,0,0]
["*",null,null,null,null,null,null,null,null,null,null,null,null,null,null,null,null,null,null,null,null,null,null,null,null,null,null,null,null,null,null,null,null,null,null,null,null,null,null,null,null,null,null,null,null,null,null,null,null,null,null,null,null,null,null,null,null,null,null,null,null,null,null,null,null,null,null,null,null,null,null,{"$f":"MAX(AP304:BS311)+0.5","v":0.50009999999999999}]
[]
[null,"Væg",null,null,null,"Etage","h","t","r_1","r_2","L_eff","V_i","Q","G","p","P1","P2","T","N","b_1","b_2","n","n_max",null,null,null,"Etager:",6,null,null,null,null,null,null,null,null,null,null,null,null,null,"Hjørnepunkter i vægopstalt",null,null,null,null,null,null,null,null,null,null,null,null,null,null,null,null,null,null,null,null,null,null,null,null,null,null,null,null,null,null,null,null,null,null,null,"r_1","r_2","L_eff","V_i","Q","G","p","P1","P2"]
[null,{"$f":"B303+1","v":25},null,null,null,null,"(m)","(m)","(m)","(m)","(m)","(kN)","(kN)","(kN)","(kN/m)","(kN)","(kN)","(kN)","(kN)","(m)","(m)","(kN/m)","(kN/m)",null,null,null,null,null,null,null,null,null,null,null,null,null,null,null,null,null,null,null,null,null,null,null,null,null,null,null,null,null,null,null,null,null,null,null,null,null,null,null,null,null,null,null,null,null,null,null,null,null,null,null,null,null,null,"(m)","(m)","(m)","(kN)","(kN)","(kN)","(kN/m)","(kN)","(kN)"]
[null,null,null,null,null,null,null,null,null,null,null,null,null,null,null,null,null,null,null,null,null,null,null,null,null,null,"s_1","s_2","x_1","y_1","x_2","y_2","cos(a)","sin(a)","s_1_e","s_2_e","s_N","N_0","n","T_1","T_2",0,0,{"$f":"AB323","v":1E-4},{"$f":"AB323","v":1E-4},{"$f":"AP316","v":0},{"$f":"AA322","v":0},{"$f":"AA322","v":0},{"$f":"AB322","v":1E-4},{"$f":"AB322","v":1E-4},{"$f":"AU316","v":0},{"$f":"AA321","v":0},{"$f":"AA321","v":0},{"$f":"AB321","v":1E-4},{"$f":"AB321","v":1E-4},{"$f":"AZ316","v":0},{"$f":"AA320","v":0},{"$f":"AA320","v":0},{"$f":"AB320","v":1E-4},{"$f":"AB320","v":1E-4},{"$f":"BE316","v":0},{"$f":"AA319","v":0},{"$f":"AA319","v":0},{"$f":"AB319","v":1E-4},{"$f":"AB319","v":1E-4},{"$f":"BJ316","v":0},{"$f":"AA318","v":0},{"$f":"AA318","v":0},{"$f":"AB318","v":1E-4},{"$f":"AB318","v":1E-4},{"$f":"BO316","v":0},{"$f":"BT324","v":0.50009999999999999}]
[]
[null,null,null,null,null,6,{"$f":"IF(INDEX(Hovedtal,B315,9)<F318,0,INDEX(Etager,7-F318,2))","v":0},{"$f":"IF(F318>INDEX(Hovedtal,B315,9),0,INDEX(Hovedtal,B315,6))","v":0},null,null,{"$f":"AJ318-AI318","v":1E-4},{"$f":"INDEX(Hovedtal,B315,9+F318)","v":0},{"$f":"L318","v":0},{"$f":"(AB318-AA318)*H318*G318*g_g*g_e","v":0},0,0,0,{"$f":"IF(AK318>0.5*(AI318+AJ318),AO318,AN318)","v":0},{"$f":"AL318+R318","v":0},{"$f":"IF(AK318<=0.5*(AI318+AJ318),IF(AK318>AI318+0.5*AL318/AM318,2*(AK318-AI318),S318/AM318),0)","v":1E-4},{"$f":"IF(AK318>0.5*(AI318+AJ318),IF(AK318<AJ318-0.5*AL318/AM318,2*(AJ318-AK318),S318/AM318),0)","v":0},{"$f":"IF(AK318>0.5*(AI318+AJ318),S318/U318,S318/T318)","v":0},{"$f":"INDEX(Hovedtal,B315,8)","v":0},{"$f":"IF(OR(V318>W318,ABS(M318)>0.5*S318),\"!\",\"\")","v":""},null,null,{"$f":"IF(G318=0,AA319,IF(I318=0,0,I318))","v":0},{"$f":"IF(G318=0,AB319,IF(J318=0,AB323,AB323-J318))","v":1E-4},{"$f":"IF(G318=0,0,AC323+AA318*AG323)","v":0},{"$f":"IF(G318=0,0,AD323+AA318*AH323)","v":0},{"$f":"IF(G318=0,0,AC323+AB318*AG323)","v":0},{"$f":"IF(G318=0,0,AD323+AB318*AH323)","v":0},null,null,{"$f":"MAX(AA318:AA319)","v":0},{"$f":"MIN(AB318:AB319)","v":1E-4},{"$f":"IF(G318=0,0.5*(AI318+AJ318),(M318*G318+AA318*P318+0.5*(AA318+AB318)*(N318+(AB318-AA318)*O318)+AB318*Q318)/AL318)","v":5.0000000000000002E-5},{"$f":"N318+O318*(AB318-AA318)+P318+Q318","v":0},{"$f":"IF(AK318<0.5*(AI318+AJ318),MAX(W318,8*AL318*(0.5*(AJ318+AI318)-AK318)/(AJ318-AI318)^2+0.1),MAX(W318,-8*AL318*(0.5*(AJ318+AI318)-AK318)/(AJ318-AI318)^2+0.1))","v":0.1},{"$f":"IF(AND(AK318<0.5*(AI318+AJ318),AL318/AM318>2*(AK318-AI318)),AM318*(-SQRT((AL318/AM318+0.5*AI318-0.5*AJ318)^2-2*(-AK318*AL318/AM318+0.5*AL318^2/AM318^2+AI318*AL318/AM318))-(AL318/AM318+0.5*AI318-0.5*AJ318)),0)","v":0},{"$f":"IF(AND(AK318>=0.5*(AI318+AJ318),AL318/AM318>2*(AJ318-AK318)),AM318*(-SQRT((AL318/AM318+0.5*AI318-0.5*AJ318)^2-2*(AK318*AL318/AM318+0.5*AL318^2/AM318^2-AJ318*AL318/AM318))-(AL318/AM318+0.5*AI318-0.5*AJ318)),0)","v":0},null,null,null,null,null,null,null,null,null,null,null,null,null,null,null,null,null,null,null,null,null,null,null,null,null,{"$f":"BL319","v":0},{"$f":"BR318+G318","v":0},{"$f":"BO318+G318","v":0},{"$f":"BK319","v":0},{"$f":"BO318","v":0},null,null,null,null,null,null,null,null,{"$f":"DA318-CZ318","v":0},{"$f":"INDEX(Hovedtal,BS315,9+BW318)","v":{"$error":"#VALUE!"}},{"$f":"CC318","v":{"$error":"#VALUE!"}},{"$f":"(CS318-CR318)*BY318*BX318*g_g*g_e","v":0},0,0,0]
[null,null,null,null,null,5,{"$f":"IF(INDEX(Hovedtal,B315,9)<F319,0,INDEX(Etager,7-F319,2))","v":0},{"$f":"IF(F319>INDEX(Hovedtal,B315,9),0,INDEX(Hovedtal,B315,6))","v":0},null,null,1E-4,{"$f":"INDEX(Hovedtal,B315,9+F319)","v":0},{"$f":"M318+L319","v":0},0,0,0,0,0,0,1E-4,0,0,{"$f":"INDEX(Hovedtal,B315,8)","v":0},"",null,null,{"$f":"IF(G319=0,AA320,IF(I319=0,0,I319))","v":0},{"$f":"IF(G319=0,AB320,IF(J319=0,AB323,AB323-J319))","v":1E-4},{"$f":"IF(G319=0,0,AC323+AA319*AG323)","v":0},{"$f":"IF(G319=0,0,AD323+AA319*AH323)","v":0},{"$f":"IF(G319=0,0,AC323+AB319*AG323)","v":0},{"$f":"IF(G319=0,0,AD323+AB319*AH323)","v":0},null,null,{"$f":"MAX(AA319:AA320)","v":0},{"$f":"MIN(AB319:AB320)","v":1E-4},{"$f":"IF(G319=0,0.5*(AI319+AJ319),(M319*G319+AA319*P319+0.5*(AA319+AB319)*(N319+(AB319-AA319)*O319)+AB319*Q319+AK318*AL318)/AL319)","v":5.0000000000000002E-5},{"$f":"AL318+N319+O319*(AB319-AA319)+P319+Q319","v":0},0.1,0,0,null,null,null,null,null,null,null,null,null,null,null,null,null,null,null,null,null,null,null,null,{"$f":"BG320","v":0},{"$f":"BM319+G319","v":0},{"$f":"BJ319+G319","v":0},{"$f":"BF320","v":0},{"$f":"BJ319","v":0},null,null,null,null,null,null,null,null,null,null,null,null,null,0,{"$f":"INDEX(Hovedtal,BS315,9+BW319)","v":{"$error":"#VALUE!"}},{"$f":"CD318+CC319","v":{"$error":"#VALUE!"}},0,0,0,0]
[null,null,null,null,null,4,{"$f":"IF(INDEX(Hovedtal,B315,9)<F320,0,INDEX(Etager,7-F320,2))","v":0},{"$f":"IF(F320>INDEX(Hovedtal,B315,9),0,INDEX(Hovedtal,B315,6))","v":0},null,null,1E-4,{"$f":"INDEX(Hovedtal,B315,9+F320)","v":0},{"$f":"M319+L320","v":0},0,0,0,0,0,0,1E-4,0,0,{"$f":"INDEX(Hovedtal,B315,8)","v":0},"",null,null,{"$f":"IF(G320=0,AA321,IF(I320=0,0,I320))","v":0},{"$f":"IF(G320=0,AB321,IF(J320=0,AB323,AB323-J320))","v":1E-4},{"$f":"IF(G320=0,0,AC323+AA320*AG323)","v":0},{"$f":"IF(G320=0,0,AD323+AA320*AH323)","v":0},{"$f":"IF(G320=0,0,AC323+AB320*AG323)","v":0},{"$f":"IF(G320=0,0,AD323+AB320*AH323)","v":0},null,null,{"$f":"MAX(AA320:AA321)","v":0},{"$f":"MIN(AB320:AB321)","v":1E-4},{"$f":"IF(G320=0,0.5*(AI320+AJ320),(M320*G320+AA320*P320+0.5*(AA320+AB320)*(N320+(AB320-AA320)*O320)+AB320*Q320+AK319*AL319)/AL320)","v":5.0000000000000002E-5},{"$f":"AL319+N320+O320*(AB320-AA320)+P320+Q320","v":0},0.1,0,0,null,null,null,null,null,null,null,null,null,null,null,null,null,null,null,{"$f":"BB321","v":0},{"$f":"BH320+G320","v":0},{"$f":"BE320+G320","v":0},{"$f":"BA321","v":0},{"$f":"BE320","v":0},null,null,null,null,null,null,null,null,null,null,null,null,null,null,null,null,null,null,0,{"$f":"INDEX(Hovedtal,BS315,9+BW320)","v":{"$error":"#VALUE!"}},{"$f":"CD319+CC320","v":{"$error":"#VALUE!"}},0,0,0,0]
[null,null,null,null,null,3,{"$f":"IF(INDEX(Hovedtal,B315,9)<F321,0,INDEX(Etager,7-F321,2))","v":0},{"$f":"IF(F321>INDEX(Hovedtal,B315,9),0,INDEX(Hovedtal,B315,6))","v":0},null,null,1E-4,{"$f":"INDEX(Hovedtal,B315,9+F321)","v":0},{"$f":"M320+L321","v":0},0,0,0,0,0,0,1E-4,0,0,{"$f":"INDEX(Hovedtal,B315,8)","v":0},"",null,null,{"$f":"IF(G321=0,AA322,IF(I321=0,0,I321))","v":0},{"$f":"IF(G321=0,AB322,IF(J321=0,AB323,AB323-J321))","v":1E-4},{"$f":"IF(G321=0,0,AC323+AA321*AG323)","v":0},{"$f":"IF(G321=0,0,AD323+AA321*AH323)","v":0},{"$f":"IF(G321=0,0,AC323+AB321*AG323)","v":0},{"$f":"IF(G321=0,0,AD323+AB321*AH323)","v":0},null,null,{"$f":"MAX(AA321:AA322)","v":0},{"$f":"MIN(AB321:AB322)","v":1E-4},{"$f":"IF(G321=0,0.5*(AI321+AJ321),(M321*G321+AA321*P321+0.5*(AA321+AB321)*(N321+(AB321-AA321)*O321)+AB321*Q321+AK320*AL320)/AL321)","v":5.0000000000000002E-5},{"$f":"AL320+N321+O321*(AB321-AA321)+P321+Q321","v":0},0.1,0,0,null,null,null,null,null,null,null,null,null,null,{"$f":"AW322","v":0},{"$f":"BC321+G321","v":0},{"$f":"AZ321+G321","v":0},{"$f":"AV322","v":0},{"$f":"AZ321","v":0},null,null,null,null,null,null,null,null,null,null,null,null,null,null,null,null,null,null,null,null,null,null,null,0,{"$f":"INDEX(Hovedtal,BS315,9+BW321)","v":{"$error":"#VALUE!"}},{"$f":"CD320+CC321","v":{"$error":"#VALUE!"}},0,0,0,0]
[null,null,null,null,null,2,{"$f":"IF(INDEX(Hovedtal,B315,9)<F322,0,INDEX(Etager,7-F322,2))","v":0},{"$f":"IF(F322>INDEX(Hovedtal,B315,9),0,INDEX(Hovedtal,B315,6))","v":0},null,null,1E-4,{"$f":"INDEX(Hovedtal,B315,9+F322)","v":0},{"$f":"M321+L322","v":0},0,0,0,0,0,0,1E-4,0,0,{"$f":"INDEX(Hovedtal,B315,8)","v":0},"",null,null,{"$f":"IF(G322=0,AA323,IF(I322=0,0,I322))","v":0},{"$f":"IF(G322=0,AB323,IF(J322=0,AB323,AB323-J322))","v":1E-4},{"$f":"IF(G322=0,0,AC323+AA322*AG323)","v":0},{"$f":"IF(G322=0,0,AD323+AA322*AH323)","v":0},{"$f":"IF(G322=0,0,AC323+AB322*AG323)","v":0},{"$f":"IF(G322=0,0,AD323+AB322*AH323)","v":0},null,null,{"$f":"MAX(AA322:AA323)","v":0},{"$f":"MIN(AB322:AB323)","v":1E-4},{"$f":"IF(G322=0,0.5*(AI322+AJ322),(M322*G322+AA322*P322+0.5*(AA322+AB322)*(N322+(AB322-AA322)*O322)+AB322*Q322+AK321*AL321)/AL322)","v":5.0000000000000002E-5},{"$f":"AL321+N322+O322*(AB322-AA322)+P322+Q322","v":0},0.1,0,0,null,null,null,null,null,{"$f":"AR323","v":0},{"$f":"AX322+G322","v":0},{"$f":"AU322+G322","v":0},{"$f":"AQ323","v":0},{"$f":"AU322","v":0},null,null,null,null,null,null,null,null,null,null,null,null,null,null,null,null,null,null,null,null,null,null,null,null,null,null,null,null,0,{"$f":"INDEX(Hovedtal,BS315,9+BW322)","v":{"$error":"#VALUE!"}},{"$f":"CD321+CC322","v":{"$error":"#VALUE!"}},0,0,0,0]
[null,null,null,null,null,1,{"$f":"IF(INDEX(Hovedtal,B315,9)<F323,0,INDEX(Etager,7-F323,2))","v":0},{"$f":"IF(F323>INDEX(Hovedtal,B315,9),0,INDEX(Hovedtal,B315,6))","v":0},null,null,1E-4,{"$f":"INDEX(Hovedtal,B315,9+F323)","v":0},{"$f":"M322+L323","v":0},0,0,0,0,0,0,1E-4,0,0,{"$f":"INDEX(Hovedtal,B315,8)","v":0},"",null,null,0,{"$f":"SQRT((AE323-AC323)^2+(AF323-AD323)^2)+0.0001","v":1E-4},{"$f":"INDEX(Hovedtal,B315,2)","v":0},{"$f":"INDEX(Hovedtal,B315,3)","v":0},{"$f":"INDEX(Hovedtal,B315,4)","v":0},{"$f":"INDEX(Hovedtal,B315,5)","v":0},{"$f":"(AE323-AC323)/AB323","v":0},{"$f":"(AF323-AD323)/AB323","v":0},{"$f":"AA323","v":0},{"$f":"AB323","v":1E-4},{"$f":"IF(G323=0,0.5*(AI323+AJ323),(M323*G323+AA323*P323+0.5*(AA323+AB323)*(N323+(AB323-AA323)*O323)+AB323*Q323+AK322*AL322)/AL323)","v":5.0000000000000002E-5},{"$f":"AL322+N323+O323*(AB323-AA323)+P323+Q323","v":0},0.1,0,0,0,{"$f":"G323","v":0},{"$f":"G323","v":0},0,{"$f":"AP323","v":0},null,null,null,null,null,null,null,null,null,null,null,null,null,null,null,null,null,null,null,null,null,null,null,null,null,null,null,null,null,null,null,null,null,0,{"$f":"INDEX(Hovedtal,BS315,9+BW323)","v":{"$error":"#VALUE!"}},{"$f":"CD322+CC323","v":{"$error":"#VALUE!"}},0,0,0,0]
["*",null,null,null,null,null,null,null,null,null,null,null,null,null,null,null,null,null,null,null,null,null,null,null,null,null,null,null,null,null,null,null,null,null,null,null,null,null,null,null,null,null,null,null,null,null,null,null,null,null,null,null,null,null,null,null,null,null,null,null,null,null,null,null,null,null,null,null,null,null,null,{"$f":"MAX(AP316:BS323)+0.5","v":0.50009999999999999}]
[]
[null,"Væg",null,null,null,"Etage","h","t","r_1","r_2","L_eff","V_i","Q","G","p","P1","P2","T","N","b_1","b_2","n","n_max",null,null,null,"Etager:",6,null,null,null,null,null,null,null,null,null,null,null,null,null,"Hjørnepunkter i vægopstalt",null,null,null,null,null,null,null,null,null,null,null,null,null,null,null,null,null,null,null,null,null,null,null,null,null,null,null,null,null,null,null,null,null,null,null,"r_1","r_2","L_eff","V_i","Q","G","p","P1","P2"]
[null,{"$f":"B315+1","v":26},null,null,null,null,"(m)","(m)","(m)","(m)","(m)","(kN)","(kN)","(kN)","(kN/m)","(kN)","(kN)","(kN)","(kN)","(m)","(m)","(kN/m)","(kN/m)",null,null,null,null,null,null,null,null,null,null,null,null,null,null,null,null,null,null,null,null,null,null,null,null,null,null,null,null,null,null,null,null,null,null,null,null,null,null,null,null,null,null,null,null,null,null,null,null,null,null,null,null,null,null,"(m)","(m)","(m)","(kN)","(kN)","(kN)","(kN/m)","(kN)","(kN)"]
[null,null,null,null,null,null,null,null,null,null,null,null,null,null,null,null,null,null,null,null,null,null,null,null,null,null,"s_1","s_2","x_1","y_1","x_2","y_2","cos(a)","sin(a)","s_1_e","s_2_e","s_N","N_0","n","T_1","T_2",0,0,{"$f":"AB335","v":1E-4},{"$f":"AB335","v":1E-4},{"$f":"AP328","v":0},{"$f":"AA334","v":0},{"$f":"AA334","v":0},{"$f":"AB334","v":1E-4},{"$f":"AB334","v":1E-4},{"$f":"AU328","v":0},{"$f":"AA333","v":0},{"$f":"AA333","v":0},{"$f":"AB333","v":1E-4},{"$f":"AB333","v":1E-4},{"$f":"AZ328","v":0},{"$f":"AA332","v":0},{"$f":"AA332","v":0},{"$f":"AB332","v":1E-4},{"$f":"AB332","v":1E-4},{"$f":"BE328","v":0},{"$f":"AA331","v":0},{"$f":"AA331","v":0},{"$f":"AB331","v":1E-4},{"$f":"AB331","v":1E-4},{"$f":"BJ328","v":0},{"$f":"AA330","v":0},{"$f":"AA330","v":0},{"$f":"AB330","v":1E-4},{"$f":"AB330","v":1E-4},{"$f":"BO328","v":0},{"$f":"BT336","v":0.50009999999999999}]
[]
[null,null,null,null,null,6,{"$f":"IF(INDEX(Hovedtal,B327,9)<F330,0,INDEX(Etager,7-F330,2))","v":0},{"$f":"IF(F330>INDEX(Hovedtal,B327,9),0,INDEX(Hovedtal,B327,6))","v":0},null,null,{"$f":"AJ330-AI330","v":1E-4},{"$f":"INDEX(Hovedtal,B327,9+F330)","v":0},{"$f":"L330","v":0},{"$f":"(AB330-AA330)*H330*G330*g_g*g_e","v":0},0,0,0,{"$f":"IF(AK330>0.5*(AI330+AJ330),AO330,AN330)","v":0},{"$f":"AL330+R330","v":0},{"$f":"IF(AK330<=0.5*(AI330+AJ330),IF(AK330>AI330+0.5*AL330/AM330,2*(AK330-AI330),S330/AM330),0)","v":1E-4},{"$f":"IF(AK330>0.5*(AI330+AJ330),IF(AK330<AJ330-0.5*AL330/AM330,2*(AJ330-AK330),S330/AM330),0)","v":0},{"$f":"IF(AK330>0.5*(AI330+AJ330),S330/U330,S330/T330)","v":0},{"$f":"INDEX(Hovedtal,B327,8)","v":0},{"$f":"IF(OR(V330>W330,ABS(M330)>0.5*S330),\"!\",\"\")","v":""},null,null,{"$f":"IF(G330=0,AA331,IF(I330=0,0,I330))","v":0},{"$f":"IF(G330=0,AB331,IF(J330=0,AB335,AB335-J330))","v":1E-4},{"$f":"IF(G330=0,0,AC335+AA330*AG335)","v":0},{"$f":"IF(G330=0,0,AD335+AA330*AH335)","v":0},{"$f":"IF(G330=0,0,AC335+AB330*AG335)","v":0},{"$f":"IF(G330=0,0,AD335+AB330*AH335)","v":0},null,null,{"$f":"MAX(AA330:AA331)","v":0},{"$f":"MIN(AB330:AB331)","v":1E-4},{"$f":"IF(G330=0,0.5*(AI330+AJ330),(M330*G330+AA330*P330+0.5*(AA330+AB330)*(N330+(AB330-AA330)*O330)+AB330*Q330)/AL330)","v":5.0000000000000002E-5},{"$f":"N330+O330*(AB330-AA330)+P330+Q330","v":0},{"$f":"IF(AK330<0.5*(AI330+AJ330),MAX(W330,8*AL330*(0.5*(AJ330+AI330)-AK330)/(AJ330-AI330)^2+0.1),MAX(W330,-8*AL330*(0.5*(AJ330+AI330)-AK330)/(AJ330-AI330)^2+0.1))","v":0.1},{"$f":"IF(AND(AK330<0.5*(AI330+AJ330),AL330/AM330>2*(AK330-AI330)),AM330*(-SQRT((AL330/AM330+0.5*AI330-0.5*AJ330)^2-2*(-AK330*AL330/AM330+0.5*AL330^2/AM330^2+AI330*AL330/AM330))-(AL330/AM330+0.5*AI330-0.5*AJ330)),0)","v":0},{"$f":"IF(AND(AK330>=0.5*(AI330+AJ330),AL330/AM330>2*(AJ330-AK330)),AM330*(-SQRT((AL330/AM330+0.5*AI330-0.5*AJ330)^2-2*(AK330*AL330/AM330+0.5*AL330^2/AM330^2-AJ330*AL330/AM330))-(AL330/AM330+0.5*AI330-0.5*AJ330)),0)","v":0},null,null,null,null,null,null,null,null,null,null,null,null,null,null,null,null,null,null,null,null,null,null,null,null,null,{"$f":"BL331","v":0},{"$f":"BR330+G330","v":0},{"$f":"BO330+G330","v":0},{"$f":"BK331","v":0},{"$f":"BO330","v":0},null,null,null,null,null,null,null,null,{"$f":"DA330-CZ330","v":0},{"$f":"INDEX(Hovedtal,BS327,9+BW330)","v":{"$error":"#VALUE!"}},{"$f":"CC330","v":{"$error":"#VALUE!"}},{"$f":"(CS330-CR330)*BY330*BX330*g_g*g_e","v":0},0,0,0]
[null,null,null,null,null,5,{"$f":"IF(INDEX(Hovedtal,B327,9)<F331,0,INDEX(Etager,7-F331,2))","v":0},{"$f":"IF(F331>INDEX(Hovedtal,B327,9),0,INDEX(Hovedtal,B327,6))","v":0},null,null,1E-4,{"$f":"INDEX(Hovedtal,B327,9+F331)","v":0},{"$f":"M330+L331","v":0},0,0,0,0,0,0,1E-4,0,0,{"$f":"INDEX(Hovedtal,B327,8)","v":0},"",null,null,{"$f":"IF(G331=0,AA332,IF(I331=0,0,I331))","v":0},{"$f":"IF(G331=0,AB332,IF(J331=0,AB335,AB335-J331))","v":1E-4},{"$f":"IF(G331=0,0,AC335+AA331*AG335)","v":0},{"$f":"IF(G331=0,0,AD335+AA331*AH335)","v":0},{"$f":"IF(G331=0,0,AC335+AB331*AG335)","v":0},{"$f":"IF(G331=0,0,AD335+AB331*AH335)","v":0},null,null,{"$f":"MAX(AA331:AA332)","v":0},{"$f":"MIN(AB331:AB332)","v":1E-4},{"$f":"IF(G331=0,0.5*(AI331+AJ331),(M331*G331+AA331*P331+0.5*(AA331+AB331)*(N331+(AB331-AA331)*O331)+AB331*Q331+AK330*AL330)/AL331)","v":5.0000000000000002E-5},{"$f":"AL330+N331+O331*(AB331-AA331)+P331+Q331","v":0},0.1,0,0,null,null,null,null,null,null,null,null,null,null,null,null,null,null,null,null,null,null,null,null,{"$f":"BG332","v":0},{"$f":"BM331+G331","v":0},{"$f":"BJ331+G331","v":0},{"$f":"BF332","v":0},{"$f":"BJ331","v":0},null,null,null,null,null,null,null,null,null,null,null,null,null,0,{"$f":"INDEX(Hovedtal,BS327,9+BW331)","v":{"$error":"#VALUE!"}},{"$f":"CD330+CC331","v":{"$error":"#VALUE!"}},0,0,0,0]
[null,null,null,null,null,4,{"$f":"IF(INDEX(Hovedtal,B327,9)<F332,0,INDEX(Etager,7-F332,2))","v":0},{"$f":"IF(F332>INDEX(Hovedtal,B327,9),0,INDEX(Hovedtal,B327,6))","v":0},null,null,1E-4,{"$f":"INDEX(Hovedtal,B327,9+F332)","v":0},{"$f":"M331+L332","v":0},0,0,0,0,0,0,1E-4,0,0,{"$f":"INDEX(Hovedtal,B327,8)","v":0},"",null,null,{"$f":"IF(G332=0,AA333,IF(I332=0,0,I332))","v":0},{"$f":"IF(G332=0,AB333,IF(J332=0,AB335,AB335-J332))","v":1E-4},{"$f":"IF(G332=0,0,AC335+AA332*AG335)","v":0},{"$f":"IF(G332=0,0,AD335+AA332*AH335)","v":0},{"$f":"IF(G332=0,0,AC335+AB332*AG335)","v":0},{"$f":"IF(G332=0,0,AD335+AB332*AH335)","v":0},null,null,{"$f":"MAX(AA332:AA333)","v":0},{"$f":"MIN(AB332:AB333)","v":1E-4},{"$f":"IF(G332=0,0.5*(AI332+AJ332),(M332*G332+AA332*P332+0.5*(AA332+AB332)*(N332+(AB332-AA332)*O332)+AB332*Q332+AK331*AL331)/AL332)","v":5.0000000000000002E-5},{"$f":"AL331+N332+O332*(AB332-AA332)+P332+Q332","v":0},0.1,0,0,null,null,null,null,null,null,null,null,null,null,null,null,null,null,null,{"$f":"BB333","v":0},{"$f":"BH332+G332","v":0},{"$f":"BE332+G332","v":0},{"$f":"BA333","v":0},{"$f":"BE332","v":0},null,null,null,null,null,null,null,null,null,null,null,null,null,null,null,null,null,null,0,{"$f":"INDEX(Hovedtal,BS327,9+BW332)","v":{"$error":"#VALUE!"}},{"$f":"CD331+CC332","v":{"$error":"#VALUE!"}},0,0,0,0]
[null,null,null,null,null,3,{"$f":"IF(INDEX(Hovedtal,B327,9)<F333,0,INDEX(Etager,7-F333,2))","v":0},{"$f":"IF(F333>INDEX(Hovedtal,B327,9),0,INDEX(Hovedtal,B327,6))","v":0},null,null,1E-4,{"$f":"INDEX(Hovedtal,B327,9+F333)","v":0},{"$f":"M332+L333","v":0},0,0,0,0,0,0,1E-4,0,0,{"$f":"INDEX(Hovedtal,B327,8)","v":0},"",null,null,{"$f":"IF(G333=0,AA334,IF(I333=0,0,I333))","v":0},{"$f":"IF(G333=0,AB334,IF(J333=0,AB335,AB335-J333))","v":1E-4},{"$f":"IF(G333=0,0,AC335+AA333*AG335)","v":0},{"$f":"IF(G333=0,0,AD335+AA333*AH335)","v":0},{"$f":"IF(G333=0,0,AC335+AB333*AG335)","v":0},{"$f":"IF(G333=0,0,AD335+AB333*AH335)","v":0},null,null,{"$f":"MAX(AA333:AA334)","v":0},{"$f":"MIN(AB333:AB334)","v":1E-4},{"$f":"IF(G333=0,0.5*(AI333+AJ333),(M333*G333+AA333*P333+0.5*(AA333+AB333)*(N333+(AB333-AA333)*O333)+AB333*Q333+AK332*AL332)/AL333)","v":5.0000000000000002E-5},{"$f":"AL332+N333+O333*(AB333-AA333)+P333+Q333","v":0},0.1,0,0,null,null,null,null,null,null,null,null,null,null,{"$f":"AW334","v":0},{"$f":"BC333+G333","v":0},{"$f":"AZ333+G333","v":0},{"$f":"AV334","v":0},{"$f":"AZ333","v":0},null,null,null,null,null,null,null,null,null,null,null,null,null,null,null,null,null,null,null,null,null,null,null,0,{"$f":"INDEX(Hovedtal,BS327,9+BW333)","v":{"$error":"#VALUE!"}},{"$f":"CD332+CC333","v":{"$error":"#VALUE!"}},0,0,0,0]
[null,null,null,null,null,2,{"$f":"IF(INDEX(Hovedtal,B327,9)<F334,0,INDEX(Etager,7-F334,2))","v":0},{"$f":"IF(F334>INDEX(Hovedtal,B327,9),0,INDEX(Hovedtal,B327,6))","v":0},null,null,1E-4,{"$f":"INDEX(Hovedtal,B327,9+F334)","v":0},{"$f":"M333+L334","v":0},0,0,0,0,0,0,1E-4,0,0,{"$f":"INDEX(Hovedtal,B327,8)","v":0},"",null,null,{"$f":"IF(G334=0,AA335,IF(I334=0,0,I334))","v":0},{"$f":"IF(G334=0,AB335,IF(J334=0,AB335,AB335-J334))","v":1E-4},{"$f":"IF(G334=0,0,AC335+AA334*AG335)","v":0},{"$f":"IF(G334=0,0,AD335+AA334*AH335)","v":0},{"$f":"IF(G334=0,0,AC335+AB334*AG335)","v":0},{"$f":"IF(G334=0,0,AD335+AB334*AH335)","v":0},null,null,{"$f":"MAX(AA334:AA335)","v":0},{"$f":"MIN(AB334:AB335)","v":1E-4},{"$f":"IF(G334=0,0.5*(AI334+AJ334),(M334*G334+AA334*P334+0.5*(AA334+AB334)*(N334+(AB334-AA334)*O334)+AB334*Q334+AK333*AL333)/AL334)","v":5.0000000000000002E-5},{"$f":"AL333+N334+O334*(AB334-AA334)+P334+Q334","v":0},0.1,0,0,null,null,null,null,null,{"$f":"AR335","v":0},{"$f":"AX334+G334","v":0},{"$f":"AU334+G334","v":0},{"$f":"AQ335","v":0},{"$f":"AU334","v":0},null,null,null,null,null,null,null,null,null,null,null,null,null,null,null,null,null,null,null,null,null,null,null,null,null,null,null,null,0,{"$f":"INDEX(Hovedtal,BS327,9+BW334)","v":{"$error":"#VALUE!"}},{"$f":"CD333+CC334","v":{"$error":"#VALUE!"}},0,0,0,0]
[null,null,null,null,null,1,{"$f":"IF(INDEX(Hovedtal,B327,9)<F335,0,INDEX(Etager,7-F335,2))","v":0},{"$f":"IF(F335>INDEX(Hovedtal,B327,9),0,INDEX(Hovedtal,B327,6))","v":0},null,null,1E-4,{"$f":"INDEX(Hovedtal,B327,9+F335)","v":0},{"$f":"M334+L335","v":0},0,0,0,0,0,0,1E-4,0,0,{"$f":"INDEX(Hovedtal,B327,8)","v":0},"",null,null,0,{"$f":"SQRT((AE335-AC335)^2+(AF335-AD335)^2)+0.0001","v":1E-4},{"$f":"INDEX(Hovedtal,B327,2)","v":0},{"$f":"INDEX(Hovedtal,B327,3)","v":0},{"$f":"INDEX(Hovedtal,B327,4)","v":0},{"$f":"INDEX(Hovedtal,B327,5)","v":0},{"$f":"(AE335-AC335)/AB335","v":0},{"$f":"(AF335-AD335)/AB335","v":0},{"$f":"AA335","v":0},{"$f":"AB335","v":1E-4},{"$f":"IF(G335=0,0.5*(AI335+AJ335),(M335*G335+AA335*P335+0.5*(AA335+AB335)*(N335+(AB335-AA335)*O335)+AB335*Q335+AK334*AL334)/AL335)","v":5.0000000000000002E-5},{"$f":"AL334+N335+O335*(AB335-AA335)+P335+Q335","v":0},0.1,0,0,0,{"$f":"G335","v":0},{"$f":"G335","v":0},0,{"$f":"AP335","v":0},null,null,null,null,null,null,null,null,null,null,null,null,null,null,null,null,null,null,null,null,null,null,null,null,null,null,null,null,null,null,null,null,null,0,{"$f":"INDEX(Hovedtal,BS327,9+BW335)","v":{"$error":"#VALUE!"}},{"$f":"CD334+CC335","v":{"$error":"#VALUE!"}},0,0,0,0]
["*",null,null,null,null,null,null,null,null,null,null,null,null,null,null,null,null,null,null,null,null,null,null,null,null,null,null,null,null,null,null,null,null,null,null,null,null,null,null,null,null,null,null,null,null,null,null,null,null,null,null,null,null,null,null,null,null,null,null,null,null,null,null,null,null,null,null,null,null,null,null,{"$f":"MAX(AP328:BS335)+0.5","v":0.50009999999999999}]
[]
[null,"Væg",null,null,null,"Etage","h","t","r_1","r_2","L_eff","V_i","Q","G","p","P1","P2","T","N","b_1","b_2","n","n_max",null,null,null,"Etager:",6,null,null,null,null,null,null,null,null,null,null,null,null,null,"Hjørnepunkter i vægopstalt",null,null,null,null,null,null,null,null,null,null,null,null,null,null,null,null,null,null,null,null,null,null,null,null,null,null,null,null,null,null,null,null,null,null,null,"r_1","r_2","L_eff","V_i","Q","G","p","P1","P2"]
[null,{"$f":"B327+1","v":27},null,null,null,null,"(m)","(m)","(m)","(m)","(m)","(kN)","(kN)","(kN)","(kN/m)","(kN)","(kN)","(kN)","(kN)","(m)","(m)","(kN/m)","(kN/m)",null,null,null,null,null,null,null,null,null,null,null,null,null,null,null,null,null,null,null,null,null,null,null,null,null,null,null,null,null,null,null,null,null,null,null,null,null,null,null,null,null,null,null,null,null,null,null,null,null,null,null,null,null,null,"(m)","(m)","(m)","(kN)","(kN)","(kN)","(kN/m)","(kN)","(kN)"]
[null,null,null,null,null,null,null,null,null,null,null,null,null,null,null,null,null,null,null,null,null,null,null,null,null,null,"s_1","s_2","x_1","y_1","x_2","y_2","cos(a)","sin(a)","s_1_e","s_2_e","s_N","N_0","n","T_1","T_2",0,0,{"$f":"AB347","v":1E-4},{"$f":"AB347","v":1E-4},{"$f":"AP340","v":0},{"$f":"AA346","v":0},{"$f":"AA346","v":0},{"$f":"AB346","v":1E-4},{"$f":"AB346","v":1E-4},{"$f":"AU340","v":0},{"$f":"AA345","v":0},{"$f":"AA345","v":0},{"$f":"AB345","v":1E-4},{"$f":"AB345","v":1E-4},{"$f":"AZ340","v":0},{"$f":"AA344","v":0},{"$f":"AA344","v":0},{"$f":"AB344","v":1E-4},{"$f":"AB344","v":1E-4},{"$f":"BE340","v":0},{"$f":"AA343","v":0},{"$f":"AA343","v":0},{"$f":"AB343","v":1E-4},{"$f":"AB343","v":1E-4},{"$f":"BJ340","v":0},{"$f":"AA342","v":0},{"$f":"AA342","v":0},{"$f":"AB342","v":1E-4},{"$f":"AB342","v":1E-4},{"$f":"BO340","v":0},{"$f":"BT348","v":0.50009999999999999}]
[]
[null,null,null,null,null,6,{"$f":"IF(INDEX(Hovedtal,B339,9)<F342,0,INDEX(Etager,7-F342,2))","v":0},{"$f":"IF(F342>INDEX(Hovedtal,B339,9),0,INDEX(Hovedtal,B339,6))","v":0},null,null,{"$f":"AJ342-AI342","v":1E-4},{"$f":"INDEX(Hovedtal,B339,9+F342)","v":0},{"$f":"L342","v":0},{"$f":"(AB342-AA342)*H342*G342*g_g*g_e","v":0},0,0,0,{"$f":"IF(AK342>0.5*(AI342+AJ342),AO342,AN342)","v":0},{"$f":"AL342+R342","v":0},{"$f":"IF(AK342<=0.5*(AI342+AJ342),IF(AK342>AI342+0.5*AL342/AM342,2*(AK342-AI342),S342/AM342),0)","v":1E-4},{"$f":"IF(AK342>0.5*(AI342+AJ342),IF(AK342<AJ342-0.5*AL342/AM342,2*(AJ342-AK342),S342/AM342),0)","v":0},{"$f":"IF(AK342>0.5*(AI342+AJ342),S342/U342,S342/T342)","v":0},{"$f":"INDEX(Hovedtal,B339,8)","v":0},{"$f":"IF(OR(V342>W342,ABS(M342)>0.5*S342),\"!\",\"\")","v":""},null,null,{"$f":"IF(G342=0,AA343,IF(I342=0,0,I342))","v":0},{"$f":"IF(G342=0,AB343,IF(J342=0,AB347,AB347-J342))","v":1E-4},{"$f":"IF(G342=0,0,AC347+AA342*AG347)","v":0},{"$f":"IF(G342=0,0,AD347+AA342*AH347)","v":0},{"$f":"IF(G342=0,0,AC347+AB342*AG347)","v":0},{"$f":"IF(G342=0,0,AD347+AB342*AH347)","v":0},null,null,{"$f":"MAX(AA342:AA343)","v":0},{"$f":"MIN(AB342:AB343)","v":1E-4},{"$f":"IF(G342=0,0.5*(AI342+AJ342),(M342*G342+AA342*P342+0.5*(AA342+AB342)*(N342+(AB342-AA342)*O342)+AB342*Q342)/AL342)","v":5.0000000000000002E-5},{"$f":"N342+O342*(AB342-AA342)+P342+Q342","v":0},{"$f":"IF(AK342<0.5*(AI342+AJ342),MAX(W342,8*AL342*(0.5*(AJ342+AI342)-AK342)/(AJ342-AI342)^2+0.1),MAX(W342,-8*AL342*(0.5*(AJ342+AI342)-AK342)/(AJ342-AI342)^2+0.1))","v":0.1},{"$f":"IF(AND(AK342<0.5*(AI342+AJ342),AL342/AM342>2*(AK342-AI342)),AM342*(-SQRT((AL342/AM342+0.5*AI342-0.5*AJ342)^2-2*(-AK342*AL342/AM342+0.5*AL342^2/AM342^2+AI342*AL342/AM342))-(AL342/AM342+0.5*AI342-0.5*AJ342)),0)","v":0},{"$f":"IF(AND(AK342>=0.5*(AI342+AJ342),AL342/AM342>2*(AJ342-AK342)),AM342*(-SQRT((AL342/AM342+0.5*AI342-0.5*AJ342)^2-2*(AK342*AL342/AM342+0.5*AL342^2/AM342^2-AJ342*AL342/AM342))-(AL342/AM342+0.5*AI342-0.5*AJ342)),0)","v":0},null,null,null,null,null,null,null,null,null,null,null,null,null,null,null,null,null,null,null,null,null,null,null,null,null,{"$f":"BL343","v":0},{"$f":"BR342+G342","v":0},{"$f":"BO342+G342","v":0},{"$f":"BK343","v":0},{"$f":"BO342","v":0},null,null,null,null,null,null,null,null,{"$f":"DA342-CZ342","v":0},{"$f":"INDEX(Hovedtal,BS339,9+BW342)","v":{"$error":"#VALUE!"}},{"$f":"CC342","v":{"$error":"#VALUE!"}},{"$f":"(CS342-CR342)*BY342*BX342*g_g*g_e","v":0},0,0,0]
[null,null,null,null,null,5,{"$f":"IF(INDEX(Hovedtal,B339,9)<F343,0,INDEX(Etager,7-F343,2))","v":0},{"$f":"IF(F343>INDEX(Hovedtal,B339,9),0,INDEX(Hovedtal,B339,6))","v":0},null,null,1E-4,{"$f":"INDEX(Hovedtal,B339,9+F343)","v":0},{"$f":"M342+L343","v":0},0,0,0,0,0,0,1E-4,0,0,{"$f":"INDEX(Hovedtal,B339,8)","v":0},"",null,null,{"$f":"IF(G343=0,AA344,IF(I343=0,0,I343))","v":0},{"$f":"IF(G343=0,AB344,IF(J343=0,AB347,AB347-J343))","v":1E-4},{"$f":"IF(G343=0,0,AC347+AA343*AG347)","v":0},{"$f":"IF(G343=0,0,AD347+AA343*AH347)","v":0},{"$f":"IF(G343=0,0,AC347+AB343*AG347)","v":0},{"$f":"IF(G343=0,0,AD347+AB343*AH347)","v":0},null,null,{"$f":"MAX(AA343:AA344)","v":0},{"$f":"MIN(AB343:AB344)","v":1E-4},{"$f":"IF(G343=0,0.5*(AI343+AJ343),(M343*G343+AA343*P343+0.5*(AA343+AB343)*(N343+(AB343-AA343)*O343)+AB343*Q343+AK342*AL342)/AL343)","v":5.0000000000000002E-5},{"$f":"AL342+N343+O343*(AB343-AA343)+P343+Q343","v":0},0.1,0,0,null,null,null,null,null,null,null,null,null,null,null,null,null,null,null,null,null,null,null,null,{"$f":"BG344","v":0},{"$f":"BM343+G343","v":0},{"$f":"BJ343+G343","v":0},{"$f":"BF344","v":0},{"$f":"BJ343","v":0},null,null,null,null,null,null,null,null,null,null,null,null,null,0,{"$f":"INDEX(Hovedtal,BS339,9+BW343)","v":{"$error":"#VALUE!"}},{"$f":"CD342+CC343","v":{"$error":"#VALUE!"}},0,0,0,0]
[null,null,null,null,null,4,{"$f":"IF(INDEX(Hovedtal,B339,9)<F344,0,INDEX(Etager,7-F344,2))","v":0},{"$f":"IF(F344>INDEX(Hovedtal,B339,9),0,INDEX(Hovedtal,B339,6))","v":0},null,null,1E-4,{"$f":"INDEX(Hovedtal,B339,9+F344)","v":0},{"$f":"M343+L344","v":0},0,0,0,0,0,0,1E-4,0,0,{"$f":"INDEX(Hovedtal,B339,8)","v":0},"",null,null,{"$f":"IF(G344=0,AA345,IF(I344=0,0,I344))","v":0},{"$f":"IF(G344=0,AB345,IF(J344=0,AB347,AB347-J344))","v":1E-4},{"$f":"IF(G344=0,0,AC347+AA344*AG347)","v":0},{"$f":"IF(G344=0,0,AD347+AA344*AH347)","v":0},{"$f":"IF(G344=0,0,AC347+AB344*AG347)","v":0},{"$f":"IF(G344=0,0,AD347+AB344*AH347)","v":0},null,null,{"$f":"MAX(AA344:AA345)","v":0},{"$f":"MIN(AB344:AB345)","v":1E-4},{"$f":"IF(G344=0,0.5*(AI344+AJ344),(M344*G344+AA344*P344+0.5*(AA344+AB344)*(N344+(AB344-AA344)*O344)+AB344*Q344+AK343*AL343)/AL344)","v":5.0000000000000002E-5},{"$f":"AL343+N344+O344*(AB344-AA344)+P344+Q344","v":0},0.1,0,0,null,null,null,null,null,null,null,null,null,null,null,null,null,null,null,{"$f":"BB345","v":0},{"$f":"BH344+G344","v":0},{"$f":"BE344+G344","v":0},{"$f":"BA345","v":0},{"$f":"BE344","v":0},null,null,null,null,null,null,null,null,null,null,null,null,null,null,null,null,null,null,0,{"$f":"INDEX(Hovedtal,BS339,9+BW344)","v":{"$error":"#VALUE!"}},{"$f":"CD343+CC344","v":{"$error":"#VALUE!"}},0,0,0,0]
[null,null,null,null,null,3,{"$f":"IF(INDEX(Hovedtal,B339,9)<F345,0,INDEX(Etager,7-F345,2))","v":0},{"$f":"IF(F345>INDEX(Hovedtal,B339,9),0,INDEX(Hovedtal,B339,6))","v":0},null,null,1E-4,{"$f":"INDEX(Hovedtal,B339,9+F345)","v":0},{"$f":"M344+L345","v":0},0,0,0,0,0,0,1E-4,0,0,{"$f":"INDEX(Hovedtal,B339,8)","v":0},"",null,null,{"$f":"IF(G345=0,AA346,IF(I345=0,0,I345))","v":0},{"$f":"IF(G345=0,AB346,IF(J345=0,AB347,AB347-J345))","v":1E-4},{"$f":"IF(G345=0,0,AC347+AA345*AG347)","v":0},{"$f":"IF(G345=0,0,AD347+AA345*AH347)","v":0},{"$f":"IF(G345=0,0,AC347+AB345*AG347)","v":0},{"$f":"IF(G345=0,0,AD347+AB345*AH347)","v":0},null,null,{"$f":"MAX(AA345:AA346)","v":0},{"$f":"MIN(AB345:AB346)","v":1E-4},{"$f":"IF(G345=0,0.5*(AI345+AJ345),(M345*G345+AA345*P345+0.5*(AA345+AB345)*(N345+(AB345-AA345)*O345)+AB345*Q345+AK344*AL344)/AL345)","v":5.0000000000000002E-5},{"$f":"AL344+N345+O345*(AB345-AA345)+P345+Q345","v":0},0.1,0,0,null,null,null,null,null,null,null,null,null,null,{"$f":"AW346","v":0},{"$f":"BC345+G345","v":0},{"$f":"AZ345+G345","v":0},{"$f":"AV346","v":0},{"$f":"AZ345","v":0},null,null,null,null,null,null,null,null,null,null,null,null,null,null,null,null,null,null,null,null,null,null,null,0,{"$f":"INDEX(Hovedtal,BS339,9+BW345)","v":{"$error":"#VALUE!"}},{"$f":"CD344+CC345","v":{"$error":"#VALUE!"}},0,0,0,0]
[null,null,null,null,null,2,{"$f":"IF(INDEX(Hovedtal,B339,9)<F346,0,INDEX(Etager,7-F346,2))","v":0},{"$f":"IF(F346>INDEX(Hovedtal,B339,9),0,INDEX(Hovedtal,B339,6))","v":0},null,null,1E-4,{"$f":"INDEX(Hovedtal,B339,9+F346)","v":0},{"$f":"M345+L346","v":0},0,0,0,0,0,0,1E-4,0,0,{"$f":"INDEX(Hovedtal,B339,8)","v":0},"",null,null,{"$f":"IF(G346=0,AA347,IF(I346=0,0,I346))","v":0},{"$f":"IF(G346=0,AB347,IF(J346=0,AB347,AB347-J346))","v":1E-4},{"$f":"IF(G346=0,0,AC347+AA346*AG347)","v":0},{"$f":"IF(G346=0,0,AD347+AA346*AH347)","v":0},{"$f":"IF(G346=0,0,AC347+AB346*AG347)","v":0},{"$f":"IF(G346=0,0,AD347+AB346*AH347)","v":0},null,null,{"$f":"MAX(AA346:AA347)","v":0},{"$f":"MIN(AB346:AB347)","v":1E-4},{"$f":"IF(G346=0,0.5*(AI346+AJ346),(M346*G346+AA346*P346+0.5*(AA346+AB346)*(N346+(AB346-AA346)*O346)+AB346*Q346+AK345*AL345)/AL346)","v":5.0000000000000002E-5},{"$f":"AL345+N346+O346*(AB346-AA346)+P346+Q346","v":0},0.1,0,0,null,null,null,null,null,{"$f":"AR347","v":0},{"$f":"AX346+G346","v":0},{"$f":"AU346+G346","v":0},{"$f":"AQ347","v":0},{"$f":"AU346","v":0},null,null,null,null,null,null,null,null,null,null,null,null,null,null,null,null,null,null,null,null,null,null,null,null,null,null,null,null,0,{"$f":"INDEX(Hovedtal,BS339,9+BW346)","v":{"$error":"#VALUE!"}},{"$f":"CD345+CC346","v":{"$error":"#VALUE!"}},0,0,0,0]
[null,null,null,null,null,1,{"$f":"IF(INDEX(Hovedtal,B339,9)<F347,0,INDEX(Etager,7-F347,2))","v":0},{"$f":"IF(F347>INDEX(Hovedtal,B339,9),0,INDEX(Hovedtal,B339,6))","v":0},null,null,1E-4,{"$f":"INDEX(Hovedtal,B339,9+F347)","v":0},{"$f":"M346+L347","v":0},0,0,0,0,0,0,1E-4,0,0,{"$f":"INDEX(Hovedtal,B339,8)","v":0},"",null,null,0,{"$f":"SQRT((AE347-AC347)^2+(AF347-AD347)^2)+0.0001","v":1E-4},{"$f":"INDEX(Hovedtal,B339,2)","v":0},{"$f":"INDEX(Hovedtal,B339,3)","v":0},{"$f":"INDEX(Hovedtal,B339,4)","v":0},{"$f":"INDEX(Hovedtal,B339,5)","v":0},{"$f":"(AE347-AC347)/AB347","v":0},{"$f":"(AF347-AD347)/AB347","v":0},{"$f":"AA347","v":0},{"$f":"AB347","v":1E-4},{"$f":"IF(G347=0,0.5*(AI347+AJ347),(M347*G347+AA347*P347+0.5*(AA347+AB347)*(N347+(AB347-AA347)*O347)+AB347*Q347+AK346*AL346)/AL347)","v":5.0000000000000002E-5},{"$f":"AL346+N347+O347*(AB347-AA347)+P347+Q347","v":0},0.1,0,0,0,{"$f":"G347","v":0},{"$f":"G347","v":0},0,{"$f":"AP347","v":0},null,null,null,null,null,null,null,null,null,null,null,null,null,null,null,null,null,null,null,null,null,null,null,null,null,null,null,null,null,null,null,null,null,0,{"$f":"INDEX(Hovedtal,BS339,9+BW347)","v":{"$error":"#VALUE!"}},{"$f":"CD346+CC347","v":{"$error":"#VALUE!"}},0,0,0,0]
["*",null,null,null,null,null,null,null,null,null,null,null,null,null,null,null,null,null,null,null,null,null,null,null,null,null,null,null,null,null,null,null,null,null,null,null,null,null,null,null,null,null,null,null,null,null,null,null,null,null,null,null,null,null,null,null,null,null,null,null,null,null,null,null,null,null,null,null,null,null,null,{"$f":"MAX(AP340:BS347)+0.5","v":0.50009999999999999}]

{"sheet":"Vægplan","index":3,"n_rows":10,"n_cols":14,"rows_kept":10,"cut":false,"hidden":false,"merged":[[1,13,1,15],[2,13,2,15],[1,1,1,11],[2,1,2,11]]}
[]
[null,{"$f":"System!B2","v":"BEF's prøvehus, ULS lastkomb. 6.10b"},null,null,null,null,null,null,null,null,null,null,"sag nr.",{"$f":"System!$N$2","v":"21-101"}]
[null,{"$f":"System!B3","v":"Lasttilfælde 7a, Vind:  + W_y  og  + W_x*       (+ imperfektionsbidrag / masselast i vindretning)"},null,null,null,null,null,null,null,null,null,null,{"$f":"System!N3","v":"NNN"},{"$f":"\"ref. nr.:  \"&System!$P$3&\" - 2\"","v":"ref. nr.:  7a - 2"}]
[null,{"$f":"\"Bruger: \"&Inddata!O2","v":"Bruger: Bruger skal registreres"}]
[]
[]
[]
[]
[null,null,null,null,null,null,null,"Oversigt over placering af stabiliserende vægge"]
[null,null,null,null,null,null,null,null,null,{"$f":"\"etage  \"&7-ge","v":"etage  1"}]

{"sheet":"Kontur","index":4,"n_rows":192,"n_cols":63,"rows_kept":192,"cut":false,"hidden":false,"merged":[[12,1,13,1],[2,1,3,1],[4,1,5,1],[2,40,3,40],[6,1,7,1],[8,1,9,1],[10,1,11,1]]}
[]
[null,"KONTURER",null,1,2,3,4,5,6,7,8,9,10,11,12,13,14,15,16,17,18,19,20,null,null,null,null,null,null,null,null,null,null,null,null,null,null,null,null,null,"KONTUR - hjørnepunkter:",null,1,2,3,4,5,6,7,8,9,10,11,12,13,14,15,16,17,18,19,20]
[null,"Etage 6","x (m) ",9.5,30.5,30.5,9.5,null,null,null,null,null,null,null,null,null,null,null,null,null,null,null,null,null,null,null,null,null,null,null,null,null,null,null,null,null,null,null,null,null,"Etage 6","x (m)",{"$f":"INDEX(kontur,1+2*(6-$AO$5),AQ$2)","v":9.5},{"$f":"IF(INDEX(kontur,1+2*(6-$AO$5),AR$2)=\"\",AQ3,INDEX(kontur,1+2*(6-$AO$5),AR$2))","v":30.5},30.5,9.5,9.5,9.5,9.5,9.5,9.5,9.5,9.5,9.5,9.5,9.5,9.5,9.5,9.5,9.5,9.5,9.5,{"$f":"AQ3","v":9.5}]
[null,null,"y(m) ",9.5,9.5,22.5,22.5,null,null,null,null,null,null,null,null,null,null,null,null,null,null,null,null,null,null,null,null,null,null,null,null,null,null,null,null,null,null,null,null,null,null,"y(m)",{"$f":"INDEX(kontur,2+2*(6-$AO$5),AQ$2)","v":9.5},{"$f":"IF(INDEX(kontur,2+2*(6-$AO$5),AR$2)=\"\",AQ4,INDEX(kontur,2+2*(6-$AO$5),AR$2))","v":9.5},22.5,22.5,22.5,22.5,22.5,22.5,22.5,22.5,22.5,22.5,22.5,22.5,22.5,22.5,22.5,22.5,22.5,22.5,{"$f":"AQ4","v":9.5}]
[null,"Etage 5","x (m) ",9.5,30.5,30.5,9.5,null,null,null,null,null,null,null,null,null,null,null,null,null,null,null,null,null,null,null,null,null,null,null,null,null,null,null,null,null,null,null,null,null,{"$f":"7-ge","v":1}]
[null,null,"y(m) ",9.5,9.5,22.5,22.5]
[null,"Etage 4","x (m) ",9.5,30.5,30.5,9.5]
[null,null,"y(m) ",9.5,9.5,22.5,22.5]
[null,"Etage 3","x (m) ",9.5,30.5,30.5,9.5]
[null,null,"y(m) ",9.5,9.5,22.5,22.5]
[null,"Etage 2","x (m) ",9.5,30.5,30.5,9.5]
[null,null,"y(m) ",9.5,9.5,22.5,22.5]
[null,"Etage 1","x (m) ",9.5,30.5,30.5,9.5]
[null,null,"y(m) ",9.5,9.5,22.5,22.5]
[]
[]
[]
[]
[]
[]
[]
[]
[]
[]
[]
[]
[]
[]
[]
[]
[]
[]
[]
[]
[]
[]
[]
[]
[]
[]
[]
[]
[]
[]
[]
[]
[]
[]
[]
[]
[]
[]
[]
[]
[]
[]
[]
[]
[]
[]
[]
[]
[]
[]
[]
[null,"m - %:",{"$f":"Inddata!E41/100","v":1.7500000000000002E-2},"nr","x","y","x_2","y_2","A","S_x","S_y","Dx","Dy","Ds_x","Ds_y",null,null,{"$f":"topetg","v":6}]
[null,"Etage",6,1,{"$f":"INDEX(kontur,1+2*(6-$C$67),$D67)","v":9.5},{"$f":"INDEX(kontur,2+2*(6-$C$67),$D67)","v":9.5},{"$f":"E68","v":30.5},9.5,{"$f":"-0.5*(G67-E67)*(H67+F67)","v":-199.5},{"$f":"IF(H67=F67,-0.5*F67^2*(G67-E67),(G67-E67)*(-H67^3/6+F67^3/6)/(H67-F67))","v":-947.625},{"$f":"-IF(G67=E67,-0.5*E67^2*(H67-F67),(H67-F67)*(-G67^3/6+E67^3/6)/(G67-E67))","v":0},{"$f":"IF(G67>E67,G67-E67,0)","v":21},{"$f":"IF(H67>F67,H67-F67,0)","v":0},{"$f":"0.5*(H67+F67)*M67","v":0},{"$f":"0.5*(G67+E67)*L67","v":420}]
[null,"Højde",{"$f":"IF(INDEX(lastdata,7-C67,1)=0,0.0001,INDEX(lastdata,7-C67,1))","v":3},2,{"$f":"IF(INDEX(kontur,1+2*(6-$C$67),$D68)=\"\",E67,INDEX(kontur,1+2*(6-$C$67),$D68))","v":30.5},{"$f":"IF(INDEX(kontur,2+2*(6-$C$67),$D68)=\"\",F67,INDEX(kontur,2+2*(6-$C$67),$D68))","v":9.5},30.5,22.5,0,0,{"$f":"-IF(G68=E68,-0.5*E68^2*(H68-F68),(H68-F68)*(-G68^3/6+E68^3/6)/(G68-E68))","v":6046.625},{"$f":"IF(G68>E68,G68-E68,0)","v":0},13,208,0]
[null,"Stern",{"$f":"INDEX(lastdata,7-C67,2)","v":0.6},3,{"$f":"IF(INDEX(kontur,1+2*(6-$C$67),$D69)=\"\",E68,INDEX(kontur,1+2*(6-$C$67),$D69))","v":30.5},{"$f":"IF(INDEX(kontur,2+2*(6-$C$67),$D69)=\"\",F68,INDEX(kontur,2+2*(6-$C$67),$D69))","v":22.5},9.5,22.5,472.5,5315.625,{"$f":"-IF(G69=E69,-0.5*E69^2*(H69-F69),(H69-F69)*(-G69^3/6+E69^3/6)/(G69-E69))","v":0},{"$f":"IF(G69>E69,G69-E69,0)","v":0},0,0,0]
[null,"W_masse",{"$f":"$C$66*C73*(C71+C72)","v":57.330000000000013},4,9.5,{"$f":"IF(INDEX(kontur,2+2*(6-$C$67),$D70)=\"\",F69,INDEX(kontur,2+2*(6-$C$67),$D70))","v":22.5},9.5,22.5,0,0,0,0,0,0,0]
[null,"q_flade",{"$f":"INDEX(lastdata,7-C67,3)","v":10},5,9.5,22.5,9.5,22.5,0,0,0,0,0,0,0]
[null,"q_ækv",{"$f":"INDEX(lastdata,7-C67,4)","v":2},6,9.5,22.5,9.5,22.5,0,0,0,0,0,0,0]
[null,"A",{"$f":"SUM(I67:I86)","v":273},7,9.5,22.5,9.5,22.5,0,0,0,0,0,0,0]
[null,"S_x",{"$f":"SUM(J67:J86)","v":4368},8,9.5,22.5,9.5,22.5,0,0,0,0,0,0,0]
[null,"S_y",{"$f":"SUM(K67:K86)","v":5460},9,9.5,22.5,9.5,22.5,0,0,0,0,0,0,0]
[null,"x_masse",{"$f":"IF(C73=0,0,C75/C73)","v":20},10,9.5,22.5,9.5,22.5,0,0,0,0,0,0,0]
[null,"y_masse",{"$f":"IF(C73=0,0,C74/C73)","v":16},11,9.5,22.5,9.5,22.5,0,0,0,0,0,0,0]
[null,"W_x_vind",{"$f":"0.5*(C68+C69)^2*C80*C81*C83/C68","v":33.695999999999998},12,9.5,22.5,9.5,22.5,0,0,0,0,0,0,0]
[null,"W_y_vind",{"$f":"0.5*(C68+C69)^2*C80*C81*C82/C68","v":54.431999999999995},13,9.5,22.5,9.5,22.5,0,0,0,0,0,0,0]
[null,"c_1+c_2",1,14,9.5,22.5,9.5,22.5,0,0,0,0,0,0,0]
[null,"w_d",{"$f":"INDEX(lastdata,7-C67,5)+IF(C67>$R$66,0,10^-60)","v":1.2},15,9.5,22.5,9.5,22.5,0,0,0,0,0,0,0]
[null,"Sx",{"$f":"SUM(L67:L86)","v":21},16,9.5,22.5,9.5,22.5,0,0,0,0,0,0,0]
[null,"Sy",{"$f":"SUM(M67:M86)","v":13},17,9.5,22.5,9.5,22.5,0,0,0,0,0,0,0]
[null,"Ss_x",{"$f":"SUM(N67:N86)","v":208},18,9.5,22.5,9.5,22.5,0,0,0,0,0,0,0]
[null,"Ss_y",{"$f":"SUM(O67:O86)","v":420},19,9.5,22.5,9.5,22.5,0,0,0,0,0,0,0]
[null,"x_vind",{"$f":"L87","v":20},20,9.5,22.5,{"$f":"E87","v":9.5},{"$f":"F87","v":9.5},0,0,-586.625,0,0,0,0]
[null,"y_vind",{"$f":"M87","v":16},21,{"$f":"E67","v":9.5},{"$f":"F67","v":9.5},null,null,null,null,null,{"$f":"IF(C82=0,0,C85/C82)","v":20},{"$f":"IF(C82=0,0,C84/C83)","v":16}]
[null,"Etage",5,1,{"$f":"INDEX(kontur,1+2*(6-$C$88),$D88)","v":9.5},{"$f":"INDEX(kontur,2+2*(6-$C$88),$D88)","v":9.5},{"$f":"E89","v":30.5},9.5,{"$f":"-0.5*(G88-E88)*(H88+F88)","v":-199.5},{"$f":"IF(H88=F88,-0.5*F88^2*(G88-E88),(G88-E88)*(-H88^3/6+F88^3/6)/(H88-F88))","v":-947.625},{"$f":"-IF(G88=E88,-0.5*E88^2*(H88-F88),(H88-F88)*(-G88^3/6+E88^3/6)/(G88-E88))","v":0},{"$f":"IF(G88>E88,G88-E88,0)","v":21},{"$f":"IF(H88>F88,H88-F88,0)","v":0},{"$f":"0.5*(H88+F88)*M88","v":0},{"$f":"0.5*(G88+E88)*L88","v":420}]
[null,"Højde",{"$f":"IF(INDEX(lastdata,7-C88,1)=0,0.0001,INDEX(lastdata,7-C88,1))","v":3},2,{"$f":"IF(INDEX(kontur,1+2*(6-$C$88),$D89)=\"\",E88,INDEX(kontur,1+2*(6-$C$88),$D89))","v":30.5},{"$f":"IF(INDEX(kontur,2+2*(6-$C$88),$D89)=\"\",F88,INDEX(kontur,2+2*(6-$C$88),$D89))","v":9.5},30.5,22.5,0,0,{"$f":"-IF(G89=E89,-0.5*E89^2*(H89-F89),(H89-F89)*(-G89^3/6+E89^3/6)/(G89-E89))","v":6046.625},{"$f":"IF(G89>E89,G89-E89,0)","v":0},13,208,0]
[null,"Stern",{"$f":"INDEX(lastdata,7-C88,2)","v":0},3,30.5,22.5,9.5,22.5,472.5,5315.625,{"$f":"-IF(G90=E90,-0.5*E90^2*(H90-F90),(H90-F90)*(-G90^3/6+E90^3/6)/(G90-E90))","v":0},{"$f":"IF(G90>E90,G90-E90,0)","v":0},0,0,0]
[null,"W_masse",{"$f":"$C$66*C94*(C92+C93)","v":57.330000000000013},4,9.5,22.5,9.5,22.5,0,0,0,0,0,0,0]
[null,"q_flade",{"$f":"INDEX(lastdata,7-C88,3)","v":10},5,9.5,22.5,9.5,22.5,0,0,0,0,0,0,0]
[null,"q_ækv",{"$f":"INDEX(lastdata,7-C88,4)","v":2},6,9.5,22.5,9.5,22.5,0,0,0,0,0,0,0]
[null,"A",{"$f":"SUM(I88:I107)","v":273},7,9.5,22.5,9.5,22.5,0,0,0,0,0,0,0]
[null,"S_x",{"$f":"SUM(J88:J107)","v":4368},8,9.5,22.5,9.5,22.5,0,0,0,0,0,0,0]
[null,"S_y",{"$f":"SUM(K88:K107)","v":5460},9,9.5,22.5,9.5,22.5,0,0,0,0,0,0,0]
[null,"x_masse",{"$f":"IF(C94=0,0,C96/C94)","v":20},10,9.5,22.5,9.5,22.5,0,0,0,0,0,0,0]
[null,"y_masse",{"$f":"IF(C94=0,0,C95/C94)","v":16},11,9.5,22.5,9.5,22.5,0,0,0,0,0,0,0]
[null,"W_x_vind",{"$f":"0.5*(C89+C90)^2*C101*C102*C104/C89+0.5*(C68^2-C69^2)*C80*C81*C83/C68","v":45.86399999999999},12,9.5,22.5,9.5,22.5,0,0,0,0,0,0,0]
[null,"W_y_vind",{"$f":"0.5*(C89+C90)^2*C101*C102*C103/C89+0.5*(C68^2-C69^2)*C80*C81*C82/C68","v":74.087999999999994},13,9.5,22.5,9.5,22.5,0,0,0,0,0,0,0]
[null,"c_1+c_2",1,14,9.5,22.5,9.5,22.5,0,0,0,0,0,0,0]
[null,"w_d",{"$f":"INDEX(lastdata,7-C88,5)+IF(C88>$R$66,0,10^-60)","v":1.2},15,9.5,22.5,9.5,22.5,0,0,0,0,0,0,0]
[null,"Sx",{"$f":"SUM(L88:L107)","v":21},16,9.5,22.5,9.5,22.5,0,0,0,0,0,0,0]
[null,"Sy",{"$f":"SUM(M88:M107)","v":13},17,9.5,22.5,9.5,22.5,0,0,0,0,0,0,0]
[null,"Ss_x",{"$f":"SUM(N88:N107)","v":208},18,9.5,22.5,9.5,22.5,0,0,0,0,0,0,0]
[null,"Ss_y",{"$f":"SUM(O88:O107)","v":420},19,9.5,22.5,9.5,22.5,0,0,0,0,0,0,0]
[null,"x_vind",{"$f":"IF(R107=0,0,(L108*0.5*(C89+C90)^2*C101*C102*C103/C89+L87*0.5*(C68^2-C69^2)*C80*C81*C82/C68)/(0.5*(C89+C90)^2*C101*C102*C103/C89+0.5*(C68^2-C69^2)*C80*C81*C82/C68))","v":20.000000000000004},20,9.5,22.5,{"$f":"E108","v":9.5},{"$f":"F108","v":9.5},0,0,-586.625,0,0,0,0,null,null,{"$f":"(0.5*(C89+C90)^2*C101*C102*C103/C89+0.5*(C68^2-C69^2)*C80*C81*C82/C68)","v":74.087999999999994}]
[null,"y_vind",{"$f":"IF(R108=0,0,(M108*0.5*(C89+C90)^2*C101*C102*C104/C89+M87*0.5*(C68^2-C69^2)*C80*C81*C83/C68)/(0.5*(C89+C90)^2*C101*C102*C104/C89+0.5*(C68^2-C69^2)*C80*C81*C83/C68))","v":16},21,{"$f":"E88","v":9.5},{"$f":"F88","v":9.5},null,null,null,null,null,{"$f":"IF(C103=0,0,C106/C103)","v":20},{"$f":"IF(C103=0,0,C105/C104)","v":16},null,null,null,null,{"$f":"(0.5*(C89+C90)^2*C101*C102*C104/C89+0.5*(C68^2-C69^2)*C80*C81*C83/C68)","v":45.86399999999999}]
[null,"Etage",4,1,{"$f":"INDEX(kontur,1+2*(6-$C$109),$D109)","v":9.5},{"$f":"INDEX(kontur,2+2*(6-$C$109),$D109)","v":9.5},{"$f":"E110","v":30.5},{"$f":"F110","v":9.5},{"$f":"-0.5*(G109-E109)*(H109+F109)","v":-199.5},{"$f":"IF(H109=F109,-0.5*F109^2*(G109-E109),(G109-E109)*(-H109^3/6+F109^3/6)/(H109-F109))","v":-947.625},{"$f":"-IF(G109=E109,-0.5*E109^2*(H109-F109),(H109-F109)*(-G109^3/6+E109^3/6)/(G109-E109))","v":0},{"$f":"IF(G109>E109,G109-E109,0)","v":21},{"$f":"IF(H109>F109,H109-F109,0)","v":0},{"$f":"0.5*(H109+F109)*M109","v":0},{"$f":"0.5*(G109+E109)*L109","v":420}]
[null,"Højde",{"$f":"IF(INDEX(lastdata,7-C109,1)=0,0.0001,INDEX(lastdata,7-C109,1))","v":3},2,{"$f":"IF(INDEX(kontur,1+2*(6-$C$109),$D110)=\"\",E109,INDEX(kontur,1+2*(6-$C$109),$D110))","v":30.5},{"$f":"IF(INDEX(kontur,2+2*(6-$C$109),$D110)=\"\",F109,INDEX(kontur,2+2*(6-$C$109),$D110))","v":9.5},30.5,22.5,0,0,{"$f":"-IF(G110=E110,-0.5*E110^2*(H110-F110),(H110-F110)*(-G110^3/6+E110^3/6)/(G110-E110))","v":6046.625},{"$f":"IF(G110>E110,G110-E110,0)","v":0},13,208,0]
[null,"Stern",{"$f":"INDEX(lastdata,7-C109,2)","v":0},3,30.5,22.5,9.5,22.5,472.5,5315.625,{"$f":"-IF(G111=E111,-0.5*E111^2*(H111-F111),(H111-F111)*(-G111^3/6+E111^3/6)/(G111-E111))","v":0},{"$f":"IF(G111>E111,G111-E111,0)","v":0},0,0,0]
[null,"W_masse",{"$f":"$C$66*C115*(C113+C114)","v":57.330000000000013},4,9.5,22.5,9.5,22.5,0,0,0,0,0,0,0]
[null,"q_flade",{"$f":"INDEX(lastdata,7-C109,3)","v":10},5,9.5,22.5,9.5,22.5,0,0,0,0,0,0,0]
[null,"q_ækv",{"$f":"INDEX(lastdata,7-C109,4)","v":2},6,9.5,22.5,9.5,22.5,0,0,0,0,0,0,0]
[null,"A",{"$f":"SUM(I109:I128)","v":273},7,9.5,22.5,9.5,22.5,0,0,0,0,0,0,0]
[null,"S_x",{"$f":"SUM(J109:J128)","v":4368},8,9.5,22.5,9.5,22.5,0,0,0,0,0,0,0]
[null,"S_y",{"$f":"SUM(K109:K128)","v":5460},9,9.5,22.5,9.5,22.5,0,0,0,0,0,0,0]
[null,"x_masse",{"$f":"IF(C115=0,0,C117/C115)","v":20},10,9.5,22.5,9.5,22.5,0,0,0,0,0,0,0]
[null,"y_masse",{"$f":"IF(C115=0,0,C116/C115)","v":16},11,9.5,22.5,9.5,22.5,0,0,0,0,0,0,0]
[null,"W_x_vind",{"$f":"0.5*(C110+C111)^2*C122*C123*C125/C110+0.5*(C89^2-C90^2)*C101*C102*C104/C89","v":46.79999999999999},12,9.5,22.5,9.5,22.5,0,0,0,0,0,0,0]
[null,"W_y_vind",{"$f":"0.5*(C110+C111)^2*C122*C123*C124/C110+0.5*(C89^2-C90^2)*C101*C102*C103/C89","v":75.599999999999994},13,9.5,22.5,9.5,22.5,0,0,0,0,0,0,0]
[null,"c_1+c_2",1,14,9.5,22.5,9.5,22.5,0,0,0,0,0,0,0]
[null,"w_d",{"$f":"INDEX(lastdata,7-C109,5)+IF(C109>$R$66,0,10^-60)","v":1.2},15,9.5,22.5,9.5,22.5,0,0,0,0,0,0,0]
[null,"Sx",{"$f":"SUM(L109:L128)","v":21},16,9.5,22.5,9.5,22.5,0,0,0,0,0,0,0]
[null,"Sy",{"$f":"SUM(M109:M128)","v":13},17,9.5,22.5,9.5,22.5,0,0,0,0,0,0,0]
[null,"Ss_x",{"$f":"SUM(N109:N128)","v":208},18,9.5,22.5,9.5,22.5,0,0,0,0,0,0,0]
[null,"Ss_y",{"$f":"SUM(O109:O128)","v":420},19,9.5,22.5,9.5,22.5,0,0,0,0,0,0,0]
[null,"x_vind",{"$f":"IF(R128=0,0,(L129*0.5*(C110+C111)^2*C122*C123*C124/C110+L108*0.5*(C89^2-C90^2)*C101*C102*C103/C89)/(0.5*(C110+C111)^2*C122*C123*C124/C110+0.5*(C89^2-C90^2)*C101*C102*C103/C89))","v":20},20,9.5,22.5,{"$f":"E129","v":9.5},{"$f":"F129","v":9.5},0,0,-586.625,0,0,0,0,null,null,{"$f":"(0.5*(C110+C111)^2*C122*C123*C124/C110+0.5*(C89^2-C90^2)*C101*C102*C103/C89)","v":75.599999999999994}]
[null,"y_vind",{"$f":"IF(R129=0,0,(M129*0.5*(C110+C111)^2*C122*C123*C125/C110+M108*0.5*(C89^2-C90^2)*C101*C102*C104/C89)/(0.5*(C110+C111)^2*C122*C123*C125/C110+0.5*(C89^2-C90^2)*C101*C102*C104/C89))","v":16},21,{"$f":"E109","v":9.5},{"$f":"F109","v":9.5},null,null,null,null,null,{"$f":"IF(C124=0,0,C127/C124)","v":20},{"$f":"IF(C124=0,0,C126/C125)","v":16},null,null,null,null,{"$f":"(0.5*(C110+C111)^2*C122*C123*C125/C110+0.5*(C89^2-C90^2)*C101*C102*C104/C89)","v":46.79999999999999}]
[null,"Etage",3,1,{"$f":"INDEX(kontur,1+2*(6-$C$130),$D130)","v":9.5},{"$f":"INDEX(kontur,2+2*(6-$C$130),$D130)","v":9.5},{"$f":"E131","v":30.5},{"$f":"F131","v":9.5},{"$f":"-0.5*(G130-E130)*(H130+F130)","v":-199.5},{"$f":"IF(H130=F130,-0.5*F130^2*(G130-E130),(G130-E130)*(-H130^3/6+F130^3/6)/(H130-F130))","v":-947.625},{"$f":"-IF(G130=E130,-0.5*E130^2*(H130-F130),(H130-F130)*(-G130^3/6+E130^3/6)/(G130-E130))","v":0},{"$f":"IF(G130>E130,G130-E130,0)","v":21},{"$f":"IF(H130>F130,H130-F130,0)","v":0},{"$f":"0.5*(H130+F130)*M130","v":0},{"$f":"0.5*(G130+E130)*L130","v":420}]
[null,"Højde",{"$f":"IF(INDEX(lastdata,7-C130,1)=0,0.0001,INDEX(lastdata,7-C130,1))","v":3},2,{"$f":"IF(INDEX(kontur,1+2*(6-$C$130),$D131)=\"\",E130,INDEX(kontur,1+2*(6-$C$130),$D131))","v":30.5},{"$f":"IF(INDEX(kontur,2+2*(6-$C$130),$D131)=\"\",F130,INDEX(kontur,2+2*(6-$C$130),$D131))","v":9.5},30.5,22.5,0,0,{"$f":"-IF(G131=E131,-0.5*E131^2*(H131-F131),(H131-F131)*(-G131^3/6+E131^3/6)/(G131-E131))","v":6046.625},{"$f":"IF(G131>E131,G131-E131,0)","v":0},13,208,0]
[null,"Stern",{"$f":"INDEX(lastdata,7-C130,2)","v":0},3,30.5,22.5,9.5,22.5,472.5,5315.625,{"$f":"-IF(G132=E132,-0.5*E132^2*(H132-F132),(H132-F132)*(-G132^3/6+E132^3/6)/(G132-E132))","v":0},{"$f":"IF(G132>E132,G132-E132,0)","v":0},0,0,0]
[null,"W_masse",{"$f":"$C$66*C136*(C134+C135)","v":57.330000000000013},4,9.5,22.5,9.5,22.5,0,0,0,0,0,0,0]
[null,"q_flade",{"$f":"INDEX(lastdata,7-C130,3)","v":10},5,9.5,22.5,9.5,22.5,0,0,0,0,0,0,0]
[null,"q_ækv",{"$f":"INDEX(lastdata,7-C130,4)","v":2},6,9.5,22.5,9.5,22.5,0,0,0,0,0,0,0]
[null,"A",{"$f":"SUM(I130:I149)","v":273},7,9.5,22.5,9.5,22.5,0,0,0,0,0,0,0]
[null,"S_x",{"$f":"SUM(J130:J149)","v":4368},8,9.5,22.5,9.5,22.5,0,0,0,0,0,0,0]
[null,"S_y",{"$f":"SUM(K130:K149)","v":5460},9,9.5,22.5,9.5,22.5,0,0,0,0,0,0,0]
[null,"x_masse",{"$f":"IF(C136=0,0,C138/C136)","v":20},10,9.5,22.5,9.5,22.5,0,0,0,0,0,0,0]
[null,"y_masse",{"$f":"IF(C136=0,0,C137/C136)","v":16},11,9.5,22.5,9.5,22.5,0,0,0,0,0,0,0]
[null,"W_x_vind",{"$f":"0.5*(C131+C132)^2*C143*C144*C146/C131+0.5*(C110^2-C111^2)*C122*C123*C125/C110","v":46.79999999999999},12,9.5,22.5,9.5,22.5,0,0,0,0,0,0,0]
[null,"W_y_vind",{"$f":"0.5*(C131+C132)^2*C143*C144*C145/C131+0.5*(C110^2-C111^2)*C122*C123*C124/C110","v":75.599999999999994},13,9.5,22.5,9.5,22.5,0,0,0,0,0,0,0]
[null,"c_1+c_2",1,14,9.5,22.5,9.5,22.5,0,0,0,0,0,0,0]
[null,"w_d",{"$f":"INDEX(lastdata,7-C130,5)+IF(C130>$R$66,0,10^-60)","v":1.2},15,9.5,22.5,9.5,22.5,0,0,0,0,0,0,0]
[null,"Sx",{"$f":"SUM(L130:L149)","v":21},16,9.5,22.5,9.5,22.5,0,0,0,0,0,0,0]
[null,"Sy",{"$f":"SUM(M130:M149)","v":13},17,9.5,22.5,9.5,22.5,0,0,0,0,0,0,0]
[null,"Ss_x",{"$f":"SUM(N130:N149)","v":208},18,9.5,22.5,9.5,22.5,0,0,0,0,0,0,0]
[null,"Ss_y",{"$f":"SUM(O130:O149)","v":420},19,9.5,22.5,9.5,22.5,0,0,0,0,0,0,0]
[null,"x_vind",{"$f":"IF(R149=0,0,(L150*0.5*(C131+C132)^2*C143*C144*C145/C131+L129*0.5*(C110^2-C111^2)*C122*C123*C124/C110)/(0.5*(C131+C132)^2*C143*C144*C145/C131+0.5*(C110^2-C111^2)*C122*C123*C124/C110))","v":20},20,9.5,22.5,{"$f":"E150","v":9.5},{"$f":"F150","v":9.5},0,0,-586.625,0,0,0,0,null,null,{"$f":"(0.5*(C131+C132)^2*C143*C144*C145/C131+0.5*(C110^2-C111^2)*C122*C123*C124/C110)","v":75.599999999999994}]
[null,"y_vind",{"$f":"IF(R150=0,0,(M150*0.5*(C131+C132)^2*C143*C144*C146/C131+M129*0.5*(C110^2-C111^2)*C122*C123*C125/C110)/(0.5*(C131+C132)^2*C143*C144*C146/C131+0.5*(C110^2-C111^2)*C122*C123*C125/C110))","v":16},21,{"$f":"E130","v":9.5},{"$f":"F130","v":9.5},null,null,null,null,null,{"$f":"IF(C145=0,0,C148/C145)","v":20},{"$f":"IF(C145=0,0,C147/C146)","v":16},null,null,null,null,{"$f":"(0.5*(C131+C132)^2*C143*C144*C146/C131+0.5*(C110^2-C111^2)*C122*C123*C125/C110)","v":46.79999999999999}]
[null,"Etage",2,1,{"$f":"INDEX(kontur,1+2*(6-$C$151),$D151)","v":9.5},{"$f":"INDEX(kontur,2+2*(6-$C$151),$D151)","v":9.5},{"$f":"E152","v":30.5},{"$f":"F152","v":9.5},{"$f":"-0.5*(G151-E151)*(H151+F151)","v":-199.5},{"$f":"IF(H151=F151,-0.5*F151^2*(G151-E151),(G151-E151)*(-H151^3/6+F151^3/6)/(H151-F151))","v":-947.625},{"$f":"-IF(G151=E151,-0.5*E151^2*(H151-F151),(H151-F151)*(-G151^3/6+E151^3/6)/(G151-E151))","v":0},{"$f":"IF(G151>E151,G151-E151,0)","v":21},{"$f":"IF(H151>F151,H151-F151,0)","v":0},{"$f":"0.5*(H151+F151)*M151","v":0},{"$f":"0.5*(G151+E151)*L151","v":420}]
[null,"Højde",{"$f":"IF(INDEX(lastdata,7-C151,1)=0,0.0001,INDEX(lastdata,7-C151,1))","v":4.5},2,{"$f":"IF(INDEX(kontur,1+2*(6-$C$151),$D152)=\"\",E151,INDEX(kontur,1+2*(6-$C$151),$D152))","v":30.5},{"$f":"IF(INDEX(kontur,2+2*(6-$C$151),$D152)=\"\",F151,INDEX(kontur,2+2*(6-$C$151),$D152))","v":9.5},30.5,22.5,0,0,{"$f":"-IF(G152=E152,-0.5*E152^2*(H152-F152),(H152-F152)*(-G152^3/6+E152^3/6)/(G152-E152))","v":6046.625},{"$f":"IF(G152>E152,G152-E152,0)","v":0},13,208,0]
[null,"Stern",{"$f":"INDEX(lastdata,7-C151,2)","v":0},3,30.5,22.5,9.5,22.5,472.5,5315.625,{"$f":"-IF(G153=E153,-0.5*E153^2*(H153-F153),(H153-F153)*(-G153^3/6+E153^3/6)/(G153-E153))","v":0},{"$f":"IF(G153>E153,G153-E153,0)","v":0},0,0,0]
[null,"W_masse",{"$f":"$C$66*C157*(C155+C156)","v":57.330000000000013},4,9.5,22.5,9.5,22.5,0,0,0,0,0,0,0]
[null,"q_flade",{"$f":"INDEX(lastdata,7-C151,3)","v":10},5,9.5,22.5,9.5,22.5,0,0,0,0,0,0,0]
[null,"q_ækv",{"$f":"INDEX(lastdata,7-C151,4)","v":2},6,9.5,22.5,9.5,22.5,0,0,0,0,0,0,0]
[null,"A",{"$f":"SUM(I151:I170)","v":273},7,9.5,22.5,9.5,22.5,0,0,0,0,0,0,0]
[null,"S_x",{"$f":"SUM(J151:J170)","v":4368},8,9.5,22.5,9.5,22.5,0,0,0,0,0,0,0]
[null,"S_y",{"$f":"SUM(K151:K170)","v":5460},9,9.5,22.5,9.5,22.5,0,0,0,0,0,0,0]
[null,"x_masse",{"$f":"IF(C157=0,0,C159/C157)","v":20},10,9.5,22.5,9.5,22.5,0,0,0,0,0,0,0]
[null,"y_masse",{"$f":"IF(C157=0,0,C158/C157)","v":16},11,9.5,22.5,9.5,22.5,0,0,0,0,0,0,0]
[null,"W_x_vind",{"$f":"0.5*(C152+C153)^2*C164*C165*C167/C152+0.5*(C131^2-C132^2)*C143*C144*C146/C131","v":58.5},12,9.5,22.5,9.5,22.5,0,0,0,0,0,0,0]
[null,"W_y_vind",{"$f":"0.5*(C152+C153)^2*C164*C165*C166/C152+0.5*(C131^2-C132^2)*C143*C144*C145/C131","v":94.5},13,9.5,22.5,9.5,22.5,0,0,0,0,0,0,0]
[null,"c_1+c_2",1,14,9.5,22.5,9.5,22.5,0,0,0,0,0,0,0]
[null,"w_d",{"$f":"INDEX(lastdata,7-C151,5)+IF(C151>$R$66,0,10^-60)","v":1.2},15,9.5,22.5,9.5,22.5,0,0,0,0,0,0,0]
[null,"Sx",{"$f":"SUM(L151:L170)","v":21},16,9.5,22.5,9.5,22.5,0,0,0,0,0,0,0]
[null,"Sy",{"$f":"SUM(M151:M170)","v":13},17,9.5,22.5,9.5,22.5,0,0,0,0,0,0,0]
[null,"Ss_x",{"$f":"SUM(N151:N170)","v":208},18,9.5,22.5,9.5,22.5,0,0,0,0,0,0,0]
[null,"Ss_y",{"$f":"SUM(O151:O170)","v":420},19,9.5,22.5,9.5,22.5,0,0,0,0,0,0,0]
[null,"x_vind",{"$f":"IF(R170=0,0,(L171*0.5*(C152+C153)^2*C164*C165*C166/C152+L150*0.5*(C131^2-C132^2)*C143*C144*C145/C131)/(0.5*(C152+C153)^2*C164*C165*C166/C152+0.5*(C131^2-C132^2)*C143*C144*C145/C131))","v":20},20,9.5,22.5,{"$f":"E171","v":9.5},{"$f":"F171","v":9.5},0,0,-586.625,0,0,0,0,null,null,{"$f":"(0.5*(C152+C153)^2*C164*C165*C166/C152+0.5*(C131^2-C132^2)*C143*C144*C145/C131)","v":94.5}]
[null,"y_vind",{"$f":"IF(R171=0,0,(M171*0.5*(C152+C153)^2*C164*C165*C167/C152+M150*0.5*(C131^2-C132^2)*C143*C144*C146/C131)/(0.5*(C152+C153)^2*C164*C165*C167/C152+0.5*(C131^2-C132^2)*C143*C144*C146/C131))","v":16},21,{"$f":"E151","v":9.5},{"$f":"F151","v":9.5},null,null,null,null,null,{"$f":"IF(C166=0,0,C169/C166)","v":20},{"$f":"IF(C166=0,0,C168/C167)","v":16},null,null,null,null,{"$f":"(0.5*(C152+C153)^2*C164*C165*C167/C152+0.5*(C131^2-C132^2)*C143*C144*C146/C131)","v":58.5}]
[null,"Etage",1,1,{"$f":"INDEX(kontur,1+2*(6-$C$172),$D172)","v":9.5},{"$f":"INDEX(kontur,2+2*(6-$C$172),$D172)","v":9.5},{"$f":"E173","v":30.5},{"$f":"F173","v":9.5},{"$f":"-0.5*(G172-E172)*(H172+F172)","v":-199.5},{"$f":"IF(H172=F172,-0.5*F172^2*(G172-E172),(G172-E172)*(-H172^3/6+F172^3/6)/(H172-F172))","v":-947.625},{"$f":"-IF(G172=E172,-0.5*E172^2*(H172-F172),(H172-F172)*(-G172^3/6+E172^3/6)/(G172-E172))","v":0},{"$f":"IF(G172>E172,G172-E172,0)","v":21},{"$f":"IF(H172>F172,H172-F172,0)","v":0},{"$f":"0.5*(H172+F172)*M172","v":0},{"$f":"0.5*(G172+E172)*L172","v":420}]
[null,"Højde",{"$f":"IF(INDEX(lastdata,7-C172,1)=0,0.0001,INDEX(lastdata,7-C172,1))","v":3},2,{"$f":"IF(INDEX(kontur,1+2*(6-$C$172),$D173)=\"\",E172,INDEX(kontur,1+2*(6-$C$172),$D173))","v":30.5},{"$f":"IF(INDEX(kontur,2+2*(6-$C$172),$D173)=\"\",F172,INDEX(kontur,2+2*(6-$C$172),$D173))","v":9.5},30.5,22.5,0,0,{"$f":"-IF(G173=E173,-0.5*E173^2*(H173-F173),(H173-F173)*(-G173^3/6+E173^3/6)/(G173-E173))","v":6046.625},{"$f":"IF(G173>E173,G173-E173,0)","v":0},13,208,0]
[null,"Stern",{"$f":"INDEX(lastdata,7-C172,2)","v":0},3,30.5,22.5,9.5,22.5,472.5,5315.625,{"$f":"-IF(G174=E174,-0.5*E174^2*(H174-F174),(H174-F174)*(-G174^3/6+E174^3/6)/(G174-E174))","v":0},{"$f":"IF(G174>E174,G174-E174,0)","v":0},0,0,0]
[null,"W_masse",{"$f":"$C$66*C178*(C176+C177)","v":57.330000000000013},4,9.5,22.5,9.5,22.5,0,0,0,0,0,0,0]
[null,"q_flade",{"$f":"INDEX(lastdata,7-C172,3)","v":10},5,9.5,22.5,9.5,22.5,0,0,0,0,0,0,0]
[null,"q_ækv",{"$f":"INDEX(lastdata,7-C172,4)","v":2},6,9.5,22.5,9.5,22.5,0,0,0,0,0,0,0]
[null,"A",{"$f":"SUM(I172:I191)","v":273},7,9.5,22.5,9.5,22.5,0,0,0,0,0,0,0]
[null,"S_x",{"$f":"SUM(J172:J191)","v":4368},8,9.5,22.5,9.5,22.5,0,0,0,0,0,0,0]
[null,"S_y",{"$f":"SUM(K172:K191)","v":5460},9,9.5,22.5,9.5,22.5,0,0,0,0,0,0,0]
[null,"x_masse",{"$f":"IF(C178=0,0,C180/C178)","v":20},10,9.5,22.5,9.5,22.5,0,0,0,0,0,0,0]
[null,"y_masse",{"$f":"IF(C178=0,0,C179/C178)","v":16},11,9.5,22.5,9.5,22.5,0,0,0,0,0,0,0]
[null,"W_x_vind",{"$f":"0.5*(C173+C174)^2*C185*C186*C188/C173+0.5*(C152^2-C153^2)*C164*C165*C167/C152","v":58.5},12,9.5,22.5,9.5,22.5,0,0,0,0,0,0,0]
[null,"W_y_vind",{"$f":"0.5*(C173+C174)^2*C185*C186*C187/C173+0.5*(C152^2-C153^2)*C164*C165*C166/C152","v":94.5},13,9.5,22.5,9.5,22.5,0,0,0,0,0,0,0]
[null,"c_1+c_2",1,14,9.5,22.5,9.5,22.5,0,0,0,0,0,0,0]
[null,"w_d",{"$f":"INDEX(lastdata,7-C172,5)+IF(C172>$R$66,0,10^-60)","v":1.2},15,9.5,22.5,9.5,22.5,0,0,0,0,0,0,0]
[null,"Sx",{"$f":"SUM(L172:L191)","v":21},16,9.5,22.5,9.5,22.5,0,0,0,0,0,0,0]
[null,"Sy",{"$f":"SUM(M172:M191)","v":13},17,9.5,22.5,9.5,22.5,0,0,0,0,0,0,0]
[null,"Ss_x",{"$f":"SUM(N172:N191)","v":208},18,9.5,22.5,9.5,22.5,0,0,0,0,0,0,0]
[null,"Ss_y",{"$f":"SUM(O172:O191)","v":420},19,9.5,22.5,9.5,22.5,0,0,0,0,0,0,0]
[null,"x_vind",{"$f":"IF(R191=0,0,(L192*0.5*(C173+C174)^2*C185*C186*C187/C173+L171*0.5*(C152^2-C153^2)*C164*C165*C166/C152)/(0.5*(C173+C174)^2*C185*C186*C187/C173+0.5*(C152^2-C153^2)*C164*C165*C166/C152))","v":20},20,9.5,22.5,{"$f":"E192","v":9.5},{"$f":"F192","v":9.5},0,0,-586.625,0,0,0,0,null,null,{"$f":"(0.5*(C173+C174)^2*C185*C186*C187/C173+0.5*(C152^2-C153^2)*C164*C165*C166/C152)","v":94.5}]
[null,"y_vind",{"$f":"IF(R192=0,0,(M192*0.5*(C173+C174)^2*C185*C186*C188/C173+M171*0.5*(C152^2-C153^2)*C164*C165*C167/C152)/(0.5*(C173+C174)^2*C185*C186*C188/C173+0.5*(C152^2-C153^2)*C164*C165*C167/C152))","v":16},21,{"$f":"E172","v":9.5},{"$f":"F172","v":9.5},null,null,null,null,null,{"$f":"IF(C187=0,0,C190/C187)","v":20},{"$f":"IF(C187=0,0,C189/C188)","v":16},null,null,null,null,{"$f":"(0.5*(C173+C174)^2*C185*C186*C188/C173+0.5*(C152^2-C153^2)*C164*C165*C167/C152)","v":58.5}]

{"sheet":"Laste","index":5,"n_rows":189,"n_cols":33,"rows_kept":189,"cut":false,"hidden":false,"merged":[[1,4,1,5],[2,8,2,17],[83,1,88,1],[13,5,13,6],[29,5,29,6],[13,12,13,13],[73,1,78,1],[13,16,13,17],[29,12,29,13],[29,16,29,17],[73,10,78,10],[83,10,88,10]]}
[null,null,null,null,null,null,null,null,null,null,null,null,null,null,null,null,null,null,null,null,null,null,null,null,null,null,null,null,null,null,"Topetage",null,{"$f":"MAX(Inddata!J7:J33)","v":6}]
[null,null,"Højde","Stern","Lodret last",null,"Vind"]
[null,null,"h_etg","h_s","q_flade","q_ækv","w",null,"Vindlasttilfælde suppleres i programmet med to undertilfælde svarende til vindsug på én gavl, eksempelvis :"]
[null,null,"(m)","(m)","(kN/m2)","(kN/m2)","(kN/m2)",null,null,"W_y",null,null,"W_y",null,null,null,"W_y"]
[null,6,{"$f":"Inddata!O7","v":3},0.6,10,2,1.2,null,null,null,null,null,null,null,null,null,null,null,null,null,null,null,null,null,null,null,null,null,null,null,6,{"$f":"IF(OR(AND(AE5<>topetg,D5<>0),AND(AE5>topetg,OR(D5<>0,E5<>0,F5<>0,G5<>0))),1,0)","v":0}]
[null,5,{"$f":"Inddata!O8","v":3},null,10,2,1.2,null,null,null,null,null,null,null,null,null,null,null,null,null,null,null,null,null,null,null,null,null,null,null,5,0]
[null,4,{"$f":"Inddata!O9","v":3},null,10,2,1.2,null,null,null,null,null,null,"W_x*",null,"-W_x*",null,null,null,null,null,null,null,null,null,null,null,null,null,null,4,0]
[null,3,{"$f":"Inddata!O10","v":3},null,10,2,1.2,null,null,null,null,null,null,null,null,null,null,null,null,null,null,null,null,null,null,null,null,null,null,null,3,0]
[null,2,{"$f":"Inddata!O11","v":4.5},null,10,2,1.2,null,null,"Lasttilfælde 7",null,null,"Lasttilfælde 7a",null,null,null,"Lasttilfælde 7b",null,null,null,null,null,null,null,null,null,null,null,null,null,2,0]
[null,1,{"$f":"Inddata!O12","v":3},null,10,2,1.2,null,"W_y* = f_v∙W_y' og W_x* = f_v∙W_x', hvor W_y' og W_x' er vindlastresultant i hovedvindretning.         f_v =",null,null,null,null,null,null,null,null,{"$f":"Tvind","v":0.7},null,null,null,null,null,null,null,null,null,null,null,null,1,0]
[null,{"$f":"IF(AF11=0,\"\",\"OBS:  Øverste etage i bygning er etage \"&topetg)","v":""},null,null,null,null,null,null,null,null,null,null,null,null,null,null,null,null,null,null,null,null,null,null,null,null,null,null,null,null,null,{"$f":"SUM(AF5:AF10)","v":0}]
[null,"Masselast i x-retning",null,"y_Wx","W_x","y_Wx","W_x",null,"Vind i x-retning",null,"y_Wx","W_x","y_Wx","W_x","x_Wy*","| W_y* |","x_Wy","| W_y* |"]
[null,null,null,"(m)","(kN)","(m)","(kN)",null,"incl. masselast/imper-",null,"(m)","(kN)","(m)","(kN)","(m)","(kN)","(m)","(kN)"]
[null,null,null,null,null,"Evt. egne tal",null,null,"fektionsbidrag",null,null,null,"Evt. egne tal",null,null,null,"Evt. egne tal"]
[null,1,6,{"$f":"IF(F15<>\"\",F15,D74)","v":16},57.330000000000013,null,null,null,5,6,{"$f":"IF(M15<>\"\",M15,M74)","v":16},41.885999999999996,null,null,{"$f":"IF(Q15<>\"\",Q15,F84)","v":20},{"$f":"IF(R15<>\"\",R15,Tvind*G84)","v":38.102399999999996}]
[null,null,5,16,57.330000000000013,null,null,null,null,5,16,54.053999999999988,null,null,20.000000000000004,{"$f":"IF(R16<>\"\",R16,Tvind*G85)","v":51.861599999999996}]
[null,null,4,16,57.330000000000013,null,null,null,null,4,16,54.989999999999995,null,null,20,52.919999999999995]
[null,null,3,16,57.330000000000013,null,null,null,null,3,16,54.989999999999995,null,null,20,52.919999999999995]
[null,null,2,16,57.330000000000013,null,null,null,null,2,16,66.69,null,null,20,66.149999999999991]
[null,null,1,16,57.330000000000013,null,null,null,null,1,16,66.69,null,null,20,66.149999999999991]
[null,2,6,{"$f":"IF(F21<>\"\",F21,D74)","v":16},{"$f":"IF(G21<>\"\",G21,-E74)","v":-57.330000000000013},null,null,null,6,6,{"$f":"IF(M21<>\"\",M21,M84)","v":16},{"$f":"IF(N21<>\"\",N21,N84)","v":-41.885999999999996},null,null,{"$f":"IF(Q21<>\"\",Q21,F84)","v":20},{"$f":"IF(R21<>\"\",R21,Tvind*G84)","v":38.102399999999996}]
[null,null,5,16,-57.330000000000013,null,null,null,null,5,{"$f":"IF(M22<>\"\",M22,M85)","v":16},-54.053999999999988,null,null,20.000000000000004,51.861599999999996]
[null,null,4,16,-57.330000000000013,null,null,null,null,4,{"$f":"IF(M23<>\"\",M23,M86)","v":16},-54.989999999999995,null,null,20,52.919999999999995]
[null,null,3,16,-57.330000000000013,null,null,null,null,3,{"$f":"IF(M24<>\"\",M24,M87)","v":16},-54.989999999999995,null,null,20,52.919999999999995]
[null,null,2,16,-57.330000000000013,null,null,null,null,2,{"$f":"IF(M25<>\"\",M25,M88)","v":16},-66.69,null,null,20,66.149999999999991]
[null,null,1,16,-57.330000000000013,null,null,null,null,1,{"$f":"IF(M26<>\"\",M26,M89)","v":16},-66.69,null,null,20,66.149999999999991]
[]
[null,"Masselast i y-retning",null,"x_Wy","W_y","x_Wy","W_y",null,"Vind i y-retning",null,"y_Wx*","| W_x* |","y_Wx","| W_x* |","x_Wy","W_y","x_Wy","W_y"]
[null,null,null,"(m)","(kN)","(m)","(kN)",null,"incl. masselast/imper-",null,"(m)","(kN)","(m)","(kN)","(m)","(kN)","(m)","(kN)"]
[null,null,null,null,null,"Evt. egne tal",null,null,"fektionsbidrag",null,null,null,"Evt. egne tal",null,null,null,"Evt. egne tal"]
[null,3,6,{"$f":"IF(F31<>\"\",F31,F74)","v":20},57.330000000000013,null,null,null,7,6,{"$f":"IF(M31<>\"\",M31,D84)","v":16},{"$f":"IF(N31<>\"\",N31,Tvind*E84)","v":23.587199999999996},null,null,{"$f":"IF(Q31<>\"\",Q31,O74)","v":19.999999999999996},{"$f":"IF(R31<>\"\",R31,P74)","v":62.622}]
[null,null,5,20,57.330000000000013,null,null,null,null,5,16,32.10479999999999,null,null,20.000000000000004,82.277999999999992]
[null,null,4,20,57.330000000000013,null,null,null,null,4,16,32.759999999999991,null,null,20,83.789999999999992]
[null,null,3,20,57.330000000000013,null,null,null,null,3,16,32.759999999999991,null,null,20,83.789999999999992]
[null,null,2,20,57.330000000000013,null,null,null,null,2,16,40.949999999999996,null,null,20.000000000000004,102.69]
[null,null,1,20,57.330000000000013,null,null,null,null,1,16,40.949999999999996,null,null,20.000000000000004,102.69]
[null,4,6,{"$f":"IF(F37<>\"\",F37,F74)","v":20},{"$f":"IF(G37<>\"\",G37,-G74)","v":-57.330000000000013},null,null,null,8,6,{"$f":"IF(M37<>\"\",M37,D84)","v":16},{"$f":"IF(N37<>\"\",N37,Tvind*E84)","v":23.587199999999996},null,null,{"$f":"IF(Q37<>\"\",Q37,O84)","v":19.999999999999996},{"$f":"IF(R37<>\"\",R37,P84)","v":-62.622}]
[null,null,5,20,-57.330000000000013,null,null,null,null,5,16,32.10479999999999,null,null,{"$f":"IF(Q38<>\"\",Q38,O85)","v":20.000000000000004},{"$f":"IF(R38<>\"\",R38,P85)","v":-82.277999999999992}]
[null,null,4,20,-57.330000000000013,null,null,null,null,4,16,32.759999999999991,null,null,20,-83.789999999999992]
[null,null,3,20,-57.330000000000013,null,null,null,null,3,16,32.759999999999991,null,null,20,-83.789999999999992]
[null,null,2,20,-57.330000000000013,null,null,null,null,2,16,40.949999999999996,null,null,20.000000000000004,-102.69]
[null,null,1,20,-57.330000000000013,null,null,null,null,1,16,40.949999999999996,null,null,20.000000000000004,-102.69]
[]
[]
[]
[]
[]
[]
[]
[]
[]
[]
[]
[]
[]
[]
[]
[]
[]
[]
[]
[]
[]
[]
[]
[]
[]
[]
[]
[]
[null,"Basislaste på dækskiver - masselast",null,null,null,null,null,null,null,null,"Basislaste på dækskiver - vind- + masselast (positive)",null,null,null,null,null,null,"f_v med vind / f_v uden vind",null,null,{"$f":"Inddata!E42/Inddata!E41","v":0.14285714285714285}]
[null,null,null,"y_Wx0","W_x0","x_Wy0","W_y0",null,null,null,null,null,"y_Wx0","W_x0","x_Wy0","W_y0"]
[null,null,null,"(m)","(kN)","(m)","(kN)",null,null,null,null,null,"(m)","(kN)","(m)","(kN)"]
[null,null,6,{"$f":"INDEX(belastning,11+21*(6-$C74),1)","v":16},{"$f":"INDEX(belastning,4+21*(6-$C74),1)","v":57.330000000000013},{"$f":"INDEX(belastning,10+21*(6-$C74),1)","v":20},{"$f":"E74","v":57.330000000000013},null,null,null,null,6,{"$f":"IF(N74=0,0,($U$71*D15*E15+D84*E84)/N74)","v":16},{"$f":"$U$71*E15+E84","v":41.885999999999996},{"$f":"IF(P74=0,0,($U$71*D31*E31+F84*G84)/P74)","v":19.999999999999996},{"$f":"$U$71*E31+G84","v":62.622}]
[null,null,5,16,57.330000000000013,20,57.330000000000013,null,null,null,null,5,{"$f":"IF(N75=0,0,($U$71*D16*E16+D85*E85)/N75)","v":16},{"$f":"$U$71*E16+E85","v":54.053999999999988},{"$f":"IF(P75=0,0,($U$71*D32*E32+F85*G85)/P75)","v":20.000000000000004},{"$f":"$U$71*E32+G85","v":82.277999999999992}]
[null,null,4,16,57.330000000000013,20,57.330000000000013,null,null,null,null,4,16,54.989999999999995,20,83.789999999999992]
[null,null,3,16,57.330000000000013,20,57.330000000000013,null,null,null,null,3,16,54.989999999999995,20,83.789999999999992]
[null,null,2,16,57.330000000000013,20,57.330000000000013,null,null,null,null,2,16,66.69,20.000000000000004,102.69]
[null,null,1,16,57.330000000000013,20,57.330000000000013,null,null,null,null,1,16,66.69,20.000000000000004,102.69]
[]
[null,"Basislaste på dækskiver - vindlast",null,null,null,null,null,null,null,null,"Basislaste på dækskiver - vind- + masselast (negative)"]
[null,null,null,"y_Wx0","W_x0","x_Wy0","W_y0",null,null,null,null,null,"y_Wx0","W_x0","x_Wy0","W_y0"]
[null,null,null,"(m)","(kN)","(m)","(kN)",null,null,null,null,null,"(m)","(kN)","(m)","(kN)"]
[null,null,6,{"$f":"INDEX(belastning,21+21*(6-$C84),1)","v":16},{"$f":"INDEX(belastning,12+21*(6-$C84),1)","v":33.695999999999998},{"$f":"INDEX(belastning,20+21*(6-$C84),1)","v":20},{"$f":"INDEX(belastning,13+21*(6-$C84),1)","v":54.431999999999995},null,null,null,null,6,{"$f":"IF(N84=0,0,($U$71*D21*E21-D84*E84)/N84)","v":16},{"$f":"$U$71*E21-E84","v":-41.885999999999996},{"$f":"IF(P84=0,0,($U$71*D37*E37-F84*G84)/P84)","v":19.999999999999996},{"$f":"$U$71*E37-G84","v":-62.622}]
[null,null,5,16,45.86399999999999,20.000000000000004,74.087999999999994,null,null,null,null,5,{"$f":"IF(N85=0,0,($U$71*D22*E22-D85*E85)/N85)","v":16},{"$f":"$U$71*E22-E85","v":-54.053999999999988},{"$f":"IF(P85=0,0,($U$71*D38*E38-F85*G85)/P85)","v":20.000000000000004},{"$f":"$U$71*E38-G85","v":-82.277999999999992}]
[null,null,4,16,46.79999999999999,20,75.599999999999994,null,null,null,null,4,16,-54.989999999999995,20,-83.789999999999992]
[null,null,3,16,46.79999999999999,20,75.599999999999994,null,null,null,null,3,16,-54.989999999999995,20,-83.789999999999992]
[null,null,2,16,58.5,20,94.5,null,null,null,null,2,16,-66.69,20.000000000000004,-102.69]
[null,null,1,16,58.5,20,94.5,null,null,null,null,1,16,-66.69,20.000000000000004,-102.69]
[]
[null,"Resulterende lasttilfælde"]
[null,null,null,"y_Wx0","W_x0","x_Wy0","W_y0"]
[null,null,null,"(m)","(kN)","(m)","(kN)"]
[null,1,6,{"$f":"D15","v":16},57.330000000000013,{"$f":"IF(F31=\"\",D31,F31)","v":20},0,null,{"$f":"INDEX(lasttilf,B94,1)","v":"1,   Masselast:   + W_x"}]
[null,null,5,16,57.330000000000013,20,0]
[null,null,4,16,{"$f":"E17","v":57.330000000000013},20,0]
[null,null,3,16,57.330000000000013,20,0]
[null,null,2,16,57.330000000000013,20,0]
[null,null,1,16,57.330000000000013,20,0]
[null,2,6,16,-57.330000000000013,20,0,null,{"$f":"INDEX(lasttilf,B100,1)","v":"2,   Masselast:   - W_x"}]
[null,null,5,16,-57.330000000000013,20,0]
[null,null,4,16,-57.330000000000013,20,0]
[null,null,3,16,-57.330000000000013,20,0]
[null,null,2,16,-57.330000000000013,20,0]
[null,null,1,16,-57.330000000000013,20,0]
[null,3,6,{"$f":"IF(F15=\"\",D15,F15)","v":16},0,{"$f":"D31","v":20},{"$f":"E31","v":57.330000000000013},null,{"$f":"INDEX(lasttilf,B106,1)","v":"3,   Masselast:   + W_y"}]
[null,null,5,{"$f":"IF(F16=\"\",D16,F16)","v":16},0,{"$f":"D32","v":20},{"$f":"E32","v":57.330000000000013}]
[null,null,4,16,0,20,57.330000000000013]
[null,null,3,16,0,20,57.330000000000013]
[null,null,2,16,0,20,57.330000000000013]
[null,null,1,16,0,20,57.330000000000013]
[null,4,6,16,0,20,-57.330000000000013,null,{"$f":"INDEX(lasttilf,B112,1)","v":"4,   Masselast:   - W_y"}]
[null,null,5,16,0,20,-57.330000000000013]
[null,null,4,16,0,20,-57.330000000000013]
[null,null,3,16,0,20,-57.330000000000013]
[null,null,2,16,0,20,-57.330000000000013]
[null,null,1,16,0,20,-57.330000000000013]
[null,5,6,{"$f":"K15","v":16},41.885999999999996,{"$f":"O15","v":20},0,null,{"$f":"INDEX(lasttilf,B118,1)","v":"5,   Vind:  + W_x"}]
[null,null,5,16,54.053999999999988,20.000000000000004,0]
[null,null,4,16,54.989999999999995,20,0]
[null,null,3,16,54.989999999999995,20,0]
[null,null,2,16,66.69,20,0]
[null,null,1,16,66.69,20,0]
[null,6,6,{"$f":"K15","v":16},41.885999999999996,{"$f":"O15","v":20},38.102399999999996,null,{"$f":"INDEX(lasttilf,B124,1)","v":"5a, Vind:  + W_x  og  + W_y*"}]
[null,null,5,16,54.053999999999988,20.000000000000004,51.861599999999996]
[null,null,4,16,54.989999999999995,20,52.919999999999995]
[null,null,3,16,54.989999999999995,20,52.919999999999995]
[null,null,2,16,66.69,20,66.149999999999991]
[null,null,1,16,66.69,20,66.149999999999991]
[null,7,6,{"$f":"K15","v":16},{"$f":"L15","v":41.885999999999996},{"$f":"O15","v":20},{"$f":"-P15","v":-38.102399999999996},null,{"$f":"INDEX(lasttilf,B130,1)","v":"5b, Vind:  + W_x  og  - W_y*"}]
[null,null,5,16,54.053999999999988,20.000000000000004,-51.861599999999996]
[null,null,4,16,54.989999999999995,20,-52.919999999999995]
[null,null,3,16,54.989999999999995,20,-52.919999999999995]
[null,null,2,16,66.69,20,-66.149999999999991]
[null,null,1,16,66.69,20,-66.149999999999991]
[null,8,6,16,-41.885999999999996,20,0,null,{"$f":"INDEX(lasttilf,B136,1)","v":"6,   Vind:  - W_x"}]
[null,null,5,16,-54.053999999999988,20.000000000000004,0]
[null,null,4,16,-54.989999999999995,20,0]
[null,null,3,16,-54.989999999999995,20,0]
[null,null,2,16,-66.69,20,0]
[null,null,1,16,-66.69,20,0]
[null,9,6,{"$f":"K21","v":16},-41.885999999999996,{"$f":"O21","v":20},38.102399999999996,null,{"$f":"INDEX(lasttilf,B142,1)","v":"6a, Vind:  - W_x  og  + W_y*"}]
[null,null,5,16,-54.053999999999988,20.000000000000004,51.861599999999996]
[null,null,4,16,-54.989999999999995,20,52.919999999999995]
[null,null,3,16,-54.989999999999995,20,52.919999999999995]
[null,null,2,16,-66.69,20,66.149999999999991]
[null,null,1,16,-66.69,20,66.149999999999991]
[null,10,6,{"$f":"K21","v":16},-41.885999999999996,{"$f":"O21","v":20},{"$f":"-P21","v":-38.102399999999996},null,{"$f":"INDEX(lasttilf,B148,1)","v":"6b, Vind:  - W_x  og  - W_y*"}]
[null,null,5,16,-54.053999999999988,20.000000000000004,-51.861599999999996]
[null,null,4,16,-54.989999999999995,20,-52.919999999999995]
[null,null,3,16,-54.989999999999995,20,-52.919999999999995]
[null,null,2,16,-66.69,20,-66.149999999999991]
[null,null,1,16,-66.69,20,-66.149999999999991]
[null,11,6,{"$f":"K31","v":16},0,{"$f":"O31","v":19.999999999999996},62.622,null,{"$f":"INDEX(lasttilf,B154,1)","v":"7,   Vind:  + W_y"}]
[null,null,5,16,0,20.000000000000004,82.277999999999992]
[null,null,4,16,0,20,83.789999999999992]
[null,null,3,16,0,20,83.789999999999992]
[null,null,2,16,0,20.000000000000004,102.69]
[null,null,1,16,0,20.000000000000004,102.69]
[null,12,6,{"$f":"K31","v":16},23.587199999999996,{"$f":"O31","v":19.999999999999996},62.622,null,{"$f":"INDEX(lasttilf,B160,1)","v":"7a, Vind:  + W_y  og  + W_x*"}]
[null,null,5,16,32.10479999999999,20.000000000000004,82.277999999999992]
[null,null,4,16,32.759999999999991,20,83.789999999999992]
[null,null,3,16,32.759999999999991,20,83.789999999999992]
[null,null,2,16,40.949999999999996,20.000000000000004,102.69]
[null,null,1,16,40.949999999999996,20.000000000000004,102.69]
[null,13,6,{"$f":"K31","v":16},{"$f":"-L31","v":-23.587199999999996},{"$f":"O31","v":19.999999999999996},{"$f":"P31","v":62.622},null,{"$f":"INDEX(lasttilf,B166,1)","v":"7b, Vind:  + W_y  og  - W_x*"}]
[null,null,5,16,-32.10479999999999,20.000000000000004,82.277999999999992]
[null,null,4,16,-32.759999999999991,20,83.789999999999992]
[null,null,3,16,-32.759999999999991,20,83.789999999999992]
[null,null,2,16,-40.949999999999996,20.000000000000004,102.69]
[null,null,1,16,-40.949999999999996,20.000000000000004,102.69]
[null,14,6,16,0,19.999999999999996,-62.622,null,{"$f":"INDEX(lasttilf,B172,1)","v":"8,   Vind:  - W_y"}]
[null,null,5,16,0,20.000000000000004,-82.277999999999992]
[null,null,4,16,0,20,-83.789999999999992]
[null,null,3,16,0,20,-83.789999999999992]
[null,null,2,16,0,20.000000000000004,-102.69]
[null,null,1,16,0,20.000000000000004,-102.69]
[null,15,6,{"$f":"K37","v":16},23.587199999999996,{"$f":"O37","v":19.999999999999996},-62.622,null,{"$f":"INDEX(lasttilf,B178,1)","v":"8a, Vind:  - W_y  og  + W_x*"}]
[null,null,5,16,32.10479999999999,20.000000000000004,-82.277999999999992]
[null,null,4,16,32.759999999999991,20,-83.789999999999992]
[null,null,3,16,32.759999999999991,20,-83.789999999999992]
[null,null,2,16,40.949999999999996,20.000000000000004,-102.69]
[null,null,1,16,40.949999999999996,20.000000000000004,-102.69]
[null,16,6,{"$f":"K37","v":16},{"$f":"-L37","v":-23.587199999999996},{"$f":"O37","v":19.999999999999996},-62.622,null,{"$f":"INDEX(lasttilf,B184,1)","v":"8b, Vind:  - W_y  og  - W_x*"}]
[null,null,5,16,-32.10479999999999,20.000000000000004,-82.277999999999992]
[null,null,4,16,-32.759999999999991,20,-83.789999999999992]
[null,null,3,16,-32.759999999999991,20,-83.789999999999992]
[null,null,2,16,-40.949999999999996,20.000000000000004,-102.69]
[null,null,1,16,-40.949999999999996,20.000000000000004,-102.69]

{"sheet":"E1","index":6,"n_rows":46,"n_cols":17,"rows_kept":46,"cut":false,"hidden":false,"merged":[]}
[]
[]
[]
[]
["Etage:",1,null,null,null,null,null,null,null,null,null,null,null,null,"System:","x_0",{"$f":"(Q7*(-SUMPRODUCT(a_1,yacc)+SUMPRODUCT(a_1,xacs))+(-SUMPRODUCT(a_1,yacs)+SUMPRODUCT(a_1,xass)))/Q10","v":19.999999489897977}]
[null,null,null,null,null,null,null,null,null,null,null,null,null,null,null,"y_0",{"$f":"-(-SUMPRODUCT(a_1,yacc)+SUMPRODUCT(a_1,xacs)+Q8*(-SUMPRODUCT(a_1,yacs)+SUMPRODUCT(a_1,xass)))/Q9","v":9.9999992002000422}]
["Totallaste - incl. bidrag fra ovenliggende etager:",null,null,null,null,null,"W_x",{"$f":"INDEX(Last,7-$B$5,1)","v":203.11199999999994},"kN",null,null,null,null,null,null,"Dx",{"$f":"-SUMPRODUCT(a_1,acs)/SUMPRODUCT(a_1,acc)","v":1.999999920000004E-8}]
[null,null,null,null,null,null,"y_Wx",{"$f":"INDEX(Last,7-$B$5,2)","v":16},"m",null,null,null,null,null,null,"Dy",{"$f":"-SUMPRODUCT(a_1,acs)/SUMPRODUCT(a_1,ass)","v":1.0204081424406508E-8}]
[null,null,null,null,null,null,"W_y",{"$f":"INDEX(Last,7-$B$5,3)","v":517.8599999999999},"kN",null,null,null,null,null,null,"Ax",{"$f":"SUMPRODUCT(a_1,acc)+Q8*SUMPRODUCT(a_1,acs)","v":10.000000399999999}]
[null,null,null,null,null,null,"x_Wy",{"$f":"INDEX(Last,7-$B$5,4)","v":20},"m",null,null,null,null,null,null,"Ay",{"$f":"Q7*SUMPRODUCT(a_1,acs)+SUMPRODUCT(a_1,ass)","v":19.600000399999995}]
[null,null,null,null,null,null,"M_w",{"$f":"-(H8-Q6)*H7+(H10-Q5)*H9","v":-1218.6718982875352},"kNm",null,null,null,null,null,null,"I_w",{"$f":"SUMPRODUCT(a_1,xxass)-2*Q5*SUMPRODUCT(a_1,xass)+Q5^2*SUMPRODUCT(a_1,ass)-2*SUMPRODUCT(a_1,yxacs)+2*Q6*SUMPRODUCT(a_1,xacs)+2*Q5*SUMPRODUCT(a_1,yacs)-2*Q5*Q6*SUMPRODUCT(a_1,acs)+SUMPRODUCT(a_1,yyacc)-2*Q6*SUMPRODUCT(a_1,yacc)+Q6^2*SUMPRODUCT(a_1,acc)","v":1960.0002798800087}]
[]
[]
["Væg nr","x1","y1","x2","y2","t","a0","etager","x_i","y_i","L_i","a_i","Q_i","Q_ix","Q_iy","cos(v_i)","sin(v_i)"]
[1,{"$f":"System!C22","v":10},{"$f":"System!D22","v":10},{"$f":"System!E22","v":15},{"$f":"System!F22","v":10},{"$f":"System!G22","v":0.2},{"$f":"System!H22","v":1},{"$f":"System!J22","v":6},{"$f":"0.5*(B15+D15)","v":12.5},10,{"$f":"SQRT((D15-B15)^2+(E15-C15)^2)","v":5},{"$f":"IF($B$5>H15,0,K15^2*G15*F15)","v":5},{"$f":"L15*((P15+$Q$8*Q15)*$H$7/$Q$9+($Q$7*P15+Q15)*$H$9/$Q$10+((I15-$Q$5)*Q15-(J15-$Q$6)*P15)*$H$11/$Q$11)","v":101.55600106636609},{"$f":"M15*P15","v":101.55600106636609},{"$f":"M15*Q15","v":0},{"$f":"IF(K15=0,1,(D15-B15)/K15)","v":1},{"$f":"IF(K15=0,0,(E15-C15)/K15)","v":0}]
[2,{"$f":"System!C23","v":25},{"$f":"System!D23","v":10},{"$f":"System!E23","v":30},{"$f":"System!F23","v":10},{"$f":"System!G23","v":0.2},{"$f":"System!H23","v":1},{"$f":"System!J23","v":6},27.5,10,{"$f":"SQRT((D16-B16)^2+(E16-C16)^2)","v":5},{"$f":"IF($B$5>H16,0,K16^2*G16*F16)","v":5},101.55600106636609,{"$f":"M16*P16","v":101.55600106636609},{"$f":"M16*Q16","v":0},1,{"$f":"IF(K16=0,0,(E16-C16)/K16)","v":0}]
[3,{"$f":"System!C24","v":10},{"$f":"System!D24","v":15},{"$f":"System!E24","v":10},{"$f":"System!F24","v":22},{"$f":"System!G24","v":0.2},{"$f":"System!H24","v":1},{"$f":"System!J24","v":6},10,18.5,{"$f":"SQRT((D17-B17)^2+(E17-C17)^2)","v":7},9.8000000000000007,319.86357985190881,{"$f":"M17*P17","v":0},{"$f":"M17*Q17","v":319.86357985190881},0,1]
[4,{"$f":"System!C25","v":30},{"$f":"System!D25","v":15},{"$f":"System!E25","v":30},{"$f":"System!F25","v":22},{"$f":"System!G25","v":0.2},{"$f":"System!H25","v":1},{"$f":"System!J25","v":6},{"$f":"0.5*(B18+D18)","v":30},{"$f":"0.5*(C18+E18)","v":18.5},{"$f":"SQRT((D18-B18)^2+(E18-C18)^2)","v":7},9.8000000000000007,197.99640742529064,{"$f":"M18*P18","v":0},{"$f":"M18*Q18","v":197.99640742529064},0,1]
[5,{"$f":"System!C26","v":0},{"$f":"System!D26","v":0},{"$f":"System!E26","v":0},{"$f":"System!F26","v":0},{"$f":"System!G26","v":0},{"$f":"System!H26","v":0},{"$f":"System!J26","v":0},0,0,0,0,0,0,0,1,0]
[6,{"$f":"System!C27","v":0},{"$f":"System!D27","v":0},{"$f":"System!E27","v":0},{"$f":"System!F27","v":0},{"$f":"System!G27","v":0},{"$f":"System!H27","v":0},{"$f":"System!J27","v":0},0,0,0,0,0,0,0,1,0]
[7,{"$f":"System!C28","v":0},{"$f":"System!D28","v":0},{"$f":"System!E28","v":0},{"$f":"System!F28","v":0},{"$f":"System!G28","v":0},{"$f":"System!H28","v":0},{"$f":"System!J28","v":0},0,0,0,0,0,0,0,1,0]
[8,{"$f":"System!C29","v":0},{"$f":"System!D29","v":0},{"$f":"System!E29","v":0},{"$f":"System!F29","v":0},{"$f":"System!G29","v":0},{"$f":"System!H29","v":0},{"$f":"System!J29","v":0},0,0,0,0,0,0,0,1,0]
[9,{"$f":"System!C30","v":0},{"$f":"System!D30","v":0},{"$f":"System!E30","v":0},{"$f":"System!F30","v":0},{"$f":"System!G30","v":0},{"$f":"System!H30","v":0},{"$f":"System!J30","v":0},0,0,0,0,0,0,0,1,0]
[10,{"$f":"System!C31","v":0},{"$f":"System!D31","v":0},{"$f":"System!E31","v":0},{"$f":"System!F31","v":0},{"$f":"System!G31","v":0},{"$f":"System!H31","v":0},{"$f":"System!J31","v":0},0,0,0,0,0,0,0,1,0]
[11,{"$f":"System!C32","v":0},{"$f":"System!D32","v":0},{"$f":"System!E32","v":0},{"$f":"System!F32","v":0},{"$f":"System!G32","v":0},{"$f":"System!H32","v":0},{"$f":"System!J32","v":0},0,0,0,0,0,0,0,1,0]
[12,{"$f":"System!C33","v":0},{"$f":"System!D33","v":0},{"$f":"System!E33","v":0},{"$f":"System!F33","v":0},{"$f":"System!G33","v":0},{"$f":"System!H33","v":0},{"$f":"System!J33","v":0},0,0,0,0,0,0,0,1,0]
[13,{"$f":"System!C34","v":0},{"$f":"System!D34","v":0},{"$f":"System!E34","v":0},{"$f":"System!F34","v":0},{"$f":"System!G34","v":0},{"$f":"System!H34","v":0},{"$f":"System!J34","v":0},0,0,0,0,0,0,0,1,0]
[14,{"$f":"System!C35","v":0},{"$f":"System!D35","v":0},{"$f":"System!E35","v":0},{"$f":"System!F35","v":0},{"$f":"System!G35","v":0},{"$f":"System!H35","v":0},{"$f":"System!J35","v":0},0,0,0,0,0,0,0,1,0]
[15,{"$f":"System!C36","v":0},{"$f":"System!D36","v":0},{"$f":"System!E36","v":0},{"$f":"System!F36","v":0},{"$f":"System!G36","v":0},{"$f":"System!H36","v":0},{"$f":"System!J36","v":0},0,0,0,0,0,0,0,1,0]
[16,{"$f":"System!C37","v":0},{"$f":"System!D37","v":0},{"$f":"System!E37","v":0},{"$f":"System!F37","v":0},{"$f":"System!G37","v":0},{"$f":"System!H37","v":0},{"$f":"System!J37","v":0},0,0,0,0,0,0,0,1,0]
[17,{"$f":"System!C38","v":0},{"$f":"System!D38","v":0},{"$f":"System!E38","v":0},{"$f":"System!F38","v":0},{"$f":"System!G38","v":0},{"$f":"System!H38","v":0},{"$f":"System!J38","v":0},0,0,0,0,0,0,0,1,0]
[18,{"$f":"System!C39","v":0},{"$f":"System!D39","v":0},{"$f":"System!E39","v":0},{"$f":"System!F39","v":0},{"$f":"System!G39","v":0},{"$f":"System!H39","v":0},{"$f":"System!J39","v":0},0,0,0,0,0,0,0,1,0]
[19,{"$f":"System!C40","v":0},{"$f":"System!D40","v":0},{"$f":"System!E40","v":0},{"$f":"System!F40","v":0},{"$f":"System!G40","v":0},{"$f":"System!H40","v":0},{"$f":"System!J40","v":0},0,0,0,0,0,0,0,1,0]
[20,{"$f":"System!C41","v":0},{"$f":"System!D41","v":0},{"$f":"System!E41","v":0},{"$f":"System!F41","v":0},{"$f":"System!G41","v":0},{"$f":"System!H41","v":0},{"$f":"System!J41","v":0},0,0,0,0,0,0,0,1,0]
[21,{"$f":"System!C42","v":0},{"$f":"System!D42","v":0},{"$f":"System!E42","v":0},{"$f":"System!F42","v":0},{"$f":"System!G42","v":0},{"$f":"System!H42","v":0},{"$f":"System!J42","v":0},0,0,0,0,0,0,0,1,0]
[22,{"$f":"System!C43","v":0},{"$f":"System!D43","v":0},{"$f":"System!E43","v":0},{"$f":"System!F43","v":0},{"$f":"System!G43","v":0},{"$f":"System!H43","v":0},{"$f":"System!J43","v":0},0,0,0,0,0,0,0,1,0]
[23,{"$f":"System!C44","v":0},{"$f":"System!D44","v":0},{"$f":"System!E44","v":0},{"$f":"System!F44","v":0},{"$f":"System!G44","v":0},{"$f":"System!H44","v":0},{"$f":"System!J44","v":0},0,0,0,0,0,0,0,1,0]
[24,{"$f":"System!C45","v":0},{"$f":"System!D45","v":0},{"$f":"System!E45","v":0},{"$f":"System!F45","v":0},{"$f":"System!G45","v":0},{"$f":"System!H45","v":0},{"$f":"System!J45","v":0},0,0,0,0,0,0,0,1,0]
[25,{"$f":"System!C46","v":0},{"$f":"System!D46","v":0},{"$f":"System!E46","v":0},{"$f":"System!F46","v":0},{"$f":"System!G46","v":0},{"$f":"System!H46","v":0},{"$f":"System!J46","v":0},0,0,0,0,0,0,0,1,0]
[26,{"$f":"System!C47","v":0},{"$f":"System!D47","v":0},{"$f":"System!E47","v":0},{"$f":"System!F47","v":0},{"$f":"System!G47","v":0},{"$f":"System!H47","v":0},{"$f":"System!J47","v":0},0,0,0,0,0,0,0,1,0]
[27,{"$f":"System!C48","v":0},{"$f":"System!D48","v":0},{"$f":"System!E48","v":0},{"$f":"System!F48","v":0},{"$f":"System!G48","v":0},{"$f":"System!H48","v":0},{"$f":"System!J48","v":0},0,0,0,0,0,0,0,1,0]
[28,{"$f":"System!C49","v":0},{"$f":"System!D49","v":0},{"$f":"System!E49","v":0},{"$f":"System!F49","v":0.01},{"$f":"System!G49","v":0.2},{"$f":"System!H49","v":0.01},{"$f":"System!J49","v":6},0,5.0000000000000001E-3,0.01,2.0000000000000004E-7,7.7713707360248557E-6,0,7.7713707360248557E-6,0,1]
[29,{"$f":"System!C50","v":0},{"$f":"System!D50","v":0},{"$f":"System!E50","v":0.01},{"$f":"System!F50","v":0},{"$f":"System!G50","v":0.2},{"$f":"System!H50","v":0.01},{"$f":"System!J50","v":6},5.0000000000000001E-3,0,0.01,2.0000000000000004E-7,2.8186974668728261E-6,2.8186974668728261E-6,0,1,0]
[30,{"$f":"System!C51","v":0.01},{"$f":"System!D51","v":0},{"$f":"System!E51","v":0},{"$f":"System!F51","v":0.01},{"$f":"System!G51","v":0.2},{"$f":"System!H51","v":0.01},{"$f":"System!J51","v":6},5.0000000000000001E-3,5.0000000000000001E-3,1.4142135623730951E-2,4.0000000000000009E-7,7.0023790724614385E-6,-4.9514297265762503E-6,4.9514297265762503E-6,-0.70710678118654757,0.70710678118654757]
[]
[null,null,null,null,null,null,null,null,null,null,null,null,null,{"$f":"SUM(N15:N45)","v":203.11199999999991},{"$f":"SUM(O15:O45)","v":517.8599999999999}]

{"sheet":"E2","index":7,"n_rows":46,"n_cols":17,"rows_kept":46,"cut":false,"hidden":false,"merged":[]}
[]
[]
[]
[]
["Etage:",2,null,null,null,null,null,null,null,null,null,null,null,null,"System:","x_0",{"$f":"(Q7*(-SUMPRODUCT(a_2,yacc)+SUMPRODUCT(a_2,xacs))+(-SUMPRODUCT(a_2,yacs)+SUMPRODUCT(a_2,xass)))/Q10","v":19.999999489897977}]
[null,null,null,null,null,null,null,null,null,null,null,null,null,null,null,"y_0",{"$f":"-(-SUMPRODUCT(a_2,yacc)+SUMPRODUCT(a_2,xacs)+Q8*(-SUMPRODUCT(a_2,yacs)+SUMPRODUCT(a_2,xass)))/Q9","v":9.9999992002000422}]
["Totallaste - incl. bidrag fra ovenliggende etager:",null,null,null,null,null,"W_x",{"$f":"INDEX(Last,7-$B$5,1)","v":162.16199999999995},"kN",null,null,null,null,null,null,"Dx",{"$f":"-SUMPRODUCT(a_2,acs)/SUMPRODUCT(a_2,acc)","v":1.999999920000004E-8}]
[null,null,null,null,null,null,"y_Wx",{"$f":"INDEX(Last,7-$B$5,2)","v":16},"m",null,null,null,null,null,null,"Dy",{"$f":"-SUMPRODUCT(a_2,acs)/SUMPRODUCT(a_2,ass)","v":1.0204081424406508E-8}]
[null,null,null,null,null,null,"W_y",{"$f":"INDEX(Last,7-$B$5,3)","v":415.16999999999996},"kN",null,null,null,null,null,null,"Ax",{"$f":"SUMPRODUCT(a_2,acc)+Q8*SUMPRODUCT(a_2,acs)","v":10.000000399999999}]
[null,null,null,null,null,null,"x_Wy",{"$f":"INDEX(Last,7-$B$5,4)","v":19.999999999999996},"m",null,null,null,null,null,null,"Ay",{"$f":"Q7*SUMPRODUCT(a_2,acs)+SUMPRODUCT(a_2,ass)","v":19.600000399999995}]
[null,null,null,null,null,null,"M_w",{"$f":"-(H8-Q6)*H7+(H10-Q5)*H9","v":-972.97191791810508},"kNm",null,null,null,null,null,null,"I_w",{"$f":"SUMPRODUCT(a_2,xxass)-2*Q5*SUMPRODUCT(a_2,xass)+Q5^2*SUMPRODUCT(a_2,ass)-2*SUMPRODUCT(a_2,yxacs)+2*Q6*SUMPRODUCT(a_2,xacs)+2*Q5*SUMPRODUCT(a_2,yacs)-2*Q5*Q6*SUMPRODUCT(a_2,acs)+SUMPRODUCT(a_2,yyacc)-2*Q6*SUMPRODUCT(a_2,yacc)+Q6^2*SUMPRODUCT(a_2,acc)","v":1960.0002798800087}]
[]
[]
["Væg nr","x1","y1","x2","y2","t","a0","etager","x_i","y_i","L_i","a_i","Q_i","Q_ix","Q_iy","cos(v_i)","sin(v_i)"]
[1,{"$f":"System!C22","v":10},{"$f":"System!D22","v":10},{"$f":"System!E22","v":15},{"$f":"System!F22","v":10},{"$f":"System!G22","v":0.2},{"$f":"System!H22","v":1},{"$f":"System!J22","v":6},{"$f":"0.5*(B15+D15)","v":12.5},{"$f":"0.5*(C15+E15)","v":10},{"$f":"SQRT((D15-B15)^2+(E15-C15)^2)","v":5},{"$f":"IF($B$5>H15,0,K15^2*G15*F15)","v":5},{"$f":"L15*((P15+$Q$8*Q15)*$H$7/$Q$9+($Q$7*P15+Q15)*$H$9/$Q$10+((I15-$Q$5)*Q15-(J15-$Q$6)*P15)*$H$11/$Q$11)","v":81.081000860134438},{"$f":"M15*P15","v":81.081000860134438},{"$f":"M15*Q15","v":0},{"$f":"IF(K15=0,1,(D15-B15)/K15)","v":1},{"$f":"IF(K15=0,0,(E15-C15)/K15)","v":0}]
[2,{"$f":"System!C23","v":25},{"$f":"System!D23","v":10},{"$f":"System!E23","v":30},{"$f":"System!F23","v":10},{"$f":"System!G23","v":0.2},{"$f":"System!H23","v":1},{"$f":"System!J23","v":6},27.5,10,5,{"$f":"IF($B$5>H16,0,K16^2*G16*F16)","v":5},81.081000860134438,81.081000860134438,0,1,{"$f":"IF(K16=0,0,(E16-C16)/K16)","v":0}]
[3,{"$f":"System!C24","v":10},{"$f":"System!D24","v":15},{"$f":"System!E24","v":10},{"$f":"System!F24","v":22},{"$f":"System!G24","v":0.2},{"$f":"System!H24","v":1},{"$f":"System!J24","v":6},10,18.5,7,9.8000000000000007,256.23358385270217,0,256.23358385270217,0,1]
[4,{"$f":"System!C25","v":30},{"$f":"System!D25","v":15},{"$f":"System!E25","v":30},{"$f":"System!F25","v":22},{"$f":"System!G25","v":0.2},{"$f":"System!H25","v":1},{"$f":"System!J25","v":6},30,18.5,7,9.8000000000000007,158.93640595453201,0,158.93640595453201,0,1]
[5,{"$f":"System!C26","v":0},{"$f":"System!D26","v":0},{"$f":"System!E26","v":0},{"$f":"System!F26","v":0},{"$f":"System!G26","v":0},{"$f":"System!H26","v":0},{"$f":"System!J26","v":0},0,0,0,0,0,0,0,1,0]
[6,{"$f":"System!C27","v":0},{"$f":"System!D27","v":0},{"$f":"System!E27","v":0},{"$f":"System!F27","v":0},{"$f":"System!G27","v":0},{"$f":"System!H27","v":0},{"$f":"System!J27","v":0},0,0,0,0,0,0,0,1,0]
[7,{"$f":"System!C28","v":0},{"$f":"System!D28","v":0},{"$f":"System!E28","v":0},{"$f":"System!F28","v":0},{"$f":"System!G28","v":0},{"$f":"System!H28","v":0},{"$f":"System!J28","v":0},0,0,0,0,0,0,0,1,0]
[8,{"$f":"System!C29","v":0},{"$f":"System!D29","v":0},{"$f":"System!E29","v":0},{"$f":"System!F29","v":0},{"$f":"System!G29","v":0},{"$f":"System!H29","v":0},{"$f":"System!J29","v":0},0,0,0,0,0,0,0,1,0]
[9,{"$f":"System!C30","v":0},{"$f":"System!D30","v":0},{"$f":"System!E30","v":0},{"$f":"System!F30","v":0},{"$f":"System!G30","v":0},{"$f":"System!H30","v":0},{"$f":"System!J30","v":0},0,0,0,0,0,0,0,1,0]
[10,{"$f":"System!C31","v":0},{"$f":"System!D31","v":0},{"$f":"System!E31","v":0},{"$f":"System!F31","v":0},{"$f":"System!G31","v":0},{"$f":"System!H31","v":0},{"$f":"System!J31","v":0},0,0,0,0,0,0,0,1,0]
[11,{"$f":"System!C32","v":0},{"$f":"System!D32","v":0},{"$f":"System!E32","v":0},{"$f":"System!F32","v":0},{"$f":"System!G32","v":0},{"$f":"System!H32","v":0},{"$f":"System!J32","v":0},0,0,0,0,0,0,0,1,0]
[12,{"$f":"System!C33","v":0},{"$f":"System!D33","v":0},{"$f":"System!E33","v":0},{"$f":"System!F33","v":0},{"$f":"System!G33","v":0},{"$f":"System!H33","v":0},{"$f":"System!J33","v":0},0,0,0,0,0,0,0,1,0]
[13,{"$f":"System!C34","v":0},{"$f":"System!D34","v":0},{"$f":"System!E34","v":0},{"$f":"System!F34","v":0},{"$f":"System!G34","v":0},{"$f":"System!H34","v":0},{"$f":"System!J34","v":0},0,0,0,0,0,0,0,1,0]
[14,{"$f":"System!C35","v":0},{"$f":"System!D35","v":0},{"$f":"System!E35","v":0},{"$f":"System!F35","v":0},{"$f":"System!G35","v":0},{"$f":"System!H35","v":0},{"$f":"System!J35","v":0},0,0,0,0,0,0,0,1,0]
[15,{"$f":"System!C36","v":0},{"$f":"System!D36","v":0},{"$f":"System!E36","v":0},{"$f":"System!F36","v":0},{"$f":"System!G36","v":0},{"$f":"System!H36","v":0},{"$f":"System!J36","v":0},0,0,0,0,0,0,0,1,0]
[16,{"$f":"System!C37","v":0},{"$f":"System!D37","v":0},{"$f":"System!E37","v":0},{"$f":"System!F37","v":0},{"$f":"System!G37","v":0},{"$f":"System!H37","v":0},{"$f":"System!J37","v":0},0,0,0,0,0,0,0,1,0]
[17,{"$f":"System!C38","v":0},{"$f":"System!D38","v":0},{"$f":"System!E38","v":0},{"$f":"System!F38","v":0},{"$f":"System!G38","v":0},{"$f":"System!H38","v":0},{"$f":"System!J38","v":0},0,0,0,0,0,0,0,1,0]
[18,{"$f":"System!C39","v":0},{"$f":"System!D39","v":0},{"$f":"System!E39","v":0},{"$f":"System!F39","v":0},{"$f":"System!G39","v":0},{"$f":"System!H39","v":0},{"$f":"System!J39","v":0},0,0,0,0,0,0,0,1,0]
[19,{"$f":"System!C40","v":0},{"$f":"System!D40","v":0},{"$f":"System!E40","v":0},{"$f":"System!F40","v":0},{"$f":"System!G40","v":0},{"$f":"System!H40","v":0},{"$f":"System!J40","v":0},0,0,0,0,0,0,0,1,0]
[20,{"$f":"System!C41","v":0},{"$f":"System!D41","v":0},{"$f":"System!E41","v":0},{"$f":"System!F41","v":0},{"$f":"System!G41","v":0},{"$f":"System!H41","v":0},{"$f":"System!J41","v":0},0,0,0,0,0,0,0,1,0]
[21,{"$f":"System!C42","v":0},{"$f":"System!D42","v":0},{"$f":"System!E42","v":0},{"$f":"System!F42","v":0},{"$f":"System!G42","v":0},{"$f":"System!H42","v":0},{"$f":"System!J42","v":0},0,0,0,0,0,0,0,1,0]
[22,{"$f":"System!C43","v":0},{"$f":"System!D43","v":0},{"$f":"System!E43","v":0},{"$f":"System!F43","v":0},{"$f":"System!G43","v":0},{"$f":"System!H43","v":0},{"$f":"System!J43","v":0},0,0,0,0,0,0,0,1,0]
[23,{"$f":"System!C44","v":0},{"$f":"System!D44","v":0},{"$f":"System!E44","v":0},{"$f":"System!F44","v":0},{"$f":"System!G44","v":0},{"$f":"System!H44","v":0},{"$f":"System!J44","v":0},0,0,0,0,0,0,0,1,0]
[24,{"$f":"System!C45","v":0},{"$f":"System!D45","v":0},{"$f":"System!E45","v":0},{"$f":"System!F45","v":0},{"$f":"System!G45","v":0},{"$f":"System!H45","v":0},{"$f":"System!J45","v":0},0,0,0,0,0,0,0,1,0]
[25,{"$f":"System!C46","v":0},{"$f":"System!D46","v":0},{"$f":"System!E46","v":0},{"$f":"System!F46","v":0},{"$f":"System!G46","v":0},{"$f":"System!H46","v":0},{"$f":"System!J46","v":0},0,0,0,0,0,0,0,1,0]
[26,{"$f":"System!C47","v":0},{"$f":"System!D47","v":0},{"$f":"System!E47","v":0},{"$f":"System!F47","v":0},{"$f":"System!G47","v":0},{"$f":"System!H47","v":0},{"$f":"System!J47","v":0},0,0,0,0,0,0,0,1,0]
[27,{"$f":"System!C48","v":0},{"$f":"System!D48","v":0},{"$f":"System!E48","v":0},{"$f":"System!F48","v":0},{"$f":"System!G48","v":0},{"$f":"System!H48","v":0},{"$f":"System!J48","v":0},0,0,0,0,0,0,0,1,0]
[28,{"$f":"System!C49","v":0},{"$f":"System!D49","v":0},{"$f":"System!E49","v":0},{"$f":"System!F49","v":0.01},{"$f":"System!G49","v":0.2},{"$f":"System!H49","v":0.01},{"$f":"System!J49","v":6},0,5.0000000000000001E-3,0.01,2.0000000000000004E-7,6.22208515922015E-6,0,6.22208515922015E-6,0,1]
[29,{"$f":"System!C50","v":0},{"$f":"System!D50","v":0},{"$f":"System!E50","v":0.01},{"$f":"System!F50","v":0},{"$f":"System!G50","v":0.2},{"$f":"System!H50","v":0.01},{"$f":"System!J50","v":6},5.0000000000000001E-3,0,0.01,2.0000000000000004E-7,2.2504116885056818E-6,2.2504116885056818E-6,0,1,0]
[30,{"$f":"System!C51","v":0.01},{"$f":"System!D51","v":0},{"$f":"System!E51","v":0},{"$f":"System!F51","v":0.01},{"$f":"System!G51","v":0.2},{"$f":"System!H51","v":0.01},{"$f":"System!J51","v":6},5.0000000000000001E-3,5.0000000000000001E-3,1.4142135623730951E-2,4.0000000000000009E-7,5.6153904162899432E-6,-3.9706806423685693E-6,3.9706806423685693E-6,-0.70710678118654757,0.70710678118654757]
[]
[null,null,null,null,null,null,null,null,null,null,null,null,null,{"$f":"SUM(N15:N45)","v":162.16199999999992},{"$f":"SUM(O15:O45)","v":415.17}]

{"sheet":"E3","index":8,"n_rows":46,"n_cols":17,"rows_kept":46,"cut":false,"hidden":false,"merged":[]}
[]
[]
[]
[]
["Etage:",3,null,null,null,null,null,null,null,null,null,null,null,null,"System:","x_0",{"$f":"(Q7*(-SUMPRODUCT(a_3,yacc)+SUMPRODUCT(a_3,xacs))+(-SUMPRODUCT(a_3,yacs)+SUMPRODUCT(a_3,xass)))/Q10","v":19.999999489897977}]
[null,null,null,null,null,null,null,null,null,null,null,null,null,null,null,"y_0",{"$f":"-(-SUMPRODUCT(a_3,yacc)+SUMPRODUCT(a_3,xacs)+Q8*(-SUMPRODUCT(a_3,yacs)+SUMPRODUCT(a_3,xass)))/Q9","v":9.9999992002000422}]
["Totallaste - incl. bidrag fra ovenliggende etager:",null,null,null,null,null,"W_x",{"$f":"INDEX(Last,7-$B$5,1)","v":121.21199999999996},"kN",null,null,null,null,null,null,"Dx",{"$f":"-SUMPRODUCT(a_3,acs)/SUMPRODUCT(a_3,acc)","v":1.999999920000004E-8}]
[null,null,null,null,null,null,"y_Wx",{"$f":"INDEX(Last,7-$B$5,2)","v":16},"m",null,null,null,null,null,null,"Dy",{"$f":"-SUMPRODUCT(a_3,acs)/SUMPRODUCT(a_3,ass)","v":1.0204081424406508E-8}]
[null,null,null,null,null,null,"W_y",{"$f":"INDEX(Last,7-$B$5,3)","v":312.47999999999996},"kN",null,null,null,null,null,null,"Ax",{"$f":"SUMPRODUCT(a_3,acc)+Q8*SUMPRODUCT(a_3,acs)","v":10.000000399999999}]
[null,null,null,null,null,null,"x_Wy",{"$f":"INDEX(Last,7-$B$5,4)","v":19.999999999999996},"m",null,null,null,null,null,null,"Ay",{"$f":"Q7*SUMPRODUCT(a_3,acs)+SUMPRODUCT(a_3,ass)","v":19.600000399999995}]
[null,null,null,null,null,null,"M_w",{"$f":"-(H8-Q6)*H7+(H10-Q5)*H9","v":-727.27193754867324},"kNm",null,null,null,null,null,null,"I_w",{"$f":"SUMPRODUCT(a_3,xxass)-2*Q5*SUMPRODUCT(a_3,xass)+Q5^2*SUMPRODUCT(a_3,ass)-2*SUMPRODUCT(a_3,yxacs)+2*Q6*SUMPRODUCT(a_3,xacs)+2*Q5*SUMPRODUCT(a_3,yacs)-2*Q5*Q6*SUMPRODUCT(a_3,acs)+SUMPRODUCT(a_3,yyacc)-2*Q6*SUMPRODUCT(a_3,yacc)+Q6^2*SUMPRODUCT(a_3,acc)","v":1960.0002798800087}]
[]
[]
["Væg nr","x1","y1","x2","y2","t","a0","etager","x_i","y_i","L_i","a_i","Q_i","Q_ix","Q_iy","cos(v_i)","sin(v_i)"]
[1,{"$f":"System!C22","v":10},{"$f":"System!D22","v":10},{"$f":"System!E22","v":15},{"$f":"System!F22","v":10},{"$f":"System!G22","v":0.2},{"$f":"System!H22","v":1},{"$f":"System!J22","v":6},{"$f":"0.5*(B15+D15)","v":12.5},{"$f":"0.5*(C15+E15)","v":10},{"$f":"SQRT((D15-B15)^2+(E15-C15)^2)","v":5},{"$f":"IF($B$5>H15,0,K15^2*G15*F15)","v":5},{"$f":"L15*((P15+$Q$8*Q15)*$H$7/$Q$9+($Q$7*P15+Q15)*$H$9/$Q$10+((I15-$Q$5)*Q15-(J15-$Q$6)*P15)*$H$11/$Q$11)","v":60.606000653902797},{"$f":"M15*P15","v":60.606000653902797},{"$f":"M15*Q15","v":0},{"$f":"IF(K15=0,1,(D15-B15)/K15)","v":1},{"$f":"IF(K15=0,0,(E15-C15)/K15)","v":0}]
[2,{"$f":"System!C23","v":25},{"$f":"System!D23","v":10},{"$f":"System!E23","v":30},{"$f":"System!F23","v":10},{"$f":"System!G23","v":0.2},{"$f":"System!H23","v":1},{"$f":"System!J23","v":6},27.5,10,5,{"$f":"IF($B$5>H16,0,K16^2*G16*F16)","v":5},60.606000653902797,60.606000653902797,0,1,{"$f":"IF(K16=0,0,(E16-C16)/K16)","v":0}]
[3,{"$f":"System!C24","v":10},{"$f":"System!D24","v":15},{"$f":"System!E24","v":10},{"$f":"System!F24","v":22},{"$f":"System!G24","v":0.2},{"$f":"System!H24","v":1},{"$f":"System!J24","v":6},10,18.5,7,9.8000000000000007,192.60358785349547,0,192.60358785349547,0,1]
[4,{"$f":"System!C25","v":30},{"$f":"System!D25","v":15},{"$f":"System!E25","v":30},{"$f":"System!F25","v":22},{"$f":"System!G25","v":0.2},{"$f":"System!H25","v":1},{"$f":"System!J25","v":6},30,18.5,7,9.8000000000000007,119.8764044837734,0,119.8764044837734,0,1]
[5,{"$f":"System!C26","v":0},{"$f":"System!D26","v":0},{"$f":"System!E26","v":0},{"$f":"System!F26","v":0},{"$f":"System!G26","v":0},{"$f":"System!H26","v":0},{"$f":"System!J26","v":0},0,0,0,0,0,0,0,1,0]
[6,{"$f":"System!C27","v":0},{"$f":"System!D27","v":0},{"$f":"System!E27","v":0},{"$f":"System!F27","v":0},{"$f":"System!G27","v":0},{"$f":"System!H27","v":0},{"$f":"System!J27","v":0},0,0,0,0,0,0,0,1,0]
[7,{"$f":"System!C28","v":0},{"$f":"System!D28","v":0},{"$f":"System!E28","v":0},{"$f":"System!F28","v":0},{"$f":"System!G28","v":0},{"$f":"System!H28","v":0},{"$f":"System!J28","v":0},0,0,0,0,0,0,0,1,0]
[8,{"$f":"System!C29","v":0},{"$f":"System!D29","v":0},{"$f":"System!E29","v":0},{"$f":"System!F29","v":0},{"$f":"System!G29","v":0},{"$f":"System!H29","v":0},{"$f":"System!J29","v":0},0,0,0,0,0,0,0,1,0]
[9,{"$f":"System!C30","v":0},{"$f":"System!D30","v":0},{"$f":"System!E30","v":0},{"$f":"System!F30","v":0},{"$f":"System!G30","v":0},{"$f":"System!H30","v":0},{"$f":"System!J30","v":0},0,0,0,0,0,0,0,1,0]
[10,{"$f":"System!C31","v":0},{"$f":"System!D31","v":0},{"$f":"System!E31","v":0},{"$f":"System!F31","v":0},{"$f":"System!G31","v":0},{"$f":"System!H31","v":0},{"$f":"System!J31","v":0},0,0,0,0,0,0,0,1,0]
[11,{"$f":"System!C32","v":0},{"$f":"System!D32","v":0},{"$f":"System!E32","v":0},{"$f":"System!F32","v":0},{"$f":"System!G32","v":0},{"$f":"System!H32","v":0},{"$f":"System!J32","v":0},0,0,0,0,0,0,0,1,0]
[12,{"$f":"System!C33","v":0},{"$f":"System!D33","v":0},{"$f":"System!E33","v":0},{"$f":"System!F33","v":0},{"$f":"System!G33","v":0},{"$f":"System!H33","v":0},{"$f":"System!J33","v":0},0,0,0,0,0,0,0,1,0]
[13,{"$f":"System!C34","v":0},{"$f":"System!D34","v":0},{"$f":"System!E34","v":0},{"$f":"System!F34","v":0},{"$f":"System!G34","v":0},{"$f":"System!H34","v":0},{"$f":"System!J34","v":0},0,0,0,0,0,0,0,1,0]
[14,{"$f":"System!C35","v":0},{"$f":"System!D35","v":0},{"$f":"System!E35","v":0},{"$f":"System!F35","v":0},{"$f":"System!G35","v":0},{"$f":"System!H35","v":0},{"$f":"System!J35","v":0},0,0,0,0,0,0,0,1,0]
[15,{"$f":"System!C36","v":0},{"$f":"System!D36","v":0},{"$f":"System!E36","v":0},{"$f":"System!F36","v":0},{"$f":"System!G36","v":0},{"$f":"System!H36","v":0},{"$f":"System!J36","v":0},0,0,0,0,0,0,0,1,0]
[16,{"$f":"System!C37","v":0},{"$f":"System!D37","v":0},{"$f":"System!E37","v":0},{"$f":"System!F37","v":0},{"$f":"System!G37","v":0},{"$f":"System!H37","v":0},{"$f":"System!J37","v":0},0,0,0,0,0,0,0,1,0]
[17,{"$f":"System!C38","v":0},{"$f":"System!D38","v":0},{"$f":"System!E38","v":0},{"$f":"System!F38","v":0},{"$f":"System!G38","v":0},{"$f":"System!H38","v":0},{"$f":"System!J38","v":0},0,0,0,0,0,0,0,1,0]
[18,{"$f":"System!C39","v":0},{"$f":"System!D39","v":0},{"$f":"System!E39","v":0},{"$f":"System!F39","v":0},{"$f":"System!G39","v":0},{"$f":"System!H39","v":0},{"$f":"System!J39","v":0},0,0,0,0,0,0,0,1,0]
[19,{"$f":"System!C40","v":0},{"$f":"System!D40","v":0},{"$f":"System!E40","v":0},{"$f":"System!F40","v":0},{"$f":"System!G40","v":0},{"$f":"System!H40","v":0},{"$f":"System!J40","v":0},0,0,0,0,0,0,0,1,0]
[20,{"$f":"System!C41","v":0},{"$f":"System!D41","v":0},{"$f":"System!E41","v":0},{"$f":"System!F41","v":0},{"$f":"System!G41","v":0},{"$f":"System!H41","v":0},{"$f":"System!J41","v":0},0,0,0,0,0,0,0,1,0]
[21,{"$f":"System!C42","v":0},{"$f":"System!D42","v":0},{"$f":"System!E42","v":0},{"$f":"System!F42","v":0},{"$f":"System!G42","v":0},{"$f":"System!H42","v":0},{"$f":"System!J42","v":0},0,0,0,0,0,0,0,1,0]
[22,{"$f":"System!C43","v":0},{"$f":"System!D43","v":0},{"$f":"System!E43","v":0},{"$f":"System!F43","v":0},{"$f":"System!G43","v":0},{"$f":"System!H43","v":0},{"$f":"System!J43","v":0},0,0,0,0,0,0,0,1,0]
[23,{"$f":"System!C44","v":0},{"$f":"System!D44","v":0},{"$f":"System!E44","v":0},{"$f":"System!F44","v":0},{"$f":"System!G44","v":0},{"$f":"System!H44","v":0},{"$f":"System!J44","v":0},0,0,0,0,0,0,0,1,0]
[24,{"$f":"System!C45","v":0},{"$f":"System!D45","v":0},{"$f":"System!E45","v":0},{"$f":"System!F45","v":0},{"$f":"System!G45","v":0},{"$f":"System!H45","v":0},{"$f":"System!J45","v":0},0,0,0,0,0,0,0,1,0]
[25,{"$f":"System!C46","v":0},{"$f":"System!D46","v":0},{"$f":"System!E46","v":0},{"$f":"System!F46","v":0},{"$f":"System!G46","v":0},{"$f":"System!H46","v":0},{"$f":"System!J46","v":0},0,0,0,0,0,0,0,1,0]
[26,{"$f":"System!C47","v":0},{"$f":"System!D47","v":0},{"$f":"System!E47","v":0},{"$f":"System!F47","v":0},{"$f":"System!G47","v":0},{"$f":"System!H47","v":0},{"$f":"System!J47","v":0},0,0,0,0,0,0,0,1,0]
[27,{"$f":"System!C48","v":0},{"$f":"System!D48","v":0},{"$f":"System!E48","v":0},{"$f":"System!F48","v":0},{"$f":"System!G48","v":0},{"$f":"System!H48","v":0},{"$f":"System!J48","v":0},0,0,0,0,0,0,0,1,0]
[28,{"$f":"System!C49","v":0},{"$f":"System!D49","v":0},{"$f":"System!E49","v":0},{"$f":"System!F49","v":0.01},{"$f":"System!G49","v":0.2},{"$f":"System!H49","v":0.01},{"$f":"System!J49","v":6},0,5.0000000000000001E-3,0.01,2.0000000000000004E-7,4.6727995824154391E-6,0,4.6727995824154391E-6,0,1]
[29,{"$f":"System!C50","v":0},{"$f":"System!D50","v":0},{"$f":"System!E50","v":0.01},{"$f":"System!F50","v":0},{"$f":"System!G50","v":0.2},{"$f":"System!H50","v":0.01},{"$f":"System!J50","v":6},5.0000000000000001E-3,0,0.01,2.0000000000000004E-7,1.6821259101385402E-6,1.6821259101385402E-6,0,1,0]
[30,{"$f":"System!C51","v":0.01},{"$f":"System!D51","v":0},{"$f":"System!E51","v":0},{"$f":"System!F51","v":0.01},{"$f":"System!G51","v":0.2},{"$f":"System!H51","v":0.01},{"$f":"System!J51","v":6},5.0000000000000001E-3,5.0000000000000001E-3,1.4142135623730951E-2,4.0000000000000009E-7,4.2284017601184394E-6,-2.9899315581608819E-6,2.9899315581608819E-6,-0.70710678118654757,0.70710678118654757]
[]
[null,null,null,null,null,null,null,null,null,null,null,null,null,{"$f":"SUM(N15:N45)","v":121.21199999999995},{"$f":"SUM(O15:O45)","v":312.48}]

{"sheet":"E4","index":9,"n_rows":46,"n_cols":17,"rows_kept":46,"cut":false,"hidden":false,"merged":[]}
[]
[]
[]
[]
["Etage:",4,null,null,null,null,null,null,null,null,null,null,null,null,"System:","x_0",{"$f":"(Q7*(-SUMPRODUCT(a_4,yacc)+SUMPRODUCT(a_4,xacs))+(-SUMPRODUCT(a_4,yacs)+SUMPRODUCT(a_4,xass)))/Q10","v":19.999999489897977}]
[null,null,null,null,null,null,null,null,null,null,null,null,null,null,null,"y_0",{"$f":"-(-SUMPRODUCT(a_4,yacc)+SUMPRODUCT(a_4,xacs)+Q8*(-SUMPRODUCT(a_4,yacs)+SUMPRODUCT(a_4,xass)))/Q9","v":9.9999992002000422}]
["Totallaste - incl. bidrag fra ovenliggende etager:",null,null,null,null,null,"W_x",{"$f":"INDEX(Last,7-$B$5,1)","v":88.45199999999997},"kN",null,null,null,null,null,null,"Dx",{"$f":"-SUMPRODUCT(a_4,acs)/SUMPRODUCT(a_4,acc)","v":1.999999920000004E-8}]
[null,null,null,null,null,null,"y_Wx",{"$f":"INDEX(Last,7-$B$5,2)","v":16},"m",null,null,null,null,null,null,"Dy",{"$f":"-SUMPRODUCT(a_4,acs)/SUMPRODUCT(a_4,ass)","v":1.0204081424406508E-8}]
[null,null,null,null,null,null,"W_y",{"$f":"INDEX(Last,7-$B$5,3)","v":228.68999999999997},"kN",null,null,null,null,null,null,"Ax",{"$f":"SUMPRODUCT(a_4,acc)+Q8*SUMPRODUCT(a_4,acs)","v":10.000000399999999}]
[null,null,null,null,null,null,"x_Wy",{"$f":"INDEX(Last,7-$B$5,4)","v":20},"m",null,null,null,null,null,null,"Ay",{"$f":"Q7*SUMPRODUCT(a_4,acs)+SUMPRODUCT(a_4,ass)","v":19.600000399999995}]
[null,null,null,null,null,null,"M_w",{"$f":"-(H8-Q6)*H7+(H10-Q5)*H9","v":-530.71195408867402},"kNm",null,null,null,null,null,null,"I_w",{"$f":"SUMPRODUCT(a_4,xxass)-2*Q5*SUMPRODUCT(a_4,xass)+Q5^2*SUMPRODUCT(a_4,ass)-2*SUMPRODUCT(a_4,yxacs)+2*Q6*SUMPRODUCT(a_4,xacs)+2*Q5*SUMPRODUCT(a_4,yacs)-2*Q5*Q6*SUMPRODUCT(a_4,acs)+SUMPRODUCT(a_4,yyacc)-2*Q6*SUMPRODUCT(a_4,yacc)+Q6^2*SUMPRODUCT(a_4,acc)","v":1960.0002798800087}]
[]
[]
["Væg nr","x1","y1","x2","y2","t","a0","etager","x_i","y_i","L_i","a_i","Q_i","Q_ix","Q_iy","cos(v_i)","sin(v_i)"]
[1,{"$f":"System!C22","v":10},{"$f":"System!D22","v":10},{"$f":"System!E22","v":15},{"$f":"System!F22","v":10},{"$f":"System!G22","v":0.2},{"$f":"System!H22","v":1},{"$f":"System!J22","v":6},{"$f":"0.5*(B15+D15)","v":12.5},{"$f":"0.5*(C15+E15)","v":10},{"$f":"SQRT((D15-B15)^2+(E15-C15)^2)","v":5},{"$f":"IF($B$5>H15,0,K15^2*G15*F15)","v":5},{"$f":"L15*((P15+$Q$8*Q15)*$H$7/$Q$9+($Q$7*P15+Q15)*$H$9/$Q$10+((I15-$Q$5)*Q15-(J15-$Q$6)*P15)*$H$11/$Q$11)","v":44.226000480560337},{"$f":"M15*P15","v":44.226000480560337},{"$f":"M15*Q15","v":0},{"$f":"IF(K15=0,1,(D15-B15)/K15)","v":1},{"$f":"IF(K15=0,0,(E15-C15)/K15)","v":0}]
[2,{"$f":"System!C23","v":25},{"$f":"System!D23","v":10},{"$f":"System!E23","v":30},{"$f":"System!F23","v":10},{"$f":"System!G23","v":0.2},{"$f":"System!H23","v":1},{"$f":"System!J23","v":6},27.5,10,5,{"$f":"IF($B$5>H16,0,K16^2*G16*F16)","v":5},44.226000480560337,44.226000480560337,0,1,{"$f":"IF(K16=0,0,(E16-C16)/K16)","v":0}]
[3,{"$f":"System!C24","v":10},{"$f":"System!D24","v":15},{"$f":"System!E24","v":10},{"$f":"System!F24","v":22},{"$f":"System!G24","v":0.2},{"$f":"System!H24","v":1},{"$f":"System!J24","v":6},10,18.5,7,9.8000000000000007,140.88059111262166,0,140.88059111262166,0,1]
[4,{"$f":"System!C25","v":30},{"$f":"System!D25","v":15},{"$f":"System!E25","v":30},{"$f":"System!F25","v":22},{"$f":"System!G25","v":0.2},{"$f":"System!H25","v":1},{"$f":"System!J25","v":6},30,18.5,7,9.8000000000000007,87.809403282103489,0,87.809403282103489,0,1]
[5,{"$f":"System!C26","v":0},{"$f":"System!D26","v":0},{"$f":"System!E26","v":0},{"$f":"System!F26","v":0},{"$f":"System!G26","v":0},{"$f":"System!H26","v":0},{"$f":"System!J26","v":0},0,0,0,0,0,0,0,1,0]
[6,{"$f":"System!C27","v":0},{"$f":"System!D27","v":0},{"$f":"System!E27","v":0},{"$f":"System!F27","v":0},{"$f":"System!G27","v":0},{"$f":"System!H27","v":0},{"$f":"System!J27","v":0},0,0,0,0,0,0,0,1,0]
[7,{"$f":"System!C28","v":0},{"$f":"System!D28","v":0},{"$f":"System!E28","v":0},{"$f":"System!F28","v":0},{"$f":"System!G28","v":0},{"$f":"System!H28","v":0},{"$f":"System!J28","v":0},0,0,0,0,0,0,0,1,0]
[8,{"$f":"System!C29","v":0},{"$f":"System!D29","v":0},{"$f":"System!E29","v":0},{"$f":"System!F29","v":0},{"$f":"System!G29","v":0},{"$f":"System!H29","v":0},{"$f":"System!J29","v":0},0,0,0,0,0,0,0,1,0]
[9,{"$f":"System!C30","v":0},{"$f":"System!D30","v":0},{"$f":"System!E30","v":0},{"$f":"System!F30","v":0},{"$f":"System!G30","v":0},{"$f":"System!H30","v":0},{"$f":"System!J30","v":0},0,0,0,0,0,0,0,1,0]
[10,{"$f":"System!C31","v":0},{"$f":"System!D31","v":0},{"$f":"System!E31","v":0},{"$f":"System!F31","v":0},{"$f":"System!G31","v":0},{"$f":"System!H31","v":0},{"$f":"System!J31","v":0},0,0,0,0,0,0,0,1,0]
[11,{"$f":"System!C32","v":0},{"$f":"System!D32","v":0},{"$f":"System!E32","v":0},{"$f":"System!F32","v":0},{"$f":"System!G32","v":0},{"$f":"System!H32","v":0},{"$f":"System!J32","v":0},0,0,0,0,0,0,0,1,0]
[12,{"$f":"System!C33","v":0},{"$f":"System!D33","v":0},{"$f":"System!E33","v":0},{"$f":"System!F33","v":0},{"$f":"System!G33","v":0},{"$f":"System!H33","v":0},{"$f":"System!J33","v":0},0,0,0,0,0,0,0,1,0]
[13,{"$f":"System!C34","v":0},{"$f":"System!D34","v":0},{"$f":"System!E34","v":0},{"$f":"System!F34","v":0},{"$f":"System!G34","v":0},{"$f":"System!H34","v":0},{"$f":"System!J34","v":0},0,0,0,0,0,0,0,1,0]
[14,{"$f":"System!C35","v":0},{"$f":"System!D35","v":0},{"$f":"System!E35","v":0},{"$f":"System!F35","v":0},{"$f":"System!G35","v":0},{"$f":"System!H35","v":0},{"$f":"System!J35","v":0},0,0,0,0,0,0,0,1,0]
[15,{"$f":"System!C36","v":0},{"$f":"System!D36","v":0},{"$f":"System!E36","v":0},{"$f":"System!F36","v":0},{"$f":"System!G36","v":0},{"$f":"System!H36","v":0},{"$f":"System!J36","v":0},0,0,0,0,0,0,0,1,0]
[16,{"$f":"System!C37","v":0},{"$f":"System!D37","v":0},{"$f":"System!E37","v":0},{"$f":"System!F37","v":0},{"$f":"System!G37","v":0},{"$f":"System!H37","v":0},{"$f":"System!J37","v":0},0,0,0,0,0,0,0,1,0]
[17,{"$f":"System!C38","v":0},{"$f":"System!D38","v":0},{"$f":"System!E38","v":0},{"$f":"System!F38","v":0},{"$f":"System!G38","v":0},{"$f":"System!H38","v":0},{"$f":"System!J38","v":0},0,0,0,0,0,0,0,1,0]
[18,{"$f":"System!C39","v":0},{"$f":"System!D39","v":0},{"$f":"System!E39","v":0},{"$f":"System!F39","v":0},{"$f":"System!G39","v":0},{"$f":"System!H39","v":0},{"$f":"System!J39","v":0},0,0,0,0,0,0,0,1,0]
[19,{"$f":"System!C40","v":0},{"$f":"System!D40","v":0},{"$f":"System!E40","v":0},{"$f":"System!F40","v":0},{"$f":"System!G40","v":0},{"$f":"System!H40","v":0},{"$f":"System!J40","v":0},0,0,0,0,0,0,0,1,0]
[20,{"$f":"System!C41","v":0},{"$f":"System!D41","v":0},{"$f":"System!E41","v":0},{"$f":"System!F41","v":0},{"$f":"System!G41","v":0},{"$f":"System!H41","v":0},{"$f":"System!J41","v":0},0,0,0,0,0,0,0,1,0]
[21,{"$f":"System!C42","v":0},{"$f":"System!D42","v":0},{"$f":"System!E42","v":0},{"$f":"System!F42","v":0},{"$f":"System!G42","v":0},{"$f":"System!H42","v":0},{"$f":"System!J42","v":0},0,0,0,0,0,0,0,1,0]
[22,{"$f":"System!C43","v":0},{"$f":"System!D43","v":0},{"$f":"System!E43","v":0},{"$f":"System!F43","v":0},{"$f":"System!G43","v":0},{"$f":"System!H43","v":0},{"$f":"System!J43","v":0},0,0,0,0,0,0,0,1,0]
[23,{"$f":"System!C44","v":0},{"$f":"System!D44","v":0},{"$f":"System!E44","v":0},{"$f":"System!F44","v":0},{"$f":"System!G44","v":0},{"$f":"System!H44","v":0},{"$f":"System!J44","v":0},0,0,0,0,0,0,0,1,0]
[24,{"$f":"System!C45","v":0},{"$f":"System!D45","v":0},{"$f":"System!E45","v":0},{"$f":"System!F45","v":0},{"$f":"System!G45","v":0},{"$f":"System!H45","v":0},{"$f":"System!J45","v":0},0,0,0,0,0,0,0,1,0]
[25,{"$f":"System!C46","v":0},{"$f":"System!D46","v":0},{"$f":"System!E46","v":0},{"$f":"System!F46","v":0},{"$f":"System!G46","v":0},{"$f":"System!H46","v":0},{"$f":"System!J46","v":0},0,0,0,0,0,0,0,1,0]
[26,{"$f":"System!C47","v":0},{"$f":"System!D47","v":0},{"$f":"System!E47","v":0},{"$f":"System!F47","v":0},{"$f":"System!G47","v":0},{"$f":"System!H47","v":0},{"$f":"System!J47","v":0},0,0,0,0,0,0,0,1,0]
[27,{"$f":"System!C48","v":0},{"$f":"System!D48","v":0},{"$f":"System!E48","v":0},{"$f":"System!F48","v":0},{"$f":"System!G48","v":0},{"$f":"System!H48","v":0},{"$f":"System!J48","v":0},0,0,0,0,0,0,0,1,0]
[28,{"$f":"System!C49","v":0},{"$f":"System!D49","v":0},{"$f":"System!E49","v":0},{"$f":"System!F49","v":0.01},{"$f":"System!G49","v":0.2},{"$f":"System!H49","v":0.01},{"$f":"System!J49","v":6},0,5.0000000000000001E-3,0.01,2.0000000000000004E-7,3.4166568373036887E-6,0,3.4166568373036887E-6,0,1]
[29,{"$f":"System!C50","v":0},{"$f":"System!D50","v":0},{"$f":"System!E50","v":0.01},{"$f":"System!F50","v":0},{"$f":"System!G50","v":0.2},{"$f":"System!H50","v":0.01},{"$f":"System!J50","v":6},5.0000000000000001E-3,0,0.01,2.0000000000000004E-7,1.2274972862579427E-6,1.2274972862579427E-6,0,1,0]
[30,{"$f":"System!C51","v":0.01},{"$f":"System!D51","v":0},{"$f":"System!E51","v":0},{"$f":"System!F51","v":0.01},{"$f":"System!G51","v":0.2},{"$f":"System!H51","v":0.01},{"$f":"System!J51","v":6},5.0000000000000001E-3,5.0000000000000001E-3,1.4142135623730951E-2,4.0000000000000009E-7,3.0951732702099276E-6,-2.1886180083127824E-6,2.1886180083127824E-6,-0.70710678118654757,0.70710678118654757]
[]
[null,null,null,null,null,null,null,null,null,null,null,null,null,{"$f":"SUM(N15:N45)","v":88.451999999999956},{"$f":"SUM(O15:O45)","v":228.68999999999997}]

{"sheet":"E5","index":10,"n_rows":46,"n_cols":17,"rows_kept":46,"cut":false,"hidden":false,"merged":[]}
[]
[]
[]
[]
["Etage:",5,null,null,null,null,null,null,null,null,null,null,null,null,"System:","x_0",{"$f":"(Q7*(-SUMPRODUCT(a_5,yacc)+SUMPRODUCT(a_5,xacs))+(-SUMPRODUCT(a_5,yacs)+SUMPRODUCT(a_5,xass)))/Q10","v":19.999999489897977}]
[null,null,null,null,null,null,null,null,null,null,null,null,null,null,null,"y_0",{"$f":"-(-SUMPRODUCT(a_5,yacc)+SUMPRODUCT(a_5,xacs)+Q8*(-SUMPRODUCT(a_5,yacs)+SUMPRODUCT(a_5,xass)))/Q9","v":9.9999992002000422}]
["Totallaste - incl. bidrag fra ovenliggende etager:",null,null,null,null,null,"W_x",{"$f":"INDEX(Last,7-$B$5,1)","v":55.691999999999986},"kN",null,null,null,null,null,null,"Dx",{"$f":"-SUMPRODUCT(a_5,acs)/SUMPRODUCT(a_5,acc)","v":1.999999920000004E-8}]
[null,null,null,null,null,null,"y_Wx",{"$f":"INDEX(Last,7-$B$5,2)","v":16},"m",null,null,null,null,null,null,"Dy",{"$f":"-SUMPRODUCT(a_5,acs)/SUMPRODUCT(a_5,ass)","v":1.0204081424406508E-8}]
[null,null,null,null,null,null,"W_y",{"$f":"INDEX(Last,7-$B$5,3)","v":144.89999999999998},"kN",null,null,null,null,null,null,"Ax",{"$f":"SUMPRODUCT(a_5,acc)+Q8*SUMPRODUCT(a_5,acs)","v":10.000000399999999}]
[null,null,null,null,null,null,"x_Wy",{"$f":"INDEX(Last,7-$B$5,4)","v":20.000000000000004},"m",null,null,null,null,null,null,"Ay",{"$f":"Q7*SUMPRODUCT(a_5,acs)+SUMPRODUCT(a_5,ass)","v":19.600000399999995}]
[null,null,null,null,null,null,"M_w",{"$f":"-(H8-Q6)*H7+(H10-Q5)*H9","v":-334.15197062867554},"kNm",null,null,null,null,null,null,"I_w",{"$f":"SUMPRODUCT(a_5,xxass)-2*Q5*SUMPRODUCT(a_5,xass)+Q5^2*SUMPRODUCT(a_5,ass)-2*SUMPRODUCT(a_5,yxacs)+2*Q6*SUMPRODUCT(a_5,xacs)+2*Q5*SUMPRODUCT(a_5,yacs)-2*Q5*Q6*SUMPRODUCT(a_5,acs)+SUMPRODUCT(a_5,yyacc)-2*Q6*SUMPRODUCT(a_5,yacc)+Q6^2*SUMPRODUCT(a_5,acc)","v":1960.0002798800087}]
[]
[]
["Væg nr","x1","y1","x2","y2","t","a0","etager","x_i","y_i","L_i","a_i","Q_i","Q_ix","Q_iy","cos(v_i)","sin(v_i)"]
[1,{"$f":"System!C22","v":10},{"$f":"System!D22","v":10},{"$f":"System!E22","v":15},{"$f":"System!F22","v":10},{"$f":"System!G22","v":0.2},{"$f":"System!H22","v":1},{"$f":"System!J22","v":6},{"$f":"0.5*(B15+D15)","v":12.5},{"$f":"0.5*(C15+E15)","v":10},{"$f":"SQRT((D15-B15)^2+(E15-C15)^2)","v":5},{"$f":"IF($B$5>H15,0,K15^2*G15*F15)","v":5},{"$f":"L15*((P15+$Q$8*Q15)*$H$7/$Q$9+($Q$7*P15+Q15)*$H$9/$Q$10+((I15-$Q$5)*Q15-(J15-$Q$6)*P15)*$H$11/$Q$11)","v":27.846000307217885},{"$f":"M15*P15","v":27.846000307217885},{"$f":"M15*Q15","v":0},{"$f":"IF(K15=0,1,(D15-B15)/K15)","v":1},{"$f":"IF(K15=0,0,(E15-C15)/K15)","v":0}]
[2,{"$f":"System!C23","v":25},{"$f":"System!D23","v":10},{"$f":"System!E23","v":30},{"$f":"System!F23","v":10},{"$f":"System!G23","v":0.2},{"$f":"System!H23","v":1},{"$f":"System!J23","v":6},27.5,10,5,{"$f":"IF($B$5>H16,0,K16^2*G16*F16)","v":5},27.846000307217885,27.846000307217885,0,1,{"$f":"IF(K16=0,0,(E16-C16)/K16)","v":0}]
[3,{"$f":"System!C24","v":10},{"$f":"System!D24","v":15},{"$f":"System!E24","v":10},{"$f":"System!F24","v":22},{"$f":"System!G24","v":0.2},{"$f":"System!H24","v":1},{"$f":"System!J24","v":6},10,18.5,7,9.8000000000000007,89.157594371747891,0,89.157594371747891,0,1]
[4,{"$f":"System!C25","v":30},{"$f":"System!D25","v":15},{"$f":"System!E25","v":30},{"$f":"System!F25","v":22},{"$f":"System!G25","v":0.2},{"$f":"System!H25","v":1},{"$f":"System!J25","v":6},30,18.5,7,9.8000000000000007,55.74240208043355,0,55.74240208043355,0,1]
[5,{"$f":"System!C26","v":0},{"$f":"System!D26","v":0},{"$f":"System!E26","v":0},{"$f":"System!F26","v":0},{"$f":"System!G26","v":0},{"$f":"System!H26","v":0},{"$f":"System!J26","v":0},0,0,0,0,0,0,0,1,0]
[6,{"$f":"System!C27","v":0},{"$f":"System!D27","v":0},{"$f":"System!E27","v":0},{"$f":"System!F27","v":0},{"$f":"System!G27","v":0},{"$f":"System!H27","v":0},{"$f":"System!J27","v":0},0,0,0,0,0,0,0,1,0]
[7,{"$f":"System!C28","v":0},{"$f":"System!D28","v":0},{"$f":"System!E28","v":0},{"$f":"System!F28","v":0},{"$f":"System!G28","v":0},{"$f":"System!H28","v":0},{"$f":"System!J28","v":0},0,0,0,0,0,0,0,1,0]
[8,{"$f":"System!C29","v":0},{"$f":"System!D29","v":0},{"$f":"System!E29","v":0},{"$f":"System!F29","v":0},{"$f":"System!G29","v":0},{"$f":"System!H29","v":0},{"$f":"System!J29","v":0},0,0,0,0,0,0,0,1,0]
[9,{"$f":"System!C30","v":0},{"$f":"System!D30","v":0},{"$f":"System!E30","v":0},{"$f":"System!F30","v":0},{"$f":"System!G30","v":0},{"$f":"System!H30","v":0},{"$f":"System!J30","v":0},0,0,0,0,0,0,0,1,0]
[10,{"$f":"System!C31","v":0},{"$f":"System!D31","v":0},{"$f":"System!E31","v":0},{"$f":"System!F31","v":0},{"$f":"System!G31","v":0},{"$f":"System!H31","v":0},{"$f":"System!J31","v":0},0,0,0,0,0,0,0,1,0]
[11,{"$f":"System!C32","v":0},{"$f":"System!D32","v":0},{"$f":"System!E32","v":0},{"$f":"System!F32","v":0},{"$f":"System!G32","v":0},{"$f":"System!H32","v":0},{"$f":"System!J32","v":0},0,0,0,0,0,0,0,1,0]
[12,{"$f":"System!C33","v":0},{"$f":"System!D33","v":0},{"$f":"System!E33","v":0},{"$f":"System!F33","v":0},{"$f":"System!G33","v":0},{"$f":"System!H33","v":0},{"$f":"System!J33","v":0},0,0,0,0,0,0,0,1,0]
[13,{"$f":"System!C34","v":0},{"$f":"System!D34","v":0},{"$f":"System!E34","v":0},{"$f":"System!F34","v":0},{"$f":"System!G34","v":0},{"$f":"System!H34","v":0},{"$f":"System!J34","v":0},0,0,0,0,0,0,0,1,0]
[14,{"$f":"System!C35","v":0},{"$f":"System!D35","v":0},{"$f":"System!E35","v":0},{"$f":"System!F35","v":0},{"$f":"System!G35","v":0},{"$f":"System!H35","v":0},{"$f":"System!J35","v":0},0,0,0,0,0,0,0,1,0]
[15,{"$f":"System!C36","v":0},{"$f":"System!D36","v":0},{"$f":"System!E36","v":0},{"$f":"System!F36","v":0},{"$f":"System!G36","v":0},{"$f":"System!H36","v":0},{"$f":"System!J36","v":0},0,0,0,0,0,0,0,1,0]
[16,{"$f":"System!C37","v":0},{"$f":"System!D37","v":0},{"$f":"System!E37","v":0},{"$f":"System!F37","v":0},{"$f":"System!G37","v":0},{"$f":"System!H37","v":0},{"$f":"System!J37","v":0},0,0,0,0,0,0,0,1,0]
[17,{"$f":"System!C38","v":0},{"$f":"System!D38","v":0},{"$f":"System!E38","v":0},{"$f":"System!F38","v":0},{"$f":"System!G38","v":0},{"$f":"System!H38","v":0},{"$f":"System!J38","v":0},0,0,0,0,0,0,0,1,0]
[18,{"$f":"System!C39","v":0},{"$f":"System!D39","v":0},{"$f":"System!E39","v":0},{"$f":"System!F39","v":0},{"$f":"System!G39","v":0},{"$f":"System!H39","v":0},{"$f":"System!J39","v":0},0,0,0,0,0,0,0,1,0]
[19,{"$f":"System!C40","v":0},{"$f":"System!D40","v":0},{"$f":"System!E40","v":0},{"$f":"System!F40","v":0},{"$f":"System!G40","v":0},{"$f":"System!H40","v":0},{"$f":"System!J40","v":0},0,0,0,0,0,0,0,1,0]
[20,{"$f":"System!C41","v":0},{"$f":"System!D41","v":0},{"$f":"System!E41","v":0},{"$f":"System!F41","v":0},{"$f":"System!G41","v":0},{"$f":"System!H41","v":0},{"$f":"System!J41","v":0},0,0,0,0,0,0,0,1,0]
[21,{"$f":"System!C42","v":0},{"$f":"System!D42","v":0},{"$f":"System!E42","v":0},{"$f":"System!F42","v":0},{"$f":"System!G42","v":0},{"$f":"System!H42","v":0},{"$f":"System!J42","v":0},0,0,0,0,0,0,0,1,0]
[22,{"$f":"System!C43","v":0},{"$f":"System!D43","v":0},{"$f":"System!E43","v":0},{"$f":"System!F43","v":0},{"$f":"System!G43","v":0},{"$f":"System!H43","v":0},{"$f":"System!J43","v":0},0,0,0,0,0,0,0,1,0]
[23,{"$f":"System!C44","v":0},{"$f":"System!D44","v":0},{"$f":"System!E44","v":0},{"$f":"System!F44","v":0},{"$f":"System!G44","v":0},{"$f":"System!H44","v":0},{"$f":"System!J44","v":0},0,0,0,0,0,0,0,1,0]
[24,{"$f":"System!C45","v":0},{"$f":"System!D45","v":0},{"$f":"System!E45","v":0},{"$f":"System!F45","v":0},{"$f":"System!G45","v":0},{"$f":"System!H45","v":0},{"$f":"System!J45","v":0},0,0,0,0,0,0,0,1,0]
[25,{"$f":"System!C46","v":0},{"$f":"System!D46","v":0},{"$f":"System!E46","v":0},{"$f":"System!F46","v":0},{"$f":"System!G46","v":0},{"$f":"System!H46","v":0},{"$f":"System!J46","v":0},0,0,0,0,0,0,0,1,0]
[26,{"$f":"System!C47","v":0},{"$f":"System!D47","v":0},{"$f":"System!E47","v":0},{"$f":"System!F47","v":0},{"$f":"System!G47","v":0},{"$f":"System!H47","v":0},{"$f":"System!J47","v":0},0,0,0,0,0,0,0,1,0]
[27,{"$f":"System!C48","v":0},{"$f":"System!D48","v":0},{"$f":"System!E48","v":0},{"$f":"System!F48","v":0},{"$f":"System!G48","v":0},{"$f":"System!H48","v":0},{"$f":"System!J48","v":0},0,0,0,0,0,0,0,1,0]
[28,{"$f":"System!C49","v":0},{"$f":"System!D49","v":0},{"$f":"System!E49","v":0},{"$f":"System!F49","v":0.01},{"$f":"System!G49","v":0.2},{"$f":"System!H49","v":0.01},{"$f":"System!J49","v":6},0,5.0000000000000001E-3,0.01,2.0000000000000004E-7,2.1605140921919404E-6,0,2.1605140921919404E-6,0,1]
[29,{"$f":"System!C50","v":0},{"$f":"System!D50","v":0},{"$f":"System!E50","v":0.01},{"$f":"System!F50","v":0},{"$f":"System!G50","v":0.2},{"$f":"System!H50","v":0.01},{"$f":"System!J50","v":6},5.0000000000000001E-3,0,0.01,2.0000000000000004E-7,7.7286866237734489E-7,7.7286866237734489E-7,0,1,0]
[30,{"$f":"System!C51","v":0.01},{"$f":"System!D51","v":0},{"$f":"System!E51","v":0},{"$f":"System!F51","v":0.01},{"$f":"System!G51","v":0.2},{"$f":"System!H51","v":0.01},{"$f":"System!J51","v":6},5.0000000000000001E-3,5.0000000000000001E-3,1.4142135623730951E-2,4.0000000000000009E-7,1.9619447803014188E-6,-1.3873044584646845E-6,1.3873044584646845E-6,-0.70710678118654757,0.70710678118654757]
[]
[null,null,null,null,null,null,null,null,null,null,null,null,null,{"$f":"SUM(N15:N45)","v":55.691999999999972},{"$f":"SUM(O15:O45)","v":144.89999999999998}]

{"sheet":"E6","index":11,"n_rows":46,"n_cols":17,"rows_kept":46,"cut":false,"hidden":false,"merged":[]}
[]
[]
[]
[]
["Etage:",6,null,null,null,null,null,null,null,null,null,null,null,null,"System:","x_0",{"$f":"(Q7*(-SUMPRODUCT(a_6,yacc)+SUMPRODUCT(a_6,xacs))+(-SUMPRODUCT(a_6,yacs)+SUMPRODUCT(a_6,xass)))/Q10","v":19.999999489897977}]
[null,null,null,null,null,null,null,null,null,null,null,null,null,null,null,"y_0",{"$f":"-(-SUMPRODUCT(a_6,yacc)+SUMPRODUCT(a_6,xacs)+Q8*(-SUMPRODUCT(a_6,yacs)+SUMPRODUCT(a_6,xass)))/Q9","v":9.9999992002000422}]
["Totallaste - incl. bidrag fra ovenliggende etager:",null,null,null,null,null,"W_x",{"$f":"INDEX(Last,7-$B$5,1)","v":23.587199999999996},"kN",null,null,null,null,null,null,"Dx",{"$f":"-SUMPRODUCT(a_6,acs)/SUMPRODUCT(a_6,acc)","v":1.999999920000004E-8}]
[null,null,null,null,null,null,"y_Wx",{"$f":"INDEX(Last,7-$B$5,2)","v":16},"m",null,null,null,null,null,null,"Dy",{"$f":"-SUMPRODUCT(a_6,acs)/SUMPRODUCT(a_6,ass)","v":1.0204081424406508E-8}]
[null,null,null,null,null,null,"W_y",{"$f":"INDEX(Last,7-$B$5,3)","v":62.622},"kN",null,null,null,null,null,null,"Ax",{"$f":"SUMPRODUCT(a_6,acc)+Q8*SUMPRODUCT(a_6,acs)","v":10.000000399999999}]
[null,null,null,null,null,null,"x_Wy",{"$f":"INDEX(Last,7-$B$5,4)","v":19.999999999999996},"m",null,null,null,null,null,null,"Ay",{"$f":"Q7*SUMPRODUCT(a_6,acs)+SUMPRODUCT(a_6,ass)","v":19.600000399999995}]
[null,null,null,null,null,null,"M_w",{"$f":"-(H8-Q6)*H7+(H10-Q5)*H9","v":-141.52318692143288},"kNm",null,null,null,null,null,null,"I_w",{"$f":"SUMPRODUCT(a_6,xxass)-2*Q5*SUMPRODUCT(a_6,xass)+Q5^2*SUMPRODUCT(a_6,ass)-2*SUMPRODUCT(a_6,yxacs)+2*Q6*SUMPRODUCT(a_6,xacs)+2*Q5*SUMPRODUCT(a_6,yacs)-2*Q5*Q6*SUMPRODUCT(a_6,acs)+SUMPRODUCT(a_6,yyacc)-2*Q6*SUMPRODUCT(a_6,yacc)+Q6^2*SUMPRODUCT(a_6,acc)","v":1960.0002798800087}]
[]
[]
["Væg nr","x1","y1","x2","y2","t","a0","etager","x_i","y_i","L_i","a_i","Q_i","Q_ix","Q_iy","cos(v_i)","sin(v_i)"]
[1,{"$f":"System!C22","v":10},{"$f":"System!D22","v":10},{"$f":"System!E22","v":15},{"$f":"System!F22","v":10},{"$f":"System!G22","v":0.2},{"$f":"System!H22","v":1},{"$f":"System!J22","v":6},{"$f":"0.5*(B15+D15)","v":12.5},{"$f":"0.5*(C15+E15)","v":10},{"$f":"SQRT((D15-B15)^2+(E15-C15)^2)","v":5},{"$f":"IF($B$5>H15,0,K15^2*G15*F15)","v":5},{"$f":"L15*((P15+$Q$8*Q15)*$H$7/$Q$9+($Q$7*P15+Q15)*$H$9/$Q$10+((I15-$Q$5)*Q15-(J15-$Q$6)*P15)*$H$11/$Q$11)","v":11.793600136506566},{"$f":"M15*P15","v":11.793600136506566},{"$f":"M15*Q15","v":0},{"$f":"IF(K15=0,1,(D15-B15)/K15)","v":1},{"$f":"IF(K15=0,0,(E15-C15)/K15)","v":0}]
[2,{"$f":"System!C23","v":25},{"$f":"System!D23","v":10},{"$f":"System!E23","v":30},{"$f":"System!F23","v":10},{"$f":"System!G23","v":0.2},{"$f":"System!H23","v":1},{"$f":"System!J23","v":6},27.5,10,5,{"$f":"IF($B$5>H16,0,K16^2*G16*F16)","v":5},11.793600136506566,11.793600136506566,0,1,{"$f":"IF(K16=0,0,(E16-C16)/K16)","v":0}]
[3,{"$f":"System!C24","v":10},{"$f":"System!D24","v":15},{"$f":"System!E24","v":10},{"$f":"System!F24","v":22},{"$f":"System!G24","v":0.2},{"$f":"System!H24","v":1},{"$f":"System!J24","v":6},10,18.5,7,9.8000000000000007,38.387157571540818,0,38.387157571540818,0,1]
[4,{"$f":"System!C25","v":30},{"$f":"System!D25","v":15},{"$f":"System!E25","v":30},{"$f":"System!F25","v":22},{"$f":"System!G25","v":0.2},{"$f":"System!H25","v":1},{"$f":"System!J25","v":6},30,18.5,7,9.8000000000000007,24.234840900290653,0,24.234840900290653,0,1]
[5,{"$f":"System!C26","v":0},{"$f":"System!D26","v":0},{"$f":"System!E26","v":0},{"$f":"System!F26","v":0},{"$f":"System!G26","v":0},{"$f":"System!H26","v":0},{"$f":"System!J26","v":0},0,0,0,0,0,0,0,1,0]
[6,{"$f":"System!C27","v":0},{"$f":"System!D27","v":0},{"$f":"System!E27","v":0},{"$f":"System!F27","v":0},{"$f":"System!G27","v":0},{"$f":"System!H27","v":0},{"$f":"System!J27","v":0},0,0,0,0,0,0,0,1,0]
[7,{"$f":"System!C28","v":0},{"$f":"System!D28","v":0},{"$f":"System!E28","v":0},{"$f":"System!F28","v":0},{"$f":"System!G28","v":0},{"$f":"System!H28","v":0},{"$f":"System!J28","v":0},0,0,0,0,0,0,0,1,0]
[8,{"$f":"System!C29","v":0},{"$f":"System!D29","v":0},{"$f":"System!E29","v":0},{"$f":"System!F29","v":0},{"$f":"System!G29","v":0},{"$f":"System!H29","v":0},{"$f":"System!J29","v":0},0,0,0,0,0,0,0,1,0]
[9,{"$f":"System!C30","v":0},{"$f":"System!D30","v":0},{"$f":"System!E30","v":0},{"$f":"System!F30","v":0},{"$f":"System!G30","v":0},{"$f":"System!H30","v":0},{"$f":"System!J30","v":0},0,0,0,0,0,0,0,1,0]
[10,{"$f":"System!C31","v":0},{"$f":"System!D31","v":0},{"$f":"System!E31","v":0},{"$f":"System!F31","v":0},{"$f":"System!G31","v":0},{"$f":"System!H31","v":0},{"$f":"System!J31","v":0},0,0,0,0,0,0,0,1,0]
[11,{"$f":"System!C32","v":0},{"$f":"System!D32","v":0},{"$f":"System!E32","v":0},{"$f":"System!F32","v":0},{"$f":"System!G32","v":0},{"$f":"System!H32","v":0},{"$f":"System!J32","v":0},0,0,0,0,0,0,0,1,0]
[12,{"$f":"System!C33","v":0},{"$f":"System!D33","v":0},{"$f":"System!E33","v":0},{"$f":"System!F33","v":0},{"$f":"System!G33","v":0},{"$f":"System!H33","v":0},{"$f":"System!J33","v":0},0,0,0,0,0,0,0,1,0]
[13,{"$f":"System!C34","v":0},{"$f":"System!D34","v":0},{"$f":"System!E34","v":0},{"$f":"System!F34","v":0},{"$f":"System!G34","v":0},{"$f":"System!H34","v":0},{"$f":"System!J34","v":0},0,0,0,0,0,0,0,1,0]
[14,{"$f":"System!C35","v":0},{"$f":"System!D35","v":0},{"$f":"System!E35","v":0},{"$f":"System!F35","v":0},{"$f":"System!G35","v":0},{"$f":"System!H35","v":0},{"$f":"System!J35","v":0},0,0,0,0,{"$f":"L28*((P28+$Q$8*Q28)*$H$7/$Q$9+($Q$7*P28+Q28)*$H$9/$Q$10+((I28-$Q$5)*Q28-(J28-$Q$6)*P28)*$H$11/$Q$11)","v":0},0,0,1,0]
[15,{"$f":"System!C36","v":0},{"$f":"System!D36","v":0},{"$f":"System!E36","v":0},{"$f":"System!F36","v":0},{"$f":"System!G36","v":0},{"$f":"System!H36","v":0},{"$f":"System!J36","v":0},0,0,0,0,0,0,0,1,0]
[16,{"$f":"System!C37","v":0},{"$f":"System!D37","v":0},{"$f":"System!E37","v":0},{"$f":"System!F37","v":0},{"$f":"System!G37","v":0},{"$f":"System!H37","v":0},{"$f":"System!J37","v":0},0,0,0,0,0,0,0,1,0]
[17,{"$f":"System!C38","v":0},{"$f":"System!D38","v":0},{"$f":"System!E38","v":0},{"$f":"System!F38","v":0},{"$f":"System!G38","v":0},{"$f":"System!H38","v":0},{"$f":"System!J38","v":0},0,0,0,0,0,0,0,1,0]
[18,{"$f":"System!C39","v":0},{"$f":"System!D39","v":0},{"$f":"System!E39","v":0},{"$f":"System!F39","v":0},{"$f":"System!G39","v":0},{"$f":"System!H39","v":0},{"$f":"System!J39","v":0},0,0,0,0,0,0,0,1,0]
[19,{"$f":"System!C40","v":0},{"$f":"System!D40","v":0},{"$f":"System!E40","v":0},{"$f":"System!F40","v":0},{"$f":"System!G40","v":0},{"$f":"System!H40","v":0},{"$f":"System!J40","v":0},0,0,0,0,0,0,0,1,0]
[20,{"$f":"System!C41","v":0},{"$f":"System!D41","v":0},{"$f":"System!E41","v":0},{"$f":"System!F41","v":0},{"$f":"System!G41","v":0},{"$f":"System!H41","v":0},{"$f":"System!J41","v":0},0,0,0,0,0,0,0,1,0]
[21,{"$f":"System!C42","v":0},{"$f":"System!D42","v":0},{"$f":"System!E42","v":0},{"$f":"System!F42","v":0},{"$f":"System!G42","v":0},{"$f":"System!H42","v":0},{"$f":"System!J42","v":0},0,0,0,0,0,0,0,1,0]
[22,{"$f":"System!C43","v":0},{"$f":"System!D43","v":0},{"$f":"System!E43","v":0},{"$f":"System!F43","v":0},{"$f":"System!G43","v":0},{"$f":"System!H43","v":0},{"$f":"System!J43","v":0},0,0,0,0,0,0,0,1,0]
[23,{"$f":"System!C44","v":0},{"$f":"System!D44","v":0},{"$f":"System!E44","v":0},{"$f":"System!F44","v":0},{"$f":"System!G44","v":0},{"$f":"System!H44","v":0},{"$f":"System!J44","v":0},0,0,0,0,0,0,0,1,0]
[24,{"$f":"System!C45","v":0},{"$f":"System!D45","v":0},{"$f":"System!E45","v":0},{"$f":"System!F45","v":0},{"$f":"System!G45","v":0},{"$f":"System!H45","v":0},{"$f":"System!J45","v":0},0,0,0,0,0,0,0,1,0]
[25,{"$f":"System!C46","v":0},{"$f":"System!D46","v":0},{"$f":"System!E46","v":0},{"$f":"System!F46","v":0},{"$f":"System!G46","v":0},{"$f":"System!H46","v":0},{"$f":"System!J46","v":0},0,0,0,0,0,0,0,1,0]
[26,{"$f":"System!C47","v":0},{"$f":"System!D47","v":0},{"$f":"System!E47","v":0},{"$f":"System!F47","v":0},{"$f":"System!G47","v":0},{"$f":"System!H47","v":0},{"$f":"System!J47","v":0},0,0,0,0,0,0,0,1,0]
[27,{"$f":"System!C48","v":0},{"$f":"System!D48","v":0},{"$f":"System!E48","v":0},{"$f":"System!F48","v":0},{"$f":"System!G48","v":0},{"$f":"System!H48","v":0},{"$f":"System!J48","v":0},0,0,0,0,0,0,0,1,0]
[28,{"$f":"System!C49","v":0},{"$f":"System!D49","v":0},{"$f":"System!E49","v":0},{"$f":"System!F49","v":0.01},{"$f":"System!G49","v":0.2},{"$f":"System!H49","v":0.01},{"$f":"System!J49","v":6},0,5.0000000000000001E-3,0.01,2.0000000000000004E-7,9.2782277361563091E-7,0,9.2782277361563091E-7,0,1]
[29,{"$f":"System!C50","v":0},{"$f":"System!D50","v":0},{"$f":"System!E50","v":0.01},{"$f":"System!F50","v":0},{"$f":"System!G50","v":0.2},{"$f":"System!H50","v":0.01},{"$f":"System!J50","v":6},5.0000000000000001E-3,0,0.01,2.0000000000000004E-7,3.2733261085566913E-7,3.2733261085566913E-7,0,1,0]
[30,{"$f":"System!C51","v":0.01},{"$f":"System!D51","v":0},{"$f":"System!E51","v":0},{"$f":"System!F51","v":0.01},{"$f":"System!G51","v":0.2},{"$f":"System!H51","v":0.01},{"$f":"System!J51","v":6},5.0000000000000001E-3,5.0000000000000001E-3,1.4142135623730951E-2,4.0000000000000009E-7,8.4901710369395434E-7,-6.0034575136535733E-7,6.0034575136535733E-7,-0.70710678118654757,0.70710678118654757]
[]
[null,null,null,null,null,null,null,null,null,null,null,null,null,{"$f":"SUM(N15:N45)","v":23.587199999999992},{"$f":"SUM(O15:O45)","v":62.622}]

{"sheet":"Skala","index":12,"n_rows":48,"n_cols":115,"rows_kept":48,"cut":false,"hidden":false,"merged":[]}
[]
["TOTALER",null,null,null,null,null,"SKALERING",null,null,null,null,null,null,null,null,null,null,null,null,null,null,null,null,null,null,null,null,null,null,null,null,null,null,null,null,null,null,null,null,null,null,null,null,null,null,null,null,null,null,null,null,null,null,null,null,null,null,null,null,null,null,null,null,null,null,null,null,null,null,null,null,null,null,null,null,null,null,null,null,{"$f":"'E6'!Q5","v":19.999999489897977},{"$f":"'E6'!Q6","v":9.9999992002000422}]
["Etage","W_x","y_Wx","W_y","x_Wy",null,null,null,"s_xy",1.5,null,null,null,null,null,null,null,null,null,null,null,null,null,null,null,null,null,null,null,null,null,null,null,null,null,null,null,null,null,null,null,null,null,null,null,null,null,null,null,null,null,null,null,null,null,null,null,null,null,null,null,null,null,null,null,null,null,null,null,null,null,null,null,null,null,null,null,null,null,{"$f":"'E5'!Q5","v":19.999999489897977},{"$f":"'E5'!Q6","v":9.9999992002000422}]
[6,{"$f":"System!E9","v":23.587199999999996},{"$f":"System!D9","v":16},{"$f":"System!G9","v":62.622},{"$f":"System!F9","v":19.999999999999996},null,"min_x",{"$f":"MIN(System!C22:C48,System!E22:E48)","v":0},"L_x",{"$f":"H5-H4","v":30},null,null,null,null,null,null,null,null,null,null,null,null,null,null,null,null,null,null,null,null,null,null,null,null,null,null,null,null,null,null,null,null,null,null,null,null,null,null,null,null,null,null,null,null,null,null,null,null,null,null,null,null,null,null,null,null,null,null,null,null,null,null,null,null,null,null,null,null,null,{"$f":"'E4'!Q5","v":19.999999489897977},{"$f":"'E4'!Q6","v":9.9999992002000422}]
[5,{"$f":"B4+System!E10","v":55.691999999999986},{"$f":"IF(B5=0,System!D10,(B4*C4+System!E10*System!D10)/B5)","v":16},{"$f":"D4+System!G10","v":144.89999999999998},{"$f":"IF(D5=0,System!F10,(D4*E4+System!G10*System!F10)/D5)","v":20.000000000000004},null,"max_x",{"$f":"MAX(System!C22:C48,System!E22:E48,minx+10)","v":30},"L_y",{"$f":"H7-H6","v":22},null,null,null,null,null,null,null,null,null,null,null,null,null,null,null,null,null,null,null,null,null,null,null,null,null,null,null,null,null,null,null,null,null,null,null,null,null,null,null,null,null,null,null,null,null,null,null,null,null,null,null,null,null,null,null,null,null,null,null,null,null,null,null,null,null,null,null,null,null,{"$f":"'E3'!Q5","v":19.999999489897977},{"$f":"'E3'!Q6","v":9.9999992002000422}]
[4,{"$f":"B5+System!E11","v":88.45199999999997},{"$f":"IF(B6=0,System!D11,(B5*C5+System!E11*System!D11)/B6)","v":16},{"$f":"D5+System!G11","v":228.68999999999997},{"$f":"IF(D6=0,System!F11,(D5*E5+System!G11*System!F11)/D6)","v":20},null,"min_y",{"$f":"MIN(System!D22:D48,System!F22:F48)","v":0},"L_xx",{"$f":"IF(J4/J5<=J3,J5*J3,J4)+10","v":43},null,null,null,null,null,null,null,null,null,null,null,null,null,null,null,null,null,null,null,null,null,null,null,null,null,null,null,null,null,null,null,null,null,null,null,null,null,null,null,null,null,null,null,null,null,null,null,null,null,null,null,null,null,null,null,null,null,null,null,null,null,null,null,null,null,null,null,null,null,{"$f":"'E2'!Q5","v":19.999999489897977},{"$f":"'E2'!Q6","v":9.9999992002000422},null,null,null,null,{"$f":"COLUMN()-19","v":67},null,null,null,null,null,null,null,null,{"$f":"ge","v":6}]
[3,{"$f":"B6+System!E12","v":121.21199999999996},{"$f":"IF(B7=0,System!D12,(B6*C6+System!E12*System!D12)/B7)","v":16},{"$f":"D6+System!G12","v":312.47999999999996},{"$f":"IF(D7=0,System!F12,(D6*E6+System!G12*System!F12)/D7)","v":19.999999999999996},null,"max_y",{"$f":"MAX(System!D22:D48,System!F22:F48,miny+10)","v":22},"L_yy",{"$f":"IF(J4/J5<=J3,J5,J4/J3)+10/J3","v":28.666666666666668},null,null,null,null,null,null,null,null,null,null,null,null,null,null,null,null,null,null,null,null,null,null,null,null,null,null,null,null,null,null,null,null,null,null,null,null,null,null,null,null,null,null,null,null,null,null,null,null,null,null,null,null,null,null,null,null,null,null,null,null,null,null,null,null,null,null,null,null,null,{"$f":"'E1'!Q5","v":19.999999489897977},{"$f":"'E1'!Q6","v":9.9999992002000422}]
[2,{"$f":"B7+System!E13","v":162.16199999999995},{"$f":"IF(B8=0,System!D13,(B7*C7+System!E13*System!D13)/B8)","v":16},{"$f":"D7+System!G13","v":415.16999999999996},{"$f":"IF(D8=0,System!F13,(D7*E7+System!G13*System!F13)/D8)","v":19.999999999999996},null,null,null,null,null,null,null,null,null,null,null,null,null,null,null,null,null,null,null,null,null,null,null,null,null,null,null,null,null,null,null,null,null,null,null,null,null,null,null,null,null,null,null,null,null,null,null,null,null,null,null,null,null,null,null,null,null,null,null,null,null,null,null,null,null,null,null,null,null,null,null,null,null,null,null,null,null,null,null,{"$f":"INDEX(wind,ge,4)","v":102.69}]
[1,{"$f":"B8+System!E14","v":203.11199999999994},{"$f":"IF(B9=0,System!D14,(B8*C8+System!E14*System!D14)/B9)","v":16},{"$f":"D8+System!G14","v":517.8599999999999},{"$f":"IF(D9=0,System!F14,(D8*E8+System!G14*System!F14)/D9)","v":20}]
[]
[]
[]
["VÆGPLAN",1,null,1,2,null,2,3,null,3,4,null,4,5,null,5,6,null,6,7,null,7,8,null,8,9,null,9,10,null,10,11,null,11,12,null,12,13,null,13,14,null,14,15,null,15,16,null,16,17,null,17,18,null,18,19,null,19,20,null,20,21,null,21,22,null,22,23,null,23,24,null,24,25,null,25,26,null,26,27,null,27,null,null,null,null,null,null,null,null,null,null,null,1,2,3,4,5,6,7,8,9,10,11,12,13,14,15,16,17,18,19,20,21]
["Væg nr",{"$f":"INDEX(basis,5+ge+12*(B13-1),3)","v":10},{"$f":"0.5*(B14+D14)","v":12.5},{"$f":"INDEX(basis,5+ge+12*(D13-1),5)","v":15},{"$f":"INDEX(basis,5+ge+12*(E13-1),3)","v":25},{"$f":"0.5*(E14+G14)","v":27.5},{"$f":"INDEX(basis,5+ge+12*(G13-1),5)","v":30},{"$f":"INDEX(basis,5+ge+12*(H13-1),3)","v":10},{"$f":"0.5*(H14+J14)","v":10},{"$f":"INDEX(basis,5+ge+12*(J13-1),5)","v":10},{"$f":"INDEX(basis,5+ge+12*(K13-1),3)","v":30},{"$f":"0.5*(K14+M14)","v":30},{"$f":"INDEX(basis,5+ge+12*(M13-1),5)","v":30},{"$f":"INDEX(basis,5+ge+12*(N13-1),3)","v":0},{"$f":"0.5*(N14+P14)","v":0},{"$f":"INDEX(basis,5+ge+12*(P13-1),5)","v":0},{"$f":"INDEX(basis,5+ge+12*(Q13-1),3)","v":0},{"$f":"0.5*(Q14+S14)","v":0},{"$f":"INDEX(basis,5+ge+12*(S13-1),5)","v":0},{"$f":"INDEX(basis,5+ge+12*(T13-1),3)","v":0},{"$f":"0.5*(T14+V14)","v":0},{"$f":"INDEX(basis,5+ge+12*(V13-1),5)","v":0},{"$f":"INDEX(basis,5+ge+12*(W13-1),3)","v":0},{"$f":"0.5*(W14+Y14)","v":0},{"$f":"INDEX(basis,5+ge+12*(Y13-1),5)","v":0},{"$f":"INDEX(basis,5+ge+12*(Z13-1),3)","v":0},{"$f":"0.5*(Z14+AB14)","v":0},{"$f":"INDEX(basis,5+ge+12*(AB13-1),5)","v":0},{"$f":"INDEX(basis,5+ge+12*(AC13-1),3)","v":0},{"$f":"0.5*(AC14+AE14)","v":0},{"$f":"INDEX(basis,5+ge+12*(AE13-1),5)","v":0},{"$f":"INDEX(basis,5+ge+12*(AF13-1),3)","v":0},{"$f":"0.5*(AF14+AH14)","v":0},{"$f":"INDEX(basis,5+ge+12*(AH13-1),5)","v":0},{"$f":"INDEX(basis,5+ge+12*(AI13-1),3)","v":0},{"$f":"0.5*(AI14+AK14)","v":0},{"$f":"INDEX(basis,5+ge+12*(AK13-1),5)","v":0},{"$f":"INDEX(basis,5+ge+12*(AL13-1),3)","v":0},{"$f":"0.5*(AL14+AN14)","v":0},{"$f":"INDEX(basis,5+ge+12*(AN13-1),5)","v":0},{"$f":"INDEX(basis,5+ge+12*(AO13-1),3)","v":0},{"$f":"0.5*(AO14+AQ14)","v":0},{"$f":"INDEX(basis,5+ge+12*(AQ13-1),5)","v":0},{"$f":"INDEX(basis,5+ge+12*(AR13-1),3)","v":0},{"$f":"0.5*(AR14+AT14)","v":0},{"$f":"INDEX(basis,5+ge+12*(AT13-1),5)","v":0},{"$f":"INDEX(basis,5+ge+12*(AU13-1),3)","v":0},{"$f":"0.5*(AU14+AW14)","v":0},{"$f":"INDEX(basis,5+ge+12*(AW13-1),5)","v":0},{"$f":"INDEX(basis,5+ge+12*(AX13-1),3)","v":0},{"$f":"0.5*(AX14+AZ14)","v":0},{"$f":"INDEX(basis,5+ge+12*(AZ13-1),5)","v":0},{"$f":"INDEX(basis,5+ge+12*(BA13-1),3)","v":0},{"$f":"0.5*(BA14+BC14)","v":0},{"$f":"INDEX(basis,5+ge+12*(BC13-1),5)","v":0},{"$f":"INDEX(basis,5+ge+12*(BD13-1),3)","v":0},{"$f":"0.5*(BD14+BF14)","v":0},{"$f":"INDEX(basis,5+ge+12*(BF13-1),5)","v":0},{"$f":"INDEX(basis,5+ge+12*(BG13-1),3)","v":0},{"$f":"0.5*(BG14+BI14)","v":0},{"$f":"INDEX(basis,5+ge+12*(BI13-1),5)","v":0},{"$f":"INDEX(basis,5+ge+12*(BJ13-1),3)","v":0},{"$f":"0.5*(BJ14+BL14)","v":0},{"$f":"INDEX(basis,5+ge+12*(BL13-1),5)","v":0},{"$f":"INDEX(basis,5+ge+12*(BM13-1),3)","v":0},{"$f":"0.5*(BM14+BO14)","v":0},{"$f":"INDEX(basis,5+ge+12*(BO13-1),5)","v":0},{"$f":"INDEX(basis,5+ge+12*(BP13-1),3)","v":0},{"$f":"0.5*(BP14+BR14)","v":0},{"$f":"INDEX(basis,5+ge+12*(BR13-1),5)","v":0},{"$f":"INDEX(basis,5+ge+12*(BS13-1),3)","v":0},{"$f":"0.5*(BS14+BU14)","v":0},{"$f":"INDEX(basis,5+ge+12*(BU13-1),5)","v":0},{"$f":"INDEX(basis,5+ge+12*(BV13-1),3)","v":0},{"$f":"0.5*(BV14+BX14)","v":0},{"$f":"INDEX(basis,5+ge+12*(BX13-1),5)","v":0},{"$f":"INDEX(basis,5+ge+12*(BY13-1),3)","v":0},{"$f":"0.5*(BY14+CA14)","v":0},{"$f":"INDEX(basis,5+ge+12*(CA13-1),5)","v":0},{"$f":"INDEX(basis,5+ge+12*(CB13-1),3)","v":0},{"$f":"0.5*(CB14+CD14)","v":0},{"$f":"INDEX(basis,5+ge+12*(CD13-1),5)","v":0},{"$f":"INDEX(basis,5+ge+12*(gv-1),3)","v":25},{"$f":"INDEX(basis,5+ge+12*(gv-1),5)","v":30},{"$f":"INDEX(wind,ge,3)","v":20.000000000000004},{"$f":"CG14+IF(SQRT(INDEX(wind,ge,2)^2+INDEX(wind,ge,4)^2)=0,0,(0.1*CG14+5)*INDEX(wind,ge,2)/SQRT(INDEX(wind,ge,2)^2+INDEX(wind,ge,4)^2))","v":22.592855677635214},{"$f":"IF(INDEX(vægge,30,7)=0,0,INDEX(vægge,30,2))","v":0.01},{"$f":"IF(INDEX(vægge,30,7)=0,0,INDEX(vægge,30,4))","v":0},{"$f":"INDEX(tp,ge,1)","v":19.999999489897977},{"$f":"H4-0.5*($J$6-$J$4)","v":-6.5},{"$f":"H5+0.5*($J$6-$J$4)","v":36.5},{"$f":"CM14","v":36.5},{"$f":"CL14","v":-6.5},{"$f":"INDEX(kont,CP13+21*(ge-1),1)","v":9.5},{"$f":"INDEX(kont,CQ13+21*(ge-1),1)","v":30.5},30.5,9.5,9.5,9.5,9.5,9.5,9.5,9.5,9.5,9.5,9.5,9.5,9.5,9.5,9.5,9.5,9.5,9.5,9.5,0]
[1,{"$f":"INDEX(basis,5+ge+12*(ROW()-15),4)","v":10},{"$f":"0.5*(B15+D15)","v":10},{"$f":"INDEX(basis,5+ge+12*(ROW()-15),6)","v":10}]
[2,null,null,null,{"$f":"INDEX(basis,5+ge+12*(ROW()-15),4)","v":10},{"$f":"0.5*(E16+G16)","v":10},{"$f":"INDEX(basis,5+ge+12*(ROW()-15),6)","v":10}]
[3,null,null,null,null,null,null,{"$f":"INDEX(basis,5+ge+12*(ROW()-15),4)","v":15},{"$f":"0.5*(H17+J17)","v":18.5},{"$f":"INDEX(basis,5+ge+12*(ROW()-15),6)","v":22}]
[4,null,null,null,null,null,null,null,null,null,{"$f":"INDEX(basis,5+ge+12*(ROW()-15),4)","v":15},{"$f":"0.5*(K18+M18)","v":18.5},{"$f":"INDEX(basis,5+ge+12*(ROW()-15),6)","v":22}]
[5,null,null,null,null,null,null,null,null,null,null,null,null,{"$f":"INDEX(basis,5+ge+12*(ROW()-15),4)","v":0},{"$f":"0.5*(N19+P19)","v":0},{"$f":"INDEX(basis,5+ge+12*(ROW()-15),6)","v":0}]
[6,null,null,null,null,null,null,null,null,null,null,null,null,null,null,null,{"$f":"INDEX(basis,5+ge+12*(ROW()-15),4)","v":0},{"$f":"0.5*(Q20+S20)","v":0},{"$f":"INDEX(basis,5+ge+12*(ROW()-15),6)","v":0}]
[7,null,null,null,null,null,null,null,null,null,null,null,null,null,null,null,null,null,null,{"$f":"INDEX(basis,5+ge+12*(ROW()-15),4)","v":0},{"$f":"0.5*(T21+V21)","v":0},{"$f":"INDEX(basis,5+ge+12*(ROW()-15),6)","v":0}]
[8,null,null,null,null,null,null,null,null,null,null,null,null,null,null,null,null,null,null,null,null,null,{"$f":"INDEX(basis,5+ge+12*(ROW()-15),4)","v":0},{"$f":"0.5*(W22+Y22)","v":0},{"$f":"INDEX(basis,5+ge+12*(ROW()-15),6)","v":0}]
[9,null,null,null,null,null,null,null,null,null,null,null,null,null,null,null,null,null,null,null,null,null,null,null,null,{"$f":"INDEX(basis,5+ge+12*(ROW()-15),4)","v":0},{"$f":"0.5*(Z23+AB23)","v":0},{"$f":"INDEX(basis,5+ge+12*(ROW()-15),6)","v":0}]
[10,null,null,null,null,null,null,null,null,null,null,null,null,null,null,null,null,null,null,null,null,null,null,null,null,null,null,null,{"$f":"INDEX(basis,5+ge+12*(ROW()-15),4)","v":0},{"$f":"0.5*(AC24+AE24)","v":0},{"$f":"INDEX(basis,5+ge+12*(ROW()-15),6)","v":0}]
[11,null,null,null,null,null,null,null,null,null,null,null,null,null,null,null,null,null,null,null,null,null,null,null,null,null,null,null,null,null,null,{"$f":"INDEX(basis,5+ge+12*(ROW()-15),4)","v":0},{"$f":"0.5*(AF25+AH25)","v":0},{"$f":"INDEX(basis,5+ge+12*(ROW()-15),6)","v":0}]
[12,null,null,null,null,null,null,null,null,null,null,null,null,null,null,null,null,null,null,null,null,null,null,null,null,null,null,null,null,null,null,null,null,null,{"$f":"INDEX(basis,5+ge+12*(ROW()-15),4)","v":0},{"$f":"0.5*(AI26+AK26)","v":0},{"$f":"INDEX(basis,5+ge+12*(ROW()-15),6)","v":0}]
[13,null,null,null,null,null,null,null,null,null,null,null,null,null,null,null,null,null,null,null,null,null,null,null,null,null,null,null,null,null,null,null,null,null,null,null,null,{"$f":"INDEX(basis,5+ge+12*(ROW()-15),4)","v":0},{"$f":"0.5*(AL27+AN27)","v":0},{"$f":"INDEX(basis,5+ge+12*(ROW()-15),6)","v":0}]
[14,null,null,null,null,null,null,null,null,null,null,null,null,null,null,null,null,null,null,null,null,null,null,null,null,null,null,null,null,null,null,null,null,null,null,null,null,null,null,null,{"$f":"INDEX(basis,5+ge+12*(ROW()-15),4)","v":0},{"$f":"0.5*(AO28+AQ28)","v":0},{"$f":"INDEX(basis,5+ge+12*(ROW()-15),6)","v":0}]
[15,null,null,null,null,null,null,null,null,null,null,null,null,null,null,null,null,null,null,null,null,null,null,null,null,null,null,null,null,null,null,null,null,null,null,null,null,null,null,null,null,null,null,{"$f":"INDEX(basis,5+ge+12*(ROW()-15),4)","v":0},{"$f":"0.5*(AR29+AT29)","v":0},{"$f":"INDEX(basis,5+ge+12*(ROW()-15),6)","v":0}]
[16,null,null,null,null,null,null,null,null,null,null,null,null,null,null,null,null,null,null,null,null,null,null,null,null,null,null,null,null,null,null,null,null,null,null,null,null,null,null,null,null,null,null,null,null,null,{"$f":"INDEX(basis,5+ge+12*(ROW()-15),4)","v":0},{"$f":"0.5*(AU30+AW30)","v":0},{"$f":"INDEX(basis,5+ge+12*(ROW()-15),6)","v":0}]
[17,null,null,null,null,null,null,null,null,null,null,null,null,null,null,null,null,null,null,null,null,null,null,null,null,null,null,null,null,null,null,null,null,null,null,null,null,null,null,null,null,null,null,null,null,null,null,null,null,{"$f":"INDEX(basis,5+ge+12*(ROW()-15),4)","v":0},{"$f":"0.5*(AX31+AZ31)","v":0},{"$f":"INDEX(basis,5+ge+12*(ROW()-15),6)","v":0}]
[18,null,null,null,null,null,null,null,null,null,null,null,null,null,null,null,null,null,null,null,null,null,null,null,null,null,null,null,null,null,null,null,null,null,null,null,null,null,null,null,null,null,null,null,null,null,null,null,null,null,null,null,{"$f":"INDEX(basis,5+ge+12*(ROW()-15),4)","v":0},{"$f":"0.5*(BA32+BC32)","v":0},{"$f":"INDEX(basis,5+ge+12*(ROW()-15),6)","v":0}]
[19,null,null,null,null,null,null,null,null,null,null,null,null,null,null,null,null,null,null,null,null,null,null,null,null,null,null,null,null,null,null,null,null,null,null,null,null,null,null,null,null,null,null,null,null,null,null,null,null,null,null,null,null,null,null,{"$f":"INDEX(basis,5+ge+12*(ROW()-15),4)","v":0},{"$f":"0.5*(BD33+BF33)","v":0},{"$f":"INDEX(basis,5+ge+12*(ROW()-15),6)","v":0}]
[20,null,null,null,null,null,null,null,null,null,null,null,null,null,null,null,null,null,null,null,null,null,null,null,null,null,null,null,null,null,null,null,null,null,null,null,null,null,null,null,null,null,null,null,null,null,null,null,null,null,null,null,null,null,null,null,null,null,{"$f":"INDEX(basis,5+ge+12*(ROW()-15),4)","v":0},{"$f":"0.5*(BG34+BI34)","v":0},{"$f":"INDEX(basis,5+ge+12*(ROW()-15),6)","v":0}]
[21,null,null,null,null,null,null,null,null,null,null,null,null,null,null,null,null,null,null,null,null,null,null,null,null,null,null,null,null,null,null,null,null,null,null,null,null,null,null,null,null,null,null,null,null,null,null,null,null,null,null,null,null,null,null,null,null,null,null,null,null,{"$f":"INDEX(basis,5+ge+12*(ROW()-15),4)","v":0},{"$f":"0.5*(BJ35+BL35)","v":0},{"$f":"INDEX(basis,5+ge+12*(ROW()-15),6)","v":0}]
[22,null,null,null,null,null,null,null,null,null,null,null,null,null,null,null,null,null,null,null,null,null,null,null,null,null,null,null,null,null,null,null,null,null,null,null,null,null,null,null,null,null,null,null,null,null,null,null,null,null,null,null,null,null,null,null,null,null,null,null,null,null,null,null,{"$f":"INDEX(basis,5+ge+12*(ROW()-15),4)","v":0},{"$f":"0.5*(BM36+BO36)","v":0},{"$f":"INDEX(basis,5+ge+12*(ROW()-15),6)","v":0}]
[23,null,null,null,null,null,null,null,null,null,null,null,null,null,null,null,null,null,null,null,null,null,null,null,null,null,null,null,null,null,null,null,null,null,null,null,null,null,null,null,null,null,null,null,null,null,null,null,null,null,null,null,null,null,null,null,null,null,null,null,null,null,null,null,null,null,null,{"$f":"INDEX(basis,5+ge+12*(ROW()-15),4)","v":0},{"$f":"0.5*(BP37+BR37)","v":0},{"$f":"INDEX(basis,5+ge+12*(ROW()-15),6)","v":0}]
[24,null,null,null,null,null,null,null,null,null,null,null,null,null,null,null,null,null,null,null,null,null,null,null,null,null,null,null,null,null,null,null,null,null,null,null,null,null,null,null,null,null,null,null,null,null,null,null,null,null,null,null,null,null,null,null,null,null,null,null,null,null,null,null,null,null,null,null,null,null,{"$f":"INDEX(basis,5+ge+12*(ROW()-15),4)","v":0},{"$f":"0.5*(BS38+BU38)","v":0},{"$f":"INDEX(basis,5+ge+12*(ROW()-15),6)","v":0}]
[25,null,null,null,null,null,null,null,null,null,null,null,null,null,null,null,null,null,null,null,null,null,null,null,null,null,null,null,null,null,null,null,null,null,null,null,null,null,null,null,null,null,null,null,null,null,null,null,null,null,null,null,null,null,null,null,null,null,null,null,null,null,null,null,null,null,null,null,null,null,null,null,null,{"$f":"INDEX(basis,5+ge+12*(ROW()-15),4)","v":0},{"$f":"0.5*(BV39+BX39)","v":0},{"$f":"INDEX(basis,5+ge+12*(ROW()-15),6)","v":0}]
[26,null,null,null,null,null,null,null,null,null,null,null,null,null,null,null,null,null,null,null,null,null,null,null,null,null,null,null,null,null,null,null,null,null,null,null,null,null,null,null,null,null,null,null,null,null,null,null,null,null,null,null,null,null,null,null,null,null,null,null,null,null,null,null,null,null,null,null,null,null,null,null,null,null,null,null,{"$f":"INDEX(basis,5+ge+12*(ROW()-15),4)","v":0},{"$f":"0.5*(BY40+CA40)","v":0},{"$f":"INDEX(basis,5+ge+12*(ROW()-15),6)","v":0}]
[27,null,null,null,null,null,null,null,null,null,null,null,null,null,null,null,null,null,null,null,null,null,null,null,null,null,null,null,null,null,null,null,null,null,null,null,null,null,null,null,null,null,null,null,null,null,null,null,null,null,null,null,null,null,null,null,null,null,null,null,null,null,null,null,null,null,null,null,null,null,null,null,null,null,null,null,null,null,null,{"$f":"INDEX(basis,5+ge+12*(ROW()-15),4)","v":0},{"$f":"0.5*(CB41+CD41)","v":0},{"$f":"INDEX(basis,5+ge+12*(ROW()-15),6)","v":0}]
[28,null,null,null,null,null,null,null,null,null,null,null,null,null,null,null,null,null,null,null,null,null,null,null,null,null,null,null,null,null,null,null,null,null,null,null,null,null,null,null,null,null,null,null,null,null,null,null,null,null,null,null,null,null,null,null,null,null,null,null,null,null,null,null,null,null,null,null,null,null,null,null,null,null,null,null,null,null,null,null,null,null,{"$f":"INDEX(basis,5+ge+12*(gv-1),4)","v":10},{"$f":"INDEX(basis,5+ge+12*(gv-1),6)","v":10}]
[29,null,null,null,null,null,null,null,null,null,null,null,null,null,null,null,null,null,null,null,null,null,null,null,null,null,null,null,null,null,null,null,null,null,null,null,null,null,null,null,null,null,null,null,null,null,null,null,null,null,null,null,null,null,null,null,null,null,null,null,null,null,null,null,null,null,null,null,null,null,null,null,null,null,null,null,null,null,null,null,null,null,null,null,{"$f":"INDEX(wind,ge,1)","v":16},{"$f":"CG43+IF(SQRT(INDEX(wind,ge,2)^2+INDEX(wind,ge,4)^2)=0,0,(0.1*CG43+5)*INDEX(wind,ge,4)/SQRT(INDEX(wind,ge,2)^2+INDEX(wind,ge,4)^2))","v":22.130536567032873}]
[30,null,null,null,null,null,null,null,null,null,null,null,null,null,null,null,null,null,null,null,null,null,null,null,null,null,null,null,null,null,null,null,null,null,null,null,null,null,null,null,null,null,null,null,null,null,null,null,null,null,null,null,null,null,null,null,null,null,null,null,null,null,null,null,null,null,null,null,null,null,null,null,null,null,null,null,null,null,null,null,null,null,null,null,null,null,{"$f":"IF('E1'!$G44=0,0,'E1'!$C44)","v":0},{"$f":"IF('E1'!$G44=0,0,'E1'!$E44)","v":0.01}]
[null,null,null,null,null,null,null,null,null,null,null,null,null,null,null,null,null,null,null,null,null,null,null,null,null,null,null,null,null,null,null,null,null,null,null,null,null,null,null,null,null,null,null,null,null,null,null,null,null,null,null,null,null,null,null,null,null,null,null,null,null,null,null,null,null,null,null,null,null,null,null,null,null,null,null,null,null,null,null,null,null,null,null,null,null,null,null,null,{"$f":"INDEX(tp,ge,2)","v":9.9999992002000422}]
[null,null,null,null,null,null,null,null,null,null,null,null,null,null,null,null,null,null,null,null,null,null,null,null,null,null,null,null,null,null,null,null,null,null,null,null,null,null,null,null,null,null,null,null,null,null,null,null,null,null,null,null,null,null,null,null,null,null,null,null,null,null,null,null,null,null,null,null,null,null,null,null,null,null,null,null,null,null,null,null,null,null,null,null,null,null,null,null,null,{"$f":"H6-0.5*($J$7-$J$5)","v":-3.3333333333333339},{"$f":"CL46","v":-3.3333333333333339},{"$f":"H7+0.5*($J$7-$J$5)","v":25.333333333333336},{"$f":"CN46","v":25.333333333333336}]
[null,null,null,null,null,null,null,null,null,null,null,null,null,null,null,null,null,null,null,null,null,null,null,null,null,null,null,null,null,null,null,null,null,null,null,null,null,null,null,null,null,null,null,null,null,null,null,null,null,null,null,null,null,null,null,null,null,null,null,null,null,null,null,null,null,null,null,null,null,null,null,null,null,null,null,null,null,null,null,null,null,null,null,null,null,null,null,null,null,null,null,null,null,{"$f":"INDEX(kont,CP13+21*(ge-1),2)","v":9.5},{"$f":"INDEX(kont,CQ13+21*(ge-1),2)","v":9.5},22.5,22.5,22.5,22.5,22.5,22.5,22.5,22.5,22.5,22.5,22.5,22.5,22.5,22.5,22.5,22.5,22.5,22.5,9.5]
[null,null,null,null,null,null,null,null,null,null,null,null,null,null,null,null,null,null,null,null,null,null,null,null,null,null,null,null,null,null,null,null,null,null,null,null,null,null,null,null,null,null,null,null,null,null,null,null,null,null,null,null,null,null,null,null,null,null,null,null,null,null,null,null,null,null,null,null,null,null,null,null,null,null,null,null,null,null,null,null,null,null,null,null,null,null,null,null,null,null,null,null,null,null,null,null,null,null,null,null,null,null,null,null,null,null,null,null,null,null,null,null,null,null,0]

{"sheet":"Trig","index":13,"n_rows":44,"n_cols":20,"rows_kept":44,"cut":false,"hidden":false,"merged":[]}
[]
[]
[]
[]
[]
[]
[]
[]
[]
[]
[]
[]
[]
["Væg nr","x1","y1","x2","y2","x_i","y_i","L_i","cos(v_i)","sin(v_i)","acc","acs","ass","yacc","xacs","yacs","xass","yyacc","yxacs","xxass"]
[1,{"$f":"System!C22","v":10},{"$f":"System!D22","v":10},{"$f":"System!E22","v":15},{"$f":"System!F22","v":10},{"$f":"0.5*(B15+D15)","v":12.5},{"$f":"0.5*(C15+E15)","v":10},{"$f":"SQRT((D15-B15)^2+(E15-C15)^2)","v":5},{"$f":"IF(H15=0,1,(D15-B15)/H15)","v":1},{"$f":"IF(H15=0,0,(E15-C15)/H15)","v":0},{"$f":"I15^2","v":1},{"$f":"I15*J15","v":0},{"$f":"J15^2","v":0},{"$f":"K15*G15","v":10},{"$f":"F15*L15","v":0},{"$f":"G15*L15","v":0},{"$f":"F15*M15","v":0},{"$f":"N15*G15","v":100},{"$f":"O15*G15","v":0},{"$f":"Q15*F15","v":0}]
[2,{"$f":"System!C23","v":25},{"$f":"System!D23","v":10},{"$f":"System!E23","v":30},{"$f":"System!F23","v":10},27.5,10,5,1,0,{"$f":"I16^2","v":1},{"$f":"I16*J16","v":0},{"$f":"J16^2","v":0},10,0,0,0,100,0,0]
[3,{"$f":"System!C24","v":10},{"$f":"System!D24","v":15},{"$f":"System!E24","v":10},{"$f":"System!F24","v":22},10,18.5,7,0,1,{"$f":"I17^2","v":0},{"$f":"I17*J17","v":0},1,0,0,0,10,0,0,100]
[4,{"$f":"System!C25","v":30},{"$f":"System!D25","v":15},{"$f":"System!E25","v":30},{"$f":"System!F25","v":22},30,18.5,7,0,1,0,0,1,0,0,0,30,0,0,900]
[5,{"$f":"System!C26","v":0},{"$f":"System!D26","v":0},{"$f":"System!E26","v":0},{"$f":"System!F26","v":0},0,0,0,1,0,1,0,0,0,0,0,0,0,0,0]
[6,{"$f":"System!C27","v":0},{"$f":"System!D27","v":0},{"$f":"System!E27","v":0},{"$f":"System!F27","v":0},0,0,0,1,0,1,0,0,0,0,0,0,0,0,0]
[7,{"$f":"System!C28","v":0},{"$f":"System!D28","v":0},{"$f":"System!E28","v":0},{"$f":"System!F28","v":0},0,0,0,1,0,1,0,0,0,0,0,0,0,0,0]
[8,{"$f":"System!C29","v":0},{"$f":"System!D29","v":0},{"$f":"System!E29","v":0},{"$f":"System!F29","v":0},0,0,0,1,0,1,0,0,0,0,0,0,0,0,0]
[9,{"$f":"System!C30","v":0},{"$f":"System!D30","v":0},{"$f":"System!E30","v":0},{"$f":"System!F30","v":0},0,0,0,1,0,1,0,0,0,0,0,0,0,0,0]
[10,{"$f":"System!C31","v":0},{"$f":"System!D31","v":0},{"$f":"System!E31","v":0},{"$f":"System!F31","v":0},0,0,0,1,0,1,0,0,0,0,0,0,0,0,0]
[11,{"$f":"System!C32","v":0},{"$f":"System!D32","v":0},{"$f":"System!E32","v":0},{"$f":"System!F32","v":0},0,0,0,1,0,1,0,0,0,0,0,0,0,0,0]
[12,{"$f":"System!C33","v":0},{"$f":"System!D33","v":0},{"$f":"System!E33","v":0},{"$f":"System!F33","v":0},0,0,0,1,0,1,0,0,0,0,0,0,0,0,0]
[13,{"$f":"System!C34","v":0},{"$f":"System!D34","v":0},{"$f":"System!E34","v":0},{"$f":"System!F34","v":0},0,0,0,1,0,1,0,0,0,0,0,0,0,0,0]
[14,{"$f":"System!C35","v":0},{"$f":"System!D35","v":0},{"$f":"System!E35","v":0},{"$f":"System!F35","v":0},0,0,0,1,0,1,0,0,0,0,0,0,0,0,0]
[15,{"$f":"System!C36","v":0},{"$f":"System!D36","v":0},{"$f":"System!E36","v":0},{"$f":"System!F36","v":0},0,0,0,1,0,1,0,0,0,0,0,0,0,0,0]
[16,{"$f":"System!C37","v":0},{"$f":"System!D37","v":0},{"$f":"System!E37","v":0},{"$f":"System!F37","v":0},0,0,0,1,0,1,0,0,0,0,0,0,0,0,0]
[17,{"$f":"System!C38","v":0},{"$f":"System!D38","v":0},{"$f":"System!E38","v":0},{"$f":"System!F38","v":0},0,0,0,1,0,1,0,0,0,0,0,0,0,0,0]
[18,{"$f":"System!C39","v":0},{"$f":"System!D39","v":0},{"$f":"System!E39","v":0},{"$f":"System!F39","v":0},0,0,0,1,0,1,0,0,0,0,0,0,0,0,0]
[19,{"$f":"System!C40","v":0},{"$f":"System!D40","v":0},{"$f":"System!E40","v":0},{"$f":"System!F40","v":0},0,0,0,1,0,1,0,0,0,0,0,0,0,0,0]
[20,{"$f":"System!C41","v":0},{"$f":"System!D41","v":0},{"$f":"System!E41","v":0},{"$f":"System!F41","v":0},0,0,0,1,0,1,0,0,0,0,0,0,0,0,0]
[21,{"$f":"System!C42","v":0},{"$f":"System!D42","v":0},{"$f":"System!E42","v":0},{"$f":"System!F42","v":0},0,0,0,1,0,1,0,0,0,0,0,0,0,0,0]
[22,{"$f":"System!C43","v":0},{"$f":"System!D43","v":0},{"$f":"System!E43","v":0},{"$f":"System!F43","v":0},0,0,0,1,0,1,0,0,0,0,0,0,0,0,0]
[23,{"$f":"System!C44","v":0},{"$f":"System!D44","v":0},{"$f":"System!E44","v":0},{"$f":"System!F44","v":0},0,0,0,1,0,1,0,0,0,0,0,0,0,0,0]
[24,{"$f":"System!C45","v":0},{"$f":"System!D45","v":0},{"$f":"System!E45","v":0},{"$f":"System!F45","v":0},0,0,0,1,0,1,0,0,0,0,0,0,0,0,0]
[25,{"$f":"System!C46","v":0},{"$f":"System!D46","v":0},{"$f":"System!E46","v":0},{"$f":"System!F46","v":0},0,0,0,1,0,1,0,0,0,0,0,0,0,0,0]
[26,{"$f":"System!C47","v":0},{"$f":"System!D47","v":0},{"$f":"System!E47","v":0},{"$f":"System!F47","v":0},0,0,0,1,0,1,0,0,0,0,0,0,0,0,0]
[27,{"$f":"System!C48","v":0},{"$f":"System!D48","v":0},{"$f":"System!E48","v":0},{"$f":"System!F48","v":0},0,0,0,1,0,1,0,0,0,0,0,0,0,0,0]
[28,{"$f":"System!C49","v":0},{"$f":"System!D49","v":0},{"$f":"System!E49","v":0},{"$f":"System!F49","v":0.01},0,5.0000000000000001E-3,0.01,0,1,0,0,1,0,0,0,0,0,0,0]
[29,{"$f":"System!C50","v":0},{"$f":"System!D50","v":0},{"$f":"System!E50","v":0.01},{"$f":"System!F50","v":0},5.0000000000000001E-3,0,0.01,1,0,1,0,0,0,0,0,0,0,0,0]
[30,{"$f":"System!C51","v":0.01},{"$f":"System!D51","v":0},{"$f":"System!E51","v":0},{"$f":"System!F51","v":0.01},5.0000000000000001E-3,5.0000000000000001E-3,1.4142135623730951E-2,-0.70710678118654757,0.70710678118654757,0.50000000000000011,-0.50000000000000011,0.50000000000000011,2.5000000000000005E-3,-2.5000000000000005E-3,-2.5000000000000005E-3,2.5000000000000005E-3,1.2500000000000002E-5,-1.2500000000000002E-5,1.2500000000000002E-5]