{"text_format":"1","workbook":"xlsx","n_sheets":3,"sheets":["Ark1","Ark2","Makro"],"not_rendered":{"charts":0,"images":3,"macros":1,"external_links":0,"defined_names":5,"comments":1,"pivot_tables":0},"unopened":[],"bounds":{"document_bytes":16777216,"sheet_cells":100000,"rows_first":2000,"rows_last":500,"rows_between":2000,"halvings":0,"cell_chars":16384,"cell_head_chars":4096},"cells_cut":0,"cells_raw":0,"read":"whole","date_system":"1900"}

{"sheet":"Ark1","index":0,"n_rows":42,"n_cols":23,"rows_kept":42,"cut":false,"hidden":false,"merged":[[41,19,41,22],[7,19,27,22],[37,19,39,22],[2,10,4,15],[32,4,32,6],[32,7,32,9],[2,8,2,9],[3,8,3,9],[2,2,2,6],[3,2,3,6]]}
[]
[null,null,{"$f":"Makro!D20","v":0},null,null,null,null,null,null,null,"Søjlelaste",null,null,null,null,null,null,"Betonelement-Foreningen feb 2019"]
[null,"Sag:","Betonelementhuset",null,null,null,null,"Nr.:","23 - 4545",null,{"$f":"IF(LEN(Makro!E25)>0,Makro!E25,\"\")","v":"For ny bruger: Klik på knappen 'angiv nyt brugernavn' for ibrugtagning."}]
[null,"Emne:","Søjle i B/6, stue. - 6. sal  (STR 6.10b)",null,null,null,null,"Init:","JFJ"]
[]
[null,null,null,null,null,null,null,null,null,null,"Resulterende lasttilfælde, lodrette lastandele",null,null,null,null,"N1   (kN)","N0   (kN)","N2    (kN)"]
[null,null,null,null,null,null,null,null,null,null,"Hovedtilfælde I - a :",null,"A:      Min N1        + min N0         + min N2",null,null,{"$f":"IF(Makro!E20=1,\"-\",'Ark2'!M2)","v":"-"},{"$f":"IF(Makro!E20=1,\"-\",'Ark2'!N2)","v":"-"},{"$f":"IF(Makro!E20=1,\"-\",'Ark2'!O2)","v":"-"},null,"Vejledning:"]
[null,null,null,null,null,null,null,null,null,null,null,null,"B:      Reduc N1 + min N0      + min N2",null,null,{"$f":"IF(Makro!E20=1,\"-\",'Ark2'!M3)","v":"-"},{"$f":"IF(Makro!E20=1,\"-\",'Ark2'!N3)","v":"-"},{"$f":"IF(Makro!E20=1,\"-\",'Ark2'!O3)","v":"-"},null,"Inddata vedrørende lodrette last kan overføres fra modulet \"lodret lastnedføring\". Under resulterende lasttilfælde svarer hovedtilfælde I - a og I - b til udknækning på tværs af bjælken; medens II - a og II - b svarer til udknækning på langs med bjælken. For hvert hovedtilfælde skal lasttilfælde A, B, C og D kombineres med maksimal tværlast. Lasttilfælde  E, F, G, H og I skal kombineres med reduc. tværlast ved eftervisning af søjlens bæreevne."]
[null,null,null,null,null,null,null,null,null,null,null,null,"C:      Reduc N1 + reduc N0  + min N2",null,null,{"$f":"IF(Makro!E20=1,\"-\",'Ark2'!M4)","v":"-"},{"$f":"IF(Makro!E20=1,\"-\",'Ark2'!N4)","v":"-"},{"$f":"IF(Makro!E20=1,\"-\",'Ark2'!O4)","v":"-"}]
[null,null,null,null,null,null,null,null,null,null,null,null,"D:      Reduc N1 + reduc N0  + reduc N2",null,null,{"$f":"IF(Makro!E20=1,\"-\",'Ark2'!M5)","v":"-"},{"$f":"IF(Makro!E20=1,\"-\",'Ark2'!N5)","v":"-"},{"$f":"IF(Makro!E20=1,\"-\",'Ark2'!O5)","v":"-"}]
[null,null,null,null,null,null,null,null,null,null,null,null,"E:      Max N1     + min N0        + min N2",null,null,{"$f":"IF(Makro!E20=1,\"-\",'Ark2'!M6)","v":"-"},{"$f":"IF(Makro!E20=1,\"-\",'Ark2'!N6)","v":"-"},{"$f":"IF(Makro!E20=1,\"-\",'Ark2'!O6)","v":"-"}]
[null,null,null,null,null,null,null,null,null,null,null,null,"F:      Max N1     + reduc N0  + min N2",null,null,{"$f":"IF(Makro!E20=1,\"-\",'Ark2'!M7)","v":"-"},{"$f":"IF(Makro!E20=1,\"-\",'Ark2'!N7)","v":"-"},{"$f":"IF(Makro!E20=1,\"-\",'Ark2'!O7)","v":"-"}]
[null,null,null,null,null,null,null,null,null,null,null,null,"G:      Max N1    + reduc N0  + max N2",null,null,{"$f":"IF(Makro!E20=1,\"-\",'Ark2'!M8)","v":"-"},{"$f":"IF(Makro!E20=1,\"-\",'Ark2'!N8)","v":"-"},{"$f":"IF(Makro!E20=1,\"-\",'Ark2'!O8)","v":"-"}]
[null,null,null,null,null,null,null,null,null,null,null,null,"H:      Max  N1    + max N0    + min N2",null,null,{"$f":"IF(Makro!E20=1,\"-\",'Ark2'!M9)","v":"-"},{"$f":"IF(Makro!E20=1,\"-\",'Ark2'!N9)","v":"-"},{"$f":"IF(Makro!E20=1,\"-\",'Ark2'!O9)","v":"-"}]
[null,null,null,null,null,null,null,null,null,null,null,null,"I :       Max  N1    + max N0    + max N2",null,null,{"$f":"IF(Makro!E20=1,\"-\",'Ark2'!M10)","v":"-"},{"$f":"IF(Makro!E20=1,\"-\",'Ark2'!N10)","v":"-"},{"$f":"IF(Makro!E20=1,\"-\",'Ark2'!O10)","v":"-"}]
[null,null,null,null,null,null,null,null,null,null,"Hovedtilfælde I - b :",null,"A:      Min N1        + min N0         + min N2",null,null,{"$f":"IF(Makro!E20=1,\"-\",'Ark2'!M11)","v":"-"},{"$f":"IF(Makro!E20=1,\"-\",'Ark2'!N11)","v":"-"},{"$f":"IF(Makro!E20=1,\"-\",'Ark2'!O11)","v":"-"}]
[null,null,null,null,null,null,null,null,null,null,null,null,"B:      Reduc N1 + min N0      + min N2",null,null,{"$f":"IF(Makro!E20=1,\"-\",'Ark2'!M12)","v":"-"},{"$f":"IF(Makro!E20=1,\"-\",'Ark2'!N12)","v":"-"},{"$f":"IF(Makro!E20=1,\"-\",'Ark2'!O12)","v":"-"}]
[null,null,null,null,null,null,null,null,null,null,null,null,"C:      Reduc N1 + reduc N0  + min N2",null,null,{"$f":"IF(Makro!E20=1,\"-\",'Ark2'!M13)","v":"-"},{"$f":"IF(Makro!E20=1,\"-\",'Ark2'!N13)","v":"-"},{"$f":"IF(Makro!E20=1,\"-\",'Ark2'!O13)","v":"-"}]
[null,null,null,null,null,null,null,null,null,null,null,null,"D:      Reduc N1 + reduc N0  + reduc N2",null,null,{"$f":"IF(Makro!E20=1,\"-\",'Ark2'!M14)","v":"-"},{"$f":"IF(Makro!E20=1,\"-\",'Ark2'!N14)","v":"-"},{"$f":"IF(Makro!E20=1,\"-\",'Ark2'!O14)","v":"-"}]
[null,null,null,null,null,null,null,null,null,null,null,null,"E:      Max N1     + min N0        + min N2",null,null,{"$f":"IF(Makro!E20=1,\"-\",'Ark2'!M15)","v":"-"},{"$f":"IF(Makro!E20=1,\"-\",'Ark2'!N15)","v":"-"},{"$f":"IF(Makro!E20=1,\"-\",'Ark2'!O15)","v":"-"}]
[null,null,null,null,null,null,null,null,null,null,null,null,"F:      Max N1     + reduc N0  + min N2",null,null,{"$f":"IF(Makro!E20=1,\"-\",'Ark2'!M16)","v":"-"},{"$f":"IF(Makro!E20=1,\"-\",'Ark2'!N16)","v":"-"},{"$f":"IF(Makro!E20=1,\"-\",'Ark2'!O16)","v":"-"}]
[null,null,null,null,null,null,null,null,null,null,null,null,"G:      Max N1    + reduc N0  + max N2",null,null,{"$f":"IF(Makro!E20=1,\"-\",'Ark2'!M17)","v":"-"},{"$f":"IF(Makro!E20=1,\"-\",'Ark2'!N17)","v":"-"},{"$f":"IF(Makro!E20=1,\"-\",'Ark2'!O17)","v":"-"}]
[null,null,null,null,null,null,null,null,null,null,null,null,"H:      Max  N1    + max N0    + min N2",null,null,{"$f":"IF(Makro!E20=1,\"-\",'Ark2'!M18)","v":"-"},{"$f":"IF(Makro!E20=1,\"-\",'Ark2'!N18)","v":"-"},{"$f":"IF(Makro!E20=1,\"-\",'Ark2'!O18)","v":"-"}]
[null,null,null,null,null,null,null,null,null,null,null,null,"I :       Max  N1    + max N0    + max N2",null,null,{"$f":"IF(Makro!E20=1,\"-\",'Ark2'!M19)","v":"-"},{"$f":"IF(Makro!E20=1,\"-\",'Ark2'!N19)","v":"-"},{"$f":"IF(Makro!E20=1,\"-\",'Ark2'!O19)","v":"-"}]
[null,null,null,null,null,null,null,null,null,null,"Hovedtilfælde II - a :",null,"A:      Min N1        + min N0         + min N2",null,null,{"$f":"IF(Makro!E20=1,\"-\",'Ark2'!M20)","v":"-"},{"$f":"IF(Makro!E20=1,\"-\",'Ark2'!N20)","v":"-"},{"$f":"IF(Makro!E20=1,\"-\",'Ark2'!O20)","v":"-"}]
[null,null,null,null,null,null,null,null,null,null,null,null,"B:      Reduc N1 + min N0      + min N2",null,null,{"$f":"IF(Makro!E20=1,\"-\",'Ark2'!M21)","v":"-"},{"$f":"IF(Makro!E20=1,\"-\",'Ark2'!N21)","v":"-"},{"$f":"IF(Makro!E20=1,\"-\",'Ark2'!O21)","v":"-"}]
[null,null,null,null,null,null,null,null,null,null,null,null,"C:      Reduc N1 + reduc N0  + min N2",null,null,{"$f":"IF(Makro!E20=1,\"-\",'Ark2'!M22)","v":"-"},{"$f":"IF(Makro!E20=1,\"-\",'Ark2'!N22)","v":"-"},{"$f":"IF(Makro!E20=1,\"-\",'Ark2'!O22)","v":"-"}]
[null,null,null,null,null,null,null,null,null,null,null,null,"D:      Reduc N1 + reduc N0  + reduc N2",null,null,{"$f":"IF(Makro!E20=1,\"-\",'Ark2'!M23)","v":"-"},{"$f":"IF(Makro!E20=1,\"-\",'Ark2'!N23)","v":"-"},{"$f":"IF(Makro!E20=1,\"-\",'Ark2'!O23)","v":"-"}]
[null,null,null,null,null,null,null,null,null,null,null,null,"E:      Max N1     + min N0        + min N2",null,null,{"$f":"IF(Makro!E20=1,\"-\",'Ark2'!M24)","v":"-"},{"$f":"IF(Makro!E20=1,\"-\",'Ark2'!N24)","v":"-"},{"$f":"IF(Makro!E20=1,\"-\",'Ark2'!O24)","v":"-"}]
[null,null,null,null,null,null,null,null,null,null,null,null,"F:      Max N1     + reduc N0  + min N2",null,null,{"$f":"IF(Makro!E20=1,\"-\",'Ark2'!M25)","v":"-"},{"$f":"IF(Makro!E20=1,\"-\",'Ark2'!N25)","v":"-"},{"$f":"IF(Makro!E20=1,\"-\",'Ark2'!O25)","v":"-"}]
[null,null,null,null,null,null,null,null,null,null,null,null,"G:      Max N1    + reduc N0  + max N2",null,null,{"$f":"IF(Makro!E20=1,\"-\",'Ark2'!M26)","v":"-"},{"$f":"IF(Makro!E20=1,\"-\",'Ark2'!N26)","v":"-"},{"$f":"IF(Makro!E20=1,\"-\",'Ark2'!O26)","v":"-"}]
[null,"Lastbredder",null,null,"Dækfelt 1:   B1 =",null,4.2,"Dækfelt 2:   B2 =",null,3.6,null,null,"H:      Max  N1    + max N0    + min N2",null,null,{"$f":"IF(Makro!E20=1,\"-\",'Ark2'!M27)","v":"-"},{"$f":"IF(Makro!E20=1,\"-\",'Ark2'!N27)","v":"-"},{"$f":"IF(Makro!E20=1,\"-\",'Ark2'!O27)","v":"-"}]
[null,"Lastnedføringsskema",null,null,"Modul B / 5-12",null,null,"Modul B / 5-12",null,null,null,null,"I :       Max  N1    + max N0    + max N2",null,null,{"$f":"IF(Makro!E20=1,\"-\",'Ark2'!M28)","v":"-"},{"$f":"IF(Makro!E20=1,\"-\",'Ark2'!N28)","v":"-"},{"$f":"IF(Makro!E20=1,\"-\",'Ark2'!O28)","v":"-"}]
[null,"Lodrette laste:",null,null,"nv","no","nh","nv","no","nh","Hovedtilfælde II - b : ",null,"A:      Min N1        + min N0         + min N2",null,null,{"$f":"IF(Makro!E20=1,\"-\",'Ark2'!M29)","v":"-"},{"$f":"IF(Makro!E20=1,\"-\",'Ark2'!N29)","v":"-"},{"$f":"IF(Makro!E20=1,\"-\",'Ark2'!O29)","v":"-"}]
[null,null,null,null,"(kN/m)","(kN/m)","(kN/m)","(kN/m)","(kN/m)","(kN/m)",null,null,"B:      Reduc N1 + min N0      + min N2",null,null,{"$f":"IF(Makro!E20=1,\"-\",'Ark2'!M30)","v":"-"},{"$f":"IF(Makro!E20=1,\"-\",'Ark2'!N30)","v":"-"},{"$f":"IF(Makro!E20=1,\"-\",'Ark2'!O30)","v":"-"}]
[null,"Største maksimalværdier",null,null,78.099999999999994,311.2,55.8,78.099999999999994,307.39999999999998,55.8,null,null,"C:      Reduc N1 + reduc N0  + min N2",null,null,{"$f":"IF(Makro!E20=1,\"-\",'Ark2'!M31)","v":"-"},{"$f":"IF(Makro!E20=1,\"-\",'Ark2'!N31)","v":"-"},{"$f":"IF(Makro!E20=1,\"-\",'Ark2'!O31)","v":"-"}]
[null,"Største reduc. værdier",null,null,78.099999999999994,282.8,55.8,78.099999999999994,282.8,55.8,null,null,"D:      Reduc N1 + reduc N0  + reduc N2",null,null,{"$f":"IF(Makro!E20=1,\"-\",'Ark2'!M32)","v":"-"},{"$f":"IF(Makro!E20=1,\"-\",'Ark2'!N32)","v":"-"},{"$f":"IF(Makro!E20=1,\"-\",'Ark2'!O32)","v":"-"}]
[null,"Mindste minimalværdier",null,null,13.8,147,9.9,13.8,147,9.9,null,null,"E:      Max N1     + min N0        + min N2",null,null,{"$f":"IF(Makro!E20=1,\"-\",'Ark2'!M33)","v":"-"},{"$f":"IF(Makro!E20=1,\"-\",'Ark2'!N33)","v":"-"},{"$f":"IF(Makro!E20=1,\"-\",'Ark2'!O33)","v":"-"},null," NB:  Resultaterne skal altid kontrolleres af ansvarlig statiker"]
[null,"Tværlaste i hovedtilfælde",null,null,null,"I - a","I - b",null,"II - a","II - b",null,null,"F:      Max N1     + reduc N0  + min N2",null,null,{"$f":"IF(Makro!E20=1,\"-\",'Ark2'!M34)","v":"-"},{"$f":"IF(Makro!E20=1,\"-\",'Ark2'!N34)","v":"-"},{"$f":"IF(Makro!E20=1,\"-\",'Ark2'!O34)","v":"-"}]
[null,"- linielaste på side af søjle",null,null,null,"(kN/m)","(kN/m)",null,"(kN/m)","(kN/m)",null,null,"G:      Max N1    + reduc N0  + max N2",null,null,{"$f":"IF(Makro!E20=1,\"-\",'Ark2'!M35)","v":"-"},{"$f":"IF(Makro!E20=1,\"-\",'Ark2'!N35)","v":"-"},{"$f":"IF(Makro!E20=1,\"-\",'Ark2'!O35)","v":"-"}]
[null,"Maksimal tværlast, wmax",null,null,null,12,12,null,null,null,null,null,"H:      Max  N1    + max N0    + min N2",null,null,{"$f":"IF(Makro!E20=1,\"-\",'Ark2'!M36)","v":"-"},{"$f":"IF(Makro!E20=1,\"-\",'Ark2'!N36)","v":"-"},{"$f":"IF(Makro!E20=1,\"-\",'Ark2'!O36)","v":"-"},null,"Vejledning:",null,null,"Betonelementbyggeriers statik"]
[null,"Reduc. tværlast,    wreduc",null,null,null,6,6,null,null,null,null,null,"I :       Max  N1    + max N0    + max N2",null,null,{"$f":"IF(Makro!E20=1,\"-\",'Ark2'!M37)","v":"-"},{"$f":"IF(Makro!E20=1,\"-\",'Ark2'!N37)","v":"-"},{"$f":"IF(Makro!E20=1,\"-\",'Ark2'!O37)","v":"-"},null,"Polyteknisk Forlag 2010 eller www.bef.dk"]

{"sheet":"Ark2","index":1,"n_rows":37,"n_cols":15,"rows_kept":37,"cut":false,"hidden":false,"merged":[]}
["N1   (kN)","N0   (kN)","N2    (kN)","w",null,null,"N1   (kN)","N0   (kN)","N2    (kN)","w"]
[{"$f":"'Ark2'!M2","v":77.22},{"$f":"'Ark2'!N2","v":1146.5999999999999},{"$f":"'Ark2'!O2","v":107.64000000000001},{"$f":"'Ark1'!$F$41","v":12},null,null,77.22,1146.5999999999999,107.64000000000001,12,null,null,{"$f":"'Ark1'!G32*'Ark1'!G38+'Ark1'!J32*'Ark1'!J38","v":77.22},{"$f":"'Ark1'!G32*'Ark1'!F38+'Ark1'!J32*'Ark1'!I38","v":1146.5999999999999},{"$f":"'Ark1'!G32*'Ark1'!E38+'Ark1'!J32*'Ark1'!H38","v":107.64000000000001}]
[{"$f":"'Ark2'!M3","v":435.24},{"$f":"'Ark2'!N3","v":1146.5999999999999},{"$f":"'Ark2'!O3","v":107.64000000000001},{"$f":"'Ark1'!$F$41","v":12},null,null,435.24,1146.5999999999999,107.64000000000001,12,null,null,{"$f":"'Ark1'!G32*'Ark1'!G37+'Ark1'!J32*'Ark1'!J37","v":435.24},{"$f":"'Ark1'!G32*'Ark1'!F38+'Ark1'!J32*'Ark1'!I38","v":1146.5999999999999},{"$f":"'Ark1'!G32*'Ark1'!E38+'Ark1'!J32*'Ark1'!H38","v":107.64000000000001}]
[{"$f":"'Ark2'!M4","v":435.24},{"$f":"'Ark2'!N4","v":2205.84},{"$f":"'Ark2'!O4","v":107.64000000000001},{"$f":"'Ark1'!$F$41","v":12},null,null,435.24,2205.84,107.64000000000001,12,null,null,{"$f":"'Ark1'!G32*'Ark1'!G37+'Ark1'!J32*'Ark1'!J37","v":435.24},{"$f":"'Ark1'!G32*'Ark1'!F37+'Ark1'!J32*'Ark1'!I37","v":2205.84},{"$f":"'Ark1'!G32*'Ark1'!E38+'Ark1'!J32*'Ark1'!H38","v":107.64000000000001}]
[{"$f":"'Ark2'!M5","v":435.24},{"$f":"'Ark2'!N5","v":2205.84},{"$f":"'Ark2'!O5","v":609.17999999999995},{"$f":"'Ark1'!$F$41","v":12},null,null,435.24,2205.84,609.17999999999995,12,null,null,{"$f":"'Ark1'!G32*'Ark1'!G37+'Ark1'!J32*'Ark1'!J37","v":435.24},{"$f":"'Ark1'!G32*'Ark1'!F37+'Ark1'!J32*'Ark1'!I37","v":2205.84},{"$f":"'Ark1'!G32*'Ark1'!E37+'Ark1'!J32*'Ark1'!H37","v":609.17999999999995}]
[{"$f":"'Ark2'!M6","v":435.24},{"$f":"'Ark2'!N6","v":1146.5999999999999},{"$f":"'Ark2'!O6","v":107.64000000000001},{"$f":"'Ark1'!$F$42","v":6},null,null,435.24,1146.5999999999999,107.64000000000001,6,null,null,{"$f":"'Ark1'!G32*'Ark1'!G36+'Ark1'!J32*'Ark1'!J36","v":435.24},{"$f":"'Ark1'!G32*'Ark1'!F38+'Ark1'!J32*'Ark1'!I38","v":1146.5999999999999},{"$f":"'Ark1'!G32*'Ark1'!E38+'Ark1'!J32*'Ark1'!H38","v":107.64000000000001}]
[{"$f":"'Ark2'!M7","v":435.24},{"$f":"'Ark2'!N7","v":2205.84},{"$f":"'Ark2'!O7","v":107.64000000000001},{"$f":"'Ark1'!$F$42","v":6},null,null,435.24,2205.84,107.64000000000001,6,null,null,{"$f":"'Ark1'!G32*'Ark1'!G36+'Ark1'!J32*'Ark1'!J36","v":435.24},{"$f":"'Ark1'!G32*'Ark1'!F37+'Ark1'!J32*'Ark1'!I37","v":2205.84},{"$f":"'Ark1'!G32*'Ark1'!E38+'Ark1'!J32*'Ark1'!H38","v":107.64000000000001}]
[{"$f":"'Ark2'!M8","v":435.24},{"$f":"'Ark2'!N8","v":2205.84},{"$f":"'Ark2'!O8","v":609.17999999999995},{"$f":"'Ark1'!$F$42","v":6},null,null,435.24,2205.84,609.17999999999995,6,null,null,{"$f":"'Ark1'!G32*'Ark1'!G36+'Ark1'!J32*'Ark1'!J36","v":435.24},{"$f":"'Ark1'!G32*'Ark1'!F37+'Ark1'!J32*'Ark1'!I37","v":2205.84},{"$f":"'Ark1'!G32*'Ark1'!E36+'Ark1'!J32*'Ark1'!H36","v":609.17999999999995}]
[{"$f":"'Ark2'!M9","v":435.24},{"$f":"'Ark2'!N9","v":2413.6799999999998},{"$f":"'Ark2'!O9","v":107.64000000000001},{"$f":"'Ark1'!$F$42","v":6},null,null,435.24,2413.6799999999998,107.64000000000001,6,null,null,{"$f":"'Ark1'!G32*'Ark1'!G36+'Ark1'!J32*'Ark1'!J36","v":435.24},{"$f":"'Ark1'!G32*'Ark1'!F36+'Ark1'!J32*'Ark1'!I36","v":2413.6799999999998},{"$f":"'Ark1'!G32*'Ark1'!E38+'Ark1'!J32*'Ark1'!H38","v":107.64000000000001}]
[{"$f":"'Ark2'!M10","v":435.24},{"$f":"'Ark2'!N10","v":2413.6799999999998},{"$f":"'Ark2'!O10","v":609.17999999999995},{"$f":"'Ark1'!$F$42","v":6},null,null,435.24,2413.6799999999998,609.17999999999995,6,null,null,{"$f":"'Ark1'!G32*'Ark1'!G36+'Ark1'!J32*'Ark1'!J36","v":435.24},{"$f":"'Ark1'!G32*'Ark1'!F36+'Ark1'!J32*'Ark1'!I36","v":2413.6799999999998},{"$f":"'Ark1'!G32*'Ark1'!E36+'Ark1'!J32*'Ark1'!H36","v":609.17999999999995}]
[{"$f":"'Ark2'!M11","v":107.64000000000001},{"$f":"'Ark2'!N11","v":1146.5999999999999},{"$f":"'Ark2'!O11","v":77.22},{"$f":"'Ark1'!$G$41","v":12},null,null,107.64000000000001,1146.5999999999999,77.22,12,null,null,{"$f":"'Ark1'!G32*'Ark1'!E38+'Ark1'!J32*'Ark1'!H38","v":107.64000000000001},{"$f":"'Ark1'!G32*'Ark1'!F38+'Ark1'!J32*'Ark1'!I38","v":1146.5999999999999},{"$f":"'Ark1'!G32*'Ark1'!G38+'Ark1'!J32*'Ark1'!J38","v":77.22}]
[{"$f":"'Ark2'!M12","v":609.17999999999995},{"$f":"'Ark2'!N12","v":1146.5999999999999},{"$f":"'Ark2'!O12","v":77.22},{"$f":"'Ark1'!$G$41","v":12},null,null,609.17999999999995,1146.5999999999999,77.22,12,null,null,{"$f":"'Ark1'!G32*'Ark1'!E37+'Ark1'!J32*'Ark1'!H37","v":609.17999999999995},{"$f":"'Ark1'!G32*'Ark1'!F38+'Ark1'!J32*'Ark1'!I38","v":1146.5999999999999},{"$f":"'Ark1'!G32*'Ark1'!G38+'Ark1'!J32*'Ark1'!J38","v":77.22}]
[{"$f":"'Ark2'!M13","v":609.17999999999995},{"$f":"'Ark2'!N13","v":2205.84},{"$f":"'Ark2'!O13","v":77.22},{"$f":"'Ark1'!$G$41","v":12},null,null,609.17999999999995,2205.84,77.22,12,null,null,{"$f":"'Ark1'!G32*'Ark1'!E37+'Ark1'!J32*'Ark1'!H37","v":609.17999999999995},{"$f":"'Ark1'!G32*'Ark1'!F37+'Ark1'!J32*'Ark1'!I37","v":2205.84},{"$f":"'Ark1'!G32*'Ark1'!G38+'Ark1'!J32*'Ark1'!J38","v":77.22}]
[{"$f":"'Ark2'!M14","v":609.17999999999995},{"$f":"'Ark2'!N14","v":2205.84},{"$f":"'Ark2'!O14","v":435.24},{"$f":"'Ark1'!$G$41","v":12},null,null,609.17999999999995,2205.84,435.24,12,null,null,{"$f":"'Ark1'!G32*'Ark1'!E37+'Ark1'!J32*'Ark1'!H37","v":609.17999999999995},{"$f":"'Ark1'!G32*'Ark1'!F37+'Ark1'!J32*'Ark1'!I37","v":2205.84},{"$f":"'Ark1'!G32*'Ark1'!G37+'Ark1'!J32*'Ark1'!J37","v":435.24}]
[{"$f":"'Ark2'!M15","v":609.17999999999995},{"$f":"'Ark2'!N15","v":1146.5999999999999},{"$f":"'Ark2'!O15","v":77.22},{"$f":"'Ark1'!$G$42","v":6},null,null,609.17999999999995,1146.5999999999999,77.22,6,null,null,{"$f":"'Ark1'!G32*'Ark1'!E36+'Ark1'!J32*'Ark1'!H36","v":609.17999999999995},{"$f":"'Ark1'!G32*'Ark1'!F38+'Ark1'!J32*'Ark1'!I38","v":1146.5999999999999},{"$f":"'Ark1'!G32*'Ark1'!G38+'Ark1'!J32*'Ark1'!J38","v":77.22}]
[{"$f":"'Ark2'!M16","v":609.17999999999995},{"$f":"'Ark2'!N16","v":2205.84},{"$f":"'Ark2'!O16","v":77.22},{"$f":"'Ark1'!$G$42","v":6},null,null,609.17999999999995,2205.84,77.22,6,null,null,{"$f":"'Ark1'!G32*'Ark1'!E36+'Ark1'!J32*'Ark1'!H36","v":609.17999999999995},{"$f":"'Ark1'!G32*'Ark1'!F37+'Ark1'!J32*'Ark1'!I37","v":2205.84},{"$f":"'Ark1'!G32*'Ark1'!G38+'Ark1'!J32*'Ark1'!J38","v":77.22}]
[{"$f":"'Ark2'!M17","v":609.17999999999995},{"$f":"'Ark2'!N17","v":2205.84},{"$f":"'Ark2'!O17","v":435.24},{"$f":"'Ark1'!$G$42","v":6},null,null,609.17999999999995,2205.84,435.24,6,null,null,{"$f":"'Ark1'!G32*'Ark1'!E36+'Ark1'!J32*'Ark1'!H36","v":609.17999999999995},{"$f":"'Ark1'!G32*'Ark1'!F37+'Ark1'!J32*'Ark1'!I37","v":2205.84},{"$f":"'Ark1'!G32*'Ark1'!G36+'Ark1'!J32*'Ark1'!J36","v":435.24}]
[{"$f":"'Ark2'!M18","v":609.17999999999995},{"$f":"'Ark2'!N18","v":2413.6799999999998},{"$f":"'Ark2'!O18","v":77.22},{"$f":"'Ark1'!$G$42","v":6},null,null,609.17999999999995,2413.6799999999998,77.22,6,null,null,{"$f":"'Ark1'!G32*'Ark1'!E36+'Ark1'!J32*'Ark1'!H36","v":609.17999999999995},{"$f":"'Ark1'!G32*'Ark1'!F36+'Ark1'!J32*'Ark1'!I36","v":2413.6799999999998},{"$f":"'Ark1'!G32*'Ark1'!G38+'Ark1'!J32*'Ark1'!J38","v":77.22}]
[{"$f":"'Ark2'!M19","v":609.17999999999995},{"$f":"'Ark2'!N19","v":2413.6799999999998},{"$f":"'Ark2'!O19","v":435.24},{"$f":"'Ark1'!$G$42","v":6},null,null,609.17999999999995,2413.6799999999998,435.24,6,null,null,{"$f":"'Ark1'!G32*'Ark1'!E36+'Ark1'!J32*'Ark1'!H36","v":609.17999999999995},{"$f":"'Ark1'!G32*'Ark1'!F36+'Ark1'!J32*'Ark1'!I36","v":2413.6799999999998},{"$f":"'Ark1'!G32*'Ark1'!G36+'Ark1'!J32*'Ark1'!J36","v":435.24}]
[{"$f":"'Ark2'!M20","v":99.54000000000002},{"$f":"'Ark2'!N20","v":1146.5999999999999},{"$f":"'Ark2'!O20","v":85.320000000000007},{"$f":"'Ark1'!$I$41","v":0},null,null,99.54000000000002,1146.5999999999999,85.320000000000007,0,null,null,{"$f":"'Ark1'!G32*('Ark1'!E38+'Ark1'!G38)","v":99.54000000000002},{"$f":"'Ark1'!G32*'Ark1'!F38+'Ark1'!J32*'Ark1'!I38","v":1146.5999999999999},{"$f":"'Ark1'!J32*('Ark1'!H38+'Ark1'!J38)","v":85.320000000000007}]
[{"$f":"'Ark2'!M21","v":562.37999999999988},{"$f":"'Ark2'!N21","v":1146.5999999999999},{"$f":"'Ark2'!O21","v":85.320000000000007},{"$f":"'Ark1'!$I$41","v":0},null,null,562.37999999999988,1146.5999999999999,85.320000000000007,0,null,null,{"$f":"'Ark1'!G32*('Ark1'!E37+'Ark1'!G37)","v":562.37999999999988},{"$f":"'Ark1'!G32*'Ark1'!F38+'Ark1'!J32*'Ark1'!I38","v":1146.5999999999999},{"$f":"'Ark1'!J32*('Ark1'!H38+'Ark1'!J38)","v":85.320000000000007}]
[{"$f":"'Ark2'!M22","v":562.37999999999988},{"$f":"'Ark2'!N22","v":2205.84},{"$f":"'Ark2'!O22","v":85.320000000000007},{"$f":"'Ark1'!$I$41","v":0},null,null,562.37999999999988,2205.84,85.320000000000007,0,null,null,{"$f":"'Ark1'!G32*('Ark1'!E37+'Ark1'!G37)","v":562.37999999999988},{"$f":"'Ark1'!G32*'Ark1'!F37+'Ark1'!J32*'Ark1'!I37","v":2205.84},{"$f":"'Ark1'!J32*('Ark1'!H38+'Ark1'!J38)","v":85.320000000000007}]
[{"$f":"'Ark2'!M23","v":562.37999999999988},{"$f":"'Ark2'!N23","v":2205.84},{"$f":"'Ark2'!O23","v":482.03999999999991},{"$f":"'Ark1'!$I$41","v":0},null,null,562.37999999999988,2205.84,482.03999999999991,0,null,null,{"$f":"'Ark1'!G32*('Ark1'!E37+'Ark1'!G37)","v":562.37999999999988},{"$f":"'Ark1'!G32*'Ark1'!F37+'Ark1'!J32*'Ark1'!I37","v":2205.84},{"$f":"'Ark1'!J32*('Ark1'!H37+'Ark1'!J37)","v":482.03999999999991}]
[{"$f":"'Ark2'!M24","v":562.37999999999988},{"$f":"'Ark2'!N24","v":1146.5999999999999},{"$f":"'Ark2'!O24","v":85.320000000000007},{"$f":"'Ark1'!$I$42","v":0},null,null,562.37999999999988,1146.5999999999999,85.320000000000007,0,null,null,{"$f":"'Ark1'!G32*('Ark1'!E36+'Ark1'!G36)","v":562.37999999999988},{"$f":"'Ark1'!G32*'Ark1'!F38+'Ark1'!J32*'Ark1'!I38","v":1146.5999999999999},{"$f":"'Ark1'!J32*('Ark1'!H38+'Ark1'!J38)","v":85.320000000000007}]
[{"$f":"'Ark2'!M25","v":562.37999999999988},{"$f":"'Ark2'!N25","v":2205.84},{"$f":"'Ark2'!O25","v":85.320000000000007},{"$f":"'Ark1'!$I$42","v":0},null,null,562.37999999999988,2205.84,85.320000000000007,0,null,null,{"$f":"'Ark1'!G32*('Ark1'!E36+'Ark1'!G36)","v":562.37999999999988},{"$f":"'Ark1'!G32*'Ark1'!F37+'Ark1'!J32*'Ark1'!I37","v":2205.84},{"$f":"'Ark1'!J32*('Ark1'!H38+'Ark1'!J38)","v":85.320000000000007}]
[{"$f":"'Ark2'!M26","v":562.37999999999988},{"$f":"'Ark2'!N26","v":2205.84},{"$f":"'Ark2'!O26","v":482.03999999999991},{"$f":"'Ark1'!$I$42","v":0},null,null,562.37999999999988,2205.84,482.03999999999991,0,null,null,{"$f":"'Ark1'!G32*('Ark1'!E36+'Ark1'!G36)","v":562.37999999999988},{"$f":"'Ark1'!G32*'Ark1'!F37+'Ark1'!J32*'Ark1'!I37","v":2205.84},{"$f":"'Ark1'!J32*('Ark1'!H36+'Ark1'!J36)","v":482.03999999999991}]
[{"$f":"'Ark2'!M27","v":562.37999999999988},{"$f":"'Ark2'!N27","v":2413.6799999999998},{"$f":"'Ark2'!O27","v":85.320000000000007},{"$f":"'Ark1'!$I$42","v":0},null,null,562.37999999999988,2413.6799999999998,85.320000000000007,0,null,null,{"$f":"'Ark1'!G32*('Ark1'!E36+'Ark1'!G36)","v":562.37999999999988},{"$f":"'Ark1'!G32*'Ark1'!F36+'Ark1'!J32*'Ark1'!I36","v":2413.6799999999998},{"$f":"'Ark1'!J32*('Ark1'!H38+'Ark1'!J38)","v":85.320000000000007}]
[{"$f":"'Ark2'!M28","v":562.37999999999988},{"$f":"'Ark2'!N28","v":2413.6799999999998},{"$f":"'Ark2'!O28","v":482.03999999999991},{"$f":"'Ark1'!$I$42","v":0},null,null,562.37999999999988,2413.6799999999998,482.03999999999991,0,null,null,{"$f":"'Ark1'!G32*('Ark1'!E36+'Ark1'!G36)","v":562.37999999999988},{"$f":"'Ark1'!G32*'Ark1'!F36+'Ark1'!J32*'Ark1'!I36","v":2413.6799999999998},{"$f":"'Ark1'!J32*('Ark1'!H36+'Ark1'!J36)","v":482.03999999999991}]
[{"$f":"'Ark2'!M29","v":85.320000000000007},{"$f":"'Ark2'!N29","v":1146.5999999999999},{"$f":"'Ark2'!O29","v":99.54000000000002},{"$f":"'Ark1'!$J$41","v":0},null,null,85.320000000000007,1146.5999999999999,99.54000000000002,0,null,null,{"$f":"'Ark1'!J32*('Ark1'!H38+'Ark1'!J38)","v":85.320000000000007},{"$f":"'Ark1'!J32*'Ark1'!I38+'Ark1'!G32*'Ark1'!F38","v":1146.5999999999999},{"$f":"'Ark1'!G32*('Ark1'!E38+'Ark1'!G38)","v":99.54000000000002}]
[{"$f":"'Ark2'!M30","v":482.03999999999991},{"$f":"'Ark2'!N30","v":1146.5999999999999},{"$f":"'Ark2'!O30","v":99.54000000000002},{"$f":"'Ark1'!$J$41","v":0},null,null,482.03999999999991,1146.5999999999999,99.54000000000002,0,null,null,{"$f":"'Ark1'!J32*('Ark1'!H37+'Ark1'!J37)","v":482.03999999999991},{"$f":"'Ark1'!J32*'Ark1'!I38+'Ark1'!G32*'Ark1'!F38","v":1146.5999999999999},{"$f":"'Ark1'!G32*('Ark1'!E38+'Ark1'!G38)","v":99.54000000000002}]
[{"$f":"'Ark2'!M31","v":482.03999999999991},{"$f":"'Ark2'!N31","v":2205.84},{"$f":"'Ark2'!O31","v":99.54000000000002},{"$f":"'Ark1'!$J$41","v":0},null,null,482.03999999999991,2205.84,99.54000000000002,0,null,null,{"$f":"'Ark1'!J32*('Ark1'!H37+'Ark1'!J37)","v":482.03999999999991},{"$f":"'Ark1'!J32*'Ark1'!I37+'Ark1'!G32*'Ark1'!F37","v":2205.84},{"$f":"'Ark1'!G32*('Ark1'!E38+'Ark1'!G38)","v":99.54000000000002}]
[{"$f":"'Ark2'!M32","v":482.03999999999991},{"$f":"'Ark2'!N32","v":2205.84},{"$f":"'Ark2'!O32","v":562.37999999999988},{"$f":"'Ark1'!$J$41","v":0},null,null,482.03999999999991,2205.84,562.37999999999988,0,null,null,{"$f":"'Ark1'!J32*('Ark1'!H37+'Ark1'!J37)","v":482.03999999999991},{"$f":"'Ark1'!J32*'Ark1'!I37+'Ark1'!G32*'Ark1'!F37","v":2205.84},{"$f":"'Ark1'!G32*('Ark1'!E37+'Ark1'!G37)","v":562.37999999999988}]
[{"$f":"'Ark2'!M33","v":482.03999999999991},{"$f":"'Ark2'!N33","v":1146.5999999999999},{"$f":"'Ark2'!O33","v":99.54000000000002},{"$f":"'Ark1'!$J$42","v":0},null,null,482.03999999999991,1146.5999999999999,99.54000000000002,0,null,null,{"$f":"'Ark1'!J32*('Ark1'!H36+'Ark1'!J36)","v":482.03999999999991},{"$f":"'Ark1'!J32*'Ark1'!I38+'Ark1'!G32*'Ark1'!F38","v":1146.5999999999999},{"$f":"'Ark1'!G32*('Ark1'!E38+'Ark1'!G38)","v":99.54000000000002}]
[{"$f":"'Ark2'!M34","v":482.03999999999991},{"$f":"'Ark2'!N34","v":2205.84},{"$f":"'Ark2'!O34","v":99.54000000000002},{"$f":"'Ark1'!$J$42","v":0},null,null,482.03999999999991,2205.84,99.54000000000002,0,null,null,{"$f":"'Ark1'!J32*('Ark1'!H36+'Ark1'!J36)","v":482.03999999999991},{"$f":"'Ark1'!G32*'Ark1'!F37+'Ark1'!J32*'Ark1'!I37","v":2205.84},{"$f":"'Ark1'!G32*('Ark1'!E38+'Ark1'!G38)","v":99.54000000000002}]
[{"$f":"'Ark2'!M35","v":482.03999999999991},{"$f":"'Ark2'!N35","v":2205.84},{"$f":"'Ark2'!O35","v":562.37999999999988},{"$f":"'Ark1'!$J$42","v":0},null,null,482.03999999999991,2205.84,562.37999999999988,0,null,null,{"$f":"'Ark1'!J32*('Ark1'!H36+'Ark1'!J36)","v":482.03999999999991},{"$f":"'Ark1'!G32*'Ark1'!F37+'Ark1'!J32*'Ark1'!I37","v":2205.84},{"$f":"'Ark1'!G32*('Ark1'!E36+'Ark1'!G36)","v":562.37999999999988}]
[{"$f":"'Ark2'!M36","v":482.03999999999991},{"$f":"'Ark2'!N36","v":2413.6799999999998},{"$f":"'Ark2'!O36","v":99.54000000000002},{"$f":"'Ark1'!$J$42","v":0},null,null,482.03999999999991,2413.6799999999998,99.54000000000002,0,null,null,{"$f":"'Ark1'!J32*('Ark1'!H36+'Ark1'!J36)","v":482.03999999999991},{"$f":"'Ark1'!G32*'Ark1'!F36+'Ark1'!J32*'Ark1'!I36","v":2413.6799999999998},{"$f":"'Ark1'!G32*('Ark1'!E38+'Ark1'!G38)","v":99.54000000000002}]
[{"$f":"'Ark2'!M37","v":482.03999999999991},{"$f":"'Ark2'!N37","v":2413.6799999999998},{"$f":"'Ark2'!O37","v":562.37999999999988},{"$f":"'Ark1'!$J$42","v":0},null,null,482.03999999999991,2413.6799999999998,562.37999999999988,0,null,null,{"$f":"'Ark1'!J32*('Ark1'!H36+'Ark1'!J36)","v":482.03999999999991},{"$f":"'Ark1'!G32*'Ark1'!F36+'Ark1'!J32*'Ark1'!I36","v":2413.6799999999998},{"$f":"'Ark1'!G32*('Ark1'!E36+'Ark1'!G36)","v":562.37999999999988}]

{"sheet":"Makro","index":2,"n_rows":25,"n_cols":5,"rows_kept":25,"cut":false,"hidden":false,"merged":[]}
[]
[]
[]
[]
[]
[]
[]
[]
[]
[]
[]
[]
[]
[]
[]
[]
[]
[]
[]
[{"$f":"IF(E20=1,0,1000000)","v":0},null,null,null,1]
[]
[]
[]
[]
[null,null,"For ny bruger: Klik på knappen 'angiv nyt brugernavn' for ibrugtagning.",null,{"$f":"IF(E20=1,C25,\"\")","v":"For ny bruger: Klik på knappen 'angiv nyt brugernavn' for ibrugtagning."}]