{"text_format":"1","workbook":"xlsx","n_sheets":5,"sheets":["Kold","Brand","Ark1","Firsidig","Makro"],"not_rendered":{"charts":5,"images":4,"macros":1,"external_links":1,"defined_names":21,"comments":2,"pivot_tables":0},"unopened":[],"bounds":{"document_bytes":16777216,"sheet_cells":100000,"rows_first":2000,"rows_last":500,"rows_between":2000,"halvings":0,"cell_chars":16384,"cell_head_chars":4096},"cells_cut":0,"cells_raw":0,"read":"whole","date_system":"1900"}

{"sheet":"Kold","index":0,"n_rows":86,"n_cols":75,"rows_kept":86,"cut":false,"hidden":false,"merged":[[1,13,1,16],[1,10,1,12],[23,3,23,5],[1,2,1,9],[2,2,2,6],[4,2,4,6],[3,2,3,6],[2,8,2,9],[3,8,3,9],[4,8,4,9],[31,18,32,21],[34,18,34,21],[34,10,34,12],[33,10,33,12],[2,11,4,16]]}
[]
[null,"Bruger:",{"$f":"Makro!D20","v":0},null,null,null,null,null,null,null,"Vægberegning",null,null,"Betonelement-Foreningen feb 2019"]
[null,"Sagsnavn:","Betonelementhuset",null,null,null,null,"Sag nr.:","23 - 4545",null,null,{"$f":"AU18&AU19&AU20&AU21&AU22&AU23&AU24&AU25&AU26&AU27&AU28&AU29&AU30","v":"For ny bruger: Klik på knappen 'angiv nyt brugernavn' for ibrugtagning."}]
[null,"Bygningsdel:","Væg modul B/6-7, kld.-4.sal (STR 6.10b)",null,null,null,null,"Dato:","2010-03-01"]
[null,"Emne:","Normale lastkombinationer",null,null,null,null,"Init:","JFJ"]
[]
[null,null,null,null,null,null,null,null,null,null," Materialer",null,"fck",35,"Regningsmæssige parametre"]
[null,null,null,null,null,null,null,null,null,null,null,null,"fyk",550,null,"fcd",{"$f":"N7/(N9)","v":25}]
[null,null,null,null,null,null,null,null,null,null,null,null,"gc",1.4,null,"fyd",{"$f":"N8/MAX(1,N10)","v":458.33333333333337},null,null,null,null,null,null,null,null,null,null,null,null,null,null,null,null,null,null,null,null,null,null,1,{"$f":"AW10*1000+0.001","v":0.10099999999998899},{"$f":"IF(Makro!E20=1,\"-\",AX10*1000)","v":"-"},null,null,"Forskydningscheck",null,null,null,"N","M","hc","e0","sac","sat",null,"Lastpunkt",1,2,3,4,5,6,null,"A"]
[null,null,null,null,null,null,null,null,null,null,null,null,"gs",1.2,null,"Ecd",{"$f":"1000*22*((N7+8)/10)^0.3/N9","v":24340.818713706667},null,null,null,null,null,null,null,null,null,null,null,null,null,null,null,null,null,null,null,null,null,null,2,{"$f":"AW11*1000","v":63.438967303928699},{"$f":"IF(Makro!E20=1,\"-\",AX11*1000)","v":"-"},null,null,"f_ctd",{"$f":"SQRT(N7/10)/N9","v":1.3363062095621221},"MPa",null,{"$f":"IF(Makro!$C$11=1,'Ark1'!M10,0)*$AY$38","v":9.9999999999988987E-5},{"$f":"IF(Makro!$C$11=1,'Ark1'!N10,0)*$AY$38","v":1.9419193093506513E-2},{"$f":"IF(Makro!$C$11=1,'Ark1'!O10,0)","v":4.0138687861173784E-2},{"$f":"IF(Makro!$C$11=1,'Ark1'!P10,0)","v":3.210578024372992E-4},{"$f":"IF(Makro!$C$11=1,'Ark1'!Q10,0)","v":0.6365191476987323},{"$f":"IF(Makro!$C$11=1,'Ark1'!R10,0)","v":458.32156291626706},null,"Indeks",{"$f":"Makro!B2","v":1},{"$f":"Makro!C2","v":2},{"$f":"Makro!D2","v":3},{"$f":"Makro!E2","v":4},{"$f":"Makro!F2","v":5},{"$f":"Makro!G2","v":6},null,"B"]
[null,null,null,null,null,null,null,null,null,null," Søjlelængde",null,"Ls",3600,"Krybetal",null,null,null,null,null,null,null,null,null,null,null,null,null,null,null,null,null,null,null,null,null,null,null,null,3,124.9872297159049,{"$f":"IF(Makro!E20=1,\"-\",AX12*1000)","v":"-"},null,null,"r",{"$f":"AP41/(N12*N13)","v":1.8626153777283486E-3},null,null,{"$f":"IF(Makro!$C$11=1,'Ark1'!M11,0)*$AY$38","v":6.3438967303928701E-2},{"$f":"IF(Makro!$C$11=1,'Ark1'!N11,0)*$AY$38","v":2.1614346752199563E-2},{"$f":"IF(Makro!$C$11=1,'Ark1'!O11,0)","v":4.5181422537606569E-2},{"$f":"IF(Makro!$C$11=1,'Ark1'!P11,0)","v":3.9334484870015113E-4},{"$f":"IF(Makro!$C$11=1,'Ark1'!Q11,0)","v":25.883055331143311},{"$f":"IF(Makro!$C$11=1,'Ark1'!R11,0)","v":458.33333333333337},null,null,{"$f":"INDEX(BL9:BL17,BE10)","v":"A"},{"$f":"INDEX(BL9:BL17,BF10)","v":"B"},{"$f":"INDEX($BL$9:$BL$17,BG10)","v":"C"},{"$f":"INDEX($BL$9:$BL$17,BH10)","v":"D"},"E","F",null,"C"]
[null,null,null,null,null,null,null,null,null,null," Tværsnit",null,"h",180,null,"RH",0.55000000000000004,null,null,null,null,null,null,null,null,null,null,null,null,null,null,null,null,null,null,null,null,null,null,4,174.10416907705448,{"$f":"IF(Makro!E20=1,\"-\",AX13*1000)","v":"-"},null,null,"k",{"$f":"MAX(1,1.6-N12/1000)","v":1.4200000000000002},null,null,{"$f":"IF(Makro!$C$11=1,'Ark1'!M12,0)*$AY$38","v":0.1249872297159049},{"$f":"IF(Makro!$C$11=1,'Ark1'!N12,0)*$AY$38","v":2.3356140569351473E-2},{"$f":"IF(Makro!$C$11=1,'Ark1'!O12,0)","v":4.9415891915262342E-2},{"$f":"IF(Makro!$C$11=1,'Ark1'!P12,0)","v":4.5831677895414393E-4},{"$f":"IF(Makro!$C$11=1,'Ark1'!Q12,0)","v":50.108747538653482},{"$f":"IF(Makro!$C$11=1,'Ark1'!R12,0)","v":458.33333333333337},null,"N",{"$f":"INDEX($AN$30:$AQ$38,BE10,2)","v":29.1},95.5,514.1,561.5,95.5,514.1,null,"D"]
[null,null,null,null,null,null,null,null,null,null,null,null,"b",1000,null,"to",28,null,null,null,null,null,null,null,null,null,null,null,null,null,null,null,null,null,null,null,null,null,null,5,238.38167854905205,{"$f":"IF(Makro!E20=1,\"-\",AX14*1000)","v":"-"},null,null,"s_p",null,"MPa",null,{"$f":"IF(Makro!$C$11=1,'Ark1'!M13,0)*$AY$38","v":0.17410416907705448},{"$f":"IF(Makro!$C$11=1,'Ark1'!N13,0)*$AY$38","v":2.4613468140042186E-2},{"$f":"IF(Makro!$C$11=1,'Ark1'!O13,0)","v":5.3135963724627852E-2},{"$f":"IF(Makro!$C$11=1,'Ark1'!P13,0)","v":4.9935638089130207E-4},{"$f":"IF(Makro!$C$11=1,'Ark1'!Q13,0)","v":70.833213832193195},{"$f":"IF(Makro!$C$11=1,'Ark1'!R13,0)","v":458.33333333333337},null,"N",{"$f":"INDEX(Lastresult,1+5*(BE9-1),16)*1000","v":29.100087932772549},95.499976944915332,514.09991019121901,561.49984380130888,95.499976944915332,514.09991019121901,null,"E"]
[null,null,null,null,null,null,null,null,null,null,null,null,"c",40,null,"fo",{"$f":"AT41","v":2.0766110334647805},null,null,null,null,null,null,null,null,null,null,null,null,null,null,null,null,null,null,null,null,null,null,6,329.87961498918139,{"$f":"IF(Makro!E20=1,\"-\",AX15*1000)","v":"-"},null,null,"t_0d",{"$f":"0.25*AT12*(1.2+40*AT11)*AT10+0.15*AT13","v":0.604610593106501},"MPa",null,{"$f":"IF(Makro!$C$11=1,'Ark1'!M14,0)*$AY$38","v":0.23838167854905207},{"$f":"IF(Makro!$C$11=1,'Ark1'!N14,0)*$AY$38","v":2.5930142993339948E-2},{"$f":"IF(Makro!$C$11=1,'Ark1'!O14,0)","v":5.7428181372141097E-2},{"$f":"IF(Makro!$C$11=1,'Ark1'!P14,0)","v":5.514539446251275E-4},{"$f":"IF(Makro!$C$11=1,'Ark1'!Q14,0)","v":96.026084290590006},{"$f":"IF(Makro!$C$11=1,'Ark1'!R14,0)","v":454.9555829307958},null,"M",{"$f":"INDEX($AN$30:$AQ$38,BE10,4)","v":2.6303999999999998},7.4112,15.783200000000001,13.8872,6.4391999999999996,14.811199999999999,null,"F"]
[null,null,null,null,null,null,null,null,null,null,"Trykarm.",null,"da",8,null,"M0Eqp/M0Ed",0.9,null,null,null,null,null,null,null,null,null,null,null,null,null,null,null,null,null,null,null,null,null,null,7,461.35819486480847,{"$f":"IF(Makro!E20=1,\"-\",AX16*1000)","v":"-"},null,null,null,null,null,null,{"$f":"IF(Makro!$C$11=1,'Ark1'!M15,0)*$AY$38","v":0.32987961498918139},{"$f":"IF(Makro!$C$11=1,'Ark1'!N15,0)*$AY$38","v":2.7384991635944676E-2},{"$f":"IF(Makro!$C$11=1,'Ark1'!O15,0)","v":6.2195419634221871E-2},{"$f":"IF(Makro!$C$11=1,'Ark1'!P15,0)","v":6.3481451892244281E-4},{"$f":"IF(Makro!$C$11=1,'Ark1'!Q15,0)","v":129.98845249060312},{"$f":"IF(Makro!$C$11=1,'Ark1'!R15,0)","v":455.66595113320221},null,"Mud ",{"$f":"INDEX(Lastresult,1+5*(BE9-1),17)*1000","v":20.482418725488117},22.563837472081758,28.42554446840148,28.449464346725129,22.563837472081758,28.42554446840148,null,"G"]
[null,null,null,null,null,null,null,null,null,null,null,null,"Antal",6.67,null,"fef",{"$f":"Q15*Q14","v":1.8689499301183026},null,null,null,null,null,null,null,null,null,null,null,null,null,null,null,null,null,null,null,null,null,null,8,603.74744641575944,{"$f":"IF(Makro!E20=1,\"-\",AX17*1000)","v":"-"},null,null,"t_d",{"$f":"0.5*N11*MAX(Q25:Q28)/(0.8*N12*N13)","v":1.4999999999999999E-2},"MPa",null,{"$f":"IF(Makro!$C$11=1,'Ark1'!M16,0)*$AY$38","v":0.46135819486480845},{"$f":"IF(Makro!$C$11=1,'Ark1'!N16,0)*$AY$38","v":2.8277046552225595E-2},{"$f":"IF(Makro!$C$11=1,'Ark1'!O16,0)","v":6.7505252560478693E-2},{"$f":"IF(Makro!$C$11=1,'Ark1'!P16,0)","v":7.6077995736461353E-4},{"$f":"IF(Makro!$C$11=1,'Ark1'!Q16,0)","v":177.86483664942327},{"$f":"IF(Makro!$C$11=1,'Ark1'!R16,0)","v":458.33333333333337},null,"u",{"$f":"INDEX(Lastresult,1+5*(BE9-1),15)*1000","v":31.064233181516514},33.542534009512536,42.943588882643176,43.80368799070849,33.542534009512536,42.943588882643176,null,"H"]
[null,null,null,null,null,null,null,null,null,null,"Trækarm.",null,"da",8,"Hvis væggen kun forsynes med ét lag",null,null,null,null,null,null,null,null,null,null,null,null,null,null,null,null,null,null,null,null,null,null,null,null,9,650.84855135958185,{"$f":"IF(Makro!E20=1,\"-\",AX18*1000)","v":"-"},null,null,null,null,null,null,{"$f":"IF(Makro!$C$11=1,'Ark1'!M17,0)*$AY$38","v":0.60374744641575939},{"$f":"IF(Makro!$C$11=1,'Ark1'!N17,0)*$AY$38","v":2.8353722866921859E-2},{"$f":"IF(Makro!$C$11=1,'Ark1'!O17,0)","v":7.3437125604676246E-2},{"$f":"IF(Makro!$C$11=1,'Ark1'!P17,0)","v":8.7915766311351851E-4},{"$f":"IF(Makro!$C$11=1,'Ark1'!Q17,0)","v":229.68519224392304},{"$f":"IF(Makro!$C$11=1,'Ark1'!R17,0)","v":457.23148522251887},null,"wr","-","-","-","-","-","-",null,"I"]
[null,null,null,null,null,null,null,null,null,null,null,null,"Antal",6.67,"armering, skal det være træklaget.",null,null,null,null,null,null,null,null,null,null,null,null,null,null,null,null,null,null,null,null,null,null,null,null,10,710.81676382054127,{"$f":"IF(Makro!E20=1,\"-\",AX19*1000)","v":"-"},null,null,"Ingen negative inddata",{"$f":"IF(MIN(N7,N8,N9,N10,N11,N14,N15,N16,N17,N18,AP40,AP41,N12,N13,N25:Q34,N35:P35,Q12,Q13,Q15,N23)<0,1,0)","v":0},{"$f":"IF(AT18=1,AS18&\" !   \",\"\")","v":""},null,{"$f":"IF(Makro!$C$11=1,'Ark1'!M18,0)*$AY$38","v":0.65084855135958186},{"$f":"IF(Makro!$C$11=1,'Ark1'!N18,0)*$AY$38","v":2.8153001603885373E-2},{"$f":"IF(Makro!$C$11=1,'Ark1'!O18,0)","v":8.0084861800030091E-2},{"$f":"IF(Makro!$C$11=1,'Ark1'!P18,0)","v":8.0322125151080091E-4},{"$f":"IF(Makro!$C$11=1,'Ark1'!Q18,0)","v":230.68434089358982},{"$f":"IF(Makro!$C$11=1,'Ark1'!R18,0)","v":344.80558356815953},null,"e0 ",{"$f":"INDEX(Lastresult,1+5*(BE9-1),3)*1000","v":0.3553127187166869},0.42792609154983624,0.80561064972015661,0.84499786641880203,0.42792609154983624,0.80561064972015661]
[null,null,null,null,null,null,null,null,null,null,"Anvendelsestilstand",null,null,null,"Kritisk last (central)",null,null,null,null,null,null,null,null,null,null,null,null,null,null,null,null,null,null,null,null,null,null,null,null,11,777.72713938339643,{"$f":"IF(Makro!E20=1,\"-\",AX20*1000)","v":"-"},null,null,"f_ck højst 50 MPa",{"$f":"IF(N7>50,1,0)","v":0},{"$f":"IF(AT19=1,AS19&\" !   \",\"\")","v":""},null,{"$f":"IF(Makro!$C$11=1,'Ark1'!M19,0)*$AY$38","v":0.71081676382054126},{"$f":"IF(Makro!$C$11=1,'Ark1'!N19,0)*$AY$38","v":2.8240884182844983E-2},{"$f":"IF(Makro!$C$11=1,'Ark1'!O19,0)","v":8.7559791299448214E-2},{"$f":"IF(Makro!$C$11=1,'Ark1'!P19,0)","v":7.589601804503962E-4},{"$f":"IF(Makro!$C$11=1,'Ark1'!Q19,0)","v":236.54140810904181},{"$f":"IF(Makro!$C$11=1,'Ark1'!R19,0)","v":260.81444995122291},null,"sc0",{"$f":"('Ark1'!$O$31*'Ark1'!$O$30*Kold!BE18/1000-(Kold!BE18/1000)^2)*$Q$8/('Ark1'!$O$30^2+('Ark1'!$O$31-2)*'Ark1'!$O$30*Kold!BE18/1000)","v":8.0768158516002853},{"$f":"('Ark1'!$O$31*'Ark1'!$O$30*Kold!BF18/1000-(Kold!BF18/1000)^2)*$Q$8/('Ark1'!$O$30^2+('Ark1'!$O$31-2)*'Ark1'!$O$30*Kold!BF18/1000)","v":9.4934768217556353},{"$f":"('Ark1'!$O$31*'Ark1'!$O$30*Kold!BG18/1000-(Kold!BG18/1000)^2)*$Q$8/('Ark1'!$O$30^2+('Ark1'!$O$31-2)*'Ark1'!$O$30*Kold!BG18/1000)","v":15.704534568763581},{"$f":"('Ark1'!$O$31*'Ark1'!$O$30*Kold!BH18/1000-(Kold!BH18/1000)^2)*$Q$8/('Ark1'!$O$30^2+('Ark1'!$O$31-2)*'Ark1'!$O$30*Kold!BH18/1000)","v":16.246963397838687},{"$f":"('Ark1'!$O$31*'Ark1'!$O$30*Kold!BI18/1000-(Kold!BI18/1000)^2)*$Q$8/('Ark1'!$O$30^2+('Ark1'!$O$31-2)*'Ark1'!$O$30*Kold!BI18/1000)","v":9.4934768217556353},{"$f":"('Ark1'!$O$31*'Ark1'!$O$30*Kold!BJ18/1000-(Kold!BJ18/1000)^2)*$Q$8/('Ark1'!$O$30^2+('Ark1'!$O$31-2)*'Ark1'!$O$30*Kold!BJ18/1000)","v":15.704534568763581}]
[null,null,null,null,null,null,null,null,null,null,null,"I anvendelsestilstand skønnes  a",null,null,null,"scrd",{"$f":"Q8/(1+12*Q8*N11^2/(PI()^2*Q10*N12^2))","v":16.672085629048787},null,null,null,null,null,null,null,null,null,null,null,null,null,null,null,null,null,null,null,null,null,null,12,876.2143373993689,{"$f":"IF(Makro!E20=1,\"-\",AX21*1000)","v":"-"},null,null,"f_ck mindst 20 MPa",{"$f":"IF(N7<20,1,0)","v":0},"",null,{"$f":"IF(Makro!$C$11=1,'Ark1'!M20,0)*$AY$38","v":0.77772713938339644},{"$f":"IF(Makro!$C$11=1,'Ark1'!N20,0)*$AY$38","v":2.8476531780520214E-2},{"$f":"IF(Makro!$C$11=1,'Ark1'!O20,0)","v":9.5994684279247358E-2},{"$f":"IF(Makro!$C$11=1,'Ark1'!P20,0)","v":7.2684530602114012E-4},{"$f":"IF(Makro!$C$11=1,'Ark1'!Q20,0)","v":243.27336941832445},{"$f":"IF(Makro!$C$11=1,'Ark1'!R20,0)","v":191.1846019939475},null,"sst",{"$f":"INDEX(Lastresult,1+5*(BE9-1),12)","v":458.33333333333337},458.33333333333337,458.33333333333337,458.33333333333337,458.33333333333337,458.33333333333337]
[null,null,null,null,null,null,null,null,null,null,null,"til en passende værdi afhængig af",null,null,null,"fc",{"$f":"AP40/(N12*N13)","v":1.8626153777283486E-3},null,null,null,null,null,null,null,null,null,null,null,null,null,null,null,null,null,null,null,null,null,null,13,980.69440038780169,{"$f":"IF(Makro!E20=1,\"-\",AX22*1000)","v":"-"},null,null,"b og h mindst 90 mm",{"$f":"IF(MIN(N12,N13)<90,1,0)","v":0},"",null,{"$f":"IF(Makro!$C$11=1,'Ark1'!M21,0)*$AY$38","v":0.87621433739936894},{"$f":"IF(Makro!$C$11=1,'Ark1'!N21,0)*$AY$38","v":2.8768524395131306E-2},{"$f":"IF(Makro!$C$11=1,'Ark1'!O21,0)","v":0.10554872685841464},{"$f":"IF(Makro!$C$11=1,'Ark1'!P21,0)","v":7.2595225389928254E-4},{"$f":"IF(Makro!$C$11=1,'Ark1'!Q21,0)","v":258.68561802430992},{"$f":"IF(Makro!$C$11=1,'Ark1'!R21,0)","v":135.96067096170083},null,"ssc",{"$f":"INDEX(Lastresult,1+5*(BE9-1),10)","v":12.120354094646268},38.487027018475167,197.16744145181616,214.45817821735326,38.487027018475167,197.16744145181616]
[null,null,null,null,null,null,null,null,null,null,null,"forholdet mellem lang- og kort-",null,null,null,"ft",{"$f":"AP41/(N12*N13)","v":1.8626153777283486E-3},null,null,null,null,null,null,null,null,null,null,null,null,null,null,null,null,null,null,null,null,null,null,14,1175.0392908378503,{"$f":"IF(Makro!E20=1,\"-\",AX23*1000)","v":"-"},null,null,{"$f":"\"A_c og A_t må højst være \"&BB35&\" mm^2\"","v":"A_c og A_t må højst være 3600 mm^2"},{"$f":"IF(OR(AP40>BB35,AP41>BB35),1,0)","v":0},"",null,{"$f":"IF(Makro!$C$11=1,'Ark1'!M22,0)*$AY$38","v":0.98069440038780165},{"$f":"IF(Makro!$C$11=1,'Ark1'!N22,0)*$AY$38","v":2.8844279640295619E-2},{"$f":"IF(Makro!$C$11=1,'Ark1'!O22,0)","v":0.11641386182692361},{"$f":"IF(Makro!$C$11=1,'Ark1'!P22,0)","v":7.2273332835720637E-4},{"$f":"IF(Makro!$C$11=1,'Ark1'!Q22,0)","v":272.20650484370691},{"$f":"IF(Makro!$C$11=1,'Ark1'!R22,0)","v":84.020098989313652},null,"hc ",{"$f":"INDEX(Lastresult,1+5*(BE9-1),2)*1000","v":42.528306238057723},47.435214495392373,69.751705757507466,71.725387943207565,47.435214495392373,69.751705757507466]
[null,null,null,null,null,null,null,null,null,null,null,"tidslast:","aanv. =",20,null,"Ncr",{"$f":"MIN(N12*N13*Q20*(1+(200000/Q10)*2*MIN(Q21,Q22)),N12*N13*Q20*(1+(Q9/Q20)*2*MIN(Q21,Q22)))/1000","v":3092.8320269049191},null,null,null,null,null,null,null,null,null,null,null,null,null,null,null,null,null,null,null,null,null,null,15,1502.1176922410943,{"$f":"IF(Makro!E20=1,\"-\",AX24*1000)","v":"-"},null,null,"c højst h/3 ved to lag armering",{"$f":"IF(AND(N14>N12/3,AP40>0),1,0)","v":0},"",null,{"$f":"IF(Makro!$C$11=1,'Ark1'!M23,0)*$AY$38","v":1.1750392908378504},{"$f":"IF(Makro!$C$11=1,'Ark1'!N23,0)*$AY$38","v":2.826114334067047E-2},{"$f":"IF(Makro!$C$11=1,'Ark1'!O23,0)","v":0.12882293018018509},{"$f":"IF(Makro!$C$11=1,'Ark1'!P23,0)","v":7.8204412137743444E-4},{"$f":"IF(Makro!$C$11=1,'Ark1'!Q23,0)","v":309.39703182670513},{"$f":"IF(Makro!$C$11=1,'Ark1'!R23,0)","v":38.933102294141968}]
[null,null,"Kontrolparametre","Brudlasttilfælde",null,null,null,null,null,"Anv. -"," Brudlasttilfælde",null,null,"     N1  (kN)","N0  (kN)","   N2  (kN)","w  (kN/m)",null,null,null,null,null,null,null,null,null,null,null,null,null,null,null,null,null,null,null,null,null,null,16,1892.0311817613233,{"$f":"IF(Makro!E20=1,\"-\",AX25*1000)","v":"-"},null,null,{"$f":"\"A_eff > \"&TEXT(0.65*N12*N13/N8,0)&\" mm^2 symmetrisk om vægmidte ikke opfyldt\"","v":"A_eff > 213 mm^2 symmetrisk om vægmidte ikke opfyldt"},{"$f":"IF(MIN(AP40,AP41)*2<0.65*N12*N13/N8,IF(AND(AP41>0.65*N12*N13/N8,N14>=N12/2-20,N14<=N12/2+20),0,1),0)","v":0},{"$f":"IF(AT24=1,AS24&\" !   \",\"\")","v":""},null,{"$f":"IF(Makro!$C$11=1,'Ark1'!M24,0)*$AY$38","v":1.5021176922410944},{"$f":"IF(Makro!$C$11=1,'Ark1'!N24,0)*$AY$38","v":2.4884310430158228E-2},{"$f":"IF(Makro!$C$11=1,'Ark1'!O24,0)","v":0.14306020987399781},{"$f":"IF(Makro!$C$11=1,'Ark1'!P24,0)","v":9.1784214572999934E-4},{"$f":"IF(Makro!$C$11=1,'Ark1'!Q24,0)","v":379.39632961899144},{"$f":"IF(Makro!$C$11=1,'Ark1'!R24,0)","v":-11.26557374061295}]
[null,null,null,{"$f":"IF(Makro!$C$11=1,BE11,\"-\")","v":"A"},{"$f":"IF(Makro!$C$11=1,BF11,\"-\")","v":"B"},{"$f":"IF(Makro!$C$11=1,BG11,\"-\")","v":"C"},{"$f":"IF(Makro!$C$11=1,BH11,\"-\")","v":"D"},{"$f":"IF(Makro!$C$11=1,BI11,\"-\")","v":"E"},{"$f":"IF(Makro!$C$11=1,BJ11,\"-\")","v":"F"},"tilfælde","A",null,null,11.7,9,8.4,1.2,null,null,null,null,null,null,null,null,null,null,null,null,null,null,null,null,null,null,null,null,null,null,17,2145.1802790928946,{"$f":"IF(Makro!E20=1,\"-\",AX26*1000)","v":"-"},null,null,"f_yk højst 600 MPa",{"$f":"IF(N8>600,1,0)","v":0},"",null,{"$f":"IF(Makro!$C$11=1,'Ark1'!M25,0)*$AY$38","v":1.8920311817613233},{"$f":"IF(Makro!$C$11=1,'Ark1'!N25,0)*$AY$38","v":1.6978205232542475E-2},{"$f":"IF(Makro!$C$11=1,'Ark1'!O25,0)","v":0.15947517602038869},{"$f":"IF(Makro!$C$11=1,'Ark1'!P25,0)","v":1.0632928266209583E-3},{"$f":"IF(Makro!$C$11=1,'Ark1'!Q25,0)","v":457.07812518453858},{"$f":"IF(Makro!$C$11=1,'Ark1'!R25,0)","v":-74.50649783113991}]
[null,"NEd","(kN)",{"$f":"IF(Makro!$C$11=1,BE13,\"-\")","v":29.100087932772549},{"$f":"IF(Makro!$C$11=1,BF13,\"-\")","v":95.499976944915332},{"$f":"IF(Makro!$C$11=1,BG13,\"-\")","v":514.09991019121901},{"$f":"IF(Makro!$C$11=1,BH13,\"-\")","v":561.49984380130888},{"$f":"IF(Makro!$C$11=1,BI13,\"-\")","v":95.499976944915332},{"$f":"IF(Makro!$C$11=1,BJ13,\"-\")","v":514.09991019121901},{"$f":"N34+O34+P34","v":70},"B",null,null,78.099999999999994,9,8.4,1.2,null,null,null,null,null,null,null,null,null,null,null,null,null,null,null,null,null,null,null,null,null,null,18,2145.1802790928946,{"$f":"IF(Makro!E20=1,\"-\",AX27*1000)","v":"-"},null,null,"b skal mindst være 4 h",{"$f":"IF(N12>N13/4,1,0)","v":0},"",null,{"$f":"IF(Makro!$C$11=1,'Ark1'!M26,0)*$AY$38","v":2.1451802790928944},{"$f":"IF(Makro!$C$11=1,'Ark1'!N26,0)*$AY$38","v":9.0041051956939663E-3},{"$f":"IF(Makro!$C$11=1,'Ark1'!O26,0)","v":0.17850063403985802},{"$f":"IF(Makro!$C$11=1,'Ark1'!P26,0)","v":1.0840138064749558E-3},{"$f":"IF(Makro!$C$11=1,'Ark1'!Q26,0)","v":458.33333333333337},{"$f":"IF(Makro!$C$11=1,'Ark1'!R26,0)","v":-134.15779038323299}]
[null,"M0Ed"," (kNm)",{"$f":"IF(Makro!$C$11=1,BE14,\"-\")","v":2.6303999999999998},{"$f":"IF(Makro!$C$11=1,BF14,\"-\")","v":7.4112},{"$f":"IF(Makro!$C$11=1,BG14,\"-\")","v":15.783200000000001},{"$f":"IF(Makro!$C$11=1,BH14,\"-\")","v":13.8872},{"$f":"IF(Makro!$C$11=1,BI14,\"-\")","v":6.4391999999999996},{"$f":"IF(Makro!$C$11=1,BJ14,\"-\")","v":14.811199999999999},{"$f":"(N34*N35+O34*O35-P34*P35)/1000+0.125*Q34*(N11/1000)^2","v":4.2},"C",null,null,78.099999999999994,427.6,8.4,1.2,null,null,null,null,null,null,null,null,null,null,null,null,null,null,null,null,null,null,null,null,null,null,19,2145.1802790928946,{"$f":"IF(Makro!E20=1,\"-\",AX28*1000)","v":"-"},null,null,"Partialkoefficienter mindst 1,0",{"$f":"IF(MIN(N9,N10)<1,1,0)","v":0},"",null,{"$f":"IF(Makro!$C$11=1,'Ark1'!M27,0)*$AY$38","v":2.1451802790928944},{"$f":"IF(Makro!$C$11=1,'Ark1'!N27,0)*$AY$38","v":9.0041051956939663E-3},{"$f":"IF(Makro!$C$11=1,'Ark1'!O27,0)","v":0.17850063403985802},{"$f":"IF(Makro!$C$11=1,'Ark1'!P27,0)","v":1.0840138064749558E-3},{"$f":"IF(Makro!$C$11=1,'Ark1'!Q27,0)","v":458.33333333333337},{"$f":"IF(Makro!$C$11=1,'Ark1'!R27,0)","v":-134.15779038323299}]
[null,"M0Rd ","(kNm)",{"$f":"IF(Makro!$C$11=1,BE15,\"-\")","v":20.482418725488117},{"$f":"IF(Makro!$C$11=1,BF15,\"-\")","v":22.563837472081758},{"$f":"IF(Makro!$C$11=1,BG15,\"-\")","v":28.42554446840148},{"$f":"IF(Makro!$C$11=1,BH15,\"-\")","v":28.449464346725129},{"$f":"IF(Makro!$C$11=1,BI15,\"-\")","v":22.563837472081758},{"$f":"IF(Makro!$C$11=1,BJ15,\"-\")","v":28.42554446840148},{"$f":"IF(AT57+0.00001<0.9*AR51,\"ustabil\",\"-\")","v":"-"},"D",null,null,78.099999999999994,427.6,55.8,1.2,null,null,null,null,null,null,null,null,null,null,null,null,null,null,null,null,null,null,null,null,null,null,null,null,null,null,null,"Søjlelængde må højst være 60 h",{"$f":"IF(N11>60*N12,1,0)","v":0},{"$f":"IF(AT28=1,AS28&\" !   \",\"\")","v":""},null,{"$f":"IF(Makro!$C$11=1,'Ark1'!M28,0)*$AY$38","v":2.1451802790928944},{"$f":"IF(Makro!$C$11=1,'Ark1'!N28,0)*$AY$38","v":9.0041051956939663E-3},{"$f":"IF(Makro!$C$11=1,'Ark1'!O28,0)","v":0.17850063403985802},{"$f":"IF(Makro!$C$11=1,'Ark1'!P28,0)","v":1.0840138064749558E-3},{"$f":"IF(Makro!$C$11=1,'Ark1'!Q28,0)","v":458.33333333333337},{"$f":"IF(Makro!$C$11=1,'Ark1'!R28,0)","v":-134.15779038323299}]
[null,"u","(mm)",{"$f":"IF(Makro!$C$11=1,BE16,\"-\")","v":31.064233181516514},{"$f":"IF(Makro!$C$11=1,BF16,\"-\")","v":33.542534009512536},{"$f":"IF(Makro!$C$11=1,BG16,\"-\")","v":42.943588882643176},{"$f":"IF(Makro!$C$11=1,BH16,\"-\")","v":43.80368799070849},{"$f":"IF(Makro!$C$11=1,BI16,\"-\")","v":33.542534009512536},{"$f":"IF(Makro!$C$11=1,BJ16,\"-\")","v":42.943588882643176},{"$f":"AQ86","v":1.0663453195466053},"E",null,null,78.099999999999994,9,8.4,0.6,null,null,null,null,null,null,null,null,null,null,null,null,null,null,null,null,null,null,null,null,null,null,null,null,null,null,null,"Programmet indstillet til brandberegning !",{"$f":"IF(Makro!C11=1,0,1)","v":0},{"$f":"IF(AT29=1,AS29&\" !   \",\"\")","v":""}]
[null,"wk","(mm)",{"$f":"IF(Makro!$C$11=1,BE17,\"-\")","v":"-"},{"$f":"IF(Makro!$C$11=1,BF17,\"-\")","v":"-"},{"$f":"IF(Makro!$C$11=1,BG17,\"-\")","v":"-"},{"$f":"IF(Makro!$C$11=1,BH17,\"-\")","v":"-"},{"$f":"IF(Makro!$C$11=1,BI17,\"-\")","v":"-"},{"$f":"IF(Makro!$C$11=1,BJ17,\"-\")","v":"-"},{"$f":"IF(AQ81=0,\"urevnet\",AS86)","v":"urevnet"},"F",null,null,78.099999999999994,427.6,8.4,0.6,null,null,null,null,null,null,null,null,null,null,null,null,null,null,null,null,null,null,null,null,null,null,null,{"$f":"N25+O25+P25","v":29.1},null,{"$f":"(N25*$N$35+O25*$O$35-P25*$P$35)/1000+0.125*Q25*($N$11/1000)^2","v":2.6303999999999998},null,"For ny bruger: Klik på knappen 'angiv nyt brugernavn' for ibrugtagning.",{"$f":"Makro!E20","v":1},{"$f":"IF(AT30=1,AS30,\"\")","v":"For ny bruger: Klik på knappen 'angiv nyt brugernavn' for ibrugtagning."}]
[null,"e0 / (1+f) ","(o/oo)",{"$f":"IF(Makro!$C$11=1,BE18,\"-\")","v":0.3553127187166869},{"$f":"IF(Makro!$C$11=1,BF18,\"-\")","v":0.42792609154983624},{"$f":"IF(Makro!$C$11=1,BG18,\"-\")","v":0.80561064972015661},{"$f":"IF(Makro!$C$11=1,BH18,\"-\")","v":0.84499786641880203},{"$f":"IF(Makro!$C$11=1,BI18,\"-\")","v":0.42792609154983624},{"$f":"IF(Makro!$C$11=1,BJ18,\"-\")","v":0.80561064972015661},"-","G",null,null,78.099999999999994,427.6,59.3,0.6,null,null,null,null,null,null,null,null,null,null,null,null,null,null,null,null,null,null,null,null,null,null,null,95.5,null,7.4112,null,"Beregning af krybetal",null,null,null,"Minimumsarmering"]
[null,"sc0","(Mpa)",{"$f":"IF(Makro!$C$11=1,BE19,\"-\")","v":8.0768158516002853},{"$f":"IF(Makro!$C$11=1,BF19,\"-\")","v":9.4934768217556353},{"$f":"IF(Makro!$C$11=1,BG19,\"-\")","v":15.704534568763581},{"$f":"IF(Makro!$C$11=1,BH19,\"-\")","v":16.246963397838687},{"$f":"IF(Makro!$C$11=1,BI19,\"-\")","v":9.4934768217556353},{"$f":"IF(Makro!$C$11=1,BJ19,\"-\")","v":15.704534568763581},{"$f":"IF($J$28=\"-\",IF(AQ81=0,AP78,AQ78),\"-\")","v":1.1024931752823961},"H",null,null,78.099999999999994,456,8.4,0.6,null," NB:  Resultaterne skal altid kontrolleres af ansvarlig statiker",null,null,null,null,null,null,null,null,null,null,null,null,null,null,null,null,null,null,null,null,null,514.1,null,15.783200000000001,null,"to",{"$f":"Q13","v":28},null,null,null,"Maks N",{"$f":"MAX($AO$30:$AO$38)*1000","v":593400},"N"]
[null,"sst","(Mpa)",{"$f":"IF(Makro!$C$11=1,BE20,\"-\")","v":458.33333333333337},{"$f":"IF(Makro!$C$11=1,BF20,\"-\")","v":458.33333333333337},{"$f":"IF(Makro!$C$11=1,BG20,\"-\")","v":458.33333333333337},{"$f":"IF(Makro!$C$11=1,BH20,\"-\")","v":458.33333333333337},{"$f":"IF(Makro!$C$11=1,BI20,\"-\")","v":458.33333333333337},{"$f":"IF(Makro!$C$11=1,BJ20,\"-\")","v":458.33333333333337},{"$f":"IF($J$28=\"-\",IF(AQ81=0,AP76,AQ76),\"-\")","v":0.98846129937132421},"I",null,null,78.099999999999994,456,59.3,0.6,null,null,null,null,null,null,null,null,null,null,null,null,null,null,null,null,null,null,null,null,null,null,null,561.5,null,13.8872,null,"RH",{"$f":"Q12*100","v":55.000000000000007},null,null,null,"Ac",{"$f":"$N$12*$N$13","v":180000},"mm2"]
[null,"ssc","(Mpa)",{"$f":"IF(Makro!$C$11=1,BE21,\"-\")","v":12.120354094646268},{"$f":"IF(Makro!$C$11=1,BF21,\"-\")","v":38.487027018475167},{"$f":"IF(Makro!$C$11=1,BG21,\"-\")","v":197.16744145181616},{"$f":"IF(Makro!$C$11=1,BH21,\"-\")","v":214.45817821735326},{"$f":"IF(Makro!$C$11=1,BI21,\"-\")","v":38.487027018475167},{"$f":"IF(Makro!$C$11=1,BJ21,\"-\")","v":197.16744145181616},{"$f":"IF($J$28=\"-\",IF(AQ81=0,AP79,AQ79),\"-\")","v":15.467484989928138}," Anvendelsestilfælde:",null,null,49,9,12,0.6,null,"Vejledning:",null,null,"Betonelementbyggeriers statik",null,null,null,null,null,null,null,null,null,null,null,null,null,null,null,null,null,null,95.5,null,6.4391999999999996,null,"h",{"$f":"N12","v":180},null,null,null,"Asmin",{"$f":"ROUND(0.002*AY33,0)","v":360},"mm2","Asmax",{"$f":"ROUND(MAX(0.04*AY33,0.1*$AY$32/Q9),0)","v":7200}]
[null,"x","(mm)",{"$f":"IF(Makro!$C$11=1,BE22,\"-\")","v":42.528306238057723},{"$f":"IF(Makro!$C$11=1,BF22,\"-\")","v":47.435214495392373},{"$f":"IF(Makro!$C$11=1,BG22,\"-\")","v":69.751705757507466},{"$f":"IF(Makro!$C$11=1,BH22,\"-\")","v":71.725387943207565},{"$f":"IF(Makro!$C$11=1,BI22,\"-\")","v":47.435214495392373},{"$f":"IF(Makro!$C$11=1,BJ22,\"-\")","v":69.751705757507466},{"$f":"IF(AND($J$28=\"-\",J26>0),IF(AQ81=0,\"urevnet\",AR57*1000),\"-\")","v":"urevnet"}," Excentriciteter (mm) :",null,null,72,20,40,null,null,"Polyteknisk Forlag 2010 eller www.bef.dk",null,null,null,null,null,null,null,null,null,null,null,null,null,null,null,null,null,null,null,null,null,514.1,null,14.811199999999999,null,"b",{"$f":"N13","v":1000},null,null,null,"½ Asmin",{"$f":"ROUND(AY34/2,0)","v":180},"mm2","½ Asmax",{"$f":"BB34*0.5","v":3600}]
[null,null,null,null,null,null,null,null,null,null,null,null,null,null,null,null,null,null,null,null,null,null,null,null,null,null,null,null,null,null,null,null,null,null,null,null,null,null,null,null,565,null,12.7752,null,"ho",{"$f":"2*AT34*AT35/(2*(AT34+AT35))","v":152.54237288135593}]
[null,null,null,null,null,null,null,null,null,null,null,null,null,null,null,null,null,null,null,null,null,null,null,null,null,null,null,null,null,null,null,null,null,null,null,null,null,null,null,null,542.5,null,15.379200000000001,null,"fck",{"$f":"N7","v":35},null,null,"Nulstilling for fejl"]
[null,null,null,null,null,null,null,null,null,null,null,null,null,null,null,null,null,null,null,null,null,null,null,null,null,null,null,null,null,null,null,null,null,null,null,null,null,null,null,null,593.4,null,13.3432,null,"fcm",{"$f":"AT37+8","v":43},null,null,null,"Testfaktor",{"$f":"IF(MAX(AT18,AT19,AT20,AT22,AT23,AT24,AT26,AT27,AT28)=1,0,1)","v":1}]
[null,null,null,null,null,null,null,null,null,null,null,null,null,null,null,null,null,null,null,null,null,null,null,null,null,null,null,null,null,null,null,null,null,null,null,null,null,null,null,null,null,null,null,null,"a1",{"$f":"IF(AT38<35,1,(35/AT38)^0.7)","v":0.86580424765236474}]
[null,null,null,null,null,null,null,null,null,null,null,null,null,null,null,null,null,null,null,null,null,null,null,null,null,null,null,null,null,null,null,null,null,null,null,null,null,null,null,"Trykarmering",null,{"$f":"N15^2*N16*PI()/4","v":335.27076799110273},"mm^2",null,"a2",{"$f":"IF(AT38<35,1,(35/AT38)^0.2)","v":0.95966557859456925}]
[null,null,null,null,null,null,null,null,null,null,null,null,null,null,null,null,null,null,null,null,null,null,null,null,null,null,null,null,null,null,null,null,null,null,null,null,null,null,null,"Trækarmering",null,{"$f":"N17^2*N18*PI()/4","v":335.27076799110273},"mm^2",null,"f",{"$f":"(1/(0.1+AT32^0.2))*(16.8/AT38^0.5)*(1+10*AT39*(1-AT33/100)/AT36^(1/3))*AT40","v":2.0766110334647805}]
[]
[]
[null,null,null,null,null,null,null,null,null,null,null,null,null,null,null,null,null,null,null,null,null,null,null,null,null,null,null,null,null,null,null,null,null,null,null,null,null,null,null,"gc",1,null,"ANVENDELSESLAST",null,null,"Mo",null,"sc,max","sc,min","sc","st","hc","u","a","Mt","a*fc","a*ft","B","C","D","p","q","C'","y'","b","m","Ec","Atr","Syt","Iyt","z","Io","sc","sm","hc"]
[null,null,null,null,null,null,null,null,null,null,null,null,null,null,null,null,null,null,null,null,null,null,null,null,null,null,null,null,null,null,null,null,null,null,null,null,null,null,null,"ga",1,null,null,null,null,{"$f":"BC45-AR48*BA45","v":4.6693796335390957E-3},null,{"$f":"IF(BL45*SQRT(4*ABS(BI45)/3)-BF45/3<=AO51,BC45/(BN45*AO52*AO51^2),BU45)","v":1.5773590468824374},{"$f":"IF(BL45*SQRT(4*ABS(BI45)/3)-BF45/3<=AO51,0,BV45)","v":0},{"$f":"BB45*(AZ45-AO53)*AV45/AZ45","v":17.377215142559088},{"$f":"BB45*(AO51-AO53-AZ45)*AV45/AZ45","v":18.047699345165061},{"$f":"IF(BL45*SQRT(4*ABS(BI45)/3)-BF45/3<=AO51,BL45*SQRT(4*ABS(BI45)/3)-BF45/3,BW45)","v":8.9053654451532516E-2},{"$f":"0.1*(AV45/(AZ45*BO45))*AO57^2","v":2.2955344588045253E-3},{"$f":"AO54","v":20},{"$f":"IF(J27>0,AR51+AO51*AR48/20,0)+0.000000000001","v":4.8300900010000009E-3},{"$f":"BB45*AO55/(AO51*AO52)","v":3.7252307554566967E-2},{"$f":"BB45*AO56/(AO51*AO52)","v":3.7252307554566967E-2},{"$f":"-6*AO51*(0.25-0.5*BC45/(AO51*AR50))","v":-6.3025710569918542E-2},{"$f":"-6*AO51*(BD45*(0.5*AO51-AO53)-BE45*(0.5*AO51-AO53)-(BD45+BE45)*AO51*BC45/(AO51*AR50))","v":5.5513943177308957E-3},{"$f":"6*AO51*((BD45*AO53-BE45*(AO51-AO53))*(0.5*AO51-AO53)-(BD45*AO53+BE45*(AO51-AO53))*BC45/AR50)","v":-7.0078794939044205E-4},{"$f":"(3*BG45-BF45^2)/3","v":4.2273142534498482E-3},{"$f":"(9*BG45*BF45-27*BH45-2*BF45^3)/27","v":6.0270577819257086E-4},{"$f":"0.5*BJ45*(3/ABS(BI45))^(3/2)","v":5.6971865533670805},{"$f":"IF(BI45>0,SINH(ASINH(BK45)/3),IF(BK45>=1,COSH(ACOSH(BK45)/3),IF(BK45<=-1,-COSH(ACOSH(ABS(BK45))/3),COS(ACOS(BK45)/3))))","v":0.90634829254439242},{"$f":"AZ45/AO51","v":0.49474252473073621},{"$f":"0.5*BM45*(0.5-BM45/3)+BD45*(0.5-AO53/AO51)*(BM45-AO53/AO51)/BM45+BE45*(0.5-AO53/AO51)*(1-AO53/AO51-BM45)/BM45","v":9.4510411042659059E-2},{"$f":"IF(BL45*SQRT(4*ABS(BI45)/3)-BF45/3<=AO51,AO50*(1-AO49*AV45/AO48),AO50*(1-AO49*AV45/AO48-(1-1)*BV45/AO48))","v":10000},{"$f":"(1+BD45+BE45)*AO51*AO52","v":0.1934108307196441},{"$f":"0.5*(AO51-AO53)*(BE45-BD45)*AO51*AO52","v":0},{"$f":"AO52*AO51^3/12+(0.5*AO51-AO53)^2*(BD45+BE45)*AO52*AO51","v":5.1952707679911024E-4},{"$f":"BQ45/BP45","v":0},{"$f":"BR45-BP45*BS45^2","v":5.1952707679911024E-4},{"$f":"AR50/BP45+(BC45+BS45*AR50)*(0.5*AO51+BS45)/BT45","v":1.1987136940935814},{"$f":"AR50/BP45+(BC45+BS45*AR50)*(-0.5*AO51+BS45)/BT45","v":-0.47476250956574073},{"$f":"AR50*BT45/((BC45+AR50*BS45)*BP45)+(0.5*AO51+BS45)","v":0.12893428927464431}]
[null,null,null,null,null,null,null,null,null,null,null,null,null,null,null,null,null,null,null,null,null,null,null,null,null,null,null,null,null,null,null,null,null,null,null,null,null,null,null,"fck",{"$f":"N7","v":35},"MPa",null,null,null,{"$f":"BC46-AR48*BA46","v":4.2342973684509526E-3},{"$f":"BA46/BA45","v":0.7865889488474046},{"$f":"IF(BL46*SQRT(4*ABS(BI46)/3)-BF46/3<=AO51,BC46/(BN46*AO52*AO51^2),BU46)","v":1.3797773205094961},{"$f":"IF(BL46*SQRT(4*ABS(BI46)/3)-BF46/3<=AO51,0,BV46)","v":0},{"$f":"BB46*(AZ46-AO53)*AV46/AZ46","v":16.449607910226664},{"$f":"BB46*(AO51-AO53-AZ46)*AV46/AZ46","v":11.415238339681466},{"$f":"IF(BL46*SQRT(4*ABS(BI46)/3)-BF46/3<=AO51,BL46*SQRT(4*ABS(BI46)/3)-BF46/3,BW46)","v":9.9033549881083219E-2},{"$f":"0.1*(AV46/(AZ46*BO46))*AO57^2","v":1.8056420369940472E-3},{"$f":"AO54","v":20},{"$f":"AR51+BA45*AR48","v":4.3607103674609057E-3},{"$f":"BB46*AO55/(AO51*AO52)","v":3.7252307554566967E-2},{"$f":"BB46*AO56/(AO51*AO52)","v":3.7252307554566967E-2},{"$f":"-6*AO51*(0.25-0.5*BC46/(AO51*AR50))","v":-8.3139107236355994E-2},{"$f":"-6*AO51*(BD46*(0.5*AO51-AO53)-BE46*(0.5*AO51-AO53)-(BD46+BE46)*AO51*BC46/(AO51*AR50))","v":5.0119196019496014E-3},{"$f":"6*AO51*((BD46*AO53-BE46*(AO51-AO53))*(0.5*AO51-AO53)-(BD46*AO53+BE46*(AO51-AO53))*BC46/AR50)","v":-6.5223522497012568E-4},{"$f":"(3*BG46-BF46^2)/3","v":2.7078825512635006E-3},{"$f":"(9*BG46*BF46-27*BH46-2*BF46^3)/27","v":5.5590762531763796E-4},{"$f":"0.5*BJ46*(3/ABS(BI46))^(3/2)","v":10.249667615037319},{"$f":"IF(BI46>0,SINH(ASINH(BK46)/3),IF(BK46>=1,COSH(ACOSH(BK46)/3),IF(BK46<=-1,-COSH(ACOSH(ABS(BK46))/3),COS(ACOS(BK46)/3))))","v":1.1869438787069524},{"$f":"AZ46/AO51","v":0.55018638822824018},{"$f":"0.5*BM46*(0.5-BM46/3)+BD46*(0.5-AO53/AO51)*(BM46-AO53/AO51)/BM46+BE46*(0.5-AO53/AO51)*(1-AO53/AO51-BM46)/BM46","v":9.7544599520234324E-2},{"$f":"IF(BL46*SQRT(4*ABS(BI46)/3)-BF46/3<=AO51,AO50*(1-AO49*AV46/AO48),AO50*(1-AO49*AV46/AO48-(1-1)*BV46/AO48))","v":10000},{"$f":"(1+BD46+BE46)*AO51*AO52","v":0.1934108307196441},{"$f":"0.5*(AO51-AO53)*(BE46-BD46)*AO51*AO52","v":0},{"$f":"AO52*AO51^3/12+(0.5*AO51-AO53)^2*(BD46+BE46)*AO52*AO51","v":5.1952707679911024E-4},{"$f":"BQ46/BP46","v":0},{"$f":"BR46-BP46*BS46^2","v":5.1952707679911024E-4},{"$f":"AR50/BP46+(BC46+BS46*AR50)*(0.5*AO51+BS46)/BT46","v":1.117400960060946},{"$f":"AR50/BP46+(BC46+BS46*AR50)*(-0.5*AO51+BS46)/BT46","v":-0.39344977553310545},{"$f":"AR50*BT46/((BC46+AR50*BS46)*BP46)+(0.5*AO51+BS46)","v":0.13312511161593146}]
[null,null,null,null,null,null,null,null,null,null,null,null,null,null,null,null,null,null,null,null,null,null,null,null,null,null,null,null,null,null,null,null,null,null,null,null,null,null,null,"Es",200000,"MPa","Max_N",{"$f":"(AO51*AO52+AO54*(AO55+AO56))*AO48/(1+(12*(AO48/AO50)/PI()^2)*(AO57/AO51)^2)","v":2.5051400278882348},null,{"$f":"BC47-AR48*BA47","v":4.2023110169007354E-3},{"$f":"BA47/BA46","v":0.98171851851602032},{"$f":"IF(BL47*SQRT(4*ABS(BI47)/3)-BF47/3<=AO51,BC47/(BN47*AO52*AO51^2),BU47)","v":1.3658935325187551},{"$f":"IF(BL47*SQRT(4*ABS(BI47)/3)-BF47/3<=AO51,0,BV47)","v":0},{"$f":"BB47*(AZ47-AO53)*AV47/AZ47","v":16.375696418720501},{"$f":"BB47*(AO51-AO53-AZ47)*AV47/AZ47","v":10.979739160415992},{"$f":"IF(BL47*SQRT(4*ABS(BI47)/3)-BF47/3<=AO51,BL47*SQRT(4*ABS(BI47)/3)-BF47/3,BW47)","v":9.9862678374640662E-2},{"$f":"0.1*(AV47/(AZ47*BO47))*AO57^2","v":1.7726322255280451E-3},{"$f":"AO54","v":20},{"$f":"AR51+BA46*AR48","v":4.3264129990099537E-3},{"$f":"BB47*AO55/(AO51*AO52)","v":3.7252307554566967E-2},{"$f":"BB47*AO56/(AO51*AO52)","v":3.7252307554566967E-2},{"$f":"-6*AO51*(0.25-0.5*BC47/(AO51*AR50))","v":-8.4608784501787451E-2},{"$f":"-6*AO51*(BD47*(0.5*AO51-AO53)-BE47*(0.5*AO51-AO53)-(BD47+BE47)*AO51*BC47/(AO51*AR50))","v":4.9725004159111809E-3},{"$f":"6*AO51*((BD47*AO53-BE47*(AO51-AO53))*(0.5*AO51-AO53)-(BD47*AO53+BE47*(AO51-AO53))*BC47/AR50)","v":-6.4868749822666761E-4},{"$f":"(3*BG47-BF47^2)/3","v":2.5862849442878778E-3},{"$f":"(9*BG47*BF47-27*BH47-2*BF47^3)/27","v":5.5331393521024339E-4},{"$f":"0.5*BJ47*(3/ABS(BI47))^(3/2)","v":10.92971750307847},1.2203031598723215,{"$f":"AZ47/AO51","v":0.55479265763689256},{"$f":"0.5*BM47*(0.5-BM47/3)+BD47*(0.5-AO53/AO51)*(BM47-AO53/AO51)/BM47+BE47*(0.5-AO53/AO51)*(1-AO53/AO51-BM47)/BM47","v":9.7761108184841836E-2},{"$f":"IF(BL47*SQRT(4*ABS(BI47)/3)-BF47/3<=AO51,AO50*(1-AO49*AV47/AO48),AO50*(1-AO49*AV47/AO48-(1-1)*BV47/AO48))","v":10000},{"$f":"(1+BD47+BE47)*AO51*AO52","v":0.1934108307196441},{"$f":"0.5*(AO51-AO53)*(BE47-BD47)*AO51*AO52","v":0},{"$f":"AO52*AO51^3/12+(0.5*AO51-AO53)^2*(BD47+BE47)*AO52*AO51","v":5.1952707679911024E-4},0,5.1952707679911024E-4,{"$f":"AR50/BP47+(BC47+BS47*AR50)*(0.5*AO51+BS47)/BT47","v":1.1114594734697105},{"$f":"AR50/BP47+(BC47+BS47*AR50)*(-0.5*AO51+BS47)/BT47","v":-0.38750828894187006},{"$f":"AR50*BT47/((BC47+AR50*BS47)*BP47)+(0.5*AO51+BS47)","v":0.13346698324097478}]
[null,null,null,null,null,null,null,null,null,null,null,null,null,null,null,null,null,null,null,null,null,null,null,null,null,null,null,null,null,null,null,null,null,null,null,null,null,null,null,"fcd",{"$f":"AO46/AO44","v":35},"MPa","Nd",{"$f":"J26/1000+0.00001","v":7.0010000000000003E-2},"MN",{"$f":"BC48-AR48*BA48","v":4.200154684225907E-3},0.9987535716732483,{"$f":"IF(BL48*SQRT(4*ABS(BI48)/3)-BF48/3<=AO51,BC48/(BN48*AO52*AO51^2),BU48)","v":1.3649612218765603},{"$f":"IF(BL48*SQRT(4*ABS(BI48)/3)-BF48/3<=AO51,0,BV48)","v":0},{"$f":"BB48*(AZ48-AO53)*AV48/AZ48","v":16.370688841795197},{"$f":"BB48*(AO51-AO53-AZ48)*AV48/AZ48","v":10.950650147544827},{"$f":"IF(BL48*SQRT(4*ABS(BI48)/3)-BF48/3<=AO51,BL48*SQRT(4*ABS(BI48)/3)-BF48/3,BW48)","v":9.9919057584192894E-2},{"$f":"0.1*(AV48/(AZ48*BO48))*AO57^2","v":1.7704227665092341E-3},{"$f":"AO54","v":20},{"$f":"AR51+BA47*AR48","v":4.3241019821092189E-3},{"$f":"BB48*AO55/(AO51*AO52)","v":3.7252307554566967E-2},{"$f":"BB48*AO56/(AO51*AO52)","v":3.7252307554566967E-2},{"$f":"-6*AO51*(0.25-0.5*BC48/(AO51*AR50))","v":-8.4707813936185442E-2},{"$f":"-6*AO51*(BD48*(0.5*AO51-AO53)-BE48*(0.5*AO51-AO53)-(BD48+BE48)*AO51*BC48/(AO51*AR50))","v":4.9698442819492332E-3},{"$f":"6*AO51*((BD48*AO53-BE48*(AO51-AO53))*(0.5*AO51-AO53)-(BD48*AO53+BE48*(AO51-AO53))*BC48/AR50)","v":-6.4844844617009234E-4},2.5780397013334291E-3,5.5314346179137302E-4,10.978809971386141,1.2226516222531474,{"$f":"AZ48/AO51","v":0.55510587546773837},{"$f":"0.5*BM48*(0.5-BM48/3)+BD48*(0.5-AO53/AO51)*(BM48-AO53/AO51)/BM48+BE48*(0.5-AO53/AO51)*(1-AO53/AO51-BM48)/BM48","v":9.7775625842277405E-2},{"$f":"IF(BL48*SQRT(4*ABS(BI48)/3)-BF48/3<=AO51,AO50*(1-AO49*AV48/AO48),AO50*(1-AO49*AV48/AO48-(1-1)*BV48/AO48))","v":10000},{"$f":"(1+BD48+BE48)*AO51*AO52","v":0.1934108307196441},{"$f":"0.5*(AO51-AO53)*(BE48-BD48)*AO51*AO52","v":0},{"$f":"AO52*AO51^3/12+(0.5*AO51-AO53)^2*(BD48+BE48)*AO52*AO51","v":5.1952707679911024E-4},0,5.1952707679911024E-4,{"$f":"AR50/BP48+(BC48+BS48*AR50)*(0.5*AO51+BS48)/BT48","v":1.1110591256719642},{"$f":"AR50/BP48+(BC48+BS48*AR50)*(-0.5*AO51+BS48)/BT48","v":-0.38710794114412361},{"$f":"AR50*BT48/((BC48+AR50*BS48)*BP48)+(0.5*AO51+BS48)","v":0.13349021417616305}]
[null,null,null,null,null,null,null,null,null,null,null,null,null,null,null,null,null,null,null,null,null,null,null,null,null,null,null,null,null,null,null,null,null,null,null,null,null,null,null,"k",0,null,"Nf",0,"MN",{"$f":"BC49-AR48*BA49","v":4.2000103488466899E-3},0.99991650607261851,{"$f":"IF(BL49*SQRT(4*ABS(BI49)/3)-BF49/3<=AO51,BC49/(BN49*AO52*AO51^2),BU49)","v":1.3648988337578216},{"$f":"IF(BL49*SQRT(4*ABS(BI49)/3)-BF49/3<=AO51,0,BV49)","v":0},{"$f":"BB49*(AZ49-AO53)*AV49/AZ49","v":16.370353545777835},{"$f":"BB49*(AO51-AO53-AZ49)*AV49/AZ49","v":10.948704277668648},{"$f":"IF(BL49*SQRT(4*ABS(BI49)/3)-BF49/3<=AO51,BL49*SQRT(4*ABS(BI49)/3)-BF49/3,BW49)","v":9.9922833545628489E-2},{"$f":"0.1*(AV49/(AZ49*BO49))*AO57^2","v":1.7702749469593326E-3},{"$f":"AO54","v":20},{"$f":"AR51+BA48*AR48","v":4.3239472978833125E-3},{"$f":"BB49*AO55/(AO51*AO52)","v":3.7252307554566967E-2},{"$f":"BB49*AO56/(AO51*AO52)","v":3.7252307554566967E-2},{"$f":"-6*AO51*(0.25-0.5*BC49/(AO51*AR50))","v":-8.471444231324185E-2},{"$f":"-6*AO51*(BD49*(0.5*AO51-AO53)-BE49*(0.5*AO51-AO53)-(BD49+BE49)*AO51*BC49/(AO51*AR50))","v":4.9696664978639334E-3},{"$f":"6*AO51*((BD49*AO53-BE49*(AO51-AO53))*(0.5*AO51-AO53)-(BD49*AO53+BE49*(AO51-AO53))*BC49/AR50)","v":-6.4843244560241554E-4},2.5774875857160731E-3,5.5313207086510135E-4,10.982111605376438,1.2228092871047662,{"$f":"AZ49/AO51","v":0.55512685303126941},{"$f":"0.5*BM49*(0.5-BM49/3)+BD49*(0.5-AO53/AO51)*(BM49-AO53/AO51)/BM49+BE49*(0.5-AO53/AO51)*(1-AO53/AO51-BM49)/BM49","v":9.7776597220388894E-2},{"$f":"IF(BL49*SQRT(4*ABS(BI49)/3)-BF49/3<=AO51,AO50*(1-AO49*AV49/AO48),AO50*(1-AO49*AV49/AO48-(1-1)*BV49/AO48))","v":10000},{"$f":"(1+BD49+BE49)*AO51*AO52","v":0.1934108307196441},{"$f":"0.5*(AO51-AO53)*(BE49-BD49)*AO51*AO52","v":0},{"$f":"AO52*AO51^3/12+(0.5*AO51-AO53)^2*(BD49+BE49)*AO52*AO51","v":5.1952707679911024E-4},0,5.1952707679911024E-4,{"$f":"AR50/BP49+(BC49+BS49*AR50)*(0.5*AO51+BS49)/BT49","v":1.111032329031417},{"$f":"AR50/BP49+(BC49+BS49*AR50)*(-0.5*AO51+BS49)/BT49","v":-0.38708114450357634},{"$f":"AR50*BT49/((BC49+AR50*BS49)*BP49)+(0.5*AO51+BS49)","v":0.13349176998839918}]
[null,null,null,null,null,null,null,null,null,null,null,null,null,null,null,null,null,null,null,null,null,null,null,null,null,null,null,null,null,null,null,null,null,null,null,null,null,null,null,"E",{"$f":"AO47/AO54","v":10000},"MPa","N",{"$f":"AR49+AR48","v":7.0010000000000003E-2},"MN",{"$f":"BC50-AR48*BA50","v":4.2000006923483893E-3},0.99999441370475339,{"$f":"IF(BL50*SQRT(4*ABS(BI50)/3)-BF50/3<=AO51,BC50/(BN50*AO52*AO51^2),BU50)","v":1.3648946598677691},{"$f":"IF(BL50*SQRT(4*ABS(BI50)/3)-BF50/3<=AO51,0,BV50)","v":0},{"$f":"BB50*(AZ50-AO53)*AV50/AZ50","v":16.37033111290593},{"$f":"BB50*(AO51-AO53-AZ50)*AV50/AZ50","v":10.948574098217694},{"$f":"IF(BL50*SQRT(4*ABS(BI50)/3)-BF50/3<=AO51,BL50*SQRT(4*ABS(BI50)/3)-BF50/3,BW50)","v":9.992308617931113E-2},{"$f":"0.1*(AV50/(AZ50*BO50))*AO57^2","v":1.7702650576808113E-3},{"$f":"AO54","v":20},{"$f":"AR51+BA49*AR48","v":4.3239369490366232E-3},{"$f":"BB50*AO55/(AO51*AO52)","v":3.7252307554566967E-2},{"$f":"BB50*AO56/(AO51*AO52)","v":3.7252307554566967E-2},{"$f":"-6*AO51*(0.25-0.5*BC50/(AO51*AR50))","v":-8.4714885771891582E-2},{"$f":"-6*AO51*(BD50*(0.5*AO51-AO53)-BE50*(0.5*AO51-AO53)-(BD50+BE50)*AO51*BC50/(AO51*AR50))","v":4.969654603566168E-3},{"$f":"6*AO51*((BD50*AO53-BE50*(AO51-AO53))*(0.5*AO51-AO53)-(BD50*AO53+BE50*(AO51-AO53))*BC50/AR50)","v":-6.4843137511561661E-4},{"$f":"(3*BG50-BF50^2)/3","v":2.5774506464512881E-3},{"$f":"(9*BG50*BF50-27*BH50-2*BF50^3)/27","v":5.5313130886445203E-4},{"$f":"0.5*BJ50*(3/ABS(BI50))^(3/2)","v":10.982332565414307},{"$f":"IF(BI50>0,SINH(ASINH(BK50)/3),IF(BK50>=1,COSH(ACOSH(BK50)/3),IF(BK50<=-1,-COSH(ACOSH(ABS(BK50))/3),COS(ACOS(BK50)/3))))","v":1.2228198374946482},{"$f":"AZ50/AO51","v":0.55512825655172848},{"$f":"0.5*BM50*(0.5-BM50/3)+BD50*(0.5-AO53/AO51)*(BM50-AO53/AO51)/BM50+BE50*(0.5-AO53/AO51)*(1-AO53/AO51-BM50)/BM50","v":9.7776662207029019E-2},{"$f":"IF(BL50*SQRT(4*ABS(BI50)/3)-BF50/3<=AO51,AO50*(1-AO49*AV50/AO48),AO50*(1-AO49*AV50/AO48-(1-1)*BV50/AO48))","v":10000},{"$f":"(1+BD50+BE50)*AO51*AO52","v":0.1934108307196441},{"$f":"0.5*(AO51-AO53)*(BE50-BD50)*AO51*AO52","v":0},{"$f":"AO52*AO51^3/12+(0.5*AO51-AO53)^2*(BD50+BE50)*AO52*AO51","v":5.1952707679911024E-4},0,5.1952707679911024E-4,{"$f":"AR50/BP50+(BC50+BS50*AR50)*(0.5*AO51+BS50)/BT50","v":1.1110305362544017},{"$f":"AR50/BP50+(BC50+BS50*AR50)*(-0.5*AO51+BS50)/BT50","v":-0.38707935172656116},{"$f":"AR50*BT50/((BC50+AR50*BS50)*BP50)+(0.5*AO51+BS50)","v":0.13349187408095767}]
[null,null,null,null,null,null,null,null,null,null,null,null,null,null,null,null,null,null,null,null,null,null,null,null,null,null,null,null,null,null,null,null,null,null,null,null,null,null,null,"h",{"$f":"$N$12/1000","v":0.18},"m","Mo",{"$f":"J27/1000","v":4.2000000000000006E-3},"MNm",{"$f":"BC51-AR48*BA51","v":4.2000000463187194E-3},0.99999962626982741,{"$f":"IF(BL51*SQRT(4*ABS(BI51)/3)-BF51/3<=AO51,BC51/(BN51*AO52*AO51^2),BU51)","v":1.3648943806305645},{"$f":"IF(BL51*SQRT(4*ABS(BI51)/3)-BF51/3<=AO51,0,BV51)","v":0},{"$f":"BB51*(AZ51-AO53)*AV51/AZ51","v":16.370329612121502},{"$f":"BB51*(AO51-AO53-AZ51)*AV51/AZ51","v":10.948565389102962},{"$f":"IF(BL51*SQRT(4*ABS(BI51)/3)-BF51/3<=AO51,BL51*SQRT(4*ABS(BI51)/3)-BF51/3,BW51)","v":9.992310308080822E-2},{"$f":"0.1*(AV51/(AZ51*BO51))*AO57^2","v":1.7702643960793459E-3},{"$f":"AO54","v":20},{"$f":"AR51+BA50*AR48","v":4.3239362566882345E-3},{"$f":"BB51*AO55/(AO51*AO52)","v":3.7252307554566967E-2},{"$f":"BB51*AO56/(AO51*AO52)","v":3.7252307554566967E-2},{"$f":"-6*AO51*(0.25-0.5*BC51/(AO51*AR50))","v":-8.4714915439727131E-2},{"$f":"-6*AO51*(BD51*(0.5*AO51-AO53)-BE51*(0.5*AO51-AO53)-(BD51+BE51)*AO51*BC51/(AO51*AR50))","v":4.9696538078255288E-3},{"$f":"6*AO51*((BD51*AO53-BE51*(AO51-AO53))*(0.5*AO51-AO53)-(BD51*AO53+BE51*(AO51-AO53))*BC51/AR50)","v":-6.4843130349895891E-4},2.5774481751721558E-3,5.5313125788622182E-4,10.982347348182298,1.2228205433360182,{"$f":"AZ51/AO51","v":0.5551283504489346},{"$f":"0.5*BM51*(0.5-BM51/3)+BD51*(0.5-AO53/AO51)*(BM51-AO53/AO51)/BM51+BE51*(0.5-AO53/AO51)*(1-AO53/AO51-BM51)/BM51","v":9.7776666554694663E-2},{"$f":"IF(BL51*SQRT(4*ABS(BI51)/3)-BF51/3<=AO51,AO50*(1-AO49*AV51/AO48),AO50*(1-AO49*AV51/AO48-(1-1)*BV51/AO48))","v":10000},{"$f":"(1+BD51+BE51)*AO51*AO52","v":0.1934108307196441},{"$f":"0.5*(AO51-AO53)*(BE51-BD51)*AO51*AO52","v":0},{"$f":"AO52*AO51^3/12+(0.5*AO51-AO53)^2*(BD51+BE51)*AO52*AO51","v":5.1952707679911024E-4},0,5.1952707679911024E-4,{"$f":"AR50/BP51+(BC51+BS51*AR50)*(0.5*AO51+BS51)/BT51","v":1.1110304163157925},{"$f":"AR50/BP51+(BC51+BS51*AR50)*(-0.5*AO51+BS51)/BT51","v":-0.38707923178795201},{"$f":"AR50*BT51/((BC51+AR50*BS51)*BP51)+(0.5*AO51+BS51)","v":0.13349188104487369}]
[null,null,null,null,null,null,null,null,null,null,null,null,null,null,null,null,null,null,null,null,null,null,null,null,null,null,null,null,null,null,null,null,null,null,null,null,null,null,null,"b",{"$f":"$N$13/1000","v":1},"m","u",{"$f":"BA57","v":1.7702643486441779E-3},"m",{"$f":"BC52-AR48*BA52","v":4.2000000030987632E-3},0.99999997499711502,{"$f":"IF(BL52*SQRT(4*ABS(BI52)/3)-BF52/3<=AO51,BC52/(BN52*AO52*AO51^2),BU52)","v":1.3648943619493497},{"$f":"IF(BL52*SQRT(4*ABS(BI52)/3)-BF52/3<=AO51,0,BV52)","v":0},{"$f":"BB52*(AZ52-AO53)*AV52/AZ52","v":16.370329511717678},{"$f":"BB52*(AO51-AO53-AZ52)*AV52/AZ52","v":10.948564806455593},{"$f":"IF(BL52*SQRT(4*ABS(BI52)/3)-BF52/3<=AO51,BL52*SQRT(4*ABS(BI52)/3)-BF52/3,BW52)","v":9.9923104211533512E-2},{"$f":"0.1*(AV52/(AZ52*BO52))*AO57^2","v":1.7702643518176288E-3},{"$f":"AO54","v":20},{"$f":"AR51+BA51*AR48","v":4.3239362103695157E-3},{"$f":"BB52*AO55/(AO51*AO52)","v":3.7252307554566967E-2},{"$f":"BB52*AO56/(AO51*AO52)","v":3.7252307554566967E-2},{"$f":"-6*AO51*(0.25-0.5*BC52/(AO51*AR50))","v":-8.4714917424531549E-2},{"$f":"-6*AO51*(BD52*(0.5*AO51-AO53)-BE52*(0.5*AO51-AO53)-(BD52+BE52)*AO51*BC52/(AO51*AR50))","v":4.9696537545897762E-3},{"$f":"6*AO51*((BD52*AO53-BE52*(AO51-AO53))*(0.5*AO51-AO53)-(BD52*AO53+BE52*(AO51-AO53))*BC52/AR50)","v":-6.4843129870774136E-4},2.577448009841376E-3,5.5313125447573508E-4,10.982348337163964,1.2228205905574727,{"$f":"AZ52/AO51","v":0.55512835673074179},{"$f":"0.5*BM52*(0.5-BM52/3)+BD52*(0.5-AO53/AO51)*(BM52-AO53/AO51)/BM52+BE52*(0.5-AO53/AO51)*(1-AO53/AO51-BM52)/BM52","v":9.7776666845557331E-2},{"$f":"IF(BL52*SQRT(4*ABS(BI52)/3)-BF52/3<=AO51,AO50*(1-AO49*AV52/AO48),AO50*(1-AO49*AV52/AO48-(1-1)*BV52/AO48))","v":10000},{"$f":"(1+BD52+BE52)*AO51*AO52","v":0.1934108307196441},{"$f":"0.5*(AO51-AO53)*(BE52-BD52)*AO51*AO52","v":0},{"$f":"AO52*AO51^3/12+(0.5*AO51-AO53)^2*(BD52+BE52)*AO52*AO51","v":5.1952707679911024E-4},0,5.1952707679911024E-4,{"$f":"AR50/BP52+(BC52+BS52*AR50)*(0.5*AO51+BS52)/BT52","v":1.1110304082917937},{"$f":"AR50/BP52+(BC52+BS52*AR50)*(-0.5*AO51+BS52)/BT52","v":-0.38707922376395321},{"$f":"AR50*BT52/((BC52+AR50*BS52)*BP52)+(0.5*AO51+BS52)","v":0.13349188151076591}]
[null,null,null,null,null,null,null,null,null,null,null,null,null,null,null,null,null,null,null,null,null,null,null,null,null,null,null,null,null,null,null,null,null,null,null,null,null,null,null,"a",{"$f":"N14/1000","v":0.04},"m","ec,max",{"$f":"1000*AV57/BO57","v":0.13648943606099551},"o/oo",{"$f":"BC53-AR48*BA53","v":4.2000000002073105E-3},0.99999999832728492,{"$f":"IF(BL53*SQRT(4*ABS(BI53)/3)-BF53/3<=AO51,BC53/(BN53*AO52*AO51^2),BU53)","v":1.3648943606995603},{"$f":"IF(BL53*SQRT(4*ABS(BI53)/3)-BF53/3<=AO51,0,BV53)","v":0},{"$f":"BB53*(AZ53-AO53)*AV53/AZ53","v":16.370329505000583},{"$f":"BB53*(AO51-AO53-AZ53)*AV53/AZ53","v":10.94856476747597},{"$f":"IF(BL53*SQRT(4*ABS(BI53)/3)-BF53/3<=AO51,BL53*SQRT(4*ABS(BI53)/3)-BF53/3,BW53)","v":9.9923104287180042E-2},{"$f":"0.1*(AV53/(AZ53*BO53))*AO57^2","v":1.7702643488564809E-3},{"$f":"AO54","v":20},{"$f":"AR51+BA52*AR48","v":4.3239362072707531E-3},{"$f":"BB53*AO55/(AO51*AO52)","v":3.7252307554566967E-2},{"$f":"BB53*AO56/(AO51*AO52)","v":3.7252307554566967E-2},{"$f":"-6*AO51*(0.25-0.5*BC53/(AO51*AR50))","v":-8.4714917557316693E-2},{"$f":"-6*AO51*(BD53*(0.5*AO51-AO53)-BE53*(0.5*AO51-AO53)-(BD53+BE53)*AO51*BC53/(AO51*AR50))","v":4.9696537510282579E-3},{"$f":"6*AO51*((BD53*AO53-BE53*(AO51-AO53))*(0.5*AO51-AO53)-(BD53*AO53+BE53*(AO51-AO53))*BC53/AR50)","v":-6.4843129838720469E-4},2.577447998780603E-3,5.5313125424757048E-4,10.982348403327713,1.2228205937166297,{"$f":"AZ53/AO51","v":0.55512835715100028},{"$f":"0.5*BM53*(0.5-BM53/3)+BD53*(0.5-AO53/AO51)*(BM53-AO53/AO51)/BM53+BE53*(0.5-AO53/AO51)*(1-AO53/AO51-BM53)/BM53","v":9.7776666865016293E-2},{"$f":"IF(BL53*SQRT(4*ABS(BI53)/3)-BF53/3<=AO51,AO50*(1-AO49*AV53/AO48),AO50*(1-AO49*AV53/AO48-(1-1)*BV53/AO48))","v":10000},{"$f":"(1+BD53+BE53)*AO51*AO52","v":0.1934108307196441},{"$f":"0.5*(AO51-AO53)*(BE53-BD53)*AO51*AO52","v":0},{"$f":"AO52*AO51^3/12+(0.5*AO51-AO53)^2*(BD53+BE53)*AO52*AO51","v":5.1952707679911024E-4},0,5.1952707679911024E-4,{"$f":"AR50/BP53+(BC53+BS53*AR50)*(0.5*AO51+BS53)/BT53","v":1.1110304077549813},{"$f":"AR50/BP53+(BC53+BS53*AR50)*(-0.5*AO51+BS53)/BT53","v":-0.38707922322714072},{"$f":"AR50*BT53/((BC53+AR50*BS53)*BP53)+(0.5*AO51+BS53)","v":0.1334918815419345}]
[null,null,null,null,null,null,null,null,null,null,null,null,null,null,null,null,null,null,null,null,null,null,null,null,null,null,null,null,null,null,null,null,null,null,null,null,null,null,null,"a",{"$f":"$N$23","v":20},null,"ec,min",{"$f":"1000*AW57/BO57","v":0},"o/oo",{"$f":"BC54-AR48*BA54","v":4.2000000000138697E-3},{"$f":"BA54/BA53","v":0.99999999988809452},{"$f":"IF(BL54*SQRT(4*ABS(BI54)/3)-BF54/3<=AO51,BC54/(BN54*AO52*AO51^2),BU54)","v":1.3648943606159487},{"$f":"IF(BL54*SQRT(4*ABS(BI54)/3)-BF54/3<=AO51,0,BV54)","v":0},{"$f":"BB54*(AZ54-AO53)*AV54/AZ54","v":16.370329504551208},{"$f":"BB54*(AO51-AO53-AZ54)*AV54/AZ54","v":10.948564764868205},{"$f":"IF(BL54*SQRT(4*ABS(BI54)/3)-BF54/3<=AO51,BL54*SQRT(4*ABS(BI54)/3)-BF54/3,BW54)","v":9.9923104292240855E-2},{"$f":"0.1*(AV54/(AZ54*BO54))*AO57^2","v":1.7702643486583786E-3},{"$f":"AO54","v":20},{"$f":"AR51+BA53*AR48","v":4.3239362070634432E-3},{"$f":"BB54*AO55/(AO51*AO52)","v":3.7252307554566967E-2},{"$f":"BB54*AO56/(AO51*AO52)","v":3.7252307554566967E-2},{"$f":"-6*AO51*(0.25-0.5*BC54/(AO51*AR50))","v":-8.4714917566200115E-2},{"$f":"-6*AO51*(BD54*(0.5*AO51-AO53)-BE54*(0.5*AO51-AO53)-(BD54+BE54)*AO51*BC54/(AO51*AR50))","v":4.9696537507899893E-3},{"$f":"6*AO51*((BD54*AO53-BE54*(AO51-AO53))*(0.5*AO51-AO53)-(BD54*AO53+BE54*(AO51-AO53))*BC54/AR50)","v":-6.4843129836576047E-4},2.5774479980406289E-3,5.53131254232306E-4,10.982348407754122,1.2228205939279797,{"$f":"AZ54/AO51","v":0.55512835717911591},{"$f":"0.5*BM54*(0.5-BM54/3)+BD54*(0.5-AO53/AO51)*(BM54-AO53/AO51)/BM54+BE54*(0.5-AO53/AO51)*(1-AO53/AO51-BM54)/BM54","v":9.7776666866318085E-2},{"$f":"IF(BL54*SQRT(4*ABS(BI54)/3)-BF54/3<=AO51,AO50*(1-AO49*AV54/AO48),AO50*(1-AO49*AV54/AO48-(1-1)*BV54/AO48))","v":10000},{"$f":"(1+BD54+BE54)*AO51*AO52","v":0.1934108307196441},{"$f":"0.5*(AO51-AO53)*(BE54-BD54)*AO51*AO52","v":0},{"$f":"AO52*AO51^3/12+(0.5*AO51-AO53)^2*(BD54+BE54)*AO52*AO51","v":5.1952707679911024E-4},0,5.1952707679911024E-4,{"$f":"AR50/BP54+(BC54+BS54*AR50)*(0.5*AO51+BS54)/BT54","v":1.111030407719068},{"$f":"AR50/BP54+(BC54+BS54*AR50)*(-0.5*AO51+BS54)/BT54","v":-0.38707922319122745},{"$f":"AR50*BT54/((BC54+AR50*BS54)*BP54)+(0.5*AO51+BS54)","v":0.1334918815440197}]
[null,null,null,null,null,null,null,null,null,null,null,null,null,null,null,null,null,null,null,null,null,null,null,null,null,null,null,null,null,null,null,null,null,null,null,null,null,null,null,"Ac",{"$f":"$AP$40/1000000","v":3.3527076799110271E-4},"m2","sa,c",{"$f":"AX57","v":16.370329504518988},"MPa",{"$f":"BC55-AR48*BA55","v":4.2000000000009287E-3},{"$f":"BA55/BA54","v":0.99999999999251277},{"$f":"IF(BL55*SQRT(4*ABS(BI55)/3)-BF55/3<=AO51,BC55/(BN55*AO52*AO51^2),BU55)","v":1.3648943606103545},{"$f":"IF(BL55*SQRT(4*ABS(BI55)/3)-BF55/3<=AO51,0,BV55)","v":0},{"$f":"BB55*(AZ55-AO53)*AV55/AZ55","v":16.370329504521138},{"$f":"BB55*(AO51-AO53-AZ55)*AV55/AZ55","v":10.948564764693732},{"$f":"IF(BL55*SQRT(4*ABS(BI55)/3)-BF55/3<=AO51,BL55*SQRT(4*ABS(BI55)/3)-BF55/3,BW55)","v":9.9923104292579445E-2},{"$f":"0.1*(AV55/(AZ55*BO55))*AO57^2","v":1.7702643486451242E-3},{"$f":"AO54","v":20},{"$f":"AR51+BA54*AR48","v":4.3239362070495741E-3},{"$f":"BB55*AO55/(AO51*AO52)","v":3.7252307554566967E-2},{"$f":"BB55*AO56/(AO51*AO52)","v":3.7252307554566967E-2},{"$f":"-6*AO51*(0.25-0.5*BC55/(AO51*AR50))","v":-8.4714917566794418E-2},{"$f":"-6*AO51*(BD55*(0.5*AO51-AO53)-BE55*(0.5*AO51-AO53)-(BD55+BE55)*AO51*BC55/(AO51*AR50))","v":4.9696537507740489E-3},{"$f":"6*AO51*((BD55*AO53-BE55*(AO51-AO53))*(0.5*AO51-AO53)-(BD55*AO53+BE55*(AO51-AO53))*BC55/AR50)","v":-6.4843129836432585E-4},2.5774479979911247E-3,5.531312542312849E-4,10.982348408050257,1.2228205939421193,{"$f":"AZ55/AO51","v":0.55512835718099696},{"$f":"0.5*BM55*(0.5-BM55/3)+BD55*(0.5-AO53/AO51)*(BM55-AO53/AO51)/BM55+BE55*(0.5-AO53/AO51)*(1-AO53/AO51-BM55)/BM55","v":9.777666686640521E-2},{"$f":"IF(BL55*SQRT(4*ABS(BI55)/3)-BF55/3<=AO51,AO50*(1-AO49*AV55/AO48),AO50*(1-AO49*AV55/AO48-(1-1)*BV55/AO48))","v":10000},{"$f":"(1+BD55+BE55)*AO51*AO52","v":0.1934108307196441},{"$f":"0.5*(AO51-AO53)*(BE55-BD55)*AO51*AO52","v":0},{"$f":"AO52*AO51^3/12+(0.5*AO51-AO53)^2*(BD55+BE55)*AO52*AO51","v":5.1952707679911024E-4},0,5.1952707679911024E-4,{"$f":"AR50/BP55+(BC55+BS55*AR50)*(0.5*AO51+BS55)/BT55","v":1.1110304077166653},{"$f":"AR50/BP55+(BC55+BS55*AR50)*(-0.5*AO51+BS55)/BT55","v":-0.38707922318882482},{"$f":"AR50*BT55/((BC55+AR50*BS55)*BP55)+(0.5*AO51+BS55)","v":0.1334918815441592}]
[null,null,null,null,null,null,null,null,null,null,null,null,null,null,null,null,null,null,null,null,null,null,null,null,null,null,null,null,null,null,null,null,null,null,null,null,null,null,null,"At",{"$f":"$AP$41/1000000","v":3.3527076799110271E-4},"m2","sa,t",{"$f":"AY57","v":10.948564764681279},"MPa",{"$f":"BC56-AR48*BA56","v":4.2000000000000631E-3},{"$f":"BA56/BA55","v":0.99999999999949962},{"$f":"IF(BL56*SQRT(4*ABS(BI56)/3)-BF56/3<=AO51,BC56/(BN56*AO52*AO51^2),BU56)","v":1.3648943606099806},{"$f":"IF(BL56*SQRT(4*ABS(BI56)/3)-BF56/3<=AO51,0,BV56)","v":0},{"$f":"BB56*(AZ56-AO53)*AV56/AZ56","v":16.37032950451913},{"$f":"BB56*(AO51-AO53-AZ56)*AV56/AZ56","v":10.948564764682075},{"$f":"IF(BL56*SQRT(4*ABS(BI56)/3)-BF56/3<=AO51,BL56*SQRT(4*ABS(BI56)/3)-BF56/3,BW56)","v":9.9923104292602066E-2},{"$f":"0.1*(AV56/(AZ56*BO56))*AO57^2","v":1.7702643486442384E-3},{"$f":"AO54","v":20},{"$f":"AR51+BA55*AR48","v":4.323936207048646E-3},{"$f":"BB56*AO55/(AO51*AO52)","v":3.7252307554566967E-2},{"$f":"BB56*AO56/(AO51*AO52)","v":3.7252307554566967E-2},{"$f":"-6*AO51*(0.25-0.5*BC56/(AO51*AR50))","v":-8.4714917566834205E-2},{"$f":"-6*AO51*(BD56*(0.5*AO51-AO53)-BE56*(0.5*AO51-AO53)-(BD56+BE56)*AO51*BC56/(AO51*AR50))","v":4.9696537507729821E-3},{"$f":"6*AO51*((BD56*AO53-BE56*(AO51-AO53))*(0.5*AO51-AO53)-(BD56*AO53+BE56*(AO51-AO53))*BC56/AR50)","v":-6.484312983642299E-4},2.5774479979878101E-3,5.5313125423121659E-4,10.982348408070067,1.2228205939430652,{"$f":"AZ56/AO51","v":0.55512835718112263},{"$f":"0.5*BM56*(0.5-BM56/3)+BD56*(0.5-AO53/AO51)*(BM56-AO53/AO51)/BM56+BE56*(0.5-AO53/AO51)*(1-AO53/AO51-BM56)/BM56","v":9.7776666866411011E-2},{"$f":"IF(BL56*SQRT(4*ABS(BI56)/3)-BF56/3<=AO51,AO50*(1-AO49*AV56/AO48),AO50*(1-AO49*AV56/AO48-(1-1)*BV56/AO48))","v":10000},{"$f":"(1+BD56+BE56)*AO51*AO52","v":0.1934108307196441},{"$f":"0.5*(AO51-AO53)*(BE56-BD56)*AO51*AO52","v":0},{"$f":"AO52*AO51^3/12+(0.5*AO51-AO53)^2*(BD56+BE56)*AO52*AO51","v":5.1952707679911024E-4},0,5.1952707679911024E-4,{"$f":"AR50/BP56+(BC56+BS56*AR50)*(0.5*AO51+BS56)/BT56","v":1.1110304077165045},{"$f":"AR50/BP56+(BC56+BS56*AR50)*(-0.5*AO51+BS56)/BT56","v":-0.38707922318866406},{"$f":"AR50*BT56/((BC56+AR50*BS56)*BP56)+(0.5*AO51+BS56)","v":0.13349188154416852}]
[null,null,null,null,null,null,null,null,null,null,null,null,null,null,null,null,null,null,null,null,null,null,null,null,null,null,null,null,null,null,null,null,null,null,null,null,null,null,null,"L",{"$f":"$N$11/1000","v":3.6},"m","hc",{"$f":"AZ57","v":9.9923104292603607E-2},"m",{"$f":"BC57-AR48*BA57","v":4.2000000000000049E-3},{"$f":"BA57/BA56","v":0.99999999999996581},{"$f":"IF(BL57*SQRT(4*ABS(BI57)/3)-BF57/3<=AO51,BC57/(BN57*AO52*AO51^2),BU57)","v":1.3648943606099551},{"$f":"IF(BL57*SQRT(4*ABS(BI57)/3)-BF57/3<=AO51,0,BV57)","v":0},{"$f":"BB57*(AZ57-AO53)*AV57/AZ57","v":16.370329504518988},{"$f":"BB57*(AO51-AO53-AZ57)*AV57/AZ57","v":10.948564764681279},{"$f":"IF(BL57*SQRT(4*ABS(BI57)/3)-BF57/3<=AO51,BL57*SQRT(4*ABS(BI57)/3)-BF57/3,BW57)","v":9.9923104292603607E-2},{"$f":"0.1*(AV57/(AZ57*BO57))*AO57^2","v":1.7702643486441779E-3},{"$f":"AO54","v":20},{"$f":"AR51+BA56*AR48","v":4.3239362070485836E-3},{"$f":"BB57*AO55/(AO51*AO52)","v":3.7252307554566967E-2},{"$f":"BB57*AO56/(AO51*AO52)","v":3.7252307554566967E-2},{"$f":"-6*AO51*(0.25-0.5*BC57/(AO51*AR50))","v":-8.471491756683687E-2},{"$f":"-6*AO51*(BD57*(0.5*AO51-AO53)-BE57*(0.5*AO51-AO53)-(BD57+BE57)*AO51*BC57/(AO51*AR50))","v":4.9696537507729101E-3},{"$f":"6*AO51*((BD57*AO53-BE57*(AO51-AO53))*(0.5*AO51-AO53)-(BD57*AO53+BE57*(AO51-AO53))*BC57/AR50)","v":-6.484312983642235E-4},2.577447997987588E-3,5.5313125423121204E-4,10.982348408071399,1.2228205939431289,{"$f":"AZ57/AO51","v":0.55512835718113118},{"$f":"0.5*BM57*(0.5-BM57/3)+BD57*(0.5-AO53/AO51)*(BM57-AO53/AO51)/BM57+BE57*(0.5-AO53/AO51)*(1-AO53/AO51-BM57)/BM57","v":9.7776666866411427E-2},{"$f":"IF(BL57*SQRT(4*ABS(BI57)/3)-BF57/3<=AO51,AO50*(1-AO49*AV57/AO48),AO50*(1-AO49*AV57/AO48-(1-1)*BV57/AO48))","v":10000},{"$f":"(1+BD57+BE57)*AO51*AO52","v":0.1934108307196441},{"$f":"0.5*(AO51-AO53)*(BE57-BD57)*AO51*AO52","v":0},{"$f":"AO52*AO51^3/12+(0.5*AO51-AO53)^2*(BD57+BE57)*AO52*AO51","v":5.1952707679911024E-4},0,5.1952707679911024E-4,{"$f":"AR50/BP57+(BC57+BS57*AR50)*(0.5*AO51+BS57)/BT57","v":1.1110304077164939},{"$f":"AR50/BP57+(BC57+BS57*AR50)*(-0.5*AO51+BS57)/BT57","v":-0.38707922318865318},{"$f":"AR50*BT57/((BC57+AR50*BS57)*BP57)+(0.5*AO51+BS57)","v":0.13349188154416916}]
[]
[]
[null,null,null,null,null,null,null,null,null,null,null,null,null,null,null,null,null,null,null,null,null,null,null,null,null,null,null,null,null,null,null,null,null,null,null,null,null,null,null,"ANVENDELSESSTADIE  - HENSYN TIL KRYBNING, TENSION STIFFENING, SVIND MV:"]
[null,null,null,null,null,null,null,null,null,null,null,null,null,null,null,null,null,null,null,null,null,null,null,null,null,null,null,null,null,null,null,null,null,null,null,null,null,null,null,"L","h","b","fck","fcd","Ecd","Ac","ac","Esc","fyd_c","At","at","Est","fyd_t","aeff","RH","feff = fctm","N"]
[null,null,null,null,null,null,null,null,null,null,null,null,null,null,null,null,null,null,null,null,null,null,null,null,null,null,null,null,null,null,null,null,null,null,null,null,null,null,null,"(m)","(m)","(m)","(Mpa)","(Mpa)","(Mpa)","(m2)","(m)","(Mpa)","(Mpa)","(m2)","(m)","(Mpa)","(Mpa)",null,null,"(Mpa)","(MN)"]
[null,null,null,null,null,null,null,null,null,null,null,null,null,null,null,null,null,null,null,null,null,null,null,null,null,null,null,null,null,null,null,null,null,null,null,null,null,null,null,{"$f":"AO57","v":3.6},{"$f":"AO51","v":0.18},{"$f":"AO52","v":1},{"$f":"AO46","v":35},{"$f":"AO48","v":35},{"$f":"AO50","v":10000},{"$f":"AO55","v":3.3527076799110271E-4},{"$f":"AO53","v":0.04},200000,{"$f":"N8","v":550},{"$f":"AO56","v":3.3527076799110271E-4},{"$f":"AO53","v":0.04},200000,{"$f":"AW63","v":550},{"$f":"AO54","v":20},{"$f":"Q12","v":0.55000000000000004},{"$f":"0.3*AQ63^(2/3)","v":3.2099624416952368},{"$f":"AR50","v":7.0010000000000003E-2}]
[null,null,null,null,null,null,null,null,null,null,null,null,null,null,null,null,null,null,null,null,null,null,null,null,null,null,null,null,null,null,null,null,null,null,null,null,null,null,null,"Nedbøjninger",null,"Urevnet","Revnet","Revnevidder",null,"Udtørringssvind"]
[null,null,null,null,null,null,null,null,null,null,null,null,null,null,null,null,null,null,null,null,null,null,null,null,null,null,null,null,null,null,null,null,null,null,null,null,null,null,null,"(1+ f)",null,1,1,null,null,null,"CEM-klasse:","N"]
[null,null,null,null,null,null,null,null,null,null,null,null,null,null,null,null,null,null,null,null,null,null,null,null,null,null,null,null,null,null,null,null,null,null,null,null,null,null,null,"aeff","-",{"$f":"BB63","v":20},{"$f":"BB63","v":20},"aeff",{"$f":"BB63","v":20},null,"fcmo",10,"MPa"]
[null,null,null,null,null,null,null,null,null,null,null,null,null,null,null,null,null,null,null,null,null,null,null,null,null,null,null,null,null,null,null,null,null,null,null,null,null,null,null,"hc","(m)","-",{"$f":"AR57","v":9.9923104292603607E-2},"kt",0.4,null,"fcm",{"$f":"AQ63+8","v":43},"MPa"]
[null,null,null,null,null,null,null,null,null,null,null,null,null,null,null,null,null,null,null,null,null,null,null,null,null,null,null,null,null,null,null,null,null,null,null,null,null,null,null,"Atr","(m2)",{"$f":"AO63*AP63+AP66*AT63+AP66*AX63","v":0.1934108307196441},{"$f":"IF(AQ67>AO63,AP68,AQ67*AP63+AQ66*AT63+AQ66*AX63)","v":0.11333393501224771},"x1",0,null,"ads1",4]
[null,null,null,null,null,null,null,null,null,null,null,null,null,null,null,null,null,null,null,null,null,null,null,null,null,null,null,null,null,null,null,null,null,null,null,null,null,null,null,"Sy","(m3)",{"$f":"AP66*(0.5*AO63-AU63)*AT63-AP66*(0.5*AO63-AY63)*AX63","v":0},{"$f":"IF(AQ67>AO63,AP69,AQ67*AP63*(0.5*AO63-0.5*AQ67)+AQ66*(0.5*AO63-AU63)*AT63-AQ66*(0.5*AO63-AY63)*AX63)","v":4.0007660005990557E-3},"As",{"$f":"AX63","v":3.3527076799110271E-4},null,"ads2",0.12]
[null,null,null,null,null,null,null,null,null,null,null,null,null,null,null,null,null,null,null,null,null,null,null,null,null,null,null,null,null,null,null,null,null,null,null,null,null,null,null,"Iy","(m4)",{"$f":"AP63*AO63^3/12+AP66*(0.5*AO63-AU63)^2*AT63+AP66*(0.5*AO63-AY63)^2*AX63","v":5.1952707679911024E-4},{"$f":"IF(AQ67>AO63,AP70,AP63*AQ67^3/12+AP63*AQ67*(0.5*AO63-0.5*AQ67)^2+AQ66*(0.5*AO63-AU63)^2*AT63+AQ66*(0.5*AO63-AY63)^2*AX63)","v":2.7685277953964189E-4},"d",{"$f":"AO63-(AX63*AY63)/(AX63)","v":0.13999999999999999},null,"RH0",1]
[null,null,null,null,null,null,null,null,null,null,null,null,null,null,null,null,null,null,null,null,null,null,null,null,null,null,null,null,null,null,null,null,null,null,null,null,null,null,null,"z","(m)",{"$f":"AP69/AP68","v":0},{"$f":"AQ69/AQ68","v":3.5300689066930423E-2},"hc,eff",{"$f":"MIN(2.5*(AO63-AS70),(AO63-AQ67)/3,AO63/2)","v":2.669229856913213E-2},null,"RH",{"$f":"BC63","v":0.55000000000000004}]
[null,null,null,null,null,null,null,null,null,null,null,null,null,null,null,null,null,null,null,null,null,null,null,null,null,null,null,null,null,null,null,null,null,null,null,null,null,null,null,"Io","(m4)",{"$f":"AP70-AP68*AP71^2","v":5.1952707679911024E-4},{"$f":"AQ70-AQ68*AQ71^2","v":1.3562298292294785E-4},"Ac,eff",{"$f":"AS71*AP63","v":2.669229856913213E-2},null,"bRH",{"$f":"1.55*(1-(AV71/AV70)^3)","v":1.29211875}]
[null,null,null,null,null,null,null,null,null,null,null,null,null,null,null,null,null,null,null,null,null,null,null,null,null,null,null,null,null,null,null,null,null,null,null,null,null,null,null,"aeff*Sa","(m3)",{"$f":"-(AP66*(0.5*AO63-AU63-AP71)*AT63-AP66*(0.5*AO63-AY63+AP71)*AX63)","v":0},{"$f":"-(AQ66*(0.5*AO63-AU63-AQ71)*AT63-AQ66*(0.5*AO63-AY63+AQ71)*AX63)","v":4.7341156536339545E-4},"rp,eff",{"$f":"AS69/AS72","v":1.2560580615519604E-2},null,"ecd,0",{"$f":"0.85*((220+110*AV68)*EXP(-AV69*AV67/AV66))*AV72/1000000","v":4.3268250680897753E-4}]
[null,null,null,null,null,null,null,null,null,null,null,null,null,null,null,null,null,null,null,null,null,null,null,null,null,null,null,null,null,null,null,null,null,null,null,null,null,null,null,"Sa/Io","(m)",{"$f":"MAX(AP73/AP72,0)","v":0},{"$f":"MAX(AQ73/AQ72,0)","v":3.4906441014673528},"esm-ecm",{"$f":"MAX(AQ76-AS67*BD63*(1+AS66*AS73)/AS73,0.6*AQ76)/AV63","v":3.2845694294043889E-5},null,"b",1]
[null,null,null,null,null,null,null,null,null,null,null,null,null,null,null,null,null,null,null,null,null,null,null,null,null,null,null,null,null,null,null,null,null,null,null,null,null,null,null,"Mcr","(MNm)",{"$f":"(BD63+BE63/AP68)*AP72/(0.5*AO63+AP71)","v":2.0619094725448466E-2},null,"feq",{"$f":"N17/1000","v":8.0000000000000002E-3},null,"h0",{"$f":"2*AO63*AP63/(2*(AO63+AP63))","v":0.15254237288135594},"m"]
[null,null,null,null,null,null,null,null,null,null,null,null,null,null,null,null,null,null,null,null,null,null,null,null,null,null,null,null,null,null,null,null,null,null,null,null,null,null,null,"sat","(MPa)",{"$f":"-AP66*AR50/AP68+AP66*(AR51-AR50*(AP71-AP82/1000))*(0.5*AO63+AP71-AY63)/AP72","v":0.98846129937132421},{"$f":"-AQ66*AR50/AQ68+AQ66*(BC57-AR50*AQ71)*(0.5*AO63+AQ71-AY63)/AQ72","v":10.948564764681297},"c",{"$f":"AO63-AS70-0.5*AS75","v":3.6000000000000004E-2},null,"kn",{"$f":"IF(AV75<0.1,1,IF(AV75<0.2,0.85+0.15*(0.2-AV75)/0.1,IF(AV75<0.3,0.75+0.1*(0.3-AV75)/0.1,IF(AV75<0.5,0.7+0.05*(0.5-AV75)/0.2,0.7))))","v":0.92118644067796607}]
[null,null,null,null,null,null,null,null,null,null,null,null,null,null,null,null,null,null,null,null,null,null,null,null,null,null,null,null,null,null,null,null,null,null,null,null,null,null,null,"sr","(MPa, v/revnemoment)",null,{"$f":"-AQ66*AR50/AQ68+AQ66*(AP75-AR50*AQ71)*(0.5*AO63+AQ71-AY63)/AQ72","v":215.92683911277933},"k1",0.8,null,"ecd",{"$f":"AV73*AV74*AV76","v":3.9858125839098185E-4}]
[null,null,null,null,null,null,null,null,null,null,null,null,null,null,null,null,null,null,null,null,null,null,null,null,null,null,null,null,null,null,null,null,null,null,null,null,null,null,null,"sc0","(MPa)",{"$f":"-(-AR50/AP68+(AR51-AR50*(AP71-AP82/1000))*(-0.5*AO63+AP71)/AP72)","v":1.1024931752823961},{"$f":"-(-AR50/AQ68+(BC57-AR50*AQ71)*(-0.5*AO63+AQ71)/AQ72)","v":1.3648943606099555},"k2",0.5]
[null,null,null,null,null,null,null,null,null,null,null,null,null,null,null,null,null,null,null,null,null,null,null,null,null,null,null,null,null,null,null,null,null,null,null,null,null,null,null,"sac","(MPa)",{"$f":"-(-AP66*AR50/AP68+AP66*(AR51-AR50*(AP71-AP82/1000))*(-0.5*AO63+AP71+AU63)/AP72)","v":15.467484989928138},{"$f":"-(-AQ66*AR50/AQ68+AQ66*(BC57-AR50*AQ71)*(-0.5*AO63+AQ71+AU63)/AQ72)","v":16.370329504518992},"k3",{"$f":"3.4*(25/N17)^(2/3)","v":7.2673977733759614},"Autogent svind"]
[null,null,null,null,null,null,null,null,null,null,null,null,null,null,null,null,null,null,null,null,null,null,null,null,null,null,null,null,null,null,null,null,null,null,null,null,null,null,null,"EI","(MNm2)",{"$f":"AP72*AS63","v":5.1952707679911025},{"$f":"AQ72*AS63","v":1.3562298292294785},"k4",0.42499999999999999,null,"eca",{"$f":"2.5*(AQ63-10)/1000000","v":6.2500000000000001E-5}]
[null,null,null,null,null,null,null,null,null,null,null,null,null,null,null,null,null,null,null,null,null,null,null,null,null,null,null,null,null,null,null,null,null,null,null,null,null,null,null,"x","(faktor vedr. tension stiffening)",null,{"$f":"MAX(IF(AQ77>AQ76,0,1-0.5*(AQ77/AQ76)^2),0)","v":0},"s,rmaks",{"$f":"MIN(1.3*(AO63-AQ67),AS79*AS76+AS77*AS78*AS80*AS75/AS73)","v":0.1040999644196153}]
[null,null,null,null,null,null,null,null,null,null,null,null,null,null,null,null,null,null,null,null,null,null,null,null,null,null,null,null,null,null,null,null,null,null,null,null,null,null,null,"u","(mm, elastisk u)",{"$f":"1000*AR51/(10*AP80/AN63^2-AR50)","v":1.0663453195466053},{"$f":"AR52*1000","v":1.7702643486441778},"wk",{"$f":"MAX(1000*AS81*AS74,0)","v":3.4192356073475304E-3},"Resulterende svind"]
[null,null,null,null,null,null,null,null,null,null,null,null,null,null,null,null,null,null,null,null,null,null,null,null,null,null,null,null,null,null,null,null,null,null,null,null,null,null,null,"uts","(mm, incl tension stiffening)",null,{"$f":"AQ81*AQ82+(1-AQ81)*AP82","v":1.0663453195466053},null,null,null,"esc",{"$f":"AV77+AV80","v":4.6108125839098185E-4}]
[null,null,null,null,null,null,null,null,null,null,null,null,null,null,null,null,null,null,null,null,null,null,null,null,null,null,null,null,null,null,null,null,null,null,null,null,null,null,null,"us","(mm, svindtillæg - langtid)",{"$f":"1000*0.125*AV83*AP74*AN63^2","v":0},{"$f":"1000*0.125*AV83*AQ74*AN63^2","v":2.6073423313373931}]
[null,null,null,null,null,null,null,null,null,null,null,null,null,null,null,null,null,null,null,null,null,null,null,null,null,null,null,null,null,null,null,null,null,null,null,null,null,null,null,"ucs","(mm, svindtillæg incl tension stiffening)",null,{"$f":"AQ81*AQ84+(1-AQ81)*AP84","v":0}]
[null,null,null,null,null,null,null,null,null,null,null,null,null,null,null,null,null,null,null,null,null,null,null,null,null,null,null,null,null,null,null,null,null,null,null,null,null,null,null,"ures","(mm, resulterende udbøjning)",null,{"$f":"AQ85+AQ83","v":1.0663453195466053},"wk, res",{"$f":"AS82","v":3.4192356073475304E-3}]

{"sheet":"Brand","index":1,"n_rows":73,"n_cols":213,"rows_kept":73,"cut":false,"hidden":false,"merged":[[45,77,45,79],[2,2,2,6],[4,2,4,6],[3,2,3,6],[34,10,34,12],[2,11,4,16],[22,10,22,13],[23,3,23,8],[31,18,32,21],[34,18,34,21],[1,2,1,9],[2,8,2,9],[3,8,3,9],[4,8,4,9],[1,13,1,16],[1,10,1,12]]}
[]
[null,"Bruger:",{"$f":"Kold!C2","v":0},null,null,null,null,null,null,null,{"$f":"Kold!K2","v":"Vægberegning"},null,null,{"$f":"Kold!N2","v":"Betonelement-Foreningen feb 2019"}]
[null,"Sagsnavn:",{"$f":"Kold!C3","v":"Betonelementhuset"},null,null,null,null,"Sag nr.:",{"$f":"Kold!I3","v":"23 - 4545"},null,null,{"$f":"AU28&AU29&AU30&AU31&AU32&AU33&AU34&AU35&AU36&AU37&AU38","v":"Programmet indstillet til kold beregning !   For ny bruger: Klik på knappen 'angiv nyt brugernavn' for ibrugtagning."},null,null,null,null,null,null,null,null,null,null,null,null,null,null,null,null,null,null,null,null,null,null,null,null,null,null,null,null,null,null,null,null,{"$f":"Makro!B5","v":2}]
[null,"Bygningsdel:",{"$f":"Kold!C4","v":"Væg modul B/6-7, kld.-4.sal (STR 6.10b)"},null,null,null,null,"Dato:",{"$f":"Kold!I4","v":"2010-03-01"},null,null,null,null,null,null,null,null,null,null,null,null,null,null,null,null,null,null,null,null,null,null,null,null,null,null,null,null,null,null,null,null,null,null,null,{"$f":"Makro!B6","v":"Tilslag: Kvartsholdigt"}]
[null,"Emne:","Brandlastkombinationer",null,null,null,null,"Init:",{"$f":"Kold!I5","v":"JFJ"},null,null,null,null,null,null,null,null,null,null,null,null,null,null,null,null,null,null,null,null,null,null,null,null,null,null,null,null,null,null,null,null,null,null,null,{"$f":"Makro!B7","v":"Tilslag: Søsand / granit"}]
[]
[null,null,null,null,null,null,null,null,null,null," Materialer",null,"fck",{"$f":"Kold!N7","v":35},"Regningsmæssige parametre"]
[null,null,null,null,null,null,null,null,null,null,null,null,"fyk",{"$f":"Kold!N8","v":550},null,"fcd",{"$f":"N7/(N9)*Q19","v":35}]
[null,null,null,null,null,null,null,null,null,null,null,null,"gc",1,null,"fyd,tryk",{"$f":"N8/MAX(1,N10)*Q20","v":431.8046027286033},null,null,null,null,null,null,null,null,null,null,null,null,null,null,null,null,null,null,null,null,null,null,1,0,{"$f":"BB10*1000","v":0},null,null,null,null,null,null,"gc",{"$f":"N9","v":1},null,null,"N","M","hc","e0","sac","sat",null,{"$f":"Kold!N25","v":11.7},{"$f":"Kold!O25","v":9},{"$f":"Kold!P25","v":8.4},{"$f":"Kold!Q25","v":1.2},null,null,null,null,null,null,null,null,null,null,null,null,null,null,null,null,null,null,null,null,null,null,null,null,null,null,null,null,null,null,null,null,null,null,null,null,null,null,null,null,null,null,null,null,null,null,null,null,null,null,null,null,null,null,null,null,null,null,null,null,null,null,null,null,null,null,null,null,null,null,null,null,null,null,null,null,null,null,null,null,null,null,null,null,null,null,null,null,null,null,null,null,null,null,null,null,null,null,null,null,null,null,null,null,null,null,null,null,null,null,null,null,null,null,null,null,null,null,null,null,null,null,null,null,null,null,null,null,null,null,null,null,null,null,null,null,null,null,null,null,null,null,null,null,null,{"$f":"Makro!A20","v":0},null,null,"Bruger skal registreres",1]
[null,null,null,null,null,null,null,null,null,null,null,null,"gs",1,null,"fyd,træk",{"$f":"N8/MAX(1,N10)*Q22","v":431.8046027286033},null,null,null,null,null,null,null,null,null,null,null,null,null,null,null,null,null,null,null,null,null,null,2,{"$f":"BA11*1000","v":0},0,null,null,"Tillægsexc fra svækket rand",{"$f":"0.5*(AU20-AU21)*Q18/1000","v":0},null,null,"ga",{"$f":"N10","v":1},null,null,{"$f":"IF(Makro!$C$11=-1,'Ark1'!M10,0)*$AT$40","v":0},{"$f":"IF(Makro!$C$11=-1,'Ark1'!N10,0)*$AT$40","v":0},{"$f":"IF(Makro!$C$11=-1,'Ark1'!O10,0)","v":0},{"$f":"IF(Makro!$C$11=-1,'Ark1'!P10,0)","v":0},{"$f":"IF(Makro!$C$11=-1,'Ark1'!Q10,0)","v":0},{"$f":"IF(Makro!$C$11=-1,'Ark1'!R10,0)","v":0},null,{"$f":"Kold!N26","v":78.099999999999994},{"$f":"Kold!O26","v":9},{"$f":"Kold!P26","v":8.4},{"$f":"Kold!Q26","v":1.2}]
[null,null,null,null,null,null,null,null,null,null," Søjlelængde",null,"Ls, kold",{"$f":"Kold!N11","v":3600},"Krybning",null,null,null,null,null,null,null,null,null,null,null,null,null,null,null,null,null,null,null,null,null,null,null,null,3,0,0,null,null,"uterminsk, revnet tværsnit",{"$f":"1.1*Firsidig!X34*AX27^2/(800000*(AX21-AX24))+IF(OR(BH32=10,AR61=1),0,$Q$16/1000)-0.4*AX32","v":3.0156273785877492E-2},"m",null,"fck",{"$f":"N7","v":35},"MPa",null,{"$f":"IF(Makro!$C$11=-1,'Ark1'!M11,0)*$AT$40","v":0},{"$f":"IF(Makro!$C$11=-1,'Ark1'!N11,0)*$AT$40","v":0},{"$f":"IF(Makro!$C$11=-1,'Ark1'!O11,0)","v":0},{"$f":"IF(Makro!$C$11=-1,'Ark1'!P11,0)","v":0},{"$f":"IF(Makro!$C$11=-1,'Ark1'!Q11,0)","v":0},{"$f":"IF(Makro!$C$11=-1,'Ark1'!R11,0)","v":0},null,{"$f":"Kold!N27","v":78.099999999999994},{"$f":"Kold!O27","v":427.6},{"$f":"Kold!P27","v":8.4},{"$f":"Kold!Q27","v":1.2}]
[null,null,null,null,null,null,null,null,null,null," Tværsnit",null,"h",{"$f":"Kold!N12","v":180},null,"fo",{"$f":"Kold!Q14","v":2.0766110334647805},null,null,null,null,null,null,null,null,null,null,null,null,null,null,null,null,null,null,null,null,null,null,4,0,0,null,null,"uterminsk, urevnet tværsnit",{"$f":"IF(1.1*Firsidig!V13*AX27^2/(800000*AX21)+IF(OR(BH32=10,AR61=1),0,$Q$16/1000)>AT11,1.1*Firsidig!V13*AX27^2/(800000*AX21)+IF(OR(BH32=10,AR61=1),0,$Q$16/1000),AT11)-0.4*AX32","v":3.5618388157909277E-2},"m",null,"Es_c",{"$f":"Firsidig!E34*200000","v":192278.14241936561},"MPa",null,{"$f":"IF(Makro!$C$11=-1,'Ark1'!M12,0)*$AT$40","v":0},{"$f":"IF(Makro!$C$11=-1,'Ark1'!N12,0)*$AT$40","v":0},{"$f":"IF(Makro!$C$11=-1,'Ark1'!O12,0)","v":0},{"$f":"IF(Makro!$C$11=-1,'Ark1'!P12,0)","v":0},{"$f":"IF(Makro!$C$11=-1,'Ark1'!Q12,0)","v":0},{"$f":"IF(Makro!$C$11=-1,'Ark1'!R12,0)","v":0},null,{"$f":"Kold!N28","v":78.099999999999994},{"$f":"Kold!O28","v":427.6},{"$f":"Kold!P28","v":55.8},{"$f":"Kold!Q28","v":1.2}]
[null,null,null,null,null,null,null,null,null,null,null,null,"b",{"$f":"Kold!N13","v":1000},null,"M0Eqp/M0Ed",1,null,null,null,null,null,null,null,null,null,null,null,null,null,null,null,null,null,null,null,null,null,null,5,0,0,null,null,null,null,null,null,"Es_t",{"$f":"Firsidig!E40*200000","v":192278.14241936561},"MPa",null,{"$f":"IF(Makro!$C$11=-1,'Ark1'!M13,0)*$AT$40","v":0},{"$f":"IF(Makro!$C$11=-1,'Ark1'!N13,0)*$AT$40","v":0},{"$f":"IF(Makro!$C$11=-1,'Ark1'!O13,0)","v":0},{"$f":"IF(Makro!$C$11=-1,'Ark1'!P13,0)","v":0},{"$f":"IF(Makro!$C$11=-1,'Ark1'!Q13,0)","v":0},{"$f":"IF(Makro!$C$11=-1,'Ark1'!R13,0)","v":0},null,{"$f":"Kold!N29","v":78.099999999999994},{"$f":"Kold!O29","v":9},{"$f":"Kold!P29","v":8.4},{"$f":"Kold!Q29","v":0.6}]
[null,null,null,null,null,null,null,null,null,null,null,null,"c",{"$f":"Kold!N14","v":40},null,"fef",{"$f":"Q12*Q13","v":2.0766110334647805},null,null,null,null,null,null,null,null,null,null,null,null,null,null,null,null,null,null,null,null,null,null,6,0,0,null,null,{"$f":"Makro!D5","v":2},"h",{"$f":"N12-AU20*Q18-Q18*AU21","v":118.00661834666863},null,"fcd",{"$f":"AX11/AX9","v":35},"MPa",null,{"$f":"IF(Makro!$C$11=-1,'Ark1'!M14,0)*$AT$40","v":0},{"$f":"IF(Makro!$C$11=-1,'Ark1'!N14,0)*$AT$40","v":0},{"$f":"IF(Makro!$C$11=-1,'Ark1'!O14,0)","v":0},{"$f":"IF(Makro!$C$11=-1,'Ark1'!P14,0)","v":0},{"$f":"IF(Makro!$C$11=-1,'Ark1'!Q14,0)","v":0},{"$f":"IF(Makro!$C$11=-1,'Ark1'!R14,0)","v":0},null,{"$f":"Kold!N30","v":78.099999999999994},{"$f":"Kold!O30","v":427.6},{"$f":"Kold!P30","v":8.4},{"$f":"Kold!Q30","v":0.6}]
[null,null,null,null,null,null,null,null,null,null,"Trykarm.",null,"da",{"$f":"Kold!N15","v":8},null,{"$f":"IF(OR(BH32=10,AR61=1),\"Der regnes med fuld krybning\",\"Udbøjningstillæg fra krybning:\")","v":"Udbøjningstillæg fra krybning:"},null,null,null,null,null,null,null,null,null,null,null,null,null,null,null,null,null,null,null,null,null,null,null,7,0,0,null,null,{"$f":"Makro!D6","v":"Stål: Varmvalset"},"b",{"$f":"N13-2*Q18*AU22","v":1000},null,"k",{"$f":"0.8-400*AX14/AX16","v":-0.268136322289108},"MPa",null,{"$f":"IF(Makro!$C$11=-1,'Ark1'!M15,0)*$AT$40","v":0},{"$f":"IF(Makro!$C$11=-1,'Ark1'!N15,0)*$AT$40","v":0},{"$f":"IF(Makro!$C$11=-1,'Ark1'!O15,0)","v":0},{"$f":"IF(Makro!$C$11=-1,'Ark1'!P15,0)","v":0},{"$f":"IF(Makro!$C$11=-1,'Ark1'!Q15,0)","v":0},{"$f":"IF(Makro!$C$11=-1,'Ark1'!R15,0)","v":0},null,{"$f":"Kold!N31","v":78.099999999999994},{"$f":"Kold!O31","v":427.6},{"$f":"Kold!P31","v":59.3},{"$f":"Kold!Q31","v":0.6}]
[null,null,null,null,null,null,null,null,null,null,null,null,"Antal",{"$f":"Kold!N16","v":6.67},null,"Dukrybning",{"$f":"IF(OR(BH32=10,AR61=1),\"-          \",AS68*1000)","v":8.7407449922905681E-2},null,null,null,null,null,null,null,null,null,null,null,null,null,null,null,null,null,null,null,null,null,null,8,0,0,null,null,{"$f":"Makro!D7","v":"Stål: Bratkølet"},"ac",{"$f":"N14-AU20*Q18","v":9.0033091733343156},null,"Eo",{"$f":"2*AX14/Firsidig!F21","v":13106.941228247715},"MPa",null,{"$f":"IF(Makro!$C$11=-1,'Ark1'!M16,0)*$AT$40","v":0},{"$f":"IF(Makro!$C$11=-1,'Ark1'!N16,0)*$AT$40","v":0},{"$f":"IF(Makro!$C$11=-1,'Ark1'!O16,0)","v":0},{"$f":"IF(Makro!$C$11=-1,'Ark1'!P16,0)","v":0},{"$f":"IF(Makro!$C$11=-1,'Ark1'!Q16,0)","v":0},{"$f":"IF(Makro!$C$11=-1,'Ark1'!R16,0)","v":0},null,{"$f":"Kold!N32","v":78.099999999999994},{"$f":"Kold!O32","v":456},{"$f":"Kold!P32","v":8.4},{"$f":"Kold!Q32","v":0.6}]
[null,null,null,null,null,null,null,null,null,null,"Trækarm.",null,"da",{"$f":"Kold!N17","v":8},"Reduktionsparametre",null,null,null,null,null,null,null,null,null,null,null,null,null,null,null,null,null,null,null,null,null,null,null,null,9,0,0,null,null,{"$f":"Makro!D8","v":"Stål: Kolddeformeret"},"at",{"$f":"N14-AU21*Q18","v":9.0033091733343156},null,"Ncr",{"$f":"(AX21*AX22+2*MIN(AX12*AX25,AX13*AX26))*AX14/(1+12*(AX14/AX16)*(AX27/(PI()*AX21))^2)","v":1820.8113035964197},"MN",null,{"$f":"IF(Makro!$C$11=-1,'Ark1'!M17,0)*$AT$40","v":0},{"$f":"IF(Makro!$C$11=-1,'Ark1'!N17,0)*$AT$40","v":0},{"$f":"IF(Makro!$C$11=-1,'Ark1'!O17,0)","v":0},{"$f":"IF(Makro!$C$11=-1,'Ark1'!P17,0)","v":0},{"$f":"IF(Makro!$C$11=-1,'Ark1'!Q17,0)","v":0},{"$f":"IF(Makro!$C$11=-1,'Ark1'!R17,0)","v":0},null,{"$f":"Kold!N33","v":78.099999999999994},{"$f":"Kold!O33","v":456},{"$f":"Kold!P33","v":59.3},{"$f":"Kold!Q33","v":0.6}]
[null,null,null,null,null,null,null,null,null,null,null,null,"Antal",{"$f":"Kold!N18","v":6.67},"Randzone:","a",{"$f":"Firsidig!E24*1000","v":30.996690826665684},null,null,null,null,null,null,null,null,null,null,null,null,null,null,null,null,null,null,null,null,null,null,10,0,0,null,null,{"$f":"IF(AS14=1,\"Q\",IF(AS14=2,\"AC\",\"C\"))","v":"AC"},null,null,null,"fyk",{"$f":"N8","v":550},null,null,{"$f":"IF(Makro!$C$11=-1,'Ark1'!M18,0)*$AT$40","v":0},{"$f":"IF(Makro!$C$11=-1,'Ark1'!N18,0)*$AT$40","v":0},{"$f":"IF(Makro!$C$11=-1,'Ark1'!O18,0)","v":0},{"$f":"IF(Makro!$C$11=-1,'Ark1'!P18,0)","v":0},{"$f":"IF(Makro!$C$11=-1,'Ark1'!Q18,0)","v":0},{"$f":"IF(Makro!$C$11=-1,'Ark1'!R18,0)","v":0}]
[null,null,null,null,null,null,null,null,null,null,"Brandpåvirkning,   tid :",null,null,120,"Beton:","kc,M",{"$f":"Firsidig!E21","v":1},null,null,null,null,null,null,null,null,null,null,null,null,null,null,null,null,null,null,null,null,null,null,11,0,0,null,null,null,null,null,null,"fyd_c",{"$f":"Firsidig!E35*AX18/AX10","v":431.8046027286033},null,null,{"$f":"IF(Makro!$C$11=-1,'Ark1'!M19,0)*$AT$40","v":0},{"$f":"IF(Makro!$C$11=-1,'Ark1'!N19,0)*$AT$40","v":0},{"$f":"IF(Makro!$C$11=-1,'Ark1'!O19,0)","v":0},{"$f":"IF(Makro!$C$11=-1,'Ark1'!P19,0)","v":0},{"$f":"IF(Makro!$C$11=-1,'Ark1'!Q19,0)","v":0},{"$f":"IF(Makro!$C$11=-1,'Ark1'!R19,0)","v":0},null,{"$f":"Kold!N35","v":72},{"$f":"Kold!O35","v":20},{"$f":"Kold!P35","v":40},{"$f":"Kold!Q35","v":0}]
[null,null,null,null,null,null,null,null,null,null,null,"Brand, trykside",null,{"$f":"IF(AT20=2,\"JA\",\"NEJ\")","v":"JA"},"Trykarm:","fsy,q / fyk",{"$f":"Firsidig!E35","v":0.78509927768836962},null,null,null,null,null,null,null,null,null,null,null,null,null,null,null,null,null,null,null,null,null,null,12,0,0,null,null,"Brand, trykside",{"$f":"Makro!F5","v":2},{"$f":"AT20-1","v":1},null,"fyd_t",{"$f":"Firsidig!E41*AX18/AX10","v":431.8046027286033},null,null,{"$f":"IF(Makro!$C$11=-1,'Ark1'!M20,0)*$AT$40","v":0},{"$f":"IF(Makro!$C$11=-1,'Ark1'!N20,0)*$AT$40","v":0},{"$f":"IF(Makro!$C$11=-1,'Ark1'!O20,0)","v":0},{"$f":"IF(Makro!$C$11=-1,'Ark1'!P20,0)","v":0},{"$f":"IF(Makro!$C$11=-1,'Ark1'!Q20,0)","v":0},{"$f":"IF(Makro!$C$11=-1,'Ark1'!R20,0)","v":0}]
[null,null,null,null,null,null,null,null,null,null,null,"Brand, trækside",null,{"$f":"IF(AT21=2,\"JA\",\"NEJ\")","v":"JA"},null,"Es,q / Es",{"$f":"Firsidig!E34","v":0.96139071209682803},null,null,null,null,null,null,null,null,null,null,null,null,null,null,null,null,null,null,null,null,null,null,13,0,0,null,null,"Brand, trækside",{"$f":"Makro!G5","v":2},{"$f":"AT21-1","v":1},null,"h",{"$f":"AU14/1000","v":0.11800661834666863},"m",null,{"$f":"IF(Makro!$C$11=-1,'Ark1'!M21,0)*$AT$40","v":0},{"$f":"IF(Makro!$C$11=-1,'Ark1'!N21,0)*$AT$40","v":0},{"$f":"IF(Makro!$C$11=-1,'Ark1'!O21,0)","v":0},{"$f":"IF(Makro!$C$11=-1,'Ark1'!P21,0)","v":0},{"$f":"IF(Makro!$C$11=-1,'Ark1'!Q21,0)","v":0},{"$f":"IF(Makro!$C$11=-1,'Ark1'!R21,0)","v":0}]
[null,null,null,null,null,null,null,null,null,null,null,null,null,null,"Trækarm:","fsy,q / fyk",{"$f":"Firsidig!E41","v":0.78509927768836962},null,null,null,null,null,null,null,null,null,null,null,null,null,null,null,null,null,null,null,null,null,null,14,0,0,null,null,"Brand, sider",1,{"$f":"AT22-1","v":0},null,"b",{"$f":"AU15/1000","v":1},"m",null,{"$f":"IF(Makro!$C$11=-1,'Ark1'!M22,0)*$AT$40","v":0},{"$f":"IF(Makro!$C$11=-1,'Ark1'!N22,0)*$AT$40","v":0},{"$f":"IF(Makro!$C$11=-1,'Ark1'!O22,0)","v":0},{"$f":"IF(Makro!$C$11=-1,'Ark1'!P22,0)","v":0},{"$f":"IF(Makro!$C$11=-1,'Ark1'!Q22,0)","v":0},{"$f":"IF(Makro!$C$11=-1,'Ark1'!R22,0)","v":0}]
[null,null,null,null,null,null,null,null,null,null,{"$f":"INDEX($AS$4:$AS$5,$AS$3,1)&\"    \"&INDEX($AS$15:$AS$17,$AS$14,1)","v":"Tilslag: Søsand / granit    Stål: Bratkølet"},null,null,null,null,"Es,q / Es",{"$f":"Firsidig!E40","v":0.96139071209682803},null,null,null,null,null,null,null,null,null,null,null,null,null,null,null,null,null,null,null,null,null,null,15,0,0,null,null,null,null,null,null,"ac",{"$f":"AU16/1000","v":9.0033091733343149E-3},"m",null,{"$f":"IF(Makro!$C$11=-1,'Ark1'!M23,0)*$AT$40","v":0},{"$f":"IF(Makro!$C$11=-1,'Ark1'!N23,0)*$AT$40","v":0},{"$f":"IF(Makro!$C$11=-1,'Ark1'!O23,0)","v":0},{"$f":"IF(Makro!$C$11=-1,'Ark1'!P23,0)","v":0},{"$f":"IF(Makro!$C$11=-1,'Ark1'!Q23,0)","v":0},{"$f":"IF(Makro!$C$11=-1,'Ark1'!R23,0)","v":0}]
[null,null,"Kontrolparametre","Brandlasttilfælde",null,null,null,null,null,"Ref-last","Brandlasttilfælde",null,null,"     N1  (kN)","N0  (kN)","   N2  (kN)","w  (kN/m)",null,null,null,null,null,null,null,null,null,null,null,null,null,null,null,null,null,null,null,null,null,null,16,0,0,null,null,null,null,{"$f":"Makro!F6","v":"NEJ"},null,"at",{"$f":"AU17/1000","v":9.0033091733343149E-3},"m",null,{"$f":"IF(Makro!$C$11=-1,'Ark1'!M24,0)*$AT$40","v":0},{"$f":"IF(Makro!$C$11=-1,'Ark1'!N24,0)*$AT$40","v":0},{"$f":"IF(Makro!$C$11=-1,'Ark1'!O24,0)","v":0},{"$f":"IF(Makro!$C$11=-1,'Ark1'!P24,0)","v":0},{"$f":"IF(Makro!$C$11=-1,'Ark1'!Q24,0)","v":0},{"$f":"IF(Makro!$C$11=-1,'Ark1'!R24,0)","v":0}]
[null,null,null,{"$f":"IF(Makro!$C$11=-1,Brand!BB33,\"-\")","v":"-"},{"$f":"IF(Makro!$C$11=-1,Brand!BC33,\"-\")","v":"-"},{"$f":"IF(Makro!$C$11=-1,Brand!BD33,\"-\")","v":"-"},{"$f":"IF(Makro!$C$11=-1,Brand!BE33,\"-\")","v":"-"},{"$f":"IF(Makro!$C$11=-1,Brand!BF33,\"-\")","v":"-"},{"$f":"IF(Makro!$C$11=-1,Brand!BG33,\"-\")","v":"-"},{"$f":"IF(Makro!$C$11=-1,Brand!BH33,\"-\")","v":"-"},"A",null,null,8.4,9,11.7,0.16,null,null,null,null,null,null,null,null,null,null,null,null,null,null,null,null,null,null,null,null,null,null,17,0,0,null,null,null,null,{"$f":"Makro!F7","v":"JA"},null,"Ac",{"$f":"AP40/1000000","v":3.3527076799110271E-4},"m2",null,{"$f":"IF(Makro!$C$11=-1,'Ark1'!M25,0)*$AT$40","v":0},{"$f":"IF(Makro!$C$11=-1,'Ark1'!N25,0)*$AT$40","v":0},{"$f":"IF(Makro!$C$11=-1,'Ark1'!O25,0)","v":0},{"$f":"IF(Makro!$C$11=-1,'Ark1'!P25,0)","v":0},{"$f":"IF(Makro!$C$11=-1,'Ark1'!Q25,0)","v":0},{"$f":"IF(Makro!$C$11=-1,'Ark1'!R25,0)","v":0}]
[null,"NEd","(kN)",{"$f":"IF(Makro!$C$11=-1,Brand!BB35,\"-\")","v":"-"},{"$f":"IF(Makro!$C$11=-1,Brand!BC35,\"-\")","v":"-"},{"$f":"IF(Makro!$C$11=-1,Brand!BD35,\"-\")","v":"-"},{"$f":"IF(Makro!$C$11=-1,Brand!BE35,\"-\")","v":"-"},{"$f":"IF(Makro!$C$11=-1,Brand!BF35,\"-\")","v":"-"},{"$f":"IF(Makro!$C$11=-1,Brand!BG35,\"-\")","v":"-"},{"$f":"IF(Makro!$C$11=-1,IF($BH$32=10,\"-\",Brand!BH35),\"-\")","v":"-"},"B",null,null,35.5,9,11.7,0.16,null,null,null,null,null,null,null,null,null,null,null,null,null,null,null,null,null,null,null,null,null,null,18,0,0,null,null,null,null,null,null,"At",{"$f":"AP41/1000000","v":3.3527076799110271E-4},"m2",null,{"$f":"IF(Makro!$C$11=-1,'Ark1'!M26,0)*$AT$40","v":0},{"$f":"IF(Makro!$C$11=-1,'Ark1'!N26,0)*$AT$40","v":0},{"$f":"IF(Makro!$C$11=-1,'Ark1'!O26,0)","v":0},{"$f":"IF(Makro!$C$11=-1,'Ark1'!P26,0)","v":0},{"$f":"IF(Makro!$C$11=-1,'Ark1'!Q26,0)","v":0},{"$f":"IF(Makro!$C$11=-1,'Ark1'!R26,0)","v":0}]
[null,"M0Ed"," (kNm)",{"$f":"IF(Makro!$C$11=-1,Brand!BB36,\"-\")","v":"-"},{"$f":"IF(Makro!$C$11=-1,Brand!BC36,\"-\")","v":"-"},{"$f":"IF(Makro!$C$11=-1,Brand!BD36,\"-\")","v":"-"},{"$f":"IF(Makro!$C$11=-1,Brand!BE36,\"-\")","v":"-"},{"$f":"IF(Makro!$C$11=-1,Brand!BF36,\"-\")","v":"-"},{"$f":"IF(Makro!$C$11=-1,Brand!BG36,\"-\")","v":"-"},{"$f":"IF(Makro!$C$11=-1,IF($BH$32=10,\"-\",Brand!BH36),\"-\")","v":"-"},"C",null,null,35.5,312,11.7,0.16,null,null,null,null,null,null,null,null,null,null,null,null,null,null,null,null,null,null,null,null,null,null,19,0,0,null,null,null,null,null,null,"L",{"$f":"BL35*N11/1000","v":2.52},"m",null,{"$f":"IF(Makro!$C$11=-1,'Ark1'!M27,0)*$AT$40","v":0},{"$f":"IF(Makro!$C$11=-1,'Ark1'!N27,0)*$AT$40","v":0},{"$f":"IF(Makro!$C$11=-1,'Ark1'!O27,0)","v":0},{"$f":"IF(Makro!$C$11=-1,'Ark1'!P27,0)","v":0},{"$f":"IF(Makro!$C$11=-1,'Ark1'!Q27,0)","v":0},{"$f":"IF(Makro!$C$11=-1,'Ark1'!R27,0)","v":0}]
[null,"M0Rd ","(kNm)",{"$f":"IF(Makro!$C$11=-1,Brand!BB37,\"-\")","v":"-"},{"$f":"IF(Makro!$C$11=-1,Brand!BC37,\"-\")","v":"-"},{"$f":"IF(Makro!$C$11=-1,Brand!BD37,\"-\")","v":"-"},{"$f":"IF(Makro!$C$11=-1,Brand!BE37,\"-\")","v":"-"},{"$f":"IF(Makro!$C$11=-1,Brand!BF37,\"-\")","v":"-"},{"$f":"IF(Makro!$C$11=-1,Brand!BG37,\"-\")","v":"-"},{"$f":"IF(Makro!$C$11=-1,IF($BH$32=10,\"-\",Brand!BH37),\"-\")","v":"-"},"D",null,null,35.5,312,28,0.16,null,null,null,null,null,null,null,null,null,null,null,null,null,null,null,null,null,null,null,null,null,null,null,null,null,null,null,"Ingen negative inddata",{"$f":"IF(MIN(N9,N10,Q13,N19,N25:Q33,N35:P35)<0,1,0)","v":0},{"$f":"IF(AT28=1,AS28&\" !   \",\"\")","v":""},null,"e1",{"$f":"Firsidig!F21","v":5.3406816114455408E-3},null,null,{"$f":"IF(Makro!$C$11=-1,'Ark1'!M28,0)*$AT$40","v":0},{"$f":"IF(Makro!$C$11=-1,'Ark1'!N28,0)*$AT$40","v":0},{"$f":"IF(Makro!$C$11=-1,'Ark1'!O28,0)","v":0},{"$f":"IF(Makro!$C$11=-1,'Ark1'!P28,0)","v":0},{"$f":"IF(Makro!$C$11=-1,'Ark1'!Q28,0)","v":0},{"$f":"IF(Makro!$C$11=-1,'Ark1'!R28,0)","v":0}]
[null,"u","(mm)",{"$f":"IF(Makro!$C$11=-1,Brand!BB38+0.4*$AX$32*1000,\"-\")","v":"-"},{"$f":"IF(Makro!$C$11=-1,Brand!BC38+0.4*$AX$32*1000,\"-\")","v":"-"},{"$f":"IF(Makro!$C$11=-1,Brand!BD38+0.4*$AX$32*1000,\"-\")","v":"-"},{"$f":"IF(Makro!$C$11=-1,Brand!BE38+0.4*$AX$32*1000,\"-\")","v":"-"},{"$f":"IF(Makro!$C$11=-1,Brand!BF38+0.4*$AX$32*1000,\"-\")","v":"-"},{"$f":"IF(Makro!$C$11=-1,Brand!BG38+0.4*$AX$32*1000,\"-\")","v":"-"},{"$f":"IF(Makro!$C$11=-1,IF($BH$32=10,\"-\",Brand!BH38+0.4*AX32*1000),\"-\")","v":"-"},"E",null,null,null,null,null,null,null,null,null,null,null,null,null,null,null,null,null,null,null,null,null,null,null,null,null,null,null,null,null,null,null,null,{"$f":"MAX(AP9:AQ38,Kold!AP9:AQ38)","v":15.783200000000001},null,null,{"$f":"IF(AX32>0,\"Underliggende konstruktion skal kontrolleres for forsætning af væggens reaktion under brand på exc( R ) = \"&ROUND(AX32*1000,0)&\" mm mod væggens trækside \",\"\")","v":""}]
[null,"wk","(mm)",{"$f":"IF(Makro!$C$11=-1,Brand!BB39,\"-\")","v":"-"},{"$f":"IF(Makro!$C$11=-1,Brand!BC39,\"-\")","v":"-"},{"$f":"IF(Makro!$C$11=-1,Brand!BD39,\"-\")","v":"-"},{"$f":"IF(Makro!$C$11=-1,Brand!BE39,\"-\")","v":"-"},{"$f":"IF(Makro!$C$11=-1,Brand!BF39,\"-\")","v":"-"},{"$f":"IF(Makro!$C$11=-1,Brand!BG39,\"-\")","v":"-"},{"$f":"IF(Makro!$C$11=-1,Brand!BH39,\"-\")","v":"-"},"F",null,null,null,null,null,null,null,null,null,null,null,null,null,null,null,null,null,null,null,null,null,null,null,null,null,null,null,null,null,{"$f":"N25+O25+P25+$AO$9","v":29.099999999999998},null,{"$f":"(N25*$N$35+O25*$O$35-P25*$P$35)/1000+0.125*Q25*($N$11/1000)^2+0.001+AT10*AO30","v":0.57700000000000007}]
[null,"e0 ","(o/oo)",{"$f":"IF(Makro!$C$11=-1,Brand!BB40,\"-\")","v":"-"},{"$f":"IF(Makro!$C$11=-1,Brand!BC40,\"-\")","v":"-"},{"$f":"IF(Makro!$C$11=-1,Brand!BD40,\"-\")","v":"-"},{"$f":"IF(Makro!$C$11=-1,Brand!BE40,\"-\")","v":"-"},{"$f":"IF(Makro!$C$11=-1,Brand!BF40,\"-\")","v":"-"},{"$f":"IF(Makro!$C$11=-1,Brand!BG40,\"-\")","v":"-"},{"$f":"IF(Makro!$C$11=-1,IF($BH$32=10,\"-\",Brand!BH40),\"-\")","v":"-"},"G",null,null,null,null,null,null,null,null,null,null,null,null,null,null,null,null,null,null,null,null,null,null,null,null,null,null,null,null,null,56.2,null,{"$f":"(N26*$N$35+O26*$O$35-P26*$P$35)/1000+0.125*Q26*($N$11/1000)^2+0.001+AO31*AT10","v":2.5281999999999996},null,null,null,null,null,"Forsætning af reaktion",null,null,null,"Lastpunkt",1,2,3,4,5,6,7,"A",null,{"$f":"Makro!H6","v":"1,0 L "},{"$f":"Makro!H5","v":2}]
[null,"sc0","(Mpa)",{"$f":"IF(Makro!$C$11=-1,Brand!BB41,\"-\")","v":"-"},{"$f":"IF(Makro!$C$11=-1,Brand!BC41,\"-\")","v":"-"},{"$f":"IF(Makro!$C$11=-1,Brand!BD41,\"-\")","v":"-"},{"$f":"IF(Makro!$C$11=-1,Brand!BE41,\"-\")","v":"-"},{"$f":"IF(Makro!$C$11=-1,Brand!BF41,\"-\")","v":"-"},{"$f":"IF(Makro!$C$11=-1,Brand!BG41,\"-\")","v":"-"},{"$f":"IF(Makro!$C$11=-1,IF($BH$32=10,\"-\",Brand!BH41),\"-\")","v":"-"},"H",null,null,null,null,null,null,null," NB:  Resultaterne skal altid kontrolleres af ansvarlig statiker",null,null,null,null,null,null,null,null,null,null,null,null,null,null,null,null,null,null,null,null,null,359.2,null,{"$f":"(N27*$N$35+O27*$O$35-P27*$P$35)/1000+0.125*Q27*($N$11/1000)^2+0.001+AO32*AT10","v":8.5881999999999987},null,null,null,null,null,"exc( R )",{"$f":"IF(AND(AT21=2,N19>5),MIN(AX33:AX35),0)","v":0},null,null,"Indeks",{"$f":"Makro!B3","v":1},{"$f":"Makro!C3","v":2},{"$f":"Makro!D3","v":3},{"$f":"Makro!E3","v":4},{"$f":"Makro!F3","v":5},{"$f":"Makro!G3","v":6},{"$f":"Makro!H3","v":1},"B",null,{"$f":"Makro!H7","v":"0,7 L"}]
[null,"sst","(Mpa)",{"$f":"IF(Makro!$C$11=-1,Brand!BB42,\"-\")","v":"-"},{"$f":"IF(Makro!$C$11=-1,Brand!BC42,\"-\")","v":"-"},{"$f":"IF(Makro!$C$11=-1,Brand!BD42,\"-\")","v":"-"},{"$f":"IF(Makro!$C$11=-1,Brand!BE42,\"-\")","v":"-"},{"$f":"IF(Makro!$C$11=-1,Brand!BF42,\"-\")","v":"-"},{"$f":"IF(Makro!$C$11=-1,Brand!BG42,\"-\")","v":"-"},{"$f":"IF(Makro!$C$11=-1,IF($BH$32=10,\"-\",Brand!BH42),\"-\")","v":"-"},"I",null,null,null,null,null,null,null,null,null,null,null,null,null,null,null,null,null,null,null,null,null,null,null,null,null,null,null,null,null,375.5,null,{"$f":"(N28*$N$35+O28*$O$35-P28*$P$35)/1000+0.125*Q28*($N$11/1000)^2+0.001+AO33*AT10","v":7.9362000000000004},null,"Ref-last er for stor - der regnes med fuld krybning",{"$f":"IF(AR61=1,1,0)","v":0},"",null,"0,5 (h -2a)",{"$f":"0.5*(N12-2*Q18)/1000","v":5.9003309173334316E-2},null,null,null,{"$f":"INDEX($BI$31:$BI$39,BB32)","v":"A"},{"$f":"INDEX($BI$31:$BI$39,BC32)","v":"B"},"C","D","E","F","A","C",null,{"$f":"Makro!H8","v":"0,5 L"}]
[null,"ssc","(Mpa)",{"$f":"IF(Makro!$C$11=-1,Brand!BB43,\"-\")","v":"-"},{"$f":"IF(Makro!$C$11=-1,Brand!BC43,\"-\")","v":"-"},{"$f":"IF(Makro!$C$11=-1,Brand!BD43,\"-\")","v":"-"},{"$f":"IF(Makro!$C$11=-1,Brand!BE43,\"-\")","v":"-"},{"$f":"IF(Makro!$C$11=-1,Brand!BF43,\"-\")","v":"-"},{"$f":"IF(Makro!$C$11=-1,Brand!BG43,\"-\")","v":"-"},{"$f":"IF(Makro!$C$11=-1,IF($BH$32=10,\"-\",Brand!BH43),\"-\")","v":"-"},null,null,null,null,null,null,"Red. søjlelængde",null,"Vejledning:",null,null,"Betonelementbyggeriers statik",null,null,null,null,null,null,null,null,null,null,null,null,null,null,null,null,null,null,0,null,{"$f":"(N29*$N$35+O29*$O$35-P29*$P$35)/1000+0.125*Q29*($N$11/1000)^2+0.001+AO34*AT10","v":1E-3},null,"Resttværsnit meget spinkelt",{"$f":"IF(AT43<0.25*Kold!Q23/1000,1,0)","v":0},"",null,"max exc(R )",{"$f":"AX40/1000","v":0},null,null,"N",{"$f":"INDEX($AN$30:$AQ$38,BB32,2)","v":29.099999999999998},{"$f":"INDEX($AN$30:$AQ$38,BC32,2)","v":56.2},359.2,375.5,0,0,29.099999999999998,"D",null,"Ls",{"$f":"IF(BL31=1,1,IF(BL31=2,0.7,0.5))*N11","v":2520}]
[null,"x","(mm)",{"$f":"IF(Makro!$C$11=-1,Brand!BB44,\"-\")","v":"-"},{"$f":"IF(Makro!$C$11=-1,Brand!BC44,\"-\")","v":"-"},{"$f":"IF(Makro!$C$11=-1,Brand!BD44,\"-\")","v":"-"},{"$f":"IF(Makro!$C$11=-1,Brand!BE44,\"-\")","v":"-"},{"$f":"IF(Makro!$C$11=-1,Brand!BF44,\"-\")","v":"-"},{"$f":"IF(Makro!$C$11=-1,Brand!BG44,\"-\")","v":"-"},{"$f":"IF(Makro!$C$11=-1,IF($BH$32=10,\"-\",Brand!BH44),\"-\")","v":"-"}," Excentriciteter (mm) :",null,null,72,20,40,{"$f":"INDEX(BK31:BK33,BL31)&\" = \"&BL34&\" mm\"","v":"0,7 L = 2520 mm"},null,"Polyteknisk Forlag 2010 eller www.bef.dk",null,null,null,null,null,null,null,null,null,null,null,null,null,null,null,null,null,null,null,null,null,0,null,{"$f":"(N30*$N$35+O30*$O$35-P30*$P$35)/1000+0.125*Q30*($N$11/1000)^2+0.001+AO35*AT10","v":1E-3},null,"f_yk højst 600 MPa",{"$f":"IF(N8>600,1,0)","v":0},"",null,"2 utermisk",{"$f":"1.1*Firsidig!X34*AX27^2/(800000*(AX21-AX24))+IF(OR(BH32=10,AR61=1),0,$Q$16/1000)*2","v":3.0243681235800398E-2},null,null,"N",{"$f":"INDEX(Lastresult,1+5*(BB31-1),16)*1000","v":29.100087932772549},95.499976944915332,514.09991019121901,561.49984380130888,95.499976944915332,514.09991019121901,9.9999999999988987E-2,"E",null,"Lbrand/Ls",{"$f":"IF(BL31=1,1,IF(BL31=2,0.7,0.5))","v":0.7}]
[null,null,null,null,null,null,null,null,null,null,null,null,null,null,null,null,null,null,null,null,null,null,null,null,null,null,null,null,null,null,null,null,null,null,null,null,null,null,null,null,0,null,{"$f":"(N31*$N$35+O31*$O$35-P31*$P$35)/1000+0.125*Q31*($N$11/1000)^2+0.001+AO36*AT10","v":1E-3},null,"Partialkoefficienter mindst 1,0",{"$f":"IF(MIN(N9,N10)<1,1,0)","v":0},"",null,null,null,null,null,"M",{"$f":"INDEX($AN$30:$AQ$38,BB32,4)","v":0.57700000000000007},{"$f":"INDEX($AN$30:$AQ$38,BC32,4)","v":2.5281999999999996},8.5881999999999987,7.9362000000000004,1E-3,1E-3,0.57700000000000007,"F"]
[null,null,null,null,null,null,null,null,null,null,null,null,null,null,null,null,null,null,null,null,null,null,null,null,null,null,null,null,null,null,null,null,null,null,null,null,null,null,null,null,0,null,{"$f":"(N32*$N$35+O32*$O$35-P32*$P$35)/1000+0.125*Q32*($N$11/1000)^2+0.001+AO37*AT10","v":1E-3},null,"Programmet indstillet til kold beregning",{"$f":"IF(Makro!$C$11=1,1,0)","v":1},"Programmet indstillet til kold beregning !   ",null,null,null,null,null,"Mud ",{"$f":"INDEX(Lastresult,1+5*(BB31-1),17)*1000","v":20.482418725488117},22.563837472081758,28.42554446840148,28.449464346725129,22.563837472081758,28.42554446840148,19.419193093506514,"G"]
[null,null,null,null,null,null,null,null,null,null,null,null,null,null,null,null,null,null,null,null,null,null,null,null,null,null,null,null,null,null,null,null,null,null,null,null,null,null,null,null,0,null,{"$f":"(N33*$N$35+O33*$O$35-P33*$P$35)/1000+0.125*Q33*($N$11/1000)^2+0.001+AO38*AT10","v":1E-3},null,null,{"$f":"Kold!AT30","v":1},{"$f":"Kold!AU30","v":"For ny bruger: Klik på knappen 'angiv nyt brugernavn' for ibrugtagning."},null,null,null,null,null,"u",{"$f":"INDEX(Lastresult,1+5*(BB31-1),15)*1000","v":31.064233181516514},33.542534009512536,42.943588882643176,43.80368799070849,33.542534009512536,42.943588882643176,29.740483717744983,"H"]
[null,null,null,null,null,null,null,null,null,null,null,null,null,null,null,null,null,null,null,null,null,null,null,null,null,null,null,null,null,null,null,null,null,null,null,null,null,null,null,null,null,null,null,null,"Nulstilling for fejl",null,null,null,null,"max exc( R )brand",null,null,"wr","-","-","-","-","-","-","-","I"]
[null,null,null,null,null,null,null,null,null,null,null,null,null,null,null,null,null,null,null,null,null,null,null,null,null,null,null,null,null,null,null,null,null,null,null,null,null,null,null,"Trykarmering",null,{"$f":"N15^2*N16*PI()/4","v":335.27076799110273},"mm^2",null,"Testfaktor",{"$f":"IF(MAX(AT28,AT29,AT30,AT34,AT36)=1,0,1)","v":1},null,null,null,0,null,null,"e0 ",{"$f":"INDEX(Lastresult,1+5*(BB31-1),3)*1000","v":0.3553127187166869},0.42792609154983624,0.80561064972015661,0.84499786641880203,0.42792609154983624,0.80561064972015661,0.3210578024372992]
[null,null,null,null,null,null,null,null,null,null,null,null,null,null,null,null,null,null,null,null,null,null,null,null,null,null,null,null,null,null,null,null,null,null,null,null,null,null,null,"Trækarmering",null,{"$f":"N17^2*N18*PI()/4","v":335.27076799110273},"mm^2",null,null,null,null,null,null,null,null,null,"sc0",{"$f":"3*(BB40/1000)*$Q$8/(Firsidig!$F$21*(2+((BB40/1000)/Firsidig!$F$21)^3))","v":3.4922830037625943},{"$f":"3*(BC40/1000)*$Q$8/(Firsidig!$F$21*(2+((BC40/1000)/Firsidig!$F$21)^3))","v":4.2055199012132434},{"$f":"3*(BD40/1000)*$Q$8/(Firsidig!$F$21*(2+((BD40/1000)/Firsidig!$F$21)^3))","v":7.9057511151534392},{"$f":"3*(BE40/1000)*$Q$8/(Firsidig!$F$21*(2+((BE40/1000)/Firsidig!$F$21)^3))","v":8.2900855764965105},{"$f":"3*(BF40/1000)*$Q$8/(Firsidig!$F$21*(2+((BF40/1000)/Firsidig!$F$21)^3))","v":4.2055199012132434},{"$f":"3*(BG40/1000)*$Q$8/(Firsidig!$F$21*(2+((BG40/1000)/Firsidig!$F$21)^3))","v":7.9057511151534392},{"$f":"3*(BH40/1000)*$Q$8/(Firsidig!$F$21*(2+((BH40/1000)/Firsidig!$F$21)^3))","v":3.1557215204403999}]
[null,null,null,null,null,null,null,null,null,null,null,null,null,null,null,null,null,null,null,null,null,null,null,null,null,null,null,null,null,null,null,null,null,null,null,null,null,null,null,null,null,null,null,null,"Kritisk normalspænding",{"$f":"Q8/(1+12*Q8*AX27^2/(PI()^2*AX16*AX21^2))","v":14.10951292691489},"MPa",null,null,null,null,null,"sst",{"$f":"INDEX(Lastresult,1+5*(BB31-1),12)","v":458.33333333333337},458.33333333333337,458.33333333333337,458.33333333333337,458.33333333333337,458.33333333333337,458.32156291626706]
[null,null,null,null,null,null,null,null,null,null,null,null,null,null,null,null,null,null,null,null,null,null,null,null,null,null,null,null,null,null,null,null,null,null,null,null,null,null,null,null,null,null,null,null,"Kritisk normalkraft, Ncr",{"$f":"AT42*AX22*AX21","v":1.6650159070238328},"MN",null,null,null,null,null,"ssc",{"$f":"INDEX(Lastresult,1+5*(BB31-1),10)","v":12.120354094646268},38.487027018475167,197.16744145181616,214.45817821735326,38.487027018475167,197.16744145181616,0.6365191476987323]
[null,null,null,null,null,null,null,null,null,null,null,null,null,null,null,null,null,null,null,null,null,null,null,null,null,null,null,null,null,null,null,null,null,null,null,null,null,null,null,null,null,null,null,null,null,null,null,null,null,null,null,null,"hc ",{"$f":"INDEX(Lastresult,1+5*(BB31-1),2)*1000","v":42.528306238057723},47.435214495392373,69.751705757507466,71.725387943207565,47.435214495392373,69.751705757507466,40.138687861173786]
[]
[null,null,null,null,null,null,null,null,null,null,null,null,null,null,null,null,null,null,null,null,null,null,null,null,null,null,null,null,null,null,null,null,null,null,null,null,null,null,null,"gc",1,null,"Referencelast før krybning",null,null,"Mo",null,"sc,max","sc,min","sc","st","hc","u","a","Mt","a*fc","a*ft","B","C","D","p","q","C'","y'","b","m","Ec","Atr","Syt","Iyt","z","Io","sc","sm","hc",null,null,"Referencelast"]
[null,null,null,null,null,null,null,null,null,null,null,null,null,null,null,null,null,null,null,null,null,null,null,null,null,null,null,null,null,null,null,null,null,null,null,null,null,null,null,"ga",1,null,null,null,null,{"$f":"BC47-AR50*BA47","v":8.3711641072977587E-4},null,{"$f":"IF(BL47*SQRT(4*ABS(BI47)/3)-BF47/3<=AO53,BC47/(BN47*AO54*AO53^2),BU47)","v":0.31054770648854124},{"$f":"IF(BL47*SQRT(4*ABS(BI47)/3)-BF47/3<=AO53,0,BV47)","v":5.9764086440335373E-3},{"$f":"BB47*(AZ47-AO55)*AV47/AZ47","v":1.425384593162945},{"$f":"BB47*(AO53-AO55-AZ47)*AV47/AZ47","v":-0.43230685366428162},{"$f":"IF(BL47*SQRT(4*ABS(BI47)/3)-BF47/3<=AO53,BL47*SQRT(4*ABS(BI47)/3)-BF47/3,BW47)","v":0.18353202538630292},{"$f":"0.1*(AV47/(AZ47*BO47))*AO59^2","v":6.4362427695777182E-5},{"$f":"AO56","v":5.8690360639635326},{"$f":"IF(AR53>0,AR53+AO53*AR50/20,0)+0.000000000001","v":8.3899000099999996E-4},{"$f":"BB47*AO57/(AO53*AO54)","v":1.0931756825180735E-2},{"$f":"BB47*AO58/(AO53*AO54)","v":1.0931756825180735E-2},{"$f":"-6*AO53*(0.25-0.5*BC47/(AO53*AR52))","v":-0.18353589821367228},{"$f":"-6*AO53*(BD47*(0.5*AO53-AO55)-BE47*(0.5*AO53-AO55)-(BD47+BE47)*AO53*BC47/(AO53*AR52))","v":6.8054726508178323E-4},{"$f":"6*AO53*((BD47*AO55-BE47*(AO53-AO55))*(0.5*AO53-AO55)-(BD47*AO55+BE47*(AO53-AO55))*BC47/AR52)","v":-1.2028074071333646E-4},{"$f":"(3*BG47-BF47^2)/3","v":-1.0547928045951373E-2},{"$f":"(9*BG47*BF47-27*BH47-2*BF47^3)/27","v":5.3660763436223617E-4},{"$f":"0.5*BJ47*(3/ABS(BI47))^(3/2)","v":1.2869390995534762},{"$f":"IF(BI47>0,SINH(ASINH(BK47)/3),IF(BK47>=1,COSH(ACOSH(BK47)/3),IF(BK47<=-1,-COSH(ACOSH(ABS(BK47))/3),COS(ACOS(BK47)/3))))","v":1.0306193075621746},{"$f":"AZ47/AO53","v":1.0196223632572385},{"$f":"0.5*BM47*(0.5-BM47/3)+BD47*(0.5-AO55/AO53)*(BM47-AO55/AO53)/BM47+BE47*(0.5-AO55/AO53)*(1-AO55/AO53-BM47)/BM47","v":8.3288497188358762E-2},{"$f":"IF(BL47*SQRT(4*ABS(BI47)/3)-BF47/3<=AO53,AO52*(1-AO51*AV47/AO50),AO52*(1-AO51*AV47/AO50-(1-AO51)*BV47/AO50))","v":34071.327372014792},{"$f":"(1+BD47+BE47)*AO53*AO54","v":0.18393543245706506},{"$f":"0.5*(AO53-AO55)*(BE47-BD47)*AO53*AO54","v":0},{"$f":"AO54*AO53^3/12+(0.5*AO53-AO55)^2*(BD47+BE47)*AO54*AO53","v":4.958385811426626E-4},{"$f":"BQ47/BP47","v":0},{"$f":"BR47-BP47*BS47^2","v":4.958385811426626E-4},{"$f":"AR52/BP47+(BC47+BS47*AR52)*(0.5*AO53+BS47)/BT47","v":0.31054770648854124},{"$f":"AR52/BP47+(BC47+BS47*AR52)*(-0.5*AO53+BS47)/BT47","v":5.9764086440335373E-3},{"$f":"AR52*BT47/((BC47+AR52*BS47)*BP47)+(0.5*AO53+BS47)","v":0.18353202538630292},null,null,"A",{"$f":"AO30","v":29.099999999999998},{"$f":"(N25*$N$35+O25*$O$35-P25*$P$35)/1000+0.125*Q25*($N$11/1000)^2+0.001","v":0.57700000000000007}]
[null,null,null,null,null,null,null,null,null,null,null,null,null,null,null,null,null,null,null,null,null,null,null,null,null,null,null,null,null,null,null,null,null,null,null,null,null,null,null,"fck",{"$f":"$N$7","v":35},"MPa",null,null,null,{"$f":"BC48-AR50*BA48","v":5.7757913240347376E-4},{"$f":"BA48/BA47","v":0.69089698389366183},{"$f":"IF(BL48*SQRT(4*ABS(BI48)/3)-BF48/3<=AO53,BC48/(BN48*AO54*AO53^2),BU48)","v":0.26333379886616493},{"$f":"IF(BL48*SQRT(4*ABS(BI48)/3)-BF48/3<=AO53,0,BV48)","v":5.3190316266409882E-2},{"$f":"BB48*(AZ48-AO55)*AV48/AZ48","v":1.2714400784094066},{"$f":"BB48*(AO53-AO55-AZ48)*AV48/AZ48","v":-0.58625136841782044},{"$f":"IF(BL48*SQRT(4*ABS(BI48)/3)-BF48/3<=AO53,BL48*SQRT(4*ABS(BI48)/3)-BF48/3,BW48)","v":0.22556057037557128},{"$f":"0.1*(AV48/(AZ48*BO48))*AO59^2","v":4.4467807171086344E-5},{"$f":"AO56","v":5.8690360639635326},{"$f":"AR53+BA47*AR50","v":5.7887359027022412E-4},{"$f":"BB48*AO57/(AO53*AO54)","v":1.0931756825180735E-2},{"$f":"BB48*AO58/(AO53*AO54)","v":1.0931756825180735E-2},{"$f":"-6*AO53*(0.25-0.5*BC48/(AO53*AR52))","v":-0.21034281103364233},{"$f":"-6*AO53*(BD48*(0.5*AO53-AO55)-BE48*(0.5*AO53-AO55)-(BD48+BE48)*AO53*BC48/(AO53*AR52))","v":4.6955367551093597E-4},{"$f":"6*AO53*((BD48*AO55-BE48*(AO53-AO55))*(0.5*AO53-AO55)-(BD48*AO55+BE48*(AO53-AO55))*BC48/AR52)","v":-1.0129131765196019E-4},{"$f":"(3*BG48-BF48^2)/3","v":-1.4278479042333918E-2},{"$f":"(9*BG48*BF48-27*BH48-2*BF48^3)/27","v":7.5773393965871381E-4},{"$f":"0.5*BJ48*(3/ABS(BI48))^(3/2)","v":1.1538403013807748},{"$f":"IF(BI48>0,SINH(ASINH(BK48)/3),IF(BK48>=1,COSH(ACOSH(BK48)/3),IF(BK48<=-1,-COSH(ACOSH(ABS(BK48))/3),COS(ACOS(BK48)/3))))","v":1.0167186074622681},{"$f":"AZ48/AO53","v":1.2531142798642849},{"$f":"0.5*BM48*(0.5-BM48/3)+BD48*(0.5-AO55/AO53)*(BM48-AO55/AO53)/BM48+BE48*(0.5-AO55/AO53)*(1-AO55/AO53-BM48)/BM48","v":5.2908915772519223E-2},{"$f":"IF(BL48*SQRT(4*ABS(BI48)/3)-BF48/3<=AO53,AO52*(1-AO51*AV48/AO50),AO52*(1-AO51*AV48/AO50-(1-AO51)*BV48/AO50))","v":34025.358365366716},{"$f":"(1+BD48+BE48)*AO53*AO54","v":0.18393543245706506},{"$f":"0.5*(AO53-AO55)*(BE48-BD48)*AO53*AO54","v":0},{"$f":"AO54*AO53^3/12+(0.5*AO53-AO55)^2*(BD48+BE48)*AO54*AO53","v":4.958385811426626E-4},{"$f":"BQ48/BP48","v":0},{"$f":"BR48-BP48*BS48^2","v":4.958385811426626E-4},{"$f":"AR52/BP48+(BC48+BS48*AR52)*(0.5*AO53+BS48)/BT48","v":0.26333379886616493},{"$f":"AR52/BP48+(BC48+BS48*AR52)*(-0.5*AO53+BS48)/BT48","v":5.3190316266409882E-2},{"$f":"AR52*BT48/((BC48+AR52*BS48)*BP48)+(0.5*AO53+BS48)","v":0.22556057037557128},null,null,"B",{"$f":"AO31","v":56.2},2.5281999999999996]
[null,null,null,null,null,null,null,null,null,null,null,null,null,null,null,null,null,null,null,null,null,null,null,null,null,null,null,null,null,null,null,null,null,null,null,null,null,null,null,"Es",200000,"MPa","Max_N",{"$f":"(AO53*AO54+AO56*(AO57+AO58))*AO50/(1+(12*(AO50/AO52)/PI()^2)*(AO59/AO53)^2)","v":4.2932221921964322},null,{"$f":"BC49-AR50*BA49","v":5.7700129114681841E-4},{"$f":"BA49/BA48","v":0.99900255786500058},{"$f":"IF(BL49*SQRT(4*ABS(BI49)/3)-BF49/3<=AO53,BC49/(BN49*AO54*AO53^2),BU49)","v":0.26322868014750345},{"$f":"IF(BL49*SQRT(4*ABS(BI49)/3)-BF49/3<=AO53,0,BV49)","v":5.3295434985071347E-2},{"$f":"BB49*(AZ49-AO55)*AV49/AZ49","v":1.2710973308811722},{"$f":"BB49*(AO53-AO55-AZ49)*AV49/AZ49","v":-0.58659411594605448},{"$f":"IF(BL49*SQRT(4*ABS(BI49)/3)-BF49/3<=AO53,BL49*SQRT(4*ABS(BI49)/3)-BF49/3,BW49)","v":0.22569632737249543},{"$f":"0.1*(AV49/(AZ49*BO49))*AO59^2","v":4.4423453106562874E-5},{"$f":"AO56","v":5.8690360639635326},{"$f":"AR53+BA48*AR50","v":5.782944578667504E-4},{"$f":"BB49*AO57/(AO53*AO54)","v":1.0931756825180735E-2},{"$f":"BB49*AO58/(AO53*AO54)","v":1.0931756825180735E-2},{"$f":"-6*AO53*(0.25-0.5*BC49/(AO53*AR52))","v":-0.21040249489521637},{"$f":"-6*AO53*(BD49*(0.5*AO53-AO55)-BE49*(0.5*AO53-AO55)-(BD49+BE49)*AO53*BC49/(AO53*AR52))","v":4.6908391189893274E-4},{"$f":"6*AO53*((BD49*AO55-BE49*(AO53-AO55))*(0.5*AO53-AO55)-(BD49*AO55+BE49*(AO53-AO55))*BC49/AR52)","v":-1.0124903892687991E-4},{"$f":"(3*BG49-BF49^2)/3","v":-1.4287319374144916E-2},{"$f":"(9*BG49*BF49-27*BH49-2*BF49^3)/27","v":7.5830224537032007E-4},{"$f":"0.5*BJ49*(3/ABS(BI49))^(3/2)","v":1.1536341377740067},1.0166966852694768,{"$f":"AZ49/AO53","v":1.2538684854027524},{"$f":"0.5*BM49*(0.5-BM49/3)+BD49*(0.5-AO55/AO53)*(BM49-AO55/AO53)/BM49+BE49*(0.5-AO55/AO53)*(1-AO55/AO53-BM49)/BM49","v":5.278152733879643E-2},{"$f":"IF(BL49*SQRT(4*ABS(BI49)/3)-BF49/3<=AO53,AO52*(1-AO51*AV49/AO50),AO52*(1-AO51*AV49/AO50-(1-AO51)*BV49/AO50))","v":34025.256018339736},{"$f":"(1+BD49+BE49)*AO53*AO54","v":0.18393543245706506},{"$f":"0.5*(AO53-AO55)*(BE49-BD49)*AO53*AO54","v":0},{"$f":"AO54*AO53^3/12+(0.5*AO53-AO55)^2*(BD49+BE49)*AO54*AO53","v":4.958385811426626E-4},0,4.958385811426626E-4,{"$f":"AR52/BP49+(BC49+BS49*AR52)*(0.5*AO53+BS49)/BT49","v":0.26322868014750345},{"$f":"AR52/BP49+(BC49+BS49*AR52)*(-0.5*AO53+BS49)/BT49","v":5.3295434985071347E-2},{"$f":"AR52*BT49/((BC49+AR52*BS49)*BP49)+(0.5*AO53+BS49)","v":0.22569632737249543},null,null,"C",359.2,8.5881999999999987]
[null,null,null,null,null,null,null,null,null,null,null,null,null,null,null,null,null,null,null,null,null,null,null,null,null,null,null,null,null,null,null,null,null,null,null,null,null,null,null,"fcd",{"$f":"AO48/AO46","v":35},"MPa","Nd",{"$f":"INDEX(BZ47:CB56,BH32,2)/1000+0.00001","v":2.9109999999999997E-2},"MN",{"$f":"BC50-AR50*BA50","v":5.7700000287855616E-4},0.99999777402550716,{"$f":"IF(BL50*SQRT(4*ABS(BI50)/3)-BF50/3<=AO53,BC50/(BN50*AO54*AO53^2),BU50)","v":0.26322844579056137},{"$f":"IF(BL50*SQRT(4*ABS(BI50)/3)-BF50/3<=AO53,0,BV50)","v":5.3295669342013435E-2},{"$f":"BB50*(AZ50-AO55)*AV50/AZ50","v":1.2710965667426473},{"$f":"BB50*(AO53-AO55-AZ50)*AV50/AZ50","v":-0.58659488008457972},{"$f":"IF(BL50*SQRT(4*ABS(BI50)/3)-BF50/3<=AO53,BL50*SQRT(4*ABS(BI50)/3)-BF50/3,BW50)","v":0.22569663033972975},{"$f":"0.1*(AV50/(AZ50*BO50))*AO59^2","v":4.4423354221089375E-5},{"$f":"AO56","v":5.8690360639635326},{"$f":"AR53+BA49*AR50","v":5.7829316671993204E-4},{"$f":"BB50*AO57/(AO53*AO54)","v":1.0931756825180735E-2},{"$f":"BB50*AO58/(AO53*AO54)","v":1.0931756825180735E-2},{"$f":"-6*AO53*(0.25-0.5*BC50/(AO53*AR52))","v":-0.21040262795740997},{"$f":"-6*AO53*(BD50*(0.5*AO53-AO55)-BE50*(0.5*AO53-AO55)-(BD50+BE50)*AO53*BC50/(AO53*AR52))","v":4.690828645843819E-4},{"$f":"6*AO53*((BD50*AO55-BE50*(AO53-AO55))*(0.5*AO53-AO55)-(BD50*AO55+BE50*(AO53-AO55))*BC50/AR52)","v":-1.0124894466857033E-4},-1.4287339085877043E-2,7.5830351277256529E-4,1.153633678476425,1.0166966364291539,{"$f":"AZ50/AO53","v":1.2538701685540543},{"$f":"0.5*BM50*(0.5-BM50/3)+BD50*(0.5-AO55/AO53)*(BM50-AO55/AO53)/BM50+BE50*(0.5-AO55/AO53)*(1-AO55/AO53-BM50)/BM50","v":5.2781242836626129E-2},{"$f":"IF(BL50*SQRT(4*ABS(BI50)/3)-BF50/3<=AO53,AO52*(1-AO51*AV50/AO50),AO52*(1-AO51*AV50/AO50-(1-AO51)*BV50/AO50))","v":34025.255790162148},{"$f":"(1+BD50+BE50)*AO53*AO54","v":0.18393543245706506},{"$f":"0.5*(AO53-AO55)*(BE50-BD50)*AO53*AO54","v":0},{"$f":"AO54*AO53^3/12+(0.5*AO53-AO55)^2*(BD50+BE50)*AO54*AO53","v":4.958385811426626E-4},0,4.958385811426626E-4,{"$f":"AR52/BP50+(BC50+BS50*AR52)*(0.5*AO53+BS50)/BT50","v":0.26322844579056137},{"$f":"AR52/BP50+(BC50+BS50*AR52)*(-0.5*AO53+BS50)/BT50","v":5.3295669342013435E-2},{"$f":"AR52*BT50/((BC50+AR52*BS50)*BP50)+(0.5*AO53+BS50)","v":0.22569663033972975},null,null,"D",375.5,7.9362000000000004]
[null,null,null,null,null,null,null,null,null,null,null,null,null,null,null,null,null,null,null,null,null,null,null,null,null,null,null,null,null,null,null,null,null,null,null,null,null,null,null,"k",0,null,"Nf",0,"MN",{"$f":"BC51-AR50*BA51","v":5.7700000000641765E-4},0.99999999503727455,{"$f":"IF(BL51*SQRT(4*ABS(BI51)/3)-BF51/3<=AO53,BC51/(BN51*AO54*AO53^2),BU51)","v":0.26322844526807265},{"$f":"IF(BL51*SQRT(4*ABS(BI51)/3)-BF51/3<=AO53,0,BV51)","v":5.329566986450214E-2},{"$f":"BB51*(AZ51-AO55)*AV51/AZ51","v":1.2710965650390333},{"$f":"BB51*(AO53-AO55-AZ51)*AV51/AZ51","v":-0.58659488178819352},{"$f":"IF(BL51*SQRT(4*ABS(BI51)/3)-BF51/3<=AO53,BL51*SQRT(4*ABS(BI51)/3)-BF51/3,BW51)","v":0.22569663101518364},{"$f":"0.1*(AV51/(AZ51*BO51))*AO59^2","v":4.4423354000628464E-5},{"$f":"AO56","v":5.8690360639635326},{"$f":"AR53+BA50*AR50","v":5.7829316384137592E-4},{"$f":"BB51*AO57/(AO53*AO54)","v":1.0931756825180735E-2},{"$f":"BB51*AO58/(AO53*AO54)","v":1.0931756825180735E-2},{"$f":"-6*AO53*(0.25-0.5*BC51/(AO53*AR52))","v":-0.21040262825406639},{"$f":"-6*AO53*(BD51*(0.5*AO53-AO55)-BE51*(0.5*AO53-AO55)-(BD51+BE51)*AO53*BC51/(AO53*AR52))","v":4.6908286224943933E-4},{"$f":"6*AO53*((BD51*AO55-BE51*(AO53-AO55))*(0.5*AO53-AO55)-(BD51*AO55+BE51*(AO53-AO55))*BC51/AR52)","v":-1.0124894445842551E-4},-1.4287339129823514E-2,7.5830351559818599E-4,1.1536336774524432,1.0166966363202667,{"$f":"AZ51/AO53","v":1.2538701723065759},{"$f":"0.5*BM51*(0.5-BM51/3)+BD51*(0.5-AO55/AO53)*(BM51-AO55/AO53)/BM51+BE51*(0.5-AO55/AO53)*(1-AO55/AO53-BM51)/BM51","v":5.2781242202338347E-2},{"$f":"IF(BL51*SQRT(4*ABS(BI51)/3)-BF51/3<=AO53,AO52*(1-AO51*AV51/AO50),AO52*(1-AO51*AV51/AO50-(1-AO51)*BV51/AO50))","v":34025.255789653434},{"$f":"(1+BD51+BE51)*AO53*AO54","v":0.18393543245706506},{"$f":"0.5*(AO53-AO55)*(BE51-BD51)*AO53*AO54","v":0},{"$f":"AO54*AO53^3/12+(0.5*AO53-AO55)^2*(BD51+BE51)*AO54*AO53","v":4.958385811426626E-4},0,4.958385811426626E-4,{"$f":"AR52/BP51+(BC51+BS51*AR52)*(0.5*AO53+BS51)/BT51","v":0.26322844526807265},{"$f":"AR52/BP51+(BC51+BS51*AR52)*(-0.5*AO53+BS51)/BT51","v":5.329566986450214E-2},{"$f":"AR52*BT51/((BC51+AR52*BS51)*BP51)+(0.5*AO53+BS51)","v":0.22569663101518364},null,null,"E",0,1E-3]
[null,null,null,null,null,null,null,null,null,null,null,null,null,null,null,null,null,null,null,null,null,null,null,null,null,null,null,null,null,null,null,null,null,null,null,null,null,null,null,"Ecm",{"$f":"1000*22*((AO50+8)/10)^0.3","v":34077.14619918933},"MPa","N",{"$f":"AR51+AR50","v":2.9109999999999997E-2},"MN",{"$f":"BC52-AR50*BA52","v":5.7700000000001435E-4},0.99999999998893596,{"$f":"IF(BL52*SQRT(4*ABS(BI52)/3)-BF52/3<=AO53,BC52/(BN52*AO54*AO53^2),BU52)","v":0.26322844526690781},{"$f":"IF(BL52*SQRT(4*ABS(BI52)/3)-BF52/3<=AO53,0,BV52)","v":5.3295669865667E-2},{"$f":"BB52*(AZ52-AO55)*AV52/AZ52","v":1.2710965650352353},{"$f":"BB52*(AO53-AO55-AZ52)*AV52/AZ52","v":-0.58659488179199171},{"$f":"IF(BL52*SQRT(4*ABS(BI52)/3)-BF52/3<=AO53,BL52*SQRT(4*ABS(BI52)/3)-BF52/3,BW52)","v":0.22569663101668955},{"$f":"0.1*(AV52/(AZ52*BO52))*AO59^2","v":4.4423354000136962E-5},{"$f":"AO56","v":5.8690360639635326},{"$f":"AR53+BA51*AR50","v":5.7829316383495831E-4},{"$f":"BB52*AO57/(AO53*AO54)","v":1.0931756825180735E-2},{"$f":"BB52*AO58/(AO53*AO54)","v":1.0931756825180735E-2},{"$f":"-6*AO53*(0.25-0.5*BC52/(AO53*AR52))","v":-0.21040262825472777},{"$f":"-6*AO53*(BD52*(0.5*AO53-AO55)-BE52*(0.5*AO53-AO55)-(BD52+BE52)*AO53*BC52/(AO53*AR52))","v":4.6908286224423365E-4},{"$f":"6*AO53*((BD52*AO55-BE52*(AO53-AO55))*(0.5*AO53-AO55)-(BD52*AO55+BE52*(AO53-AO55))*BC52/AR52)","v":-1.01248944457957E-4},{"$f":"(3*BG52-BF52^2)/3","v":-1.4287339129921488E-2},{"$f":"(9*BG52*BF52-27*BH52-2*BF52^3)/27","v":7.5830351560448542E-4},{"$f":"0.5*BJ52*(3/ABS(BI52))^(3/2)","v":1.1536336774501614},{"$f":"IF(BI52>0,SINH(ASINH(BK52)/3),IF(BK52>=1,COSH(ACOSH(BK52)/3),IF(BK52<=-1,-COSH(ACOSH(ABS(BK52))/3),COS(ACOS(BK52)/3))))","v":1.0166966363200243},{"$f":"AZ52/AO53","v":1.2538701723149419},{"$f":"0.5*BM52*(0.5-BM52/3)+BD52*(0.5-AO55/AO53)*(BM52-AO55/AO53)/BM52+BE52*(0.5-AO55/AO53)*(1-AO55/AO53-BM52)/BM52","v":5.2781242200924242E-2},{"$f":"IF(BL52*SQRT(4*ABS(BI52)/3)-BF52/3<=AO53,AO52*(1-AO51*AV52/AO50),AO52*(1-AO51*AV52/AO50-(1-AO51)*BV52/AO50))","v":34025.255789652299},{"$f":"(1+BD52+BE52)*AO53*AO54","v":0.18393543245706506},{"$f":"0.5*(AO53-AO55)*(BE52-BD52)*AO53*AO54","v":0},{"$f":"AO54*AO53^3/12+(0.5*AO53-AO55)^2*(BD52+BE52)*AO54*AO53","v":4.958385811426626E-4},0,4.958385811426626E-4,{"$f":"AR52/BP52+(BC52+BS52*AR52)*(0.5*AO53+BS52)/BT52","v":0.26322844526690781},{"$f":"AR52/BP52+(BC52+BS52*AR52)*(-0.5*AO53+BS52)/BT52","v":5.3295669865667E-2},{"$f":"AR52*BT52/((BC52+AR52*BS52)*BP52)+(0.5*AO53+BS52)","v":0.22569663101668955},null,null,"F",0,1E-3]
[null,null,null,null,null,null,null,null,null,null,null,null,null,null,null,null,null,null,null,null,null,null,null,null,null,null,null,null,null,null,null,null,null,null,null,null,null,null,null,"h",{"$f":"$N$12/1000","v":0.18},"m","Mo",{"$f":"INDEX(BZ47:CB56,BH32,3)/1000","v":5.7700000000000004E-4},"MNm",{"$f":"BC53-AR50*BA53","v":5.7700000000000004E-4},0.99999999999997524,{"$f":"IF(BL53*SQRT(4*ABS(BI53)/3)-BF53/3<=AO53,BC53/(BN53*AO54*AO53^2),BU53)","v":0.2632284452669052},{"$f":"IF(BL53*SQRT(4*ABS(BI53)/3)-BF53/3<=AO53,0,BV53)","v":5.3295669865669595E-2},{"$f":"BB53*(AZ53-AO55)*AV53/AZ53","v":1.2710965650352268},{"$f":"BB53*(AO53-AO55-AZ53)*AV53/AZ53","v":-0.58659488179200014},{"$f":"IF(BL53*SQRT(4*ABS(BI53)/3)-BF53/3<=AO53,BL53*SQRT(4*ABS(BI53)/3)-BF53/3,BW53)","v":0.22569663101669291},{"$f":"0.1*(AV53/(AZ53*BO53))*AO59^2","v":4.4423354000135864E-5},{"$f":"AO56","v":5.8690360639635326},{"$f":"AR53+BA52*AR50","v":5.78293163834944E-4},{"$f":"BB53*AO57/(AO53*AO54)","v":1.0931756825180735E-2},{"$f":"BB53*AO58/(AO53*AO54)","v":1.0931756825180735E-2},{"$f":"-6*AO53*(0.25-0.5*BC53/(AO53*AR52))","v":-0.21040262825472925},{"$f":"-6*AO53*(BD53*(0.5*AO53-AO55)-BE53*(0.5*AO53-AO55)-(BD53+BE53)*AO53*BC53/(AO53*AR52))","v":4.6908286224422205E-4},{"$f":"6*AO53*((BD53*AO55-BE53*(AO53-AO55))*(0.5*AO53-AO55)-(BD53*AO55+BE53*(AO53-AO55))*BC53/AR52)","v":-1.0124894445795594E-4},-1.4287339129921707E-2,7.5830351560449941E-4,1.1536336774501541,1.0166966363200234,{"$f":"AZ53/AO53","v":1.2538701723149606},{"$f":"0.5*BM53*(0.5-BM53/3)+BD53*(0.5-AO55/AO53)*(BM53-AO55/AO53)/BM53+BE53*(0.5-AO55/AO53)*(1-AO55/AO53-BM53)/BM53","v":5.2781242200921091E-2},{"$f":"IF(BL53*SQRT(4*ABS(BI53)/3)-BF53/3<=AO53,AO52*(1-AO51*AV53/AO50),AO52*(1-AO51*AV53/AO50-(1-AO51)*BV53/AO50))","v":34025.255789652299},{"$f":"(1+BD53+BE53)*AO53*AO54","v":0.18393543245706506},{"$f":"0.5*(AO53-AO55)*(BE53-BD53)*AO53*AO54","v":0},{"$f":"AO54*AO53^3/12+(0.5*AO53-AO55)^2*(BD53+BE53)*AO54*AO53","v":4.958385811426626E-4},0,4.958385811426626E-4,{"$f":"AR52/BP53+(BC53+BS53*AR52)*(0.5*AO53+BS53)/BT53","v":0.2632284452669052},{"$f":"AR52/BP53+(BC53+BS53*AR52)*(-0.5*AO53+BS53)/BT53","v":5.3295669865669595E-2},{"$f":"AR52*BT53/((BC53+AR52*BS53)*BP53)+(0.5*AO53+BS53)","v":0.22569663101669291},null,null,"G",0,1E-3]
[null,null,null,null,null,null,null,null,null,null,null,null,null,null,null,null,null,null,null,null,null,null,null,null,null,null,null,null,null,null,null,null,null,null,null,null,null,null,null,"b",{"$f":"$N$13/1000","v":1},"m","u",{"$f":"BA59","v":4.4423354000135864E-5},"m",{"$f":"BC54-AR50*BA54","v":5.7700000000000004E-4},1,{"$f":"IF(BL54*SQRT(4*ABS(BI54)/3)-BF54/3<=AO53,BC54/(BN54*AO54*AO53^2),BU54)","v":0.2632284452669052},{"$f":"IF(BL54*SQRT(4*ABS(BI54)/3)-BF54/3<=AO53,0,BV54)","v":5.3295669865669595E-2},{"$f":"BB54*(AZ54-AO55)*AV54/AZ54","v":1.2710965650352268},{"$f":"BB54*(AO53-AO55-AZ54)*AV54/AZ54","v":-0.58659488179200014},{"$f":"IF(BL54*SQRT(4*ABS(BI54)/3)-BF54/3<=AO53,BL54*SQRT(4*ABS(BI54)/3)-BF54/3,BW54)","v":0.22569663101669291},{"$f":"0.1*(AV54/(AZ54*BO54))*AO59^2","v":4.4423354000135864E-5},{"$f":"AO56","v":5.8690360639635326},{"$f":"AR53+BA53*AR50","v":5.78293163834944E-4},{"$f":"BB54*AO57/(AO53*AO54)","v":1.0931756825180735E-2},{"$f":"BB54*AO58/(AO53*AO54)","v":1.0931756825180735E-2},{"$f":"-6*AO53*(0.25-0.5*BC54/(AO53*AR52))","v":-0.21040262825472925},{"$f":"-6*AO53*(BD54*(0.5*AO53-AO55)-BE54*(0.5*AO53-AO55)-(BD54+BE54)*AO53*BC54/(AO53*AR52))","v":4.6908286224422205E-4},{"$f":"6*AO53*((BD54*AO55-BE54*(AO53-AO55))*(0.5*AO53-AO55)-(BD54*AO55+BE54*(AO53-AO55))*BC54/AR52)","v":-1.0124894445795594E-4},-1.4287339129921707E-2,7.5830351560449941E-4,1.1536336774501541,1.0166966363200234,{"$f":"AZ54/AO53","v":1.2538701723149606},{"$f":"0.5*BM54*(0.5-BM54/3)+BD54*(0.5-AO55/AO53)*(BM54-AO55/AO53)/BM54+BE54*(0.5-AO55/AO53)*(1-AO55/AO53-BM54)/BM54","v":5.2781242200921091E-2},{"$f":"IF(BL54*SQRT(4*ABS(BI54)/3)-BF54/3<=AO53,AO52*(1-AO51*AV54/AO50),AO52*(1-AO51*AV54/AO50-(1-AO51)*BV54/AO50))","v":34025.255789652299},{"$f":"(1+BD54+BE54)*AO53*AO54","v":0.18393543245706506},{"$f":"0.5*(AO53-AO55)*(BE54-BD54)*AO53*AO54","v":0},{"$f":"AO54*AO53^3/12+(0.5*AO53-AO55)^2*(BD54+BE54)*AO54*AO53","v":4.958385811426626E-4},0,4.958385811426626E-4,{"$f":"AR52/BP54+(BC54+BS54*AR52)*(0.5*AO53+BS54)/BT54","v":0.2632284452669052},{"$f":"AR52/BP54+(BC54+BS54*AR52)*(-0.5*AO53+BS54)/BT54","v":5.3295669865669595E-2},{"$f":"AR52*BT54/((BC54+AR52*BS54)*BP54)+(0.5*AO53+BS54)","v":0.22569663101669291},null,null,"H",0,1E-3]
[null,null,null,null,null,null,null,null,null,null,null,null,null,null,null,null,null,null,null,null,null,null,null,null,null,null,null,null,null,null,null,null,null,null,null,null,null,null,null,"a",{"$f":"$N$14/1000","v":0.04},"m","ec,max",{"$f":"1000*AV59/BO59","v":7.736266463188729E-3},"o/oo",{"$f":"BC55-AR50*BA55","v":5.7700000000000004E-4},1,{"$f":"IF(BL55*SQRT(4*ABS(BI55)/3)-BF55/3<=AO53,BC55/(BN55*AO54*AO53^2),BU55)","v":0.2632284452669052},{"$f":"IF(BL55*SQRT(4*ABS(BI55)/3)-BF55/3<=AO53,0,BV55)","v":5.3295669865669595E-2},{"$f":"BB55*(AZ55-AO55)*AV55/AZ55","v":1.2710965650352268},{"$f":"BB55*(AO53-AO55-AZ55)*AV55/AZ55","v":-0.58659488179200014},{"$f":"IF(BL55*SQRT(4*ABS(BI55)/3)-BF55/3<=AO53,BL55*SQRT(4*ABS(BI55)/3)-BF55/3,BW55)","v":0.22569663101669291},{"$f":"0.1*(AV55/(AZ55*BO55))*AO59^2","v":4.4423354000135864E-5},{"$f":"AO56","v":5.8690360639635326},{"$f":"AR53+BA54*AR50","v":5.78293163834944E-4},{"$f":"BB55*AO57/(AO53*AO54)","v":1.0931756825180735E-2},{"$f":"BB55*AO58/(AO53*AO54)","v":1.0931756825180735E-2},{"$f":"-6*AO53*(0.25-0.5*BC55/(AO53*AR52))","v":-0.21040262825472925},{"$f":"-6*AO53*(BD55*(0.5*AO53-AO55)-BE55*(0.5*AO53-AO55)-(BD55+BE55)*AO53*BC55/(AO53*AR52))","v":4.6908286224422205E-4},{"$f":"6*AO53*((BD55*AO55-BE55*(AO53-AO55))*(0.5*AO53-AO55)-(BD55*AO55+BE55*(AO53-AO55))*BC55/AR52)","v":-1.0124894445795594E-4},-1.4287339129921707E-2,7.5830351560449941E-4,1.1536336774501541,1.0166966363200234,{"$f":"AZ55/AO53","v":1.2538701723149606},{"$f":"0.5*BM55*(0.5-BM55/3)+BD55*(0.5-AO55/AO53)*(BM55-AO55/AO53)/BM55+BE55*(0.5-AO55/AO53)*(1-AO55/AO53-BM55)/BM55","v":5.2781242200921091E-2},{"$f":"IF(BL55*SQRT(4*ABS(BI55)/3)-BF55/3<=AO53,AO52*(1-AO51*AV55/AO50),AO52*(1-AO51*AV55/AO50-(1-AO51)*BV55/AO50))","v":34025.255789652299},{"$f":"(1+BD55+BE55)*AO53*AO54","v":0.18393543245706506},{"$f":"0.5*(AO53-AO55)*(BE55-BD55)*AO53*AO54","v":0},{"$f":"AO54*AO53^3/12+(0.5*AO53-AO55)^2*(BD55+BE55)*AO54*AO53","v":4.958385811426626E-4},0,4.958385811426626E-4,{"$f":"AR52/BP55+(BC55+BS55*AR52)*(0.5*AO53+BS55)/BT55","v":0.2632284452669052},{"$f":"AR52/BP55+(BC55+BS55*AR52)*(-0.5*AO53+BS55)/BT55","v":5.3295669865669595E-2},{"$f":"AR52*BT55/((BC55+AR52*BS55)*BP55)+(0.5*AO53+BS55)","v":0.22569663101669291},null,null,"I",0,1E-3]
[null,null,null,null,null,null,null,null,null,null,null,null,null,null,null,null,null,null,null,null,null,null,null,null,null,null,null,null,null,null,null,null,null,null,null,null,null,null,null,"a",{"$f":"AO49/AO52","v":5.8690360639635326},null,"ec,min",{"$f":"1000*AW59/BO59","v":1.5663561853920811E-3},"o/oo",{"$f":"BC56-AR50*BA56","v":5.7700000000000004E-4},{"$f":"BA56/BA55","v":1},{"$f":"IF(BL56*SQRT(4*ABS(BI56)/3)-BF56/3<=AO53,BC56/(BN56*AO54*AO53^2),BU56)","v":0.2632284452669052},{"$f":"IF(BL56*SQRT(4*ABS(BI56)/3)-BF56/3<=AO53,0,BV56)","v":5.3295669865669595E-2},{"$f":"BB56*(AZ56-AO55)*AV56/AZ56","v":1.2710965650352268},{"$f":"BB56*(AO53-AO55-AZ56)*AV56/AZ56","v":-0.58659488179200014},{"$f":"IF(BL56*SQRT(4*ABS(BI56)/3)-BF56/3<=AO53,BL56*SQRT(4*ABS(BI56)/3)-BF56/3,BW56)","v":0.22569663101669291},{"$f":"0.1*(AV56/(AZ56*BO56))*AO59^2","v":4.4423354000135864E-5},{"$f":"AO56","v":5.8690360639635326},{"$f":"AR53+BA55*AR50","v":5.78293163834944E-4},{"$f":"BB56*AO57/(AO53*AO54)","v":1.0931756825180735E-2},{"$f":"BB56*AO58/(AO53*AO54)","v":1.0931756825180735E-2},{"$f":"-6*AO53*(0.25-0.5*BC56/(AO53*AR52))","v":-0.21040262825472925},{"$f":"-6*AO53*(BD56*(0.5*AO53-AO55)-BE56*(0.5*AO53-AO55)-(BD56+BE56)*AO53*BC56/(AO53*AR52))","v":4.6908286224422205E-4},{"$f":"6*AO53*((BD56*AO55-BE56*(AO53-AO55))*(0.5*AO53-AO55)-(BD56*AO55+BE56*(AO53-AO55))*BC56/AR52)","v":-1.0124894445795594E-4},-1.4287339129921707E-2,7.5830351560449941E-4,1.1536336774501541,1.0166966363200234,{"$f":"AZ56/AO53","v":1.2538701723149606},{"$f":"0.5*BM56*(0.5-BM56/3)+BD56*(0.5-AO55/AO53)*(BM56-AO55/AO53)/BM56+BE56*(0.5-AO55/AO53)*(1-AO55/AO53-BM56)/BM56","v":5.2781242200921091E-2},{"$f":"IF(BL56*SQRT(4*ABS(BI56)/3)-BF56/3<=AO53,AO52*(1-AO51*AV56/AO50),AO52*(1-AO51*AV56/AO50-(1-AO51)*BV56/AO50))","v":34025.255789652299},{"$f":"(1+BD56+BE56)*AO53*AO54","v":0.18393543245706506},{"$f":"0.5*(AO53-AO55)*(BE56-BD56)*AO53*AO54","v":0},{"$f":"AO54*AO53^3/12+(0.5*AO53-AO55)^2*(BD56+BE56)*AO54*AO53","v":4.958385811426626E-4},0,4.958385811426626E-4,{"$f":"AR52/BP56+(BC56+BS56*AR52)*(0.5*AO53+BS56)/BT56","v":0.2632284452669052},{"$f":"AR52/BP56+(BC56+BS56*AR52)*(-0.5*AO53+BS56)/BT56","v":5.3295669865669595E-2},{"$f":"AR52*BT56/((BC56+AR52*BS56)*BP56)+(0.5*AO53+BS56)","v":0.22569663101669291},null,null,"INGEN"]
[null,null,null,null,null,null,null,null,null,null,null,null,null,null,null,null,null,null,null,null,null,null,null,null,null,null,null,null,null,null,null,null,null,null,null,null,null,null,null,"Ac",{"$f":"$AP$40/1000000","v":3.3527076799110271E-4},"m2","sa,c",{"$f":"AX59","v":1.2710965650352268},"MPa",{"$f":"BC57-AR50*BA57","v":5.7700000000000004E-4},{"$f":"BA57/BA56","v":1},{"$f":"IF(BL57*SQRT(4*ABS(BI57)/3)-BF57/3<=AO53,BC57/(BN57*AO54*AO53^2),BU57)","v":0.2632284452669052},{"$f":"IF(BL57*SQRT(4*ABS(BI57)/3)-BF57/3<=AO53,0,BV57)","v":5.3295669865669595E-2},{"$f":"BB57*(AZ57-AO55)*AV57/AZ57","v":1.2710965650352268},{"$f":"BB57*(AO53-AO55-AZ57)*AV57/AZ57","v":-0.58659488179200014},{"$f":"IF(BL57*SQRT(4*ABS(BI57)/3)-BF57/3<=AO53,BL57*SQRT(4*ABS(BI57)/3)-BF57/3,BW57)","v":0.22569663101669291},{"$f":"0.1*(AV57/(AZ57*BO57))*AO59^2","v":4.4423354000135864E-5},{"$f":"AO56","v":5.8690360639635326},{"$f":"AR53+BA56*AR50","v":5.78293163834944E-4},{"$f":"BB57*AO57/(AO53*AO54)","v":1.0931756825180735E-2},{"$f":"BB57*AO58/(AO53*AO54)","v":1.0931756825180735E-2},{"$f":"-6*AO53*(0.25-0.5*BC57/(AO53*AR52))","v":-0.21040262825472925},{"$f":"-6*AO53*(BD57*(0.5*AO53-AO55)-BE57*(0.5*AO53-AO55)-(BD57+BE57)*AO53*BC57/(AO53*AR52))","v":4.6908286224422205E-4},{"$f":"6*AO53*((BD57*AO55-BE57*(AO53-AO55))*(0.5*AO53-AO55)-(BD57*AO55+BE57*(AO53-AO55))*BC57/AR52)","v":-1.0124894445795594E-4},-1.4287339129921707E-2,7.5830351560449941E-4,1.1536336774501541,1.0166966363200234,{"$f":"AZ57/AO53","v":1.2538701723149606},{"$f":"0.5*BM57*(0.5-BM57/3)+BD57*(0.5-AO55/AO53)*(BM57-AO55/AO53)/BM57+BE57*(0.5-AO55/AO53)*(1-AO55/AO53-BM57)/BM57","v":5.2781242200921091E-2},{"$f":"IF(BL57*SQRT(4*ABS(BI57)/3)-BF57/3<=AO53,AO52*(1-AO51*AV57/AO50),AO52*(1-AO51*AV57/AO50-(1-AO51)*BV57/AO50))","v":34025.255789652299},{"$f":"(1+BD57+BE57)*AO53*AO54","v":0.18393543245706506},{"$f":"0.5*(AO53-AO55)*(BE57-BD57)*AO53*AO54","v":0},{"$f":"AO54*AO53^3/12+(0.5*AO53-AO55)^2*(BD57+BE57)*AO54*AO53","v":4.958385811426626E-4},0,4.958385811426626E-4,{"$f":"AR52/BP57+(BC57+BS57*AR52)*(0.5*AO53+BS57)/BT57","v":0.2632284452669052},{"$f":"AR52/BP57+(BC57+BS57*AR52)*(-0.5*AO53+BS57)/BT57","v":5.3295669865669595E-2},{"$f":"AR52*BT57/((BC57+AR52*BS57)*BP57)+(0.5*AO53+BS57)","v":0.22569663101669291}]
[null,null,null,null,null,null,null,null,null,null,null,null,null,null,null,null,null,null,null,null,null,null,null,null,null,null,null,null,null,null,null,null,null,null,null,null,null,null,null,"At",{"$f":"$AP$41/1000000","v":3.3527076799110271E-4},"m2","sa,t",{"$f":"AY59","v":-0.58659488179200014},"MPa",{"$f":"BC58-AR50*BA58","v":5.7700000000000004E-4},{"$f":"BA58/BA57","v":1},{"$f":"IF(BL58*SQRT(4*ABS(BI58)/3)-BF58/3<=AO53,BC58/(BN58*AO54*AO53^2),BU58)","v":0.2632284452669052},{"$f":"IF(BL58*SQRT(4*ABS(BI58)/3)-BF58/3<=AO53,0,BV58)","v":5.3295669865669595E-2},{"$f":"BB58*(AZ58-AO55)*AV58/AZ58","v":1.2710965650352268},{"$f":"BB58*(AO53-AO55-AZ58)*AV58/AZ58","v":-0.58659488179200014},{"$f":"IF(BL58*SQRT(4*ABS(BI58)/3)-BF58/3<=AO53,BL58*SQRT(4*ABS(BI58)/3)-BF58/3,BW58)","v":0.22569663101669291},{"$f":"0.1*(AV58/(AZ58*BO58))*AO59^2","v":4.4423354000135864E-5},{"$f":"AO56","v":5.8690360639635326},{"$f":"AR53+BA57*AR50","v":5.78293163834944E-4},{"$f":"BB58*AO57/(AO53*AO54)","v":1.0931756825180735E-2},{"$f":"BB58*AO58/(AO53*AO54)","v":1.0931756825180735E-2},{"$f":"-6*AO53*(0.25-0.5*BC58/(AO53*AR52))","v":-0.21040262825472925},{"$f":"-6*AO53*(BD58*(0.5*AO53-AO55)-BE58*(0.5*AO53-AO55)-(BD58+BE58)*AO53*BC58/(AO53*AR52))","v":4.6908286224422205E-4},{"$f":"6*AO53*((BD58*AO55-BE58*(AO53-AO55))*(0.5*AO53-AO55)-(BD58*AO55+BE58*(AO53-AO55))*BC58/AR52)","v":-1.0124894445795594E-4},-1.4287339129921707E-2,7.5830351560449941E-4,1.1536336774501541,1.0166966363200234,{"$f":"AZ58/AO53","v":1.2538701723149606},{"$f":"0.5*BM58*(0.5-BM58/3)+BD58*(0.5-AO55/AO53)*(BM58-AO55/AO53)/BM58+BE58*(0.5-AO55/AO53)*(1-AO55/AO53-BM58)/BM58","v":5.2781242200921091E-2},{"$f":"IF(BL58*SQRT(4*ABS(BI58)/3)-BF58/3<=AO53,AO52*(1-AO51*AV58/AO50),AO52*(1-AO51*AV58/AO50-(1-AO51)*BV58/AO50))","v":34025.255789652299},{"$f":"(1+BD58+BE58)*AO53*AO54","v":0.18393543245706506},{"$f":"0.5*(AO53-AO55)*(BE58-BD58)*AO53*AO54","v":0},{"$f":"AO54*AO53^3/12+(0.5*AO53-AO55)^2*(BD58+BE58)*AO54*AO53","v":4.958385811426626E-4},0,4.958385811426626E-4,{"$f":"AR52/BP58+(BC58+BS58*AR52)*(0.5*AO53+BS58)/BT58","v":0.2632284452669052},{"$f":"AR52/BP58+(BC58+BS58*AR52)*(-0.5*AO53+BS58)/BT58","v":5.3295669865669595E-2},{"$f":"AR52*BT58/((BC58+AR52*BS58)*BP58)+(0.5*AO53+BS58)","v":0.22569663101669291}]
[null,null,null,null,null,null,null,null,null,null,null,null,null,null,null,null,null,null,null,null,null,null,null,null,null,null,null,null,null,null,null,null,null,null,null,null,null,null,null,"L",{"$f":"$N$11/1000","v":3.6},"m","hc",{"$f":"AZ59","v":0.22569663101669291},"m",{"$f":"BC59-AR50*BA59","v":5.7700000000000004E-4},{"$f":"BA59/BA58","v":1},{"$f":"IF(BL59*SQRT(4*ABS(BI59)/3)-BF59/3<=AO53,BC59/(BN59*AO54*AO53^2),BU59)","v":0.2632284452669052},{"$f":"IF(BL59*SQRT(4*ABS(BI59)/3)-BF59/3<=AO53,0,BV59)","v":5.3295669865669595E-2},{"$f":"BB59*(AZ59-AO55)*AV59/AZ59","v":1.2710965650352268},{"$f":"BB59*(AO53-AO55-AZ59)*AV59/AZ59","v":-0.58659488179200014},{"$f":"IF(BL59*SQRT(4*ABS(BI59)/3)-BF59/3<=AO53,BL59*SQRT(4*ABS(BI59)/3)-BF59/3,BW59)","v":0.22569663101669291},{"$f":"0.1*(AV59/(AZ59*BO59))*AO59^2","v":4.4423354000135864E-5},{"$f":"AO56","v":5.8690360639635326},{"$f":"AR53+BA58*AR50","v":5.78293163834944E-4},{"$f":"BB59*AO57/(AO53*AO54)","v":1.0931756825180735E-2},{"$f":"BB59*AO58/(AO53*AO54)","v":1.0931756825180735E-2},{"$f":"-6*AO53*(0.25-0.5*BC59/(AO53*AR52))","v":-0.21040262825472925},{"$f":"-6*AO53*(BD59*(0.5*AO53-AO55)-BE59*(0.5*AO53-AO55)-(BD59+BE59)*AO53*BC59/(AO53*AR52))","v":4.6908286224422205E-4},{"$f":"6*AO53*((BD59*AO55-BE59*(AO53-AO55))*(0.5*AO53-AO55)-(BD59*AO55+BE59*(AO53-AO55))*BC59/AR52)","v":-1.0124894445795594E-4},-1.4287339129921707E-2,7.5830351560449941E-4,1.1536336774501541,1.0166966363200234,{"$f":"AZ59/AO53","v":1.2538701723149606},{"$f":"0.5*BM59*(0.5-BM59/3)+BD59*(0.5-AO55/AO53)*(BM59-AO55/AO53)/BM59+BE59*(0.5-AO55/AO53)*(1-AO55/AO53-BM59)/BM59","v":5.2781242200921091E-2},{"$f":"IF(BL59*SQRT(4*ABS(BI59)/3)-BF59/3<=AO53,AO52*(1-AO51*AV59/AO50),AO52*(1-AO51*AV59/AO50-(1-AO51)*BV59/AO50))","v":34025.255789652299},{"$f":"(1+BD59+BE59)*AO53*AO54","v":0.18393543245706506},{"$f":"0.5*(AO53-AO55)*(BE59-BD59)*AO53*AO54","v":0},{"$f":"AO54*AO53^3/12+(0.5*AO53-AO55)^2*(BD59+BE59)*AO54*AO53","v":4.958385811426626E-4},0,4.958385811426626E-4,{"$f":"AR52/BP59+(BC59+BS59*AR52)*(0.5*AO53+BS59)/BT59","v":0.2632284452669052},{"$f":"AR52/BP59+(BC59+BS59*AR52)*(-0.5*AO53+BS59)/BT59","v":5.3295669865669595E-2},{"$f":"AR52*BT59/((BC59+AR52*BS59)*BP59)+(0.5*AO53+BS59)","v":0.22569663101669291}]
[null,null,null,null,null,null,null,null,null,null,null,null,null,null,null,null,null,null,null,null,null,null,null,null,null,null,null,null,null,null,null,null,null,null,null,null,null,null,null,"gc",1,null,"Referencelast efter krybning",null,null,"Mo",null,"sc,max","sc,min","sc","st","hc","u","a","Mt","a*fc","a*ft","B","C","D","p","q","C'","y'","b","m","Ec","Atr","Syt","Iyt","z","Io","sc","sm","hc"]
[null,null,null,null,null,null,null,null,null,null,null,null,null,null,null,null,null,null,null,null,null,null,null,null,null,null,null,null,null,null,null,null,null,null,null,null,null,null,null,"ga",1,null,"Kontrol",{"$f":"IF(AND(BH32<10,ABS(1-AU73)>0.01),1,0)","v":0},null,{"$f":"BC61-AR64*BA61","v":8.334539215748266E-4},null,{"$f":"IF(BL61*SQRT(4*ABS(BI61)/3)-BF61/3<=AO67,BC61/(BN61*AO68*AO67^2),BU61)","v":0.2977885895388146},{"$f":"IF(BL61*SQRT(4*ABS(BI61)/3)-BF61/3<=AO67,0,BV61)","v":5.2704301359969008E-3},{"$f":"BB61*(AZ61-AO69)*AV61/AZ61","v":4.2033304281236932},{"$f":"BB61*(AO67-AO69-AZ61)*AV61/AZ61","v":-1.2689278312532377},{"$f":"IF(BL61*SQRT(4*ABS(BI61)/3)-BF61/3<=AO67,BL61*SQRT(4*ABS(BI61)/3)-BF61/3,BW61)","v":0.18324314027688465},{"$f":"0.1*(AV61/(AZ61*BO61))*AO73^2","v":1.9017792597641325E-4},{"$f":"AO70","v":18.05674111019291},{"$f":"IF(AR67>0,AR67+AO67*AR64/20,0)+0.000000000001","v":8.3899000099999996E-4},{"$f":"BB61*AO71/(AO67*AO68)","v":3.3632763663504962E-2},{"$f":"BB61*AO72/(AO67*AO68)","v":3.3632763663504962E-2},{"$f":"-6*AO67*(0.25-0.5*BC61/(AO67*AR66))","v":-0.18353589821367228},{"$f":"-6*AO67*(BD61*(0.5*AO67-AO69)-BE61*(0.5*AO67-AO69)-(BD61+BE61)*AO67*BC61/(AO67*AR66))","v":2.0937792245448944E-3},{"$f":"6*AO67*((BD61*AO69-BE61*(AO67-AO69))*(0.5*AO67-AO69)-(BD61*AO69+BE61*(AO67-AO69))*BC61/AR66)","v":-3.7005705399196728E-4},{"$f":"(3*BG61-BF61^2)/3","v":-9.1346960864882622E-3},{"$f":"(9*BG61*BF61-27*BH61-2*BF61^3)/27","v":6.9992434861942357E-4},{"$f":"0.5*BJ61*(3/ABS(BI61))^(3/2)","v":2.0828684132482151},{"$f":"IF(BI61>0,SINH(ASINH(BK61)/3),IF(BK61>=1,COSH(ACOSH(BK61)/3),IF(BK61<=-1,-COSH(ACOSH(ABS(BK61))/3),COS(ACOS(BK61)/3))))","v":1.105080484312239},{"$f":"AZ61/AO67","v":1.0180174459826925},{"$f":"0.5*BM61*(0.5-BM61/3)+BD61*(0.5-AO69/AO67)*(BM61-AO69/AO67)/BM61+BE61*(0.5-AO69/AO67)*(1-AO69/AO67-BM61)/BM61","v":8.6876156267767193E-2},{"$f":"IF(BL61*SQRT(4*ABS(BI61)/3)-BF61/3<=AO67,AO66*(1-AO65*AV61/AO64),AO66*(1-AO65*AV61/AO64-(1-AO65)*BV61/AO64))","v":11074.527902683616},{"$f":"(1+BD61+BE61)*AO67*AO68","v":0.19210779491886179},{"$f":"0.5*(AO67-AO69)*(BE61-BD61)*AO67*AO68","v":0},{"$f":"AO68*AO67^3/12+(0.5*AO67-AO69)^2*(BD61+BE61)*AO68*AO67","v":5.1626948729715442E-4},{"$f":"BQ61/BP61","v":0},{"$f":"BR61-BP61*BS61^2","v":5.1626948729715442E-4},{"$f":"AR66/BP61+(BC61+BS61*AR66)*(0.5*AO67+BS61)/BT61","v":0.2977885895388146},{"$f":"AR66/BP61+(BC61+BS61*AR66)*(-0.5*AO67+BS61)/BT61","v":5.2704301359969008E-3},{"$f":"AR66*BT61/((BC61+AR66*BS61)*BP61)+(0.5*AO67+BS61)","v":0.18324314027688465}]
[null,null,null,null,null,null,null,null,null,null,null,null,null,null,null,null,null,null,null,null,null,null,null,null,null,null,null,null,null,null,null,null,null,null,null,null,null,null,null,"fck",{"$f":"$N$7","v":35},"MPa","feff",{"$f":"$Q$12","v":2.0766110334647805},null,{"$f":"BC62-AR64*BA62","v":5.7868729543906648E-4},{"$f":"BA62/BA61","v":0.69521834686943784},{"$f":"IF(BL62*SQRT(4*ABS(BI62)/3)-BF62/3<=AO67,BC62/(BN62*AO68*AO67^2),BU62)","v":0.25308160314965095},{"$f":"IF(BL62*SQRT(4*ABS(BI62)/3)-BF62/3<=AO67,0,BV62)","v":4.9977416525160578E-2},{"$f":"BB62*(AZ62-AO69)*AV62/AZ62","v":3.7548512730981121},{"$f":"BB62*(AO67-AO69-AZ62)*AV62/AZ62","v":-1.717406986278819},{"$f":"IF(BL62*SQRT(4*ABS(BI62)/3)-BF62/3<=AO67,BL62*SQRT(4*ABS(BI62)/3)-BF62/3,BW62)","v":0.22429221831434257},{"$f":"0.1*(AV62/(AZ62*BO62))*AO73^2","v":1.3221518330838034E-4},{"$f":"AO70","v":18.05674111019291},{"$f":"AR67+BA61*AR64","v":5.825360794251734E-4},{"$f":"BB62*AO71/(AO67*AO68)","v":3.3632763663504962E-2},{"$f":"BB62*AO72/(AO67*AO68)","v":3.3632763663504962E-2},{"$f":"-6*AO67*(0.25-0.5*BC62/(AO67*AR66))","v":-0.20996536453880044},{"$f":"-6*AO67*(BD62*(0.5*AO67-AO69)-BE62*(0.5*AO67-AO69)-(BD62+BE62)*AO67*BC62/(AO67*AR66))","v":1.4537741083856643E-3},{"$f":"6*AO67*((BD62*AO69-BE62*(AO67-AO69))*(0.5*AO67-AO69)-(BD62*AO69+BE62*(AO67-AO69))*BC62/AR66)","v":-3.1245659353763659E-4},-1.3241377326918121E-2,8.9636981845542252E-4,1.528408236226247,1.0546563677622629,{"$f":"AZ62/AO67","v":1.2460678795241253},{"$f":"0.5*BM62*(0.5-BM62/3)+BD62*(0.5-AO69/AO67)*(BM62-AO69/AO67)/BM62+BE62*(0.5-AO69/AO67)*(1-AO69/AO67-BM62)/BM62","v":5.6901405618208577E-2},{"$f":"IF(BL62*SQRT(4*ABS(BI62)/3)-BF62/3<=AO67,AO66*(1-AO65*AV62/AO64),AO66*(1-AO65*AV62/AO64-(1-AO65)*BV62/AO64))","v":11060.379807404775},{"$f":"(1+BD62+BE62)*AO67*AO68","v":0.19210779491886179},{"$f":"0.5*(AO67-AO69)*(BE62-BD62)*AO67*AO68","v":0},{"$f":"AO68*AO67^3/12+(0.5*AO67-AO69)^2*(BD62+BE62)*AO68*AO67","v":5.1626948729715442E-4},{"$f":"BQ62/BP62","v":0},{"$f":"BR62-BP62*BS62^2","v":5.1626948729715442E-4},{"$f":"AR66/BP62+(BC62+BS62*AR66)*(0.5*AO67+BS62)/BT62","v":0.25308160314965095},{"$f":"AR66/BP62+(BC62+BS62*AR66)*(-0.5*AO67+BS62)/BT62","v":4.9977416525160578E-2},{"$f":"AR66*BT62/((BC62+AR66*BS62)*BP62)+(0.5*AO67+BS62)","v":0.22429221831434257}]
[null,null,null,null,null,null,null,null,null,null,null,null,null,null,null,null,null,null,null,null,null,null,null,null,null,null,null,null,null,null,null,null,null,null,null,null,null,null,null,"Es",200000,"MPa","Max_N",{"$f":"(AO67*AO68+AO70*(AO71+AO72))*AO64/(1+(12*(AO64/AO66)/PI()^2)*(AO73/AO67)^2)","v":2.650488090947511},null,{"$f":"BC63-AR64*BA63","v":5.7701111557048113E-4},{"$f":"BA63/BA62","v":0.99711192664455417},{"$f":"IF(BL63*SQRT(4*ABS(BI63)/3)-BF63/3<=AO67,BC63/(BN63*AO68*AO67^2),BU63)","v":0.25278746105283445},{"$f":"IF(BL63*SQRT(4*ABS(BI63)/3)-BF63/3<=AO67,0,BV63)","v":5.0271558621977103E-2},{"$f":"BB63*(AZ63-AO69)*AV63/AZ63","v":3.7519005799359877},{"$f":"BB63*(AO67-AO69-AZ63)*AV63/AZ63","v":-1.7203576794409445},{"$f":"IF(BL63*SQRT(4*ABS(BI63)/3)-BF63/3<=AO67,BL63*SQRT(4*ABS(BI63)/3)-BF63/3,BW63)","v":0.22468232096017909},{"$f":"0.1*(AV63/(AZ63*BO63))*AO73^2","v":1.3183333616028202E-4},{"$f":"AO70","v":18.05674111019291},{"$f":"AR67+BA62*AR64","v":5.8084878398610696E-4},{"$f":"BB63*AO71/(AO67*AO68)","v":3.3632763663504962E-2},{"$f":"BB63*AO72/(AO67*AO68)","v":3.3632763663504962E-2},{"$f":"-6*AO67*(0.25-0.5*BC63/(AO67*AR66))","v":-0.21013925276680451},{"$f":"-6*AO67*(BD63*(0.5*AO67-AO69)-BE63*(0.5*AO67-AO69)-(BD63+BE63)*AO67*BC63/(AO67*AR66))","v":1.4495633023787087E-3},{"$f":"6*AO67*((BD63*AO69-BE63*(AO67-AO69))*(0.5*AO67-AO69)-(BD63*AO69+BE63*(AO67-AO69))*BC63/AR66)","v":-3.120776209970105E-4},-1.326993854875161E-2,8.9790648684057845E-4,1.5260881775855242,1.0544320940152674,{"$f":"AZ63/AO67","v":1.2482351164454395},{"$f":"0.5*BM63*(0.5-BM63/3)+BD63*(0.5-AO69/AO67)*(BM63-AO69/AO67)/BM63+BE63*(0.5-AO69/AO67)*(1-AO69/AO67-BM63)/BM63","v":5.6535025300440939E-2},{"$f":"IF(BL63*SQRT(4*ABS(BI63)/3)-BF63/3<=AO67,AO66*(1-AO65*AV63/AO64),AO66*(1-AO65*AV63/AO64-(1-AO65)*BV63/AO64))","v":11060.286722391731},{"$f":"(1+BD63+BE63)*AO67*AO68","v":0.19210779491886179},{"$f":"0.5*(AO67-AO69)*(BE63-BD63)*AO67*AO68","v":0},{"$f":"AO68*AO67^3/12+(0.5*AO67-AO69)^2*(BD63+BE63)*AO68*AO67","v":5.1626948729715442E-4},0,5.1626948729715442E-4,{"$f":"AR66/BP63+(BC63+BS63*AR66)*(0.5*AO67+BS63)/BT63","v":0.25278746105283445},{"$f":"AR66/BP63+(BC63+BS63*AR66)*(-0.5*AO67+BS63)/BT63","v":5.0271558621977103E-2},{"$f":"AR66*BT63/((BC63+AR66*BS63)*BP63)+(0.5*AO67+BS63)","v":0.22468232096017909}]
[null,null,null,null,null,null,null,null,null,null,null,null,null,null,null,null,null,null,null,null,null,null,null,null,null,null,null,null,null,null,null,null,null,null,null,null,null,null,null,"fcd",{"$f":"AO62/AO60","v":35},"MPa","Nd",{"$f":"INDEX(BZ47:CB56,BH32,2)/1000+0.00001","v":2.9109999999999997E-2},"MN",{"$f":"BC64-AR64*BA64","v":5.7700007322781242E-4},0.99998091867132699,{"$f":"IF(BL64*SQRT(4*ABS(BI64)/3)-BF64/3<=AO67,BC64/(BN64*AO68*AO67^2),BU64)","v":0.25278552330255494},{"$f":"IF(BL64*SQRT(4*ABS(BI64)/3)-BF64/3<=AO67,0,BV64)","v":5.0273496372256601E-2},{"$f":"BB64*(AZ64-AO69)*AV64/AZ64","v":3.7518811413498017},{"$f":"BB64*(AO67-AO69-AZ64)*AV64/AZ64","v":-1.7203771180271292},{"$f":"IF(BL64*SQRT(4*ABS(BI64)/3)-BF64/3<=AO67,BL64*SQRT(4*ABS(BI64)/3)-BF64/3,BW64)","v":0.22468489839431016},{"$f":"0.1*(AV64/(AZ64*BO64))*AO73^2","v":1.3183082060506468E-4},{"$f":"AO70","v":18.05674111019291},{"$f":"AR67+BA63*AR64","v":5.8083766841562586E-4},{"$f":"BB64*AO71/(AO67*AO68)","v":3.3632763663504962E-2},{"$f":"BB64*AO72/(AO67*AO68)","v":3.3632763663504962E-2},{"$f":"-6*AO67*(0.25-0.5*BC64/(AO67*AR66))","v":-0.21014039830824879},{"$f":"-6*AO67*(BD64*(0.5*AO67-AO69)-BE64*(0.5*AO67-AO69)-(BD64+BE64)*AO67*BC64/(AO67*AR66))","v":1.4495355624169516E-3},{"$f":"6*AO67*((BD64*AO69-BE64*(AO67-AO69))*(0.5*AO67-AO69)-(BD64*AO69+BE64*(AO67-AO69))*BC64/AR66)","v":-3.1207512440045243E-4},-1.3270126771299531E-2,8.979166210888312E-4,1.5260729326821723,1.0544306199249414,{"$f":"AZ64/AO67","v":1.2482494355239453},{"$f":"0.5*BM64*(0.5-BM64/3)+BD64*(0.5-AO69/AO67)*(BM64-AO69/AO67)/BM64+BE64*(0.5-AO69/AO67)*(1-AO69/AO67-BM64)/BM64","v":5.6532599478505793E-2},{"$f":"IF(BL64*SQRT(4*ABS(BI64)/3)-BF64/3<=AO67,AO66*(1-AO65*AV64/AO64),AO66*(1-AO65*AV64/AO64-(1-AO65)*BV64/AO64))","v":11060.286109165974},{"$f":"(1+BD64+BE64)*AO67*AO68","v":0.19210779491886179},{"$f":"0.5*(AO67-AO69)*(BE64-BD64)*AO67*AO68","v":0},{"$f":"AO68*AO67^3/12+(0.5*AO67-AO69)^2*(BD64+BE64)*AO68*AO67","v":5.1626948729715442E-4},0,5.1626948729715442E-4,{"$f":"AR66/BP64+(BC64+BS64*AR66)*(0.5*AO67+BS64)/BT64","v":0.25278552330255494},{"$f":"AR66/BP64+(BC64+BS64*AR66)*(-0.5*AO67+BS64)/BT64","v":5.0273496372256601E-2},{"$f":"AR66*BT64/((BC64+AR66*BS64)*BP64)+(0.5*AO67+BS64)","v":0.22468489839431016}]
[null,null,null,null,null,null,null,null,null,null,null,null,null,null,null,null,null,null,null,null,null,null,null,null,null,null,null,null,null,null,null,null,null,null,null,null,null,null,null,"k",0,null,"Nf",0,"MN",{"$f":"BC65-AR64*BA65","v":5.770000004824146E-4},0.99999987429248938,{"$f":"IF(BL65*SQRT(4*ABS(BI65)/3)-BF65/3<=AO67,BC65/(BN65*AO68*AO67^2),BU65)","v":0.2527855105369291},{"$f":"IF(BL65*SQRT(4*ABS(BI65)/3)-BF65/3<=AO67,0,BV65)","v":5.0273509137882449E-2},{"$f":"BB65*(AZ65-AO69)*AV65/AZ65","v":3.7518810132911349},{"$f":"BB65*(AO67-AO69-AZ65)*AV65/AZ65","v":-1.7203772460857967},{"$f":"IF(BL65*SQRT(4*ABS(BI65)/3)-BF65/3<=AO67,BL65*SQRT(4*ABS(BI65)/3)-BF65/3,BW65)","v":0.22468491537441021},{"$f":"0.1*(AV65/(AZ65*BO65))*AO73^2","v":1.318308040329404E-4},{"$f":"AO70","v":18.05674111019291},{"$f":"AR67+BA64*AR64","v":5.8083759518781349E-4},{"$f":"BB65*AO71/(AO67*AO68)","v":3.3632763663504962E-2},{"$f":"BB65*AO72/(AO67*AO68)","v":3.3632763663504962E-2},{"$f":"-6*AO67*(0.25-0.5*BC65/(AO67*AR66))","v":-0.21014040585491445},{"$f":"-6*AO67*(BD65*(0.5*AO67-AO69)-BE65*(0.5*AO67-AO69)-(BD65+BE65)*AO67*BC65/(AO67*AR66))","v":1.4495353796699915E-3},{"$f":"6*AO67*((BD65*AO69-BE65*(AO67-AO69))*(0.5*AO67-AO69)-(BD65*AO69+BE65*(AO67-AO69))*BC65/AR66)","v":-3.1207510795322599E-4},-1.3270128011286061E-2,8.9791668785230757E-4,1.5260728322525934,1.0544306102139882,{"$f":"AZ65/AO67","v":1.2482495298578344},{"$f":"0.5*BM65*(0.5-BM65/3)+BD65*(0.5-AO69/AO67)*(BM65-AO69/AO67)/BM65+BE65*(0.5-AO69/AO67)*(1-AO69/AO67-BM65)/BM65","v":5.6532583497001812E-2},{"$f":"IF(BL65*SQRT(4*ABS(BI65)/3)-BF65/3<=AO67,AO66*(1-AO65*AV65/AO64),AO66*(1-AO65*AV65/AO64-(1-AO65)*BV65/AO64))","v":11060.286105126128},{"$f":"(1+BD65+BE65)*AO67*AO68","v":0.19210779491886179},{"$f":"0.5*(AO67-AO69)*(BE65-BD65)*AO67*AO68","v":0},{"$f":"AO68*AO67^3/12+(0.5*AO67-AO69)^2*(BD65+BE65)*AO68*AO67","v":5.1626948729715442E-4},0,5.1626948729715442E-4,{"$f":"AR66/BP65+(BC65+BS65*AR66)*(0.5*AO67+BS65)/BT65","v":0.2527855105369291},{"$f":"AR66/BP65+(BC65+BS65*AR66)*(-0.5*AO67+BS65)/BT65","v":5.0273509137882449E-2},{"$f":"AR66*BT65/((BC65+AR66*BS65)*BP65)+(0.5*AO67+BS65)","v":0.22468491537441021}]
[null,null,null,null,null,null,null,null,null,null,null,null,null,null,null,null,null,null,null,null,null,null,null,null,null,null,null,null,null,null,null,null,null,null,null,null,null,null,null,"Ecm",{"$f":"(1000*22*((AO64+8)/10)^0.3)/(1+$Q$12*$Q$13)","v":11076.195797429988},"MPa","N",{"$f":"AR65+AR64","v":2.9109999999999997E-2},"MN",{"$f":"BC66-AR64*BA66","v":5.7700000000317816E-4},0.99999999917185634,{"$f":"IF(BL66*SQRT(4*ABS(BI66)/3)-BF66/3<=AO67,BC66/(BN66*AO68*AO67^2),BU66)","v":0.25278551045283093},{"$f":"IF(BL66*SQRT(4*ABS(BI66)/3)-BF66/3<=AO67,0,BV66)","v":5.0273509221980595E-2},{"$f":"BB66*(AZ66-AO69)*AV66/AZ66","v":3.7518810124475022},{"$f":"BB66*(AO67-AO69-AZ66)*AV66/AZ66","v":-1.7203772469294289},{"$f":"IF(BL66*SQRT(4*ABS(BI66)/3)-BF66/3<=AO67,BL66*SQRT(4*ABS(BI66)/3)-BF66/3,BW66)","v":0.22468491548627273},{"$f":"0.1*(AV66/(AZ66*BO66))*AO73^2","v":1.3183080392376555E-4},{"$f":"AO70","v":18.05674111019291},{"$f":"AR67+BA65*AR64","v":5.8083759470539892E-4},{"$f":"BB66*AO71/(AO67*AO68)","v":3.3632763663504962E-2},{"$f":"BB66*AO72/(AO67*AO68)","v":3.3632763663504962E-2},{"$f":"-6*AO67*(0.25-0.5*BC66/(AO67*AR66))","v":-0.21014040590463084},{"$f":"-6*AO67*(BD66*(0.5*AO67-AO69)-BE66*(0.5*AO67-AO69)-(BD66+BE66)*AO67*BC66/(AO67*AR66))","v":1.4495353784660801E-3},{"$f":"6*AO67*((BD66*AO69-BE66*(AO67-AO69))*(0.5*AO67-AO69)-(BD66*AO69+BE66*(AO67-AO69))*BC66/AR66)","v":-3.1207510784487396E-4},-1.3270128019454923E-2,8.9791668829213619E-4,1.5260728315909782,1.054430610150014,{"$f":"AZ66/AO67","v":1.2482495304792929},{"$f":"0.5*BM66*(0.5-BM66/3)+BD66*(0.5-AO69/AO67)*(BM66-AO69/AO67)/BM66+BE66*(0.5-AO69/AO67)*(1-AO69/AO67-BM66)/BM66","v":5.6532583391717871E-2},{"$f":"IF(BL66*SQRT(4*ABS(BI66)/3)-BF66/3<=AO67,AO66*(1-AO65*AV66/AO64),AO66*(1-AO65*AV66/AO64-(1-AO65)*BV66/AO64))","v":11060.286105099514},{"$f":"(1+BD66+BE66)*AO67*AO68","v":0.19210779491886179},{"$f":"0.5*(AO67-AO69)*(BE66-BD66)*AO67*AO68","v":0},{"$f":"AO68*AO67^3/12+(0.5*AO67-AO69)^2*(BD66+BE66)*AO68*AO67","v":5.1626948729715442E-4},0,5.1626948729715442E-4,{"$f":"AR66/BP66+(BC66+BS66*AR66)*(0.5*AO67+BS66)/BT66","v":0.25278551045283093},{"$f":"AR66/BP66+(BC66+BS66*AR66)*(-0.5*AO67+BS66)/BT66","v":5.0273509221980595E-2},{"$f":"AR66*BT66/((BC66+AR66*BS66)*BP66)+(0.5*AO67+BS66)","v":0.22468491548627273}]
[null,null,null,null,null,null,null,null,null,null,null,null,null,null,null,null,null,null,null,null,null,null,null,null,null,null,null,null,null,null,null,null,null,null,null,null,null,null,null,"h",{"$f":"$N$12/1000","v":0.18},"m","Mo",{"$f":"INDEX(BZ47:CB56,BH32,3)/1000","v":5.7700000000000004E-4},"MNm",{"$f":"BC67-AR64*BA67","v":5.7700000000002096E-4},0.99999999999454403,{"$f":"IF(BL67*SQRT(4*ABS(BI67)/3)-BF67/3<=AO67,BC67/(BN67*AO68*AO67^2),BU67)","v":0.25278551045227687},{"$f":"IF(BL67*SQRT(4*ABS(BI67)/3)-BF67/3<=AO67,0,BV67)","v":5.0273509222534637E-2},{"$f":"BB67*(AZ67-AO69)*AV67/AZ67","v":3.7518810124419439},{"$f":"BB67*(AO67-AO69-AZ67)*AV67/AZ67","v":-1.7203772469349867},{"$f":"IF(BL67*SQRT(4*ABS(BI67)/3)-BF67/3<=AO67,BL67*SQRT(4*ABS(BI67)/3)-BF67/3,BW67)","v":0.22468491548700967},{"$f":"0.1*(AV67/(AZ67*BO67))*AO73^2","v":1.3183080392304629E-4},{"$f":"AO70","v":18.05674111019291},{"$f":"AR67+BA66*AR64","v":5.808375947022208E-4},{"$f":"BB67*AO71/(AO67*AO68)","v":3.3632763663504962E-2},{"$f":"BB67*AO72/(AO67*AO68)","v":3.3632763663504962E-2},{"$f":"-6*AO67*(0.25-0.5*BC67/(AO67*AR66))","v":-0.21014040590495836},{"$f":"-6*AO67*(BD67*(0.5*AO67-AO69)-BE67*(0.5*AO67-AO69)-(BD67+BE67)*AO67*BC67/(AO67*AR66))","v":1.449535378458149E-3},{"$f":"6*AO67*((BD67*AO69-BE67*(AO67-AO69))*(0.5*AO67-AO69)-(BD67*AO69+BE67*(AO67-AO69))*BC67/AR66)","v":-3.1207510784416018E-4},-1.3270128019508739E-2,8.9791668829503372E-4,1.5260728315866181,1.0544306101495924,{"$f":"AZ67/AO67","v":1.2482495304833872},{"$f":"0.5*BM67*(0.5-BM67/3)+BD67*(0.5-AO69/AO67)*(BM67-AO69/AO67)/BM67+BE67*(0.5-AO69/AO67)*(1-AO69/AO67-BM67)/BM67","v":5.6532583391024252E-2},{"$f":"IF(BL67*SQRT(4*ABS(BI67)/3)-BF67/3<=AO67,AO66*(1-AO65*AV67/AO64),AO66*(1-AO65*AV67/AO64-(1-AO65)*BV67/AO64))","v":11060.28610509934},{"$f":"(1+BD67+BE67)*AO67*AO68","v":0.19210779491886179},{"$f":"0.5*(AO67-AO69)*(BE67-BD67)*AO67*AO68","v":0},{"$f":"AO68*AO67^3/12+(0.5*AO67-AO69)^2*(BD67+BE67)*AO68*AO67","v":5.1626948729715442E-4},0,5.1626948729715442E-4,{"$f":"AR66/BP67+(BC67+BS67*AR66)*(0.5*AO67+BS67)/BT67","v":0.25278551045227687},{"$f":"AR66/BP67+(BC67+BS67*AR66)*(-0.5*AO67+BS67)/BT67","v":5.0273509222534637E-2},{"$f":"AR66*BT67/((BC67+AR66*BS67)*BP67)+(0.5*AO67+BS67)","v":0.22468491548700967}]
[null,null,null,null,null,null,null,null,null,null,null,null,null,null,null,null,null,null,null,null,null,null,null,null,null,null,null,null,null,null,null,null,null,null,null,null,null,null,null,"b",{"$f":"$N$13/1000","v":1},"m","u",{"$f":"BA73","v":1.3183080392304154E-4},{"$f":"AR68-AR54","v":8.740744992290568E-5},{"$f":"BC68-AR64*BA68","v":5.7700000000000015E-4},0.99999999999996425,{"$f":"IF(BL68*SQRT(4*ABS(BI68)/3)-BF68/3<=AO67,BC68/(BN68*AO68*AO67^2),BU68)","v":0.25278551045227327},{"$f":"IF(BL68*SQRT(4*ABS(BI68)/3)-BF68/3<=AO67,0,BV68)","v":5.0273509222538287E-2},{"$f":"BB68*(AZ68-AO69)*AV68/AZ68","v":3.7518810124419084},{"$f":"BB68*(AO67-AO69-AZ68)*AV68/AZ68","v":-1.7203772469350236},{"$f":"IF(BL68*SQRT(4*ABS(BI68)/3)-BF68/3<=AO67,BL68*SQRT(4*ABS(BI68)/3)-BF68/3,BW68)","v":0.22468491548701452},{"$f":"0.1*(AV68/(AZ68*BO68))*AO73^2","v":1.3183080392304157E-4},{"$f":"AO70","v":18.05674111019291},{"$f":"AR67+BA67*AR64","v":5.8083759470219988E-4},{"$f":"BB68*AO71/(AO67*AO68)","v":3.3632763663504962E-2},{"$f":"BB68*AO72/(AO67*AO68)","v":3.3632763663504962E-2},{"$f":"-6*AO67*(0.25-0.5*BC68/(AO67*AR66))","v":-0.2101404059049605},{"$f":"-6*AO67*(BD68*(0.5*AO67-AO69)-BE68*(0.5*AO67-AO69)-(BD68+BE68)*AO67*BC68/(AO67*AR66))","v":1.4495353784580967E-3},{"$f":"6*AO67*((BD68*AO69-BE68*(AO67-AO69))*(0.5*AO67-AO69)-(BD68*AO69+BE68*(AO67-AO69))*BC68/AR66)","v":-3.1207510784415541E-4},-1.3270128019509088E-2,8.9791668829505248E-4,1.5260728315865904,1.0544306101495897,{"$f":"AZ68/AO67","v":1.248249530483414},{"$f":"0.5*BM68*(0.5-BM68/3)+BD68*(0.5-AO69/AO67)*(BM68-AO69/AO67)/BM68+BE68*(0.5-AO69/AO67)*(1-AO69/AO67-BM68)/BM68","v":5.6532583391019714E-2},{"$f":"IF(BL68*SQRT(4*ABS(BI68)/3)-BF68/3<=AO67,AO66*(1-AO65*AV68/AO64),AO66*(1-AO65*AV68/AO64-(1-AO65)*BV68/AO64))","v":11060.286105099338},{"$f":"(1+BD68+BE68)*AO67*AO68","v":0.19210779491886179},{"$f":"0.5*(AO67-AO69)*(BE68-BD68)*AO67*AO68","v":0},{"$f":"AO68*AO67^3/12+(0.5*AO67-AO69)^2*(BD68+BE68)*AO68*AO67","v":5.1626948729715442E-4},0,5.1626948729715442E-4,{"$f":"AR66/BP68+(BC68+BS68*AR66)*(0.5*AO67+BS68)/BT68","v":0.25278551045227327},{"$f":"AR66/BP68+(BC68+BS68*AR66)*(-0.5*AO67+BS68)/BT68","v":5.0273509222538287E-2},{"$f":"AR66*BT68/((BC68+AR66*BS68)*BP68)+(0.5*AO67+BS68)","v":0.22468491548701452}]
[null,null,null,null,null,null,null,null,null,null,null,null,null,null,null,null,null,null,null,null,null,null,null,null,null,null,null,null,null,null,null,null,null,null,null,null,null,null,null,"a",{"$f":"$N$14/1000","v":0.04},"m","ec,max",{"$f":"1000*AV73/BO73","v":2.2855241541692724E-2},"o/oo",{"$f":"BC69-AR64*BA69","v":5.7700000000000004E-4},0.99999999999999978,{"$f":"IF(BL69*SQRT(4*ABS(BI69)/3)-BF69/3<=AO67,BC69/(BN69*AO68*AO67^2),BU69)","v":0.25278551045227321},{"$f":"IF(BL69*SQRT(4*ABS(BI69)/3)-BF69/3<=AO67,0,BV69)","v":5.0273509222538301E-2},{"$f":"BB69*(AZ69-AO69)*AV69/AZ69","v":3.7518810124419071},{"$f":"BB69*(AO67-AO69-AZ69)*AV69/AZ69","v":-1.7203772469350234},{"$f":"IF(BL69*SQRT(4*ABS(BI69)/3)-BF69/3<=AO67,BL69*SQRT(4*ABS(BI69)/3)-BF69/3,BW69)","v":0.22468491548701455},{"$f":"0.1*(AV69/(AZ69*BO69))*AO73^2","v":1.3183080392304154E-4},{"$f":"AO70","v":18.05674111019291},{"$f":"AR67+BA68*AR64","v":5.8083759470219977E-4},{"$f":"BB69*AO71/(AO67*AO68)","v":3.3632763663504962E-2},{"$f":"BB69*AO72/(AO67*AO68)","v":3.3632763663504962E-2},{"$f":"-6*AO67*(0.25-0.5*BC69/(AO67*AR66))","v":-0.2101404059049605},{"$f":"-6*AO67*(BD69*(0.5*AO67-AO69)-BE69*(0.5*AO67-AO69)-(BD69+BE69)*AO67*BC69/(AO67*AR66))","v":1.4495353784580965E-3},{"$f":"6*AO67*((BD69*AO69-BE69*(AO67-AO69))*(0.5*AO67-AO69)-(BD69*AO69+BE69*(AO67-AO69))*BC69/AR66)","v":-3.1207510784415541E-4},-1.327012801950909E-2,8.9791668829505248E-4,1.5260728315865904,1.0544306101495897,{"$f":"AZ69/AO67","v":1.2482495304834142},{"$f":"0.5*BM69*(0.5-BM69/3)+BD69*(0.5-AO69/AO67)*(BM69-AO69/AO67)/BM69+BE69*(0.5-AO69/AO67)*(1-AO69/AO67-BM69)/BM69","v":5.6532583391019652E-2},{"$f":"IF(BL69*SQRT(4*ABS(BI69)/3)-BF69/3<=AO67,AO66*(1-AO65*AV69/AO64),AO66*(1-AO65*AV69/AO64-(1-AO65)*BV69/AO64))","v":11060.286105099338},{"$f":"(1+BD69+BE69)*AO67*AO68","v":0.19210779491886179},{"$f":"0.5*(AO67-AO69)*(BE69-BD69)*AO67*AO68","v":0},{"$f":"AO68*AO67^3/12+(0.5*AO67-AO69)^2*(BD69+BE69)*AO68*AO67","v":5.1626948729715442E-4},0,5.1626948729715442E-4,{"$f":"AR66/BP69+(BC69+BS69*AR66)*(0.5*AO67+BS69)/BT69","v":0.25278551045227321},{"$f":"AR66/BP69+(BC69+BS69*AR66)*(-0.5*AO67+BS69)/BT69","v":5.0273509222538301E-2},{"$f":"AR66*BT69/((BC69+AR66*BS69)*BP69)+(0.5*AO67+BS69)","v":0.22468491548701455}]
[null,null,null,null,null,null,null,null,null,null,null,null,null,null,null,null,null,null,null,null,null,null,null,null,null,null,null,null,null,null,null,null,null,null,null,null,null,null,null,"a",{"$f":"AO63/AO66","v":18.05674111019291},null,"ec,min",{"$f":"1000*AW73/BO73","v":4.545407663492514E-3},"o/oo",{"$f":"BC70-AR64*BA70","v":5.7700000000000004E-4},{"$f":"BA70/BA69","v":1},{"$f":"IF(BL70*SQRT(4*ABS(BI70)/3)-BF70/3<=AO67,BC70/(BN70*AO68*AO67^2),BU70)","v":0.25278551045227321},{"$f":"IF(BL70*SQRT(4*ABS(BI70)/3)-BF70/3<=AO67,0,BV70)","v":5.0273509222538301E-2},{"$f":"BB70*(AZ70-AO69)*AV70/AZ70","v":3.7518810124419071},{"$f":"BB70*(AO67-AO69-AZ70)*AV70/AZ70","v":-1.7203772469350234},{"$f":"IF(BL70*SQRT(4*ABS(BI70)/3)-BF70/3<=AO67,BL70*SQRT(4*ABS(BI70)/3)-BF70/3,BW70)","v":0.22468491548701455},{"$f":"0.1*(AV70/(AZ70*BO70))*AO73^2","v":1.3183080392304154E-4},{"$f":"AO70","v":18.05674111019291},{"$f":"AR67+BA69*AR64","v":5.8083759470219977E-4},{"$f":"BB70*AO71/(AO67*AO68)","v":3.3632763663504962E-2},{"$f":"BB70*AO72/(AO67*AO68)","v":3.3632763663504962E-2},{"$f":"-6*AO67*(0.25-0.5*BC70/(AO67*AR66))","v":-0.2101404059049605},{"$f":"-6*AO67*(BD70*(0.5*AO67-AO69)-BE70*(0.5*AO67-AO69)-(BD70+BE70)*AO67*BC70/(AO67*AR66))","v":1.4495353784580965E-3},{"$f":"6*AO67*((BD70*AO69-BE70*(AO67-AO69))*(0.5*AO67-AO69)-(BD70*AO69+BE70*(AO67-AO69))*BC70/AR66)","v":-3.1207510784415541E-4},-1.327012801950909E-2,8.9791668829505248E-4,1.5260728315865904,1.0544306101495897,{"$f":"AZ70/AO67","v":1.2482495304834142},{"$f":"0.5*BM70*(0.5-BM70/3)+BD70*(0.5-AO69/AO67)*(BM70-AO69/AO67)/BM70+BE70*(0.5-AO69/AO67)*(1-AO69/AO67-BM70)/BM70","v":5.6532583391019652E-2},{"$f":"IF(BL70*SQRT(4*ABS(BI70)/3)-BF70/3<=AO67,AO66*(1-AO65*AV70/AO64),AO66*(1-AO65*AV70/AO64-(1-AO65)*BV70/AO64))","v":11060.286105099338},{"$f":"(1+BD70+BE70)*AO67*AO68","v":0.19210779491886179},{"$f":"0.5*(AO67-AO69)*(BE70-BD70)*AO67*AO68","v":0},{"$f":"AO68*AO67^3/12+(0.5*AO67-AO69)^2*(BD70+BE70)*AO68*AO67","v":5.1626948729715442E-4},0,5.1626948729715442E-4,{"$f":"AR66/BP70+(BC70+BS70*AR66)*(0.5*AO67+BS70)/BT70","v":0.25278551045227321},{"$f":"AR66/BP70+(BC70+BS70*AR66)*(-0.5*AO67+BS70)/BT70","v":5.0273509222538301E-2},{"$f":"AR66*BT70/((BC70+AR66*BS70)*BP70)+(0.5*AO67+BS70)","v":0.22468491548701455}]
[null,null,null,null,null,null,null,null,null,null,null,null,null,null,null,null,null,null,null,null,null,null,null,null,null,null,null,null,null,null,null,null,null,null,null,null,null,null,null,"Ac",{"$f":"$AP$40/1000000","v":3.3527076799110271E-4},"m2","sa,c",{"$f":"AX73","v":3.7518810124419071},"MPa",{"$f":"BC71-AR64*BA71","v":5.7700000000000004E-4},{"$f":"BA71/BA70","v":1},{"$f":"IF(BL71*SQRT(4*ABS(BI71)/3)-BF71/3<=AO67,BC71/(BN71*AO68*AO67^2),BU71)","v":0.25278551045227321},{"$f":"IF(BL71*SQRT(4*ABS(BI71)/3)-BF71/3<=AO67,0,BV71)","v":5.0273509222538301E-2},{"$f":"BB71*(AZ71-AO69)*AV71/AZ71","v":3.7518810124419071},{"$f":"BB71*(AO67-AO69-AZ71)*AV71/AZ71","v":-1.7203772469350234},{"$f":"IF(BL71*SQRT(4*ABS(BI71)/3)-BF71/3<=AO67,BL71*SQRT(4*ABS(BI71)/3)-BF71/3,BW71)","v":0.22468491548701455},{"$f":"0.1*(AV71/(AZ71*BO71))*AO73^2","v":1.3183080392304154E-4},{"$f":"AO70","v":18.05674111019291},{"$f":"AR67+BA70*AR64","v":5.8083759470219977E-4},{"$f":"BB71*AO71/(AO67*AO68)","v":3.3632763663504962E-2},{"$f":"BB71*AO72/(AO67*AO68)","v":3.3632763663504962E-2},{"$f":"-6*AO67*(0.25-0.5*BC71/(AO67*AR66))","v":-0.2101404059049605},{"$f":"-6*AO67*(BD71*(0.5*AO67-AO69)-BE71*(0.5*AO67-AO69)-(BD71+BE71)*AO67*BC71/(AO67*AR66))","v":1.4495353784580965E-3},{"$f":"6*AO67*((BD71*AO69-BE71*(AO67-AO69))*(0.5*AO67-AO69)-(BD71*AO69+BE71*(AO67-AO69))*BC71/AR66)","v":-3.1207510784415541E-4},-1.327012801950909E-2,8.9791668829505248E-4,1.5260728315865904,1.0544306101495897,{"$f":"AZ71/AO67","v":1.2482495304834142},{"$f":"0.5*BM71*(0.5-BM71/3)+BD71*(0.5-AO69/AO67)*(BM71-AO69/AO67)/BM71+BE71*(0.5-AO69/AO67)*(1-AO69/AO67-BM71)/BM71","v":5.6532583391019652E-2},{"$f":"IF(BL71*SQRT(4*ABS(BI71)/3)-BF71/3<=AO67,AO66*(1-AO65*AV71/AO64),AO66*(1-AO65*AV71/AO64-(1-AO65)*BV71/AO64))","v":11060.286105099338},{"$f":"(1+BD71+BE71)*AO67*AO68","v":0.19210779491886179},{"$f":"0.5*(AO67-AO69)*(BE71-BD71)*AO67*AO68","v":0},{"$f":"AO68*AO67^3/12+(0.5*AO67-AO69)^2*(BD71+BE71)*AO68*AO67","v":5.1626948729715442E-4},0,5.1626948729715442E-4,{"$f":"AR66/BP71+(BC71+BS71*AR66)*(0.5*AO67+BS71)/BT71","v":0.25278551045227321},{"$f":"AR66/BP71+(BC71+BS71*AR66)*(-0.5*AO67+BS71)/BT71","v":5.0273509222538301E-2},{"$f":"AR66*BT71/((BC71+AR66*BS71)*BP71)+(0.5*AO67+BS71)","v":0.22468491548701455}]
[null,null,null,null,null,null,null,null,null,null,null,null,null,null,null,null,null,null,null,null,null,null,null,null,null,null,null,null,null,null,null,null,null,null,null,null,null,null,null,"At",{"$f":"$AP$41/1000000","v":3.3527076799110271E-4},"m2","sa,t",{"$f":"AY73","v":-1.7203772469350234},"MPa",{"$f":"BC72-AR64*BA72","v":5.7700000000000004E-4},{"$f":"BA72/BA71","v":1},{"$f":"IF(BL72*SQRT(4*ABS(BI72)/3)-BF72/3<=AO67,BC72/(BN72*AO68*AO67^2),BU72)","v":0.25278551045227321},{"$f":"IF(BL72*SQRT(4*ABS(BI72)/3)-BF72/3<=AO67,0,BV72)","v":5.0273509222538301E-2},{"$f":"BB72*(AZ72-AO69)*AV72/AZ72","v":3.7518810124419071},{"$f":"BB72*(AO67-AO69-AZ72)*AV72/AZ72","v":-1.7203772469350234},{"$f":"IF(BL72*SQRT(4*ABS(BI72)/3)-BF72/3<=AO67,BL72*SQRT(4*ABS(BI72)/3)-BF72/3,BW72)","v":0.22468491548701455},{"$f":"0.1*(AV72/(AZ72*BO72))*AO73^2","v":1.3183080392304154E-4},{"$f":"AO70","v":18.05674111019291},{"$f":"AR67+BA71*AR64","v":5.8083759470219977E-4},{"$f":"BB72*AO71/(AO67*AO68)","v":3.3632763663504962E-2},{"$f":"BB72*AO72/(AO67*AO68)","v":3.3632763663504962E-2},{"$f":"-6*AO67*(0.25-0.5*BC72/(AO67*AR66))","v":-0.2101404059049605},{"$f":"-6*AO67*(BD72*(0.5*AO67-AO69)-BE72*(0.5*AO67-AO69)-(BD72+BE72)*AO67*BC72/(AO67*AR66))","v":1.4495353784580965E-3},{"$f":"6*AO67*((BD72*AO69-BE72*(AO67-AO69))*(0.5*AO67-AO69)-(BD72*AO69+BE72*(AO67-AO69))*BC72/AR66)","v":-3.1207510784415541E-4},-1.327012801950909E-2,8.9791668829505248E-4,1.5260728315865904,1.0544306101495897,{"$f":"AZ72/AO67","v":1.2482495304834142},{"$f":"0.5*BM72*(0.5-BM72/3)+BD72*(0.5-AO69/AO67)*(BM72-AO69/AO67)/BM72+BE72*(0.5-AO69/AO67)*(1-AO69/AO67-BM72)/BM72","v":5.6532583391019652E-2},{"$f":"IF(BL72*SQRT(4*ABS(BI72)/3)-BF72/3<=AO67,AO66*(1-AO65*AV72/AO64),AO66*(1-AO65*AV72/AO64-(1-AO65)*BV72/AO64))","v":11060.286105099338},{"$f":"(1+BD72+BE72)*AO67*AO68","v":0.19210779491886179},{"$f":"0.5*(AO67-AO69)*(BE72-BD72)*AO67*AO68","v":0},{"$f":"AO68*AO67^3/12+(0.5*AO67-AO69)^2*(BD72+BE72)*AO68*AO67","v":5.1626948729715442E-4},0,5.1626948729715442E-4,{"$f":"AR66/BP72+(BC72+BS72*AR66)*(0.5*AO67+BS72)/BT72","v":0.25278551045227321},{"$f":"AR66/BP72+(BC72+BS72*AR66)*(-0.5*AO67+BS72)/BT72","v":5.0273509222538301E-2},{"$f":"AR66*BT72/((BC72+AR66*BS72)*BP72)+(0.5*AO67+BS72)","v":0.22468491548701455}]
[null,null,null,null,null,null,null,null,null,null,null,null,null,null,null,null,null,null,null,null,null,null,null,null,null,null,null,null,null,null,null,null,null,null,null,null,null,null,null,"L",{"$f":"$N$11/1000","v":3.6},"m","hc",{"$f":"AZ73","v":0.22468491548701455},"m",{"$f":"BC73-AR64*BA73","v":5.7700000000000004E-4},{"$f":"BA73/BA72","v":1},{"$f":"IF(BL73*SQRT(4*ABS(BI73)/3)-BF73/3<=AO67,BC73/(BN73*AO68*AO67^2),BU73)","v":0.25278551045227321},{"$f":"IF(BL73*SQRT(4*ABS(BI73)/3)-BF73/3<=AO67,0,BV73)","v":5.0273509222538301E-2},{"$f":"BB73*(AZ73-AO69)*AV73/AZ73","v":3.7518810124419071},{"$f":"BB73*(AO67-AO69-AZ73)*AV73/AZ73","v":-1.7203772469350234},{"$f":"IF(BL73*SQRT(4*ABS(BI73)/3)-BF73/3<=AO67,BL73*SQRT(4*ABS(BI73)/3)-BF73/3,BW73)","v":0.22468491548701455},{"$f":"0.1*(AV73/(AZ73*BO73))*AO73^2","v":1.3183080392304154E-4},{"$f":"AO70","v":18.05674111019291},{"$f":"AR67+BA72*AR64","v":5.8083759470219977E-4},{"$f":"BB73*AO71/(AO67*AO68)","v":3.3632763663504962E-2},{"$f":"BB73*AO72/(AO67*AO68)","v":3.3632763663504962E-2},{"$f":"-6*AO67*(0.25-0.5*BC73/(AO67*AR66))","v":-0.2101404059049605},{"$f":"-6*AO67*(BD73*(0.5*AO67-AO69)-BE73*(0.5*AO67-AO69)-(BD73+BE73)*AO67*BC73/(AO67*AR66))","v":1.4495353784580965E-3},{"$f":"6*AO67*((BD73*AO69-BE73*(AO67-AO69))*(0.5*AO67-AO69)-(BD73*AO69+BE73*(AO67-AO69))*BC73/AR66)","v":-3.1207510784415541E-4},-1.327012801950909E-2,8.9791668829505248E-4,1.5260728315865904,1.0544306101495897,{"$f":"AZ73/AO67","v":1.2482495304834142},{"$f":"0.5*BM73*(0.5-BM73/3)+BD73*(0.5-AO69/AO67)*(BM73-AO69/AO67)/BM73+BE73*(0.5-AO69/AO67)*(1-AO69/AO67-BM73)/BM73","v":5.6532583391019652E-2},{"$f":"IF(BL73*SQRT(4*ABS(BI73)/3)-BF73/3<=AO67,AO66*(1-AO65*AV73/AO64),AO66*(1-AO65*AV73/AO64-(1-AO65)*BV73/AO64))","v":11060.286105099338},{"$f":"(1+BD73+BE73)*AO67*AO68","v":0.19210779491886179},{"$f":"0.5*(AO67-AO69)*(BE73-BD73)*AO67*AO68","v":0},{"$f":"AO68*AO67^3/12+(0.5*AO67-AO69)^2*(BD73+BE73)*AO68*AO67","v":5.1626948729715442E-4},0,5.1626948729715442E-4,{"$f":"AR66/BP73+(BC73+BS73*AR66)*(0.5*AO67+BS73)/BT73","v":0.25278551045227321},{"$f":"AR66/BP73+(BC73+BS73*AR66)*(-0.5*AO67+BS73)/BT73","v":5.0273509222538301E-2},{"$f":"AR66*BT73/((BC73+AR66*BS73)*BP73)+(0.5*AO67+BS73)","v":0.22468491548701455}]

{"sheet":"Ark1","index":2,"n_rows":973,"n_cols":213,"rows_kept":973,"cut":false,"hidden":false,"merged":[[3,18,3,20]]}
[]
[null,"Tilstand:",{"$f":"Makro!$C$11","v":1}]
[]
[null,"L","h","b","fck","fcd","Ecd","Ac","ac","Esc","fyd_c","At","at","Est","fyd_t","Modenhed","1+f","uterm","Iterationstyring",null,null,"Iterationsfakt."]
[null,"(m)","(m)","(m)","(Mpa)","(Mpa)","(Mpa)","(m2)","(m)","(Mpa)","(Mpa)","(m2)","(m)","(Mpa)","(Mpa)","(døgn)",null,"(m)","Ncr-korr","hc-step","e-skift"]
[null,{"$f":"IF(Makro!$C$11=1,Kold!$N$11/1000,Brand!$AX$27)","v":3.6},{"$f":"IF(Makro!$C$11=1,Kold!$N$12/1000,Brand!$AX$21)","v":0.18},{"$f":"IF(Makro!$C$11=1,Kold!$N$13/1000,Brand!$AX$22)","v":1},{"$f":"IF(Makro!$C$11=1,Kold!$N$7,Brand!$AX$14)","v":35},{"$f":"IF(Makro!$C$11=1,Kold!$Q$8,Brand!$AX$14)","v":25},{"$f":"1000*22*((E6+8)/10)^0.3/IF(C2=1,Kold!N9,Brand!N9)","v":24340.818713706667},{"$f":"Kold!$AP$40/1000000","v":3.3527076799110271E-4},{"$f":"IF(Makro!$C$11=1,Kold!$N$14/1000,Brand!$AX$23)","v":0.04},{"$f":"IF(Makro!$C$11=1,200000,Brand!$AX$12)","v":200000},{"$f":"IF(Makro!$C$11=1,Kold!$Q$9,Brand!$AX$19)","v":458.33333333333337},{"$f":"Kold!$AP$41/1000000","v":3.3527076799110271E-4},{"$f":"IF(Makro!$C$11=1,Kold!$N$14/1000,Brand!$AX$24)","v":0.04},{"$f":"IF(Makro!$C$11=1,200000,Brand!$AX$13)","v":200000},{"$f":"IF(Makro!$C$11=1,Kold!$Q$9,Brand!$AX$20)","v":458.33333333333337},null,{"$f":"IF(Makro!$C$11=1,Kold!$Q$16,IF(OR(Brand!$BH$32=10,Brand!AR61=1),Brand!$Q$14,0))+1","v":2.8689499301183026},{"$f":"IF(Makro!$C$11=1,0,Brand!AT$11)","v":0},{"$f":"MIN(1,15*C6/B6)","v":0.74999999999999989},0.1,-0.1,{"$f":"MAX(1,IF(C2=1,0.05,0.08)*B6/C6)","v":1.0000000000000002},null,null,"Checkpunkt",7]
[]
[]
[null,null,null,null,null,null,null,null,null,null,null,null,"N","M","hc","e0","sac","sat",null,null,"hc_0","1/hc_0",null,null,"Test-fakt","hc","e0","a'","b'","N'","tN'","t","Nc","sac","Nac","sat","Nat","Mtot","u","N","Mo","x",null,null,null,null,null,null,null,null,null,null,null,null,null,null,null,null,null,null,null,null,null,null,null,null,null,null,null,null,null,null,null,null,null,null,null,null,null,null,null,null,null,null,null,null,null,null,null,null,null,null,null,null,null,null,null,null,null,null,null,null,null,null,null,null,null,null,null,null,null,null,null,null,null,null,null,null,null,null,null,null,null,null,null,null,null,null,null,null,null,null,null,null,null,null,null,null,null,null,null,null,null,null,null,null,null,null,null,null,null,null,null,null,null,null,null,null,null,null,null,null,null,null,null,null,null,null,null,null,null,null,null,null,null,null,null,null,null,null,null,null,null,null,null,null,null,null,null,null,null,null,null,null,null,null,null,null,null,null,null,null,null,null,null,null,null,null,null,null,null,"Bruger skal registreres",1]
[null,null,null,null,null,null,null,null,null,null,null,{"$f":"IF($Z$6=29-ROW(),1,0)","v":0},{"$f":"Q955","v":9.9999999999988987E-5},{"$f":"R955","v":1.9419193093506513E-2},{"$f":"C955","v":4.0138687861173784E-2},{"$f":"D955","v":3.210578024372992E-4},{"$f":"K955","v":0.6365191476987323},{"$f":"M955","v":458.32156291626706},1,null,{"$f":"Y93","v":4.0138687861173784E-2},{"$f":"1/U10","v":24.913619584642714},null,null,0.5,{"$f":"$Z$15","v":0.11641386182692361},{"$f":"Y10*$AA$15","v":3.6136666417860318E-4},{"$f":"IF($C$2=1,AA10/($O$31*$O$30),2^(1/3)*$O$30/AA10)","v":7.0051443999681162E-2},{"$f":"IF($C$2=1,-($O$31-2)*AA10/$O$30,3*($O$30/AA10)^2)","v":-4.769051449735448E-2},{"$f":"IF($C$2=1,0.5*($O$31*AA10*$F$6/$O$30)*(1-AP10^2+(AB10-AC10)*(AC10^2*(1-AP10^2)+2*AC10*(1-AP10)+2*LN((1-AC10)/(1-AC10*AP10)))/(AC10^3)),$F$6*AC10*(LN((1-AB10+AB10^2)/(1+AB10)^2)/(6*AB10)+ATAN((2-AB10)/(AB10*3^0.5))/(AB10*3^0.5)-LN((AP10^2-AB10*AP10+AB10^2)/(AP10+AB10)^2)/(6*AB10)-ATAN((2*AP10-AB10)/(AB10*3^0.5))/(AB10*3^0.5)))","v":4.2678898147141036},{"$f":"IF($C$2=1,($O$31*AA10*$F$6/$O$30)*(1-AP10^3-(AB10-AC10)*(-2*AC10^3*(1-AP10^3)-3*AC10^2*(1-AP10^2)-6*AC10*(1-AP10)-6*LN((1-AC10)/(1-AC10*AP10)))/(2*AC10^4))/3,$F$6*AC10*(LN((1+AB10^3)/(AB10^3+AP10^3)))/3)","v":2.8167031352301368},{"$f":"AE10/AD10","v":0.65997559860125432},{"$f":"AD10*Z10*$D$6","v":0.49684153518266222},{"$f":"MAX(MIN($K$6,$Q$6*$J$6*AA10*(Z10-$I$6)/Z10),-$K$6)","v":136.10325242185345},{"$f":"AH10*$H$6","v":4.5631441965561716E-2},{"$f":"MIN($O$6,$Q$6*$N$6*AA10*(C$6-Z10-$M$6)/Z10)","v":42.010049494656826},{"$f":"AJ10*$L$6","v":1.408474155741783E-2},{"$f":"(0.5*$C$6-Z10+AF10*Z10)*AG10+(0.5*$C$6-$I$6)*AI10+(0.5*$C$6-$M$6)*AK10","v":2.8034793763131061E-2},{"$f":"0.1*$Q$6*AA10*$B$6^2/Z10+$R$6","v":1.1541741964189866E-2},{"$f":"AG10+AI10-AK10","v":0.52838823559080617},{"$f":"AL10-AM10*AN10","v":2.1936273091028413E-2},{"$f":"IF(Z10<$C$6,0,(Z10-$C$6)/Z10)","v":0}]
[null,null,null,null,null,null,null,null,null,null,null,0,{"$f":"Q956","v":6.3438967303928701E-2},{"$f":"R956","v":2.1614346752199563E-2},{"$f":"C956","v":4.5181422537606569E-2},{"$f":"D956","v":3.9334484870015113E-4},{"$f":"K956","v":25.883055331143311},{"$f":"M956","v":458.33333333333337},2,null,{"$f":"Y95","v":4.5181422537606569E-2},{"$f":"1/U11","v":22.132990592929076},null,null,0.6,{"$f":"$Z$15","v":0.11641386182692361},{"$f":"Y11*$AA$15","v":4.3363999701432379E-4},8.40617327996174E-2,-5.7228617396825367E-2,{"$f":"IF($C$2=1,0.5*($O$31*AA11*$F$6/$O$30)*(1-AP11^2+(AB11-AC11)*(AC11^2*(1-AP11^2)+2*AC11*(1-AP11)+2*LN((1-AC11)/(1-AC11*AP11)))/(AC11^3)),$F$6*AC11*(LN((1-AB11+AB11^2)/(1+AB11)^2)/(6*AB11)+ATAN((2-AB11)/(AB11*3^0.5))/(AB11*3^0.5)-LN((AP11^2-AB11*AP11+AB11^2)/(AP11+AB11)^2)/(6*AB11)-ATAN((2*AP11-AB11)/(AB11*3^0.5))/(AB11*3^0.5)))","v":5.0409102874000844},{"$f":"IF($C$2=1,($O$31*AA11*$F$6/$O$30)*(1-AP11^3-(AB11-AC11)*(-2*AC11^3*(1-AP11^3)-3*AC11^2*(1-AP11^2)-6*AC11*(1-AP11)-6*LN((1-AC11)/(1-AC11*AP11)))/(2*AC11^4))/3,$F$6*AC11*(LN((1+AB11^3)/(AB11^3+AP11^3)))/3)","v":3.3199344572872693},0.65859820310342576,0.58683183367931124,163.32390290622411,5.4757730358674046E-2,50.412059393588187,1.6901689868901396E-2,3.3074849382339802E-2,{"$f":"0.1*$Q$6*AA11*$B$6^2/Z11+$R$6","v":1.3850090357027839E-2},0.62468787416908389,2.4422865880158354E-2,0]
[null,null,null,null,null,null,null,null,null,null,null,0,{"$f":"IF(ISERROR(Q957),M11,IF(AND(N11/M11>0.007,Q957>M11),Q957,M11))","v":0.1249872297159049},{"$f":"IF(ISERROR(Q957),N11,IF(AND(N11/M11>0.007,Q957>M11,ISNUMBER(Q957)),R957,N11))","v":2.3356140569351473E-2},{"$f":"IF(AND(N11/M11>0.007,Q957>M11),C957,O11)","v":4.9415891915262342E-2},{"$f":"IF(AND(N11/M11>0.007,Q957>M11),D957,P11)","v":4.5831677895414393E-4},{"$f":"IF(AND(N11/M11>0.007,Q957>M11),K957,Q11)","v":50.108747538653482},{"$f":"IF(AND(N11/M11>0.007,Q957>M11),M957,R11)","v":458.33333333333337},3,null,{"$f":"Y97","v":4.9415891915262342E-2},{"$f":"1/U12","v":20.236404954802506},null,null,0.7,{"$f":"$Z$15","v":0.11641386182692361},{"$f":"Y12*$AA$15","v":5.0591332985004439E-4},9.8072021599553624E-2,-6.6766720296296267E-2,5.7883485578583871,3.8041399155761266,0.65720643419296931,0.67384400922059884,190.54455339059481,6.3884018751786398E-2,58.814069292519548,1.9718638180384961E-2,3.793572666188133E-2,1.6158438749865812E-2,0.71800938979200024,2.6333815915098768E-2,0]
[null,null,null,null,null,null,null,null,null,null,null,0,{"$f":"IF(ISERROR(Q958),M12,IF(AND(N12/M12>0.007,Q958>M12),Q958,M12))","v":0.17410416907705448},{"$f":"IF(ISERROR(Q958),N12,IF(AND(N12/M12>0.007,Q958>M12,ISNUMBER(Q958)),R958,N12))","v":2.4613468140042186E-2},{"$f":"IF(AND(N12/M12>0.007,Q958>M12),C958,O12)","v":5.3135963724627852E-2},{"$f":"IF(AND(N12/M12>0.007,Q958>M12),D958,P12)","v":4.9935638089130207E-4},{"$f":"IF(AND(N12/M12>0.007,Q958>M12),K958,Q12)","v":70.833213832193195},{"$f":"IF(AND(N12/M12>0.007,Q958>M12),M958,R12)","v":458.33333333333337},4,null,{"$f":"Y99","v":5.3135963724627852E-2},{"$f":"1/U13^(1/3)","v":2.6599316642864075},null,null,0.8,{"$f":"$Z$15","v":0.11641386182692361},{"$f":"Y13*$AA$15","v":5.7818666268576516E-4},0.11208231039948988,-7.6304823195767174E-2,6.510717955364516,4.2697268587057993,0.65579969643559066,0.75793782044987534,217.76520387496552,7.3010307144898742E-2,67.216079191450916,2.2535586491868528E-2,4.2621367609823629E-2,1.8466787142703788E-2,0.80841254110290561,2.7692585289783994E-2,0]
[null,null,null,null,null,null,null,null,null,null,null,0,0.23838167854905207,2.5930142993339948E-2,5.7428181372141097E-2,5.514539446251275E-4,96.026084290590006,454.9555829307958,5,null,{"$f":"1/V14^3","v":5.7428181372141097E-2},{"$f":"V13+($V$28-$V$13)/15","v":2.5919402084326055},null,null,0.9,{"$f":"$Z$15","v":0.11641386182692361},{"$f":"Y14*$AA$15","v":6.5045999552148571E-4},0.12609259919942609,-8.5842926095238054E-2,7.2085172978805012,4.7170906364118741,0.65437737630161841,0.83917133669244937,244.9858543593362,8.2136595538011087E-2,75.61808909038227,2.5352534803352089E-2,4.7135596244667843E-2,2.0775135535541757E-2,0.89595539742710839,2.8522001429319488E-2,0]
[null,null,null,null,null,null,null,null,null,null,null,0,0.32987961498918139,2.7384991635944676E-2,6.2195419634221871E-2,6.3481451892244281E-4,129.98845249060312,455.66595113320221,6,null,{"$f":"1/V15^3","v":6.2195419634221871E-2},{"$f":"V14+($V$28-$V$13)/15","v":2.5239487525788036},null,null,1,{"$f":"SUMPRODUCT(L10:L28,O10:O28)","v":0.11641386182692361},{"$f":"SUMPRODUCT(L10:L28,P10:P28)","v":7.2273332835720637E-4},0.14010288799936232,-9.5381028994708961E-2,7.8822314213383118,5.1466150498502268,0.65293884114054479,0.91760099957151386,272.20650484370691,9.1262883931123431E-2,84.020098989313652,2.816948311483566E-2,5.1482123070299438E-2,2.3083483928379733E-2,0.98069440038780165,2.8844279640295619E-2,0]
[null,null,null,null,null,null,null,null,null,null,null,0,0.46135819486480845,2.8277046552225595E-2,6.7505252560478693E-2,7.6077995736461353E-4,177.86483664942327,458.33333333333337,7,null,6.7505252560478693E-2,2.4559572967250016,null,null,{"$f":"MIN(1.1,$O$6/ABS($AJ$15))","v":1.1000000000000001},{"$f":"$Z$15","v":0.11641386182692361},{"$f":"Y16*$AA$15","v":7.9500666119292703E-4},0.15411317679929856,-0.10491913189417985,8.5323316853162421,5.5586727812659804,0.65148343808905196,0.99328168187588728,299.42715532807762,0.10038917232423579,92.422108888245006,3.0986431426319225E-2,5.5664549344018023E-2,2.5391832321217708E-2,1.0626844227738037,2.868104467057557E-2,0]
[null,null,null,null,null,null,null,null,null,null,null,0,0.60374744641575939,2.8353722866921859E-2,7.3437125604676246E-2,8.7915766311351851E-4,229.68519224392304,457.23148522251887,8,null,7.3437125604676246E-2,2.3879658408711997,null,null,{"$f":"MIN(1.2,$O$6/ABS($AJ$15))","v":1.2},{"$f":"$Z$15","v":0.11641386182692361},{"$f":"Y17*$AA$15","v":8.6727999402864758E-4},0.1681234655992348,-0.11445723479365073,9.1592764563275004,5.9536258044427504,0.65001049294999813,1.0662667438215041,326.64780581244821,0.10951546071734809,100.82411878717637,3.3803379737802793E-2,5.9686371152939101E-2,2.7700180714055677E-2,1.1419788248010494,2.8053351334325106E-2,0]
[null,null,null,null,null,null,null,null,null,null,null,0,0.65084855135958186,2.8153001603885373E-2,8.0084861800030091E-2,8.0322125151080091E-4,230.68434089358982,344.80558356815953,9,null,8.0084861800030091E-2,2.3199743850173977,null,null,{"$f":"MIN(1.3,$O$6/ABS($AJ$15))","v":1.3},{"$f":"$Z$15","v":0.11641386182692361},{"$f":"Y18*$AA$15","v":9.3955332686436834E-4},0.18213375439917104,-0.12399533769312164,9.7635115699212971,6.3318257765731758,0.64851930898302979,1.1366080868463879,353.86845629681892,0.11864174911046045,109.22612868610774,3.662032804928636E-2,6.3550983303763936E-2,3.0008529106893656E-2,1.2186295079075622,2.6981704245200362E-2,0]
[null,null,null,null,null,null,null,null,null,null,null,0,0.71081676382054126,2.8240884182844983E-2,8.7559791299448214E-2,7.589601804503962E-4,236.54140810904181,260.81444995122291,10,null,8.7559791299448214E-2,2.2519829291635958,null,null,{"$f":"MIN(1.5,$O$6/ABS($AJ$15))","v":1.5},{"$f":"$Z$15","v":0.11641386182692361},{"$f":"Y19*$AA$15","v":1.0840999925358094E-3},0.21015433199904349,-0.14307154349206341,10.905576145054498,7.0393238445818378,0.64547931727330676,1.2695602344933685,408.30975726556028,0.13689432589668513,126.03014848397045,4.2254224672253482E-2,7.0821673595986664E-2,3.4625225892569597E-2,1.3642003357178001,2.3585928809038557E-2,0]
[null,null,null,null,null,null,null,null,null,null,null,0,0.77772713938339644,2.8476531780520214E-2,9.5994684279247358E-2,7.2684530602114012E-4,243.27336941832445,191.1846019939475,11,null,9.5994684279247358E-2,2.1839914733097938,null,null,{"$f":"MIN(2,$O$6/ABS($AJ$15))","v":2},{"$f":"$Z$15","v":0.11641386182692361},{"$f":"Y20*$AA$15","v":1.4454666567144127E-3},0.28020577599872465,-0.19076205798941792,13.392301338248394,8.5376785685618461,0.63750645635326675,1.5590495175353727,458.33333333333337,0.15366576866258877,168.0401979786273,5.6338966229671321E-2,8.5023936639032655E-2,4.6166967856759465E-2,1.6563763199682902,8.5540643163590779E-3,0]
[null,null,null,null,null,null,null,null,null,null,null,0,0.87621433739936894,2.8768524395131306E-2,0.10554872685841464,7.2595225389928254E-4,258.68561802430992,135.96067096170083,12,null,0.10554872685841464,2.1160000174559919]
[null,null,null,null,null,null,null,null,null,null,null,1,0.98069440038780165,2.8844279640295619E-2,0.11641386182692361,7.2273332835720637E-4,272.20650484370691,84.020098989313652,13,null,0.11641386182692361,2.0480085616021899]
[null,null,null,null,null,null,null,null,null,null,null,0,1.1750392908378504,2.826114334067047E-2,0.12882293018018509,7.8204412137743444E-4,309.39703182670513,38.933102294141968,14,null,0.12882293018018509,1.980017105748388,null,null,"Lastpunkter","hc","e0","a'","b'","N'","tN'","t","Nc","sac","Nac","sat","Nat","Mtot","u","N","Mo","x"]
[null,null,null,null,null,null,null,null,null,null,null,0,1.5021176922410944,2.4884310430158228E-2,0.14306020987399781,9.1784214572999934E-4,379.39632961899144,-11.26557374061295,15,null,0.14306020987399781,1.912025649894586,null,null,{"$f":"MAX(IF(Makro!C11=1,Kold!BE12,Brand!BB34)/1000,M10)","v":2.9100000000000001E-2},{"$f":"Z25+(Z28-Z27)*(Y24-AN25)/(Y28-Y27)","v":4.2528306238057721E-2},{"$f":"AA25+(AA28-AA27)*(Y24-AN25)/(Y28-Y27)","v":3.553127187166869E-4},{"$f":"IF($C$2=1,AA24/($O$31*$O$30),2^(1/3)*$O$30/AA24)","v":6.8877878024893438E-2},{"$f":"IF($C$2=1,-($O$31-2)*AA24/$O$30,3*($O$30/AA24)^2)","v":-4.6891559301877404E-2},{"$f":"IF($C$2=1,0.5*($O$31*AA24*$F$6/$O$30)*(1-AP24^2+(AB24-AC24)*(AC24^2*(1-AP24^2)+2*AC24*(1-AP24)+2*LN((1-AC24)/(1-AC24*AP24)))/(AC24^3)),$F$6*AC24*(LN((1-AB24+AB24^2)/(1+AB24)^2)/(6*AB24)+ATAN((2-AB24)/(AB24*3^0.5))/(AB24*3^0.5)-LN((AP24^2-AB24*AP24+AB24^2)/(AP24+AB24)^2)/(6*AB24)-ATAN((2*AP24-AB24)/(AB24*3^0.5))/(AB24*3^0.5)))","v":4.2019603407061652},{"$f":"IF($C$2=1,($O$31*AA24*$F$6/$O$30)*(1-AP24^3-(AB24-AC24)*(-2*AC24^3*(1-AP24^3)-3*AC24^2*(1-AP24^2)-6*AC24*(1-AP24)-6*LN((1-AC24)/(1-AC24*AP24)))/(2*AC24^4))/3,$F$6*AC24*(LN((1+AB24^3)/(AB24^3+AP24^3)))/3)","v":2.7736734362517281},{"$f":"AE24/AD24","v":0.66009034149655854},{"$f":"AD24*Z24*$D$6","v":0.17870225616972515},{"$f":"MAX(MIN($K$6,$Q$6*$J$6*AA24*(Z24-$I$6)/Z24),-$K$6)","v":12.120354094646268},{"$f":"AH24*$H$6","v":4.0636004256361605E-3},{"$f":"MIN($O$6,$Q$6*$N$6*AA24*(C$6-Z24-$M$6)/Z24)","v":458.33333333333337},{"$f":"AJ24*$L$6","v":0.15366576866258877},{"$f":"(0.5*$C$6-Z24+AF24*Z24)*AG24+(0.5*$C$6-$I$6)*AI24+(0.5*$C$6-$M$6)*AK24","v":2.1386390642634399E-2},{"$f":"0.1*$Q$6*AA24*$B$6^2/Z24+$R$6","v":3.1064233181516514E-2},{"$f":"AG24+AI24-AK24","v":2.910008793277255E-2},{"$f":"AL24-AM24*AN24","v":2.0482418725488116E-2},{"$f":"IF(Z24<$C$6,0,(Z24-$C$6)/Z24)","v":0}]
[null,null,null,null,null,null,null,null,null,null,null,0,1.8920311817613233,1.6978205232542475E-2,0.15947517602038869,1.0632928266209583E-3,457.07812518453858,-74.50649783113991,16,null,0.15947517602038869,1.8440341940407841,null,null,1,{"$f":"Z27+(Z28-Z27)*(Y24*Y24/AN26-Y27)/(Y28-Y27)","v":4.2530890190748891E-2},{"$f":"AA27+(AA28-AA27)*(Y24*Y24/AN26-Y27)/(Y28-Y27)","v":3.5534975939396083E-4},6.8885058413089076E-2,-4.6896447658030957E-2,4.2023642836130053,2.7739371260131325,0.66008963973685431,0.17873029388786985,12.133268827246789,4.0679303579535375E-3,458.33333333333337,0.15366576866258877,2.138856291158351E-2,3.106558407312587E-2,2.9132455583234601E-2,2.0483546163405929E-2,0]
[null,null,null,null,null,null,null,null,null,null,null,0,2.1451802790928944,9.0041051956939663E-3,0.17850063403985802,1.0840138064749558E-3,458.33333333333337,-134.15779038323299,17,null,0.17850063403985802,1.7760427381869821,null,null,{"$f":"VLOOKUP(Y24,Result,7)","v":1},{"$f":"Z27+(Z28-Z27)*(Y24-Y27)/(Y28-Y27)","v":4.2447524140660775E-2},{"$f":"AA27+(AA28-AA27)*(Y24-Y27)/(Y28-Y27)","v":3.5415471624651248E-4},6.8653397592047471E-2,-4.6738734652937104E-2,4.1893284111481517,2.7654271232212633,0.66011227858437438,0.17782661886536721,11.717112890746749,3.9284054375191124E-3,458.33333333333337,0.15366576866258877,2.131853001826535E-2,3.1021917320717601E-2,2.8089255640297545E-2,2.044714745219154E-2,0]
[null,null,null,null,null,null,null,null,null,null,null,0,2.1451802790928944,9.0041051956939663E-3,0.17850063403985802,1.0840138064749558E-3,458.33333333333337,-134.15779038323299,18,null,0.20067685341513844,1.7080512823331802,null,null,{"$f":"INDEX(Result,Y26,1)","v":9.9999999999988987E-5},{"$f":"INDEX(Result,Y26,3)","v":4.0138687861173784E-2},{"$f":"INDEX(Result,Y26,4)","v":3.210578024372992E-4},6.2237513577017019E-2,-4.2370847395201951E-2,3.8254468270961333,2.5276172507990187,0.66073778176593112,0.15354841612232933,0.6365191476987323,2.1340626348999612E-4,458.32156291626706,0.15366182238581935,1.9422167141878287E-2,2.9740483717744983E-2,9.9999999999988987E-5,1.9419193093506513E-2,0]
[null,null,null,null,null,null,null,null,null,null,null,0,2.1451802790928944,9.0041051956939663E-3,0.17850063403985802,1.0840138064749558E-3,458.33333333333337,-134.15779038323299,19,null,{"$f":"Y124","v":0.22668403164997661},{"$f":"1/U28^(1/3)","v":1.6400598264793786},null,null,{"$f":"INDEX(Result,Y26+1,1)","v":6.3438967303928701E-2},{"$f":"INDEX(Result,Y26+1,3)","v":4.5181422537606569E-2},{"$f":"INDEX(Result,Y26+1,4)","v":3.9334484870015113E-4},7.6250460744389861E-2,-5.1910760091923788E-2,4.613110708371468,3.0417370707038054,0.6593678892604784,0.20842690412768886,25.883055331143311,8.6778318388286233E-3,458.33333333333337,0.15366576866258877,2.3667860626519786E-2,3.2369913344933235E-2,6.3438967303928701E-2,2.1614346752199563E-2,0]
[null,null,null,null,null,null,null,null,null,null,null,null,"   emax",null,{"$f":"IF(C2=1,0.0028,Firsidig!G21)","v":2.8E-3}," Konv.krit:",{"$f":"IF(Y123<0.6*C6,1.003,1.001)","v":1.0009999999999999},null,null,null,"N_max",{"$f":"AP124","v":2.3196240201786895},null,null,{"$f":"MAX(IF(Makro!C11=1,Kold!BF12,Brand!BC34)/1000,M10)","v":9.5500000000000002E-2},{"$f":"Z30+(Z33-Z32)*(Y29-AN30)/(Y33-Y32)","v":4.7435214495392369E-2},{"$f":"AA30+(AA33-AA32)*(Y29-AN30)/(Y33-Y32)","v":4.2792609154983626E-4},8.2954084064018496E-2,-5.6474538179225001E-2,4.9807336809718654,3.2808472045199362,0.65870761511580378,0.23626217050132561,38.487027018475167,1.290357510617849E-2,458.33333333333337,0.15366576866258877,2.5767148696664244E-2,3.3542534009512535E-2,9.5499976944915327E-2,2.2563837472081759E-2,0]
[null,null,null,null,null,null,null,null,null,null,null,null,"e1",null,{"$f":"IF(C2=1,0.7*(E6+8)^0.31/1000,Firsidig!F21)","v":2.246328469196467E-3}," Vælg checkpunkt:",null,null,null,null,"e",{"$f":"Z124","v":9.406500464760202E-4},null,null,1,{"$f":"Z32+(Z33-Z32)*(Y29*Y29/AN31-Y32)/(Y33-Y32)","v":4.7435702610677428E-2},{"$f":"AA32+(AA33-AA32)*(Y29*Y29/AN31-Y32)/(Y33-Y32)","v":4.2793358098698364E-4},8.2955535902106858E-2,-5.647552658005512E-2,4.980812661543645,3.2808985156079982,0.65870747176248701,0.23626834817248107,38.489831224824584,1.2904515274594864E-2,458.33333333333337,0.15366576866258877,2.5767610716865178E-2,3.3542775901057788E-2,9.5507094784487157E-2,2.2564037639548042E-2,0]
[null,null,null,null,null,null,null,null,null,null,null,null,"k",null,{"$f":"1.05*G6*O30/F6","v":2.2964539096862753}," Stepmax:",{"$f":"IF(Y123<0.6*C6,0.025,0.06)*0.5*(0.0024+O30)/(0.0024*V6)","v":5.8079105864955821E-2},null,null,null,null,null,null,null,{"$f":"VLOOKUP(Y29,Result,7)","v":2},{"$f":"Z32+(Z33-Z32)*(Y29-Y32)/(Y33-Y32)","v":4.7387194981007304E-2},{"$f":"AA32+(AA33-AA32)*(Y29-Y32)/(Y33-Y32)","v":4.2718930016909788E-4},8.2811256002485595E-2,-5.6377301871873571E-2,4.9729624323645094,3.2757983517700873,0.65872171694901249,0.23565474041568135,38.211306844906773,1.2811134191835574E-2,458.33333333333337,0.15366576866258877,2.5721711346428235E-2,3.3518712988029511E-2,9.4800105944928159E-2,2.2544133804025396E-2,0]
[null,null,null,null,null,null,null,null,null,null,null,null,null,null,null,null,null,null,null,null,null,null,null,null,{"$f":"INDEX(Result,Y31,1)","v":6.3438967303928701E-2},{"$f":"INDEX(Result,Y31,3)","v":4.5181422537606569E-2},{"$f":"INDEX(Result,Y31,4)","v":3.9334484870015113E-4},7.6250460744389861E-2,-5.1910760091923788E-2,4.613110708371468,3.0417370707038054,0.6593678892604784,0.20842690412768886,25.883055331143311,8.6778318388286233E-3,458.33333333333337,0.15366576866258877,2.3667860626519786E-2,3.2369913344933235E-2,6.3438967303928701E-2,2.1614346752199563E-2,0]
[null,null,null,null,null,null,null,null,null,null,null,null,null,null,null,null,null,null,null,null,null,null,null,null,{"$f":"INDEX(Result,Y31+1,1)","v":0.1249872297159049},{"$f":"INDEX(Result,Y31+1,3)","v":4.9415891915262342E-2},{"$f":"INDEX(Result,Y31+1,4)","v":4.5831677895414393E-4},8.8845362225090027E-2,-6.048527758025446E-2,5.298963348818206,3.4873783855907905,{"$f":"AE33/AD33","v":0.65812464741213172},{"$f":"AD33*Z33*$D$6","v":0.26185300010813706},50.108747538653482,1.6799998270356629E-2,458.33333333333337,0.15366576866258877,{"$f":"(0.5*$C$6-Z33+AF33*Z33)*AG33+(0.5*$C$6-$I$6)*AI33+(0.5*$C$6-$M$6)*AK33","v":2.7666294009989843E-2},{"$f":"0.1*$Q$6*AA33*$B$6^2/Z33+$R$6","v":3.4484750565600325E-2},{"$f":"AG33+AI33-AK33","v":0.1249872297159049},{"$f":"AL33-AM33*AN33","v":2.3356140569351473E-2},0]
[null,"hc/hcm","hc","e0","a'","b'","N'","tN'","t","Nc","sac","Nac","sat","Nat","Mtot","u","N","Mo","a''","b''","c''",null,"x",null,{"$f":"MAX(IF(Makro!C11=1,Kold!BG12,Brand!BD34)/1000,M10)","v":0.5141},{"$f":"Z35+(Z38-Z37)*(Y34-AN35)/(Y38-Y37)","v":6.9751705757507471E-2},{"$f":"AA35+(AA38-AA37)*(Y34-AN35)/(Y38-Y37)","v":8.0561064972015659E-4},0.15616877512123273,-0.10631856830798718,8.6257560700679932,5.6176827095246145,0.65126844115362659,0.60166119933541662,197.16744145181616,6.6104479518391185E-2,458.33333333333337,0.15366576866258877,5.0502839656256973E-2,4.2943588882643179E-2,0.51409991019121903,2.8425544468401481E-2,0]
[null,{"$f":"C35/$Y$123","v":0.17644291625669453},{"$f":"U10","v":4.0138687861173784E-2},{"$f":"Z93","v":3.210578024372992E-4},{"$f":"IF($C$2=1,D35/($O$31*$O$30),2^(1/3)*$O$30/D35)","v":6.2237513577017019E-2},{"$f":"IF($C$2=1,-($O$31-2)*D35/$O$30,3*($O$30/D35)^2)","v":-4.2370847395201951E-2},{"$f":"IF($C$2=1,0.5*($O$31*D35*$F$6/$O$30)*(1-W35^2+(E35-F35)*(F35^2*(1-W35^2)+2*F35*(1-W35)+2*LN((1-F35)/(1-F35*W35)))/(F35^3)),$F$6*F35*(LN((1-E35+E35^2)/(1+E35)^2)/(6*E35)+ATAN((2-E35)/(E35*3^0.5))/(E35*3^0.5)-LN((W35^2-E35*W35+E35^2)/(W35+E35)^2)/(6*E35)-ATAN((2*W35-E35)/(E35*3^0.5))/(E35*3^0.5)))","v":3.8254468270961333},{"$f":"IF($C$2=1,($O$31*D35*$F$6/$O$30)*(1-W35^3-(E35-F35)*(-2*F35^3*(1-W35^3)-3*F35^2*(1-W35^2)-6*F35*(1-W35)-6*LN((1-F35)/(1-F35*W35)))/(2*F35^4))/3,$F$6*F35*(LN((1+E35^3)/(E35^3+W35^3)))/3)","v":2.5276172507990187},{"$f":"H35/G35","v":0.66073778176593112},{"$f":"G35*C35*$D$6","v":0.15354841612232933},{"$f":"MAX(MIN($K$6,$Q$6*$J$6*D35*(C35-$I$6)/C35),-$K$6)","v":0.6365191476987323},{"$f":"K35*$H$6","v":2.1340626348999612E-4},{"$f":"MIN($O$6,$Q$6*$N$6*D35*(C$6-C35-$M$6)/C35)","v":458.32156291626706},{"$f":"M35*$L$6","v":0.15366182238581935},{"$f":"(0.5*$C$6-C35+I35*C35)*J35+(0.5*$C$6-$I$6)*L35+(0.5*$C$6-$M$6)*N35","v":1.9422167141878287E-2},{"$f":"0.1*$Q$6*D35*$B$6^2/C35+$R$6","v":2.9740483717744983E-2},{"$f":"(J35+L35-N35)","v":9.9999999999988987E-5},{"$f":"O35-P35*Q35","v":1.9419193093506513E-2},null,null,null,null,{"$f":"IF(C35<$C$6,0,(C35-$C$6)/C35)","v":0},null,1,{"$f":"Z37+(Z38-Z37)*(Y34*Y34/AN36-Y37)/(Y38-Y37)","v":6.9751324572968385E-2},{"$f":"AA37+(AA38-AA37)*(Y34*Y34/AN36-Y37)/(Y38-Y37)","v":8.0560304272134405E-4},0.15616730049364766,-0.10631756439223315,8.6256892283964142,5.6176405091856703,0.65126859552184857,0.60165324903543549,197.16413104806907,6.6103369636784537E-2,458.33333333333337,0.15366576866258877,5.0502348479862097E-2,4.2943418067251951E-2,0.51409085000963128,2.8425530183349583E-2,0]
[null,0.19860992917191292,{"$f":"U11","v":4.5181422537606569E-2},{"$f":"Z95","v":3.9127892776665241E-4},7.5849979020626804E-2,{"$f":"IF($C$2=1,-($O$31-2)*D36/$O$30,3*($O$30/D36)^2)","v":-5.1638115041906907E-2},{"$f":"IF($C$2=1,0.5*($O$31*D36*$F$6/$O$30)*(1-W36^2+(E36-F36)*(F36^2*(1-W36^2)+2*F36*(1-W36)+2*LN((1-F36)/(1-F36*W36)))/(F36^3)),$F$6*F36*(LN((1-E36+E36^2)/(1+E36)^2)/(6*E36)+ATAN((2-E36)/(E36*3^0.5))/(E36*3^0.5)-LN((W36^2-E36*W36+E36^2)/(W36+E36)^2)/(6*E36)-ATAN((2*W36-E36)/(E36*3^0.5))/(E36*3^0.5)))","v":4.5909615763086222},{"$f":"IF($C$2=1,($O$31*D36*$F$6/$O$30)*(1-W36^3-(E36-F36)*(-2*F36^3*(1-W36^3)-3*F36^2*(1-W36^2)-6*F36*(1-W36)-6*LN((1-F36)/(1-F36*W36)))/(2*F36^4))/3,$F$6*F36*(LN((1+E36^3)/(E36^3+W36^3)))/3)","v":3.0273132667362561},{"$f":"H36/G36","v":0.65940723232329412},{"$f":"G36*C36*$D$6","v":0.20742617483311618},{"$f":"MAX(MIN($K$6,$Q$6*$J$6*D36*(C36-$I$6)/C36),-$K$6)","v":25.747112669104595},8.6322542381241478E-3,{"$f":"MIN($O$6,$Q$6*$N$6*D36*(C$6-C36-$M$6)/C36)","v":458.33333333333337},0.15366576866258877,{"$f":"(0.5*$C$6-C36+I36*C36)*J36+(0.5*$C$6-$I$6)*L36+(0.5*$C$6-$M$6)*N36","v":2.3591286293014928E-2},{"$f":"0.1*$Q$6*D36*$B$6^2/C36+$R$6","v":3.2199900487727078E-2},{"$f":"(J36+L36-N36)","v":6.2392660408651546E-2},{"$f":"O36-P36*Q36","v":2.1582248836691798E-2},{"$f":"((R36-R35)*(Q36-Q37)-(R36-R37)*(Q36-Q35))/((Q36^2-Q35^2)*(Q36-Q37)-(Q36^2-Q37^2)*(Q36-Q35))","v":-4.9199639663493402E-2},{"$f":"-(S36*(Q36^2-Q35^2)-(R36-R35))/(Q36-Q35)","v":3.7798703111951319E-2},{"$f":"R36-S36*Q36^2-T36*Q36","v":1.9415413715191714E-2},{"$f":"S36*Q35^2+T36*Q35+U36","v":1.9419193093506513E-2},{"$f":"IF(C36<$C$6,0,(C36-$C$6)/C36)","v":0},null,{"$f":"VLOOKUP(Y34,Result,7)","v":7},{"$f":"Z37+(Z38-Z37)*(Y34-Y37)/(Y38-Y37)","v":6.9702452761870398E-2},{"$f":"AA37+(AA38-AA37)*(Y34-Y37)/(Y38-Y37)","v":8.0462774658292898E-4},0.15597823794417709,-0.10618885198115886,8.6171173140621136,5.6122284235627653,0.65128838554910629,0.60063421252690996,196.73979848175352,6.5961103331392282E-2,458.33333333333337,0.15366576866258877,5.0439374622398211E-2,4.2921502287458987E-2,0.51292954719571349,2.8423667889132094E-2,0]
[null,0.21722394386958735,4.9415891915262342E-2,{"$f":"Z97","v":4.5352760121529614E-4},8.7916973279917154E-2,-5.9853237126539435E-2,5.2491136256113826,3.4550541722958035,0.65821668546818346,0.25938963157414291,49.585136557660633,1.6624446814630583E-2,458.33333333333337,0.15366576866258877,2.7478609344113777E-2,{"$f":"0.1*$Q$6*D37*$B$6^2/C37+$R$6","v":3.4124402423611366E-2},0.12234830972618474,{"$f":"O37-P37*Q37","v":2.3303546387168805E-2},-4.1251549389708209E-2,3.6330365204052993E-2,1.947608654753143E-2,2.1582248836691798E-2,0,null,{"$f":"INDEX(Result,Y36,1)","v":0.46135819486480845},{"$f":"INDEX(Result,Y36,3)","v":6.7505252560478693E-2},{"$f":"INDEX(Result,Y36,4)","v":7.6077995736461353E-4},0.1474782813753594,-0.10040214325929543,8.2273758274995288,5.3656873709129131,0.65217482261821724,0.55539108314533303,177.86483664942327,5.9632880382064171E-2,458.33333333333337,0.15366576866258877,4.7609532615159544E-2,4.1903419681531696E-2,0.46135819486480845,2.8277046552225595E-2,0]
[null,0.23357675343324244,5.3135963724627852E-2,{"$f":"Z99","v":5.1157883423260102E-4},9.9170287716287789E-2,-6.7514411895091886E-2,5.8458740571755188,3.8413046020079844,0.65709670862528669,0.31062615184082143,72.566956874653059,2.432957936214216E-2,458.33333333333337,0.15366576866258877,3.1196358245288099E-2,3.5797440553686798E-2,0.1812899625403748,2.4706641588268928E-2,-6.1304127250117031E-2,4.2419095300078188E-2,1.90313099334787E-2,2.3303546387168805E-2,0,null,{"$f":"INDEX(Result,Y36+1,1)","v":0.60374744641575939},{"$f":"INDEX(Result,Y36+1,3)","v":7.3437125604676246E-2},{"$f":"INDEX(Result,Y36+1,4)","v":8.7915766311351851E-4},0.17042596871649618,-0.11602476219957342,9.2601264172153144,6.0169217608535561,0.64976669753315874,0.68003706681622167,229.68519224392304,7.7006730799804149E-2,457.23148522251887,0.15329635120026644,5.5227850373787246E-2,4.4512200699825442E-2,0.60374744641575939,2.8353722866921859E-2,0]
[null,0.25244461980583138,5.7428181372141097E-2,{"$f":"D38+($D$53-$D$38)/15","v":5.4018358171549561E-4},0.10471535887269263,-7.128945608082761E-2,6.1339728687787325,4.0272065013180143,0.65654129672077055,0.35226290644001768,94.063547202417496,3.1536757710521855E-2,445.65740929840143,0.14941590187640025,3.3803187473027185E-2,3.4973917981253072E-2,0.23438376227413926,2.5605868995113919E-2,-0.1001237003817588,5.855537185941715E-2,1.7381811012122494E-2,2.4706641588268928E-2,0,null,{"$f":"MAX(IF(Makro!$C$11=1,Kold!$BH$12,Brand!$BE$34)/1000,M10)","v":0.5615},{"$f":"Z40+(Z43-Z42)*(Y39-AN40)/(Y43-Y42)","v":7.1725387943207569E-2},{"$f":"AA40+(AA43-AA42)*(Y39-AN40)/(Y43-Y42)","v":8.4499786641880205E-4},0.16380404333596985,-0.11151660347608117,8.9684290708937233,5.8336628395342673,0.65046651909941799,0.64326405435099288,214.45817821735326,7.1901558112904801E-2,458.33333333333337,0.15366576866258877,5.3045228311429216E-2,4.3803687990708488E-2,0.56149984380130891,2.8449464346725128E-2,0]
[null,0.27340059685125118,6.2195419634221871E-2,{"$f":"D39+($D$53-$D$38)/15","v":5.687883291983902E-4},0.11026043002909749,-7.5064500266563333E-2,6.4181822210828985,4.2102216049007053,0.65598349499499586,0.39918153652915306,116.46853136364298,3.9048493957084415E-2,408.27275888016339,0.13688192141959868,3.6181870750270524E-2,3.4003235607798658E-2,0.30134810906663878,2.5935059997712999E-2,3.0617998342756113E-3,3.2756107334467825E-3,2.4669916763486462E-2,2.5605868995113919E-2,0,null,1,{"$f":"Z42+(Z43-Z42)*(Y39*Y39/AN41-Y42)/(Y43-Y42)","v":7.1725998717126413E-2},{"$f":"AA42+(AA43-AA42)*(Y39*Y39/AN41-Y42)/(Y43-Y42)","v":8.4501005515155215E-4},0.16380640613922293,-0.11151821205538179,8.9685340603128036,5.8337288986114002,0.65046627011504399,0.64327706250450067,214.46357421753129,7.190336723402857E-2,458.33333333333337,0.15366576866258877,5.3046014562704261E-2,4.3803946829872327E-2,0.5615146610759405,2.8449456204739983E-2,0]
[null,0.29674172871846449,6.7505252560478693E-2,5.9739307668128479E-4,0.11580550118550234,-7.8839544452299043E-2,6.6985328850876815,4.39037429575425,0.65542326522396133,0.45218615419251595,139.66616887159782,4.6825983699955644E-2,368.1138217483724,0.1234178037257167,3.869075890702995E-2,3.2904143392174075E-2,0.37559433416675492,2.6332149078318899E-2,2.4296650289706845E-3,3.7035296130027654E-3,2.4598368811613786E-2,{"$f":"S41*Q40^2+T41*Q40+U41","v":2.5935059997712999E-2},0,null,{"$f":"VLOOKUP(Y39,Result,7)","v":7},{"$f":"Z42+(Z43-Z42)*(Y39-Y42)/(Y43-Y42)","v":7.1677115731387811E-2},{"$f":"AA42+(AA43-AA42)*(Y39-Y42)/(Y43-Y42)","v":8.4403453600965953E-4},0.16361730036020969,-0.1113894702139487,8.9601292293765109,5.8284403767567952,0.65048619585170497,0.6422362197422109,214.03179415755446,7.1758604001716894E-2,458.33333333333337,0.15366576866258877,5.2983085827474893E-2,4.3783216814992205E-2,0.56032905508133901,2.8450077321108918E-2,0]
[null,0.32281724425107627,7.3437125604676246E-2,6.2599782416417938E-4,0.1213505723419072,-8.2614588638034767E-2,6.9750552871331717,4.5676886720880141,0.65486056870602771,0.51222801122075989,163.54567174927939,5.4832082969001696E-2,325.56835582253797,0.10915355269022291,4.1316847152801081E-2,3.1694588986653768E-2,0.45790654149953863,2.6803687525673088E-2,7.5472075247746072E-4,5.0995971341521139E-3,2.431029999854168E-2,{"$f":"S42*Q41^2+T42*Q41+U42","v":2.6332149078318899E-2},0,null,{"$f":"INDEX(Result,Y41,1)","v":0.46135819486480845},{"$f":"INDEX(Result,Y41,3)","v":6.7505252560478693E-2},{"$f":"INDEX(Result,Y41,4)","v":7.6077995736461353E-4},0.1474782813753594,-0.10040214325929543,8.2273758274995288,5.3656873709129131,0.65217482261821724,0.55539108314533303,177.86483664942327,5.9632880382064171E-2,458.33333333333337,0.15366576866258877,4.7609532615159544E-2,4.1903419681531696E-2,0.46135819486480845,2.8277046552225595E-2,0]
[null,0.35203957371212496,8.0084861800030091E-2,6.5460257164707397E-4,0.12689564349831206,-8.638963282377049E-2,7.2477795138955301,4.7421885517113305,0.65429536627315299,0.58043742072741278,188.00120452941425,6.30313082258291E-2,281.00678523811717,9.4213360697494405E-2,4.4031780476107819E-2,3.0391717736936035E-2,0.5492553682557475,2.7338966358582285E-2,-1.6047653195126307E-3,7.4759816324586536E-3,2.3716871257811245E-2,2.6803687525673092E-2,0,null,{"$f":"INDEX(Result,Y41+1,1)","v":0.60374744641575939},{"$f":"INDEX(Result,Y41+1,3)","v":7.3437125604676246E-2},{"$f":"INDEX(Result,Y41+1,4)","v":8.7915766311351851E-4},0.17042596871649618,-0.11602476219957342,9.2601264172153144,6.0169217608535561,0.64976669753315874,0.68003706681622167,229.68519224392304,7.7006730799804149E-2,457.23148522251887,0.15329635120026644,5.5227850373787246E-2,4.4512200699825442E-2,0.60374744641575939,2.8353722866921859E-2,0]
[null,0.38489810571626404,8.7559791299448214E-2,6.8320731912996856E-4,0.13244071465471691,-9.01646770095062E-2,7.5167353173135361,4.9138974761022967,0.65372761826320525,0.65816377563716488,212.93188425445788,7.1389836363784681E-2,234.78220034651534,7.871560862081714E-2,4.6784790794721094E-2,2.9011872682143072E-2,0.65083800338013242,2.7902761503956489E-2,-4.3762676073320003E-3,1.0802043157544357E-2,2.272612496536603E-2,2.7338966358582281E-2,0,null,{"$f":"MAX(IF(Makro!$C$11=1,Kold!$BI$12,Brand!$BF$34)/1000,M10)","v":9.5500000000000002E-2},{"$f":"Z45+(Z48-Z47)*(Y44-AN45)/(Y48-Y47)","v":4.7435214495392369E-2},{"$f":"AA45+(AA48-AA47)*(Y44-AN45)/(Y48-Y47)","v":4.2792609154983626E-4},{"$f":"IF($C$2=1,AA44/($O$31*$O$30),2^(1/3)*$O$30/AA44)","v":8.2954084064018496E-2},{"$f":"IF($C$2=1,-($O$31-2)*AA44/$O$30,3*($O$30/AA44)^2)","v":-5.6474538179225001E-2},{"$f":"IF($C$2=1,0.5*($O$31*AA44*$F$6/$O$30)*(1-AP44^2+(AB44-AC44)*(AC44^2*(1-AP44^2)+2*AC44*(1-AP44)+2*LN((1-AC44)/(1-AC44*AP44)))/(AC44^3)),$F$6*AC44*(LN((1-AB44+AB44^2)/(1+AB44)^2)/(6*AB44)+ATAN((2-AB44)/(AB44*3^0.5))/(AB44*3^0.5)-LN((AP44^2-AB44*AP44+AB44^2)/(AP44+AB44)^2)/(6*AB44)-ATAN((2*AP44-AB44)/(AB44*3^0.5))/(AB44*3^0.5)))","v":4.9807336809718654},{"$f":"IF($C$2=1,($O$31*AA44*$F$6/$O$30)*(1-AP44^3-(AB44-AC44)*(-2*AC44^3*(1-AP44^3)-3*AC44^2*(1-AP44^2)-6*AC44*(1-AP44)-6*LN((1-AC44)/(1-AC44*AP44)))/(2*AC44^4))/3,$F$6*AC44*(LN((1+AB44^3)/(AB44^3+AP44^3)))/3)","v":3.2808472045199362},{"$f":"AE44/AD44","v":0.65870761511580378},{"$f":"AD44*Z44*$D$6","v":0.23626217050132561},{"$f":"MAX(MIN($K$6,$Q$6*$J$6*AA44*(Z44-$I$6)/Z44),-$K$6)","v":38.487027018475167},{"$f":"AH44*$H$6","v":1.290357510617849E-2},{"$f":"MIN($O$6,$Q$6*$N$6*AA44*(C$6-Z44-$M$6)/Z44)","v":458.33333333333337},{"$f":"AJ44*$L$6","v":0.15366576866258877},{"$f":"(0.5*$C$6-Z44+AF44*Z44)*AG44+(0.5*$C$6-$I$6)*AI44+(0.5*$C$6-$M$6)*AK44","v":2.5767148696664244E-2},{"$f":"0.1*$Q$6*AA44*$B$6^2/Z44+$R$6","v":3.3542534009512535E-2},{"$f":"AG44+AI44-AK44","v":9.5499976944915327E-2},{"$f":"AL44-AM44*AN44","v":2.2563837472081759E-2},{"$f":"IF(Z44<$C$6,0,(Z44-$C$6)/Z44)","v":0}]
[null,0.42197647561256785,9.5994684279247358E-2,7.1181206661286316E-4,0.13798578581112175,-9.3939721195241924E-2,7.7819521194093628,5.0828387146042688,0.65315728452336552,0.74702603677892165,238.24178047659507,7.9875504707955736E-2,187.23035771508637,6.2772865822385893E-2,4.9492487386430542E-2,2.757059455482096E-2,0.76412867566449161,2.8425005481972559E-2,-7.3462197062845562E-3,1.5004426415920863E-2,2.1249096562368574E-2,2.7902761503956493E-2,0,null,1,{"$f":"Z47+(Z48-Z47)*(Y44*Y44/AN46-Y47)/(Y48-Y47)","v":4.7435702610677428E-2},{"$f":"AA47+(AA48-AA47)*(Y44*Y44/AN46-Y47)/(Y48-Y47)","v":4.2793358098698364E-4},8.2955535902106858E-2,-5.647552658005512E-2,4.980812661543645,3.2808985156079982,0.65870747176248701,0.23626834817248107,38.489831224824584,1.2904515274594864E-2,458.33333333333337,0.15366576866258877,2.5767610716865178E-2,3.3542775901057788E-2,9.5507094784487157E-2,2.2564037639548042E-2,0]
[null,0.46397443878812866,0.10554872685841464,7.4041681409575775E-4,0.1435308569675266,-9.7714765380977647E-2,8.0434590170407532,5.2490352683683872,0.6525843243867917,0.84897685878648677,263.83991525773945,8.8457811015169766E-2,138.66968012713215,4.6491890153304148E-2,5.2024030289263508E-2,2.6082621780939681E-2,0.89094277964835245,2.8785906739236446E-2,-1.0345830058861395E-2,1.9968995887531687E-2,1.9206977053440693E-2,2.8425005481972552E-2,0,null,{"$f":"VLOOKUP(Y44,Result,7)","v":2},{"$f":"Z47+(Z48-Z47)*(Y44-Y47)/(Y48-Y47)","v":4.7387194981007304E-2},{"$f":"AA47+(AA48-AA47)*(Y44-Y47)/(Y48-Y47)","v":4.2718930016909788E-4},8.2811256002485595E-2,-5.6377301871873571E-2,4.9729624323645094,3.2757983517700873,0.65872171694901249,0.23565474041568135,38.211306844906773,1.2811134191835574E-2,458.33333333333337,0.15366576866258877,2.5721711346428235E-2,3.3518712988029511E-2,9.4800105944928159E-2,2.2544133804025396E-2,0]
[null,0.51173574344255157,0.11641386182692361,7.6902156157865234E-4,0.14907592812393147,-0.10148980956671336,8.3012847865522623,5.4125098743923639,0.65200869667312289,0.96638462012763804,289.64026316953397,9.710791347399475E-2,89.401256581902402,2.9973627953584044E-2,5.4179474421069247E-2,2.4561890479893076E-2,1.0335189056480487,2.8794296251642929E-2,-1.3243686233475976E-2,2.5545809065077044E-2,1.6538613101971633E-2,2.878590673923645E-2,0,null,{"$f":"INDEX(Result,Y46,1)","v":6.3438967303928701E-2},{"$f":"INDEX(Result,Y46,3)","v":4.5181422537606569E-2},{"$f":"INDEX(Result,Y46,4)","v":3.9334484870015113E-4},7.6250460744389861E-2,-5.1910760091923788E-2,4.613110708371468,3.0417370707038054,0.6593678892604784,0.20842690412768886,25.883055331143311,8.6778318388286233E-3,458.33333333333337,0.15366576866258877,2.3667860626519786E-2,3.2369913344933235E-2,6.3438967303928701E-2,2.1614346752199563E-2,0]
[null,0.56628391940313183,0.12882293018018509,7.9762630906154693E-4,0.15462099928033632,-0.10526485375244908,8.5554578883619037,5.5732850093256081,0.65143035966631513,1.1021391542119592,315.56175129335048,0.10579863070473897,39.708842294595577,1.331321405214664E-2,5.5657921360762662E-2,2.3021534464498908E-2,1.1946245708645515,2.8155830630467171E-2,-1.5941680002991791E-2,3.155732628229535E-2,1.3207489015025074E-2,2.8794296251642929E-2,0,null,{"$f":"INDEX(Result,Y46+1,1)","v":0.1249872297159049},{"$f":"INDEX(Result,Y46+1,3)","v":4.9415891915262342E-2},{"$f":"INDEX(Result,Y46+1,4)","v":4.5831677895414393E-4},8.8845362225090027E-2,-6.048527758025446E-2,5.298963348818206,3.4873783855907905,0.65812464741213172,0.26185300010813706,50.108747538653482,1.6799998270356629E-2,458.33333333333337,0.15366576866258877,2.7666294009989843E-2,3.4484750565600325E-2,0.1249872297159049,2.3356140569351473E-2,0]
[null,0.62886860471788186,0.14306020987399781,8.2623105654444152E-4,0.16016607043674116,-0.10903989793818479,8.8060064714499564,5.7313828933601672,0.65084927111306834,1.2597891339574137,341.52825922029007,0.11450444175945106,-10.141141303642062,-3.4000282331783666E-3,5.6010308946215372E-2,2.1473885240998799E-2,1.3776936039500429,2.64258745977341E-2,-1.8372138183389473E-2,3.7809238032859113E-2,9.2073762176490132E-3,2.8155830630467171E-2,0,null,{"$f":"MAX(IF(Makro!$C$11=1,Kold!$BJ$12,Brand!$BG$34)/1000,M10)","v":0.5141},{"$f":"Z50+(Z53-Z52)*(Y49-AN50)/(Y53-Y52)","v":6.9751705757507471E-2},{"$f":"AA50+(AA53-AA52)*(Y49-AN50)/(Y53-Y52)","v":8.0561064972015659E-4},0.15616877512123273,-0.10631856830798718,8.6257560700679932,5.6176827095246145,0.65126844115362659,0.60166119933541662,197.16744145181616,6.6104479518391185E-2,458.33333333333337,0.15366576866258877,5.0502839656256973E-2,4.2943588882643179E-2,0.51409991019121903,2.8425544468401481E-2,0]
[null,0.70102603316052214,0.15947517602038869,8.5483580402733611E-4,0.16571114159314601,-0.11281494212392053,9.0529583777851315,5.8868254939125393,0.65026538820261226,1.4437221308025363,367.468619051183,0.12320148612192008,-59.899606565715985,-2.0082587095652495E-2,5.4568794803327735E-2,1.9930472009058266E-2,1.5870062040201089,2.293901207590314E-2,-2.0494932990768988E-2,4.4102687390657203E-2,4.566080038586745E-3,2.6425874597734093E-2,0,null,1,{"$f":"Z52+(Z53-Z52)*(Y49*Y49/AN51-Y52)/(Y53-Y52)","v":6.9751324572968385E-2},{"$f":"AA52+(AA53-AA52)*(Y49*Y49/AN51-Y52)/(Y53-Y52)","v":8.0560304272134405E-4},0.15616730049364766,-0.10631756439223315,8.6256892283964142,5.6176405091856703,0.65126859552184857,0.60165324903543549,197.16413104806907,6.6103369636784537E-2,458.33333333333337,0.15366576866258877,5.0502348479862097E-2,4.2943418067251951E-2,0.51409085000963128,2.8425530183349583E-2,0]
[null,0.7846587445158334,0.17850063403985802,8.834405515102307E-4,0.17125621274955088,-0.11658998630965624,9.2963411466621029,6.0396345293365448,0.64967866755891435,1.659402788930006,393.31661539658825,0.13186756370767533,-109.33479962858341,-3.6656762239628493E-2,5.0340053495109366E-2,1.8402021661766715E-2,1.82792711487731,1.6702499131006375E-2,-8.6983780043194403E-3,3.818238719225148E-3,3.8787080016989502E-2,2.293901207590314E-2,0,null,{"$f":"VLOOKUP(Y49,Result,7)","v":7},{"$f":"Z52+(Z53-Z52)*(Y49-Y52)/(Y53-Y52)","v":6.9702452761870398E-2},{"$f":"AA52+(AA53-AA52)*(Y49-Y52)/(Y53-Y52)","v":8.0462774658292898E-4},0.15597823794417709,-0.10618885198115886,8.6171173140621136,5.6122284235627653,0.65128838554910629,0.60063421252690996,196.73979848175352,6.5961103331392282E-2,458.33333333333337,0.15366576866258877,5.0439374622398211E-2,4.2921502287458987E-2,0.51292954719571349,2.8423667889132094E-2,0]
[null,0.88214167249932596,0.20067685341513844,9.1204529899312529E-4,0.17680128390595573,-0.12036503049539196,9.4149515410890174,6.181525472757925,0.65656476783553519,1.8893628503217526,419.01098537679428,0.14048213486398653,-158.2323004132534,-5.3050664880550345E-2,4.4200283772858014E-2,1.6898458785637449E-2,2.0828956500662894,9.0025574754293014E-3,8.1704223540045497E-3,-6.2152649739397034E-2,0.10301303735250891,1.6702499131006382E-2,0.10303556719799878,null,{"$f":"INDEX(Result,Y51,1)","v":0.46135819486480845},{"$f":"INDEX(Result,Y51,3)","v":6.7505252560478693E-2},{"$f":"INDEX(Result,Y51,4)","v":7.6077995736461353E-4},0.1474782813753594,-0.10040214325929543,8.2273758274995288,5.3656873709129131,0.65217482261821724,0.55539108314533303,177.86483664942327,5.9632880382064171E-2,458.33333333333337,0.15366576866258877,4.7609532615159544E-2,4.1903419681531696E-2,0.46135819486480845,2.8277046552225595E-2,0]
[null,0.99646485085616543,0.22668403164997661,{"$f":"$Z$124","v":9.406500464760202E-4},0.18234635506236063,{"$f":"IF($C$2=1,-($O$31-2)*D53/$O$30,3*($O$30/D53)^2)","v":-0.12414007468112773},9.2837370297030795,6.2706886877399342,{"$f":"H53/G53","v":0.6754487624624681},{"$f":"G53*C53*$D$6","v":2.1044749386712729},444.49541862181849,0.1490263203698638,{"$f":"MIN($O$6,$Q$6*$N$6*D53*(C$6-C53-$M$6)/C53)","v":-206.39502262478672},-6.9198217744953258E-2,{"$f":"(0.5*$C$6-C53+I53*C53)*J53+(0.5*$C$6-$I$6)*L53+(0.5*$C$6-$M$6)*N53","v":3.8566701460522754E-2},{"$f":"0.1*$Q$6*D53*$B$6^2/C53+$R$6","v":1.5428905660607662E-2},{"$f":"(J53+L53-N53)","v":2.3226994767860898},{"$f":"O53-P53*Q53","v":2.7299903552473956E-3},null,null,null,null,0.20594318580878934,null,{"$f":"INDEX(Result,Y51+1,1)","v":0.60374744641575939},{"$f":"INDEX(Result,Y51+1,3)","v":7.3437125604676246E-2},{"$f":"INDEX(Result,Y51+1,4)","v":8.7915766311351851E-4},0.17042596871649618,-0.11602476219957342,9.2601264172153144,6.0169217608535561,0.64976669753315874,0.68003706681622167,229.68519224392304,7.7006730799804149E-2,457.23148522251887,0.15329635120026644,5.5227850373787246E-2,4.4512200699825442E-2,0.60374744641575939,2.8353722866921859E-2,0]
[null,"De","hc","e0","a'","b'","N'","tN'","t","Nc","sac","Nac","sat","Nat","Mtot","u","N","Mo","a''","b''","c''",null,"x",null,{"$f":"MAX(IF(Makro!$C$11=1,Kold!$BK$12,Brand!$BH$34)/1000,M10)","v":9.9999999999988987E-5},{"$f":"Z55+(Z58-Z57)*(Y54-AN55)/(Y58-Y57)","v":4.0138687861173784E-2},{"$f":"AA55+(AA58-AA57)*(Y54-AN55)/(Y58-Y57)","v":3.210578024372992E-4},{"$f":"IF($C$2=1,AA54/($O$31*$O$30),2^(1/3)*$O$30/AA54)","v":6.2237513577017019E-2},{"$f":"IF($C$2=1,-($O$31-2)*AA54/$O$30,3*($O$30/AA54)^2)","v":-4.2370847395201951E-2},{"$f":"IF($C$2=1,0.5*($O$31*AA54*$F$6/$O$30)*(1-AP54^2+(AB54-AC54)*(AC54^2*(1-AP54^2)+2*AC54*(1-AP54)+2*LN((1-AC54)/(1-AC54*AP54)))/(AC54^3)),$F$6*AC54*(LN((1-AB54+AB54^2)/(1+AB54)^2)/(6*AB54)+ATAN((2-AB54)/(AB54*3^0.5))/(AB54*3^0.5)-LN((AP54^2-AB54*AP54+AB54^2)/(AP54+AB54)^2)/(6*AB54)-ATAN((2*AP54-AB54)/(AB54*3^0.5))/(AB54*3^0.5)))","v":3.8254468270961333},{"$f":"IF($C$2=1,($O$31*AA54*$F$6/$O$30)*(1-AP54^3-(AB54-AC54)*(-2*AC54^3*(1-AP54^3)-3*AC54^2*(1-AP54^2)-6*AC54*(1-AP54)-6*LN((1-AC54)/(1-AC54*AP54)))/(2*AC54^4))/3,$F$6*AC54*(LN((1+AB54^3)/(AB54^3+AP54^3)))/3)","v":2.5276172507990187},{"$f":"AE54/AD54","v":0.66073778176593112},{"$f":"AD54*Z54*$D$6","v":0.15354841612232933},{"$f":"MAX(MIN($K$6,$Q$6*$J$6*AA54*(Z54-$I$6)/Z54),-$K$6)","v":0.6365191476987323},{"$f":"AH54*$H$6","v":2.1340626348999612E-4},{"$f":"MIN($O$6,$Q$6*$N$6*AA54*(C$6-Z54-$M$6)/Z54)","v":458.32156291626706},{"$f":"AJ54*$L$6","v":0.15366182238581935},{"$f":"(0.5*$C$6-Z54+AF54*Z54)*AG54+(0.5*$C$6-$I$6)*AI54+(0.5*$C$6-$M$6)*AK54","v":1.9422167141878287E-2},{"$f":"0.1*$Q$6*AA54*$B$6^2/Z54+$R$6","v":2.9740483717744983E-2},{"$f":"AG54+AI54-AK54","v":9.9999999999988987E-5},{"$f":"AL54-AM54*AN54","v":1.9419193093506513E-2}]
[null,null,{"$f":"$C$35","v":4.0138687861173784E-2},{"$f":"$D$35","v":3.210578024372992E-4},{"$f":"$E$35","v":6.2237513577017019E-2},{"$f":"$F$35","v":-4.2370847395201951E-2},{"$f":"IF($C$2=1,0.5*($O$31*D55*$F$6/$O$30)*(1-W55^2+(E55-F55)*(F55^2*(1-W55^2)+2*F55*(1-W55)+2*LN((1-F55)/(1-F55*W55)))/(F55^3)),$F$6*F55*(LN((1-E55+E55^2)/(1+E55)^2)/(6*E55)+ATAN((2-E55)/(E55*3^0.5))/(E55*3^0.5)-LN((W55^2-E55*W55+E55^2)/(W55+E55)^2)/(6*E55)-ATAN((2*W55-E55)/(E55*3^0.5))/(E55*3^0.5)))","v":3.8254468270961333},{"$f":"IF($C$2=1,($O$31*D55*$F$6/$O$30)*(1-W55^3-(E55-F55)*(-2*F55^3*(1-W55^3)-3*F55^2*(1-W55^2)-6*F55*(1-W55)-6*LN((1-F55)/(1-F55*W55)))/(2*F55^4))/3,$F$6*F55*(LN((1+E55^3)/(E55^3+W55^3)))/3)","v":2.5276172507990187},{"$f":"$I$35","v":0.66073778176593112},{"$f":"$J$35","v":0.15354841612232933},{"$f":"$K$35","v":0.6365191476987323},{"$f":"$L$35","v":2.1340626348999612E-4},{"$f":"$M$35","v":458.32156291626706},{"$f":"$N$35","v":0.15366182238581935},{"$f":"$O$35","v":1.9422167141878287E-2},{"$f":"$P$35","v":2.9740483717744983E-2},{"$f":"$Q$35","v":9.9999999999988987E-5},{"$f":"$R$35","v":1.9419193093506513E-2},null,null,null,null,{"$f":"IF(C55<$C$6,0,(C55-$C$6)/C55)","v":0},null,1,{"$f":"Z57+(Z58-Z57)*(Y54*Y54/AN56-Y57)/(Y58-Y57)","v":4.0138687861173784E-2},{"$f":"AA57+(AA58-AA57)*(Y54*Y54/AN56-Y57)/(Y58-Y57)","v":3.210578024372992E-4},6.2237513577017019E-2,-4.2370847395201951E-2,3.8254468270961333,2.5276172507990187,0.66073778176593112,0.15354841612232933,0.6365191476987323,2.1340626348999612E-4,458.32156291626706,0.15366182238581935,1.9422167141878287E-2,2.9740483717744983E-2,9.9999999999988987E-5,1.9419193093506513E-2]
[null,{"$f":"0.25*D36*$Q$31","v":5.6812825671214519E-6},{"$f":"C36","v":4.5181422537606569E-2},{"$f":"D36+B56","v":3.9696021033377386E-4},{"$f":"IF($C$2=1,D56/($O$31*$O$30),2^(1/3)*$O$30/D56)","v":7.6951303760975226E-2},{"$f":"IF($C$2=1,-($O$31-2)*D56/$O$30,3*($O$30/D56)^2)","v":-5.2387888929453327E-2},{"$f":"IF($C$2=1,0.5*($O$31*D56*$F$6/$O$30)*(1-W56^2+(E56-F56)*(F56^2*(1-W56^2)+2*F56*(1-W56)+2*LN((1-F56)/(1-F56*W56)))/(F56^3)),$F$6*F56*(LN((1-E56+E56^2)/(1+E56)^2)/(6*E56)+ATAN((2-E56)/(E56*3^0.5))/(E56*3^0.5)-LN((W56^2-E56*W56+E56^2)/(W56+E56)^2)/(6*E56)-ATAN((2*W56-E56)/(E56*3^0.5))/(E56*3^0.5)))","v":4.6518208260280476},{"$f":"IF($C$2=1,($O$31*D56*$F$6/$O$30)*(1-W56^3-(E56-F56)*(-2*F56^3*(1-W56^3)-3*F56^2*(1-W56^2)-6*F56*(1-W56)-6*LN((1-F56)/(1-F56*W56)))/(2*F56^4))/3,$F$6*F56*(LN((1+E56^3)/(E56^3+W56^3)))/3)","v":3.0669408712608042},{"$f":"H56/G56","v":0.65929901128189161},{"$f":"G56*C56*$D$6","v":0.21017588231001125},{"$f":"MAX(MIN($K$6,$Q$6*$J$6*D56*(C56-$I$6)/C56),-$K$6)","v":26.120954989711066},{"$f":"K56*$H$6","v":8.757592640061455E-3},{"$f":"MIN($O$6,$Q$6*$N$6*D56*(C$6-C56-$M$6)/C56)","v":458.33333333333337},{"$f":"M56*$L$6","v":0.15366576866258877},{"$f":"(0.5*$C$6-C56+I56*C56)*J56+(0.5*$C$6-$I$6)*L56+(0.5*$C$6-$M$6)*N56","v":2.3801685434786047E-2},{"$f":"0.1*$Q$6*D56*$B$6^2/C56+$R$6","v":3.2667435845044009E-2},{"$f":"(J56+L56-N56)","v":6.5267706287483934E-2},{"$f":"O56-P56*Q56","v":2.1669556826886489E-2},{"$f":"((R56-R55)*(Q56-Q57)-(R56-R57)*(Q56-Q55))/((Q56^2-Q55^2)*(Q56-Q57)-(Q56^2-Q57^2)*(Q56-Q55))","v":-5.375525588687402E-2},{"$f":"-(S56*(Q56^2-Q55^2)-(R56-R55))/(Q56-Q55)","v":3.8045742688404292E-2},{"$f":"R56-S56*Q56^2-T56*Q56","v":1.941538905679023E-2},{"$f":"S36*Q56^2+T36*Q56+U36","v":2.1672864127524047E-2},{"$f":"IF(C56<$C$6,0,(C56-$C$6)/C56)","v":0},null,{"$f":"VLOOKUP(Y54,Result,7)","v":1},{"$f":"Z57+(Z58-Z57)*(Y54-Y57)/(Y58-Y57)","v":4.0138687861173784E-2},{"$f":"AA57+(AA58-AA57)*(Y54-Y57)/(Y58-Y57)","v":3.210578024372992E-4},6.2237513577017019E-2,-4.2370847395201951E-2,3.8254468270961333,2.5276172507990187,0.66073778176593112,0.15354841612232933,0.6365191476987323,2.1340626348999612E-4,458.32156291626706,0.15366182238581935,1.9422167141878287E-2,2.9740483717744983E-2,9.9999999999988987E-5,1.9419193093506513E-2]
[null,{"$f":"0.5*D37*$Q$31","v":1.3170238781831326E-5},4.9415891915262342E-2,4.6669783999712749E-4,9.0470042879142551E-2,-6.1591348374255728E-2,5.3859320381305125,3.5437462999335572,0.65796342672820129,0.26615063545920603,51.025066755390959,1.710721331787721E-2,458.33333333333337,0.15366576866258877,2.7993716982102724E-2,{"$f":"0.1*$Q$6*D57*$B$6^2/C57+$R$6","v":3.511535981408101E-2},0.1295920801144945,2.3443044459827037E-2,-4.622016995004441E-2,3.657745745223312E-2,1.9479122153548717E-2,{"$f":"MAX(S37*Q57^2+T37*Q57+U37,S38*Q57^2+T38*Q57+U38)","v":2.349894064340877E-2},0,null,{"$f":"INDEX(Result,Y56,1)","v":9.9999999999988987E-5},{"$f":"INDEX(Result,Y56,3)","v":4.0138687861173784E-2},{"$f":"INDEX(Result,Y56,4)","v":3.210578024372992E-4},6.2237513577017019E-2,-4.2370847395201951E-2,3.8254468270961333,2.5276172507990187,0.66073778176593112,0.15354841612232933,0.6365191476987323,2.1340626348999612E-4,458.32156291626706,0.15366182238581935,1.9422167141878287E-2,2.9740483717744983E-2,9.9999999999988987E-5,1.9419193093506513E-2]
[null,{"$f":"0.75*D38*$Q$31","v":2.228403095374944E-5},5.3135963724627852E-2,5.3386286518635048E-4,0.10349007894548709,-7.0455294401990845E-2,6.0706482769390941,3.9863775703367832,0.65666422900500676,0.32256974662841026,75.727924852618557,2.5389359523709937E-2,458.33333333333337,0.15366576866258877,3.2099239828826877E-2,3.7356753058395836E-2,0.19429333748953145,2.484107159933889E-2,9.5644802145039131E-3,1.8509622737793895E-2,2.0883717040795478E-2,{"$f":"MAX(S38*Q58^2+T38*Q58+U38,S39*Q58^2+T39*Q58+U39)","v":2.4979069862182977E-2},0,null,{"$f":"INDEX(Result,Y56+1,1)","v":6.3438967303928701E-2},{"$f":"INDEX(Result,Y56+1,3)","v":4.5181422537606569E-2},{"$f":"INDEX(Result,Y56+1,4)","v":3.9334484870015113E-4},7.6250460744389861E-2,-5.1910760091923788E-2,4.613110708371468,3.0417370707038054,0.6593678892604784,0.20842690412768886,25.883055331143311,8.6778318388286233E-3,458.33333333333337,0.15366576866258877,2.3667860626519786E-2,3.2369913344933235E-2,6.3438967303928701E-2,2.1614346752199563E-2]
[null,{"$f":"D39*$Q$31","v":3.1373379428965284E-5},5.7428181372141097E-2,5.7155696114446087E-4,0.11079713328634659,-7.5429883947601112E-2,6.4454853270527872,4.2277831784117064,0.65592937752367364,0.37015250039346165,99.526673918419959,3.3368384400228712E-2,458.33333333333337,0.15366576866258877,3.535145983829923E-2,3.7005171866198554E-2,0.24985511613110159,2.6105528324218818E-2,-0.11376760173271268,7.3287376216463349E-2,1.4896538379991907E-2,2.5761690027106765E-2,0]
[null,3.3034717586264649E-5,6.2195419634221871E-2,6.0182304678465485E-4,0.11666425721747299,-7.9424179324245059E-2,6.7416072213182527,4.4180198229345731,0.65533628375203301,0.41929709013898919,123.23291952664792,4.1316395571485004E-2,431.98487566494191,0.1448319010247261,3.8055888997505713E-2,3.5978113128415021E-2,0.31578158468574813,2.66946634198117E-2,-3.8141136797691697E-2,3.0510272096176915E-2,2.086343957919444E-2,2.6010156621514943E-2,0]
[null,3.4696055743564009E-5,6.7505252560478693E-2,6.3208913242484882E-4,0.12253138114859941,-8.3418474700889006E-2,7.0334484935283292,4.6050830320831304,0.65474042161827084,0.47479471692674824,147.77785507924415,4.9545594964496065E-2,389.4935433720496,0.13058579941392295,4.0672132098200642E-2,3.4815186619643841E-2,0.39375451247732135,2.6963495263975817E-2,3.0752774078345721E-3,1.2657384217312998E-3,2.5988305994270822E-2,2.6435303261816728E-2,0]
[null,3.6357393900863374E-5,7.3437125604676246E-2,6.623552180650428E-4,0.12839850507972581,-8.7412770077532967E-2,7.3210447096702529,4.7890009588081739,0.65414174461773988,0.53763647990150487,173.04425813256111,5.8016681320554382E-2,344.47707482663475,0.11549309343245438,4.3407431071848225E-2,3.3535382375755901E-2,0.48016006778960485,2.730507959695495E-2,1.4244206113127118E-3,2.7084462461445039E-3,2.5676186434754809E-2,2.6936554538125886E-2,0]
[null,3.801873205816274E-5,8.0084861800030091E-2,6.9262130370523667E-4,0.13426562901085221,-9.1407065454176914E-2,7.6044310174780163,4.9698014108871629,0.65354020563334414,0.60899980710258916,198.92014639001727,6.6692110249083669E-2,297.32740806673263,9.9685188447337439E-2,4.6231426412788906E-2,3.21568415287974E-2,0.57600672890433546,2.7708869311891225E-2,-8.9661152889245962E-4,5.1598433266886812E-3,2.5034245972538446E-2,2.7496200024634324E-2,0]
[null,3.96800702154621E-5,8.7559791299448214E-2,7.2288738934543064E-4,0.14013275294197861,-9.5401360830820861E-2,7.8836421528130662,5.1475118562928097,0.65293575691484906,0.69029006157984474,225.29877770209706,7.5536094227638809E-2,248.41814061564787,8.3287340787130001E-2,4.9090140490996331E-2,3.0696856306989879E-2,0.68253881502035363,2.813834456237339E-2,-3.6227160906740518E-3,8.5907700751916716E-3,2.3962486278174652E-2,2.8067895703116894E-2,0]
[null,4.1341408372761465E-5,9.5994684279247358E-2,7.5315347498562462E-4,0.14599987687310501,-9.9395656207464808E-2,8.1587124459147482,5.3221594285967537,0.65232835007706136,0.78319302537075219,252.0786500663508,8.4514602601905867E-2,198.10452948195442,6.6418657741930912E-2,5.1895257650962846E-2,2.917187003473018E-2,0.8012889702307272,2.8520159951129293E-2,-6.54567054305648E-3,1.2927931106660077E-2,2.2363890849434964E-2,2.8565228030878513E-2,0]
[null,4.3002746530060825E-5,0.10554872685841464,7.834195606258186E-4,0.15186700080423143,-0.10338995158410877,8.4296758275442851,5.4937709321256056,0.65171793607703166,0.88974155142645217,279.16350162739468,9.3595361585702072E-2,146.72349115949541,4.9192097563379798E-2,5.4508565036786943E-2,2.7597477132590482E-2,0.93414481544877437,2.8728524853911436E-2,-9.5004638749578482E-3,1.8055779284542214E-2,2.0152169130149989E-2,2.8845306151724901E-2,0]
[null,4.466408468736019E-5,0.11641386182692361,8.1368564626601257E-4,0.15773412473535783,-0.10738424696075273,8.6965658350137076,5.662372847062449,0.65110446519761489,1.0124008134860303,306.46231067691104,0.10274785426097588,94.593601627382796,3.1714469464657051E-2,5.67192379491369E-2,2.5988423117318242E-2,1.0834341982823492,2.856249158440274E-2,-1.2358221808510731E-2,2.3821531717602134E-2,1.7259876794585467E-2,2.8684958665871212E-2,0]
[null,4.6325422844659556E-5,0.12882293018018509,8.4395173190620644E-4,0.16360124866648421,-0.11137854233739666,8.9594156180935443,5.8279913345220953,0.6504878870394698,1.1541781726249245,333.88929565364782,0.11194332057780686,42.015096349998231,1.4086433620484083E-2,5.8210449590724918E-2,2.4358604601836267E-2,1.2520350595822474,2.7712622626724442E-2,-1.5022363461979786E-2,3.0043552647875671E-2,1.3645975032930822E-2,2.7745854822078642E-2,0]
[null,4.7986761001958916E-5,0.14306020987399781,8.7421781754640042E-4,0.16946837259761063,-0.11537283771404061,9.2182579448261333,5.9906522413976644,0.64986815049583158,1.3187659162594745,361.36391514341938,0.12115475735440588,-10.730129723007765,-3.5974988328769716E-3,5.8509895211653465E-2,2.2721069295242681E-2,1.4435181724467574,2.5711618786548616E-2,-1.7425928031290436E-2,3.6522488891071389E-2,9.301927794254948E-3,2.5522902453668186E-2,0]
[null,4.9648099159258281E-5,0.15947517602038869,9.044839031865944E-4,0.17533549652873703,-0.11936713309068456,9.4731252072165937,6.1503811052574022,0.6492452037445956,1.5107283098840474,388.81086787910579,0.13035691827711496,-63.378522156715405,-2.1248965797623094E-2,5.6915815136554207E-2,2.1088016002810895E-2,1.6623341939587855,2.1860485052331589E-2,-1.9528868771131112E-2,4.3053912364316181E-2,4.2556909695660172E-3,2.1244710344410507E-2,0]
[null,5.1309437316557647E-5,0.17850063403985802,9.3474998882678837E-4,0.18120262045986343,-0.12336142846732852,9.7240494268302502,6.3072031590472406,0.64861899422730518,1.7357489881241177,416.16009274065289,0.13952631390040723,-115.68486703093565,-3.8785754214410391E-2,5.2385253507657686E-2,1.947079462598968E-2,1.9140610562389353,1.5116963780024494E-2,-8.0997930029464947E-3,2.1790200728308523E-3,4.062082874608252E-2,1.4227785819482947E-2,0]
[null,5.2970775473857006E-5,0.20067685341513844,9.6501607446698224E-4,0.18706974439098983,-0.12735572384397245,9.842943108011319,6.4523666839191405,0.65553225423679051,1.9752508512599347,443.3467687550725,0.14864121164688698,-167.42229094021022,-5.6131800062354117E-2,4.5855467609532748E-2,1.7879906162403078E-2,2.1800238629691759,6.8768455078444188E-3,6.4867757319684175E-3,-5.7539631007776842E-2,0.10148618627827859,{"$f":"S52*Q72^2+T52*Q72+U52","v":6.348743045222649E-3},0.10303556719799878]
[null,5.4632113631156393E-5,0.22668403164997661,9.9528216010717654E-4,0.19293686832211629,{"$f":"IF($C$2=1,-($O$31-2)*D73/$O$30,3*($O$30/D73)^2)","v":-0.13135001922061645},9.698304613568963,6.5417960192813025,0.67452985649972597,2.1984507899733812,458.33333333333337,0.15366576866258877,-218.38226099381166,-7.321718835902867E-2,3.9683753617363822E-2,1.6325002705850512E-2,2.4253337469949985,9.0173635079911219E-5,null,null,null,null,0.20594318580878934]
[null,"De","hc","e0","a'","b'","N'","tN'","t","Nc","sac","Nac","sat","Nat","Mtot","u","N","Mo","a''","b''","c''",null,"x"]
[null,null,{"$f":"$C$35","v":4.0138687861173784E-2},{"$f":"$D$35","v":3.210578024372992E-4},{"$f":"$E$35","v":6.2237513577017019E-2},{"$f":"$F$35","v":-4.2370847395201951E-2},{"$f":"IF($C$2=1,0.5*($O$31*D75*$F$6/$O$30)*(1-W75^2+(E75-F75)*(F75^2*(1-W75^2)+2*F75*(1-W75)+2*LN((1-F75)/(1-F75*W75)))/(F75^3)),$F$6*F75*(LN((1-E75+E75^2)/(1+E75)^2)/(6*E75)+ATAN((2-E75)/(E75*3^0.5))/(E75*3^0.5)-LN((W75^2-E75*W75+E75^2)/(W75+E75)^2)/(6*E75)-ATAN((2*W75-E75)/(E75*3^0.5))/(E75*3^0.5)))","v":3.8254468270961333},{"$f":"IF($C$2=1,($O$31*D75*$F$6/$O$30)*(1-W75^3-(E75-F75)*(-2*F75^3*(1-W75^3)-3*F75^2*(1-W75^2)-6*F75*(1-W75)-6*LN((1-F75)/(1-F75*W75)))/(2*F75^4))/3,$F$6*F75*(LN((1+E75^3)/(E75^3+W75^3)))/3)","v":2.5276172507990187},{"$f":"$I$35","v":0.66073778176593112},{"$f":"$J$35","v":0.15354841612232933},{"$f":"$K$35","v":0.6365191476987323},{"$f":"$L$35","v":2.1340626348999612E-4},{"$f":"$M$35","v":458.32156291626706},{"$f":"$N$35","v":0.15366182238581935},{"$f":"$O$35","v":1.9422167141878287E-2},{"$f":"$P$35","v":2.9740483717744983E-2},{"$f":"$Q$35","v":9.9999999999988987E-5},{"$f":"$R$35","v":1.9419193093506513E-2},null,null,null,null,{"$f":"IF(C75<$C$6,0,(C75-$C$6)/C75)","v":0}]
[null,{"$f":"IF(R56>$Q$29*V56,B56,-0.7*B56)","v":-3.9768977969850163E-6},{"$f":"IF(Q56>Q55,C56,(1-$T$6)*C56+$T$6*C57)","v":4.5181422537606569E-2},{"$f":"D56+B76","v":3.9298331253678884E-4},{"$f":"IF($C$2=1,D76/($O$31*$O$30),2^(1/3)*$O$30/D76)","v":7.6180376442731332E-2},{"$f":"IF($C$2=1,-($O$31-2)*D76/$O$30,3*($O$30/D76)^2)","v":-5.186304720817083E-2},{"$f":"IF($C$2=1,0.5*($O$31*D76*$F$6/$O$30)*(1-W76^2+(E76-F76)*(F76^2*(1-W76^2)+2*F76*(1-W76)+2*LN((1-F76)/(1-F76*W76)))/(F76^3)),$F$6*F76*(LN((1-E76+E76^2)/(1+E76)^2)/(6*E76)+ATAN((2-E76)/(E76*3^0.5))/(E76*3^0.5)-LN((W76^2-E76*W76+E76^2)/(W76+E76)^2)/(6*E76)-ATAN((2*W76-E76)/(E76*3^0.5))/(E76*3^0.5)))","v":4.6092361367354666},{"$f":"IF($C$2=1,($O$31*D76*$F$6/$O$30)*(1-W76^3-(E76-F76)*(-2*F76^3*(1-W76^3)-3*F76^2*(1-W76^2)-6*F76*(1-W76)-6*LN((1-F76)/(1-F76*W76)))/(2*F76^4))/3,$F$6*F76*(LN((1+E76^3)/(E76^3+W76^3)))/3)","v":3.0392140411766437},{"$f":"H76/G76","v":0.65937477512905096},{"$f":"G76*C76*$D$6","v":0.20825184546945044},{"$f":"MAX(MIN($K$6,$Q$6*$J$6*D76*(C76-$I$6)/C76),-$K$6)","v":25.859265365286536},{"$f":"K76*$H$6","v":8.6698557587053405E-3},{"$f":"MIN($O$6,$Q$6*$N$6*D76*(C$6-C76-$M$6)/C76)","v":458.33333333333337},{"$f":"M76*$L$6","v":0.15366576866258877},{"$f":"(0.5*$C$6-C76+I76*C76)*J76+(0.5*$C$6-$I$6)*L76+(0.5*$C$6-$M$6)*N76","v":2.3654465528545325E-2},{"$f":"0.1*$Q$6*D76*$B$6^2/C76+$R$6","v":3.2340161094922153E-2},{"$f":"(J76+L76-N76)","v":6.3255932565567025E-2},{"$f":"O76-P76*Q76","v":2.1608758479165355E-2},{"$f":"((R76-R75)*(Q76-Q77)-(R76-R77)*(Q76-Q75))/((Q76^2-Q75^2)*(Q76-Q77)-(Q76^2-Q77^2)*(Q76-Q75))","v":-5.0612228905779065E-2},{"$f":"-(S76*(Q76^2-Q75^2)-(R76-R75))/(Q76-Q75)","v":3.787578066039482E-2},{"$f":"R76-S76*Q76^2-T76*Q76","v":1.9415406021562762E-2},{"$f":"S56*Q76^2+T56*Q76+U56","v":2.1606916386241595E-2},{"$f":"IF(C76<$C$6,0,(C76-$C$6)/C76)","v":0}]
[null,{"$f":"IF(R57>$Q$29*V57,B57,-0.7*B57)","v":-9.2191671472819274E-6},{"$f":"IF(Q57>Q56,C57,(1-$T$6)*C57+$T$6*C58)","v":4.9415891915262342E-2},{"$f":"D57+B77","v":4.5747867284984554E-4},8.8682894159684764E-2,-6.0374670500854322E-2,5.2902477039935309,3.4817276375444286,0.65814075868623756,0.26142230874550909,50.017115616979737,1.6769276765604572E-2,458.33333333333337,0.15366576866258877,2.7633479976651186E-2,{"$f":"0.1*$Q$6*D77*$B$6^2/C77+$R$6","v":3.4421689640752255E-2},0.1245258168485249,2.3347090956830102E-2,-4.282419827661111E-2,3.6413330644359122E-2,1.9476752312919829E-2,{"$f":"MAX(S57*Q77^2+T57*Q77+U57,S58*Q77^2+T58*Q77+U58)","v":2.3336956256856466E-2},0]
[null,-1.5598821667624608E-5,5.3135963724627852E-2,5.1826404351872589E-4,0.10046622508504759,-6.8396676647161578E-2,5.9135554831794241,3.8850114876989608,0.65696711542650199,0.31422246963779599,73.515247268042714,2.4647513410612495E-2,458.33333333333337,0.15366576866258877,3.1468233097717228E-2,3.6265234305099515E-2,0.18520421438581972,2.4751758868723595E-2,-4.4709733111814406E-2,3.6997337407760088E-2,1.9433266777211588E-2,{"$f":"MAX(S58*Q78^2+T58*Q78+U58,S59*Q78^2+T59*Q78+U59)","v":2.463984459838784E-2},0]
[null,3.1373379428965284E-5,5.7428181372141097E-2,6.0293034057342613E-4,0.11687890770000055,-7.95703118143746E-2,6.7523595427944425,4.4249193406163077,0.65531453302693488,0.387775728513507,104.98980063442244,3.5200011089935576E-2,458.33333333333337,0.15366576866258877,3.6667216040251506E-2,3.9036425751144022E-2,0.26930997094085385,2.615431735557611E-2,2.522769014844041E-2,5.2097864507786159E-3,2.2921559527393269E-2,2.6382238797186638E-2,0]
[null,3.3034717586264649E-5,6.2195419634221871E-2,6.3485776437091949E-4,0.1230680844058485,-8.3783858381926798E-2,7.0599326198752097,4.6220374550972823,0.65468577449100085,0.43909547188247006,129.99730768965287,4.35842971858856E-2,455.69699244972048,0.15278188062985351,3.9906464086340368E-2,3.7952990649031397E-2,0.3298978884385021,2.7385852611298694E-2,-0.13205405565517339,9.9454244673210027E-2,8.9478957328617895E-3,2.6777714194133405E-2,0]
[null,3.4696055743564009E-5,6.7505252560478693E-2,6.6678518816841285E-4,0.12925726111169647,-8.7997404949478983E-2,7.3627854116793925,4.8156583573624534,0.65405387881106813,0.4970266887640255,155.88954128689051,5.2265206229036493E-2,410.87326499572686,0.13775379510212921,4.2626198187063875E-2,3.6726229847113608E-2,0.41153809989093276,2.7511955339625079E-2,3.6658819015173969E-3,-1.1734013651441846E-3,2.7373987723742714E-2,2.703206027010965E-2,0]
[null,3.6357393900863374E-5,7.3437125604676246E-2,6.9871261196590621E-4,0.13544643781754442,-9.2210951517031167E-2,7.660959119568659,5.0058146426493915,0.65341879058757302,0.56259881711605353,182.54284451584286,6.120127967210709E-2,363.38579383073159,0.1218326341746859,4.5466364754769922E-2,3.5376175764858027E-2,0.50196746261347469,2.770867556911584E-2,2.036689444450067E-3,3.1487500677704339E-4,2.7037431205634059E-2,2.7398399032132655E-2,0]
[null,3.801873205816274E-5,8.0084861800030091E-2,7.3064003576339936E-4,0.14163561452339235,-9.6424498084583324E-2,7.9544944360125402,5.1925384864468889,0.65278045364374215,0.63703458759717257,209.83908825062036,7.0352912272338267E-2,313.64803089534814,0.10515701619718049,4.8394569811148758E-2,3.3921965320658762E-2,0.60223048367233045,2.7965728228972413E-2,-2.5040164161877024E-4,2.8402762869828252E-3,2.6346043323772782E-2,2.7822217588904231E-2,0]
[null,3.96800702154621E-5,8.7559791299448214E-2,7.6256745956089272E-4,0.1478247912292403,-0.10063804465213552,8.2434315527398248,5.3758616513732038,0.652138811001161,0.72179314634918534,237.66567114973628,7.968235209149295E-2,262.05408088478043,8.785907295344289E-2,5.1353607361908624E-2,3.2381839931836687E-2,0.71361642548723547,2.8245394499051502E-2,6.4101698809341575E-3,-5.9240161642046723E-3,2.9208500965617074E-2,2.8256102565898202E-2,0]
[null,-2.8938985860933023E-5,9.5994684279247358E-2,7.2421448912469164E-4,0.14039001312971675,-9.55765016989088E-2,7.8957899202244812,5.1552337685057124,0.65290918585624513,0.75795386052721281,242.39284135352179,8.1267234076140768E-2,190.49260924514684,6.3866603398249414E-2,5.0218370811481117E-2,2.8050977198793729E-2,0.77535449120510413,2.8468919657704428E-2,-6.0814057329755733E-3,1.2675576628570174E-2,2.2296840970223272E-2,2.8452529509405005E-2,0]
[null,-3.0101922571042577E-5,0.10554872685841464,7.5331763805477599E-4,0.14603170011853805,-9.9417321241916989E-2,8.1601931967173442,5.323098413442767,0.6523250473511002,0.86129800283221236,268.43699116863604,8.9999076186329463E-2,141.08582343684114,4.7301952376326846E-2,5.2775121522320168E-2,2.6537078386434924E-2,0.90399512664221493,2.8785731985660545E-2,-1.0082919907839688E-2,1.9395517928938857E-2,1.9492112933924076E-2,2.8710658233720956E-2,0]
[null,-3.126485928115213E-5,0.11641386182692361,7.8242078698486045E-4,0.15167338710735939,-0.10325814078492518,8.4207992757469192,5.4881559570172955,0.65173812809241904,0.98029776335906027,294.68687742174711,9.8799895710089097E-2,90.95896009554653,3.0495880406905949E-2,5.4947856187252626E-2,2.4989850271120627E-2,1.0486017786622435,2.874345474445239E-2,-1.2968018046401764E-2,2.5028951625794819E-2,1.6757239265487136E-2,2.8650500631433991E-2,0]
[null,-3.2427795991261687E-5,0.12882293018018509,8.115239359149448E-4,0.1573150740961807,-0.10709896032793335,8.6776379801122303,5.650429946705291,0.65114838388685725,1.1178787516409203,321.06001460143966,0.10764203766665932,40.400718511216368,1.3545179922647872E-2,5.6430879741689477E-2,2.3422655505700114E-2,1.2119756093849319,2.8043192561755251E-2,-1.4583431825342863E-2,2.8680719486808899E-2,1.4704242557988113E-2,2.7991905544152457E-2,0,null,"hc","e0","a'","b'","N'","tN'","t'","Nc","sac","Nac","sat","Nat","Mtot","N","u","Mo",null,"N","A","B1","B2","B3","C1","C2","x"]
[null,4.7986761001958916E-5,0.14306020987399781,9.2220457854835932E-4,0.17877067475848007,-0.12170577748989643,9.6205167922962733,6.2425509292294619,0.64887895983178867,1.3763131514022251,381.19957106654869,0.12780507294936072,-11.319118142373469,-3.794969432575577E-3,6.0934483969177243E-2,2.396825334948656E-2,1.5079131937841614,2.4792438511525038E-2,-1.4422444837533663E-2,2.8242852781210737E-2,1.4998454973428332E-2,2.4772468692663724E-2,0,null,null,null,null,null,null,null,null,null,null,null,null,null,null,null,null,null,null,null,null,null,null,null,null,null,0]
[null,4.9648099159258281E-5,0.15947517602038869,9.5413200234585268E-4,0.18495985146432806,-0.12591932405744863,9.8826816822424632,6.4061147544640029,0.64821623932041916,1.5760424008290879,410.15311670702852,0.13751235043230983,-66.857437747714826,-2.241534449959369E-2,5.918146285473691E-2,2.2245559996563531E-2,1.7359700957609914,2.0563835937245638E-2,-1.866539696409393E-2,4.200649428289966E-2,3.8917122383343578E-3,2.0143949255957291E-2,0,null,{"$f":"0.5*(-(AR90+AS90+AT90)+SQRT(MAX((AR90+AS90+AT90)^2+4*AQ90*(AU90+AV90),0)))/AQ90","v":3.9505703529691058E-2},{"$f":"0.05*O30","v":1.1231642345982336E-4},{"$f":"IF($C$2=1,Z90/($O$31*$O$30),2^(1/3)*$O$30/Z90)","v":2.1772699111923668E-2},{"$f":"IF($C$2=1,-($O$31-2)*Z90/$O$30,3*($O$30/Z90)^2)","v":-1.4822695484313765E-2},{"$f":"IF($C$2=1,0.5*($O$31*Z90*$F$6/$O$30)*(1-AW89^2+(AA90-AB90)*(AB90^2*(1-AW89^2)+2*AB90*(1-AW89)+2*LN((1-AB90)/(1-AB90*AW89)))/(AB90^3)),$F$6*AB90*(LN((1-AA90+AA90^2)/(1+AA90)^2)/(6*AA90)+ATAN((2-AA90)/(AA90*3^0.5))/(AA90*3^0.5)-LN((AW89^2-AA90*AW89+AA90^2)/(AW89+AA90)^2)/(6*AA90)-ATAN((2*AW89-AA90)/(AA90*3^0.5))/(AA90*3^0.5)))","v":1.4006518976647733},{"$f":"IF($C$2=1,($O$31*Z90*$F$6/$O$30)*(1-AW89^3-(AA90-AB90)*(-2*AB90^3*(1-AW89^3)-3*AB90^2*(1-AW89^2)-6*AB90*(1-AW89)-6*LN((1-AB90)/(1-AB90*AW89)))/(2*AB90^4))/3,$F$6*AB90*(LN((1+AA90^3)/(AA90^3+AW89^3)))/3)","v":0.93090103418743253},{"$f":"AD90/AC90","v":0.66461983576324035},{"$f":"AC90*Y90*$D$6","v":5.5333738617443715E-2},{"$f":"MAX(MIN($K$6,$Q$6*$J$6*Z90*(Y90-$I$6)/Y90),-$K$6)","v":-0.80635064763500353},{"$f":"AG90*$H$6","v":-2.703458009027107E-4},{"$f":"MIN($O$6,$Q$6*$N$6*Z90*(C$6-Y90-$M$6)/Y90)","v":163.93732488482141},{"$f":"AI90*$L$6","v":5.4963392816540987E-2},{"$f":"(0.5*$C$6-Y90+AE90*Y90)*AF90+(0.5*$C$6-$I$6)*AH90+(0.5*$C$6-$M$6)*AJ90","v":6.9815483665284315E-3},{"$f":"AF90+AH90-AJ90","v":1.0000000000001674E-4},null,null,0,{"$f":"AO90*$AP$123","v":0},{"$f":"AC90*$D$6","v":1.4006518976647733},{"$f":"$Q$6*Z90*$H$6*$J$6","v":2.1606873005352606E-2},{"$f":"$Q$6*Z90*$L$6*$N$6","v":2.1606873005352606E-2},{"$f":"-(AP90+0.0001)","v":-1E-4},{"$f":"$I$6*$Q$6*Z90*$H$6*$J$6","v":8.6427492021410419E-4},{"$f":"($C$6-$M$6)*$Q$6*Z90*$L$6*$N$6","v":3.0249622207493645E-3},0]
[null,5.1309437316557647E-5,0.17850063403985802,9.8605942614334594E-4,0.19114902817017598,-0.13013287062500078,10.140516345350813,6.566489232411544,0.64754979024535808,1.810088597136664,439.00357008471735,0.14718506409313908,-122.03493443328787,-4.0914746189192289E-2,5.4344135267806445E-2,2.0539567590212637E-2,1.9981884074189955,1.3302209415644639E-2,-8.9476300633471659E-3,5.7188123785551076E-3,3.7600656593976822E-2,1.2634416900558817E-2,0,null,{"$f":"0.5*(-(AR91+AS91+AT91)+SQRT(MAX((AR91+AS91+AT91)^2+4*AQ91*(AU91+AV91),0)))/AQ91","v":4.0116826317324557E-2},{"$f":"MIN(Z90*$O$6/AI90,$O$30)","v":3.1401244828526119E-4},6.0871761611596423E-2,-4.1441053372583692E-2,{"$f":"IF($C$2=1,0.5*($O$31*Z91*$F$6/$O$30)*(1-AW90^2+(AA91-AB91)*(AB91^2*(1-AW90^2)+2*AB91*(1-AW90)+2*LN((1-AB91)/(1-AB91*AW90)))/(AB91^3)),$F$6*AB91*(LN((1-AA91+AA91^2)/(1+AA91)^2)/(6*AA91)+ATAN((2-AA91)/(AA91*3^0.5))/(AA91*3^0.5)-LN((AW90^2-AA91*AW90+AA91^2)/(AW90+AA91)^2)/(6*AA91)-ATAN((2*AW90-AA91)/(AA91*3^0.5))/(AA91*3^0.5)))","v":3.7472739770696681},{"$f":"IF($C$2=1,($O$31*Z91*$F$6/$O$30)*(1-AW90^3-(AA91-AB91)*(-2*AB91^3*(1-AW90^3)-3*AB91^2*(1-AW90^2)-6*AB91*(1-AW90)-6*LN((1-AB91)/(1-AB91*AW90)))/(2*AB91^4))/3,$F$6*AB91*(LN((1+AA91^3)/(AA91^3+AW90^3)))/3)","v":2.4764630748449856},0.66087056617663054,0.15032873930153393,{"$f":"MAX(MIN($K$6,$Q$6*$J$6*Z91*(Y91-$I$6)/Y91),-$K$6)","v":0.52470348422494328},1.7591774012370418E-4,448.60653358735129,0.15040465704165767,1.9013423355529004E-2,9.9999999999961231E-5,null,null,null,{"$f":"AP90","v":0},3.7472739770696681,{"$f":"IF(AG90<$K$6,$Q$6*Z91*$H$6*$J$6,$H$6*$K$6)","v":6.0408147652836267E-2},{"$f":"IF(AI90<$O$6,$Q$6*Z91*$L$6*$N$6,-$L$6*$O$6)","v":6.0408147652836267E-2},-1E-4,{"$f":"IF(AG90<$K$6,$I$6*$Q$6*Z91*$H$6*$J$6,0)","v":2.4163259061134507E-3},{"$f":"IF(AI90<$O$6,($C$6-$M$6)*$Q$6*Z91*$L$6*$N$6,0)","v":8.4571406713970752E-3},0]
[null,5.2970775473857006E-5,0.20067685341513844,1.0179868499408393E-3,0.19733820487602394,-0.13434641719255297,10.259065962097326,6.7144570283353024,0.6544900922893202,2.0587570762520411,458.33333333333337,0.15366576866258877,-176.61228146716709,-5.921293524415791E-2,4.7265125024640788E-2,1.8861353539168711E-2,2.2716357801587876,4.4189994628405643E-3,5.8070564585162689E-3,-5.7281105012625316E-2,0.10457448460555759,{"$f":"S72*Q92^2+T72*Q92+U72","v":4.250999393529617E-3},0.10303556719799878,null,4.0137952592590641E-2,{"$f":"IF(ABS(Z91-Z90)/Z91<0.0001,Z91,MIN(Z91*$O$6/AI91,$O$30))","v":3.2082094520524988E-4},6.2191598464275397E-2,-4.2339588719793889E-2,3.8228228196688274,2.5259005432304553,0.66074224791021707,0.15344028110574107,0.63268906666374058,2.1212214927992628E-4,457.99520243022147,0.1535524032550209,1.9408438142575243E-2,1.0000000000010001E-4,null,null,null,{"$f":"AP91","v":0},3.8228228196688274,{"$f":"IF(AG91<$K$6,$Q$6*Z92*$H$6*$J$6,$H$6*$K$6)","v":6.1717932311000284E-2},{"$f":"IF(AI91<$O$6,$Q$6*Z92*$L$6*$N$6,-$L$6*$O$6)","v":6.1717932311000284E-2},-1E-4,{"$f":"IF(AG91<$K$6,$I$6*$Q$6*Z92*$H$6*$J$6,0)","v":2.4687172924400111E-3},{"$f":"IF(AI91<$O$6,($C$6-$M$6)*$Q$6*Z92*$L$6*$N$6,0)","v":8.6405105235400383E-3},0]
[null,null,{"$f":"C73","v":0.22668403164997661},{"$f":"D73+(D92-D72)","v":1.0482529355810336E-3},0.20320532880715042,-0.13834071256919697,10.088418390131002,6.7958640900143861,0.67363027852437618,2.2868833536466622,458.33333333333337,0.15366576866258877,-230.00497280181872,-7.7113943873038451E-2,4.0457049520627633E-2,1.7193849840464674E-2,2.5176630661822896,-2.8312711881945327E-3,null,null,null,null,0.20594318580878934,null,4.0138687861173784E-2,{"$f":"IF(ABS(Z92-Z91)/Z92<0.001,Z92,MIN(Z92*$O$6/AI92,$O$30))","v":3.210578024372992E-4},6.2237513577017019E-2,{"$f":"IF($C$2=1,-($O$31-2)*Z93/$O$30,3*($O$30/Z93)^2)","v":-4.2370847395201951E-2},{"$f":"IF($C$2=1,0.5*($O$31*Z93*$F$6/$O$30)*(1-AW92^2+(AA93-AB93)*(AB93^2*(1-AW92^2)+2*AB93*(1-AW92)+2*LN((1-AB93)/(1-AB93*AW92)))/(AB93^3)),$F$6*AB93*(LN((1-AA93+AA93^2)/(1+AA93)^2)/(6*AA93)+ATAN((2-AA93)/(AA93*3^0.5))/(AA93*3^0.5)-LN((AW92^2-AA93*AW92+AA93^2)/(AW92+AA93)^2)/(6*AA93)-ATAN((2*AW92-AA93)/(AA93*3^0.5))/(AA93*3^0.5)))","v":3.8254468270961333},2.5276172507990187,0.66073778176593112,0.15354841612232933,0.6365191476987323,2.1340626348999612E-4,458.32156291626706,0.15366182238581935,1.9422167141878287E-2,9.9999999999988987E-5,null,null,null,{"$f":"AP92","v":0},3.8254468270961333,{"$f":"IF(AG92<$K$6,$Q$6*Z93*$H$6*$J$6,$H$6*$K$6)","v":6.1763497723213739E-2},{"$f":"IF(AI92<$O$6,$Q$6*Z93*$L$6*$N$6,-$L$6*$O$6)","v":6.1763497723213739E-2},-1E-4,{"$f":"IF(AG92<$K$6,$I$6*$Q$6*Z93*$H$6*$J$6,0)","v":2.4705399089285499E-3},{"$f":"IF(AI92<$O$6,($C$6-$M$6)*$Q$6*Z93*$L$6*$N$6,0)","v":8.6468896812499224E-3},{"$f":"IF(Y93<=$C$6,0,(Y93-$C$6)/Y93)","v":0}]
[null,"De","hc","e0","a'","b'","N'","tN'","t","Nc","sac","Nac","sat","Nat","Mtot","u","N","Mo","a''","b''","c''",null,"x",null,4.6030443402419872E-2,{"$f":"Z93","v":3.210578024372992E-4},6.2237513577017019E-2,-4.2370847395201951E-2,3.8254468270961333,2.5276172507990187,0.66073778176593112,0.17608701366361523,24.134609744478787,8.0916291441969542E-3,376.07824582753682,0.126088042303345,1.9806971263806494E-2,5.8090600504467182E-2,null,null,2.5000000000000001E-2,{"$f":"AO94*$AP$123","v":5.7990600504467242E-2},3.8254468270961333,{"$f":"$Q$6*Z94*$H$6*$J$6","v":6.1763497723213739E-2},{"$f":"$Q$6*Z94*$L$6*$N$6","v":6.1763497723213739E-2},-5.8090600504467245E-2,{"$f":"$I$6*$Q$6*Z94*$H$6*$J$6","v":2.4705399089285499E-3},{"$f":"($C$6-$M$6)*$Q$6*Z94*$L$6*$N$6","v":8.6468896812499224E-3},0]
[null,null,{"$f":"$C$35","v":4.0138687861173784E-2},{"$f":"$D$35","v":3.210578024372992E-4},{"$f":"$E$35","v":6.2237513577017019E-2},{"$f":"$F$35","v":-4.2370847395201951E-2},{"$f":"IF($C$2=1,0.5*($O$31*D95*$F$6/$O$30)*(1-W95^2+(E95-F95)*(F95^2*(1-W95^2)+2*F95*(1-W95)+2*LN((1-F95)/(1-F95*W95)))/(F95^3)),$F$6*F95*(LN((1-E95+E95^2)/(1+E95)^2)/(6*E95)+ATAN((2-E95)/(E95*3^0.5))/(E95*3^0.5)-LN((W95^2-E95*W95+E95^2)/(W95+E95)^2)/(6*E95)-ATAN((2*W95-E95)/(E95*3^0.5))/(E95*3^0.5)))","v":3.8254468270961333},{"$f":"IF($C$2=1,($O$31*D95*$F$6/$O$30)*(1-W95^3-(E95-F95)*(-2*F95^3*(1-W95^3)-3*F95^2*(1-W95^2)-6*F95*(1-W95)-6*LN((1-F95)/(1-F95*W95)))/(2*F95^4))/3,$F$6*F95*(LN((1+E95^3)/(E95^3+W95^3)))/3)","v":2.5276172507990187},{"$f":"$I$35","v":0.66073778176593112},{"$f":"$J$35","v":0.15354841612232933},{"$f":"$K$35","v":0.6365191476987323},{"$f":"$L$35","v":2.1340626348999612E-4},{"$f":"$M$35","v":458.32156291626706},{"$f":"$N$35","v":0.15366182238581935},{"$f":"$O$35","v":1.9422167141878287E-2},{"$f":"$P$35","v":2.9740483717744983E-2},{"$f":"$Q$35","v":9.9999999999988987E-5},{"$f":"$R$35","v":1.9419193093506513E-2},null,null,null,null,{"$f":"IF(C95<$C$6,0,(C95-$C$6)/C95)","v":0},null,4.5181422537606569E-2,{"$f":"MIN(Z94*$O$6/AI94,$O$30)","v":3.9127892776665241E-4},7.5849979020626804E-2,-5.1638115041906907E-2,4.5909615763086222,3.0273132667362561,0.65940723232329412,0.20742617483311618,25.747112669104595,8.6322542381241478E-3,458.33333333333337,0.15366576866258877,2.3591286293014928E-2,6.2392660408651546E-2,null,null,null,{"$f":"AP94","v":5.7990600504467242E-2},4.5909615763086222,{"$f":"IF(AG94<$K$6,$Q$6*Z95*$H$6*$J$6,$H$6*$K$6)","v":7.5272287360083026E-2},{"$f":"IF(AI94<$O$6,$Q$6*Z95*$L$6*$N$6,-$L$6*$O$6)","v":7.5272287360083026E-2},-5.8090600504467245E-2,{"$f":"IF(AG94<$K$6,$I$6*$Q$6*Z95*$H$6*$J$6,0)","v":3.0108914944033216E-3},{"$f":"IF(AI94<$O$6,($C$6-$M$6)*$Q$6*Z95*$L$6*$N$6,0)","v":1.0538120230411624E-2},0]
[null,{"$f":"IF(R76>$Q$29*V76,B76/0.5,IF(Q76>Q75,$U$6,-0.5)*B76)","v":3.9768977969850165E-7},{"$f":"IF(Q76>Q75,C76,(1-$T$6)*C76+$T$6*C77)","v":4.5181422537606569E-2},{"$f":"D76+B96","v":3.9338100231648733E-4},{"$f":"IF($C$2=1,D96/($O$31*$O$30),2^(1/3)*$O$30/D96)","v":7.6257469174555711E-2},{"$f":"IF($C$2=1,-($O$31-2)*D96/$O$30,3*($O$30/D96)^2)","v":-5.1915531380299085E-2},{"$f":"IF($C$2=1,0.5*($O$31*D96*$F$6/$O$30)*(1-W96^2+(E96-F96)*(F96^2*(1-W96^2)+2*F96*(1-W96)+2*LN((1-F96)/(1-F96*W96)))/(F96^3)),$F$6*F96*(LN((1-E96+E96^2)/(1+E96)^2)/(6*E96)+ATAN((2-E96)/(E96*3^0.5))/(E96*3^0.5)-LN((W96^2-E96*W96+E96^2)/(W96+E96)^2)/(6*E96)-ATAN((2*W96-E96)/(E96*3^0.5))/(E96*3^0.5)))","v":4.6134981299244053},{"$f":"IF($C$2=1,($O$31*D96*$F$6/$O$30)*(1-W96^3-(E96-F96)*(-2*F96^3*(1-W96^3)-3*F96^2*(1-W96^2)-6*F96*(1-W96)-6*LN((1-F96)/(1-F96*W96)))/(2*F96^4))/3,$F$6*F96*(LN((1+E96^3)/(E96^3+W96^3)))/3)","v":3.0419893471508175},{"$f":"H96/G96","v":0.65936720065402132},{"$f":"G96*C96*$D$6","v":0.20844440838457229},{"$f":"MAX(MIN($K$6,$Q$6*$J$6*D96*(C96-$I$6)/C96),-$K$6)","v":25.885434327728991},{"$f":"K96*$H$6","v":8.6786294468409516E-3},{"$f":"MIN($O$6,$Q$6*$N$6*D96*(C$6-C96-$M$6)/C96)","v":458.33333333333337},{"$f":"M96*$L$6","v":0.15366576866258877},{"$f":"(0.5*$C$6-C96+I96*C96)*J96+(0.5*$C$6-$I$6)*L96+(0.5*$C$6-$M$6)*N96","v":2.3669200010099103E-2},{"$f":"0.1*$Q$6*D96*$B$6^2/C96+$R$6","v":3.2372888569934338E-2},{"$f":"(J96+L96-N96)","v":6.3457269168824465E-2},{"$f":"O96-P96*Q96","v":2.161490490634442E-2},{"$f":"((R96-R95)*(Q96-Q97)-(R96-R97)*(Q96-Q95))/((Q96^2-Q95^2)*(Q96-Q97)-(Q96^2-Q97^2)*(Q96-Q95))","v":-5.0936037858711973E-2},{"$f":"-(S96*(Q96^2-Q95^2)-(R96-R95))/(Q96-Q95)","v":3.789339165263797E-2},{"$f":"R96-S96*Q96^2-T96*Q96","v":1.9415404263701627E-2},{"$f":"S76*Q96^2+T76*Q96+U76","v":2.16150930407207E-2},{"$f":"IF(C96<$C$6,0,(C96-$C$6)/C96)","v":0},null,5.0701395729483748E-2,{"$f":"Z95","v":3.9127892776665241E-4},7.5849979020626804E-2,-5.1638115041906907E-2,4.5909615763086222,3.0273132667362561,0.65940723232329412,0.23276815965927794,47.38707839586565,1.588750216663647E-2,395.42505185092114,0.13257446081697993,2.4352668873790225E-2,0.11608120100893449,null,null,0.05,{"$f":"AO96*$AP$123","v":0.11598120100893448},4.5909615763086222,{"$f":"$Q$6*Z96*$H$6*$J$6","v":7.5272287360083026E-2},{"$f":"$Q$6*Z96*$L$6*$N$6","v":7.5272287360083026E-2},-0.11608120100893449,{"$f":"$I$6*$Q$6*Z96*$H$6*$J$6","v":3.0108914944033216E-3},{"$f":"($C$6-$M$6)*$Q$6*Z96*$L$6*$N$6","v":1.0538120230411624E-2},0]
[null,{"$f":"IF(R77>$Q$29*V77,B77/0.5,IF(Q77>Q76,$U$6,-0.5)*B77)","v":9.2191671472819283E-7},{"$f":"IF(Q77>Q76,C77,(1-$T$6)*C77+$T$6*C78)","v":4.9415891915262342E-2},{"$f":"D77+B97","v":4.5840058956457373E-4},8.8861609031630553E-2,-6.0496338288194465E-2,5.2998347253960638,3.4879433207093733,0.65812303617613555,0.26189605995892595,50.117910730820853,1.6803070420831834E-2,458.33333333333337,0.15366576866258877,2.7669574695377411E-2,{"$f":"0.1*$Q$6*D97*$B$6^2/C97+$R$6","v":3.4491056658085134E-2},0.12503336171716903,2.335704193223968E-2,-2.2086237152300275E-2,3.2455474516551258E-2,1.9644306536095432E-2,{"$f":"MAX(S77*Q97^2+T77*Q97+U77,S78*Q97^2+T78*Q97+U78)","v":2.3360205719886291E-2},0,null,4.9415891915262342E-2,{"$f":"MIN(Z96*$O$6/AI96,$O$30)","v":4.5352760121529614E-4},8.7916973279917154E-2,-5.9853237126539435E-2,5.2491136256113826,3.4550541722958035,0.65821668546818346,0.25938963157414291,49.585136557660633,1.6624446814630583E-2,458.33333333333337,0.15366576866258877,2.7478609344113777E-2,0.12234830972618474,null,null,null,{"$f":"AP96","v":0.11598120100893448},5.2491136256113826,{"$f":"IF(AG96<$K$6,$Q$6*Z97*$H$6*$J$6,$H$6*$K$6)","v":8.7247376492418427E-2},{"$f":"IF(AI96<$O$6,$Q$6*Z97*$L$6*$N$6,-$L$6*$O$6)","v":8.7247376492418427E-2},-0.11608120100893449,{"$f":"IF(AG96<$K$6,$I$6*$Q$6*Z97*$H$6*$J$6,0)","v":3.4898950596967374E-3},{"$f":"IF(AI96<$O$6,($C$6-$M$6)*$Q$6*Z97*$L$6*$N$6,0)","v":1.2214632708938576E-2},0]
[null,{"$f":"IF(R78>$Q$29*V78,B78/0.75,IF(Q78>Q77,$U$6,-0.5)*B78)","v":-2.0798428890166142E-5},{"$f":"IF(Q78>Q77,C78,(1-$T$6)*C78+$T$6*C79)","v":5.3135963724627852E-2},4.9746561462855974E-4,9.6434419937794905E-2,-6.5651852974055888E-2,5.7022873297372154,3.74851189758671,0.65736987296980998,0.30299653270032167,70.565010488608252,2.3658385259815905E-2,458.33333333333337,0.15366576866258877,3.0619546218489953E-2,3.4809875967371083E-2,0.1729891492975488,2.459781538774124E-2,-6.5982194605058664E-2,4.5537457980017536E-2,1.8694862660914913E-2,{"$f":"MAX(S78*Q98^2+T78*Q98+U78,S79*Q98^2+T79*Q98+U79)","v":2.4577740881555152E-2},0,null,5.4657475938409542E-2,{"$f":"Z97","v":4.5352760121529614E-4},8.7916973279917154E-2,-5.9853237126539435E-2,5.2491136256113826,3.4550541722958035,0.65821668546818346,0.2869033016898318,69.785678460216317,2.339709801213688E-2,406.32411529591553,0.13622859818856697,2.8442937570257898E-2,0.17407180151340168,null,null,7.4999999999999997E-2,{"$f":"AO98*$AP$123","v":0.17397180151340172},5.2491136256113826,{"$f":"$Q$6*Z98*$H$6*$J$6","v":8.7247376492418427E-2},{"$f":"$Q$6*Z98*$L$6*$N$6","v":8.7247376492418427E-2},-0.17407180151340171,{"$f":"$I$6*$Q$6*Z98*$H$6*$J$6","v":3.4898950596967374E-3},{"$f":"($C$6-$M$6)*$Q$6*Z98*$L$6*$N$6","v":1.2214632708938576E-2},0]
[null,{"$f":"IF(R79>$Q$29*V79,B79,IF(Q79>Q78,$U$6,-0.5)*B79)","v":-3.1373379428965287E-6},{"$f":"IF(Q79>Q78,C79,(1-$T$6)*C79+$T$6*C80)","v":5.7428181372141097E-2},5.9979300263052963E-4,0.11627073025863516,-7.9156269027697262E-2,6.7218796960283482,4.405359639753283,0.65537615056636744,0.38602532634522863,104.44348796282219,3.5016848420964884E-2,458.33333333333337,0.15366576866258877,3.6536536309337231E-2,3.8833300362649481E-2,0.26737640610360469,2.6153428021230204E-2,-1.0294364530095237E-2,2.1014455759971195E-2,2.1270603951530194E-2,2.6118064669858863E-2,0,null,5.3135963724627852E-2,{"$f":"MIN(Z98*$O$6/AI98,$O$30)","v":5.1157883423260102E-4},9.9170287716287789E-2,-6.7514411895091886E-2,5.8458740571755188,3.8413046020079844,0.65709670862528669,0.31062615184082143,72.566956874653059,2.432957936214216E-2,458.33333333333337,0.15366576866258877,3.1196358245288099E-2,0.1812899625403748,null,null,null,{"$f":"AP98","v":0.17397180151340172},5.8458740571755188,{"$f":"IF(AG98<$K$6,$Q$6*Z99*$H$6*$J$6,$H$6*$K$6)","v":9.8414982982823751E-2},{"$f":"IF(AI98<$O$6,$Q$6*Z99*$L$6*$N$6,-$L$6*$O$6)","v":9.8414982982823751E-2},-0.17407180151340171,{"$f":"IF(AG98<$K$6,$I$6*$Q$6*Z99*$H$6*$J$6,0)","v":3.9365993193129509E-3},{"$f":"IF(AI98<$O$6,($C$6-$M$6)*$Q$6*Z99*$L$6*$N$6,0)","v":1.3778097617595325E-2},0]
[null,{"$f":"IF(R80>$Q$29*V80,B80,IF(Q80>Q79,$U$6,-0.5)*B80)","v":3.3034717586264649E-5},{"$f":"IF(Q80>Q79,C80,(1-$T$6)*C80+$T$6*C81)","v":6.2195419634221871E-2},6.6789248195718413E-4,0.129471911594224,-8.8143537439608524E-2,7.3732046382935073,4.8223110881117321,0.65403190670533629,0.45857955652765575,136.76169585265782,4.5852198800286195E-2,458.33333333333337,0.15366576866258877,4.13805128972052E-2,3.9927868169647773E-2,0.35076598666535319,2.7375174823234549E-2,-4.28124602693154E-2,4.1115269268502799E-2,1.8220843975415051E-2,2.7585556543130829E-2,0]
[null,3.4696055743564009E-5,6.7505252560478693E-2,7.0148124391197688E-4,0.13598314107479353,-9.257633519806896E-2,7.6865965445403104,5.0221421268136277,0.65336356574884757,0.51888564106969648,164.00122749453683,5.4984817493576914E-2,432.25298661940406,0.14492179079033543,4.4553228243114223E-2,3.8637273074583374E-2,0.42894866777293794,2.7979821431392479E-2,-4.252695087449565E-2,4.0892653409382029E-2,1.8263801891030485E-2,2.7547241085702067E-2,0]
[null,3.6357393900863374E-5,7.3437125604676246E-2,7.3507000586676963E-4,0.14249437055536304,-9.7009132956529381E-2,7.9948586588038921,5.2181772795754968,0.65269162373862233,0.58711943951821488,192.04143089912458,6.4385878023659776E-2,382.29451283482842,0.1281721749169174,4.7493977823904354E-2,3.721696915396016E-2,0.52333314262495723,2.8017104397586288E-2,2.600190920952085E-3,-2.0811028776694606E-3,2.8394080514473653E-2,2.7763874643786379E-2,0,null,"hc","e0","a'","b'","N'","tN'","t'","Nc","sac","Nac","sat","Nat","Mtot","N","u","Mo",null,"N","A","B1","B2","B3","C1","C2","gættet x","beregnet x","Max-valg","hc'","sac","sat"]
[null,3.801873205816274E-5,8.0084861800030091E-2,7.6865876782156205E-4,0.1490056000359325,-0.10144193071498975,8.2980377140347379,5.4104534762272252,0.65201601422904498,0.66454720353990959,220.75803011122338,7.4013714295592836E-2,329.9686537239636,0.11062884394702351,5.0521609018358796E-2,3.5687089112520123E-2,0.62793207388847883,2.8112541140891081E-2,3.3928337664975126E-3,-2.9936450148641434E-3,2.8654556956017908E-2,2.8030810863955809E-2,0,null,{"$f":"$C$6","v":0.18}]
[null,-3.96800702154621E-6,8.7559791299448214E-2,7.5859945253934648E-4,0.14705558740051414,-0.10011437627000405,8.2077707129754636,5.3532618524251845,0.65221873753884763,0.71867069066185485,236.42898180497232,7.9267726305107519E-2,260.69048685786714,8.7401899736811589E-2,5.1129131704246815E-2,3.2213341569352003E-2,0.71053651723015077,2.8240376177214203E-2,1.3101191263584885E-2,-1.5987976596066662E-2,3.2986121897095107E-2,2.8235523250995837E-2,0,null,{"$f":"0.5*(-(AR104+AS104+AT104)+SQRT((AR104+AS104+AT104)^2+4*AQ104*(AU104+AV104)))/AQ104","v":0.12165038226129966},{"$f":"$O$30","v":2.246328469196467E-3},{"$f":"IF($C$2=1,Z104/($O$31*$O$30),2^(1/3)*$O$30/Z104)","v":0.43545398223847331},{"$f":"IF($C$2=1,-($O$31-2)*Z104/$O$30,3*($O$30/Z104)^2)","v":-0.29645390968627527},{"$f":"IF($C$2=1,0.5*($O$31*Z104*$F$6/$O$30)*(1-AW104^2+(AA104-AB104)*(AB104^2*(1-AW104^2)+2*AB104*(1-AW104)+2*LN((1-AB104)/(1-AB104*AW104)))/(AB104^3)),$F$6*AB104*(LN((1-AA104+AA104^2)/(1+AA104)^2)/(6*AA104)+ATAN((2-AA104)/(AA104*3^0.5))/(AA104*3^0.5)-LN((AW104^2-AA104*AW104+AA104^2)/(AW104+AA104)^2)/(6*AA104)-ATAN((2*AW104-AA104)/(AA104*3^0.5))/(AA104*3^0.5)))","v":17.22034321716006},{"$f":"IF($C$2=1,($O$31*Z104*$F$6/$O$30)*(1-AW104^3-(AA104-AB104)*(-2*AB104^3*(1-AW104^3)-3*AB104^2*(1-AW104^2)-6*AB104*(1-AW104)-6*LN((1-AB104)/(1-AB104*AW104)))/(2*AB104^4))/3,$F$6*AB104*(LN((1+AA104^3)/(AA104^3+AW104^3)))/3)","v":10.632335137427363},{"$f":"AD104/AC104","v":0.61742875872719238},{"$f":"AC104*Y104*$D$6","v":2.0948613350383001},{"$f":"MAX(MIN($K$6,$Q$6*$J$6*Z104*(Y104-$I$6)/Y104),-$K$6)","v":458.33333333333337},{"$f":"AG104*$H$6","v":0.15366576866258877},{"$f":"MIN($O$6,$Q$6*$N$6*Z104*(C$6-Y104-$M$6)/Y104)","v":194.41947642221365},{"$f":"AI104*$L$6","v":6.518316717250365E-2},{"$f":"(0.5*$C$6-Y104+AE104*Y104)*AF104+(0.5*$C$6-$I$6)*AH104+(0.5*$C$6-$M$6)*AJ104","v":0.10198525083226577},{"$f":"AF104+AH104-AJ104","v":2.1833439365283853},{"$f":"0.1*$Q$6*Z104*$B$6^2/Y104+$R$6","v":6.8657463340987102E-2},{"$f":"AK104-AM104*AL104","v":-4.7917605450698328E-2},{"$f":"IF(AN104=$AO$122,Z104,0)","v":0},{"$f":"IF($C$2=1,Kold!$Q$23/1000,Brand!$AT$43)*V6*S6","v":2.3196240201786895},{"$f":"AC104*$D$6","v":17.22034321716006},{"$f":"$Q$6*Z104*$H$6*$J$6","v":0.43213746010705212},{"$f":"$Q$6*Z104*$L$6*$N$6","v":0.43213746010705212},{"$f":"-(AP104+0.0001)","v":-2.3197240201786897},{"$f":"$I$6*$Q$6*Z104*$H$6*$J$6","v":1.7285498404282083E-2},{"$f":"($C$6-$M$6)*$Q$6*Z104*$L$6*$N$6","v":6.0499244414987288E-2},{"$f":"IF(Y103<$C$6,0,(Y103-$C$6)/Y103)","v":0}]
[null,2.8938985860933025E-6,9.5994684279247358E-2,7.2710838771078499E-4,0.14095099950405557,-9.59584171497644E-2,7.9222519744207123,5.1720519044204867,0.65285122476790136,0.76049407706516026,243.3614222248047,8.1591970928717283E-2,191.25380126882757,6.4121808832617561E-2,5.0387118905849508E-2,2.8163066482387374E-2,0.77796423916126001,2.847726031743103E-2,-3.181729985294356E-3,8.2491639991518571E-3,2.3985378935848206E-2,2.8478663228893274E-2,0,null,0.13059965623207195,{"$f":"0.95*$O$30","v":2.1340120457366434E-3},0.41368128312654961,{"$f":"IF($C$2=1,-($O$31-2)*Z105/$O$30,3*($O$30/Z105)^2)","v":-0.28163121420196152},{"$f":"IF($C$2=1,0.5*($O$31*Z105*$F$6/$O$30)*(1-AW105^2+(AA105-AB105)*(AB105^2*(1-AW105^2)+2*AB105*(1-AW105)+2*LN((1-AB105)/(1-AB105*AW105)))/(AB105^3)),$F$6*AB105*(LN((1-AA105+AA105^2)/(1+AA105)^2)/(6*AA105)+ATAN((2-AA105)/(AA105*3^0.5))/(AA105*3^0.5)-LN((AW105^2-AA105*AW105+AA105^2)/(AW105+AA105)^2)/(6*AA105)-ATAN((2*AW105-AA105)/(AA105*3^0.5))/(AA105*3^0.5)))","v":16.811740678172622},{"$f":"IF($C$2=1,($O$31*Z105*$F$6/$O$30)*(1-AW105^3-(AA105-AB105)*(-2*AB105^3*(1-AW105^3)-3*AB105^2*(1-AW105^2)-6*AB105*(1-AW105)-6*LN((1-AB105)/(1-AB105*AW105)))/(2*AB105^4))/3,$F$6*AB105*(LN((1+AA105^3)/(AA105^3+AW105^3)))/3)","v":10.431429535760907},{"$f":"AD105/AC105","v":0.62048479901337428},{"$f":"AC105*Y105*$D$6","v":2.1956075532320849},{"$f":"MAX(MIN($K$6,$Q$6*$J$6*Z105*(Y105-$I$6)/Y105),-$K$6)","v":458.33333333333337},0.15366576866258877,88.1356340519621,2.9549301715984116E-2,{"$f":"(0.5*$C$6-Y105+AE105*Y105)*AF105+(0.5*$C$6-$I$6)*AH105+(0.5*$C$6-$M$6)*AJ105","v":9.7941122454141244E-2},{"$f":"AF105+AH105-AJ105","v":2.3197240201786897},{"$f":"0.1*$Q$6*Z105*$B$6^2/Y105+$R$6","v":6.0755108829663222E-2},{"$f":"IF(Y105>5*$D$6,AN104-1,AK105-AM105*AL105)","v":-4.2993962846598927E-2},0,{"$f":"AP104","v":2.3196240201786895},{"$f":"AC105*$D$6","v":16.811740678172622},{"$f":"IF(AG104<$K$6,$Q$6*Z105*$H$6*$J$6,$H$6*$K$6)","v":0.15366576866258877},{"$f":"IF(AI104<$O$6,$Q$6*Z105*$L$6*$N$6,-$L$6*$O$6)","v":0.41053058710169948},{"$f":"-(AP105+0.0001)","v":-2.3197240201786897},{"$f":"IF(AG104<$K$6,$I$6*$Q$6*Z105*$H$6*$J$6,0)","v":0},{"$f":"IF(AI104<$O$6,($C$6-$M$6)*$Q$6*Z105*$L$6*$N$6,0)","v":5.7474282194237919E-2},{"$f":"IF(Y104<=$C$6,0,(Y104-$C$6)/Y104)","v":0},null,{"$f":"IF(AN105=$AO$122,AX105,0)","v":0},null,{"$f":"IF(AN105=$AO$122,AG105,0)","v":0},{"$f":"IF(AN105=$AO$122,AI105,0)","v":0}]
[null,-3.0101922571042577E-5,0.10554872685841464,7.2321571548373338E-4,0.14019639943284468,-9.5444690899725196E-2,7.8866482666544115,5.1494228151310946,0.65292918373238507,0.83242568372549575,257.71048070987734,8.640279078695684E-2,135.44815571418684,4.5411807189273887E-2,5.1014888933503602E-2,2.5476679640279363E-2,0.8734166673231788,2.8763132307630519E-2,-1.0488484380287591E-2,2.0315398695414946E-2,1.9020534801336204E-2,2.8740658811679712E-2,0,null,0.13372525458637755,{"$f":"Z105+($Z$121-$Z$105)/16","v":2.0146758458105809E-3},0.39054779032013071,{"$f":"IF($C$2=1,-($O$31-2)*Z106/$O$30,3*($O$30/Z106)^2)","v":-0.26588210024987807},{"$f":"IF($C$2=1,0.5*($O$31*Z106*$F$6/$O$30)*(1-AW106^2+(AA106-AB106)*(AB106^2*(1-AW106^2)+2*AB106*(1-AW106)+2*LN((1-AB106)/(1-AB106*AW106)))/(AB106^3)),$F$6*AB106*(LN((1-AA106+AA106^2)/(1+AA106)^2)/(6*AA106)+ATAN((2-AA106)/(AA106*3^0.5))/(AA106*3^0.5)-LN((AW106^2-AA106*AW106+AA106^2)/(AW106+AA106)^2)/(6*AA106)-ATAN((2*AW106-AA106)/(AA106*3^0.5))/(AA106*3^0.5)))","v":16.333819890101623},{"$f":"IF($C$2=1,($O$31*Z106*$F$6/$O$30)*(1-AW106^3-(AA106-AB106)*(-2*AB106^3*(1-AW106^3)-3*AB106^2*(1-AW106^2)-6*AB106*(1-AW106)-6*LN((1-AB106)/(1-AB106*AW106)))/(2*AB106^4))/3,$F$6*AB106*(LN((1+AA106^3)/(AA106^3+AW106^3)))/3)","v":10.186375766808736},{"$f":"AD106/AC106","v":0.62363708154892361},{"$f":"AC106*Y106*$D$6","v":2.1842442231718766},{"$f":"MAX(MIN($K$6,$Q$6*$J$6*Z106*(Y106-$I$6)/Y106),-$K$6)","v":458.33333333333337},0.15366576866258877,54.242640253856706,1.8185971655775641E-2,{"$f":"(0.5*$C$6-Y106+AE106*Y106)*AF106+(0.5*$C$6-$I$6)*AH106+(0.5*$C$6-$M$6)*AJ106","v":9.524324358046482E-2},{"$f":"AF106+AH106-AJ106","v":2.3197240201786897},{"$f":"0.1*$Q$6*Z106*$B$6^2/Y106+$R$6","v":5.6016983267863439E-2},{"$f":"IF(Y106>5*$D$6,AN105-1,AK106-AM106*AL106)","v":-3.4700698043945766E-2},0,{"$f":"AP105","v":2.3196240201786895},{"$f":"AC106*$D$6","v":16.333819890101623},{"$f":"IF(AG105<$K$6,$Q$6*Z106*$H$6*$J$6,$H$6*$K$6)","v":0.15366576866258877},{"$f":"IF(AI105<$O$6,$Q$6*Z106*$L$6*$N$6,-$L$6*$O$6)","v":0.38757328453351231},{"$f":"-(AP106+0.0001)","v":-2.3197240201786897},{"$f":"IF(AG105<$K$6,$I$6*$Q$6*Z106*$H$6*$J$6,0)","v":0},{"$f":"IF(AI105<$O$6,($C$6-$M$6)*$Q$6*Z106*$L$6*$N$6,0)","v":5.4260259834691717E-2},{"$f":"IF(AZ106<=$C$6,0,(AZ106-$C$6)/AZ106)","v":0},{"$f":"IF(Y106<=$C$6,0,(Y106-$C$6)/Y106)","v":0},0,{"$f":"Y105+(Y105-Y104)*(Z106-Z104)/(Z105-Z104)","v":0.14905753379678979},0,0]
[null,-3.126485928115213E-5,0.11641386182692361,7.5115592770370833E-4,0.14561264947936092,-9.9132034609097627E-2,8.1406848890656605,5.3107266406703575,0.65236853078585277,0.94768856585221473,282.91144416658324,9.4851937159202343E-2,87.324318563710264,2.9277291349154848E-2,5.3146308329634684E-2,2.3991277424923015E-2,1.0132632116622622,2.8836829514176862E-2,-1.3625735753671436E-2,2.623438773689769E-2,1.6244064269381277E-2,2.8803860751446413E-2,0,null,0.13743935713444,1.8953396458845186E-3,0.3674142975137118,{"$f":"IF($C$2=1,-($O$31-2)*Z107/$O$30,3*($O$30/Z107)^2)","v":-0.25013298629779473},{"$f":"IF($C$2=1,0.5*($O$31*Z107*$F$6/$O$30)*(1-AW107^2+(AA107-AB107)*(AB107^2*(1-AW107^2)+2*AB107*(1-AW107)+2*LN((1-AB107)/(1-AB107*AW107)))/(AB107^3)),$F$6*AB107*(LN((1-AA107+AA107^2)/(1+AA107)^2)/(6*AA107)+ATAN((2-AA107)/(AA107*3^0.5))/(AA107*3^0.5)-LN((AW107^2-AA107*AW107+AA107^2)/(AW107+AA107)^2)/(6*AA107)-ATAN((2*AW107-AA107)/(AA107*3^0.5))/(AA107*3^0.5)))","v":15.809528538596636},{"$f":"IF($C$2=1,($O$31*Z107*$F$6/$O$30)*(1-AW107^3-(AA107-AB107)*(-2*AB107^3*(1-AW107^3)-3*AB107^2*(1-AW107^2)-6*AB107*(1-AW107)-6*LN((1-AB107)/(1-AB107*AW107)))/(2*AB107^4))/3,$F$6*AB107*(LN((1+AA107^3)/(AA107^3+AW107^3)))/3)","v":9.9077960060625099},{"$f":"AD107/AC107","v":0.62669775267959982},{"$f":"AC107*Y107*$D$6","v":2.1728514389433045},{"$f":"MAX(MIN($K$6,$Q$6*$J$6*Z107*(Y107-$I$6)/Y107),-$K$6)","v":458.33333333333337},0.15366576866258877,20.261794572511466,6.7931874272038756E-3,{"$f":"(0.5*$C$6-Y107+AE107*Y107)*AF107+(0.5*$C$6-$I$6)*AH107+(0.5*$C$6-$M$6)*AJ107","v":9.2098346854653998E-2},{"$f":"AF107+AH107-AJ107","v":2.3197240201786893},{"$f":"0.1*$Q$6*Z107*$B$6^2/Y107+$R$6","v":5.1274791418896577E-2},-2.6845018429412532E-2,0,{"$f":"AP106","v":2.3196240201786895},{"$f":"AC107*$D$6","v":15.809528538596636},{"$f":"IF(AG106<$K$6,$Q$6*Z107*$H$6*$J$6,$H$6*$K$6)","v":0.15366576866258877},{"$f":"IF(AI106<$O$6,$Q$6*Z107*$L$6*$N$6,-$L$6*$O$6)","v":0.36461598196532519},{"$f":"-(AP107+0.0001)","v":-2.3197240201786897},{"$f":"IF(AG106<$K$6,$I$6*$Q$6*Z107*$H$6*$J$6,0)","v":0},{"$f":"IF(AI106<$O$6,($C$6-$M$6)*$Q$6*Z107*$L$6*$N$6,0)","v":5.1046237475145514E-2},{"$f":"IF(AZ107<=$C$6,0,(AZ107-$C$6)/AZ107)","v":0},{"$f":"IF(Y107<=$C$6,0,(Y107-$C$6)/Y107)","v":0},0,{"$f":"Y106+(Y106-Y105)*(Z107-Z105)/(Z106-Z105)","v":0.13997645129498873},0,0]
[null,-3.2427795991261687E-5,0.12882293018018509,7.7909613992368316E-4,0.15102889952587717,-0.10281937831847006,8.3912196644132511,5.4694416008261157,0.65180531788742802,1.0809815049553044,308.23073354923156,0.10334075475551181,38.78634067243452,1.3003926224811665E-2,5.4617647678762267E-2,2.2486706409563965E-2,1.1713183334860047,2.8278556201522743E-2,-1.3760864716536175E-2,2.6529587975387025E-2,1.6083685949495198E-2,2.8292424616420096E-2,0,null,0.14185904278987949,1.7760034459584563E-3,0.34428080470729289,-0.23438387234571137,15.237526068823843,9.5946515337551705,0.6296725262630356,2.1615808626091857,458.33333333333337,0.15366576866258877,-13.354546039736768,-4.4773889069150852E-3,8.8444557073410493E-2,2.3197240201786897,4.6549470947413622E-2,-1.9537368809914954E-2,0,2.3196240201786895,15.237526068823843,0.15366576866258877,0.34165867939713795,-2.3197240201786897,0,4.7832215115599319E-2,0,0,0,{"$f":"Y107+(Y107-Y106)*(Z108-Z106)/(Z107-Z106)","v":0.14486756223056491},0,0]
[null,-4.7986761001958921E-6,0.14306020987399781,9.1740590244816344E-4,0.17784044454239314,-0.12107248351231086,9.5807369323683513,6.2176898690021334,0.64897824800885384,1.3706222362921783,379.21600547423577,0.12714004138986523,-11.2602193004369,-3.7752223726057166E-3,6.06953688755466E-2,2.3843534944062172E-2,1.5015375000546491,2.4893407023173816E-2,-1.3825475145378194E-2,2.6702282337024982E-2,1.5970050522688989E-2,2.4889099026000693E-2,0,null,0.14713602447466315,1.656667246032394E-3,0.32114731190087403,-0.21863475839362795,14.616416339341455,9.245858582129145,0.63256672275016201,2.1506013922372107,458.33333333333337,0.15366576866258877,-46.10261542187466,-1.5456859278890372E-2,8.4197313799854734E-2,2.3197240201786897,4.1864339030010071E-2,-1.2916399036963858E-2,0,2.3196240201786895,14.616416339341455,0.15366576866258877,0.31870137682895089,-2.3197240201786897,0,4.4618192756053117E-2,0,0,0,{"$f":"Y108+(Y108-Y107)*(Z109-Z107)/(Z108-Z107)","v":0.15069841410075846},0,0]
[null,4.9648099159258281E-5,0.15947517602038869,1.0037801015051109E-3,0.19458420639991902,-0.13247151502421264,10.281767031600179,6.6541360819433955,0.64717825851261235,1.6396866071650678,431.49536553495119,0.14466778258750468,-70.336353338714247,-2.3581723201564288E-2,6.1366983775209639E-2,2.3403103990316164E-2,1.8079361129541367,1.905566691589599E-2,-1.6954101139643081E-2,3.7056387510017989E-2,7.4768199967167048E-3,1.8826437970262351E-2,0,null,0.15347006121679821,1.5373310461063317E-3,0.29801381909445512,-0.20288564444154458,13.944744589406415,8.8602857988593602,0.63538530534222681,2.1401008057888182,458.33333333333337,0.15366576866258877,-77.422335036294101,-2.5957445727282782E-2,7.9239927283229469E-2,2.3197240201786897,3.7245319301855193E-2,-7.1589345405090044E-3,0,2.3196240201786895,13.944744589406415,0.15366576866258877,0.29574407426076371,-2.3197240201786897,0,4.1404170396506908E-2,0,0,0,0.15768998784423047,0,0]
[null,5.1309437316557647E-5,0.17850063403985802,1.0373688634599035E-3,0.20109543588048853,-0.13690431278267304,10.545893790076436,6.8176122978994753,0.64647079077496206,1.8824487280456452,458.33333333333337,0.15366576866258877,-128.38500183564008,-4.304373816397418E-2,5.6159206168597361E-2,2.1608340554435595E-2,2.0791582348722084,1.123204696291949E-2,-1.095327541532288E-2,1.3730611754721997E-2,3.0033835426491667E-2,1.0811271698793548E-2,0,null,0.16112912841269031,1.4179948461802694E-3,0.27488032628803621,-0.18713653048946122,13.22099419969433,8.4367515335522665,0.63813291240588588,2.1302872721459813,458.33333333333337,0.15366576866258877,-106.69280708382189,-3.5770979370119527E-2,7.3409234340555907E-2,2.3197240201786897,3.2721150461082163E-2,-2.4948043518973895E-3,0,2.3196240201786895,13.22099419969433,0.15366576866258877,0.27278677169257659,-2.3197240201786897,0,3.8190148036960719E-2,0,0,0,0.16613813470106834,0,0]
[null,5.2970775473857006E-5,0.20067685341513844,1.0709576254146964E-3,0.20760666536105807,-0.14133711054113349,10.663485261082544,6.9679264516544981,0.65343799715132944,2.139914668632751,458.33333333333337,0.15366576866258877,-185.80227199412391,-6.2294070425961683E-2,4.8336319022880984E-2,1.9842800915934343E-2,2.3558745077213015,1.5891701832423735E-3,9.2379171675740623E-3,-7.5817988462437175E-2,0.1289350594576964,{"$f":"S92*Q112^2+T92*Q112+U92","v":1.8573931355745782E-3},0.10303556719799878,null,0.17048068487146131,1.2986586462542071E-3,0.2517468334816173,-0.17138741653737782,12.443583229461039,7.9740209325684477,0.64081388660537941,2.1213905912135482,458.33333333333337,0.15366576866258877,-133.22861569529437,-4.4667660302552821E-2,6.6473202186565106E-2,2.3197240201786897,2.8323557470777975E-2,7.7036558468986105E-4,0,2.3196240201786895,12.443583229461039,0.15366576866258877,0.24982946912438944,-2.3197240201786897,0,3.4976125677414517E-2,0,0,0,0.17644726280447451,0,0]
[null,null,{"$f":"C93+(C112-C92)","v":0.22668403164997661},{"$f":"D93+(D112-D92)","v":1.1012237110548907E-3},0.21347378929218455,-0.14533140591777749,10.467032734688324,7.0414026606991813,0.67272194892097592,2.3727091797114293,458.33333333333337,0.15366576866258877,-241.62768460982582,-8.1010699387048246E-2,4.1148350923771226E-2,1.8062696975078837E-2,2.6073856477610664,-5.9480659289065582E-3,null,null,null,null,0.20594318580878934,null,0.18255141209981079,1.1793224463281448E-3,0.22861334067519842,-0.15563830258529446,11.575785518293799,7.4696694622589455,0.64528402417738728,2.1131759925290732,458.33333333333337,0.15366576866258877,-157.73000224234104,-5.2882258987028037E-2,5.8388623089076115E-2,2.3197240201786902,2.4020129158884358E-2,2.6685525114175102E-3,0,2.3196240201786895,11.575785518293799,0.15366576866258877,0.22687216655620229,-2.3197240201786897,0,3.1762103317868322E-2,4.854431455724352E-2,1.3976402978552724E-2,0,0.18918379778900332,0,0]
[null,"De","hc","e0","a'","b'","N'","tN'","t","Nc","sac","Nac","sat","Nat","Mtot","u","N","Mo","a''","b''","c''",null,"x",null,0.20040302888986483,1.0599862464020825E-3,0.20547984786877954,-0.13988918863321112,10.501820955098692,6.9069380560282694,0.65768956503442511,2.1045967282608311,458.33333333333337,0.15366576866258877,-183.31906364380944,-6.146152325526983E-2,4.9648481260373835E-2,2.3197240201786897,1.9666357039443215E-2,4.0279604465671484E-3,0,2.3196240201786895,10.501820955098692,0.15366576866258877,0.20391486398801514,-2.3197240201786897,0,2.854808095832212E-2,0.12914265983732895,0.1018099826279457,0,0.20669286655650976,0,0]
[null,null,{"$f":"$C$35","v":4.0138687861173784E-2},{"$f":"$D$35","v":3.210578024372992E-4},{"$f":"$E$35","v":6.2237513577017019E-2},{"$f":"$F$35","v":-4.2370847395201951E-2},{"$f":"IF($C$2=1,0.5*($O$31*D115*$F$6/$O$30)*(1-W115^2+(E115-F115)*(F115^2*(1-W115^2)+2*F115*(1-W115)+2*LN((1-F115)/(1-F115*W115)))/(F115^3)),$F$6*F115*(LN((1-E115+E115^2)/(1+E115)^2)/(6*E115)+ATAN((2-E115)/(E115*3^0.5))/(E115*3^0.5)-LN((W115^2-E115*W115+E115^2)/(W115+E115)^2)/(6*E115)-ATAN((2*W115-E115)/(E115*3^0.5))/(E115*3^0.5)))","v":3.8254468270961333},{"$f":"IF($C$2=1,($O$31*D115*$F$6/$O$30)*(1-W115^3-(E115-F115)*(-2*F115^3*(1-W115^3)-3*F115^2*(1-W115^2)-6*F115*(1-W115)-6*LN((1-F115)/(1-F115*W115)))/(2*F115^4))/3,$F$6*F115*(LN((1+E115^3)/(E115^3+W115^3)))/3)","v":2.5276172507990187},{"$f":"$I$35","v":0.66073778176593112},{"$f":"$J$35","v":0.15354841612232933},{"$f":"$K$35","v":0.6365191476987323},{"$f":"$L$35","v":2.1340626348999612E-4},{"$f":"$M$35","v":458.32156291626706},{"$f":"$N$35","v":0.15366182238581935},{"$f":"$O$35","v":1.9422167141878287E-2},{"$f":"$P$35","v":2.9740483717744983E-2},{"$f":"$Q$35","v":9.9999999999988987E-5},{"$f":"$R$35","v":1.9419193093506513E-2},null,null,null,null,{"$f":"IF(C115<$C$6,0,(C115-$C$6)/C115)","v":0},null,0.229612250369745,9.406500464760202E-4,0.18234635506236063,-0.12414007468112773,9.1259711809473369,6.2356428001721911,0.68328539248410047,2.0954347796667574,445.71000544916774,0.14943353582826105,-210.6460765205091,-7.0623471849343672E-2,4.0146360395766953E-2,2.3154917873443619,1.5232142594577083E-2,4.8764593143654777E-3,9.406500464760202E-4,2.3196240201786895,9.1259711809473369,0.15366576866258877,0.18095756141982802,-2.3197240201786897,0,2.5334058598775917E-2,0.23763140326321625,0.21606970137636086,0.21606970137636086,0.23610626246997291,445.71000544916774,-210.6460765205091]
[null,{"$f":"IF(R96>$Q$29*V96,B96,IF(Q96>Q95,$U$6,-0.5)*B96)","v":-3.976897796985017E-8},{"$f":"IF(Q96>Q95,C96,(1-$T$6)*C96+$T$6*C97)","v":4.5181422537606569E-2},{"$f":"D96+B116","v":3.9334123333851747E-4},{"$f":"IF($C$2=1,D116/($O$31*$O$30),2^(1/3)*$O$30/D116)","v":7.6249759901373268E-2},{"$f":"IF($C$2=1,-($O$31-2)*D116/$O$30,3*($O$30/D116)^2)","v":-5.1910282963086252E-2},{"$f":"IF($C$2=1,0.5*($O$31*D116*$F$6/$O$30)*(1-W116^2+(E116-F116)*(F116^2*(1-W116^2)+2*F116*(1-W116)+2*LN((1-F116)/(1-F116*W116)))/(F116^3)),$F$6*F116*(LN((1-E116+E116^2)/(1+E116)^2)/(6*E116)+ATAN((2-E116)/(E116*3^0.5))/(E116*3^0.5)-LN((W116^2-E116*W116+E116^2)/(W116+E116)^2)/(6*E116)-ATAN((2*W116-E116)/(E116*3^0.5))/(E116*3^0.5)))","v":4.6130719658602084},{"$f":"IF($C$2=1,($O$31*D116*$F$6/$O$30)*(1-W116^3-(E116-F116)*(-2*F116^3*(1-W116^3)-3*F116^2*(1-W116^2)-6*F116*(1-W116)-6*LN((1-F116)/(1-F116*W116)))/(2*F116^4))/3,$F$6*F116*(LN((1+E116^3)/(E116^3+W116^3)))/3)","v":3.0417118427904821},{"$f":"H116/G116","v":0.65936795812013482},{"$f":"G116*C116*$D$6","v":0.20842515368591746},{"$f":"MAX(MIN($K$6,$Q$6*$J$6*D116*(C116-$I$6)/C116),-$K$6)","v":25.882817431484742},{"$f":"K116*$H$6","v":8.6777520780273905E-3},{"$f":"MIN($O$6,$Q$6*$N$6*D116*(C$6-C116-$M$6)/C116)","v":458.33333333333337},{"$f":"M116*$L$6","v":0.15366576866258877},{"$f":"(0.5*$C$6-C116+I116*C116)*J116+(0.5*$C$6-$I$6)*L116+(0.5*$C$6-$M$6)*N116","v":2.3667726686892682E-2},{"$f":"0.1*$Q$6*D116*$B$6^2/C116+$R$6","v":3.2369615822433119E-2},{"$f":"(J116+L116-N116)","v":6.3437137101356095E-2},{"$f":"O116-P116*Q116","v":2.1614290930046767E-2},{"$f":"((R116-R115)*(Q116-Q117)-(R116-R117)*(Q116-Q115))/((Q116^2-Q115^2)*(Q116-Q117)-(Q116^2-Q117^2)*(Q116-Q115))","v":-5.0903754329419765E-2},{"$f":"-(S116*(Q116^2-Q115^2)-(R116-R115))/(Q116-Q115)","v":3.7891636838697777E-2},{"$f":"R116-S116*Q116^2-T116*Q116","v":1.9415404438860188E-2},{"$f":"S96*Q116^2+T96*Q116+U96","v":2.1614272157610553E-2},{"$f":"IF(C116<$C$6,0,(C116-$C$6)/C116)","v":0},null,0.28493121752774286,8.213138465499579E-4,0.15921286225594175,-0.10839096072904436,7.3826141169849224,5.3621321442606229,0.72631889724862531,2.103537228890016,405.1037063962284,0.13581943075950567,-239.70882105445159,-8.0367360529167792E-2,2.8056511352913222E-2,2.3197240201786893,1.0717588570147141E-2,3.1946637083503267E-3,0,2.3196240201786895,7.3826141169849224,0.15800025885164087,0.15800025885164087,-2.3197240201786897,6.3200103540656354E-3,2.2120036239229719E-2,0.37506660168997658,0.36826858930445572,0,0.28803069332950537,0,0]
[null,{"$f":"IF(R97>$Q$29*V97,B97,IF(Q97>Q96,$U$6,-0.5)*B97)","v":-9.2191671472819291E-8},{"$f":"IF(Q97>Q96,C97,(1-$T$6)*C97+$T$6*C98)","v":4.9415891915262342E-2},{"$f":"D97+B117","v":4.5830839789310089E-4},8.8843737544435961E-2,-6.0484171509460449E-2,5.2988762092820041,3.4873218906731238,0.65812480853287469,0.26184869403023453,50.107831219436733,1.6799691055309107E-2,458.33333333333337,0.15366576866258877,2.7665965934251035E-2,{"$f":"0.1*$Q$6*D117*$B$6^2/C117+$R$6","v":3.4484119956351846E-2},0.12498261642295486,2.3356050397063149E-2,-2.4632980937242727E-2,3.2941704191250754E-2,1.9623693300067347E-2,{"$f":"MAX(S97*Q117^2+T97*Q117+U97,S98*Q117^2+T98*Q117+U98)","v":2.3355675180694934E-2},0,null,0.40264023692856254,7.019776466238956E-4,0.13607936944952284,-9.2641846776960982E-2,5.240432428427904,4.1441649009637143,0.7908059034370446,2.1100089545903336,362.77309005857063,0.12162721251044245,-262.73645509187929,-8.8087853077914238E-2,1.3851802765177335E-2,2.3197240201786902,6.4823739458415974E-3,-1.1855157847719348E-3,0,2.3196240201786895,5.240432428427904,0.13504295628345372,0.13504295628345372,-2.3197240201786897,5.4017182513381489E-3,1.8906013879683516E-2,0.54495946116873828,0.55295078958555244,0,0.39556915184373859,0,0]
[null,2.0798428890166141E-6,5.3135963724627852E-2,4.9954545751757634E-4,9.683760045252017E-2,-6.5926335341366452E-2,5.72350758478537,3.7622312544524981,0.65732965296552159,0.30412409140278779,70.860034166551685,2.3757298074895562E-2,458.33333333333337,0.15366576866258877,3.070479387670318E-2,3.4955411801143928E-2,0.17421562081509459,2.4615015108919606E-2,-6.2132347857460378E-2,4.4161448671322698E-2,1.8807184930527736E-2,{"$f":"MAX(S98*Q118^2+T98*Q118+U98,S99*Q118^2+T99*Q118+U99)","v":2.462556813888114E-2},0,null,0.69610694949070118,5.826414466978333E-4,0.11294587664310396,-7.6892732824877602E-2,3.0520251661289035,2.6411329291569206,0.86537062618879179,2.1245359281628415,315.1033411343322,0.10564493917866999,-267.07712507627502,-8.9543152837178522E-2,-7.0906267570991248E-3,2.3197240201786897,3.1120988005621051E-3,-1.430983709793233E-2,0,2.3196240201786895,3.0520251661289035,0.11208565371526658,0.11208565371526658,-2.3197240201786897,4.4834261486106641E-3,1.5691991520137318E-2,0.71789410646855767,0.74141904468602848,0,0.63805827573020191,0,0]
[null,-3.1373379428965287E-6,5.7428181372141097E-2,5.9665566468763314E-4,0.11566255281726977,-7.8742226241019925E-2,6.6913538281696416,4.3857658199425371,0.65543773839594177,0.38427228126929686,103.89717529122196,3.4833685751994206E-2,458.33333333333337,0.15366576866258877,3.6405657969960585E-2,3.8630174974154934E-2,0.26544019835870225,2.6151656662189524E-2,-1.1319651184972036E-2,2.1821350891350188E-2,2.1156958583752706E-2,2.612335978488875E-2,0,null,1.6065523885926947,4.63305246771771E-4,8.9812383836685064E-2,-6.114361887279423E-2,1.3391741081016206,1.2472569640813183,0.9313628127483724,2.1514533621121501,259.22101926260041,8.6909230207608462E-2,-242.67378974444364,-8.136142785893101E-2,-4.3330928243426915E-2,2.3197240201786897,1.072260472776559E-3,-4.581827661801486E-2,0,2.3196240201786895,1.3391741081016206,8.9128351147079427E-2,8.9128351147079427E-2,-2.3197240201786897,3.5651340458831772E-3,1.247796916059112E-2,0.85970823400314633,0.88795883577897139,0,1.2830403746149783,0,0]
[null,-3.3034717586264652E-6,6.2195419634221871E-2,6.6458901019855765E-4,0.12883152887538646,-8.7707569533840346E-2,7.3421035335372213,4.8024511721978609,0.65409744636005884,0.45664521026625066,136.08525703635732,4.5625408638846135E-2,458.33333333333337,0.15366576866258877,4.1238566181682333E-2,3.9730380417586135E-2,0.34860485024250809,2.7388362866131843E-2,-2.6570039721331703E-2,3.1185776461346501E-2,1.9745783086923038E-2,2.7351076976061491E-2,0,null,5.4390173563265405,3.4396904684570869E-4,6.6678891030266169E-2,-4.5394504920710864E-2,0.40256753350189617,0.39208106029262185,0.97395102104222486,2.1895718018103794,195.91451184805103,6.5684408847898057E-2,-192.28580501275113,-6.4467809520412492E-2,{"$f":"(0.5*$C$6-Y120+AE120*Y120)*AF120+(0.5*$C$6-$I$6)*AH120+(0.5*$C$6-$M$6)*AJ120","v":-0.11309809896616328},2.3197240201786902,2.3514020292743582E-4,-1.0458182766180149,0,2.3196240201786895,0.40256753350189617,6.6171048578892291E-2,6.6171048578892291E-2,-2.3197240201786897,2.646841943155692E-3,9.26394680104492E-3,0.9474827193366705,0.96690578679793548,0,3.4274432667966819,0,0]
[null,3.4696055743564009E-5,6.7505252560478693E-2,7.3617729965554091E-4,0.1427090210378906,-9.7155265446658923E-2,8.0049340873825692,5.2245756102041243,0.65266941028772929,0.54037509729874533,172.11291370218316,5.7704428758117335E-2,453.63270824308131,0.15208978647854171,4.6453489590225071E-2,4.054831630205314E-2,0.44598973957832094,2.8369356562333005E-2,-5.8578742303513863E-2,5.6619718360332444E-2,1.476925609602624E-2,2.8042603990367294E-2,0,null,30.684765929590384,{"$f":"0.1*$O$30","v":2.2463284691964672E-4},4.3545398223847336E-2,-2.964539096862753E-2,7.2790192682945051E-2,7.2291325601350986E-2,0.99314650692343953,2.2335500244459516,128.72405715745754,4.3157413502111393E-2,-128.30400481490346,-4.3016582230626828E-2,-0.26868418148190176,2.3197240201786902,2.7219391797504076E-5,-2.0458182766180149,0,2.3196240201786895,7.2790192682945051E-2,4.3213746010705212E-2,4.3213746010705212E-2,{"$f":"-(AP121+0.0001)","v":-2.3197240201786897},1.7285498404282084E-3,6.049924441498729E-3,0.98626368101215445,0.99413389691767473,0,13.103947291794221,0,0]
[null,3.6357393900863374E-5,7.3437125604676246E-2,7.7142739976763304E-4,0.14954230329318166,-0.10180731439602757,8.3228026273034388,5.4261357312946314,0.65196015984974542,0.61120270192421211,201.5400172824063,6.7570476375212477E-2,401.20323183892521,0.13451171565914888,4.9490595133252664E-2,3.9057762543062292E-2,0.54426146264027575,2.8232960164109006E-2,3.1219571543204781E-3,-4.4794734555163428E-3,2.9746177105645668E-2,2.803164637633572E-2,0,null,null,null,null,null,null,null,null,null,{"$f":"MAX(BA105:BA121)","v":445.71000544916774},null,{"$f":"MAX(BB105:BB121)","v":0},null,null,null,null,null,{"$f":"MAX(AN105:AN121)","v":4.8764593143654777E-3},2.3196240201786895]
[null,3.801873205816274E-5,8.0084861800030091E-2,8.0667749987972475E-4,0.15637558554847264,-0.10645936334539617,8.6351278053003586,5.6235992615842134,0.65124678966909699,0.6915430169130764,231.67697197182642,7.767451631884742E-2,346.28927655257911,0.11610067169686655,5.2612936358290958E-2,3.7452212904381485E-2,0.65311686153505721,2.8152264608638553E-2,1.3670664137893368E-2,-1.7110266545723476E-2,3.3495887351255631E-2,2.8146609637474208E-2,0,null,{"$f":"0.5*(-(AR123+AS123+AT123)+SQRT((AR123+AS123+AT123)^2+4*AQ123*(AU123+AV123)))/AQ123","v":0.22748823649445241},{"$f":"MAX(AO105:AO121)","v":9.406500464760202E-4},0.18234635506236063,{"$f":"IF($C$2=1,-($O$31-2)*Z123/$O$30,3*($O$30/Z123)^2)","v":-0.12414007468112773},{"$f":"IF($C$2=1,0.5*($O$31*Z123*$F$6/$O$30)*(1-AW123^2+(AA123-AB123)*(AB123^2*(1-AW123^2)+2*AB123*(1-AW123)+2*LN((1-AB123)/(1-AB123*AW123)))/(AB123^3)),$F$6*AB123*(LN((1-AA123+AA123^2)/(1+AA123)^2)/(6*AA123)+ATAN((2-AA123)/(AA123*3^0.5))/(AA123*3^0.5)-LN((AW123^2-AA123*AW123+AA123^2)/(AW123+AA123)^2)/(6*AA123)-ATAN((2*AW123-AA123)/(AA123*3^0.5))/(AA123*3^0.5)))","v":9.2356050879472225},{"$f":"IF($C$2=1,($O$31*Z123*$F$6/$O$30)*(1-AW123^3-(AA123-AB123)*(-2*AB123^3*(1-AW123^3)-3*AB123^2*(1-AW123^2)-6*AB123*(1-AW123)-6*LN((1-AB123)/(1-AB123*AW123)))/(2*AB123^4))/3,$F$6*AB123*(LN((1+AA123^3)/(AA123^3+AW123^3)))/3)","v":6.2605307163381001},{"$f":"AD123/AC123","v":0.67786903583700264},{"$f":"AC123*Y123*$D$6","v":2.1009915144163056},{"$f":"MAX(MIN($K$6,$Q$6*$J$6*Z123*(Y123-$I$6)/Y123),-$K$6)","v":444.83210678624073},0.14913920206932313,{"$f":"MIN($O$6,$Q$6*$N$6*Z123*(C$6-Y123-$M$6)/Y123)","v":-207.57343120026454},-6.9593303693061007E-2,{"$f":"(0.5*$C$6-Y123+AE123*Y123)*AF123+(0.5*$C$6-$I$6)*AH123+(0.5*$C$6-$M$6)*AJ123","v":3.9103761632258087E-2},{"$f":"AF123+AH123-AJ123","v":2.3197240201786897},{"$f":"0.1*$Q$6*Z123*$B$6^2/Y123+$R$6","v":1.537436217797126E-2},{"$f":"AK123-AM123*AL123","v":3.4394843930913993E-3},{"$f":"IF(AN123=$AO$111,Z123,0)","v":0},{"$f":"AP122","v":2.3196240201786895},{"$f":"AC123*$D$6","v":9.2356050879472225},{"$f":"IF(AG122<$K$6,$Q$6*Z123*$H$6*$J$6,$H$6*$K$6)","v":0.18095756141982802},{"$f":"IF(AI122<$O$6,$Q$6*Z123*$L$6*$N$6,-$L$6*$O$6)","v":0.18095756141982802},{"$f":"-(AP123+0.0001)","v":-2.3197240201786897},{"$f":"IF(AG122<$K$6,$I$6*$Q$6*Z123*$H$6*$J$6,0)","v":7.238302456793121E-3},{"$f":"IF(AI122<$O$6,($C$6-$M$6)*$Q$6*Z123*$L$6*$N$6,0)","v":2.5334058598775917E-2},{"$f":"MAX(AY105:AY121)","v":0.21606970137636086},{"$f":"IF(Y123<=$C$6,0,(Y123-$C$6)/Y123)","v":0.20875029507563339}]
[null,3.9680070215462101E-7,8.7559791299448214E-2,7.5899625324150107E-4,0.14713250778338674,-0.10016674310821719,8.2113399675688257,5.3555241759205252,0.65221074721939243,0.71898321384914421,236.55265073944872,7.9309188883746065E-2,260.82684626055845,8.7447617058474716E-2,5.1151597915182423E-2,3.2230191405600468E-2,0.71084478567441556,2.8240934413222969E-2,1.5946531838172205E-2,-2.021446280302663E-2,3.455249242154617E-2,2.8241525005074847E-2,0,null,{"$f":"0.5*(-(AR124+AS124+AT124)+SQRT((AR124+AS124+AT124)^2+4*AQ124*(AU124+AV124)))/AQ124","v":0.22668403164997661},{"$f":"Z123","v":9.406500464760202E-4},0.18234635506236063,{"$f":"IF($C$2=1,-($O$31-2)*Z124/$O$30,3*($O$30/Z124)^2)","v":-0.12414007468112773},{"$f":"IF($C$2=1,0.5*($O$31*Z124*$F$6/$O$30)*(1-AW124^2+(AA124-AB124)*(AB124^2*(1-AW124^2)+2*AB124*(1-AW124)+2*LN((1-AB124)/(1-AB124*AW124)))/(AB124^3)),$F$6*AB124*(LN((1-AA124+AA124^2)/(1+AA124)^2)/(6*AA124)+ATAN((2-AA124)/(AA124*3^0.5))/(AA124*3^0.5)-LN((AW124^2-AA124*AW124+AA124^2)/(AW124+AA124)^2)/(6*AA124)-ATAN((2*AW124-AA124)/(AA124*3^0.5))/(AA124*3^0.5)))","v":9.2706110208451005},{"$f":"IF($C$2=1,($O$31*Z124*$F$6/$O$30)*(1-AW124^3-(AA124-AB124)*(-2*AB124^3*(1-AW124^3)-3*AB124^2*(1-AW124^2)-6*AB124*(1-AW124)-6*LN((1-AB124)/(1-AB124*AW124)))/(2*AB124^4))/3,$F$6*AB124*(LN((1+AA124^3)/(AA124^3+AW124^3)))/3)","v":6.2679670136928509},{"$f":"AD124/AC124","v":0.67611153133264223},{"$f":"AC124*Y124*$D$6","v":2.1014994820638728},{"$f":"MAX(MIN($K$6,$Q$6*$J$6*Z124*(Y124-$I$6)/Y124),-$K$6)","v":444.49541862181849},0.1490263203698638,{"$f":"MIN($O$6,$Q$6*$N$6*Z124*(C$6-Y124-$M$6)/Y124)","v":-206.39502262478672},-6.9198217744953258E-2,{"$f":"(0.5*$C$6-Y124+AE124*Y124)*AF124+(0.5*$C$6-$I$6)*AH124+(0.5*$C$6-$M$6)*AJ124","v":3.8833543875066032E-2},{"$f":"AF124+AH124-AJ124","v":2.3197240201786897},{"$f":"0.1*$Q$6*Z124*$B$6^2/Y124+$R$6","v":1.5428905660607662E-2},{"$f":"AK124-AM124*AL124","v":3.0427408090834829E-3},{"$f":"IF(AN124=$AO$111,Z124,0)","v":0},{"$f":"AP123","v":2.3196240201786895},{"$f":"AC124*$D$6","v":9.2706110208451005},{"$f":"IF(AG123<$K$6,$Q$6*Z124*$H$6*$J$6,$H$6*$K$6)","v":0.18095756141982802},{"$f":"IF(AI123<$O$6,$Q$6*Z124*$L$6*$N$6,-$L$6*$O$6)","v":0.18095756141982802},{"$f":"-(AP124+0.0001)","v":-2.3197240201786897},{"$f":"IF(AG123<$K$6,$I$6*$Q$6*Z124*$H$6*$J$6,0)","v":7.238302456793121E-3},{"$f":"IF(AI123<$O$6,($C$6-$M$6)*$Q$6*Z124*$L$6*$N$6,0)","v":2.5334058598775917E-2},{"$f":"IF(Y123<=$C$6,0,(Y123-$C$6)/Y123)","v":0.20875029507563339},{"$f":"IF(Y124<=$C$6,0,(Y124-$C$6)/Y124)","v":0.20594318580878934}]
[null,-2.8938985860933029E-7,9.5994684279247358E-2,7.2681899785217562E-4,0.14089490086662168,-9.5920225604678833E-2,7.9196074710739133,5.1703713497343182,0.65285702209597096,0.76024021880130888,243.26456413767642,8.1559497243459636E-2,191.17768206645948,6.4096288289180736E-2,5.0370254717728047E-2,2.815185755402801E-2,0.77770342775558787,2.8476458600273424E-2,-3.387992047166841E-3,8.5659081840145437E-3,2.3863856675459247E-2,2.8476399783359561E-2,0]
[null,3.0101922571042577E-6,0.10554872685841464,7.2622590774083762E-4,0.14077992950141402,-9.5841953933944374E-2,7.9141865113690093,5.1669262625169736,0.65286890258329155,0.83533231039503697,258.78313175575317,8.6762419326894089E-2,136.01192248645225,4.5600821707979175E-2,5.1192124488465413E-2,2.5582719514894919E-2,0.87649390801395188,2.8769026683230375E-2,-1.1262075256376904E-2,2.1591195650317502E-2,1.8496469614254041E-2,2.8770488662738382E-2,0]
[null,-3.126485928115213E-5,0.11641386182692361,7.198910684225562E-4,0.13955191185136248,-9.500592843327009E-2,7.8561856853513818,5.1300556912360546,0.65299572804160422,0.91456891486115088,271.13601091141925,9.0903978608315533E-2,83.689677031873998,2.8058702291403746E-2,5.1314312301301755E-2,2.2992704578725407E-2,0.97741419117806261,2.8840916552490724E-2,-1.2209244812079505E-2,2.3347160960942658E-2,1.7685031744080502E-2,2.8868737168774028E-2,0]
[null,3.2427795991261688E-6,0.12882293018018509,7.8233891952280928E-4,0.1516575169829075,-0.10324733651941638,8.4200714859533878,5.4876955634709015,0.65173978304407953,1.0846982811471406,309.51366165445233,0.10377088304662656,38.947778456312705,1.3058051594595286E-2,5.4800495069641561E-2,2.2580301319177577E-2,1.175411112599172,2.8259357973242496E-2,-1.4090702426650453E-2,2.7397610521575348E-2,1.5523493760285161E-2,2.8255053960606836E-2,0]
[null,4.7986761001958921E-7,0.14306020987399781,9.1788577005818303E-4,0.17793346756400183,-0.1211358129100694,9.5847193613108672,6.2201792494832659,0.64896832291107942,1.3711919634125029,379.41436203346711,0.12720654454581481,-11.266109184630556,-3.7771970786027024E-3,6.0719313675143695E-2,2.3856006784604609E-2,1.5021757050369204,2.4883399864114711E-2,-1.382960415967565E-2,2.6698497243815986E-2,1.598450818610804E-2,2.4884555841264595E-2,0]
[null,4.9648099159258281E-5,0.15947517602038869,1.0534282006643692E-3,0.20420856133551005,-0.13902370599097669,10.670517904979068,6.8945526098261309,0.64613101924593563,1.7016827211252459,452.83761436287404,0.15182321474269958,-73.815268929713667,-2.4748101903534884E-2,6.3473598417227384E-2,2.4560647984068797E-2,1.8782540377714805,1.7342462170866192E-2,-1.7381725053064644E-2,3.8706192361879291E-2,5.9623142329943424E-3,1.7266803300049018E-2,0]
[null,5.1309437316557647E-5,0.17850063403985802,1.0886783007764611E-3,0.21104184359080108,-0.14367575494034532,10.940330752438424,7.0606895261203002,0.64538172436391705,1.9528559759160158,458.33333333333337,0.15366576866258877,-134.73506923799229,-4.5172730138756077E-2,5.7566712928378255E-2,2.2677113518658549E-2,2.1516944747173605,8.7724930677422902E-3,-8.1872824202505173E-3,1.6530619506060255E-3,4.3120999812735511E-2,8.8665616092204122E-3,0]
[null,-5.2970775473857012E-6,0.20067685341513844,1.0656605478673107E-3,0.20657981931255467,-0.14063804120627543,10.62356535147946,6.9429638025599516,0.65354366193013158,2.1319036667849871,458.33333333333337,0.15366576866258877,-184.88327294142826,-6.198595690778131E-2,4.8233081354353211E-2,1.9744656178257783E-2,2.3475553923553574,1.8814072728816286E-3,1.1779025339255934E-2,-8.8180345582286379E-2,0.1439752521639224,{"$f":"S112*Q132^2+T112*Q132+U112","v":1.8584440801070468E-3},0.10303556719799878]
[null,null,{"$f":"C113","v":0.22668403164997661},{"$f":"D113+(D132-D112)","v":1.095926633507505E-3},0.21244694324368113,-0.14463233658291944,10.429684197763676,7.0172290274462013,0.67281318344718721,2.364242862785122,458.33333333333337,0.15366576866258877,-240.46541342902509,-8.062102383564726E-2,4.1082867169531717E-2,1.7975812261617426E-2,2.5985296552833579,-5.6278140700873683E-3,null,null,null,null,0.20594318580878934]
[null,"De","hc","e0","a'","b'","N'","tN'","t","Nc","sac","Nac","sat","Nat","Mtot","u","N","Mo","a''","b''","c''",null,"x"]
[null,null,{"$f":"$C$35","v":4.0138687861173784E-2},{"$f":"$D$35","v":3.210578024372992E-4},{"$f":"$E$35","v":6.2237513577017019E-2},{"$f":"$F$35","v":-4.2370847395201951E-2},{"$f":"IF($C$2=1,0.5*($O$31*D135*$F$6/$O$30)*(1-W135^2+(E135-F135)*(F135^2*(1-W135^2)+2*F135*(1-W135)+2*LN((1-F135)/(1-F135*W135)))/(F135^3)),$F$6*F135*(LN((1-E135+E135^2)/(1+E135)^2)/(6*E135)+ATAN((2-E135)/(E135*3^0.5))/(E135*3^0.5)-LN((W135^2-E135*W135+E135^2)/(W135+E135)^2)/(6*E135)-ATAN((2*W135-E135)/(E135*3^0.5))/(E135*3^0.5)))","v":3.8254468270961333},{"$f":"IF($C$2=1,($O$31*D135*$F$6/$O$30)*(1-W135^3-(E135-F135)*(-2*F135^3*(1-W135^3)-3*F135^2*(1-W135^2)-6*F135*(1-W135)-6*LN((1-F135)/(1-F135*W135)))/(2*F135^4))/3,$F$6*F135*(LN((1+E135^3)/(E135^3+W135^3)))/3)","v":2.5276172507990187},{"$f":"$I$35","v":0.66073778176593112},{"$f":"$J$35","v":0.15354841612232933},{"$f":"$K$35","v":0.6365191476987323},{"$f":"$L$35","v":2.1340626348999612E-4},{"$f":"$M$35","v":458.32156291626706},{"$f":"$N$35","v":0.15366182238581935},{"$f":"$O$35","v":1.9422167141878287E-2},{"$f":"$P$35","v":2.9740483717744983E-2},{"$f":"$Q$35","v":9.9999999999988987E-5},{"$f":"$R$35","v":1.9419193093506513E-2},null,null,null,null,{"$f":"IF(C135<$C$6,0,(C135-$C$6)/C135)","v":0}]
[null,{"$f":"IF(R116>$Q$29*V116,B116,IF(Q116>Q115,$U$6,-0.5)*B116)","v":3.9768977969850172E-9},{"$f":"IF(Q116>Q115,C116,(1-$T$6)*C116+$T$6*C117)","v":4.5181422537606569E-2},{"$f":"D116+B136","v":3.9334521023631444E-4},{"$f":"IF($C$2=1,D136/($O$31*$O$30),2^(1/3)*$O$30/D136)","v":7.6250530828691515E-2},{"$f":"IF($C$2=1,-($O$31-2)*D136/$O$30,3*($O$30/D136)^2)","v":-5.1910807804807536E-2},{"$f":"IF($C$2=1,0.5*($O$31*D136*$F$6/$O$30)*(1-W136^2+(E136-F136)*(F136^2*(1-W136^2)+2*F136*(1-W136)+2*LN((1-F136)/(1-F136*W136)))/(F136^3)),$F$6*F136*(LN((1-E136+E136^2)/(1+E136)^2)/(6*E136)+ATAN((2-E136)/(E136*3^0.5))/(E136*3^0.5)-LN((W136^2-E136*W136+E136^2)/(W136+E136)^2)/(6*E136)-ATAN((2*W136-E136)/(E136*3^0.5))/(E136*3^0.5)))","v":4.6131145826180227},{"$f":"IF($C$2=1,($O$31*D136*$F$6/$O$30)*(1-W136^3-(E136-F136)*(-2*F136^3*(1-W136^3)-3*F136^2*(1-W136^2)-6*F136*(1-W136)-6*LN((1-F136)/(1-F136*W136)))/(2*F136^4))/3,$F$6*F136*(LN((1+E136^3)/(E136^3+W136^3)))/3)","v":3.0417395935099361},{"$f":"H136/G136","v":0.65936788237843769},{"$f":"G136*C136*$D$6","v":0.20842707917165945},{"$f":"MAX(MIN($K$6,$Q$6*$J$6*D136*(C136-$I$6)/C136),-$K$6)","v":25.883079121109166},{"$f":"K136*$H$6","v":8.6778398149087461E-3},{"$f":"MIN($O$6,$Q$6*$N$6*D136*(C$6-C136-$M$6)/C136)","v":458.33333333333337},{"$f":"M136*$L$6","v":0.15366576866258877},{"$f":"(0.5*$C$6-C136+I136*C136)*J136+(0.5*$C$6-$I$6)*L136+(0.5*$C$6-$M$6)*N136","v":2.3667874020503448E-2},{"$f":"0.1*$Q$6*D136*$B$6^2/C136+$R$6","v":3.2369943097183239E-2},{"$f":"(J136+L136-N136)","v":6.3439150323979426E-2},{"$f":"O136-P136*Q136","v":2.1614352334382581E-2},{"$f":"((R136-R135)*(Q136-Q137)-(R136-R137)*(Q136-Q135))/((Q136^2-Q135^2)*(Q136-Q137)-(Q136^2-Q137^2)*(Q136-Q135))","v":-5.0906983658819863E-2},{"$f":"-(S136*(Q136^2-Q135^2)-(R136-R135))/(Q136-Q135)","v":3.78918123838256E-2},{"$f":"R136-S136*Q136^2-T136*Q136","v":1.9415404421337965E-2},{"$f":"S116*Q136^2+T116*Q136+U116","v":2.1614354211990518E-2},{"$f":"IF(C136<$C$6,0,(C136-$C$6)/C136)","v":0}]
[null,{"$f":"IF(R117>$Q$29*V117,B117,IF(Q117>Q116,$U$6,-0.5)*B117)","v":9.21916714728193E-9},{"$f":"IF(Q117>Q116,C117,(1-$T$6)*C117+$T$6*C118)","v":4.9415891915262342E-2},{"$f":"D117+B137","v":4.5831761706024819E-4},8.8845524693155431E-2,-6.0485388187333858E-2,5.2989720627524504,3.4873840350784282,0.65812463130197607,0.2618534307149698,50.108839170575145,1.6800028991861379E-2,458.33333333333337,0.15366576866258877,2.7666326817514776E-2,{"$f":"0.1*$Q$6*D137*$B$6^2/C137+$R$6","v":3.4484813626525168E-2},0.12498769104424243,2.3356149586244365E-2,-2.4384166490074955E-2,3.2894201720532146E-2,1.9625706833646756E-2,{"$f":"MAX(S117*Q137^2+T117*Q137+U117,S118*Q137^2+T118*Q137+U118)","v":2.3356195684518896E-2},0]
[null,-2.0798428890166141E-7,5.3135963724627852E-2,4.9933747322867465E-4,9.6797282401047638E-2,-6.5898887104635387E-2,5.7213864953250262,3.760860014048971,0.65733367552113264,0.30401138527016625,70.830531798757335,2.3747406793387594E-2,458.33333333333337,0.15366576866258877,3.0696272907494944E-2,3.4940858217766643E-2,0.17409302340096508,2.4613313260139491E-2,-6.0826097174438147E-2,4.3793280385374223E-2,1.8832749188754955E-2,{"$f":"MAX(S118*Q138^2+T118*Q138+U118,S119*Q138^2+T119*Q138+U119)","v":2.4612823236519116E-2},0]
[null,-3.1373379428965287E-6,5.7428181372141097E-2,5.9351832674473665E-4,0.11505437537590438,-7.8328183454342573E-2,6.6607818993155901,4.3661378495536818,0.65549929656191142,0.38251659099417018,103.35086261962171,3.4650523083023521E-2,458.33333333333337,0.15366576866258877,3.6274580843164976E-2,3.8427049585660393E-2,0.2635013454146049,2.6149001577029728E-2,-1.2101682416811501E-2,2.2471750863602542E-2,2.1067920610153418E-2,2.6120957025367542E-2,0]
[null,-3.3034717586264652E-6,6.2195419634221871E-2,6.6128553843993116E-4,0.12819114615654889,-8.7271601628072168E-2,7.3109523063841468,4.7825541417847477,0.65416295187816709,0.45470774662134422,135.40881822005682,4.5398618477406068E-2,458.33333333333337,0.15366576866258877,4.1096389219707083E-2,3.9532892665524504E-2,0.34644059643616154,2.7400590305816017E-2,-4.3022404515113619E-2,4.1331596143668846E-2,1.8245243235338177E-2,2.7360837039274541E-2,0]
[null,3.4696055743564009E-5,6.7505252560478693E-2,7.7087335539910494E-4,0.14943490100098766,-0.1017341956952489,8.3178495380804822,5.4229995023789064,0.65197133917264594,0.56149853382818393,180.22459990982949,6.0424040022657756E-2,458.33333333333337,0.15366576866258877,4.8047645198156366E-2,4.2459359529522907E-2,0.46825680518825297,2.8165761154522566E-2,-1.9608825622886999E-2,2.2256614257443574E-2,2.2043468151106044E-2,2.8437589656457062E-2,0]
[null,3.6357393900863374E-5,7.3437125604676246E-2,8.0778479366849646E-4,0.15659023603100028,-0.10660549583552578,8.6448494982157875,5.629736178264058,0.6512243133239024,0.63485289843399517,211.03860366568802,7.0755074726765163E-2,420.11195084302204,0.14085125640138038,5.1456536857186236E-2,4.0898555932164418E-2,0.56475671675937988,2.8358802688737198E-2,-2.4110649962482779E-2,2.6907059673678985E-2,2.0852955410812113E-2,2.8212113084029326E-2,0]
[null,-3.8018732058162743E-6,8.0084861800030091E-2,8.028756266739085E-4,0.15563858699721864,-0.10595762008235553,8.6017073015645487,5.6024978067442026,0.65132393027662949,0.68886654049010665,230.58507778576609,7.7308436116521953E-2,344.65721426971754,0.11555348892188225,5.2405399599673469E-2,3.7275700525195347E-2,0.65062148768474637,2.8153027869479791E-2,2.6400641198366128E-2,-3.4483262681548013E-2,3.9412968456709378E-2,2.8150828165917328E-2,0]
[null,-3.9680070215462105E-8,8.7559791299448214E-2,7.5895657317128558E-4,0.14712481574509947,-0.10016150642439588,8.2109830738257106,5.3552979670182035,0.65221154627505895,0.71895196430748098,236.54028384600105,7.9305042625882199E-2,260.81321032028933,8.7443045326308394E-2,5.1149351480628623E-2,3.2228506421975618E-2,0.71081396160705479,2.8240879154145727E-2,1.6224353254520377E-2,-2.0628903532595628E-2,3.4706732052057723E-2,2.8240858707350852E-2,0]
[null,2.893898586093303E-8,9.5994684279247358E-2,7.2684793683803659E-4,0.14090051073036508,-9.5924044759187393E-2,7.9198719384258984,5.1705394177821962,0.65285644237447837,0.76026560626126494,243.27424994638926,8.1562744611985399E-2,191.18529398669631,6.4098840343524421E-2,5.0371941242665086E-2,2.8152978446863947E-2,0.77772951052972594,2.8476539095231665E-2,-3.3660336771440527E-3,8.5322390511671422E-3,2.3876754867062949E-2,2.8476564856092033E-2,0]
[null,-3.0101922571042578E-7,0.10554872685841464,7.2592488851512722E-4,0.14072157649455708,-9.5802227630522457E-2,7.9114345289818129,5.165177280260953,0.6528749320163687,0.8350418421577317,258.67586665116568,8.6726456472900393E-2,135.95554580922573,4.5581920256108653E-2,5.1174413088618746E-2,2.557211552743336E-2,0.87618637837452351,2.8768473797261992E-2,-1.1014649049830303E-2,2.1182405544170231E-2,1.8664712977592389E-2,2.8768457021979811E-2,0]
[null,3.1264859281152132E-6,0.11641386182692361,7.2301755435067144E-4,0.14015798561416232,-9.5418539050852846E-2,7.8848339859275374,5.1482694996706719,0.65293315101612148,0.91790397416599967,272.31355423693566,9.1298774463404217E-2,84.053141185057626,2.8180561197178856E-2,5.1498890185676625E-2,2.3092561863345167E-2,0.98102218743222513,2.8844574633083767E-2,-1.2491564698411027E-2,2.3925345937688382E-2,1.7395217906668863E-2,2.8840201686803797E-2,0]
[null,-3.2427795991261691E-7,0.12882293018018509,7.820146415628967E-4,0.15159465523720447,-0.10320454069932175,8.4171884092851865,5.4858717228978771,0.6517463381057611,1.0843268747628088,309.38536884393028,0.10372787021751509,38.931634677924883,1.3052639057616923E-2,5.4782225617661946E-2,2.2570941828216218E-2,1.1750021059227069,2.8261321436848976E-2,-1.4041220424484711E-2,2.7266441329439818E-2,1.5608924891209311E-2,2.8261732987967927E-2,0]
[null,-4.7986761001958921E-8,0.14306020987399781,9.1783778329718104E-4,0.17792416526184096,-0.12112947997029355,9.5843211628635938,6.2199303441913747,0.64896931545780856,1.3711349970590645,379.39452637754391,0.12719989423021982,-11.26552019621119,-3.7769996080030039E-3,6.0716919528191811E-2,2.3854759600550366E-2,1.5021118908972875,2.488440147770888E-2,-1.4973820297780055E-2,2.9763117503671332E-2,1.3962900444113385E-2,2.4884347479263901E-2,0]
[null,4.9648099159258281E-5,0.15947517602038869,1.1030762998236274E-3,0.21383291627110107,-0.14557589695774076,11.049068434809973,7.1274697942156715,0.64507427357048974,1.7620521335026409,458.33333333333337,0.15366576866258877,-77.294184520713074,-2.5914480605505476E-2,6.5236858734524672E-2,2.5718191977821429E-2,1.9416323827707351,1.5301584364072043E-2,-1.4198606685983509E-2,2.7093480067177472E-2,1.6223848998085336E-2,1.558751433164722E-2,0]
[null,-5.1309437316557651E-6,0.17850063403985802,1.0835473570448052E-3,0.2100472028197698,-0.14299861072457806,10.901375190342931,7.0367405747635816,0.64549109189427167,1.945902383382591,458.33333333333337,0.15366576866258877,-134.10006249775705,-4.4959830941277881E-2,5.742968234004131E-2,2.2570236222236247E-2,2.1445279829864576,9.0271791788411257E-3,-1.07885872768635E-2,1.3159593911168532E-2,3.0422777588787163E-2,9.0417742266530043E-3,0]
[null,-5.2970775473857012E-6,0.20067685341513844,1.0603634703199251E-3,0.20555297326405128,-0.13993897187141741,10.583529867634718,6.9179160931685084,0.6536492247566712,2.1238694718620721,458.33333333333337,0.15366576866258877,-183.96427388873255,-6.1677843389600924E-2,4.8128985142218667E-2,1.9646511440581219E-2,2.3392130839142617,2.1716085271398441E-3,1.1999854466988612E-2,-8.9017878186415836E-2,0.14474117600430475,{"$f":"S132*Q152^2+T132*Q152+U132","v":2.1564930662696657E-3},0.10303556719799878]
[null,null,{"$f":"C133","v":0.22668403164997661},{"$f":"D133+(D152-D132)","v":1.0906295559601194E-3},0.21142009719517774,-0.14393326724806138,10.392222108064166,6.992971234084667,0.67290432800298361,2.3557508052580038,458.33333333333337,0.15366576866258877,-239.30314224822439,-8.0231348284246287E-2,4.1016577122488684E-2,1.7888927548156009E-2,2.589647922204839,-5.3094469330664321E-3,null,null,null,null,0.20594318580878934]
[null,"De","hc","e0","a'","b'","N'","tN'","t","Nc","sac","Nac","sat","Nat","Mtot","u","N","Mo","a''","b''","c''",null,"x"]
[null,null,{"$f":"$C$35","v":4.0138687861173784E-2},{"$f":"$D$35","v":3.210578024372992E-4},{"$f":"$E$35","v":6.2237513577017019E-2},{"$f":"$F$35","v":-4.2370847395201951E-2},{"$f":"IF($C$2=1,0.5*($O$31*D155*$F$6/$O$30)*(1-W155^2+(E155-F155)*(F155^2*(1-W155^2)+2*F155*(1-W155)+2*LN((1-F155)/(1-F155*W155)))/(F155^3)),$F$6*F155*(LN((1-E155+E155^2)/(1+E155)^2)/(6*E155)+ATAN((2-E155)/(E155*3^0.5))/(E155*3^0.5)-LN((W155^2-E155*W155+E155^2)/(W155+E155)^2)/(6*E155)-ATAN((2*W155-E155)/(E155*3^0.5))/(E155*3^0.5)))","v":3.8254468270961333},{"$f":"IF($C$2=1,($O$31*D155*$F$6/$O$30)*(1-W155^3-(E155-F155)*(-2*F155^3*(1-W155^3)-3*F155^2*(1-W155^2)-6*F155*(1-W155)-6*LN((1-F155)/(1-F155*W155)))/(2*F155^4))/3,$F$6*F155*(LN((1+E155^3)/(E155^3+W155^3)))/3)","v":2.5276172507990187},{"$f":"$I$35","v":0.66073778176593112},{"$f":"$J$35","v":0.15354841612232933},{"$f":"$K$35","v":0.6365191476987323},{"$f":"$L$35","v":2.1340626348999612E-4},{"$f":"$M$35","v":458.32156291626706},{"$f":"$N$35","v":0.15366182238581935},{"$f":"$O$35","v":1.9422167141878287E-2},{"$f":"$P$35","v":2.9740483717744983E-2},{"$f":"$Q$35","v":9.9999999999988987E-5},{"$f":"$R$35","v":1.9419193093506513E-2},null,null,null,null,{"$f":"IF(C155<$C$6,0,(C155-$C$6)/C155)","v":0}]
[null,{"$f":"IF(R136>$Q$29*V136,IF(B136=B96,1.22,1)*B136,IF(Q136>Q135,$U$6,-0.5)*B136)","v":-3.9768977969850172E-10},{"$f":"IF(Q136>Q135,C136,(1-$T$6)*C136+$T$6*C137)","v":4.5181422537606569E-2},{"$f":"D136+B156","v":3.9334481254653473E-4},{"$f":"IF($C$2=1,D156/($O$31*$O$30),2^(1/3)*$O$30/D156)","v":7.6250453735959692E-2},{"$f":"IF($C$2=1,-($O$31-2)*D156/$O$30,3*($O$30/D156)^2)","v":-5.191075532063541E-2},{"$f":"IF($C$2=1,0.5*($O$31*D156*$F$6/$O$30)*(1-W156^2+(E156-F156)*(F156^2*(1-W156^2)+2*F156*(1-W156)+2*LN((1-F156)/(1-F156*W156)))/(F156^3)),$F$6*F156*(LN((1-E156+E156^2)/(1+E156)^2)/(6*E156)+ATAN((2-E156)/(E156*3^0.5))/(E156*3^0.5)-LN((W156^2-E156*W156+E156^2)/(W156+E156)^2)/(6*E156)-ATAN((2*W156-E156)/(E156*3^0.5))/(E156*3^0.5)))","v":4.6131103209455651},{"$f":"IF($C$2=1,($O$31*D156*$F$6/$O$30)*(1-W156^3-(E156-F156)*(-2*F156^3*(1-W156^3)-3*F156^2*(1-W156^2)-6*F156*(1-W156)-6*LN((1-F156)/(1-F156*W156)))/(2*F156^4))/3,$F$6*F156*(LN((1+E156^3)/(E156^3+W156^3)))/3)","v":3.0417368184456586},{"$f":"H156/G156","v":0.65936788995373152},{"$f":"G156*C156*$D$6","v":0.20842688662323541},{"$f":"MAX(MIN($K$6,$Q$6*$J$6*D156*(C156-$I$6)/C156),-$K$6)","v":25.883052952146723},{"$f":"K156*$H$6","v":8.6778310412206107E-3},{"$f":"MIN($O$6,$Q$6*$N$6*D156*(C$6-C156-$M$6)/C156)","v":458.33333333333337},{"$f":"M156*$L$6","v":0.15366576866258877},{"$f":"(0.5*$C$6-C156+I156*C156)*J156+(0.5*$C$6-$I$6)*L156+(0.5*$C$6-$M$6)*N156","v":2.3667859287164757E-2},{"$f":"0.1*$Q$6*D156*$B$6^2/C156+$R$6","v":3.2369910369708224E-2},{"$f":"(J156+L156-N156)","v":6.3438949001867251E-2},{"$f":"O156-P156*Q156","v":2.1614346194025823E-2},{"$f":"((R156-R155)*(Q156-Q157)-(R156-R157)*(Q156-Q155))/((Q156^2-Q155^2)*(Q156-Q157)-(Q156^2-Q157^2)*(Q156-Q155))","v":-5.0906660739338312E-2},{"$f":"-(S156*(Q156^2-Q155^2)-(R156-R155))/(Q156-Q155)","v":3.7891794830343252E-2},{"$f":"R156-S156*Q156^2-T156*Q156","v":1.9415404423090088E-2},{"$f":"S136*Q156^2+T136*Q156+U136","v":2.1614346006258639E-2},{"$f":"IF(C156<$C$6,0,(C156-$C$6)/C156)","v":0}]
[null,{"$f":"IF(R137>$Q$29*V137,IF(B137=B97,1.22,1)*B137,IF(Q137>Q136,$U$6,-0.5)*B137)","v":-9.21916714728193E-10},{"$f":"IF(Q137>Q136,C137,(1-$T$6)*C137+$T$6*C138)","v":4.9415891915262342E-2},{"$f":"D137+B157","v":4.5831669514353346E-4},8.8845345978283474E-2,-6.0485266519546506E-2,5.2989624774241735,3.487377820648462,0.65812464902444012,0.26185295704742373,50.108738375461307,1.6799995198206154E-2,458.33333333333337,0.15366576866258877,2.7666290729251843E-2,{"$f":"0.1*$Q$6*D157*$B$6^2/C157+$R$6","v":3.4484744259507844E-2},0.12498718358304109,2.3356139667674514E-2,-2.4409105122328391E-2,3.2898962902476563E-2,1.9625505013919641E-2,{"$f":"MAX(S137*Q157^2+T137*Q157+U137,S138*Q157^2+T138*Q157+U138)","v":2.3356135986906949E-2},0]
[null,2.0798428890166144E-8,5.3135963724627852E-2,4.9935827165756481E-4,9.680131420619488E-2,-6.5901631928308502E-2,5.721598613629066,3.760997145052599,0.65733327327327029,0.30402265638067505,70.833482035536775,2.3748395921538393E-2,458.33333333333337,0.15366576866258877,3.0697125042406612E-2,3.4942313576104368E-2,0.17410528363962466,2.4613483626214253E-2,-5.8799317397993059E-2,4.3184816340316318E-2,1.8877142044607366E-2,{"$f":"MAX(S138*Q158^2+T138*Q158+U138,S139*Q158^2+T139*Q158+U139)","v":2.4613590509943824E-2},0]
[null,-3.8275522903337648E-6,5.7428181372141097E-2,5.8969077445440287E-4,0.11431239889743859,-7.7823051254596196E-2,6.6234217122340331,4.3421454330035729,0.65557435743269288,0.38037106339435339,102.6843611602694,3.4427064626879285E-2,458.33333333333337,0.15366576866258877,3.6114397290325916E-2,3.8179236611697039E-2,0.26113235935864387,2.6144563155401552E-2,-1.3812416245937336E-2,2.3604823517099503E-2,2.092245006894021E-2,2.6110806887738695E-2,0]
[null,-3.3034717586264652E-6,6.2195419634221871E-2,6.5798206668130467E-4,0.12755076343771135,-8.6835633722304004E-2,7.2797509114118526,4.7626199609445603,0.65422842332127074,0.45276716276786932,134.73237940375631,4.5171828315966008E-2,458.33333333333337,0.15366576866258877,4.0953981793751107E-2,3.9335404913462858E-2,0.34427322242124658,2.7411855188948713E-2,-4.2592537548031051E-2,4.1028469597689368E-2,1.8335091870908017E-2,2.7381707000264009E-2,0]
[null,-3.4696055743564009E-6,6.7505252560478693E-2,7.6740374982474857E-4,0.14876231300467796,-0.10127630267038989,8.2868005336817507,5.4033363966829917,0.65204132460062225,0.5594025629444962,179.41343128906487,6.015207889620372E-2,458.33333333333337,0.15366576866258877,4.7897294837272023E-2,4.2268255206775927E-2,0.46588887317811112,2.8204985047782356E-2,-2.0365647926372975E-2,2.3021086123151246E-2,2.1900130792941341E-2,2.8156433599102252E-2,0]
[null,4.4356020559053314E-5,7.3437125604676246E-2,8.5214081422754979E-4,0.16518871397113899,-0.11245927719171357,9.0298445784312964,5.8722932127631884,0.65032051900314636,0.66312583049696394,222.62687905329173,7.464028471565945E-2,443.18058802802011,0.1485854961069028,5.3813903220799694E-2,4.3144323866869005E-2,0.5891806191057205,2.8394103774020102E-2,-2.9420144288891666E-2,3.2574209003239644E-2,1.9414737686938494E-2,2.8336451899189624E-2,0]
[null,3.8018732058162744E-7,8.0084861800030091E-2,8.0325581399449009E-4,0.15571228685234403,-0.10600779440865959,8.6050522280119832,5.6046100763824747,0.65131621841152987,0.68913441846238066,230.69426720437215,7.7345044136754512E-2,344.82042049800373,0.11560820719938068,5.2426169182732928E-2,3.7293351763113963E-2,0.65087125539975443,2.8152998502610296E-2,4.4184054572403479E-2,-5.8698815766183146E-2,4.7640529539520325E-2,2.8153149499985271E-2,0]
[null,3.9680070215462105E-9,8.7559791299448214E-2,7.5896054117830718E-4,0.14712558494892822,-0.10016203009277801,8.2110187635177176,5.3553205881380643,0.65221146636909744,0.71895508928946472,236.54152053534585,7.9305457251668598E-2,260.81457391431621,8.7443502499525025E-2,5.114957612591238E-2,3.2228674920338103E-2,0.71081704404160828,2.8240884685659735E-2,1.620545775690253E-2,-2.0600687847728106E-2,3.4696221040183536E-2,2.8240890703970081E-2,0]
[null,-2.8938985860933031E-9,9.5994684279247358E-2,7.2684504293945055E-4,0.14089994974399075,-9.5923662843736546E-2,7.9198454918607855,5.170522611104821,0.65285650034695253,0.76026306753159656,243.27328136551799,8.1562419875132838E-2,191.18453279467263,6.4098585138090053E-2,5.0371772591247609E-2,2.8152866357580356E-2,0.77772690226863928,2.847653104898365E-2,-3.3682168873393386E-3,8.5355870510045069E-3,2.3875472124087638E-2,2.8476530497045831E-2,0]
[null,3.0101922571042576E-8,0.10554872685841464,7.2595499043769823E-4,0.14072741179524276,-9.5806200260864643E-2,7.9117097456365597,5.1653521921085979,0.65287432908637433,0.83507089092525044,258.68659316162439,8.6730052758299744E-2,135.96118347694838,4.5583810401295707E-2,5.1176184350136808E-2,2.5573175926179515E-2,0.87621713328225448,2.8768529451177031E-2,-1.1036868247018104E-2,2.121910722806445E-2,1.864961109121346E-2,2.8768536386085529E-2,0]
[null,-3.1264859281152137E-7,0.11641386182692361,7.2270490575785989E-4,0.14009737823788235,-9.5377277989094567E-2,7.8819711447952248,5.1464495900028595,0.65293941013743273,0.91757069977399019,272.19579990438399,9.1259294877895344E-2,84.016794769739249,2.8168375306601341E-2,5.1480446219061678E-2,2.3082576134883192E-2,0.98066161934528417,2.8844249727966315E-2,-1.246504621903363E-2,2.3871060559270768E-2,1.7422417016441712E-2,2.8844783457624631E-2,0]
[null,3.2427795991261689E-8,0.12882293018018509,7.8204706935888801E-4,0.1516009414117748,-0.10320882028133123,8.4174767380014135,5.4860541225070056,0.65174568261528398,1.0843640181128882,309.39819812498251,0.10373217150042624,38.933249055763667,1.305318031131476E-2,5.4784052715673812E-2,2.2571877777312357E-2,1.1750430093019997,2.8261125526623767E-2,-1.4046049533468724E-2,2.7279236722105197E-2,1.5600595940695079E-2,2.8261099493650906E-2,0]
[null,4.7986761001958927E-9,0.14306020987399781,9.1784258197328118E-4,0.17792509549205704,-0.12113011326427112,9.5843609831530951,6.2199552350459548,0.64896921620325831,1.3711406937580377,379.39650994313627,0.12720055926177934,-11.265579095053127,-3.7770193550629738E-3,6.0717158946170337E-2,2.3854884318955785E-2,1.50211827237488,2.4884301325277858E-2,-1.4837964617709877E-2,2.9399321124011502E-2,1.4202823390080471E-2,2.4884304340866525E-2,0]
[null,-4.9648099159258281E-6,0.15947517602038869,1.0981114899077016E-3,0.21287048077754195,-0.14492067786106433,11.011668625553297,7.1045125826025215,0.64518038311796233,1.7560877923383036,458.33333333333337,0.15366576866258877,-76.946292961613139,-2.579784273530842E-2,6.5073208858087789E-2,2.5602437578446161E-2,1.9355514037362009,1.5518374864057861E-2,-1.4721647628730915E-2,2.8999461738181978E-2,1.4541006559596101E-2,1.5475924462627959E-2,0]
[null,5.1309437316557655E-7,0.17850063403985802,1.0840604514179707E-3,0.21014666689687292,-0.14306632514615478,10.905275608019844,7.0391390420023567,0.64548015978850704,1.9465986104109403,458.33333333333337,0.15366576866258877,-134.16356317178057,-4.4981120861025695E-2,5.7443422416287346E-2,2.2580923951878482E-2,2.1452454999345547,9.0017969241556334E-3,-1.0551654920236112E-2,1.1982568405026759E-2,3.1855787638185126E-2,9.003414298778184E-3,0]
[null,-5.2970775473857012E-6,0.20067685341513844,1.0550663927725394E-3,0.20452612721554786,-0.13923990253655938,10.543378648755761,6.8927831971028084,0.6537546859247283,2.1158120515966603,458.33333333333337,0.15366576866258877,-183.0452748360369,-6.1369729871420559E-2,4.8024028868357709E-2,1.9548366702904656E-2,2.3308475501306698,2.4597662298364298E-3,1.2454534963513418E-2,-9.0995278242105349E-2,0.14689226355673379,{"$f":"S152*Q172^2+T152*Q172+U152","v":2.4474856800039135E-3},0.10303556719799878]
[null,null,{"$f":"C153","v":0.22668403164997661},{"$f":"D153+(D172-D152)","v":1.0853324784127337E-3},0.21039325114667434,-0.14323419791320335,10.354646306967505,6.96862915578998,0.6729953828650701,2.3472329711729354,458.33333333333337,0.15366576866258877,-238.14087106742372,-7.9841672732845329E-2,4.0949479283215857E-2,1.7802042834694592E-2,2.5807404125683697,-4.9929720865536514E-3,null,null,null,null,0.20594318580878934]
[null,"De","hc","e0","a'","b'","N'","tN'","t","Nc","sac","Nac","sat","Nat","Mtot","u","N","Mo","a''","b''","c''",null,"x"]
[null,null,{"$f":"$C$35","v":4.0138687861173784E-2},{"$f":"$D$35","v":3.210578024372992E-4},{"$f":"$E$35","v":6.2237513577017019E-2},{"$f":"$F$35","v":-4.2370847395201951E-2},{"$f":"IF($C$2=1,0.5*($O$31*D175*$F$6/$O$30)*(1-W175^2+(E175-F175)*(F175^2*(1-W175^2)+2*F175*(1-W175)+2*LN((1-F175)/(1-F175*W175)))/(F175^3)),$F$6*F175*(LN((1-E175+E175^2)/(1+E175)^2)/(6*E175)+ATAN((2-E175)/(E175*3^0.5))/(E175*3^0.5)-LN((W175^2-E175*W175+E175^2)/(W175+E175)^2)/(6*E175)-ATAN((2*W175-E175)/(E175*3^0.5))/(E175*3^0.5)))","v":3.8254468270961333},{"$f":"IF($C$2=1,($O$31*D175*$F$6/$O$30)*(1-W175^3-(E175-F175)*(-2*F175^3*(1-W175^3)-3*F175^2*(1-W175^2)-6*F175*(1-W175)-6*LN((1-F175)/(1-F175*W175)))/(2*F175^4))/3,$F$6*F175*(LN((1+E175^3)/(E175^3+W175^3)))/3)","v":2.5276172507990187},{"$f":"$I$35","v":0.66073778176593112},{"$f":"$J$35","v":0.15354841612232933},{"$f":"$K$35","v":0.6365191476987323},{"$f":"$L$35","v":2.1340626348999612E-4},{"$f":"$M$35","v":458.32156291626706},{"$f":"$N$35","v":0.15366182238581935},{"$f":"$O$35","v":1.9422167141878287E-2},{"$f":"$P$35","v":2.9740483717744983E-2},{"$f":"$Q$35","v":9.9999999999988987E-5},{"$f":"$R$35","v":1.9419193093506513E-2},null,null,null,null,{"$f":"IF(C175<$C$6,0,(C175-$C$6)/C175)","v":0}]
[null,{"$f":"IF(R156>$Q$29*V156,B156,IF(Q156>Q155,$U$6,-0.5)*B156)","v":3.9768977969850172E-11},{"$f":"IF(Q156>Q155,C156,(1-$T$6)*C156+$T$6*C157)","v":4.5181422537606569E-2},{"$f":"D156+B176","v":3.9334485231551272E-4},{"$f":"IF($C$2=1,D176/($O$31*$O$30),2^(1/3)*$O$30/D176)","v":7.625046144523287E-2},{"$f":"IF($C$2=1,-($O$31-2)*D176/$O$30,3*($O$30/D176)^2)","v":-5.1910760569052618E-2},{"$f":"IF($C$2=1,0.5*($O$31*D176*$F$6/$O$30)*(1-W176^2+(E176-F176)*(F176^2*(1-W176^2)+2*F176*(1-W176)+2*LN((1-F176)/(1-F176*W176)))/(F176^3)),$F$6*F176*(LN((1-E176+E176^2)/(1+E176)^2)/(6*E176)+ATAN((2-E176)/(E176*3^0.5))/(E176*3^0.5)-LN((W176^2-E176*W176+E176^2)/(W176+E176)^2)/(6*E176)-ATAN((2*W176-E176)/(E176*3^0.5))/(E176*3^0.5)))","v":4.6131107471143595},{"$f":"IF($C$2=1,($O$31*D176*$F$6/$O$30)*(1-W176^3-(E176-F176)*(-2*F176^3*(1-W176^3)-3*F176^2*(1-W176^2)-6*F176*(1-W176)-6*LN((1-F176)/(1-F176*W176)))/(2*F176^4))/3,$F$6*F176*(LN((1+E176^3)/(E176^3+W176^3)))/3)","v":3.0417370959219059},{"$f":"H176/G176","v":0.65936788918943789},{"$f":"G176*C176*$D$6","v":0.2084269058781478},{"$f":"MAX(MIN($K$6,$Q$6*$J$6*D176*(C176-$I$6)/C176),-$K$6)","v":25.883055569042973},{"$f":"K176*$H$6","v":8.6778319185894254E-3},{"$f":"MIN($O$6,$Q$6*$N$6*D176*(C$6-C176-$M$6)/C176)","v":458.33333333333337},{"$f":"M176*$L$6","v":0.15366576866258877},{"$f":"(0.5*$C$6-C176+I176*C176)*J176+(0.5*$C$6-$I$6)*L176+(0.5*$C$6-$M$6)*N176","v":2.3667860760440154E-2},{"$f":"0.1*$Q$6*D176*$B$6^2/C176+$R$6","v":3.2369913642455728E-2},{"$f":"(J176+L176-N176)","v":6.3438969134148454E-2},{"$f":"O176-P176*Q176","v":2.1614346808001353E-2},{"$f":"((R176-R175)*(Q176-Q177)-(R176-R177)*(Q176-Q175))/((Q176^2-Q175^2)*(Q176-Q177)-(Q176^2-Q177^2)*(Q176-Q175))","v":-5.090669301724917E-2},{"$f":"-(S176*(Q176^2-Q175^2)-(R176-R175))/(Q176-Q175)","v":3.7891796583805627E-2},{"$f":"R176-S176*Q176^2-T176*Q176","v":1.9415404422915061E-2},{"$f":"S156*Q176^2+T156*Q176+U156","v":2.1614346826841074E-2},{"$f":"IF(C176<$C$6,0,(C176-$C$6)/C176)","v":0}]
[null,{"$f":"IF(R157>$Q$29*V157,B157,IF(Q157>Q156,$U$6,-0.5)*B157)","v":9.2191671472819303E-11},{"$f":"IF(Q157>Q156,C157,(1-$T$6)*C157+$T$6*C158)","v":4.9415891915262342E-2},{"$f":"D157+B177","v":4.5831678733520491E-4},8.8845363849770667E-2,-6.0485278686325243E-2,5.2989634359575533,3.4873784420853933,0.65812464725097763,0.26185300441420561,50.108748454972691,1.6799998577571675E-2,458.33333333333337,0.15366576866258877,2.7666294338064432E-2,{"$f":"0.1*$Q$6*D177*$B$6^2/C177+$R$6","v":3.448475119620957E-2},0.12498723432918854,2.3356140659520019E-2,-2.4406611832516231E-2,3.2898486894696183E-2,1.9625525191104248E-2,{"$f":"MAX(S157*Q177^2+T157*Q177+U157,S158*Q177^2+T158*Q177+U158)","v":2.3356141113254195E-2},0]
[null,-2.0798428890166146E-9,5.3135963724627852E-2,4.9935619181467575E-4,9.6800911025680156E-2,-6.5901357445941181E-2,5.7215774018917838,3.7609834320293043,0.65733331349948565,0.30402152927457232,70.833187011858826,2.3748297008723312E-2,458.33333333333337,0.15366576866258877,3.0697039829315452E-2,3.4942168040270588E-2,0.17410405762070688,2.4613466591439759E-2,-5.6667116993845974E-2,4.2547323062354571E-2,1.8923511285668923E-2,{"$f":"MAX(S158*Q178^2+T158*Q178+U158,S159*Q178^2+T159*Q178+U159)","v":2.4613460582929809E-2},0]
[null,-3.8275522903337648E-6,5.7428181372141097E-2,5.8586322216406909E-4,0.11357042241897281,-7.7317919054849832E-2,6.5859928358429709,4.3181020821449811,0.65564937432736936,0.37822159109241205,102.0178597009171,3.4203606170735042E-2,458.33333333333337,0.15366576866258877,3.5953917270218266E-2,3.7931423637733691E-2,0.25875942860055834,2.6138803763712585E-2,-1.5594270938585014E-2,2.4768387729844969E-2,2.077388680329223E-2,2.6105590468714621E-2,0]
[null,-3.3034717586264652E-6,6.2195419634221871E-2,6.5467859492267819E-4,0.12691038071887378,-8.6399665816535826E-2,7.2484993031392504,4.7426485937026257,0.6542938607510983,0.45082345587711048,134.05594058745581,4.4945038154525947E-2,458.33333333333337,0.15366576866258877,4.0811343686003386E-2,3.913791716140122E-2,0.34210272536904762,2.7422155559820006E-2,-4.2177176965902702E-2,4.0741049904190696E-2,1.8420706668505892E-2,2.739222826266792E-2,0]
[null,-3.4696055743564009E-6,6.7505252560478693E-2,7.639341442503922E-4,0.14808972500836826,-0.1008184096455309,8.255697766537212,5.3836335569445,0.65211127020249715,0.55730296279307434,178.60226266830026,5.9880117769749677E-2,458.33333333333337,0.15366576866258877,4.7746681770518773E-2,4.2077150884028955E-2,0.46351731190023526,2.8243193900333065E-2,-2.9352975590234528E-2,3.0409616313976113E-2,2.0454247150016341E-2,2.819527794633768E-2,0]
[null,4.4356020559053314E-5,7.3437125604676246E-2,8.9649683478660311E-4,0.17378719191127767,-0.11831305854790139,9.4062512938173608,6.108512815669001,0.64940991101142154,0.69076805773321392,234.21515444089539,7.8525494704553722E-2,458.33333333333337,0.15366576866258877,5.5993947101158154E-2,4.5390091801573614E-2,0.61562778377517891,2.8050545480003471E-2,2.2290565323324171E-2,-2.5321257586203363E-2,3.5190945119837336E-2,2.8318162643545634E-2,0]
[null,-3.8018732058162747E-8,8.0084861800030091E-2,8.0321779526243192E-4,0.15570491686683149,-0.10600277697602919,8.6047177641372503,5.6043988706647667,0.65131698961966944,0.68910763296919564,230.68334826251154,7.7341383334731256E-2,344.8040998751751,0.11560273537163084,5.2424092383535688E-2,3.7291586639322097E-2,0.65084628093229613,2.8153001909268397E-2,-1.5167095846597025E-2,2.2117898810102104E-2,2.0182444895624957E-2,2.8153028063816098E-2,0]
[null,-3.9680070215462107E-10,8.7559791299448214E-2,7.5896014437760507E-4,0.14712550802854535,-0.10016197772593981,8.2110151945517593,5.3553183260272847,0.65221147435955173,0.71895477679155018,236.54139686641139,7.9305415789089964E-2,260.81443755491352,8.744345678220336E-2,5.114955366139394E-2,3.2228658070501862E-2,0.71081673579843685,2.8240884132555859E-2,1.6207431509228463E-2,-2.060363475773213E-2,3.4697318692431312E-2,2.8240883934305194E-2,0]
[null,2.8938985860933032E-10,9.5994684279247358E-2,7.268453323293092E-4,0.14090000584262818,-9.5923701035281653E-2,7.9198481365193132,5.1705242917700938,0.65285649454921024,0.76026332140475705,243.27337822360514,8.1562452348818093E-2,191.18460891387502,6.4098610658633495E-2,5.037178945636548E-2,2.8152877566508715E-2,0.77772716309494161,2.8476531853605436E-2,-3.3679984339982671E-3,8.5352520524727624E-3,2.3875600472770923E-2,2.8476532105790701E-2,0]
[null,-3.0101922571042579E-9,0.10554872685841464,7.2595198024544109E-4,0.14072682826517419,-9.5805802997830411E-2,7.9116822241552685,5.1653347010611794,0.65287438937964715,0.83506798606793886,258.6855205105785,8.6729693129759811E-2,135.9606197101761,4.5583621386776997E-2,5.1176007225212837E-2,2.5573069886304894E-2,0.87621405781092176,2.8768523889451336E-2,-1.1034622241929689E-2,2.1215397193588819E-2,1.8651137716010811E-2,2.8768523676195173E-2,0]
[null,3.1264859281152139E-8,0.11641386182692361,7.2273617061714105E-4,0.14010343897551034,-9.5381404095270392E-2,7.8822574487925046,5.1466315956780901,0.65293878423959761,0.91760402952797004,272.20757533763918,9.126324283644624E-2,84.020429411271095,2.8169593895659095E-2,5.1482290753912585E-2,2.3083574707729388E-2,0.98069767846875722,2.8844282627282253E-2,-1.2467714755427482E-2,2.3876523501077416E-2,1.7419679753742381E-2,2.8844239987923688E-2,0]
[null,-3.242779599126169E-9,0.12882293018018509,7.8204382657928891E-4,0.15160031279431777,-0.10320839232313028,8.4174479053400209,5.486035882704015,0.65174574816479458,1.0843603038049627,309.39691519687727,0.10373174137213512,38.933087617979787,1.3053126185944975E-2,5.4783870007441983E-2,2.2571784182402743E-2,1.1750389189911528,2.8261145122049861E-2,-1.4045565395520172E-2,2.727795387125077E-2,1.5601431040552616E-2,2.8261148964638504E-2,0]
[null,-4.7986761001958931E-10,0.14306020987399781,9.1784210210567113E-4,0.17792500246903542,-0.12113004993487335,9.5843570011284491,6.2199527459642452,0.64896922612877594,1.3711401240887562,379.39631158657699,0.12720049275862336,-11.265573205168932,-3.7770173803569765E-3,6.0717135004416535E-2,2.3854871847115246E-2,1.5021176342277367,2.488431134062194E-2,-1.4699585782192832E-2,2.9028868835370234E-2,1.4447054527670894E-2,2.4884311042880886E-2,0]
[null,-4.9648099159258281E-6,0.15947517602038869,1.0931466799917757E-3,0.21190804528398285,-0.1442654587643879,10.974168001010314,7.081481311040065,0.64528639532291865,1.7501073736384369,458.33333333333337,0.15366576866258877,-76.59840140251319,-2.5681204865111357E-2,6.4908792454060366E-2,2.54866831790709E-2,1.9294543471661372,1.5733400799355951E-2,-1.5208285682071814E-2,3.0774509158732821E-2,1.2972706191816501E-2,1.5693967889453275E-2,0]
[null,-5.1309437316557656E-8,0.17850063403985802,1.0840091419806542E-3,0.2101367204891626,-0.14305955370399712,10.904885614886606,7.0388992310153489,0.64548125304554538,1.9465289963893861,458.33333333333337,0.15366576866258877,-134.15721310437823,-4.4978991869050917E-2,5.7442048779029052E-2,2.2579855178914261E-2,2.1451737569210256,9.0043360141448675E-3,-1.0453085967647024E-2,1.1398838761790306E-2,3.2654548332846679E-2,9.0044915990328267E-3,0]
[null,-5.2970775473857012E-6,0.20067685341513844,1.0497693152251538E-3,0.20349928116704447,-0.13854083320170132,10.503111533731875,6.8675649877336218,0.65386004572813461,2.1077313736575616,458.33333333333337,0.15366576866258877,-182.12627578334121,-6.1061616353240179E-2,4.7918211011573751E-2,1.9450221965228096E-2,2.3224587586733905,2.7458726502881947E-3,1.2954955953272946E-2,-9.3179690450508876E-2,0.1492752291936856,{"$f":"S172*Q192^2+T172*Q192+U172","v":2.7369361956793847E-3},0.10303556719799878]
[null,null,{"$f":"C173","v":0.22668403164997661},{"$f":"D173+(D192-D172)","v":1.0800354008653481E-3},0.20936640509817095,-0.14253512857834533,10.316956635539665,6.9442026674771355,0.67308634830894531,2.3386893245021096,458.33333333333337,0.15366576866258877,-236.97859988662299,-7.9451997181444342E-2,4.088157214856477E-2,1.7715158121233178E-2,2.5718070903461427,-4.6783971142257685E-3,null,null,null,null,0.20594318580878934]
[null,"De","hc","e0","a'","b'","N'","tN'","t","Nc","sac","Nac","sat","Nat","Mtot","u","N","Mo","a''","b''","c''",null,"x"]
[null,null,{"$f":"$C$35","v":4.0138687861173784E-2},{"$f":"$D$35","v":3.210578024372992E-4},{"$f":"$E$35","v":6.2237513577017019E-2},{"$f":"$F$35","v":-4.2370847395201951E-2},{"$f":"IF($C$2=1,0.5*($O$31*D195*$F$6/$O$30)*(1-W195^2+(E195-F195)*(F195^2*(1-W195^2)+2*F195*(1-W195)+2*LN((1-F195)/(1-F195*W195)))/(F195^3)),$F$6*F195*(LN((1-E195+E195^2)/(1+E195)^2)/(6*E195)+ATAN((2-E195)/(E195*3^0.5))/(E195*3^0.5)-LN((W195^2-E195*W195+E195^2)/(W195+E195)^2)/(6*E195)-ATAN((2*W195-E195)/(E195*3^0.5))/(E195*3^0.5)))","v":3.8254468270961333},{"$f":"IF($C$2=1,($O$31*D195*$F$6/$O$30)*(1-W195^3-(E195-F195)*(-2*F195^3*(1-W195^3)-3*F195^2*(1-W195^2)-6*F195*(1-W195)-6*LN((1-F195)/(1-F195*W195)))/(2*F195^4))/3,$F$6*F195*(LN((1+E195^3)/(E195^3+W195^3)))/3)","v":2.5276172507990187},{"$f":"$I$35","v":0.66073778176593112},{"$f":"$J$35","v":0.15354841612232933},{"$f":"$K$35","v":0.6365191476987323},{"$f":"$L$35","v":2.1340626348999612E-4},{"$f":"$M$35","v":458.32156291626706},{"$f":"$N$35","v":0.15366182238581935},{"$f":"$O$35","v":1.9422167141878287E-2},{"$f":"$P$35","v":2.9740483717744983E-2},{"$f":"$Q$35","v":9.9999999999988987E-5},{"$f":"$R$35","v":1.9419193093506513E-2},null,null,null,null,{"$f":"IF(C195<$C$6,0,(C195-$C$6)/C195)","v":0}]
[null,{"$f":"IF(R176>$Q$29*V176,B176,IF(Q176>Q175,$U$6,-0.5)*B176)","v":-3.9768977969850176E-12},{"$f":"IF(Q176>Q175,C176,(1-$T$6)*C176+$T$6*C177)","v":4.5181422537606569E-2},{"$f":"D176+B196","v":3.9334484833861491E-4},{"$f":"IF($C$2=1,D196/($O$31*$O$30),2^(1/3)*$O$30/D196)","v":7.6250460674305562E-2},{"$f":"IF($C$2=1,-($O$31-2)*D196/$O$30,3*($O$30/D196)^2)","v":-5.1910760044210899E-2},{"$f":"IF($C$2=1,0.5*($O$31*D196*$F$6/$O$30)*(1-W196^2+(E196-F196)*(F196^2*(1-W196^2)+2*F196*(1-W196)+2*LN((1-F196)/(1-F196*W196)))/(F196^3)),$F$6*F196*(LN((1-E196+E196^2)/(1+E196)^2)/(6*E196)+ATAN((2-E196)/(E196*3^0.5))/(E196*3^0.5)-LN((W196^2-E196*W196+E196^2)/(W196+E196)^2)/(6*E196)-ATAN((2*W196-E196)/(E196*3^0.5))/(E196*3^0.5)))","v":4.6131107044976707},{"$f":"IF($C$2=1,($O$31*D196*$F$6/$O$30)*(1-W196^3-(E196-F196)*(-2*F196^3*(1-W196^3)-3*F196^2*(1-W196^2)-6*F196*(1-W196)-6*LN((1-F196)/(1-F196*W196)))/(2*F196^4))/3,$F$6*F196*(LN((1+E196^3)/(E196^3+W196^3)))/3)","v":3.0417370681714893},{"$f":"H196/G196","v":0.65936788926523482},{"$f":"G196*C196*$D$6","v":0.20842690395266517},{"$f":"MAX(MIN($K$6,$Q$6*$J$6*D196*(C196-$I$6)/C196),-$K$6)","v":25.883055307353349},{"$f":"K196*$H$6","v":8.6778318308525434E-3},{"$f":"MIN($O$6,$Q$6*$N$6*D196*(C$6-C196-$M$6)/C196)","v":458.33333333333337},{"$f":"M196*$L$6","v":0.15366576866258877},{"$f":"(0.5*$C$6-C196+I196*C196)*J196+(0.5*$C$6-$I$6)*L196+(0.5*$C$6-$M$6)*N196","v":2.3667860613107296E-2},{"$f":"0.1*$Q$6*D196*$B$6^2/C196+$R$6","v":3.2369913315180979E-2},{"$f":"(J196+L196-N196)","v":6.3438967120928946E-2},{"$f":"O196-P196*Q196","v":2.161434674659821E-2},{"$f":"((R196-R195)*(Q196-Q197)-(R196-R197)*(Q196-Q195))/((Q196^2-Q195^2)*(Q196-Q197)-(Q196^2-Q197^2)*(Q196-Q195))","v":-5.0906689787531552E-2},{"$f":"-(S196*(Q196^2-Q195^2)-(R196-R195))/(Q196-Q195)","v":3.7891796408244353E-2},{"$f":"R196-S196*Q196^2-T196*Q196","v":1.9415404422932585E-2},{"$f":"S176*Q196^2+T176*Q196+U176","v":2.1614346744720105E-2},{"$f":"IF(C196<$C$6,0,(C196-$C$6)/C196)","v":0}]
[null,{"$f":"IF(R177>$Q$29*V177,B177,IF(Q177>Q176,$U$6,-0.5)*B177)","v":-9.2191671472819303E-12},{"$f":"IF(Q177>Q176,C177,(1-$T$6)*C177+$T$6*C178)","v":4.9415891915262342E-2},{"$f":"D177+B197","v":4.5831677811603776E-4},8.8845362062621946E-2,-6.048527746964736E-2,5.2989633401041889,3.487378379943022,0.65812464742857657,0.26185299967752612,50.10874744702155,1.6799998239635121E-2,458.33333333333337,0.15366576866258877,2.7666293977186344E-2,{"$f":"0.1*$Q$6*D197*$B$6^2/C197+$R$6","v":3.44847505025394E-2},0.12498722925457248,2.3356140560338717E-2,-2.4406861177473288E-2,3.2898534498648387E-2,1.9625523173242579E-2,{"$f":"MAX(S177*Q197^2+T177*Q197+U177,S178*Q197^2+T178*Q197+U178)","v":2.3356140523533214E-2},0]
[null,2.0798428890166146E-10,5.3135963724627852E-2,4.9935639979896461E-4,9.6800951343731609E-2,-6.5901384894177906E-2,5.721579523067458,3.760984803316759,0.65733330947402735,0.30402164198528597,70.833216514226621,2.3748306900004817E-2,458.33333333333337,0.15366576866258877,3.069704835058638E-2,3.4942182593853968E-2,0.17410418022270199,2.4613468294891468E-2,-5.4385692922358425E-2,4.1864945539708147E-2,1.8973159838758941E-2,{"$f":"MAX(S178*Q198^2+T178*Q198+U178,S179*Q198^2+T179*Q198+U179)","v":2.461346938864916E-2},0]
[null,-3.8275522903337648E-6,5.7428181372141097E-2,5.8203566987373532E-4,0.11282844594050702,-7.6812786855103454E-2,6.548495197384943,4.2940077393285589,0.655724347334532,0.3760681699100174,101.3513582415648,3.3980147714590805E-2,458.33333333333337,0.15366576866258877,3.5793140456618959E-2,3.7683610663770344E-2,0.2563825489620194,2.6131720300549183E-2,-1.7459392704732127E-2,2.5968663338129139E-2,2.0621449201301711E-2,2.6099026387848508E-2,0]
[null,-3.3034717586264652E-6,6.2195419634221871E-2,6.513751231640517E-4,0.12626999800003624,-8.5963697910767647E-2,7.2171974360269555,4.7226400040379737,0.65435926422954727,0.44887662311672666,133.3795017711553,4.471824799308588E-2,458.33333333333337,0.15366576866258877,4.0668474678373021E-2,3.8940429409339582E-2,0.33992910244722374,2.7431489460346743E-2,-4.1776231981556694E-2,4.0469077924345537E-2,1.8502190705535885E-2,2.7399571720430449E-2,0]
[null,-3.4696055743564009E-6,6.7505252560478693E-2,7.6046453867603583E-4,0.14741713701205855,-0.10036051662067191,8.2245411860718018,5.3638909432413149,0.65218117605454073,0.55519972995983602,177.79109404753564,5.9608156643295641E-2,458.33333333333337,0.15366576866258877,4.7595805739174255E-2,4.1886046561281982E-2,0.46114211794054294,2.8280385515748487E-2,-2.9112685539435246E-2,3.0324675321518151E-2,2.0487272858643699E-2,2.8254381244786329E-2,0]
[null,-4.4356020559053316E-6,7.3437125604676246E-2,8.9206123273069776E-4,0.17292734411726382,-0.11772768041228258,9.3689941962043513,6.0851737516205056,0.64950128308178312,0.68803200357614169,233.05632690213505,7.8136973705664317E-2,458.33333333333337,0.15366576866258877,5.580333629099387E-2,4.5165515008103146E-2,0.61250320861921725,2.8139313429591282E-2,6.7946560707135648E-3,-8.2270741874029378E-3,3.0629338368531878E-2,2.8044126113693821E-2,0]
[null,3.801873205816275E-9,8.0084861800030091E-2,8.0322159713563772E-4,0.15570565386538274,-0.10600327871929223,8.6047512108128146,5.6044199914443995,0.65131691249850787,0.68911031154158586,230.6844401566976,7.7341749414933575E-2,344.80573193745795,0.11560328255440581,5.2424300065017304E-2,3.7291763151701282E-2,0.65084877840211364,2.815300157327157E-2,1.1275393643284707E-2,-1.3887822903031827E-2,3.2415570803234331E-2,2.8153007840672012E-2,0]
[null,3.9680070215462107E-11,8.7559791299448214E-2,7.5896018405767528E-4,0.14712551572058363,-0.10016198296262363,8.2110155514477139,5.3553185522448432,0.65221147356134623,0.71895480804128553,236.54140923330482,7.9305419935347815E-2,260.81445119085384,8.7443461353935548E-2,5.1149555907895349E-2,3.2228659755485486E-2,0.71081676662269777,2.8240884187918088E-2,1.6207234961543925E-2,-2.0603341299635147E-2,3.4697209385503656E-2,2.8240884248060302E-2,0]
[null,-2.8938985860933034E-11,9.5994684279247358E-2,7.2684530339032333E-4,0.14090000023276444,-9.5923697216127132E-2,7.9198478720536709,5.1705241237016688,0.65285649512872734,0.76026329601746112,243.27336853779642,8.1562449101449566E-2,191.18460130195476,6.409860810657915E-2,5.0371787769836085E-2,2.8152876445615881E-2,0.77772713701233154,2.8476531773125341E-2,-3.3680202658640914E-3,8.5352855312227863E-3,2.3875587646150779E-2,2.8476531767624515E-2,0]
[null,3.010192257104258E-10,0.10554872685841464,7.2595228126466681E-4,0.14072688661818106,-9.5805842724133838E-2,7.9116849763045494,5.1653364501739709,0.65287438335122339,0.83506827655379157,258.68562777568309,8.6729729092613797E-2,135.96067608685331,4.5583640288228866E-2,5.117602493779301E-2,2.557308049029236E-2,0.87621436535817643,2.8768524445737926E-2,-1.103484660450116E-2,2.1215767804161963E-2,1.8650985215138347E-2,2.8768524513078989E-2,0]
[null,-3.1264859281152143E-9,0.11641386182692361,7.2273304413121293E-4,0.14010283290174755,-9.5380991484652816E-2,7.8822288185910505,5.1466133952643185,0.6529388468304167,0.9176006965756538,272.20639779431372,9.1262848040591163E-2,84.020065947117899,2.8169472036753313E-2,5.1482106301901469E-2,2.3083474850444766E-2,0.9806940725794917,2.8844279341532518E-2,-1.2467448072058783E-2,2.3875977557471603E-2,1.7419953303444643E-2,2.8844284709861341E-2,0]
[null,3.242779599126169E-10,0.12882293018018509,7.8204415085724886E-4,0.15160037565606346,-0.10320843511895038,8.4174507886086118,5.4860377066831276,0.6517457416094925,1.084360675236071,309.39704348968786,0.10373178438496425,38.933103761758183,1.3053131598481956E-2,5.4783888278233203E-2,2.2571793541893707E-2,1.1750393280225535,2.8261143162502608E-2,-1.4045613795624577E-2,2.7278082119447676E-2,1.5601347555039127E-2,2.8261142865706704E-2,0]
[null,4.7986761001958937E-11,0.14306020987399781,9.1784215009243217E-4,0.1779250117713376,-0.12113005626781315,9.5843573993311981,6.2199529948706598,0.64896922513602129,1.3711401810557251,379.39633142223295,0.12720049940893896,-11.265573794157351,-3.7770175778275759E-3,6.0717137398553819E-2,2.38548730942993E-2,1.5021176980424915,2.4884310339049191E-2,-1.4558412568445596E-2,2.8650924957063E-2,1.4696233429466209E-2,2.4884310388840175E-2,0]
[null,-4.9648099159258281E-6,0.15947517602038869,1.0881818700758498E-3,0.21094560979042373,-0.1436102396677115,10.936566430359258,7.0583758767864211,0.64539231044149192,1.7441108565402168,458.33333333333337,0.15366576866258877,-76.250509843413255,-2.5564566994914301E-2,6.4743608358925231E-2,2.5370928779695635E-2,1.9233411921977199,1.5946655952621985E-2,-1.5670509306058459E-2,3.2460366613726123E-2,1.1483291599573141E-2,1.5909916707751794E-2,0]
[null,5.1309437316557661E-9,0.17850063403985802,1.0840142729243859E-3,0.21013771512993365,-0.1430602308482129,10.904924614686179,7.0389232124721497,0.64548114372037912,1.9465359578783374,458.33333333333337,0.15366576866258877,-134.15784811111845,-4.497920476824839E-2,5.7442186146483332E-2,2.2579962056210684E-2,2.1451809313091745,9.0040821138154745E-3,-1.0449632612387469E-2,1.1219114281424162E-2,3.3024184279508012E-2,9.0040960408507148E-3,0]
[null,-5.2970775473857012E-6,0.20067685341513844,1.0444722376777682E-3,0.20247243511854107,-0.13784176386684327,10.462728361131944,6.8422613381868773,0.65396530446161993,2.099627405649287,458.33333333333337,0.15366576866258877,-181.20727673064556,-6.0753502835059814E-2,4.7811530047926501E-2,1.9352077227551532E-2,2.3140466771469357,3.029920043619995E-3,1.3534812584784733E-2,-9.5732985915308572E-2,0.15208414082250243,{"$f":"S192*Q212^2+T192*Q212+U192","v":3.0244300382732126E-3},0.10303556719799878]
[null,0,{"$f":"C193","v":0.22668403164997661},{"$f":"D193+(D212-D192)","v":1.0747383233179625E-3},0.20833955904966756,-0.14183605924348727,10.279152934533435,6.9196916438045308,0.67317722460937501,2.3301198291467271,458.33333333333337,0.15366576866258877,-235.81632870582231,-7.906232163004337E-2,4.08128542119051E-2,1.7628273407771761E-2,2.5628479194393594,-4.3657296145109409E-3,null,null,null,null,0.20594318580878934]
[null,"De","hc","e0","a'","b'","N'","tN'","t","Nc","sac","Nac","sat","Nat","Mtot","u","N","Mo","a''","b''","c''",null,"x"]
[null,null,{"$f":"$C$35","v":4.0138687861173784E-2},{"$f":"$D$35","v":3.210578024372992E-4},{"$f":"$E$35","v":6.2237513577017019E-2},{"$f":"$F$35","v":-4.2370847395201951E-2},{"$f":"IF($C$2=1,0.5*($O$31*D215*$F$6/$O$30)*(1-W215^2+(E215-F215)*(F215^2*(1-W215^2)+2*F215*(1-W215)+2*LN((1-F215)/(1-F215*W215)))/(F215^3)),$F$6*F215*(LN((1-E215+E215^2)/(1+E215)^2)/(6*E215)+ATAN((2-E215)/(E215*3^0.5))/(E215*3^0.5)-LN((W215^2-E215*W215+E215^2)/(W215+E215)^2)/(6*E215)-ATAN((2*W215-E215)/(E215*3^0.5))/(E215*3^0.5)))","v":3.8254468270961333},{"$f":"IF($C$2=1,($O$31*D215*$F$6/$O$30)*(1-W215^3-(E215-F215)*(-2*F215^3*(1-W215^3)-3*F215^2*(1-W215^2)-6*F215*(1-W215)-6*LN((1-F215)/(1-F215*W215)))/(2*F215^4))/3,$F$6*F215*(LN((1+E215^3)/(E215^3+W215^3)))/3)","v":2.5276172507990187},{"$f":"$I$35","v":0.66073778176593112},{"$f":"$J$35","v":0.15354841612232933},{"$f":"$K$35","v":0.6365191476987323},{"$f":"$L$35","v":2.1340626348999612E-4},{"$f":"$M$35","v":458.32156291626706},{"$f":"$N$35","v":0.15366182238581935},{"$f":"$O$35","v":1.9422167141878287E-2},{"$f":"$P$35","v":2.9740483717744983E-2},{"$f":"$Q$35","v":9.9999999999988987E-5},{"$f":"$R$35","v":1.9419193093506513E-2},null,null,null,null,{"$f":"IF(C215<$C$6,0,(C215-$C$6)/C215)","v":0}]
[null,{"$f":"IF(R196>$Q$29*V196,IF(B196=B156,1.22,1)*B196,IF(Q196>Q195,$U$6,-0.5)*B196)","v":3.9768977969850176E-13},{"$f":"IF(Q196>Q195,C196,(1-$T$6)*C196+$T$6*C197)","v":4.5181422537606569E-2},{"$f":"D196+B216","v":3.9334484873630471E-4},{"$f":"IF($C$2=1,D216/($O$31*$O$30),2^(1/3)*$O$30/D216)","v":7.6250460751398297E-2},{"$f":"IF($C$2=1,-($O$31-2)*D216/$O$30,3*($O$30/D216)^2)","v":-5.1910760096695069E-2},{"$f":"IF($C$2=1,0.5*($O$31*D216*$F$6/$O$30)*(1-W216^2+(E216-F216)*(F216^2*(1-W216^2)+2*F216*(1-W216)+2*LN((1-F216)/(1-F216*W216)))/(F216^3)),$F$6*F216*(LN((1-E216+E216^2)/(1+E216)^2)/(6*E216)+ATAN((2-E216)/(E216*3^0.5))/(E216*3^0.5)-LN((W216^2-E216*W216+E216^2)/(W216+E216)^2)/(6*E216)-ATAN((2*W216-E216)/(E216*3^0.5))/(E216*3^0.5)))","v":4.6131107087587964},{"$f":"IF($C$2=1,($O$31*D216*$F$6/$O$30)*(1-W216^3-(E216-F216)*(-2*F216^3*(1-W216^3)-3*F216^2*(1-W216^2)-6*F216*(1-W216)-6*LN((1-F216)/(1-F216*W216)))/(2*F216^4))/3,$F$6*F216*(LN((1+E216^3)/(E216^3+W216^3)))/3)","v":3.041737070957037},{"$f":"H216/G216","v":0.65936788926001022},{"$f":"G216*C216*$D$6","v":0.20842690414518888},{"$f":"MAX(MIN($K$6,$Q$6*$J$6*D216*(C216-$I$6)/C216),-$K$6)","v":25.883055333522307},{"$f":"K216*$H$6","v":8.6778318396262318E-3},{"$f":"MIN($O$6,$Q$6*$N$6*D216*(C$6-C216-$M$6)/C216)","v":458.33333333333337},{"$f":"M216*$L$6","v":0.15366576866258877},{"$f":"(0.5*$C$6-C216+I216*C216)*J216+(0.5*$C$6-$I$6)*L216+(0.5*$C$6-$M$6)*N216","v":2.3667860627860932E-2},{"$f":"0.1*$Q$6*D216*$B$6^2/C216+$R$6","v":3.2369913347908459E-2},{"$f":"(J216+L216-N216)","v":6.3438967322226342E-2},{"$f":"O216-P216*Q216","v":2.161434675275967E-2},{"$f":"((R216-R215)*(Q216-Q217)-(R216-R217)*(Q216-Q215))/((Q216^2-Q215^2)*(Q216-Q217)-(Q216^2-Q217^2)*(Q216-Q215))","v":-5.0906690116434429E-2},{"$f":"-(S216*(Q216^2-Q215^2)-(R216-R215))/(Q216-Q215)","v":3.7891796426523378E-2},{"$f":"R216-S216*Q216^2-T216*Q216","v":1.9415404422930761E-2},{"$f":"S196*Q216^2+T196*Q216+U196","v":2.1614346752925562E-2},{"$f":"IF(C216<$C$6,0,(C216-$C$6)/C216)","v":0}]
[null,{"$f":"IF(R197>$Q$29*V197,IF(B197=B157,1.22,1)*B197,IF(Q197>Q196,$U$6,-0.5)*B197)","v":9.2191671472819303E-13},{"$f":"IF(Q197>Q196,C197,(1-$T$6)*C197+$T$6*C198)","v":4.9415891915262342E-2},{"$f":"D197+B217","v":4.5831677903795449E-4},8.8845362241336823E-2,-6.0485277591315154E-2,5.2989633496895472,3.4873783861562919,0.65812464741063148,0.26185300015119517,50.10874754781667,1.679999827342878E-2,458.33333333333337,0.15366576866258877,2.7666294013271839E-2,{"$f":"0.1*$Q$6*D217*$B$6^2/C217+$R$6","v":3.4484750571906413E-2},0.12498722976203516,2.3356140570254501E-2,-2.4406836241628756E-2,3.2898529737605112E-2,1.9625523375086301E-2,{"$f":"MAX(S197*Q217^2+T197*Q217+U197,S198*Q217^2+T198*Q217+U198)","v":2.3356140574684645E-2},0]
[null,-2.0798428890166147E-11,5.3135963724627852E-2,4.9935637900053577E-4,9.6800947311926483E-2,-6.5901382149354246E-2,5.7215793109502737,3.7609846661831892,0.65733330987568583,0.30402163071423499,70.83321356398983,2.3748305910876663E-2,458.33333333333337,0.15366576866258877,3.0697047498446421E-2,3.4942181138495634E-2,0.1741041679625229,2.4613468124532877E-2,-5.1382652367853235E-2,4.0966764287558265E-2,1.9038508099090953E-2,{"$f":"MAX(S198*Q218^2+T198*Q218+U198,S199*Q218^2+T199*Q218+U199)","v":2.461346805104684E-2},0]
[null,-4.6696137942071927E-6,5.7428181372141097E-2,5.7736605607952812E-4,0.11192323463677877,-7.619652557141289E-2,6.5026548549476395,4.2645435039279187,0.65581575511164936,0.37343564241036692,100.53822646115499,3.3707528398094835E-2,458.33333333333337,0.15366576866258877,3.5596590351585397E-2,3.7381278835535062E-2,0.253477402145873,2.6121280903463467E-2,-1.9859716859352845E-2,2.7488138028407962E-2,2.0429661651080823E-2,2.6082138687914331E-2,0]
[null,-4.0302355455242876E-6,6.2195419634221871E-2,6.473448876185274E-4,0.12548873108305442,-8.543181706573047E-2,7.178941031347386,4.6981790655994464,0.65443901058449905,0.44649724997398421,132.55424641526872,4.4441563996129016E-2,458.33333333333337,0.15366576866258877,4.0493861486957564E-2,3.8699494351824376E-2,0.33727304530752444,2.7441565175056415E-2,-4.3418153460222271E-2,4.1405294991674071E-2,1.841562510161274E-2,2.7403310016419741E-2,0]
[null,3.469605574356401E-7,6.7505252560478693E-2,7.6081149923347142E-4,0.14748439581168951,-0.1004063059231578,8.2276592671596003,5.3658669955895197,0.65217418725726539,0.55541021681117186,177.87221090961208,5.9635352755941042E-2,458.33333333333337,0.15366576866258877,4.7610905183142843E-2,4.190515699355668E-2,0.46137980090452413,2.8276712192582834E-2,-2.5977408122406499E-2,2.7476194087567987E-2,2.1129596409776776E-2,2.8281209701580406E-2,0]
[null,-4.4356020559053316E-6,7.3437125604676246E-2,8.8762563067479241E-4,0.17206749632324994,-0.11714230227666381,9.3316521294624639,6.0617720341399597,0.64959258554027766,0.68528970953047952,231.89749936337464,7.774845270677487E-2,458.33333333333337,0.15366576866258877,5.5612284239664252E-2,4.4940938214632686E-2,0.60937239357466566,2.8226517150322369E-2,-7.5648657481725791E-3,7.7609239344159477E-3,2.6306321615487654E-2,2.8139659993613418E-2,0]
[null,-3.8018732058162751E-10,8.0084861800030091E-2,8.0322121694831718E-4,0.15570558016552763,-0.10600322854496592,8.6047478661479513,5.6044178793696924,0.65131692021077159,0.68911004368456252,230.68433096727901,7.7341712806913349E-2,344.8055687312297,0.11560322783612834,5.2424279296892168E-2,3.7291745500463366E-2,0.65084852865534759,2.8153001606925906E-2,3.1918613149739677E-2,-4.1996982255160298E-2,4.1965829663201726E-2,2.8153001450003358E-2,0]
[null,-3.9680070215462108E-12,8.7559791299448214E-2,7.5896018008966826E-4,0.14712551495137982,-0.10016198243895524,8.2110155157583495,5.355318529620793,0.65221147364086896,0.71895480491633224,236.54140799661548,7.9305419520722037E-2,260.81444982725981,8.7443460896762318E-2,5.1149555683227668E-2,3.2228659586987125E-2,0.71081676354029188,2.8240884182363681E-2,1.620725463974073E-2,-2.0603370678852123E-2,3.469722032808726E-2,2.8240884180405011E-2,0]
[null,2.8938985860933034E-12,9.5994684279247358E-2,7.2684530628422189E-4,0.14090000079375081,-9.5923697598042576E-2,7.9198478984994658,5.170524140516874,0.65285649507189492,0.76026329855611685,243.27336950637726,8.1562449426186415E-2,191.1846020631468,6.409860836178459E-2,5.0371787938566524E-2,2.8152876557705164E-2,0.77772713962051865,2.8476531781252933E-2,-3.3680180997881096E-3,8.5352822102835249E-3,2.3875588918293472E-2,2.8476531783692589E-2,0]
[null,-3.0101922571042581E-11,0.10554872685841464,7.2595225116274423E-4,0.14072688078288037,-9.5805838751503503E-2,7.9116847010901141,5.1653362752579888,0.65287438395343045,0.83506824750525832,258.68561704917261,8.6729725496328389E-2,135.96067044918561,4.5583638398083687E-2,5.1176023166481802E-2,2.5573079429893612E-2,0.87621433460350306,2.8768524390055037E-2,-1.1034824158905221E-2,2.1215730726289343E-2,1.8651000472734484E-2,2.8768524387981081E-2,0]
[null,3.1264859281152143E-10,0.11641386182692361,7.2273335677980571E-4,0.1401028935091238,-9.5381032745714564E-2,7.8822316816134856,5.1466152153035516,0.65293884057085272,0.917601029871152,272.20651554864622,9.1262887520176667E-2,84.020102293533213,2.8169484222643891E-2,5.1482124747066496E-2,2.3083484836173229E-2,0.98069443316868488,2.8844279670097658E-2,-1.2467474741771468E-2,2.3876032154767617E-2,1.7419925946902018E-2,2.8844279243876548E-2,0]
[null,-3.2427795991261689E-11,0.12882293018018509,7.8204411842945284E-4,0.15160036936988891,-0.10320843083936837,8.4174505002818965,5.4860375242837165,0.65174574226483328,1.0843606380929789,309.39703066040681,0.10373178008368135,38.933102147380346,1.3053131057228259E-2,5.47838864511285E-2,2.2571792605944607E-2,1.1750392871194322,2.8261143358431679E-2,-1.4045608955210027E-2,2.7278069293817483E-2,1.5601355903959668E-2,2.8261143396886266E-2,0]
[null,-4.7986761001958937E-12,0.14306020987399781,9.1784214529375607E-4,0.17792501084110737,-0.12113005563451917,9.5843573595105624,6.2199529699829723,0.64896922523562939,1.3711401753589765,379.39632943866729,0.1272004987439074,-11.265573735258508,-3.7770175580805155E-3,6.0717137159203273E-2,2.3854872969580897E-2,1.5021176916609644,2.4884310439270876E-2,-1.438223899317201E-2,2.8179280749214518E-2,1.5007187963824505E-2,2.4884310435320744E-2,0]
[null,-6.0570680974295099E-6,0.15947517602038869,1.0821248019784204E-3,0.20977143848828164,-0.14281087236976631,10.890555622424921,7.0300866662462065,0.64552139578355761,1.736773274846048,458.33333333333337,0.15366576866258877,-75.826082141311318,-2.5422268793273882E-2,6.4541042460895828E-2,2.5229708412457818E-2,1.9158613123019108,1.6204420192809835E-2,-1.6203366984340769E-2,3.4403857986558421E-2,9.7662562823744581E-3,1.6162818059499345E-2,0]
[null,-5.1309437316557663E-10,0.17850063403985802,1.0840137598300127E-3,0.21013761566585654,-0.14306016313379133,10.904920714711192,7.0389208143294395,0.64548115465283873,1.9465352617303295,458.33333333333337,0.15366576866258877,-134.15778461044445,-4.4979183478328653E-2,5.7442172409754029E-2,2.2579951368481038E-2,2.1451802138712468,9.0041075039135263E-3,-1.0591868238484918E-2,1.1615328555569215E-2,3.282877417363423E-2,9.0041091352195957E-3,0]
[null,-6.4624346078105555E-6,0.20067685341513844,1.0380098030699576E-3,0.20121968293936693,-0.13698889927831648,10.413303490264095,6.8112749978049605,0.65409358367142123,2.0897089780830771,458.33333333333337,0.15366576866258877,-180.08609788635681,-6.0377604342879747E-2,4.7680208231199769E-2,1.9232340647586128E-2,2.3037523510885456,3.3736582473874246E-3,1.4367309621349997E-2,-9.9426370619673785E-2,0.15617613165848154,{"$f":"S212*Q232^2+T212*Q232+U212","v":3.3720204851178659E-3},0.10303556719799878]
[null,0,{"$f":"C213","v":0.22668403164997661},{"$f":"D213+(D232-D212)","v":1.068275888710152E-3},0.20708680687049338,-0.14098319465496045,10.232877768502162,6.8896735345534657,0.67328797337544488,2.3196299879454862,458.33333333333337,0.15366576866258877,-234.39835786524546,-7.8586917457334177E-2,4.0727918145500884E-2,1.7522274057348835E-2,2.5518826740654093,-3.9868694316734093E-3,null,null,null,null,0.20594318580878934]
[null,"De","hc","e0","a'","b'","N'","tN'","t","Nc","sac","Nac","sat","Nat","Mtot","u","N","Mo","a''","b''","c''",null,"x"]
[null,null,{"$f":"$C$35","v":4.0138687861173784E-2},{"$f":"$D$35","v":3.210578024372992E-4},{"$f":"$E$35","v":6.2237513577017019E-2},{"$f":"$F$35","v":-4.2370847395201951E-2},{"$f":"IF($C$2=1,0.5*($O$31*D235*$F$6/$O$30)*(1-W235^2+(E235-F235)*(F235^2*(1-W235^2)+2*F235*(1-W235)+2*LN((1-F235)/(1-F235*W235)))/(F235^3)),$F$6*F235*(LN((1-E235+E235^2)/(1+E235)^2)/(6*E235)+ATAN((2-E235)/(E235*3^0.5))/(E235*3^0.5)-LN((W235^2-E235*W235+E235^2)/(W235+E235)^2)/(6*E235)-ATAN((2*W235-E235)/(E235*3^0.5))/(E235*3^0.5)))","v":3.8254468270961333},{"$f":"IF($C$2=1,($O$31*D235*$F$6/$O$30)*(1-W235^3-(E235-F235)*(-2*F235^3*(1-W235^3)-3*F235^2*(1-W235^2)-6*F235*(1-W235)-6*LN((1-F235)/(1-F235*W235)))/(2*F235^4))/3,$F$6*F235*(LN((1+E235^3)/(E235^3+W235^3)))/3)","v":2.5276172507990187},{"$f":"$I$35","v":0.66073778176593112},{"$f":"$J$35","v":0.15354841612232933},{"$f":"$K$35","v":0.6365191476987323},{"$f":"$L$35","v":2.1340626348999612E-4},{"$f":"$M$35","v":458.32156291626706},{"$f":"$N$35","v":0.15366182238581935},{"$f":"$O$35","v":1.9422167141878287E-2},{"$f":"$P$35","v":2.9740483717744983E-2},{"$f":"$Q$35","v":9.9999999999988987E-5},{"$f":"$R$35","v":1.9419193093506513E-2},null,null,null,null,{"$f":"IF(C235<$C$6,0,(C235-$C$6)/C235)","v":0}]
[null,{"$f":"IF(R216>$Q$29*V216,B216,IF(Q216>Q215,$U$6,-0.5)*B216)","v":-3.9768977969850176E-14},{"$f":"IF(Q216>Q215,C216,(1-$T$6)*C216+$T$6*C217)","v":4.5181422537606569E-2},{"$f":"D216+B236","v":3.9334484869653574E-4},{"$f":"IF($C$2=1,D236/($O$31*$O$30),2^(1/3)*$O$30/D236)","v":7.6250460743689019E-2},{"$f":"IF($C$2=1,-($O$31-2)*D236/$O$30,3*($O$30/D236)^2)","v":-5.1910760091446656E-2},{"$f":"IF($C$2=1,0.5*($O$31*D236*$F$6/$O$30)*(1-W236^2+(E236-F236)*(F236^2*(1-W236^2)+2*F236*(1-W236)+2*LN((1-F236)/(1-F236*W236)))/(F236^3)),$F$6*F236*(LN((1-E236+E236^2)/(1+E236)^2)/(6*E236)+ATAN((2-E236)/(E236*3^0.5))/(E236*3^0.5)-LN((W236^2-E236*W236+E236^2)/(W236+E236)^2)/(6*E236)-ATAN((2*W236-E236)/(E236*3^0.5))/(E236*3^0.5)))","v":4.6131107083331004},{"$f":"IF($C$2=1,($O$31*D236*$F$6/$O$30)*(1-W236^3-(E236-F236)*(-2*F236^3*(1-W236^3)-3*F236^2*(1-W236^2)-6*F236*(1-W236)-6*LN((1-F236)/(1-F236*W236)))/(2*F236^4))/3,$F$6*F236*(LN((1+E236^3)/(E236^3+W236^3)))/3)","v":3.0417370706722449},{"$f":"H236/G236","v":0.65936788925912093},{"$f":"G236*C236*$D$6","v":0.20842690412595535},{"$f":"MAX(MIN($K$6,$Q$6*$J$6*D236*(C236-$I$6)/C236),-$K$6)","v":25.883055330905414},{"$f":"K236*$H$6","v":8.6778318387488625E-3},{"$f":"MIN($O$6,$Q$6*$N$6*D236*(C$6-C236-$M$6)/C236)","v":458.33333333333337},{"$f":"M236*$L$6","v":0.15366576866258877},{"$f":"(0.5*$C$6-C236+I236*C236)*J236+(0.5*$C$6-$I$6)*L236+(0.5*$C$6-$M$6)*N236","v":2.3667860626373678E-2},{"$f":"0.1*$Q$6*D236*$B$6^2/C236+$R$6","v":3.2369913344635709E-2},{"$f":"(J236+L236-N236)","v":6.3438967302115457E-2},{"$f":"O236-P236*Q236","v":2.1614346752131024E-2},{"$f":"((R236-R235)*(Q236-Q237)-(R236-R237)*(Q236-Q235))/((Q236^2-Q235^2)*(Q236-Q237)-(Q236^2-Q237^2)*(Q236-Q235))","v":-5.0906690077628811E-2},{"$f":"-(S236*(Q236^2-Q235^2)-(R236-R235))/(Q236-Q235)","v":3.789179642411291E-2},{"$f":"R236-S236*Q236^2-T236*Q236","v":1.9415404422931003E-2},{"$f":"S216*Q236^2+T216*Q236+U216","v":2.1614346752127526E-2},{"$f":"IF(C236<$C$6,0,(C236-$C$6)/C236)","v":0}]
[null,{"$f":"IF(R217>$Q$29*V217,B217,IF(Q217>Q216,$U$6,-0.5)*B217)","v":-9.2191671472819313E-14},{"$f":"IF(Q217>Q216,C217,(1-$T$6)*C217+$T$6*C218)","v":4.9415891915262342E-2},{"$f":"D217+B237","v":4.5831677894576283E-4},8.8845362223465341E-2,-6.0485277579148379E-2,5.2989633487305241,3.4873783855428253,0.65812464741396992,0.26185300010380419,50.108747537737152,1.6799998270049413E-2,458.33333333333337,0.15366576866258877,2.766629400968151E-2,{"$f":"0.1*$Q$6*D237*$B$6^2/C237+$R$6","v":3.4484750564969718E-2},0.12498722971126483,2.335614056928197E-2,-2.4406838740424409E-2,3.2898530215223543E-2,1.9625523354813788E-2,{"$f":"MAX(S217*Q237^2+T217*Q237+U217,S218*Q237^2+T218*Q237+U218)","v":2.3356140568893985E-2},0]
[null,2.0798428890166149E-12,5.3135963724627852E-2,4.9935638108037869E-4,9.6800947715107E-2,-6.5901382423836613E-2,5.7215793321615394,3.7609846799025557,0.6573333098366223,0.30402163184131603,70.833213859013526,2.3748306009789485E-2,458.33333333333337,0.15366576866258877,3.0697047583676498E-2,3.4942181284031468E-2,0.17410416918851676,2.4613468141585659E-2,-4.8108130546395761E-2,3.9987382737203453E-2,1.9109764336508381E-2,{"$f":"MAX(S218*Q238^2+T218*Q238+U218,S219*Q238^2+T219*Q238+U219)","v":2.4613468152822556E-2},0]
[null,-4.6696137942071927E-6,5.7428181372141097E-2,5.7269644228532092E-4,0.11101802333305051,-7.5580264287722326E-2,6.4567119260440844,4.2350031812172695,0.65590709787357393,0.37079722355652617,99.725094680745173,3.3434909081598865E-2,458.33333333333337,0.15366576866258877,3.5399597418786427E-2,3.7078947007299773E-2,0.25056636397553622,2.6108860487125733E-2,-2.2414630289473405E-2,2.9076110284245497E-2,2.0230634257202743E-2,2.6070401861145683E-2,0]
[null,-4.0302355455242876E-6,6.2195419634221871E-2,6.433146520730031E-4,0.1247074641660726,-8.4899936220693292E-2,7.1406096706212105,4.6736626060119137,0.65451870660860811,0.444113214908469,131.72899105938208,4.4164879999172131E-2,458.33333333333337,0.15366576866258877,4.0318903901928237E-2,3.8458559294309184E-2,0.33461232624505233,2.7450195912426163E-2,-4.4762545575773326E-2,4.2153634080643154E-2,1.8356927070702328E-2,2.7414898507837206E-2,0]
[null,-3.4696055743564011E-8,6.7505252560478693E-2,7.6077680317772789E-4,0.14747766993172642,-0.10040172699290922,8.2273474832888436,5.3656694082625078,0.65217488615390373,0.55538916976223218,177.86409922340442,5.9632633144676497E-2,458.33333333333337,0.15366576866258877,4.7609395357156907E-2,4.1903245950329203E-2,0.46135603424431992,2.8277079983548666E-2,-2.3127588441635902E-2,2.4932892721325942E-2,2.1696832575088344E-2,2.8276693641487206E-2,0]
[null,-4.4356020559053316E-6,7.3437125604676246E-2,8.8319002861888705E-4,0.17120764852923606,-0.11655692414104503,9.2942249928176501,6.0383075838355476,0.64968381855418866,0.6825411681956709,230.73867182461424,7.7359931707885424E-2,458.33333333333337,0.15366576866258877,5.5420790396433869E-2,4.4716361421162226E-2,0.60623533124096762,2.8312152218384762E-2,-2.0103278208493742E-2,2.1704165229874575E-2,2.254270289689584E-2,2.8236544674532592E-2,0]
[null,3.8018732058162752E-11,8.0084861800030091E-2,8.0322125496704922E-4,0.15570558753551314,-0.10600323356239856,8.6047482006142335,5.604418090579955,0.6513169194398849,0.68911007047024853,230.68434188622089,7.7341716467715385E-2,344.80558505185252,0.11560323330795608,5.2424281373722431E-2,3.7291747265587157E-2,0.65084855363000782,2.8153001603579232E-2,4.8123532323601018E-2,-6.4062658806167058E-2,4.9462777354064486E-2,2.8153001619252535E-2,0]
[null,3.968007021546211E-13,8.7559791299448214E-2,7.5896018048646902E-4,0.14712551502830021,-0.10016198249132208,8.2110155193275176,5.3553185318810819,0.65221147363264054,0.7189548052288478,236.54140812028444,7.930541956218462E-2,260.81444996361927,8.7443460942479664E-2,5.1149555705678258E-2,3.2228659603836959E-2,0.71081676384855275,2.8240884182902291E-2,1.6207252671690486E-2,-2.0603367741213813E-2,3.4697219234129953E-2,2.8240884183518791E-2,0]
[null,-2.8938985860933035E-13,9.5994684279247358E-2,7.2684530599483206E-4,0.14090000073765219,-9.5923697559851043E-2,7.9198478958554546,5.1705241388292018,0.65285649507675458,0.76026329830230588,243.27336940951918,8.1562449393712724E-2,191.18460198702763,6.409860833626406E-2,5.037178792163647E-2,2.8152876546496237E-2,0.77772713935975457,2.8476531780381623E-2,-3.3680183072691255E-3,8.5352825281670482E-3,2.3875588796551991E-2,2.8476531780393326E-2,0]
[null,3.0101922571042583E-12,0.10554872685841464,7.2595225417293647E-4,0.14072688136641043,-9.5805839148766531E-2,7.9116847286112231,5.165336292751995,0.65287438389354169,0.83506825041007637,258.68561812182367,8.6729725855956938E-2,135.96067101295239,4.5583638587098206E-2,5.1176023343640298E-2,2.5573079535933487E-2,0.87621433767893508,2.8768524395651609E-2,-1.1034826407080069E-2,2.1215734440940555E-2,1.8650998943764541E-2,2.8768524396291004E-2,0]
[null,-3.1264859281152141E-11,0.11641386182692361,7.2273332551494641E-4,0.14010288744838617,-9.5381028619608385E-2,7.8822313953110177,5.1466150333027558,0.65293884119722423,0.91760099654157612,272.20650377321294,9.1262883572218095E-2,84.020098658891683,2.8169483004054835E-2,5.1482122902593068E-2,2.308348383760038E-2,0.98069439710973927,2.8844279637285152E-2,-1.2467472076883784E-2,2.3876026699056242E-2,1.7419928680663457E-2,2.884427969092291E-2,0]
[null,3.2427795991261691E-12,0.12882293018018509,7.8204412167223248E-4,0.15160036999850637,-0.10320843126732657,8.4174505291149284,5.4860375425209158,0.65174574219894554,1.0843606418073344,309.39703194333487,0.10373178051380962,38.933102308818121,1.3053131111353625E-2,5.4783886633791648E-2,2.257179269953952E-2,1.1750392912097904,2.8261143338790408E-2,-1.404560943820383E-2,2.7278070573649556E-2,1.5601355070781968E-2,2.8261143335443415E-2,0]
[null,4.7986761001958937E-13,0.14306020987399781,9.1784214577362363E-4,0.17792501093413038,-0.12113005569784856,9.584357363492682,6.2199529724705931,0.64896922522554501,1.3711401759286594,379.39632963702383,0.12720049881041054,-11.265573741148394,-3.7770175600552224E-3,6.0717137183114424E-2,2.385487298205273E-2,1.5021176922991253,2.4884310429224621E-2,-1.4201503815730866E-2,2.7695424295135836E-2,1.5326194119321825E-2,2.4884310430161212E-2,0]
[null,-6.0570680974295099E-6,0.15947517602038869,1.0760677338809909E-3,0.20859726718613955,-0.14201150507182109,10.844394132737325,7.0016867314108637,0.64565033746551126,1.7294116631527552,458.33333333333337,0.15366576866258877,-75.401654439209395,-2.5279970591633474E-2,6.4337330074277096E-2,2.5088488045219997E-2,1.9083574024069776,1.6459528197982555E-2,-1.6705306728898823E-2,3.6234581772547736E-2,8.1488492308504773E-3,1.6421210342210186E-2,0]
[null,5.1309437316557665E-11,0.17850063403985802,1.0840138111394501E-3,0.21013762561226426,-0.14306016990523346,10.904921104708995,7.0389210541420271,0.64548115355942004,1.9465353313451845,458.33333333333337,0.15366576866258877,-134.15779096051185,-4.4979185607320622E-2,5.7442173783368508E-2,2.2579952437254001E-2,2.1451802856150941,9.0041049648447308E-3,-1.0118670705533893E-2,9.5354044145541609E-3,3.5113026647003498E-2,9.00410507699103E-3,0]
[null,6.4624346078105559E-7,0.20067685341513844,1.0386560465307387E-3,0.20134495815728434,-0.13707418573716915,10.418253769872207,6.8143793695702639,0.65408076248596225,2.0907023846183583,458.33333333333337,0.15366576866258877,-180.19821577078568,-6.0415194192097753E-2,4.769339840392408E-2,1.9244314305582669E-2,2.304783347473045,3.3394232588798492E-3,1.4277075988025884E-2,-9.902478117381712E-2,0.15572988706279411,{"$f":"S232*Q252^2+T232*Q252+U232","v":3.3394146186842E-3},0.10303556719799878]
[null,0,{"$f":"C233","v":0.22668403164997661},{"$f":"D233+(D252-D232)","v":1.068922132170933E-3},0.2072120820884108,-0.14106848111381315,10.237512941535959,6.8926810224154176,0.67327690443742594,2.3206807076561824,458.33333333333337,0.15366576866258877,-234.54015494930317,-7.8634457874605102E-2,4.0736466237715561E-2,1.7532873992391129E-2,2.5529809341933762,-4.0246267864738894E-3,null,null,null,null,0.20594318580878934]
[null,"De","hc","e0","a'","b'","N'","tN'","t","Nc","sac","Nac","sat","Nat","Mtot","u","N","Mo","a''","b''","c''",null,"x"]
[null,null,{"$f":"$C$35","v":4.0138687861173784E-2},{"$f":"$D$35","v":3.210578024372992E-4},{"$f":"$E$35","v":6.2237513577017019E-2},{"$f":"$F$35","v":-4.2370847395201951E-2},{"$f":"IF($C$2=1,0.5*($O$31*D255*$F$6/$O$30)*(1-W255^2+(E255-F255)*(F255^2*(1-W255^2)+2*F255*(1-W255)+2*LN((1-F255)/(1-F255*W255)))/(F255^3)),$F$6*F255*(LN((1-E255+E255^2)/(1+E255)^2)/(6*E255)+ATAN((2-E255)/(E255*3^0.5))/(E255*3^0.5)-LN((W255^2-E255*W255+E255^2)/(W255+E255)^2)/(6*E255)-ATAN((2*W255-E255)/(E255*3^0.5))/(E255*3^0.5)))","v":3.8254468270961333},{"$f":"IF($C$2=1,($O$31*D255*$F$6/$O$30)*(1-W255^3-(E255-F255)*(-2*F255^3*(1-W255^3)-3*F255^2*(1-W255^2)-6*F255*(1-W255)-6*LN((1-F255)/(1-F255*W255)))/(2*F255^4))/3,$F$6*F255*(LN((1+E255^3)/(E255^3+W255^3)))/3)","v":2.5276172507990187},{"$f":"$I$35","v":0.66073778176593112},{"$f":"$J$35","v":0.15354841612232933},{"$f":"$K$35","v":0.6365191476987323},{"$f":"$L$35","v":2.1340626348999612E-4},{"$f":"$M$35","v":458.32156291626706},{"$f":"$N$35","v":0.15366182238581935},{"$f":"$O$35","v":1.9422167141878287E-2},{"$f":"$P$35","v":2.9740483717744983E-2},{"$f":"$Q$35","v":9.9999999999988987E-5},{"$f":"$R$35","v":1.9419193093506513E-2},null,null,null,null,{"$f":"IF(C255<$C$6,0,(C255-$C$6)/C255)","v":0}]
[null,{"$f":"IF(R236>$Q$29*V236,B236,IF(Q236>Q235,$U$6,-0.5)*B236)","v":3.9768977969850178E-15},{"$f":"IF(Q236>Q235,C236,(1-$T$6)*C236+$T$6*C237)","v":4.5181422537606569E-2},{"$f":"D236+B256","v":3.9334484870051265E-4},{"$f":"IF($C$2=1,D256/($O$31*$O$30),2^(1/3)*$O$30/D256)","v":7.6250460744459944E-2},{"$f":"IF($C$2=1,-($O$31-2)*D256/$O$30,3*($O$30/D256)^2)","v":-5.19107600919715E-2},{"$f":"IF($C$2=1,0.5*($O$31*D256*$F$6/$O$30)*(1-W256^2+(E256-F256)*(F256^2*(1-W256^2)+2*F256*(1-W256)+2*LN((1-F256)/(1-F256*W256)))/(F256^3)),$F$6*F256*(LN((1-E256+E256^2)/(1+E256)^2)/(6*E256)+ATAN((2-E256)/(E256*3^0.5))/(E256*3^0.5)-LN((W256^2-E256*W256+E256^2)/(W256+E256)^2)/(6*E256)-ATAN((2*W256-E256)/(E256*3^0.5))/(E256*3^0.5)))","v":4.6131107083750624},{"$f":"IF($C$2=1,($O$31*D256*$F$6/$O$30)*(1-W256^3-(E256-F256)*(-2*F256^3*(1-W256^3)-3*F256^2*(1-W256^2)-6*F256*(1-W256)-6*LN((1-F256)/(1-F256*W256)))/(2*F256^4))/3,$F$6*F256*(LN((1+E256^3)/(E256^3+W256^3)))/3)","v":3.0417370707090954},{"$f":"H256/G256","v":0.65936788926111145},{"$f":"G256*C256*$D$6","v":0.20842690412785125},{"$f":"MAX(MIN($K$6,$Q$6*$J$6*D256*(C256-$I$6)/C256),-$K$6)","v":25.883055331167103},{"$f":"K256*$H$6","v":8.6778318388365996E-3},{"$f":"MIN($O$6,$Q$6*$N$6*D256*(C$6-C256-$M$6)/C256)","v":458.33333333333337},{"$f":"M256*$L$6","v":0.15366576866258877},{"$f":"(0.5*$C$6-C256+I256*C256)*J256+(0.5*$C$6-$I$6)*L256+(0.5*$C$6-$M$6)*N256","v":2.3667860626538265E-2},{"$f":"0.1*$Q$6*D256*$B$6^2/C256+$R$6","v":3.2369913344962982E-2},{"$f":"(J256+L256-N256)","v":6.3438967304099092E-2},{"$f":"O256-P256*Q256","v":2.1614346752210637E-2},{"$f":"((R256-R255)*(Q256-Q257)-(R256-R257)*(Q256-Q255))/((Q256^2-Q255^2)*(Q256-Q257)-(Q256^2-Q257^2)*(Q256-Q255))","v":-5.0906690089526897E-2},{"$f":"-(S256*(Q256^2-Q255^2)-(R256-R255))/(Q256-Q255)","v":3.7891796425141434E-2},{"$f":"R256-S256*Q256^2-T256*Q256","v":1.9415404422930899E-2},{"$f":"S236*Q256^2+T236*Q256+U236","v":2.1614346752193377E-2},{"$f":"IF(C256<$C$6,0,(C256-$C$6)/C256)","v":0}]
[null,{"$f":"IF(R237>$Q$29*V237,B237,IF(Q237>Q236,$U$6,-0.5)*B237)","v":9.2191671472819316E-15},{"$f":"IF(Q237>Q236,C237,(1-$T$6)*C237+$T$6*C238)","v":4.9415891915262342E-2},{"$f":"D237+B257","v":4.5831677895498201E-4},8.8845362225252494E-2,-6.0485277580365059E-2,5.2989633488270842,3.4873783855934106,0.65812464741152354,0.26185300010857576,50.108747538745114,1.6799998270387351E-2,458.33333333333337,0.15366576866258877,2.766629401001558E-2,{"$f":"0.1*$Q$6*D257*$B$6^2/C257+$R$6","v":3.4484750565663386E-2},0.12498722971637435,2.3356140569353138E-2,-2.4406838481757186E-2,3.2898530165082512E-2,1.9625523356974171E-2,{"$f":"MAX(S237*Q257^2+T237*Q257+U237,S238*Q257^2+T238*Q257+U238)","v":2.3356140569424842E-2},0]
[null,-2.079842889016615E-13,5.3135963724627852E-2,4.9935638087239445E-4,9.6800947674788959E-2,-6.5901382396388389E-2,5.7215793300406963,3.7609846785255274,0.65733330983960614,0.30402163172862295,70.833213829511166,2.3748305999898207E-2,458.33333333333337,0.15366576866258877,3.0697047575139663E-2,3.4942181269477887E-2,0.17410416906593237,2.4613468139866028E-2,-4.452549386128031E-2,3.8915846944163265E-2,1.918772536578317E-2,{"$f":"MAX(S238*Q258^2+T238*Q258+U238,S239*Q258^2+T239*Q258+U239)","v":2.4613468138978144E-2},0]
[null,-4.6696137942071927E-6,5.7428181372141097E-2,5.6802682849111373E-4,0.11011281202932226,-7.4964003004031762E-2,6.4106662778889953,4.2053866660288106,0.65599837579029718,0.3681529057228779,98.911962900335382,3.3162289765102902E-2,458.33333333333337,0.15366576866258877,3.5202161062998824E-2,3.6776615179064491E-2,0.24764942682539201,2.6094453393325494E-2,-2.5145465606038333E-2,3.074225033903949E-2,2.0023330123040715E-2,2.6056621679468161E-2,0]
[null,-4.0302355455242876E-6,6.2195419634221871E-2,6.392844165274788E-4,0.12392619724909079,-8.4368055375656129E-2,7.1022032708000085,4.6490905595651135,0.65459835241260689,0.44172451275494962,130.9037357034955,4.3888196002215267E-2,458.33333333333337,0.15366576866258877,4.0143601525482908E-2,3.8217624236793986E-2,0.33194694009457615,2.7457378102394833E-2,-4.6016968652850543E-2,4.2839297677130891E-2,1.8307557545429325E-2,2.7424829474178791E-2,0]
[null,3.4696055743564012E-9,6.7505252560478693E-2,7.607802727833022E-4,0.14747834251972272,-0.10040218488593407,8.2273786619183564,5.3656891671726568,0.65217481626420648,0.5553912744834919,177.86491039202519,5.963290510580295E-2,458.33333333333337,0.15366576866258877,4.7609546340932271E-2,4.1903437054651951E-2,0.46135841092670615,2.8277043209030791E-2,-2.1311336825815482E-2,2.3240187748382282E-2,2.2091138906112598E-2,2.8277088522333394E-2,0]
[null,-4.4356020559053316E-6,7.3437125604676246E-2,8.787544265629817E-4,0.17034780073522218,-0.11597154600542625,9.2567126853294699,6.0147803211448547,0.64977498228689734,0.67978637215894022,229.57984428585391,7.6971410708996019E-2,457.02177033901893,0.15322603993021625,5.5206867772826185E-2,4.4491784627691766E-2,0.60353174293772005,2.8354663450065713E-2,-2.5372847754508425E-2,2.7565250746160161E-2,2.0960233746195722E-2,2.8327953053393733E-2,0]
[null,-3.8018732058162757E-12,8.0084861800030091E-2,8.0322125116517602E-4,0.15570558679851459,-0.10600323306065529,8.6047481671677239,5.604418069458613,0.65131691951692783,0.68911006779168937,230.68434079432669,7.7341716101635177E-2,344.8055834197902,0.11560323276077329,5.2424281166037465E-2,3.7291747089074782E-2,0.65084855113255125,2.8153001603911609E-2,5.3385230119555399E-2,-7.1227330137917308E-2,5.189701793353052E-2,2.8153001607126606E-2,0]
[null,-3.968007021546211E-14,8.7559791299448214E-2,7.5896018044678895E-4,0.14712551502060817,-0.1001619824860854,8.2110155189707541,5.3553185316535554,0.65221147363326881,0.71895480519760968,236.54140810791753,7.9305419558038368E-2,260.81444994998327,8.7443460937907905E-2,5.1149555703421751E-2,3.2228659602151974E-2,0.71081676381774017,2.8240884182836549E-2,1.620725287167012E-2,-2.0603368039460838E-2,3.4697219345096494E-2,2.8240884182827188E-2,0]
[null,2.8938985860933037E-14,9.5994684279247358E-2,7.2684530602377105E-4,0.14090000074326206,-9.5923697563670196E-2,7.9198478961198902,5.1705241389984495,0.65285649507632648,0.76026329832769024,243.27336941920501,8.1562449396960099E-2,191.18460199463951,6.4098608338816102E-2,5.0371787923333883E-2,2.8152876547617129E-2,0.77772713938583427,2.8476531780473071E-2,-3.36801829209587E-3,8.5352825049197813E-3,2.3875588805459813E-2,2.8476531780487285E-2,0]
[null,-3.0101922571042584E-13,0.10554872685841464,7.2595225387191728E-4,0.14072688130805744,-9.5805839109040225E-2,7.9116847258596454,5.1653362909971969,0.65287438389880437,0.8350682501196508,258.68561801455854,8.672972581999408E-2,135.96067095657571,4.5583638568196749E-2,5.1176023325863434E-2,2.5573079525329504E-2,0.87621433737144816,2.8768524395029495E-2,-1.1034826175399057E-2,2.1215734057444629E-2,1.8650999101871055E-2,2.8768524395074151E-2,0]
[null,3.1264859281152143E-12,0.11641386182692361,7.2273332864143235E-4,0.14010288805445995,-9.5381029032218997E-2,7.8822314239412288,5.1466150515037095,0.65293884113470091,0.91760099987452948,272.20650495075625,9.1262883967013958E-2,84.020099022355836,2.816948312591374E-2,5.1482123087052363E-2,2.3083483937457665E-2,0.98069440071562963,2.8844279640578455E-2,-1.2467472345735604E-2,2.3876027249729551E-2,1.7419928404568387E-2,2.8844279636308562E-2,0]
[null,-3.2427795991261695E-13,0.12882293018018509,7.8204412134795455E-4,0.15160036993564463,-0.10320843122453076,8.417450526231459,5.4860375406979438,0.65174574220563608,1.0843606414358775,309.39703181504211,0.10373178047079681,38.933102292674356,1.3053131105941094E-2,5.4783886615538582E-2,2.2571792690180028E-2,1.1750392908007332,2.8261143340768267E-2,-1.4045609389988107E-2,2.7278070445854716E-2,1.5601355154007512E-2,2.8261143341134391E-2,0]
[null,-4.7986761001958939E-14,0.14306020987399781,9.1784214572563684E-4,0.17792501092482807,-0.12113005569151561,9.584357363094524,6.2199529722219511,0.64896922522656231,1.3711401758716988,379.3963296171882,0.12720049880376025,-11.265573740559406,-3.7770175598577514E-3,6.0717137180725342E-2,2.3854872980805547E-2,1.5021176922353168,2.4884310430231101E-2,-1.4015948829683786E-2,2.719866446971524E-2,1.5653707446120005E-2,2.4884310430179787E-2,0]
[null,-6.0570680974295099E-6,0.15947517602038869,1.0700106657835615E-3,0.20742309588399746,-0.1412121377738759,10.798081722282472,6.9731758845206135,0.64577913594884706,1.722025983343539,458.33333333333337,0.15366576866258877,-74.977226737107472,-2.5137672389993062E-2,6.4132469072071221E-2,2.4947267677982179E-2,1.9008294243961208,1.6711968611476405E-2,-1.717931942263572E-2,3.7963447307837704E-2,6.6214318485896817E-3,1.6677903568750138E-2,0]
[null,-5.1309437316557671E-12,0.17850063403985802,1.0840138060085065E-3,0.2101376246176235,-0.14306016922808928,10.904921065708985,7.0389210301616343,0.64548115366885495,1.9465353243836581,458.33333333333337,0.15366576866258877,-134.15779032550512,-4.4979185394421431E-2,5.7442173646038278E-2,2.2579952330376709E-2,2.1451802784406682,9.0041052187837534E-3,-9.7796808173053248E-3,8.0244377131852406E-3,3.6794359492626411E-2,9.0041052358297846E-3,0]
[null,-6.4624346078105564E-8,0.20067685341513844,1.0385914221846607E-3,0.20133243063549261,-0.13706565709128388,10.417758819877147,6.8140689898003517,0.65408204467155329,2.0906030596107517,458.33333333333337,0.15366576866258877,-180.18700398234282,-6.0411435207175956E-2,4.7692079966843694E-2,1.9243116939783013E-2,2.3046802634805164,3.3428481478781913E-3,1.4286024868880974E-2,-9.9064596433263347E-2,0.15577411700925065,{"$f":"S252*Q272^2+T252*Q272+U252","v":3.3428472059520709E-3},0.10303556719799878]
[null,0,{"$f":"C253","v":0.22668403164997661},{"$f":"D253+(D272-D252)","v":1.068857507824855E-3},0.20719955456661907,-0.14105995246792788,10.237049500836539,6.8923803304300435,0.67327801139056909,2.3205756530500072,458.33333333333337,0.15366576866258877,-234.5259752408974,-7.8629703832878012E-2,4.0735611973737436E-2,1.7531813998886897E-2,2.5528711255454741,-4.0208497624548561E-3,null,null,null,null,0.20594318580878934]
[null,"De","hc","e0","a'","b'","N'","tN'","t","Nc","sac","Nac","sat","Nat","Mtot","u","N","Mo","a''","b''","c''",null,"x"]
[null,null,{"$f":"$C$35","v":4.0138687861173784E-2},{"$f":"$D$35","v":3.210578024372992E-4},{"$f":"$E$35","v":6.2237513577017019E-2},{"$f":"$F$35","v":-4.2370847395201951E-2},{"$f":"IF($C$2=1,0.5*($O$31*D275*$F$6/$O$30)*(1-W275^2+(E275-F275)*(F275^2*(1-W275^2)+2*F275*(1-W275)+2*LN((1-F275)/(1-F275*W275)))/(F275^3)),$F$6*F275*(LN((1-E275+E275^2)/(1+E275)^2)/(6*E275)+ATAN((2-E275)/(E275*3^0.5))/(E275*3^0.5)-LN((W275^2-E275*W275+E275^2)/(W275+E275)^2)/(6*E275)-ATAN((2*W275-E275)/(E275*3^0.5))/(E275*3^0.5)))","v":3.8254468270961333},{"$f":"IF($C$2=1,($O$31*D275*$F$6/$O$30)*(1-W275^3-(E275-F275)*(-2*F275^3*(1-W275^3)-3*F275^2*(1-W275^2)-6*F275*(1-W275)-6*LN((1-F275)/(1-F275*W275)))/(2*F275^4))/3,$F$6*F275*(LN((1+E275^3)/(E275^3+W275^3)))/3)","v":2.5276172507990187},{"$f":"$I$35","v":0.66073778176593112},{"$f":"$J$35","v":0.15354841612232933},{"$f":"$K$35","v":0.6365191476987323},{"$f":"$L$35","v":2.1340626348999612E-4},{"$f":"$M$35","v":458.32156291626706},{"$f":"$N$35","v":0.15366182238581935},{"$f":"$O$35","v":1.9422167141878287E-2},{"$f":"$P$35","v":2.9740483717744983E-2},{"$f":"$Q$35","v":9.9999999999988987E-5},{"$f":"$R$35","v":1.9419193093506513E-2},null,null,null,null,{"$f":"IF(C275<$C$6,0,(C275-$C$6)/C275)","v":0}]
[null,{"$f":"IF(R256>$Q$29*V256,IF(B256=B216,1.22,1)*B256,IF(Q256>Q255,$U$6,-0.5)*B256)","v":-3.976897796985018E-16},{"$f":"IF(Q256>Q255,C256,(1-$T$6)*C256+$T$6*C257)","v":4.5181422537606569E-2},{"$f":"D256+B276","v":3.9334484870011497E-4},{"$f":"IF($C$2=1,D276/($O$31*$O$30),2^(1/3)*$O$30/D276)","v":7.6250460744382853E-2},{"$f":"IF($C$2=1,-($O$31-2)*D276/$O$30,3*($O$30/D276)^2)","v":-5.1910760091919014E-2},{"$f":"IF($C$2=1,0.5*($O$31*D276*$F$6/$O$30)*(1-W276^2+(E276-F276)*(F276^2*(1-W276^2)+2*F276*(1-W276)+2*LN((1-F276)/(1-F276*W276)))/(F276^3)),$F$6*F276*(LN((1-E276+E276^2)/(1+E276)^2)/(6*E276)+ATAN((2-E276)/(E276*3^0.5))/(E276*3^0.5)-LN((W276^2-E276*W276+E276^2)/(W276+E276)^2)/(6*E276)-ATAN((2*W276-E276)/(E276*3^0.5))/(E276*3^0.5)))","v":4.6131107083701375},{"$f":"IF($C$2=1,($O$31*D276*$F$6/$O$30)*(1-W276^3-(E276-F276)*(-2*F276^3*(1-W276^3)-3*F276^2*(1-W276^2)-6*F276*(1-W276)-6*LN((1-F276)/(1-F276*W276)))/(2*F276^4))/3,$F$6*F276*(LN((1+E276^3)/(E276^3+W276^3)))/3)","v":3.0417370707214979},{"$f":"H276/G276","v":0.65936788926450385},{"$f":"G276*C276*$D$6","v":0.20842690412762874},{"$f":"MAX(MIN($K$6,$Q$6*$J$6*D276*(C276-$I$6)/C276),-$K$6)","v":25.883055331140934},{"$f":"K276*$H$6","v":8.6778318388278271E-3},{"$f":"MIN($O$6,$Q$6*$N$6*D276*(C$6-C276-$M$6)/C276)","v":458.33333333333337},{"$f":"M276*$L$6","v":0.15366576866258877},{"$f":"(0.5*$C$6-C276+I276*C276)*J276+(0.5*$C$6-$I$6)*L276+(0.5*$C$6-$M$6)*N276","v":2.3667860626553166E-2},{"$f":"0.1*$Q$6*D276*$B$6^2/C276+$R$6","v":3.2369913344930258E-2},{"$f":"(J276+L276-N276)","v":6.3438967303867805E-2},{"$f":"O276-P276*Q276","v":2.16143467522351E-2},{"$f":"((R276-R275)*(Q276-Q277)-(R276-R277)*(Q276-Q275))/((Q276^2-Q275^2)*(Q276-Q277)-(Q276^2-Q277^2)*(Q276-Q275))","v":-5.0906690097982113E-2},{"$f":"-(S276*(Q276^2-Q275^2)-(R276-R275))/(Q276-Q275)","v":3.7891796426179673E-2},{"$f":"R276-S276*Q276^2-T276*Q276","v":1.9415404422930795E-2},{"$f":"S256*Q276^2+T256*Q276+U256","v":2.1614346752203365E-2},{"$f":"IF(C276<$C$6,0,(C276-$C$6)/C276)","v":0}]
[null,{"$f":"IF(R257>$Q$29*V257,IF(B257=B217,1.22,1)*B257,IF(Q257>Q256,$U$6,-0.5)*B257)","v":-9.2191671472819324E-16},{"$f":"IF(Q257>Q256,C257,(1-$T$6)*C257+$T$6*C258)","v":4.9415891915262342E-2},{"$f":"D257+B277","v":4.5831677895406012E-4},8.8845362225073776E-2,-6.0485277580243392E-2,5.2989633488176366,3.4873783855850871,0.65812464741112608,0.26185300010810891,50.108747538644323,1.6799998270353559E-2,458.33333333333337,0.15366576866258877,2.7666294009974619E-2,{"$f":"0.1*$Q$6*D277*$B$6^2/C277+$R$6","v":3.4484750565594018E-2},0.1249872297158737,2.3356140569338116E-2,-2.4406838494540346E-2,3.2898530166955639E-2,1.9625523356938145E-2,{"$f":"MAX(S257*Q277^2+T257*Q277+U257,S258*Q277^2+T258*Q277+U258)","v":2.3356140569339722E-2},0]
[null,2.0798428890166151E-14,5.3135963724627852E-2,4.9935638089319292E-4,9.6800947678820762E-2,-6.5901382399133207E-2,5.7215793302521964,3.7609846786735175,0.65733330984117289,0.30402163173986124,70.833213832461396,2.3748306000887332E-2,458.33333333333337,0.15366576866258877,3.0697047576021253E-2,3.4942181270933251E-2,0.17410416907815982,2.4613468140066982E-2,-3.9673914814589463E-2,3.7464781379014406E-2,1.9293299596521096E-2,{"$f":"MAX(S258*Q278^2+T258*Q278+U258,S259*Q278^2+T259*Q278+U259)","v":2.4613468140152292E-2},0]
[null,-5.6969288289327751E-6,5.7428181372141097E-2,5.6232989966218099E-4,0.1090084542387738,-7.4212164237929271E-2,6.3543512913514322,4.1691511844613585,0.65610964727993037,0.36491883846202905,97.919942128235405,3.282969419897782E-2,458.33333333333337,0.15366576866258877,3.496068735860506E-2,3.6407770348617439E-2,0.24408276399841808,2.6074178140894865E-2,-3.6416247198316203E-2,3.6102467349582203E-2,1.9431736875354107E-2,2.6028907348793762E-2,0]
[null,-4.9168873655396304E-6,6.2195419634221871E-2,6.3436752916193914E-4,0.12297305161037297,-8.371916074471078E-2,7.0552457241633126,4.6190372915105495,0.65469545244766436,0.43880396843688679,129.89692416931385,4.3550641525927886E-2,455.34510463663429,0.15266390293251339,3.9879171844027728E-2,3.7923683466625446E-2,0.32969070703030123,2.7376085828722641E-2,-3.8499939606505648E-2,3.729803477518525E-2,1.926405835695446E-2,2.7436756572166651E-2,0]
[null,-3.4696055743564014E-10,6.7505252560478693E-2,7.607799258227448E-4,0.14747827526092311,-0.10040213909663159,8.2273755440572991,5.3656871912892363,0.65217482325392528,0.55539106401149374,177.86482927516312,5.963287790969031E-2,458.33333333333337,0.15366576866258877,4.7609531242592207E-2,4.1903417944219673E-2,0.46135817325859529,2.8277046886555576E-2,-2.3004196125943548E-2,2.5040144245642635E-2,2.1621046203132585E-2,2.8277042359161987E-2,0]
[null,4.435602055905332E-7,7.3437125604676246E-2,8.791979867685722E-4,0.17043378551462357,-0.11603008381898813,9.2604677516469742,6.0171358762390819,0.64976586902631717,0.68006213343575272,229.69572703972992,7.7010262808884941E-2,457.25245671086896,0.15330338232727148,5.5229948432581055E-2,4.4514242307038807E-2,0.60376901391736615,2.8353628249581531E-2,-2.5326826822181254E-2,2.7514041345974845E-2,2.0974068667931545E-2,2.8353935643271006E-2,0]
[null,3.8018732058162757E-13,8.0084861800030091E-2,8.0322125154536333E-4,0.15570558687221445,-0.10600323311082963,8.6047481705125062,5.604418071568543,0.65131691950895743,0.68911006805955577,230.6843409035161,7.7341716138243186E-2,344.80558358299646,0.11560323281549158,5.2424281186791925E-2,3.7291747106726017E-2,0.65084855138230735,2.8153001603863945E-2,5.3498803271958321E-2,-7.1381978765947263E-2,5.1949560746323481E-2,2.8153001604034882E-2,0]
[null,3.9680070215462109E-15,8.7559791299448214E-2,7.5896018045075691E-4,0.14712551502137736,-0.10016198248660906,8.2110155190057892,5.3553185316830989,0.65221147363408405,0.71895480520067734,236.54140810915425,7.9305419558452994E-2,260.81444995134689,8.7443460938365095E-2,5.1149555703699334E-2,3.2228659602320471E-2,0.71081676382076531,2.8240884182896865E-2,1.6207252836903278E-2,-2.0603367988386769E-2,3.4697219326411448E-2,2.8240884182847887E-2,0]
[null,-2.8938985860933038E-15,9.5994684279247358E-2,7.2684530602087709E-4,0.14090000074270106,-9.5923697563288265E-2,7.9198478960933691,5.170524138982004,0.65285649507643617,0.76026329832514439,243.2733694182364,8.1562449396635359E-2,191.18460199387835,6.4098608338560903E-2,5.0371787923168605E-2,2.8152876547505035E-2,0.7777271393832188,2.8476531780468606E-2,-3.3680182917173807E-3,8.5352825036864709E-3,2.3875588806194212E-2,2.8476531780464453E-2,0]
[null,3.0101922571042582E-14,0.10554872685841464,7.2595225390201918E-4,0.14072688131389272,-9.5805839113012867E-2,7.9116847261351229,5.1653362911694964,0.6528743838978498,0.8350682501487271,258.68561802528507,8.672972582359037E-2,135.96067096221336,4.558363857008689E-2,5.1176023327605166E-2,2.5573079526389899E-2,0.87621433740223065,2.8768524395054892E-2,-1.1034826193691852E-2,2.1215734087308476E-2,1.8650999089715833E-2,2.8768524395091914E-2,0]
[null,-3.1264859281152147E-13,0.11641386182692361,7.2273332832878379E-4,0.14010288799385257,-9.5381028990957947E-2,7.8822314210779787,5.1466150496851704,0.65293884114116962,0.91760099954120755,272.20650483300193,9.1262883927534372E-2,84.02009898600943,2.8169483113727852E-2,5.1482123068628226E-2,2.3083483927471938E-2,0.98069440035501421,2.8844279640271524E-2,-1.2467472319750724E-2,2.3876027196901267E-2,1.741992843087033E-2,2.8844279640786723E-2,0]
[null,3.2427795991261699E-14,0.12882293018018509,7.8204412138038238E-4,0.1516003699419308,-0.10320843122881035,8.4174505265193709,5.4860375408848938,0.65174574220555337,1.0843606414729672,309.39703182787139,0.1037317804750981,38.93310229428873,1.3053131106482346E-2,5.4783886617443274E-2,2.2571792691115981E-2,1.175039290841583,2.8261143340651128E-2,-1.4045609395978927E-2,2.7278070461452895E-2,1.5601355144067616E-2,2.8261143340534183E-2,0]
[null,4.7986761001958939E-15,0.14306020987399781,9.1784214573043552E-4,0.1779250109257583,-0.12113005569214891,9.5843573631344121,6.2199529722457916,0.64896922522634892,1.3711401758774053,379.39632961917181,0.12720049880442527,-11.265573740618304,-3.7770175598774987E-3,6.0717137180942765E-2,2.3854872980930267E-2,1.5021176922417081,2.4884310430108719E-2,-1.3877026373943427E-2,2.6826747246781274E-2,1.5898912153260975E-2,2.4884310430143879E-2,0]
[null,-7.389623078864002E-6,0.15947517602038869,1.0626210427046976E-3,0.20599060689538412,-0.14023690967038274,10.74137585638988,6.9382421806209216,0.64593607684749876,1.7129828053989293,456.78934515585229,0.15314811456055549,-74.459424940543116,-2.4964068583991757E-2,6.3855097389337256E-2,2.4774978829952041E-2,1.8910949885434767,1.7003259082744228E-2,-1.7449632539785633E-2,3.8949359792168382E-2,5.7503983086515248E-3,1.6994845211222132E-2,0]
[null,5.1309437316557673E-13,0.17850063403985802,1.0840138065216008E-3,0.21013762471708758,-0.1430601692958037,10.904921069608836,7.0389210325609275,0.64548115365803527,1.9465353250797839,458.33333333333337,0.15366576866258877,-134.15779038900581,-4.4979185415711359E-2,5.7442173659813613E-2,2.2579952341064437E-2,2.1451802791580841,9.0041051934327682E-3,-9.6990175415536603E-3,7.6657441653279141E-3,3.7192625681025111E-2,9.0041051944390223E-3,0]
[null,6.4624346078105568E-9,0.20067685341513844,1.0385978846192685E-3,0.2013336833876718,-0.13706650995587241,10.41780831565613,6.8141000283533968,0.65408191645386726,2.0906129922679355,458.33333333333337,0.15366576866258877,-180.18812516118712,-6.0411811105668144E-2,4.7692211816437666E-2,1.924323667636298E-2,2.3046905720361925,3.3425056729628269E-3,1.428512923986521E-2,-9.9060611488072992E-2,0.15576969008936101,{"$f":"S272*Q292^2+T272*Q292+U272","v":3.3425057490978349E-3},0.10303556719799878]
[null,0,{"$f":"C273","v":0.22668403164997661},{"$f":"D273+(D292-D272)","v":1.0688639702594628E-3},0.20720080731879825,-0.14106080533251641,10.237095845672336,6.8924104001973392,0.67327790069593418,2.320586158684232,458.33333333333337,0.15366576866258877,-234.52739321173797,-7.8630179237050721E-2,4.0735697405632022E-2,1.7531919998237323E-2,2.5528821065838714,-4.0212274519279764E-3,null,null,null,null,0.20594318580878934]
[null,"De","hc","e0","a'","b'","N'","tN'","t","Nc","sac","Nac","sat","Nat","Mtot","u","N","Mo","a''","b''","c''",null,"x"]
[null,null,{"$f":"$C$35","v":4.0138687861173784E-2},{"$f":"$D$35","v":3.210578024372992E-4},{"$f":"$E$35","v":6.2237513577017019E-2},{"$f":"$F$35","v":-4.2370847395201951E-2},{"$f":"IF($C$2=1,0.5*($O$31*D295*$F$6/$O$30)*(1-W295^2+(E295-F295)*(F295^2*(1-W295^2)+2*F295*(1-W295)+2*LN((1-F295)/(1-F295*W295)))/(F295^3)),$F$6*F295*(LN((1-E295+E295^2)/(1+E295)^2)/(6*E295)+ATAN((2-E295)/(E295*3^0.5))/(E295*3^0.5)-LN((W295^2-E295*W295+E295^2)/(W295+E295)^2)/(6*E295)-ATAN((2*W295-E295)/(E295*3^0.5))/(E295*3^0.5)))","v":3.8254468270961333},{"$f":"IF($C$2=1,($O$31*D295*$F$6/$O$30)*(1-W295^3-(E295-F295)*(-2*F295^3*(1-W295^3)-3*F295^2*(1-W295^2)-6*F295*(1-W295)-6*LN((1-F295)/(1-F295*W295)))/(2*F295^4))/3,$F$6*F295*(LN((1+E295^3)/(E295^3+W295^3)))/3)","v":2.5276172507990187},{"$f":"$I$35","v":0.66073778176593112},{"$f":"$J$35","v":0.15354841612232933},{"$f":"$K$35","v":0.6365191476987323},{"$f":"$L$35","v":2.1340626348999612E-4},{"$f":"$M$35","v":458.32156291626706},{"$f":"$N$35","v":0.15366182238581935},{"$f":"$O$35","v":1.9422167141878287E-2},{"$f":"$P$35","v":2.9740483717744983E-2},{"$f":"$Q$35","v":9.9999999999988987E-5},{"$f":"$R$35","v":1.9419193093506513E-2},null,null,null,null,{"$f":"IF(C295<$C$6,0,(C295-$C$6)/C295)","v":0}]
[null,{"$f":"IF(R276>$Q$29*V276,B276,IF(Q276>Q275,$U$6,-0.5)*B276)","v":3.976897796985018E-17},{"$f":"IF(Q276>Q275,C276,(1-$T$6)*C276+$T$6*C277)","v":4.5181422537606569E-2},{"$f":"D276+B296","v":3.9334484870015476E-4},{"$f":"IF($C$2=1,D296/($O$31*$O$30),2^(1/3)*$O$30/D296)","v":7.6250460744390569E-2},{"$f":"IF($C$2=1,-($O$31-2)*D296/$O$30,3*($O$30/D296)^2)","v":-5.1910760091924267E-2},{"$f":"IF($C$2=1,0.5*($O$31*D296*$F$6/$O$30)*(1-W296^2+(E296-F296)*(F296^2*(1-W296^2)+2*F296*(1-W296)+2*LN((1-F296)/(1-F296*W296)))/(F296^3)),$F$6*F296*(LN((1-E296+E296^2)/(1+E296)^2)/(6*E296)+ATAN((2-E296)/(E296*3^0.5))/(E296*3^0.5)-LN((W296^2-E296*W296+E296^2)/(W296+E296)^2)/(6*E296)-ATAN((2*W296-E296)/(E296*3^0.5))/(E296*3^0.5)))","v":4.6131107083718383},{"$f":"IF($C$2=1,($O$31*D296*$F$6/$O$30)*(1-W296^3-(E296-F296)*(-2*F296^3*(1-W296^3)-3*F296^2*(1-W296^2)-6*F296*(1-W296)-6*LN((1-F296)/(1-F296*W296)))/(2*F296^4))/3,$F$6*F296*(LN((1+E296^3)/(E296^3+W296^3)))/3)","v":3.0417370706972764},{"$f":"H296/G296","v":0.65936788925901024},{"$f":"G296*C296*$D$6","v":0.20842690412770559},{"$f":"MAX(MIN($K$6,$Q$6*$J$6*D296*(C296-$I$6)/C296),-$K$6)","v":25.883055331143552},{"$f":"K296*$H$6","v":8.6778318388287048E-3},{"$f":"MIN($O$6,$Q$6*$N$6*D296*(C$6-C296-$M$6)/C296)","v":458.33333333333337},{"$f":"M296*$L$6","v":0.15366576866258877},{"$f":"(0.5*$C$6-C296+I296*C296)*J296+(0.5*$C$6-$I$6)*L296+(0.5*$C$6-$M$6)*N296","v":2.3667860626507213E-2},{"$f":"0.1*$Q$6*D296*$B$6^2/C296+$R$6","v":3.2369913344933533E-2},{"$f":"(J296+L296-N296)","v":6.343896730394552E-2},{"$f":"O296-P296*Q296","v":2.1614346752186424E-2},{"$f":"((R296-R295)*(Q296-Q297)-(R296-R297)*(Q296-Q295))/((Q296^2-Q295^2)*(Q296-Q297)-(Q296^2-Q297^2)*(Q296-Q295))","v":-5.0906690083231732E-2},{"$f":"-(S296*(Q296^2-Q295^2)-(R296-R295))/(Q296-Q295)","v":3.7891796424435374E-2},{"$f":"R296-S296*Q296^2-T296*Q296","v":1.9415404422930972E-2},{"$f":"S276*Q296^2+T276*Q296+U276","v":2.1614346752237543E-2},{"$f":"IF(C296<$C$6,0,(C296-$C$6)/C296)","v":0}]
[null,{"$f":"IF(R277>$Q$29*V277,B277,IF(Q277>Q276,$U$6,-0.5)*B277)","v":9.2191671472819329E-17},{"$f":"IF(Q277>Q276,C277,(1-$T$6)*C277+$T$6*C278)","v":4.9415891915262342E-2},{"$f":"D277+B297","v":4.5831677895415233E-4},8.8845362225091651E-2,-6.048527758025557E-2,5.2989633488183241,3.487378385590878,0.6581246474121335,0.26185300010814289,50.108747538654406,1.6799998270356942E-2,458.33333333333337,0.15366576866258877,2.7666294009990305E-2,{"$f":"0.1*$Q$6*D297*$B$6^2/C297+$R$6","v":3.4484750565600956E-2},0.12498722971591106,2.3356140569351643E-2,-2.4406838501080698E-2,3.2898530169220029E-2,1.9625523356769821E-2,{"$f":"MAX(S277*Q297^2+T277*Q297+U277,S278*Q297^2+T278*Q297+U278)","v":2.3356140569339143E-2},0]
[null,-2.0798428890166152E-15,5.3135963724627852E-2,4.9935638089111309E-4,9.6800947678417598E-2,-6.5901382398858718E-2,5.7215793302307238,3.7609846786649315,0.65733330984213911,0.30402163173872027,70.833213832166379,2.3748306000788422E-2,458.33333333333337,0.15366576866258877,3.0697047575950001E-2,3.4942181270787714E-2,0.17410416907691992,2.4613468140064394E-2,-3.420353597661184E-2,3.5828638120726834E-2,1.9412339404142772E-2,{"$f":"MAX(S278*Q298^2+T278*Q298+U278,S279*Q298^2+T279*Q298+U279)","v":2.4613468140037943E-2},0]
[null,-5.6969288289327751E-6,5.7428181372141097E-2,5.5663297083324826E-4,0.10790409644822532,-7.3460325471826779E-2,6.2978829774124243,4.1328019493802843,0.65622082280708005,0.36167596588736067,96.927921356135457,3.2497098632852738E-2,458.33333333333337,0.15366576866258877,3.4718551690491907E-2,3.6038925518170395E-2,0.24050729585762462,2.6050927168502401E-2,-4.3092809196287857E-2,3.9514232712540134E-2,1.9040115996249142E-2,2.6008191031629428E-2,0]
[null,4.9168873655396304E-7,6.2195419634221871E-2,6.3485921789849307E-4,0.12306836617424476,-8.3784050207805313E-2,7.0599465146766835,4.622046349235446,0.65468574579521677,0.43909633607547849,129.997605322732,4.3584396973556622E-2,455.69803578285894,0.15278223042895611,3.990654499913282E-2,3.7953077543642293E-2,0.32989850262007903,2.7385881547661479E-2,-3.6924670410352203E-2,3.5995890583227212E-2,1.9529514612034796E-2,2.7378559404573857E-2,0]
[null,3.4696055743564018E-11,6.7505252560478693E-2,7.6077996051880051E-4,0.14747828198680304,-0.10040214367556184,8.22737585584394,5.3656873888732655,0.65217482255438652,0.55539108505872969,177.86483738684933,5.9632880629301575E-2,458.33333333333337,0.15366576866258877,4.7609532752407376E-2,4.1903419855262899E-2,0.46135819702544256,2.8277046518783152E-2,-2.278801618613923E-2,2.4810168217746526E-2,2.1681132870502821E-2,2.8277046985058785E-2,0]
[null,-4.4356020559053322E-8,7.3437125604676246E-2,8.791536307480131E-4,0.17042518703668341,-0.11602423003763193,9.26009228338431,6.0169003490316548,0.64976678038381741,0.68003456012578678,229.68413876434232,7.7006377598896059E-2,457.22938807368388,0.15329564808756593,5.5227640565908009E-2,4.45119965391041E-2,0.60374528963711693,2.8353732323080257E-2,-2.5331507432733966E-2,2.7519249612790286E-2,2.0972661599511614E-2,2.8353789133619453E-2,0]
[null,-3.8018732058162758E-14,8.0084861800030091E-2,8.0322125150734459E-4,0.15570558686484445,-0.10600323310581218,8.6047481701775279,5.6044180713628249,0.65131691951040538,0.68911006803272912,230.68434089259713,7.7341716134582378E-2,344.80558356667581,0.11560323281001975,5.2424281184749913E-2,3.7291747104960894E-2,0.6508485513572918,2.8153001603903636E-2,5.3487538973301739E-2,-7.1366640561274577E-2,5.1944349498157766E-2,2.8153001603907542E-2,0]
[null,-3.968007021546211E-16,8.7559791299448214E-2,7.589601804503601E-4,0.14712551502130045,-0.10016198248655669,8.2110155190023892,5.3553185316794369,0.65221147363390808,0.71895480520037969,236.54140810903053,7.9305419558411513E-2,260.81444995121052,8.7443460938319367E-2,5.1149555703666166E-2,3.2228659602303623E-2,0.71081676382047188,2.8240884182885128E-2,1.6207252847131745E-2,-2.0603368003366079E-2,3.4697219331879921E-2,2.8240884182896154E-2,0]
[null,2.893898586093304E-16,9.5994684279247358E-2,7.2684530602116647E-4,0.14090000074275716,-9.5923697563326457E-2,7.919847896096023,5.1705241389843231,0.65285649507651022,0.76026329832539918,243.27336941833326,8.1562449396667833E-2,191.18460199395443,6.409860833858641E-2,5.0371787923191351E-2,2.8152876547516244E-2,0.77772713938348059,2.8476531780475264E-2,-3.3680182921808893E-3,8.5352825046220108E-3,2.387558880575277E-2,2.8476531780469671E-2,0]
[null,-3.0101922571042586E-15,0.10554872685841464,7.25952253899009E-4,0.14072688131330921,-9.5805839112615601E-2,7.911684726107409,5.1653362911537117,0.65287438389814156,0.83506825014580199,258.68561802421243,8.6729725823230741E-2,135.96067096164958,4.5583638569897875E-2,5.1176023327447362E-2,2.5573079526283859E-2,0.87621433739913479,2.8768524395069172E-2,-1.1034826195253271E-2,2.1215734090038171E-2,1.8650999088542907E-2,2.876852439504908E-2,0]
[null,3.1264859281152147E-14,0.11641386182692361,7.227333283600486E-4,0.1401028879999133,-9.538102899508405E-2,7.8822314213645832,5.1466150498639118,0.65293884114010481,0.91760099957457231,272.20650484477738,9.1262883931482339E-2,84.020098989644069,2.816948311494644E-2,5.1482123070427613E-2,2.3083483928470511E-2,0.98069440039110811,2.8844279640258444E-2,-1.2467472321265537E-2,2.3876027199591691E-2,1.7419928429696498E-2,2.884427964026175E-2,0]
[null,-3.24277959912617E-15,0.12882293018018509,7.8204412137713964E-4,0.15160036994130219,-0.10320843122838239,8.4174505264911321,5.4860375408608002,0.65174574220487758,1.0843606414693294,309.39703182658843,0.10373178047466795,38.933102294127295,1.3053131106428221E-2,5.4783886617160465E-2,2.2571792691022385E-2,1.1750392908375693,2.8261143340568892E-2,-1.4045609394159187E-2,2.7278070457005536E-2,1.5601355146675648E-2,2.8261143340674345E-2,0]
[null,-4.7986761001958937E-16,0.14306020987399781,9.1784214572995565E-4,0.17792501092566529,-0.12113005569208558,9.5843573631302803,6.2199529722448537,0.64896922522653078,1.3711401758768142,379.39632961897343,0.12720049880435877,-11.265573740612414,-3.7770175598755237E-3,6.0717137180951702E-2,2.3854872980917794E-2,1.5021176922410484,2.4884310430152129E-2,-1.3881042449516373E-2,2.6837498911971121E-2,1.58918235892778E-2,2.4884310430118524E-2,0]
[null,7.3896230788640028E-7,0.15947517602038869,1.0633600050125841E-3,0.20613385579424545,-0.14033443248073207,10.747056579815579,6.9417430020415241,0.64592039229411458,1.7138887397671658,457.10700318740709,0.15325461601275342,-74.511205120199563,-2.4981428964591892E-2,6.3885648545045845E-2,2.479220771475505E-2,1.8921247847445113,1.6975697859423731E-2,-1.745279069001027E-2,3.8960878506953942E-2,5.7402217595539928E-3,1.6975386170734665E-2,0]
[null,-5.1309437316557674E-14,0.17850063403985802,1.0840138064702914E-3,0.21013762470714117,-0.14306016928903226,10.904921069218917,7.0389210323209532,0.64548115365910919,1.9465353250101831,458.33333333333337,0.15366576866258877,-134.15779038265572,-4.4979185413582354E-2,5.7442173658433598E-2,2.2579952339995667E-2,2.1451802790863543,9.0041051959651106E-3,-9.6767456958824268E-3,7.5666126755849312E-3,3.7302790053517373E-2,9.0041051961421703E-3,0]
[null,-6.4624346078105572E-10,0.20067685341513844,1.0385972383758076E-3,0.20133355811245385,-0.13706642466941354,10.417803366085899,6.8140969245039988,0.65408192927566666,2.0906119990037557,458.33333333333337,0.15366576866258877,-180.18801304330267,-6.0411773515818917E-2,4.7692198631545869E-2,1.9243224702704981E-2,2.3046895411821633,3.3425399206034531E-3,1.42852187945984E-2,-9.906100994495147E-2,0.15577013273819115,{"$f":"S292*Q312^2+T292*Q312+U292","v":3.3425399128008959E-3},0.10303556719799878]
[null,0,{"$f":"C293","v":0.22668403164997661},{"$f":"D293+(D312-D292)","v":1.0688633240160019E-3},0.20720068204358033,-0.14106072004605755,10.237091211196532,6.8924073932253789,0.67327791176530705,2.3205851081225721,458.33333333333337,0.15366576866258877,-234.5272514146539,-7.8630131696633451E-2,4.073568886244669E-2,1.7531909398302282E-2,2.5528810084817946,-4.0211896829026941E-3,null,null,null,null,0.20594318580878934]
[null,"De","hc","e0","a'","b'","N'","tN'","t","Nc","sac","Nac","sat","Nat","Mtot","u","N","Mo","a''","b''","c''",null,"x"]
[null,null,{"$f":"$C$35","v":4.0138687861173784E-2},{"$f":"$D$35","v":3.210578024372992E-4},{"$f":"$E$35","v":6.2237513577017019E-2},{"$f":"$F$35","v":-4.2370847395201951E-2},{"$f":"IF($C$2=1,0.5*($O$31*D315*$F$6/$O$30)*(1-W315^2+(E315-F315)*(F315^2*(1-W315^2)+2*F315*(1-W315)+2*LN((1-F315)/(1-F315*W315)))/(F315^3)),$F$6*F315*(LN((1-E315+E315^2)/(1+E315)^2)/(6*E315)+ATAN((2-E315)/(E315*3^0.5))/(E315*3^0.5)-LN((W315^2-E315*W315+E315^2)/(W315+E315)^2)/(6*E315)-ATAN((2*W315-E315)/(E315*3^0.5))/(E315*3^0.5)))","v":3.8254468270961333},{"$f":"IF($C$2=1,($O$31*D315*$F$6/$O$30)*(1-W315^3-(E315-F315)*(-2*F315^3*(1-W315^3)-3*F315^2*(1-W315^2)-6*F315*(1-W315)-6*LN((1-F315)/(1-F315*W315)))/(2*F315^4))/3,$F$6*F315*(LN((1+E315^3)/(E315^3+W315^3)))/3)","v":2.5276172507990187},{"$f":"$I$35","v":0.66073778176593112},{"$f":"$J$35","v":0.15354841612232933},{"$f":"$K$35","v":0.6365191476987323},{"$f":"$L$35","v":2.1340626348999612E-4},{"$f":"$M$35","v":458.32156291626706},{"$f":"$N$35","v":0.15366182238581935},{"$f":"$O$35","v":1.9422167141878287E-2},{"$f":"$P$35","v":2.9740483717744983E-2},{"$f":"$Q$35","v":9.9999999999988987E-5},{"$f":"$R$35","v":1.9419193093506513E-2},null,null,null,null,{"$f":"IF(C315<$C$6,0,(C315-$C$6)/C315)","v":0}]
[null,{"$f":"IF(R296>$Q$29*V296,B296,IF(Q296>Q295,$U$6,-0.5)*B296)","v":-3.9768977969850185E-18},{"$f":"IF(Q296>Q295,C296,(1-$T$6)*C296+$T$6*C297)","v":4.5181422537606569E-2},{"$f":"D296+B316","v":3.933448487001508E-4},{"$f":"IF($C$2=1,D316/($O$31*$O$30),2^(1/3)*$O$30/D316)","v":7.6250460744389806E-2},{"$f":"IF($C$2=1,-($O$31-2)*D316/$O$30,3*($O$30/D316)^2)","v":-5.1910760091923747E-2},{"$f":"IF($C$2=1,0.5*($O$31*D316*$F$6/$O$30)*(1-W316^2+(E316-F316)*(F316^2*(1-W316^2)+2*F316*(1-W316)+2*LN((1-F316)/(1-F316*W316)))/(F316^3)),$F$6*F316*(LN((1-E316+E316^2)/(1+E316)^2)/(6*E316)+ATAN((2-E316)/(E316*3^0.5))/(E316*3^0.5)-LN((W316^2-E316*W316+E316^2)/(W316+E316)^2)/(6*E316)-ATAN((2*W316-E316)/(E316*3^0.5))/(E316*3^0.5)))","v":4.6131107083710807},{"$f":"IF($C$2=1,($O$31*D316*$F$6/$O$30)*(1-W316^3-(E316-F316)*(-2*F316^3*(1-W316^3)-3*F316^2*(1-W316^2)-6*F316*(1-W316)-6*LN((1-F316)/(1-F316*W316)))/(2*F316^4))/3,$F$6*F316*(LN((1+E316^3)/(E316^3+W316^3)))/3)","v":3.0417370707087272},{"$f":"H316/G316","v":0.65936788926160073},{"$f":"G316*C316*$D$6","v":0.20842690412767134},{"$f":"MAX(MIN($K$6,$Q$6*$J$6*D316*(C316-$I$6)/C316),-$K$6)","v":25.883055331143293},{"$f":"K316*$H$6","v":8.6778318388286164E-3},{"$f":"MIN($O$6,$Q$6*$N$6*D316*(C$6-C316-$M$6)/C316)","v":458.33333333333337},{"$f":"M316*$L$6","v":0.15366576866258877},{"$f":"(0.5*$C$6-C316+I316*C316)*J316+(0.5*$C$6-$I$6)*L316+(0.5*$C$6-$M$6)*N316","v":2.366786062652905E-2},{"$f":"0.1*$Q$6*D316*$B$6^2/C316+$R$6","v":3.2369913344933207E-2},{"$f":"(J316+L316-N316)","v":6.3438967303911187E-2},{"$f":"O316-P316*Q316","v":2.1614346752209395E-2},{"$f":"((R316-R315)*(Q316-Q317)-(R316-R317)*(Q316-Q315))/((Q316^2-Q315^2)*(Q316-Q317)-(Q316^2-Q317^2)*(Q316-Q315))","v":-5.0906690093730021E-2},{"$f":"-(S316*(Q316^2-Q315^2)-(R316-R315))/(Q316-Q315)","v":3.7891796425482134E-2},{"$f":"R316-S316*Q316^2-T316*Q316","v":1.9415404422930868E-2},{"$f":"S296*Q316^2+T296*Q316+U296","v":2.1614346752185345E-2},{"$f":"IF(C316<$C$6,0,(C316-$C$6)/C316)","v":0}]
[null,{"$f":"IF(R297>$Q$29*V297,B297,IF(Q297>Q296,$U$6,-0.5)*B297)","v":-9.2191671472819335E-18},{"$f":"IF(Q297>Q296,C297,(1-$T$6)*C297+$T$6*C298)","v":4.9415891915262342E-2},{"$f":"D297+B317","v":4.5831677895414311E-4},8.8845362225089874E-2,-6.0485277580254349E-2,5.2989633488190169,3.4873783855774811,0.65812464740951926,0.26185300010817714,50.108747538653397,1.6799998270356602E-2,458.33333333333337,0.15366576866258877,2.7666294009958965E-2,{"$f":"0.1*$Q$6*D317*$B$6^2/C317+$R$6","v":3.448475056560027E-2},0.12498722971594498,2.3356140569319221E-2,-2.4406838495543391E-2,3.2898530167245268E-2,1.962552335689681E-2,{"$f":"MAX(S297*Q317^2+T297*Q317+U297,S298*Q317^2+T298*Q317+U298)","v":2.3356140569352569E-2},0]
[null,2.0798428890166154E-16,5.3135963724627852E-2,4.9935638089132104E-4,9.6800947678457899E-2,-6.5901382398886169E-2,5.7215793302337561,3.7609846786497978,0.65733330983914573,0.30402163173888136,70.833213832195881,2.3748306000798313E-2,458.33333333333337,0.15366576866258877,3.0697047575913704E-2,3.4942181270802272E-2,0.17410416907709089,2.4613468140019586E-2,-4.6691240615033283E-2,3.9563603168429988E-2,1.91405969888391E-2,{"$f":"MAX(S298*Q318^2+T298*Q318+U298,S299*Q318^2+T299*Q318+U299)","v":2.4613468140068585E-2},0]
[null,-5.6969288289327751E-6,5.7428181372141097E-2,5.5093604200431552E-4,0.10679973865767686,-7.2708486705724301E-2,6.2412610934737165,4.0963387685827728,0.65633190267687747,0.35842427406689625,95.935900584035494,3.2164503066727662E-2,454.52830755984331,0.1523900547492848,3.4411967275320227E-2,3.567008068772335E-2,0.23819872238433915,2.5915399628158236E-2,-2.7500720121818253E-2,3.1651296080427604E-2,1.9936454560720424E-2,2.6008634498077755E-2,0]
[null,-4.9168873655396307E-8,6.2195419634221871E-2,6.3481004902483766E-4,0.12305883471785757,-8.3777561261495839E-2,7.0594764860040753,4.6217454807931473,0.65468671649464283,0.43906710244494551,129.98753720739018,4.3581021428793741E-2,455.66274266823643,0.15277039767931183,3.9903807915146403E-2,3.7950138135940607E-2,0.3298777261944274,2.738490263809789E-2,-4.1420659188511608E-2,3.9558885629867598E-2,1.8842675123961442E-2,2.7385678454426705E-2,0]
[null,-3.4696055743564019E-12,6.7505252560478693E-2,7.6077995704919494E-4,0.14747828131421506,-0.10040214321766881,8.2273758246654403,5.3656873691130187,0.6521748226241032,0.55539108295401718,177.8648365756807,5.9632880357340441E-2,458.33333333333337,0.15366576866258877,4.7609532601417703E-2,4.190341966415858E-2,0.46135819464876893,2.8277046555551778E-2,-2.28096660679739E-2,2.4833199350332551E-2,2.1675115521819451E-2,2.8277046509791497E-2,0]
[null,4.4356020559053322E-9,7.3437125604676246E-2,8.7915806635006899E-4,0.17042604688447743,-0.11602481541576755,9.2601298305945985,6.0169239020321683,0.64976668924800784,0.68003731748498486,229.68529759188107,7.7006766119894945E-2,457.23169493740232,0.15329642151153647,5.5227871354551226E-2,4.4512221115897574E-2,0.60374766209334341,2.8353721921246113E-2,-2.5331040160146225E-2,2.7518729662943123E-2,2.0972802069638523E-2,2.8353725043513703E-2,0]
[null,3.801873205816276E-15,8.0084861800030091E-2,8.0322125151114645E-4,0.15570558686558145,-0.10600323310631392,8.6047481702114936,5.6044180713793805,0.65131691950975845,0.68911006803544927,230.68434089368904,7.734171613494846E-2,344.8055835683079,0.11560323281056693,5.2424281184928735E-2,3.7291747105137406E-2,0.65084855135983077,2.8153001603872893E-2,5.3488666337780433E-2,-7.1368175654846183E-2,5.1944871055640079E-2,2.8153001603904885E-2,0]
[null,3.9680070215462113E-17,8.7559791299448214E-2,7.5896018045039978E-4,0.14712551502130813,-0.10016198248656193,8.2110155190033041,5.355318531672836,0.65221147363303156,0.71895480520045973,236.54140810904295,7.9305419558415677E-2,260.81444995122411,8.7443460938323933E-2,5.1149555703616192E-2,3.222865960230531E-2,0.71081676382055148,2.824088418283139E-2,1.6207252858385479E-2,-2.0603368019055684E-2,3.4697219337292362E-2,2.8240884182885426E-2,0]
[null,-2.8938985860933043E-17,9.5994684279247358E-2,7.2684530602113752E-4,0.14090000074275155,-9.5923697563322641E-2,7.9198478960955283,5.1705241389859173,0.65285649507675225,0.76026329832535167,243.27336941832357,8.1562449396664585E-2,191.18460199394684,6.4098608338583871E-2,5.0371787923206034E-2,2.8152876547515124E-2,0.77772713938343241,2.8476531780492174E-2,-3.3680182978148279E-3,8.5352825140710756E-3,2.3875588801828787E-2,2.8476531780475104E-2,0]
[null,3.010192257104259E-16,0.10554872685841464,7.2595225389930997E-4,0.14072688131336755,-9.5805839112655306E-2,7.9116847261099501,5.1653362911580842,0.65287438389848451,0.83506825014607022,258.68561802431964,8.6729725823266685E-2,135.96067096170597,4.5583638569916776E-2,5.1176023327494657E-2,2.5573079526294461E-2,0.87621433739942012,2.876852439509988E-2,-1.1034826196051497E-2,2.1215734091491075E-2,1.8650999087912869E-2,2.8768524395069744E-2,0]
[null,-3.1264859281152149E-15,0.11641386182692361,7.2273332835692209E-4,0.14010288799930723,-9.5381028994671435E-2,7.8822314213357467,5.1466150498479815,0.6529388411404724,0.91760099957121533,272.20650484359982,9.1262883931087529E-2,84.020098989280598,2.8169483114824579E-2,5.1482123070274555E-2,2.3083483928370653E-2,0.98069440038747835,2.8844279640287105E-2,-1.2467472321260886E-2,2.3876027199548931E-2,1.7419928429760534E-2,2.8844279640260536E-2,0]
[null,3.2427795991261703E-16,0.12882293018018509,7.8204412137746393E-4,0.15160036994136505,-0.10320843122842518,8.4174505264937434,5.486037540863709,0.65174574220502091,1.0843606414696658,309.39703182671678,0.10373178047471099,38.933102294143445,1.3053131106433635E-2,5.4783886617198081E-2,2.2571792691031746E-2,1.1750392908379432,2.8261143340587068E-2,-1.4045609393929754E-2,2.7278070456473069E-2,1.5601355147004864E-2,2.8261143340566747E-2,0]
[null,4.7986761001958942E-17,0.14306020987399781,9.1784214573000368E-4,0.17792501092567459,-0.12113005569209193,9.5843573631302945,6.2199529722472393,0.64896922522677869,1.3711401758768162,379.39632961899326,0.12720049880436543,-11.265573740613002,-3.777017559875721E-3,6.0717137181000726E-2,2.3854872980919047E-2,1.5021176922410573,2.4884310430199057E-2,-1.3880638527245213E-2,2.683641754872396E-2,1.5892536531119432E-2,2.4884310430152011E-2,0]
[null,-7.3896230788640034E-8,0.15947517602038869,1.0632861087817955E-3,0.20611953090435936,-0.14032468019969713,10.746488608901041,6.9413929944559856,0.64592196084464348,1.7137981625055954,457.07523738425164,0.15324396586753364,-74.506027102233915,-2.4979692926531877E-2,6.3882594201842627E-2,2.4790484826274758E-2,1.8920218212996609,1.697845594993265E-2,-1.7452481974094516E-2,3.8959752527856654E-2,5.7412165392333597E-3,1.6978689113443541E-2,0]
[null,5.1309437316557676E-15,0.17850063403985802,1.0840138064754222E-3,0.2101376247081358,-0.14306016928970938,10.904921069258176,7.0389210323430902,0.64548115365881542,1.9465353250171908,458.33333333333337,0.15366576866258877,-134.15779038329072,-4.4979185413795253E-2,5.7442173658508129E-2,2.2579952340102544E-2,2.1451802790935748,9.004105195647337E-3,-9.6789715853011944E-3,7.5765200587916137E-3,3.7291780024804558E-2,9.0041051957199768E-3,0]
[null,6.462434607810558E-11,0.20067685341513844,1.0385973030001537E-3,0.20133357063997565,-0.13706643319805942,10.417803861043518,6.8140972348857716,0.65408192799314469,2.0906120983302934,458.33333333333337,0.15366576866258877,-180.18802425509114,-6.0411777274803846E-2,4.7692199949894223E-2,1.9243225900070781E-2,2.3046896442676861,3.3425364956973722E-3,1.4285209838982654E-2,-9.9060970099101683E-2,0.15577008847355342,{"$f":"S312*Q332^2+T312*Q332+U312","v":3.3425364966157833E-3},0.10303556719799878]
[null,0,{"$f":"C313","v":0.22668403164997661},{"$f":"D313+(D332-D312)","v":1.068863388640348E-3},0.2072006945711021,-0.14106072857470342,10.237091674644896,6.8924076939178356,0.67327791065785481,2.3205852131789158,458.33333333333337,0.15366576866258877,-234.52726559436229,-7.8630136450675167E-2,4.0735689716497395E-2,1.7531910458295785E-2,2.5528811182921798,-4.0211934600751092E-3,null,null,null,null,0.20594318580878934]
[null,"De","hc","e0","a'","b'","N'","tN'","t","Nc","sac","Nac","sat","Nat","Mtot","u","N","Mo","a''","b''","c''",null,"x"]
[null,null,{"$f":"$C$35","v":4.0138687861173784E-2},{"$f":"$D$35","v":3.210578024372992E-4},{"$f":"$E$35","v":6.2237513577017019E-2},{"$f":"$F$35","v":-4.2370847395201951E-2},{"$f":"IF($C$2=1,0.5*($O$31*D335*$F$6/$O$30)*(1-W335^2+(E335-F335)*(F335^2*(1-W335^2)+2*F335*(1-W335)+2*LN((1-F335)/(1-F335*W335)))/(F335^3)),$F$6*F335*(LN((1-E335+E335^2)/(1+E335)^2)/(6*E335)+ATAN((2-E335)/(E335*3^0.5))/(E335*3^0.5)-LN((W335^2-E335*W335+E335^2)/(W335+E335)^2)/(6*E335)-ATAN((2*W335-E335)/(E335*3^0.5))/(E335*3^0.5)))","v":3.8254468270961333},{"$f":"IF($C$2=1,($O$31*D335*$F$6/$O$30)*(1-W335^3-(E335-F335)*(-2*F335^3*(1-W335^3)-3*F335^2*(1-W335^2)-6*F335*(1-W335)-6*LN((1-F335)/(1-F335*W335)))/(2*F335^4))/3,$F$6*F335*(LN((1+E335^3)/(E335^3+W335^3)))/3)","v":2.5276172507990187},{"$f":"$I$35","v":0.66073778176593112},{"$f":"$J$35","v":0.15354841612232933},{"$f":"$K$35","v":0.6365191476987323},{"$f":"$L$35","v":2.1340626348999612E-4},{"$f":"$M$35","v":458.32156291626706},{"$f":"$N$35","v":0.15366182238581935},{"$f":"$O$35","v":1.9422167141878287E-2},{"$f":"$P$35","v":2.9740483717744983E-2},{"$f":"$Q$35","v":9.9999999999988987E-5},{"$f":"$R$35","v":1.9419193093506513E-2},null,null,null,null,{"$f":"IF(C335<$C$6,0,(C335-$C$6)/C335)","v":0}]
[null,{"$f":"IF(R316>$Q$29*V316,B316,IF(Q316>Q315,$U$6,-0.5)*B316)","v":3.9768977969850188E-19},{"$f":"IF(Q316>Q315,C316,(1-$T$6)*C316+$T$6*C317)","v":4.5181422537606569E-2},{"$f":"D316+B336","v":3.9334484870015118E-4},{"$f":"IF($C$2=1,D336/($O$31*$O$30),2^(1/3)*$O$30/D336)","v":7.6250460744389875E-2},{"$f":"IF($C$2=1,-($O$31-2)*D336/$O$30,3*($O$30/D336)^2)","v":-5.1910760091923795E-2},{"$f":"IF($C$2=1,0.5*($O$31*D336*$F$6/$O$30)*(1-W336^2+(E336-F336)*(F336^2*(1-W336^2)+2*F336*(1-W336)+2*LN((1-F336)/(1-F336*W336)))/(F336^3)),$F$6*F336*(LN((1-E336+E336^2)/(1+E336)^2)/(6*E336)+ATAN((2-E336)/(E336*3^0.5))/(E336*3^0.5)-LN((W336^2-E336*W336+E336^2)/(W336+E336)^2)/(6*E336)-ATAN((2*W336-E336)/(E336*3^0.5))/(E336*3^0.5)))","v":4.6131107083715328},{"$f":"IF($C$2=1,($O$31*D336*$F$6/$O$30)*(1-W336^3-(E336-F336)*(-2*F336^3*(1-W336^3)-3*F336^2*(1-W336^2)-6*F336*(1-W336)-6*LN((1-F336)/(1-F336*W336)))/(2*F336^4))/3,$F$6*F336*(LN((1+E336^3)/(E336^3+W336^3)))/3)","v":3.0417370707021649},{"$f":"H336/G336","v":0.65936788926011358},{"$f":"G336*C336*$D$6","v":0.20842690412769177},{"$f":"MAX(MIN($K$6,$Q$6*$J$6*D336*(C336-$I$6)/C336),-$K$6)","v":25.883055331143314},{"$f":"K336*$H$6","v":8.677831838828625E-3},{"$f":"MIN($O$6,$Q$6*$N$6*D336*(C$6-C336-$M$6)/C336)","v":458.33333333333337},{"$f":"M336*$L$6","v":0.15366576866258877},{"$f":"(0.5*$C$6-C336+I336*C336)*J336+(0.5*$C$6-$I$6)*L336+(0.5*$C$6-$M$6)*N336","v":2.3667860626516567E-2},{"$f":"0.1*$Q$6*D336*$B$6^2/C336+$R$6","v":3.2369913344933235E-2},{"$f":"(J336+L336-N336)","v":6.3438967303931615E-2},{"$f":"O336-P336*Q336","v":2.1614346752196249E-2},{"$f":"((R336-R335)*(Q336-Q337)-(R336-R337)*(Q336-Q335))/((Q336^2-Q335^2)*(Q336-Q337)-(Q336^2-Q337^2)*(Q336-Q335))","v":-5.0906690086257124E-2},{"$f":"-(S336*(Q336^2-Q335^2)-(R336-R335))/(Q336-Q335)","v":3.7891796424789632E-2},{"$f":"R336-S336*Q336^2-T336*Q336","v":1.9415404422930934E-2},{"$f":"S316*Q336^2+T316*Q336+U316","v":2.161434675221004E-2},{"$f":"IF(C336<$C$6,0,(C336-$C$6)/C336)","v":0}]
[null,{"$f":"IF(R317>$Q$29*V317,B317,IF(Q317>Q316,$U$6,-0.5)*B317)","v":9.2191671472819331E-19},{"$f":"IF(Q317>Q316,C317,(1-$T$6)*C317+$T$6*C318)","v":4.9415891915262342E-2},{"$f":"D317+B337","v":4.5831677895414403E-4},8.8845362225090055E-2,-6.0485277580254466E-2,5.2989633488182628,3.4873783855895826,0.65812464741189669,0.26185300010813983,50.108747538653489,1.6799998270356633E-2,458.33333333333337,0.15366576866258877,2.7666294009987005E-2,{"$f":"0.1*$Q$6*D337*$B$6^2/C337+$R$6","v":3.4484750565600339E-2},0.12498722971590767,2.3356140569348538E-2,-2.4406838502190144E-2,3.2898530169213729E-2,1.9625523356784927E-2,{"$f":"MAX(S317*Q337^2+T317*Q337+U317,S318*Q337^2+T318*Q337+U318)","v":2.3356140569318222E-2},0]
[null,-2.0798428890166155E-17,5.3135963724627852E-2,4.9935638089130022E-4,9.6800947678453861E-2,-6.5901382398883421E-2,5.7215793302329612,3.7609846786597658,0.65733330984097926,0.30402163173883917,70.833213832192925,2.3748306000797321E-2,458.33333333333337,0.15366576866258877,3.0697047575940245E-2,3.4942181270800815E-2,0.1741041690770477,2.4613468140047889E-2,-4.494505169996036E-2,3.9041333083242757E-2,1.917859545272985E-2,{"$f":"MAX(S318*Q338^2+T318*Q338+U318,S319*Q338^2+T319*Q338+U319)","v":2.4613468140018632E-2},0]
[null,5.6969288289327749E-7,5.7428181372141097E-2,5.515057348872088E-4,0.10691017443673172,-7.2783670582334536E-2,6.2469301994429189,4.0999902197060916,0.65632079898567064,0.35874984051271352,96.035102661245489,3.2197762623340169E-2,454.99831046789114,0.15254763298522406,3.4444155927428569E-2,3.5706965170768053E-2,0.23839997015082964,2.5931616496540751E-2,-2.9618451628645914E-2,3.2719047113535266E-2,1.9814747885973448E-2,2.5919387926935229E-2,0]
[null,4.9168873655396308E-9,6.2195419634221871E-2,6.3481496591220323E-4,0.12305978786349629,-8.3778210156126798E-2,7.0595234893752989,4.6217755680090837,0.65468661942480022,0.43907002583934296,129.98854401892436,4.3581358983270028E-2,455.66627197969865,0.15277158095427626,3.9904081625854418E-2,3.7950432076710783E-2,0.32987980386833671,2.7385000535670431E-2,-4.0827133947023524E-2,3.908871456847552E-2,1.893325972306685E-2,2.7384928050737958E-2,0]
[null,3.4696055743564021E-13,6.7505252560478693E-2,7.6077995739615547E-4,0.14747828138147384,-0.10040214326345812,8.2273758277830265,5.3656873710915889,0.65217482261746185,0.55539108316447061,177.86483665679756,5.9632880384536555E-2,458.33333333333337,0.15366576866258877,4.7609532616527873E-2,4.1903419683269015E-2,0.46135819488641838,2.8277046551886866E-2,-2.2807501399472976E-2,2.483089657325558E-2,2.1675717169643879E-2,2.8277046556536924E-2,0]
[null,-4.4356020559053323E-10,7.3437125604676246E-2,8.7915762278986339E-4,0.17042596089969803,-0.11602475687795398,9.2601260758771193,6.0169215467379624,0.64976669836193779,0.68003704174932578,229.68518170912716,7.7006727267795047E-2,457.2314642510305,0.15329634416913943,5.5227848275722746E-2,4.4512198658218226E-2,0.60374742484798138,2.835372296150172E-2,-2.5331086898200784E-2,2.7518781669830808E-2,2.0972788019444241E-2,2.8353723529976983E-2,0]
[null,-3.801873205816276E-16,8.0084861800030091E-2,8.0322125151076622E-4,0.15570558686550773,-0.10600323310626374,8.6047481702081647,5.6044180713765428,0.65131691950968063,0.68911006803518271,230.68434089357984,7.734171613491185E-2,344.80558356814464,0.1156032328105122,5.2424281184903325E-2,3.7291747105119746E-2,0.65084855135958231,2.8153001603868241E-2,5.3488553621309644E-2,-7.1368022172073678E-2,5.1944818908724349E-2,2.8153001603873327E-2,0]
[null,-3.9680070215462115E-18,8.7559791299448214E-2,7.5896018045039577E-4,0.14712551502130736,-0.1001619824865614,8.211015519002915,5.3553185316772014,0.65221147363359411,0.71895480520042565,236.54140810904164,7.9305419558415247E-2,260.81444995122274,8.7443460938323475E-2,5.1149555703649527E-2,3.2228659602305136E-2,0.71081676382051739,2.8240884182865945E-2,1.6207252851374386E-2,-2.0603368008855746E-2,3.4697219333619141E-2,2.8240884182831306E-2,0]
[null,2.8938985860933044E-18,9.5994684279247358E-2,7.2684530602114045E-4,0.14090000074275211,-9.5923697563323029E-2,7.9198478960952956,5.1705241389878731,0.65285649507701837,0.76026329832532935,243.27336941832451,8.1562449396664891E-2,191.18460199394758,6.4098608338584107E-2,5.037178792322422E-2,2.8152876547515242E-2,0.7777271393834102,2.8476531780510895E-2,-3.3680182990148441E-3,8.5352825156198887E-3,2.387558880136887E-2,2.8476531780492101E-2,0]
[null,-3.0101922571042592E-17,0.10554872685841464,7.2595225389927983E-4,0.1407268813133617,-9.5805839112651336E-2,7.9116847261098542,5.1653362911558149,0.65287438389820562,0.83506825014606001,258.68561802430895,8.6729725823263104E-2,135.96067096170032,4.5583638569914882E-2,5.1176023327469254E-2,2.55730795262934E-2,0.87621433739940824,2.8768524395075708E-2,-1.1034826190958561E-2,2.1215734082631443E-2,1.8650999091741546E-2,2.8768524395099863E-2,0]
[null,3.1264859281152149E-16,0.11641386182692361,7.2273332835723477E-4,0.14010288799936785,-9.5381028994712694E-2,7.8822314213383811,5.1466150498524934,0.65293884114082668,0.91760099957152197,272.2065048437176,9.1262883931127026E-2,84.020098989316963,2.8169483114836771E-2,5.1482123070330191E-2,2.3083483928380638E-2,0.9806944003878123,2.8844279640325238E-2,-1.2467472323003919E-2,2.3876027203383533E-2,1.7419928427714663E-2,2.8844279640287018E-2,0]
[null,-3.2427795991261703E-17,0.12882293018018509,7.8204412137743151E-4,0.15160036994135878,-0.10320843122842091,8.4174505264932638,5.4860375408666568,0.65174574220540826,1.0843606414696039,309.39703182670394,0.10373178047470667,38.933102294141825,1.3053131106433092E-2,5.4783886617249158E-2,2.2571792691030809E-2,1.1750392908378775,2.826114334064073E-2,-1.4045609394326438E-2,2.7278070457405729E-2,1.5601355146509947E-2,2.826114334058745E-2,0]
[null,-4.7986761001958944E-18,0.14306020987399781,9.1784214572999891E-4,0.17792501092567367,-0.12113005569209127,9.5843573631303336,6.2199529722477847,0.64896922522683298,1.3711401758768218,379.39632961899127,0.12720049880436476,-11.265573740612945,-3.7770175598757019E-3,6.0717137181011564E-2,2.3854872980918918E-2,1.5021176922410622,2.4884310430209972E-2,-1.388067889614927E-2,2.683652562248804E-2,1.5892465278299239E-2,2.4884310430199001E-2,0]
[null,7.3896230788640035E-9,0.15947517602038869,1.0632934984048743E-3,0.20612096339334796,-0.14032565542780065,10.746545407006431,6.9414279959616003,0.6459218039907032,1.7138072203934502,457.07841396456712,0.15324503088205557,-74.506544904030477,-2.4979866530337878E-2,6.3882899643928487E-2,2.4790657115122783E-2,1.8920321178058437,1.697818016060422E-2,-1.7452512917285237E-2,3.895986538684576E-2,5.7411168306624183E-3,1.6978177106329526E-2,0]
[null,-5.1309437316557676E-16,0.17850063403985802,1.0840138064749092E-3,0.21013762470803635,-0.14306016928964169,10.904921069254305,7.0389210323400997,0.64548115365877023,1.9465353250165001,458.33333333333337,0.15366576866258877,-134.15779038322725,-4.4979185413773971E-2,5.7442173658475044E-2,2.2579952340091854E-2,2.1451802790928625,9.0041051956532697E-3,-9.6787489787775911E-3,7.575529243738578E-3,3.7292881111347521E-2,9.0041051956742391E-3,0]
[null,-6.4624346078105586E-12,0.20067685341513844,1.0385972965377191E-3,0.20133356938722347,-0.13706643234519483,10.417803811547063,6.8140972038526781,0.65408192812192845,2.0906120883975006,458.33333333333337,0.15366576866258877,-180.18802313391228,-6.0411776898905353E-2,4.7692199818279525E-2,1.9243225780334203E-2,2.3046896339589948,3.3425368384107992E-3,1.4285210729991941E-2,-9.9060974061901896E-2,0.15577009287420818,{"$f":"S332*Q352^2+T332*Q352+U332","v":3.3425368381007625E-3},0.10303556719799878]
[null,0,{"$f":"C333","v":0.22668403164997661},{"$f":"D333+(D352-D332)","v":1.0688633821779134E-3},0.20720069331834995,-0.14106072772183884,10.237091628299751,6.8924076638510767,0.67327791076886323,2.3205852026732114,458.33333333333337,0.15366576866258877,-234.52726417639147,-7.8630135975270993E-2,4.0735689631229678E-2,1.7531910352296429E-2,2.5528811073110713,-4.0211930822192654E-3,null,null,null,null,0.20594318580878934]
[null,"De","hc","e0","a'","b'","N'","tN'","t","Nc","sac","Nac","sat","Nat","Mtot","u","N","Mo","a''","b''","c''",null,"x"]
[null,null,{"$f":"$C$35","v":4.0138687861173784E-2},{"$f":"$D$35","v":3.210578024372992E-4},{"$f":"$E$35","v":6.2237513577017019E-2},{"$f":"$F$35","v":-4.2370847395201951E-2},{"$f":"IF($C$2=1,0.5*($O$31*D355*$F$6/$O$30)*(1-W355^2+(E355-F355)*(F355^2*(1-W355^2)+2*F355*(1-W355)+2*LN((1-F355)/(1-F355*W355)))/(F355^3)),$F$6*F355*(LN((1-E355+E355^2)/(1+E355)^2)/(6*E355)+ATAN((2-E355)/(E355*3^0.5))/(E355*3^0.5)-LN((W355^2-E355*W355+E355^2)/(W355+E355)^2)/(6*E355)-ATAN((2*W355-E355)/(E355*3^0.5))/(E355*3^0.5)))","v":3.8254468270961333},{"$f":"IF($C$2=1,($O$31*D355*$F$6/$O$30)*(1-W355^3-(E355-F355)*(-2*F355^3*(1-W355^3)-3*F355^2*(1-W355^2)-6*F355*(1-W355)-6*LN((1-F355)/(1-F355*W355)))/(2*F355^4))/3,$F$6*F355*(LN((1+E355^3)/(E355^3+W355^3)))/3)","v":2.5276172507990187},{"$f":"$I$35","v":0.66073778176593112},{"$f":"$J$35","v":0.15354841612232933},{"$f":"$K$35","v":0.6365191476987323},{"$f":"$L$35","v":2.1340626348999612E-4},{"$f":"$M$35","v":458.32156291626706},{"$f":"$N$35","v":0.15366182238581935},{"$f":"$O$35","v":1.9422167141878287E-2},{"$f":"$P$35","v":2.9740483717744983E-2},{"$f":"$Q$35","v":9.9999999999988987E-5},{"$f":"$R$35","v":1.9419193093506513E-2},null,null,null,null,{"$f":"IF(C355<$C$6,0,(C355-$C$6)/C355)","v":0}]
[null,{"$f":"IF(R336>$Q$29*V336,B336,IF(Q336>Q335,$U$6,-0.5)*B336)","v":-3.976897796985019E-20},{"$f":"IF(Q336>Q335,C336,(1-$T$6)*C336+$T$6*C337)","v":4.5181422537606569E-2},{"$f":"D336+B356","v":3.9334484870015113E-4},{"$f":"IF($C$2=1,D356/($O$31*$O$30),2^(1/3)*$O$30/D356)","v":7.6250460744389861E-2},{"$f":"IF($C$2=1,-($O$31-2)*D356/$O$30,3*($O$30/D356)^2)","v":-5.1910760091923788E-2},{"$f":"IF($C$2=1,0.5*($O$31*D356*$F$6/$O$30)*(1-W356^2+(E356-F356)*(F356^2*(1-W356^2)+2*F356*(1-W356)+2*LN((1-F356)/(1-F356*W356)))/(F356^3)),$F$6*F356*(LN((1-E356+E356^2)/(1+E356)^2)/(6*E356)+ATAN((2-E356)/(E356*3^0.5))/(E356*3^0.5)-LN((W356^2-E356*W356+E356^2)/(W356+E356)^2)/(6*E356)-ATAN((2*W356-E356)/(E356*3^0.5))/(E356*3^0.5)))","v":4.613110708371468},{"$f":"IF($C$2=1,($O$31*D356*$F$6/$O$30)*(1-W356^3-(E356-F356)*(-2*F356^3*(1-W356^3)-3*F356^2*(1-W356^2)-6*F356*(1-W356)-6*LN((1-F356)/(1-F356*W356)))/(2*F356^4))/3,$F$6*F356*(LN((1+E356^3)/(E356^3+W356^3)))/3)","v":3.0417370707038054},{"$f":"H356/G356","v":0.6593678892604784},{"$f":"G356*C356*$D$6","v":0.20842690412768886},{"$f":"MAX(MIN($K$6,$Q$6*$J$6*D356*(C356-$I$6)/C356),-$K$6)","v":25.883055331143311},{"$f":"K356*$H$6","v":8.6778318388286233E-3},{"$f":"MIN($O$6,$Q$6*$N$6*D356*(C$6-C356-$M$6)/C356)","v":458.33333333333337},{"$f":"M356*$L$6","v":0.15366576866258877},{"$f":"(0.5*$C$6-C356+I356*C356)*J356+(0.5*$C$6-$I$6)*L356+(0.5*$C$6-$M$6)*N356","v":2.3667860626519786E-2},{"$f":"0.1*$Q$6*D356*$B$6^2/C356+$R$6","v":3.2369913344933235E-2},{"$f":"(J356+L356-N356)","v":6.3438967303928701E-2},{"$f":"O356-P356*Q356","v":2.1614346752199563E-2},{"$f":"((R356-R355)*(Q356-Q357)-(R356-R357)*(Q356-Q355))/((Q356^2-Q355^2)*(Q356-Q357)-(Q356^2-Q357^2)*(Q356-Q355))","v":-5.0906690086739578E-2},{"$f":"-(S356*(Q356^2-Q355^2)-(R356-R355))/(Q356-Q355)","v":3.7891796424874044E-2},{"$f":"R356-S356*Q356^2-T356*Q356","v":1.9415404422930927E-2},{"$f":"S336*Q356^2+T336*Q356+U336","v":2.1614346752196156E-2},{"$f":"IF(C356<$C$6,0,(C356-$C$6)/C356)","v":0}]
[null,{"$f":"IF(R337>$Q$29*V337,B337,IF(Q337>Q336,$U$6,-0.5)*B337)","v":-9.2191671472819341E-20},{"$f":"IF(Q337>Q336,C337,(1-$T$6)*C337+$T$6*C338)","v":4.9415891915262342E-2},{"$f":"D337+B357","v":4.5831677895414393E-4},8.8845362225090027E-2,-6.048527758025446E-2,5.298963348818206,3.4873783855907905,0.65812464741213172,0.26185300010813706,50.108747538653482,1.6799998270356629E-2,458.33333333333337,0.15366576866258877,2.7666294009989843E-2,{"$f":"0.1*$Q$6*D357*$B$6^2/C357+$R$6","v":3.4484750565600325E-2},0.1249872297159049,2.3356140569351473E-2,-2.4406838505419363E-2,3.2898530169815851E-2,1.9625523356763125E-2,{"$f":"MAX(S337*Q357^2+T337*Q357+U337,S338*Q357^2+T338*Q357+U338)","v":2.3356140569348462E-2},0]
[null,2.0798428890166157E-18,5.3135963724627852E-2,4.9935638089130228E-4,9.6800947678454263E-2,-6.5901382398883698E-2,5.7215793302333919,3.7609846786546943,0.65733330984004346,0.30402163173886204,70.833213832193223,2.3748306000797421E-2,458.33333333333337,0.15366576866258877,3.0697047575926777E-2,3.4942181270800954E-2,0.17410416907707069,2.4613468140033595E-2,-4.5118819269515838E-2,3.9093305468322667E-2,1.9174814131837328E-2,{"$f":"MAX(S338*Q358^2+T338*Q358+U338,S339*Q358^2+T339*Q358+U339)","v":2.4613468140048427E-2},0]
[null,-5.6969288289327752E-8,5.7428181372141097E-2,5.514487655989195E-4,0.10689913085882623,-7.2776152194673524E-2,6.2463633580555298,4.0996251259423859,0.65632190939634738,0.35871728784270929,96.025182453524494,3.2194436667678919E-2,454.95131017708638,0.15253187516163014,3.4440937361024514E-2,3.5703276722463595E-2,0.23837984934875805,2.5929995634666622E-2,-2.94069722646596E-2,3.261241967886775E-2,1.982690174904906E-2,2.5931242298574273E-2,0]
[null,-4.9168873655396314E-10,6.2195419634221871E-2,6.3481447422346663E-4,0.12305969254893241,-8.3778145266663689E-2,7.0595187890433513,4.6217725592900454,0.65468662913160836,0.43906973350022505,129.98844333777095,4.3581325227822404E-2,455.66591904855238,0.15277146262677979,3.9904054254802444E-2,3.7950402682633756E-2,0.32987959610126771,2.7384990745974752E-2,-4.0886622223908868E-2,3.9135839198671141E-2,1.8924180551197677E-2,2.7384998502995209E-2,0]
[null,-3.4696055743564023E-14,6.7505252560478693E-2,7.6077995736145937E-4,0.14747828137474797,-0.10040214325887918,8.2273758274715316,5.3656873708908348,0.65217482261775295,0.5553910831434431,177.86483664868584,5.9632880381816931E-2,458.33333333333337,0.15366576866258877,4.7609532615004058E-2,4.1903419681357967E-2,0.46135819486267127,2.8277046552239813E-2,-2.2807717868486517E-2,2.4831126853438426E-2,2.1675657004166377E-2,2.8277046551796962E-2,0]
[null,4.4356020559053325E-11,7.3437125604676246E-2,8.7915766714588399E-4,0.17042596949817598,-0.11602476273173536,9.2601264513485937,6.0169217822704413,0.64976669745089388,0.68003706932287156,229.68519329740261,7.7006731153005048E-2,457.23148731966768,0.15329635190337912,5.5227850583621743E-2,4.4512200903986165E-2,0.60374744857249751,2.8353722857493678E-2,-2.5331082225635355E-2,2.7518776470680805E-2,2.097278942400407E-2,2.8353722888705982E-2,0]
[null,3.801873205816276E-17,8.0084861800030091E-2,8.0322125151080428E-4,0.15570558686551511,-0.10600323310626877,8.6047481702082287,5.6044180713793468,0.65131691951000159,0.68911006803518782,230.68434089359079,7.7341716134915528E-2,344.80558356816096,0.11560323281051767,5.242428118492181E-2,3.7291747105121516E-2,0.65084855135958564,2.8153001603885449E-2,5.3488564887727123E-2,-7.1368037513802107E-2,5.1944824121385617E-2,2.8153001603868241E-2,0]
[null,3.9680070215462116E-19,8.7559791299448214E-2,7.589601804503962E-4,0.14712551502130744,-0.10016198248656145,8.2110155190031868,5.35531853167456,0.65221147363325083,0.71895480520044952,236.54140810904181,7.9305419558415302E-2,260.81444995122291,8.7443460938323531E-2,5.1149555703629349E-2,3.2228659602305157E-2,0.71081676382054126,2.8240884182844983E-2,1.6207252859979968E-2,-2.0603368021211141E-2,3.4697219338032478E-2,2.8240884182866036E-2,0]
[null,-2.8938985860933046E-19,9.5994684279247358E-2,7.2684530602114012E-4,0.14090000074275205,-9.5923697563322988E-2,7.9198478960951526,5.1705241389888323,0.65285649507715138,0.76026329832531558,243.27336941832445,8.1562449396664877E-2,191.1846019939475,6.4098608338584079E-2,5.0371787923233137E-2,2.8152876547515221E-2,0.77772713938339644,2.8476531780520214E-2,-3.3680183009539249E-3,8.5352825189608725E-3,2.3875588799952732E-2,2.8476531780510853E-2,0]
[null,3.0101922571042594E-18,0.10554872685841464,7.2595225389928287E-4,0.14072688131336228,-9.5805839112651739E-2,7.9116847261096916,5.1653362911577778,0.65287438389846719,0.83506825014604291,258.68561802431003,8.6729725823263465E-2,135.96067096170088,4.5583638569915076E-2,5.1176023327491417E-2,2.5573079526293511E-2,0.87621433739939125,2.8768524395098211E-2,-1.1034826196661875E-2,2.1215734092198017E-2,1.8650999087760439E-2,2.8768524395075681E-2,0]
[null,-3.1264859281152147E-17,0.11641386182692361,7.2273332835720355E-4,0.1401028879993618,-9.5381028994708586E-2,7.8822314213386191,5.1466150498463046,0.65293884114002176,0.91760099957154972,272.20650484370583,9.1262883931123071E-2,84.020098989313311,2.8169483114835546E-2,5.1482123070245328E-2,2.3083483928379642E-2,0.98069440038783728,2.8844279640240778E-2,-1.2467472318112212E-2,2.3876027193276129E-2,1.741992843283784E-2,2.8844279640325234E-2,0]
[null,3.2427795991261704E-18,0.12882293018018509,7.8204412137743476E-4,0.15160036994135939,-0.10320843122842134,8.4174505264932478,5.4860375408666942,0.65174574220541392,1.0843606414696019,309.39703182670519,0.1037317804747071,38.933102294141989,1.3053131106433148E-2,5.478388661724988E-2,2.2571792691030903E-2,1.1750392908378757,2.8261143340641382E-2,-1.4045609395470478E-2,2.727807046030982E-2,1.560135514467776E-2,2.8261143340640744E-2,0]
[null,4.7986761001958944E-19,0.14306020987399781,9.1784214572999934E-4,0.17792501092567375,-0.12113005569209134,9.5843573631305574,6.2199529722453777,0.64896922522656675,1.3711401758768538,379.39632961899144,0.12720049880436482,-11.26557374061295,-3.7770175598757037E-3,6.0717137180960612E-2,2.3854872980918932E-2,1.5021176922410944,2.4884310430158228E-2,-1.3880674858833085E-2,2.6836514813800127E-2,1.589247240454042E-2,2.4884310430209527E-2,0]
[null,-7.3896230788640035E-10,0.15947517602038869,1.0632927594425665E-3,0.2061208201444491,-0.14032555790499029,10.74653972720642,6.941424495816201,0.64592181967587026,1.7138063146063436,457.07809630653571,0.15324492438060344,-74.506493123850845,-2.4979849169957286E-2,6.3882869099734535E-2,2.4790639886237982E-2,1.8920310881569045,1.697820773966973E-2,-1.7452509822818426E-2,3.8959854100593903E-2,5.7411268016661215E-3,1.6978210071358801E-2,0]
[null,5.130943731655768E-17,0.17850063403985802,1.0840138064749606E-3,0.21013762470804631,-0.14306016928964846,10.904921069254453,7.0389210323424747,0.64548115365897929,1.9465353250165263,458.33333333333337,0.15366576866258877,-134.15779038323359,-4.4979185413776102E-2,5.7442173658548271E-2,2.2579952340092923E-2,2.1451802790928909,9.0041051957235607E-3,-9.6787712440220119E-3,7.5756283442487771E-3,3.7292770983125459E-2,9.0041051956523052E-3,0]
[null,6.4624346078105594E-13,0.20067685341513844,1.0385972971839626E-3,0.2013335695124987,-0.13706643243048131,10.417803816497175,6.8140972069522663,0.65408192810866361,2.0906120893908735,458.33333333333337,0.15366576866258877,-180.18802324603016,-6.0411776936495201E-2,4.769219983128082E-2,1.9243225792307861E-2,2.3046896349899577,3.342536803977475E-3,1.4285210645963171E-2,-9.9060973689622578E-2,0.15577009246235676,{"$f":"S352*Q372^2+T352*Q372+U352","v":3.3425368041673509E-3},0.10303556719799878]
[null,0,{"$f":"C353","v":0.22668403164997661},{"$f":"D353+(D372-D352)","v":1.0688633828241569E-3},0.20720069344362516,-0.14106072780712531,10.237091632934211,6.8924076668577099,0.67327791075776178,2.3205852037237693,458.33333333333337,0.15366576866258877,-234.52726431818857,-7.8630136022811423E-2,4.0735689639755941E-2,1.7531910362896367E-2,2.5528811084091694,-4.0211931200051371E-3,null,null,null,null,0.20594318580878934]
[null,"De","hc","e0","a'","b'","N'","tN'","t","Nc","sac","Nac","sat","Nat","Mtot","u","N","Mo","a''","b''","c''",null,"x"]
[null,null,{"$f":"$C$35","v":4.0138687861173784E-2},{"$f":"$D$35","v":3.210578024372992E-4},{"$f":"$E$35","v":6.2237513577017019E-2},{"$f":"$F$35","v":-4.2370847395201951E-2},{"$f":"IF($C$2=1,0.5*($O$31*D375*$F$6/$O$30)*(1-W375^2+(E375-F375)*(F375^2*(1-W375^2)+2*F375*(1-W375)+2*LN((1-F375)/(1-F375*W375)))/(F375^3)),$F$6*F375*(LN((1-E375+E375^2)/(1+E375)^2)/(6*E375)+ATAN((2-E375)/(E375*3^0.5))/(E375*3^0.5)-LN((W375^2-E375*W375+E375^2)/(W375+E375)^2)/(6*E375)-ATAN((2*W375-E375)/(E375*3^0.5))/(E375*3^0.5)))","v":3.8254468270961333},{"$f":"IF($C$2=1,($O$31*D375*$F$6/$O$30)*(1-W375^3-(E375-F375)*(-2*F375^3*(1-W375^3)-3*F375^2*(1-W375^2)-6*F375*(1-W375)-6*LN((1-F375)/(1-F375*W375)))/(2*F375^4))/3,$F$6*F375*(LN((1+E375^3)/(E375^3+W375^3)))/3)","v":2.5276172507990187},{"$f":"$I$35","v":0.66073778176593112},{"$f":"$J$35","v":0.15354841612232933},{"$f":"$K$35","v":0.6365191476987323},{"$f":"$L$35","v":2.1340626348999612E-4},{"$f":"$M$35","v":458.32156291626706},{"$f":"$N$35","v":0.15366182238581935},{"$f":"$O$35","v":1.9422167141878287E-2},{"$f":"$P$35","v":2.9740483717744983E-2},{"$f":"$Q$35","v":9.9999999999988987E-5},{"$f":"$R$35","v":1.9419193093506513E-2},null,null,null,null,{"$f":"IF(C375<$C$6,0,(C375-$C$6)/C375)","v":0}]
[null,{"$f":"IF(R356>$Q$29*V356,B356,IF(Q356>Q355,$U$6,-0.5)*B356)","v":3.976897796985019E-21},{"$f":"IF(Q356>Q355,C356,(1-$T$6)*C356+$T$6*C357)","v":4.5181422537606569E-2},{"$f":"D356+B376","v":3.9334484870015113E-4},{"$f":"IF($C$2=1,D376/($O$31*$O$30),2^(1/3)*$O$30/D376)","v":7.6250460744389861E-2},{"$f":"IF($C$2=1,-($O$31-2)*D376/$O$30,3*($O$30/D376)^2)","v":-5.1910760091923788E-2},{"$f":"IF($C$2=1,0.5*($O$31*D376*$F$6/$O$30)*(1-W376^2+(E376-F376)*(F376^2*(1-W376^2)+2*F376*(1-W376)+2*LN((1-F376)/(1-F376*W376)))/(F376^3)),$F$6*F376*(LN((1-E376+E376^2)/(1+E376)^2)/(6*E376)+ATAN((2-E376)/(E376*3^0.5))/(E376*3^0.5)-LN((W376^2-E376*W376+E376^2)/(W376+E376)^2)/(6*E376)-ATAN((2*W376-E376)/(E376*3^0.5))/(E376*3^0.5)))","v":4.613110708371468},{"$f":"IF($C$2=1,($O$31*D376*$F$6/$O$30)*(1-W376^3-(E376-F376)*(-2*F376^3*(1-W376^3)-3*F376^2*(1-W376^2)-6*F376*(1-W376)-6*LN((1-F376)/(1-F376*W376)))/(2*F376^4))/3,$F$6*F376*(LN((1+E376^3)/(E376^3+W376^3)))/3)","v":3.0417370707038054},{"$f":"H376/G376","v":0.6593678892604784},{"$f":"G376*C376*$D$6","v":0.20842690412768886},{"$f":"MAX(MIN($K$6,$Q$6*$J$6*D376*(C376-$I$6)/C376),-$K$6)","v":25.883055331143311},{"$f":"K376*$H$6","v":8.6778318388286233E-3},{"$f":"MIN($O$6,$Q$6*$N$6*D376*(C$6-C376-$M$6)/C376)","v":458.33333333333337},{"$f":"M376*$L$6","v":0.15366576866258877},{"$f":"(0.5*$C$6-C376+I376*C376)*J376+(0.5*$C$6-$I$6)*L376+(0.5*$C$6-$M$6)*N376","v":2.3667860626519786E-2},{"$f":"0.1*$Q$6*D376*$B$6^2/C376+$R$6","v":3.2369913344933235E-2},{"$f":"(J376+L376-N376)","v":6.3438967303928701E-2},{"$f":"O376-P376*Q376","v":2.1614346752199563E-2},{"$f":"((R376-R375)*(Q376-Q377)-(R376-R377)*(Q376-Q375))/((Q376^2-Q375^2)*(Q376-Q377)-(Q376^2-Q377^2)*(Q376-Q375))","v":-5.0906690086739578E-2},{"$f":"-(S376*(Q376^2-Q375^2)-(R376-R375))/(Q376-Q375)","v":3.7891796424874044E-2},{"$f":"R376-S376*Q376^2-T376*Q376","v":1.9415404422930927E-2},{"$f":"S356*Q376^2+T356*Q376+U356","v":2.1614346752199563E-2},{"$f":"IF(C376<$C$6,0,(C376-$C$6)/C376)","v":0}]
[null,{"$f":"IF(R357>$Q$29*V357,B357,IF(Q357>Q356,$U$6,-0.5)*B357)","v":9.2191671472819344E-21},{"$f":"IF(Q357>Q356,C357,(1-$T$6)*C357+$T$6*C358)","v":4.9415891915262342E-2},{"$f":"D357+B377","v":4.5831677895414393E-4},8.8845362225090027E-2,-6.048527758025446E-2,5.298963348818206,3.4873783855907905,0.65812464741213172,0.26185300010813706,50.108747538653482,1.6799998270356629E-2,458.33333333333337,0.15366576866258877,2.7666294009989843E-2,{"$f":"0.1*$Q$6*D377*$B$6^2/C377+$R$6","v":3.4484750565600325E-2},0.1249872297159049,2.3356140569351473E-2,-2.4406838503766199E-2,3.2898530169504357E-2,1.9625523356776232E-2,{"$f":"MAX(S357*Q377^2+T357*Q377+U357,S358*Q377^2+T358*Q377+U358)","v":2.3356140569351473E-2},0]
[null,-2.0798428890166159E-19,5.3135963724627852E-2,4.9935638089130207E-4,9.6800947678454222E-2,-6.5901382398883657E-2,5.7215793302330873,3.7609846786577479,0.65733330984061211,0.30402163173884583,70.833213832193195,2.3748306000797411E-2,458.33333333333337,0.15366576866258877,3.0697047575934798E-2,3.494218127080094E-2,0.17410416907705448,2.4613468140042186E-2,-4.5101434032907284E-2,3.9088105693769679E-2,1.9175192448432615E-2,{"$f":"MAX(S358*Q378^2+T358*Q378+U358,S359*Q378^2+T359*Q378+U359)","v":2.4613468140033234E-2},0]
[null,5.6969288289327753E-9,5.7428181372141097E-2,5.5145446252774847E-4,0.10690023521661679,-7.2776904033439629E-2,6.2464200428862249,4.0996616358332592,0.65632179835587345,0.35872054314944751,96.026174474296596,3.2194769263245042E-2,454.95601020616687,0.15253345094398954,3.4441259220656079E-2,3.5703645567294044E-2,0.23838186146870302,2.5930157729105716E-2,-2.942812312492717E-2,3.2623083891827442E-2,1.9825686195533199E-2,2.5930035158061096E-2,0]
[null,4.9168873655396317E-11,6.2195419634221871E-2,6.3481452339234025E-4,0.1230597020803888,-8.377815175561E-2,7.0595192590768328,4.6217728601582131,0.65468662816037115,0.43906976273415466,129.98845340588625,4.358132860336715E-2,455.66595434166697,0.15277147445952943,3.9904056991893692E-2,3.795040562204146E-2,0.32987961687799239,2.7384991724930245E-2,-4.0880674753562218E-2,3.9131127811157448E-2,1.8925088261142097E-2,2.7384990998630392E-2,0]
[null,3.4696055743564023E-15,6.7505252560478693E-2,7.6077995736492893E-4,0.14747828137542054,-0.10040214325933706,8.2273758275018007,5.3656873709191606,0.65217482261879645,0.55539108314548646,177.86483664949702,5.9632880382088901E-2,458.33333333333337,0.15366576866258877,4.7609532615192705E-2,4.1903419681549071E-2,0.46135819486498664,2.8277046552243272E-2,-2.2807696224234109E-2,2.4831103827934034E-2,2.1675663020157138E-2,2.827704655224941E-2,0]
[null,-4.4356020559053326E-12,7.3437125604676246E-2,8.7915766271028193E-4,0.17042596863832818,-0.11602476214635719,9.2601264138015242,6.0169217587163368,0.64976669754190031,0.68003706656552276,229.68519213857505,7.7006730764484041E-2,457.231485012804,0.15329635112995516,5.5227850352827332E-2,4.4512200679409364E-2,0.60374744620005161,2.8353722867889727E-2,-2.5331082688813969E-2,2.7518776985945206E-2,2.0972789284864686E-2,2.8353722873580921E-2,0]
[null,-3.801873205816276E-18,8.0084861800030091E-2,8.0322125151080048E-4,0.15570558686551439,-0.10600323310626826,8.6047481702079232,5.6044180713816649,0.65131691951029413,0.68911006803516328,230.68434089358968,7.7341716134915153E-2,344.80558356815936,0.11560323281051714,5.2424281184936389E-2,3.7291747105121342E-2,0.65084855135956132,2.8153001603901048E-2,5.348856375370508E-2,-7.1368035969903029E-2,5.1944823596932775E-2,2.8153001603885498E-2,0]
[null,-3.9680070215462119E-20,8.7559791299448214E-2,7.589601804503962E-4,0.14712551502130744,-0.10016198248656145,8.2110155190031868,5.35531853167456,0.65221147363325083,0.71895480520044952,236.54140810904181,7.9305419558415302E-2,260.81444995122291,8.7443460938323531E-2,5.1149555703629349E-2,3.2228659602305157E-2,0.71081676382054126,2.8240884182844983E-2,1.6207252862031642E-2,-2.0603368024265146E-2,3.4697219339166689E-2,2.8240884182844986E-2,0]
[null,2.893898586093305E-20,9.5994684279247358E-2,7.2684530602114012E-4,0.14090000074275205,-9.5923697563322988E-2,7.9198478960951526,5.1705241389888323,0.65285649507715138,0.76026329832531558,243.27336941832445,8.1562449396664877E-2,191.1846019939475,6.4098608338584079E-2,5.0371787923233137E-2,2.8152876547515221E-2,0.77772713938339644,2.8476531780520214E-2,-3.3680182989186433E-3,8.5352825159312664E-3,2.3875588801077877E-2,2.8476531780520217E-2,0]
[null,-3.0101922571042597E-19,0.10554872685841464,7.2595225389928254E-4,0.14072688131336222,-9.5805839112651697E-2,7.9116847261094803,5.1653362911606653,0.65287438389884955,0.8350682501460206,258.68561802430992,8.6729725823263423E-2,135.96067096170083,4.5583638569915055E-2,5.1176023327523926E-2,2.5573079526293493E-2,0.87621433739936894,2.8768524395131306E-2,-1.1034826197955681E-2,2.1215734094674355E-2,1.8650999086617093E-2,2.876852439509817E-2,0]
[null,3.126485928115215E-18,0.11641386182692361,7.2273332835720669E-4,0.14010288799936241,-9.5381028994708988E-2,7.8822314213384566,5.1466150498492578,0.6529388411404099,0.91760099957153074,272.20650484370702,9.1262883931123473E-2,84.020098989313681,2.8169483114835671E-2,5.1482123070285858E-2,2.3083483928379743E-2,0.98069440038781852,2.8844279640281641E-2,-1.2467472318564127E-2,2.3876027194189096E-2,1.7419928432417981E-2,2.8844279640240791E-2,0]
[null,-3.2427795991261705E-19,0.12882293018018509,7.8204412137743444E-4,0.15160036994135934,-0.1032084312284213,8.4174505264930506,5.4860375408683515,0.65174574220562609,1.0843606414695766,309.39703182670513,0.10373178047470707,38.933102294141968,1.3053131106433141E-2,5.4783886617278385E-2,2.2571792691030892E-2,1.1750392908378504,2.826114334067047E-2,-1.4045609395522615E-2,2.7278070460360907E-2,1.5601355144718658E-2,2.8261143340641531E-2,0]
[null,-4.7986761001958944E-20,0.14306020987399781,9.1784214572999934E-4,0.17792501092567375,-0.12113005569209134,9.5843573631305574,6.2199529722453777,0.64896922522656675,1.3711401758768538,379.39632961899144,0.12720049880436482,-11.26557374061295,-3.7770175598757037E-3,6.0717137180960612E-2,2.3854872980918932E-2,1.5021176922410944,2.4884310430158228E-2,-1.3880675262495746E-2,2.6836515894379954E-2,1.5892471692189644E-2,2.4884310430158228E-2,0]
[null,7.3896230788640038E-11,0.15947517602038869,1.0632928333387972E-3,0.20612083446933899,-0.14032556765727133,10.746540295186657,6.941424845829804,0.64592181810725147,1.7138064051850919,457.07812807233881,0.15324493503074862,-74.506498301868803,-2.4979850905995343E-2,6.3882872154127496E-2,2.4790641609126456E-2,1.8920311911218357,1.6978204981737424E-2,-1.745251013197828E-2,3.8959855228190871E-2,5.7411258054579362E-3,1.6978204951221855E-2,0]
[null,-5.1309437316557684E-18,0.17850063403985802,1.0840138064749554E-3,0.21013762470804531,-0.14306016928964779,10.904921069254375,7.0389210323424107,0.64548115365897807,1.9465353250165123,458.33333333333337,0.15366576866258877,-134.15779038323296,-4.4979185413775886E-2,5.744217365854748E-2,2.2579952340092815E-2,2.1451802790928771,9.0041051957233109E-3,-9.6787690174786872E-3,7.575618434253399E-3,3.7292781995747828E-2,9.0041051957241158E-3,0]
[null,-6.4624346078105592E-14,0.20067685341513844,1.0385972971193383E-3,0.20133356949997117,-0.13706643242195266,10.417803816002051,6.8140972066429688,0.65408192811006061,2.0906120892915134,458.33333333333337,0.15366576866258877,-180.18802323481836,-6.0411776932736208E-2,4.7692199830009788E-2,1.9243225791110496E-2,2.3046896348868384,3.3425368074503498E-3,1.4285210653322273E-2,-9.9060973722065321E-2,0.1557700924980864,{"$f":"S372*Q392^2+T372*Q392+U372","v":3.3425368074025963E-3},0.10303556719799878]
[null,0,{"$f":"C373","v":0.22668403164997661},{"$f":"D373+(D392-D372)","v":1.0688633827595326E-3},0.20720069343109765,-0.14106072779859666,10.237091632470952,6.892407666556335,0.67327791075879018,2.320585203618756,458.33333333333337,0.15366576866258877,-234.52726430400887,-7.8630136018057378E-2,4.073568963886099E-2,1.7531910361836375E-2,2.5528811082994021,-4.0211931162696252E-3,null,null,null,null,0.20594318580878934]
[null,"De","hc","e0","a'","b'","N'","tN'","t","Nc","sac","Nac","sat","Nat","Mtot","u","N","Mo","a''","b''","c''",null,"x"]
[null,null,{"$f":"$C$35","v":4.0138687861173784E-2},{"$f":"$D$35","v":3.210578024372992E-4},{"$f":"$E$35","v":6.2237513577017019E-2},{"$f":"$F$35","v":-4.2370847395201951E-2},{"$f":"IF($C$2=1,0.5*($O$31*D395*$F$6/$O$30)*(1-W395^2+(E395-F395)*(F395^2*(1-W395^2)+2*F395*(1-W395)+2*LN((1-F395)/(1-F395*W395)))/(F395^3)),$F$6*F395*(LN((1-E395+E395^2)/(1+E395)^2)/(6*E395)+ATAN((2-E395)/(E395*3^0.5))/(E395*3^0.5)-LN((W395^2-E395*W395+E395^2)/(W395+E395)^2)/(6*E395)-ATAN((2*W395-E395)/(E395*3^0.5))/(E395*3^0.5)))","v":3.8254468270961333},{"$f":"IF($C$2=1,($O$31*D395*$F$6/$O$30)*(1-W395^3-(E395-F395)*(-2*F395^3*(1-W395^3)-3*F395^2*(1-W395^2)-6*F395*(1-W395)-6*LN((1-F395)/(1-F395*W395)))/(2*F395^4))/3,$F$6*F395*(LN((1+E395^3)/(E395^3+W395^3)))/3)","v":2.5276172507990187},{"$f":"$I$35","v":0.66073778176593112},{"$f":"$J$35","v":0.15354841612232933},{"$f":"$K$35","v":0.6365191476987323},{"$f":"$L$35","v":2.1340626348999612E-4},{"$f":"$M$35","v":458.32156291626706},{"$f":"$N$35","v":0.15366182238581935},{"$f":"$O$35","v":1.9422167141878287E-2},{"$f":"$P$35","v":2.9740483717744983E-2},{"$f":"$Q$35","v":9.9999999999988987E-5},{"$f":"$R$35","v":1.9419193093506513E-2},null,null,null,null,{"$f":"IF(C395<$C$6,0,(C395-$C$6)/C395)","v":0}]
[null,{"$f":"IF(R376>$Q$29*V376,B376,IF(Q376>Q375,$U$6,-0.5)*B376)","v":-3.9768977969850192E-22},{"$f":"IF(Q376>Q375,C376,(1-$T$6)*C376+$T$6*C377)","v":4.5181422537606569E-2},{"$f":"D376+B396","v":3.9334484870015113E-4},{"$f":"IF($C$2=1,D396/($O$31*$O$30),2^(1/3)*$O$30/D396)","v":7.6250460744389861E-2},{"$f":"IF($C$2=1,-($O$31-2)*D396/$O$30,3*($O$30/D396)^2)","v":-5.1910760091923788E-2},{"$f":"IF($C$2=1,0.5*($O$31*D396*$F$6/$O$30)*(1-W396^2+(E396-F396)*(F396^2*(1-W396^2)+2*F396*(1-W396)+2*LN((1-F396)/(1-F396*W396)))/(F396^3)),$F$6*F396*(LN((1-E396+E396^2)/(1+E396)^2)/(6*E396)+ATAN((2-E396)/(E396*3^0.5))/(E396*3^0.5)-LN((W396^2-E396*W396+E396^2)/(W396+E396)^2)/(6*E396)-ATAN((2*W396-E396)/(E396*3^0.5))/(E396*3^0.5)))","v":4.613110708371468},{"$f":"IF($C$2=1,($O$31*D396*$F$6/$O$30)*(1-W396^3-(E396-F396)*(-2*F396^3*(1-W396^3)-3*F396^2*(1-W396^2)-6*F396*(1-W396)-6*LN((1-F396)/(1-F396*W396)))/(2*F396^4))/3,$F$6*F396*(LN((1+E396^3)/(E396^3+W396^3)))/3)","v":3.0417370707038054},{"$f":"H396/G396","v":0.6593678892604784},{"$f":"G396*C396*$D$6","v":0.20842690412768886},{"$f":"MAX(MIN($K$6,$Q$6*$J$6*D396*(C396-$I$6)/C396),-$K$6)","v":25.883055331143311},{"$f":"K396*$H$6","v":8.6778318388286233E-3},{"$f":"MIN($O$6,$Q$6*$N$6*D396*(C$6-C396-$M$6)/C396)","v":458.33333333333337},{"$f":"M396*$L$6","v":0.15366576866258877},{"$f":"(0.5*$C$6-C396+I396*C396)*J396+(0.5*$C$6-$I$6)*L396+(0.5*$C$6-$M$6)*N396","v":2.3667860626519786E-2},{"$f":"0.1*$Q$6*D396*$B$6^2/C396+$R$6","v":3.2369913344933235E-2},{"$f":"(J396+L396-N396)","v":6.3438967303928701E-2},{"$f":"O396-P396*Q396","v":2.1614346752199563E-2},{"$f":"((R396-R395)*(Q396-Q397)-(R396-R397)*(Q396-Q395))/((Q396^2-Q395^2)*(Q396-Q397)-(Q396^2-Q397^2)*(Q396-Q395))","v":-5.0906690086739578E-2},{"$f":"-(S396*(Q396^2-Q395^2)-(R396-R395))/(Q396-Q395)","v":3.7891796424874044E-2},{"$f":"R396-S396*Q396^2-T396*Q396","v":1.9415404422930927E-2},{"$f":"S376*Q396^2+T376*Q396+U376","v":2.1614346752199563E-2},{"$f":"IF(C396<$C$6,0,(C396-$C$6)/C396)","v":0}]
[null,{"$f":"IF(R377>$Q$29*V377,B377,IF(Q377>Q376,$U$6,-0.5)*B377)","v":-9.2191671472819355E-22},{"$f":"IF(Q377>Q376,C377,(1-$T$6)*C377+$T$6*C378)","v":4.9415891915262342E-2},{"$f":"D377+B397","v":4.5831677895414393E-4},8.8845362225090027E-2,-6.048527758025446E-2,5.298963348818206,3.4873783855907905,0.65812464741213172,0.26185300010813706,50.108747538653482,1.6799998270356629E-2,458.33333333333337,0.15366576866258877,2.7666294009989843E-2,{"$f":"0.1*$Q$6*D397*$B$6^2/C397+$R$6","v":3.4484750565600325E-2},0.1249872297159049,2.3356140569351473E-2,-2.4406838503766199E-2,3.2898530169504357E-2,1.9625523356776232E-2,{"$f":"MAX(S377*Q397^2+T377*Q397+U377,S378*Q397^2+T378*Q397+U378)","v":2.3356140569351473E-2},0]
[null,2.0798428890166159E-20,5.3135963724627852E-2,4.9935638089130207E-4,9.6800947678454222E-2,-6.5901382398883657E-2,5.7215793302330873,3.7609846786577479,0.65733330984061211,0.30402163173884583,70.833213832193195,2.3748306000797411E-2,458.33333333333337,0.15366576866258877,3.0697047575934798E-2,3.494218127080094E-2,0.17410416907705448,2.4613468140042186E-2,-4.5103172474373732E-2,3.9088625646659603E-2,1.9175154618559419E-2,{"$f":"MAX(S378*Q398^2+T378*Q398+U378,S379*Q398^2+T379*Q398+U379)","v":2.4613468140042186E-2},0]
[null,-5.6969288289327753E-10,5.7428181372141097E-2,5.5145389283486554E-4,0.10690012478083773,-7.2776828849563019E-2,6.2464143744104623,4.0996579848442103,0.65632180945906859,0.35872021761919332,96.026075272219387,3.2194736003688433E-2,454.95554020325886,0.15253329336575361,3.4441227034706721E-2,3.5703608682810993E-2,0.23838166025712815,2.5930141519727421E-2,-2.942600806693544E-2,3.2622017484449088E-2,1.9825807749312373E-2,2.5930153988013453E-2,0]
[null,-4.916887365539632E-12,6.2195419634221871E-2,6.3481451847545293E-4,0.12305970112724317,-8.3778151106715382E-2,7.0595192120740311,4.621772830064903,0.65468662825652435,0.43906975981079571,129.98845239907473,4.358132826581268E-2,455.66595081235556,0.15277147327625448,3.9904056718160386E-2,3.7950405328100692E-2,0.32987961480035388,2.7384991627009234E-2,-4.0881269514057711E-2,3.9131598960507601E-2,1.8924997488088798E-2,2.738499170460364E-2,0]
[null,-3.4696055743564026E-16,6.7505252560478693E-2,7.6077995736458198E-4,0.14747828137535329,-0.10040214325929127,8.2273758274994595,5.3656873709090407,0.65217482261775206,0.55539108314532837,177.86483664941591,5.9632880382061701E-2,458.33333333333337,0.15366576866258877,4.7609532615141663E-2,4.1903419681529955E-2,0.46135819486480134,2.8277046552208814E-2,-2.280769838751431E-2,2.4831106129514009E-2,2.167566241872778E-2,2.8277046552242575E-2,0]
[null,4.4356020559053328E-13,7.3437125604676246E-2,8.7915766315384215E-4,0.17042596872431295,-0.11602476220489502,9.2601264175561635,6.0169217610719459,0.6497666975328259,0.68003706684125265,229.68519225445783,7.7006730803336157E-2,457.23148524349034,0.15329635120729757,5.5227850375907758E-2,4.4512200701867052E-2,0.60374744643729128,2.8353722866851321E-2,-2.5331082645514549E-2,2.7518776937882961E-2,2.0972789297788563E-2,2.8353722867161785E-2,0]
[null,3.8018732058162762E-19,8.0084861800030091E-2,8.0322125151080091E-4,0.15570558686551447,-0.10600323310626833,8.6047481702081807,5.6044180713793095,0.65131691951000092,0.68911006803518393,230.68434089358982,7.7341716134915195E-2,344.80558356815953,0.1156032328105172,5.2424281184921491E-2,3.7291747105121363E-2,0.65084855135958186,2.8153001603885373E-2,5.3488563872324126E-2,-7.1368036131161702E-2,5.194482365162463E-2,2.8153001603901058E-2,0]
[null,3.9680070215462121E-21,8.7559791299448214E-2,7.589601804503962E-4,0.14712551502130744,-0.10016198248656145,8.2110155190031868,5.35531853167456,0.65221147363325083,0.71895480520044952,236.54140810904181,7.9305419558415302E-2,260.81444995122291,8.7443460938323531E-2,5.1149555703629349E-2,3.2228659602305157E-2,0.71081676382054126,2.8240884182844983E-2,1.620725285997025E-2,-2.0603368021196673E-2,3.4697219338027108E-2,2.8240884182844983E-2,0]
[null,-2.8938985860933053E-21,9.5994684279247358E-2,7.2684530602114012E-4,0.14090000074275205,-9.5923697563322988E-2,7.9198478960951526,5.1705241389888323,0.65285649507715138,0.76026329832531558,243.27336941832445,8.1562449396664877E-2,191.1846019939475,6.4098608338584079E-2,5.0371787923233137E-2,2.8152876547515221E-2,0.77772713938339644,2.8476531780520214E-2,-3.3680182989186433E-3,8.5352825159312664E-3,2.3875588801077877E-2,2.8476531780520214E-2,0]
[null,3.0101922571042596E-20,0.10554872685841464,7.2595225389928254E-4,0.14072688131336222,-9.5805839112651697E-2,7.9116847261094803,5.1653362911606653,0.65287438389884955,0.8350682501460206,258.68561802430992,8.6729725823263423E-2,135.96067096170083,4.5583638569915055E-2,5.1176023327523926E-2,2.5573079526293493E-2,0.87621433739936894,2.8768524395131306E-2,-1.1034826197296847E-2,2.1215734093584685E-2,1.8650999087066054E-2,2.8768524395131306E-2,0]
[null,-3.1264859281152153E-19,0.11641386182692361,7.2273332835720637E-4,0.14010288799936232,-9.5381028994708961E-2,7.8822314213383118,5.1466150498502268,0.65293884114054479,0.91760099957151386,272.20650484370691,9.1262883931123431E-2,84.020098989313652,2.816948311483566E-2,5.1482123070299438E-2,2.3083483928379733E-2,0.98069440038780165,2.8844279640295619E-2,-1.2467472319252071E-2,2.3876027195600245E-2,1.7419928431709683E-2,2.8844279640281651E-2,0]
[null,3.2427795991261707E-20,0.12882293018018509,7.8204412137743444E-4,0.15160036994135934,-0.1032084312284213,8.4174505264930506,5.4860375408683515,0.65174574220562609,1.0843606414695766,309.39703182670513,0.10373178047470707,38.933102294141968,1.3053131106433141E-2,5.4783886617278385E-2,2.2571792691030892E-2,1.1750392908378504,2.826114334067047E-2,-1.4045609395384713E-2,2.7278070459991727E-2,1.5601355144962054E-2,2.8261143340670473E-2,0]
[null,4.7986761001958945E-21,0.14306020987399781,9.1784214572999934E-4,0.17792501092567375,-0.12113005569209134,9.5843573631305574,6.2199529722453777,0.64896922522656675,1.3711401758768538,379.39632961899144,0.12720049880436482,-11.26557374061295,-3.7770175598757037E-3,6.0717137180960612E-2,2.3854872980918932E-2,1.5021176922410944,2.4884310430158228E-2,-1.3880675221783339E-2,2.6836515785386452E-2,1.5892471764048961E-2,2.4884310430158228E-2,0]
[null,-7.3896230788640041E-12,0.15947517602038869,1.0632928259491743E-3,0.20612083303685,-0.14032556668204324,10.746540238388141,6.9414248108319008,0.6459218182644646,1.7138063961271386,457.07812489575855,0.15324493396573413,-74.506497784067008,-2.4979850732391538E-2,6.3882871848781594E-2,2.479064143683761E-2,1.8920311808252641,1.6978205257626007E-2,-1.7452510102183509E-2,3.8959855119475806E-2,5.7411259015330979E-3,1.697820528084714E-2,0]
[null,5.130943731655769E-19,0.17850063403985802,1.0840138064749558E-3,0.2101376247080454,-0.14306016928964782,10.90492106925447,7.0389210323415492,0.64548115365889347,1.9465353250165296,458.33333333333337,0.15366576866258877,-134.15779038323299,-4.49791854137759E-2,5.7442173658518551E-2,2.2579952340092826E-2,2.1451802790928944,9.0041051956939663E-3,-9.678769238640552E-3,7.5756194187460921E-3,3.7292780901547085E-2,9.0041051957227211E-3,0]
[null,6.4624346078105595E-15,0.20067685341513844,1.0385972971258008E-3,0.20133356950122394,-0.13706643242280553,10.417803816051554,6.8140972066737113,0.65408192810990351,2.0906120893014477,458.33333333333337,0.15366576866258877,-180.18802323593957,-6.0411776933112123E-2,4.7692199830129539E-2,1.9243225791230233E-2,2.3046896348971488,3.3425368070957376E-3,1.4285210654288278E-2,-9.9060973726260215E-2,0.15577009250261117,{"$f":"S392*Q412^2+T392*Q412+U392","v":3.3425368071078598E-3},0.10303556719799878]
[null,0,{"$f":"C393","v":0.22668403164997661},{"$f":"D393+(D412-D392)","v":1.0688633827659951E-3},0.2072006934323504,-0.14106072779944953,10.23709163251675,6.8924076665900307,0.67327791075906962,2.3205852036291374,458.33333333333337,0.15366576866258877,-234.52726430542685,-7.863013601853279E-2,4.0735689639149655E-2,1.7531910361942377E-2,2.5528811083102592,-4.0211931164419179E-3,null,null,null,null,0.20594318580878934]
[null,"De","hc","e0","a'","b'","N'","tN'","t","Nc","sac","Nac","sat","Nat","Mtot","u","N","Mo","a''","b''","c''",null,"x"]
[null,null,{"$f":"$C$35","v":4.0138687861173784E-2},{"$f":"$D$35","v":3.210578024372992E-4},{"$f":"$E$35","v":6.2237513577017019E-2},{"$f":"$F$35","v":-4.2370847395201951E-2},{"$f":"IF($C$2=1,0.5*($O$31*D415*$F$6/$O$30)*(1-W415^2+(E415-F415)*(F415^2*(1-W415^2)+2*F415*(1-W415)+2*LN((1-F415)/(1-F415*W415)))/(F415^3)),$F$6*F415*(LN((1-E415+E415^2)/(1+E415)^2)/(6*E415)+ATAN((2-E415)/(E415*3^0.5))/(E415*3^0.5)-LN((W415^2-E415*W415+E415^2)/(W415+E415)^2)/(6*E415)-ATAN((2*W415-E415)/(E415*3^0.5))/(E415*3^0.5)))","v":3.8254468270961333},{"$f":"IF($C$2=1,($O$31*D415*$F$6/$O$30)*(1-W415^3-(E415-F415)*(-2*F415^3*(1-W415^3)-3*F415^2*(1-W415^2)-6*F415*(1-W415)-6*LN((1-F415)/(1-F415*W415)))/(2*F415^4))/3,$F$6*F415*(LN((1+E415^3)/(E415^3+W415^3)))/3)","v":2.5276172507990187},{"$f":"$I$35","v":0.66073778176593112},{"$f":"$J$35","v":0.15354841612232933},{"$f":"$K$35","v":0.6365191476987323},{"$f":"$L$35","v":2.1340626348999612E-4},{"$f":"$M$35","v":458.32156291626706},{"$f":"$N$35","v":0.15366182238581935},{"$f":"$O$35","v":1.9422167141878287E-2},{"$f":"$P$35","v":2.9740483717744983E-2},{"$f":"$Q$35","v":9.9999999999988987E-5},{"$f":"$R$35","v":1.9419193093506513E-2},null,null,null,null,{"$f":"IF(C415<$C$6,0,(C415-$C$6)/C415)","v":0}]
[null,{"$f":"IF(R396>$Q$29*V396,B396,IF(Q396>Q395,$U$6,-0.5)*B396)","v":3.9768977969850194E-23},{"$f":"IF(Q396>Q395,C396,(1-$T$6)*C396+$T$6*C397)","v":4.5181422537606569E-2},{"$f":"D396+B416","v":3.9334484870015113E-4},{"$f":"IF($C$2=1,D416/($O$31*$O$30),2^(1/3)*$O$30/D416)","v":7.6250460744389861E-2},{"$f":"IF($C$2=1,-($O$31-2)*D416/$O$30,3*($O$30/D416)^2)","v":-5.1910760091923788E-2},{"$f":"IF($C$2=1,0.5*($O$31*D416*$F$6/$O$30)*(1-W416^2+(E416-F416)*(F416^2*(1-W416^2)+2*F416*(1-W416)+2*LN((1-F416)/(1-F416*W416)))/(F416^3)),$F$6*F416*(LN((1-E416+E416^2)/(1+E416)^2)/(6*E416)+ATAN((2-E416)/(E416*3^0.5))/(E416*3^0.5)-LN((W416^2-E416*W416+E416^2)/(W416+E416)^2)/(6*E416)-ATAN((2*W416-E416)/(E416*3^0.5))/(E416*3^0.5)))","v":4.613110708371468},{"$f":"IF($C$2=1,($O$31*D416*$F$6/$O$30)*(1-W416^3-(E416-F416)*(-2*F416^3*(1-W416^3)-3*F416^2*(1-W416^2)-6*F416*(1-W416)-6*LN((1-F416)/(1-F416*W416)))/(2*F416^4))/3,$F$6*F416*(LN((1+E416^3)/(E416^3+W416^3)))/3)","v":3.0417370707038054},{"$f":"H416/G416","v":0.6593678892604784},{"$f":"G416*C416*$D$6","v":0.20842690412768886},{"$f":"MAX(MIN($K$6,$Q$6*$J$6*D416*(C416-$I$6)/C416),-$K$6)","v":25.883055331143311},{"$f":"K416*$H$6","v":8.6778318388286233E-3},{"$f":"MIN($O$6,$Q$6*$N$6*D416*(C$6-C416-$M$6)/C416)","v":458.33333333333337},{"$f":"M416*$L$6","v":0.15366576866258877},{"$f":"(0.5*$C$6-C416+I416*C416)*J416+(0.5*$C$6-$I$6)*L416+(0.5*$C$6-$M$6)*N416","v":2.3667860626519786E-2},{"$f":"0.1*$Q$6*D416*$B$6^2/C416+$R$6","v":3.2369913344933235E-2},{"$f":"(J416+L416-N416)","v":6.3438967303928701E-2},{"$f":"O416-P416*Q416","v":2.1614346752199563E-2},{"$f":"((R416-R415)*(Q416-Q417)-(R416-R417)*(Q416-Q415))/((Q416^2-Q415^2)*(Q416-Q417)-(Q416^2-Q417^2)*(Q416-Q415))","v":-5.0906690086739578E-2},{"$f":"-(S416*(Q416^2-Q415^2)-(R416-R415))/(Q416-Q415)","v":3.7891796424874044E-2},{"$f":"R416-S416*Q416^2-T416*Q416","v":1.9415404422930927E-2},{"$f":"S396*Q416^2+T396*Q416+U396","v":2.1614346752199563E-2},{"$f":"IF(C416<$C$6,0,(C416-$C$6)/C416)","v":0}]
[null,{"$f":"IF(R397>$Q$29*V397,B397,IF(Q397>Q396,$U$6,-0.5)*B397)","v":9.2191671472819358E-23},{"$f":"IF(Q397>Q396,C397,(1-$T$6)*C397+$T$6*C398)","v":4.9415891915262342E-2},{"$f":"D397+B417","v":4.5831677895414393E-4},8.8845362225090027E-2,-6.048527758025446E-2,5.298963348818206,3.4873783855907905,0.65812464741213172,0.26185300010813706,50.108747538653482,1.6799998270356629E-2,458.33333333333337,0.15366576866258877,2.7666294009989843E-2,{"$f":"0.1*$Q$6*D417*$B$6^2/C417+$R$6","v":3.4484750565600325E-2},0.1249872297159049,2.3356140569351473E-2,-2.4406838503766199E-2,3.2898530169504357E-2,1.9625523356776232E-2,{"$f":"MAX(S397*Q417^2+T397*Q417+U397,S398*Q417^2+T398*Q417+U398)","v":2.3356140569351473E-2},0]
[null,-2.0798428890166162E-21,5.3135963724627852E-2,4.9935638089130207E-4,9.6800947678454222E-2,-6.5901382398883657E-2,5.7215793302330873,3.7609846786577479,0.65733330984061211,0.30402163173884583,70.833213832193195,2.3748306000797411E-2,458.33333333333337,0.15366576866258877,3.0697047575934798E-2,3.494218127080094E-2,0.17410416907705448,2.4613468140042186E-2,-4.5102998628634421E-2,3.9088573650894257E-2,1.9175158401581394E-2,{"$f":"MAX(S398*Q418^2+T398*Q418+U398,S399*Q418^2+T399*Q418+U399)","v":2.4613468140042186E-2},0]
[null,5.6969288289327759E-11,5.7428181372141097E-2,5.5145394980415387E-4,0.10690013582441564,-7.2776836367950681E-2,6.2464149412579539,4.0996583499447565,0.65632180834901976,0.35872025017221387,96.026085192427118,3.2194739329644097E-2,454.95558720354961,0.15253330912357718,3.4441230253306913E-2,3.5703612371259297E-2,0.23838168037828081,2.5930143140671345E-2,-2.9426219570877453E-2,3.2622124124531762E-2,1.9825795593992227E-2,2.5930141914925132E-2,0]
[null,4.9168873655396324E-13,6.2195419634221871E-2,6.3481451896714165E-4,0.12305970122255773,-8.3778151171604837E-2,7.05951921677336,4.6217728330852008,0.65468662824855073,0.43906976010307242,129.98845249975588,4.358132829956813E-2,455.66595116528669,0.15277147339458197,3.9904056745574498E-2,3.7950405357494769E-2,0.32987961500805857,2.7384991636844359E-2,-4.0881210040914738E-2,3.9131551847673328E-2,1.8925006565061159E-2,2.7384991629534877E-2,0]
[null,3.4696055743564028E-17,6.7505252560478693E-2,7.6077995736461668E-4,0.14747828137536001,-0.10040214325929585,8.2273758274994435,5.365687370913828,0.65217482261833515,0.55539108314532737,177.86483664942401,5.9632880382064421E-2,458.33333333333337,0.15366576866258877,4.7609532615163597E-2,4.190341968153187E-2,0.46135819486480301,2.8277046552229793E-2,-2.2807698171741282E-2,2.4831105899597347E-2,2.1675662478895099E-2,2.827704655220882E-2,0]
[null,-4.4356020559053332E-14,7.3437125604676246E-2,8.7915766310948614E-4,0.1704259687157145,-0.11602476219904123,9.2601264171814357,6.016921760830666,0.64976669753306404,0.68003706681373377,229.6851922428695,7.7006730799450931E-2,457.23148522042169,0.15329635119956331,5.5227850373569767E-2,4.4512200699621279E-2,0.60374744641362144,2.8353722866922806E-2,-2.5331082644566846E-2,2.7518776936718239E-2,2.0972789298145174E-2,2.8353722867011825E-2,0]
[null,-3.8018732058162767E-20,8.0084861800030091E-2,8.0322125151080091E-4,0.15570558686551447,-0.10600323310626833,8.6047481702081807,5.6044180713793095,0.65131691951000092,0.68911006803518393,230.68434089358982,7.7341716134915195E-2,344.80558356815953,0.1156032328105172,5.2424281184921491E-2,3.7291747105121363E-2,0.65084855135958186,2.8153001603885373E-2,5.3488563854672398E-2,-7.1368036107125971E-2,5.194482364345835E-2,2.8153001603885373E-2,0]
[null,-3.9680070215462121E-22,8.7559791299448214E-2,7.589601804503962E-4,0.14712551502130744,-0.10016198248656145,8.2110155190031868,5.35531853167456,0.65221147363325083,0.71895480520044952,236.54140810904181,7.9305419558415302E-2,260.81444995122291,8.7443460938323531E-2,5.1149555703629349E-2,3.2228659602305157E-2,0.71081676382054126,2.8240884182844983E-2,1.620725285997025E-2,-2.0603368021196673E-2,3.4697219338027108E-2,2.8240884182844983E-2,0]
[null,2.8938985860933055E-22,9.5994684279247358E-2,7.2684530602114012E-4,0.14090000074275205,-9.5923697563322988E-2,7.9198478960951526,5.1705241389888323,0.65285649507715138,0.76026329832531558,243.27336941832445,8.1562449396664877E-2,191.1846019939475,6.4098608338584079E-2,5.0371787923233137E-2,2.8152876547515221E-2,0.77772713938339644,2.8476531780520214E-2,-3.3680182989186433E-3,8.5352825159312664E-3,2.3875588801077877E-2,2.8476531780520214E-2,0]
[null,-3.0101922571042598E-21,0.10554872685841464,7.2595225389928254E-4,0.14072688131336222,-9.5805839112651697E-2,7.9116847261094803,5.1653362911606653,0.65287438389884955,0.8350682501460206,258.68561802430992,8.6729725823263423E-2,135.96067096170083,4.5583638569915055E-2,5.1176023327523926E-2,2.5573079526293493E-2,0.87621433739936894,2.8768524395131306E-2,-1.1034826197296847E-2,2.1215734093584685E-2,1.8650999087066054E-2,2.8768524395131306E-2,0]
[null,3.1264859281152155E-20,0.11641386182692361,7.2273332835720637E-4,0.14010288799936232,-9.5381028994708961E-2,7.8822314213383118,5.1466150498502268,0.65293884114054479,0.91760099957151386,272.20650484370691,9.1262883931123431E-2,84.020098989313652,2.816948311483566E-2,5.1482123070299438E-2,2.3083483928379733E-2,0.98069440038780165,2.8844279640295619E-2,-1.2467472319252071E-2,2.3876027195600245E-2,1.7419928431709683E-2,2.8844279640295616E-2,0]
[null,-3.2427795991261708E-21,0.12882293018018509,7.8204412137743444E-4,0.15160036994135934,-0.1032084312284213,8.4174505264930506,5.4860375408683515,0.65174574220562609,1.0843606414695766,309.39703182670513,0.10373178047470707,38.933102294141968,1.3053131106433141E-2,5.4783886617278385E-2,2.2571792691030892E-2,1.1750392908378504,2.826114334067047E-2,-1.4045609395384713E-2,2.7278070459991727E-2,1.5601355144962054E-2,2.8261143340670473E-2,0]
[null,-4.7986761001958945E-22,0.14306020987399781,9.1784214572999934E-4,0.17792501092567375,-0.12113005569209134,9.5843573631305574,6.2199529722453777,0.64896922522656675,1.3711401758768538,379.39632961899144,0.12720049880436482,-11.26557374061295,-3.7770175598757037E-3,6.0717137180960612E-2,2.3854872980918932E-2,1.5021176922410944,2.4884310430158228E-2,-1.3880675226119533E-2,2.6836515796995121E-2,1.5892471756395375E-2,2.4884310430158228E-2,0]
[null,7.3896230788640047E-13,0.15947517602038869,1.0632928266881365E-3,0.20612083318009891,-0.14032556677956604,10.746540244068388,6.9414248143289496,0.6459218182484644,1.7138063970329971,457.07812521341651,0.15324493407223555,-74.506497835847185,-2.4979850749751918E-2,6.3882871879242062E-2,2.4790641454066498E-2,1.8920311818549844,1.6978205229961456E-2,-1.7452510104431083E-2,3.895985512767338E-2,5.7411258942907106E-3,1.6978205229739592E-2,0]
[null,-5.1309437316557691E-20,0.17850063403985802,1.0840138064749558E-3,0.2101376247080454,-0.14306016928964782,10.90492106925447,7.0389210323415492,0.64548115365889347,1.9465353250165296,458.33333333333337,0.15366576866258877,-134.15779038323299,-4.49791854137759E-2,5.7442173658518551E-2,2.2579952340092826E-2,2.1451802790928944,9.0041051956939663E-3,-9.6787692170249105E-3,7.5756193225980295E-3,3.729278100833118E-2,9.0041051956939733E-3,0]
[null,-6.4624346078105601E-16,0.20067685341513844,1.0385972971251546E-3,0.20133356950109868,-0.13706643242272026,10.417803816046636,6.8140972066708727,0.65408192810993981,2.0906120893004605,458.33333333333337,0.15366576866258877,-180.18802323582747,-6.0411776933074535E-2,4.7692199830126361E-2,1.924322579121826E-2,2.3046896348961239,3.3425368071398759E-3,1.4285210654293048E-2,-9.9060973726218179E-2,0.15577009250249904,{"$f":"S412*Q432^2+T412*Q432+U412","v":3.3425368071298145E-3},0.10303556719799878]
[null,0,{"$f":"C413","v":0.22668403164997661},{"$f":"D413+(D432-D412)","v":1.0688633827653489E-3},0.20720069343222514,-0.14106072779936424,10.237091632512062,6.892407666587328,0.67327791075911392,2.3205852036280747,458.33333333333337,0.15366576866258877,-234.52726430528503,-7.8630136018485244E-2,4.0735689639158412E-2,1.7531910361931777E-2,2.5528811083091489,-4.0211931163866357E-3,null,null,null,null,0.20594318580878934]
[null,"De","hc","e0","a'","b'","N'","tN'","t","Nc","sac","Nac","sat","Nat","Mtot","u","N","Mo","a''","b''","c''",null,"x"]
[null,null,{"$f":"$C$35","v":4.0138687861173784E-2},{"$f":"$D$35","v":3.210578024372992E-4},{"$f":"$E$35","v":6.2237513577017019E-2},{"$f":"$F$35","v":-4.2370847395201951E-2},{"$f":"IF($C$2=1,0.5*($O$31*D435*$F$6/$O$30)*(1-W435^2+(E435-F435)*(F435^2*(1-W435^2)+2*F435*(1-W435)+2*LN((1-F435)/(1-F435*W435)))/(F435^3)),$F$6*F435*(LN((1-E435+E435^2)/(1+E435)^2)/(6*E435)+ATAN((2-E435)/(E435*3^0.5))/(E435*3^0.5)-LN((W435^2-E435*W435+E435^2)/(W435+E435)^2)/(6*E435)-ATAN((2*W435-E435)/(E435*3^0.5))/(E435*3^0.5)))","v":3.8254468270961333},{"$f":"IF($C$2=1,($O$31*D435*$F$6/$O$30)*(1-W435^3-(E435-F435)*(-2*F435^3*(1-W435^3)-3*F435^2*(1-W435^2)-6*F435*(1-W435)-6*LN((1-F435)/(1-F435*W435)))/(2*F435^4))/3,$F$6*F435*(LN((1+E435^3)/(E435^3+W435^3)))/3)","v":2.5276172507990187},{"$f":"$I$35","v":0.66073778176593112},{"$f":"$J$35","v":0.15354841612232933},{"$f":"$K$35","v":0.6365191476987323},{"$f":"$L$35","v":2.1340626348999612E-4},{"$f":"$M$35","v":458.32156291626706},{"$f":"$N$35","v":0.15366182238581935},{"$f":"$O$35","v":1.9422167141878287E-2},{"$f":"$P$35","v":2.9740483717744983E-2},{"$f":"$Q$35","v":9.9999999999988987E-5},{"$f":"$R$35","v":1.9419193093506513E-2},null,null,null,null,{"$f":"IF(C435<$C$6,0,(C435-$C$6)/C435)","v":0}]
[null,{"$f":"IF(R416>$Q$29*V416,B416,IF(Q416>Q415,$U$6,-0.5)*B416)","v":-3.9768977969850195E-24},{"$f":"IF(Q416>Q415,C416,(1-$T$6)*C416+$T$6*C417)","v":4.5181422537606569E-2},{"$f":"D416+B436","v":3.9334484870015113E-4},{"$f":"IF($C$2=1,D436/($O$31*$O$30),2^(1/3)*$O$30/D436)","v":7.6250460744389861E-2},{"$f":"IF($C$2=1,-($O$31-2)*D436/$O$30,3*($O$30/D436)^2)","v":-5.1910760091923788E-2},{"$f":"IF($C$2=1,0.5*($O$31*D436*$F$6/$O$30)*(1-W436^2+(E436-F436)*(F436^2*(1-W436^2)+2*F436*(1-W436)+2*LN((1-F436)/(1-F436*W436)))/(F436^3)),$F$6*F436*(LN((1-E436+E436^2)/(1+E436)^2)/(6*E436)+ATAN((2-E436)/(E436*3^0.5))/(E436*3^0.5)-LN((W436^2-E436*W436+E436^2)/(W436+E436)^2)/(6*E436)-ATAN((2*W436-E436)/(E436*3^0.5))/(E436*3^0.5)))","v":4.613110708371468},{"$f":"IF($C$2=1,($O$31*D436*$F$6/$O$30)*(1-W436^3-(E436-F436)*(-2*F436^3*(1-W436^3)-3*F436^2*(1-W436^2)-6*F436*(1-W436)-6*LN((1-F436)/(1-F436*W436)))/(2*F436^4))/3,$F$6*F436*(LN((1+E436^3)/(E436^3+W436^3)))/3)","v":3.0417370707038054},{"$f":"H436/G436","v":0.6593678892604784},{"$f":"G436*C436*$D$6","v":0.20842690412768886},{"$f":"MAX(MIN($K$6,$Q$6*$J$6*D436*(C436-$I$6)/C436),-$K$6)","v":25.883055331143311},{"$f":"K436*$H$6","v":8.6778318388286233E-3},{"$f":"MIN($O$6,$Q$6*$N$6*D436*(C$6-C436-$M$6)/C436)","v":458.33333333333337},{"$f":"M436*$L$6","v":0.15366576866258877},{"$f":"(0.5*$C$6-C436+I436*C436)*J436+(0.5*$C$6-$I$6)*L436+(0.5*$C$6-$M$6)*N436","v":2.3667860626519786E-2},{"$f":"0.1*$Q$6*D436*$B$6^2/C436+$R$6","v":3.2369913344933235E-2},{"$f":"(J436+L436-N436)","v":6.3438967303928701E-2},{"$f":"O436-P436*Q436","v":2.1614346752199563E-2},{"$f":"((R436-R435)*(Q436-Q437)-(R436-R437)*(Q436-Q435))/((Q436^2-Q435^2)*(Q436-Q437)-(Q436^2-Q437^2)*(Q436-Q435))","v":-5.0906690086739578E-2},{"$f":"-(S436*(Q436^2-Q435^2)-(R436-R435))/(Q436-Q435)","v":3.7891796424874044E-2},{"$f":"R436-S436*Q436^2-T436*Q436","v":1.9415404422930927E-2},{"$f":"S416*Q436^2+T416*Q436+U416","v":2.1614346752199563E-2},{"$f":"IF(C436<$C$6,0,(C436-$C$6)/C436)","v":0}]
[null,{"$f":"IF(R417>$Q$29*V417,B417,IF(Q417>Q416,$U$6,-0.5)*B417)","v":-9.2191671472819367E-24},{"$f":"IF(Q417>Q416,C417,(1-$T$6)*C417+$T$6*C418)","v":4.9415891915262342E-2},{"$f":"D417+B437","v":4.5831677895414393E-4},8.8845362225090027E-2,-6.048527758025446E-2,5.298963348818206,3.4873783855907905,0.65812464741213172,0.26185300010813706,50.108747538653482,1.6799998270356629E-2,458.33333333333337,0.15366576866258877,2.7666294009989843E-2,{"$f":"0.1*$Q$6*D437*$B$6^2/C437+$R$6","v":3.4484750565600325E-2},0.1249872297159049,2.3356140569351473E-2,-2.4406838503766199E-2,3.2898530169504357E-2,1.9625523356776232E-2,{"$f":"MAX(S417*Q437^2+T417*Q437+U417,S418*Q437^2+T418*Q437+U418)","v":2.3356140569351473E-2},0]
[null,2.0798428890166164E-22,5.3135963724627852E-2,4.9935638089130207E-4,9.6800947678454222E-2,-6.5901382398883657E-2,5.7215793302330873,3.7609846786577479,0.65733330984061211,0.30402163173884583,70.833213832193195,2.3748306000797411E-2,458.33333333333337,0.15366576866258877,3.0697047575934798E-2,3.494218127080094E-2,0.17410416907705448,2.4613468140042186E-2,-4.5103016014226512E-2,3.908857885077531E-2,1.917515802325704E-2,{"$f":"MAX(S418*Q438^2+T418*Q438+U418,S419*Q438^2+T419*Q438+U419)","v":2.4613468140042186E-2},0]
[null,-5.6969288289327759E-12,5.7428181372141097E-2,5.5145394410722505E-4,0.10690013472005785,-7.277683561611191E-2,6.2464148845734675,4.0996583134325268,0.65632180845964883,0.35872024691692689,96.026084200406345,3.2194738997048528E-2,454.95558250352059,0.15253330754779484,3.4441229931440213E-2,3.5703612002414467E-2,0.2383816783661806,2.5930142978569742E-2,-2.942619842004441E-2,3.2622113460226095E-2,1.9825796809562715E-2,2.5930143103260805E-2,0]
[null,-4.9168873655396326E-14,6.2195419634221871E-2,6.3481451891797276E-4,0.12305970121302627,-8.3778151165115888E-2,7.0595192163037126,4.6217728327802083,0.654686628248902,0.4390697600738625,129.9884524896878,4.3581328296192594E-2,455.66595112999363,0.15277147338274924,3.9904056742822124E-2,3.7950405354555364E-2,0.32987961498730589,2.7384991635849208E-2,-4.0881215987266434E-2,3.913155655836259E-2,1.8925005657443327E-2,2.7384991636641324E-2,0]
[null,-3.4696055743564027E-18,6.7505252560478693E-2,7.6077995736461321E-4,0.14747828137535934,-0.10040214325929539,8.2273758274993281,5.3656873709155439,0.65217482261855286,0.55539108314531949,177.86483664942321,5.963288038206415E-2,458.33333333333337,0.15366576866258877,4.7609532615171223E-2,4.1903419681531676E-2,0.4613581948647949,2.8277046552237849E-2,-2.2807698193678064E-2,2.4831105923040758E-2,2.1675662472756652E-2,2.8277046552229762E-2,0]
[null,4.4356020559053332E-15,7.3437125604676246E-2,8.7915766311392172E-4,0.17042596871657434,-0.11602476219962662,9.2601264172184568,6.0169217608583443,0.64976669753345528,0.68003706681645248,229.68519224402834,7.7006730799839454E-2,457.23148522272862,0.15329635120033674,5.5227850373822163E-2,4.4512200699845857E-2,0.60374744641595512,2.8353722866935736E-2,-2.53310826472627E-2,2.7518776939673893E-2,2.0972789297363466E-2,2.8353722866915648E-2,0]
[null,3.8018732058162771E-21,8.0084861800030091E-2,8.0322125151080091E-4,0.15570558686551447,-0.10600323310626833,8.6047481702081807,5.6044180713793095,0.65131691951000092,0.68911006803518393,230.68434089358982,7.7341716134915195E-2,344.80558356815953,0.1156032328105172,5.2424281184921491E-2,3.7291747105121363E-2,0.65084855135958186,2.8153001603885373E-2,5.3488563860374344E-2,-7.1368036114890107E-2,5.1944823646096261E-2,2.8153001603885373E-2,0]
[null,3.9680070215462123E-23,8.7559791299448214E-2,7.589601804503962E-4,0.14712551502130744,-0.10016198248656145,8.2110155190031868,5.35531853167456,0.65221147363325083,0.71895480520044952,236.54140810904181,7.9305419558415302E-2,260.81444995122291,8.7443460938323531E-2,5.1149555703629349E-2,3.2228659602305157E-2,0.71081676382054126,2.8240884182844983E-2,1.620725285997025E-2,-2.0603368021196673E-2,3.4697219338027108E-2,2.8240884182844983E-2,0]
[null,-2.8938985860933055E-23,9.5994684279247358E-2,7.2684530602114012E-4,0.14090000074275205,-9.5923697563322988E-2,7.9198478960951526,5.1705241389888323,0.65285649507715138,0.76026329832531558,243.27336941832445,8.1562449396664877E-2,191.1846019939475,6.4098608338584079E-2,5.0371787923233137E-2,2.8152876547515221E-2,0.77772713938339644,2.8476531780520214E-2,-3.3680182989186433E-3,8.5352825159312664E-3,2.3875588801077877E-2,2.8476531780520214E-2,0]
[null,3.0101922571042598E-22,0.10554872685841464,7.2595225389928254E-4,0.14072688131336222,-9.5805839112651697E-2,7.9116847261094803,5.1653362911606653,0.65287438389884955,0.8350682501460206,258.68561802430992,8.6729725823263423E-2,135.96067096170083,4.5583638569915055E-2,5.1176023327523926E-2,2.5573079526293493E-2,0.87621433739936894,2.8768524395131306E-2,-1.1034826197296847E-2,2.1215734093584685E-2,1.8650999087066054E-2,2.8768524395131306E-2,0]
[null,-3.1264859281152155E-21,0.11641386182692361,7.2273332835720637E-4,0.14010288799936232,-9.5381028994708961E-2,7.8822314213383118,5.1466150498502268,0.65293884114054479,0.91760099957151386,272.20650484370691,9.1262883931123431E-2,84.020098989313652,2.816948311483566E-2,5.1482123070299438E-2,2.3083483928379733E-2,0.98069440038780165,2.8844279640295619E-2,-1.2467472319252071E-2,2.3876027195600245E-2,1.7419928431709683E-2,2.8844279640295616E-2,0]
[null,3.2427795991261709E-22,0.12882293018018509,7.8204412137743444E-4,0.15160036994135934,-0.1032084312284213,8.4174505264930506,5.4860375408683515,0.65174574220562609,1.0843606414695766,309.39703182670513,0.10373178047470707,38.933102294141968,1.3053131106433141E-2,5.4783886617278385E-2,2.2571792691030892E-2,1.1750392908378504,2.826114334067047E-2,-1.4045609395384713E-2,2.7278070459991727E-2,1.5601355144962054E-2,2.8261143340670467E-2,0]
[null,4.798676100195895E-23,0.14306020987399781,9.1784214572999934E-4,0.17792501092567375,-0.12113005569209134,9.5843573631305574,6.2199529722453777,0.64896922522656675,1.3711401758768538,379.39632961899144,0.12720049880436482,-11.26557374061295,-3.7770175598757037E-3,6.0717137180960612E-2,2.3854872980918932E-2,1.5021176922410944,2.4884310430158228E-2,-1.3880675225548025E-2,2.6836515795465105E-2,1.5892471757404117E-2,2.4884310430158228E-2,0]
[null,-7.3896230788640052E-14,0.15947517602038869,1.0632928266142404E-3,0.20612083316577401,-0.14032556676981378,10.746540243500185,6.9414248139806842,0.64592181825020911,1.7138063969423827,457.07812518165082,0.15324493406158546,-74.506497830669176,-2.4979850748015883E-2,6.3882871876234593E-2,2.4790641452343613E-2,1.8920311817519841,1.6978205232767184E-2,-1.7452510104596471E-2,3.8959855128276599E-2,5.7411258937577897E-3,1.6978205232953552E-2,0]
[null,5.1309437316557697E-21,0.17850063403985802,1.0840138064749558E-3,0.2101376247080454,-0.14306016928964782,10.90492106925447,7.0389210323415492,0.64548115365889347,1.9465353250165296,458.33333333333337,0.15366576866258877,-134.15779038323299,-4.49791854137759E-2,5.7442173658518551E-2,2.2579952340092826E-2,2.1451802790928944,9.0041051956939663E-3,-9.6787692141687282E-3,7.5756193118032339E-3,3.7292781018344393E-2,9.0041051956939733E-3,0]
[null,6.4624346078105603E-17,0.20067685341513844,1.0385972971252192E-3,0.2013335695011112,-0.13706643242272878,10.417803816046073,6.8140972066782668,0.654081928110685,2.0906120893003477,458.33333333333337,0.15366576866258877,-180.18802323583867,-6.0411776933078289E-2,4.7692199830436502E-2,1.9243225791219457E-2,2.3046896348960146,3.3425368074493575E-3,1.4285210644160627E-2,-9.9060973679212752E-2,0.15577009244829126,{"$f":"S432*Q452^2+T432*Q452+U432","v":3.342536807143498E-3},0.10303556719799878]
[null,0,{"$f":"C433","v":0.22668403164997661},{"$f":"D433+(D452-D432)","v":1.0688633827654135E-3},0.20720069343223768,-0.14106072779937279,10.237091632513119,6.8924076665832414,0.67327791075864529,2.3205852036283146,458.33333333333337,0.15366576866258877,-234.52726430529927,-7.8630136018490018E-2,4.0735689638915495E-2,1.7531910361932836E-2,2.5528811083093936,-4.0211931166365469E-3,null,null,null,null,0.20594318580878934]
[null,"De","hc","e0","a'","b'","N'","tN'","t","Nc","sac","Nac","sat","Nat","Mtot","u","N","Mo","a''","b''","c''",null,"x"]
[null,null,{"$f":"$C$35","v":4.0138687861173784E-2},{"$f":"$D$35","v":3.210578024372992E-4},{"$f":"$E$35","v":6.2237513577017019E-2},{"$f":"$F$35","v":-4.2370847395201951E-2},{"$f":"IF($C$2=1,0.5*($O$31*D455*$F$6/$O$30)*(1-W455^2+(E455-F455)*(F455^2*(1-W455^2)+2*F455*(1-W455)+2*LN((1-F455)/(1-F455*W455)))/(F455^3)),$F$6*F455*(LN((1-E455+E455^2)/(1+E455)^2)/(6*E455)+ATAN((2-E455)/(E455*3^0.5))/(E455*3^0.5)-LN((W455^2-E455*W455+E455^2)/(W455+E455)^2)/(6*E455)-ATAN((2*W455-E455)/(E455*3^0.5))/(E455*3^0.5)))","v":3.8254468270961333},{"$f":"IF($C$2=1,($O$31*D455*$F$6/$O$30)*(1-W455^3-(E455-F455)*(-2*F455^3*(1-W455^3)-3*F455^2*(1-W455^2)-6*F455*(1-W455)-6*LN((1-F455)/(1-F455*W455)))/(2*F455^4))/3,$F$6*F455*(LN((1+E455^3)/(E455^3+W455^3)))/3)","v":2.5276172507990187},{"$f":"$I$35","v":0.66073778176593112},{"$f":"$J$35","v":0.15354841612232933},{"$f":"$K$35","v":0.6365191476987323},{"$f":"$L$35","v":2.1340626348999612E-4},{"$f":"$M$35","v":458.32156291626706},{"$f":"$N$35","v":0.15366182238581935},{"$f":"$O$35","v":1.9422167141878287E-2},{"$f":"$P$35","v":2.9740483717744983E-2},{"$f":"$Q$35","v":9.9999999999988987E-5},{"$f":"$R$35","v":1.9419193093506513E-2},null,null,null,null,{"$f":"IF(C455<$C$6,0,(C455-$C$6)/C455)","v":0}]
[null,{"$f":"IF(R436>$Q$29*V436,B436,IF(Q436>Q435,$U$6,-0.5)*B436)","v":3.9768977969850196E-25},{"$f":"IF(Q436>Q435,C436,(1-$T$6)*C436+$T$6*C437)","v":4.5181422537606569E-2},{"$f":"D436+B456","v":3.9334484870015113E-4},{"$f":"IF($C$2=1,D456/($O$31*$O$30),2^(1/3)*$O$30/D456)","v":7.6250460744389861E-2},{"$f":"IF($C$2=1,-($O$31-2)*D456/$O$30,3*($O$30/D456)^2)","v":-5.1910760091923788E-2},{"$f":"IF($C$2=1,0.5*($O$31*D456*$F$6/$O$30)*(1-W456^2+(E456-F456)*(F456^2*(1-W456^2)+2*F456*(1-W456)+2*LN((1-F456)/(1-F456*W456)))/(F456^3)),$F$6*F456*(LN((1-E456+E456^2)/(1+E456)^2)/(6*E456)+ATAN((2-E456)/(E456*3^0.5))/(E456*3^0.5)-LN((W456^2-E456*W456+E456^2)/(W456+E456)^2)/(6*E456)-ATAN((2*W456-E456)/(E456*3^0.5))/(E456*3^0.5)))","v":4.613110708371468},{"$f":"IF($C$2=1,($O$31*D456*$F$6/$O$30)*(1-W456^3-(E456-F456)*(-2*F456^3*(1-W456^3)-3*F456^2*(1-W456^2)-6*F456*(1-W456)-6*LN((1-F456)/(1-F456*W456)))/(2*F456^4))/3,$F$6*F456*(LN((1+E456^3)/(E456^3+W456^3)))/3)","v":3.0417370707038054},{"$f":"H456/G456","v":0.6593678892604784},{"$f":"G456*C456*$D$6","v":0.20842690412768886},{"$f":"MAX(MIN($K$6,$Q$6*$J$6*D456*(C456-$I$6)/C456),-$K$6)","v":25.883055331143311},{"$f":"K456*$H$6","v":8.6778318388286233E-3},{"$f":"MIN($O$6,$Q$6*$N$6*D456*(C$6-C456-$M$6)/C456)","v":458.33333333333337},{"$f":"M456*$L$6","v":0.15366576866258877},{"$f":"(0.5*$C$6-C456+I456*C456)*J456+(0.5*$C$6-$I$6)*L456+(0.5*$C$6-$M$6)*N456","v":2.3667860626519786E-2},{"$f":"0.1*$Q$6*D456*$B$6^2/C456+$R$6","v":3.2369913344933235E-2},{"$f":"(J456+L456-N456)","v":6.3438967303928701E-2},{"$f":"O456-P456*Q456","v":2.1614346752199563E-2},{"$f":"((R456-R455)*(Q456-Q457)-(R456-R457)*(Q456-Q455))/((Q456^2-Q455^2)*(Q456-Q457)-(Q456^2-Q457^2)*(Q456-Q455))","v":-5.0906690086739578E-2},{"$f":"-(S456*(Q456^2-Q455^2)-(R456-R455))/(Q456-Q455)","v":3.7891796424874044E-2},{"$f":"R456-S456*Q456^2-T456*Q456","v":1.9415404422930927E-2},{"$f":"S436*Q456^2+T436*Q456+U436","v":2.1614346752199563E-2},{"$f":"IF(C456<$C$6,0,(C456-$C$6)/C456)","v":0}]
[null,{"$f":"IF(R437>$Q$29*V437,B437,IF(Q437>Q436,$U$6,-0.5)*B437)","v":9.2191671472819374E-25},{"$f":"IF(Q437>Q436,C437,(1-$T$6)*C437+$T$6*C438)","v":4.9415891915262342E-2},{"$f":"D437+B457","v":4.5831677895414393E-4},8.8845362225090027E-2,-6.048527758025446E-2,5.298963348818206,3.4873783855907905,0.65812464741213172,0.26185300010813706,50.108747538653482,1.6799998270356629E-2,458.33333333333337,0.15366576866258877,2.7666294009989843E-2,{"$f":"0.1*$Q$6*D457*$B$6^2/C457+$R$6","v":3.4484750565600325E-2},0.1249872297159049,2.3356140569351473E-2,-2.4406838503766199E-2,3.2898530169504357E-2,1.9625523356776232E-2,{"$f":"MAX(S437*Q457^2+T437*Q457+U437,S438*Q457^2+T438*Q457+U438)","v":2.3356140569351473E-2},0]
[null,-2.0798428890166165E-23,5.3135963724627852E-2,4.9935638089130207E-4,9.6800947678454222E-2,-6.5901382398883657E-2,5.7215793302330873,3.7609846786577479,0.65733330984061211,0.30402163173884583,70.833213832193195,2.3748306000797411E-2,458.33333333333337,0.15366576866258877,3.0697047575934798E-2,3.494218127080094E-2,0.17410416907705448,2.4613468140042186E-2,-4.5103014268062319E-2,3.9088578328512626E-2,1.9175158061254968E-2,{"$f":"MAX(S438*Q458^2+T438*Q458+U438,S439*Q458^2+T439*Q458+U439)","v":2.4613468140042182E-2},0]
[null,5.6969288289327761E-13,5.7428181372141097E-2,5.5145394467691789E-4,0.10690013483049363,-7.2776835691295783E-2,6.2464148902407031,4.0996583171001193,0.65632180845133403,0.35872024724238594,96.026084299608414,3.2194739030308082E-2,454.95558297352346,0.15253330770537307,3.4441229963678599E-2,3.5703612039298949E-2,0.23838167856732093,2.5930142994834107E-2,-2.9426200546257407E-2,3.2622114532110946E-2,1.9825796687393423E-2,2.5930142982520318E-2,0]
[null,4.9168873655396327E-15,6.2195419634221871E-2,6.3481451892288961E-4,0.12305970121397941,-8.3778151165764786E-2,7.0595192163511769,4.6217728328046581,0.65468662824796353,0.43906976007681459,129.98845249069458,4.3581328296530143E-2,455.66595113352287,0.15277147338393249,3.9904056743074817E-2,3.7950405354849295E-2,0.32987961498941226,2.7384991635925005E-2,-4.0881215388295464E-2,3.9131556083959074E-2,1.8925005748809197E-2,2.7384991635874822E-2,0]
[null,3.469605574356403E-19,6.7505252560478693E-2,7.6077995736461353E-4,0.1474782813753594,-0.10040214325929543,8.2273758274995288,5.3656873709129131,0.65217482261821724,0.55539108314533303,177.86483664942327,5.9632880382064171E-2,458.33333333333337,0.15366576866258877,4.7609532615159544E-2,4.1903419681531696E-2,0.46135819486480845,2.8277046552225595E-2,-2.2807698191894179E-2,2.4831105921115926E-2,2.1675662473252678E-2,2.8277046552237908E-2,0]
[null,-4.4356020559053335E-16,7.3437125604676246E-2,8.7915766311347818E-4,0.17042596871648835,-0.11602476219956807,9.2601264172149946,6.0169217608530792,0.64976669753312966,0.68003706681619813,229.6851922439125,7.700673079980061E-2,457.23148522249795,0.15329635120025942,5.5227850373783749E-2,4.4512200699823402E-2,0.6037474464157393,2.8353722866920485E-2,-2.5331082645346073E-2,2.7518776937607171E-2,2.0972789297896696E-2,2.8353722866937197E-2,0]
[null,-3.8018732058162772E-22,8.0084861800030091E-2,8.0322125151080091E-4,0.15570558686551447,-0.10600323310626833,8.6047481702081807,5.6044180713793095,0.65131691951000092,0.68911006803518393,230.68434089358982,7.7341716134915195E-2,344.80558356815953,0.1156032328105172,5.2424281184921491E-2,3.7291747105121363E-2,0.65084855135958186,2.8153001603885373E-2,5.348856385706003E-2,-7.136803611037712E-2,5.1944823644562946E-2,2.8153001603885373E-2,0]
[null,-3.9680070215462126E-24,8.7559791299448214E-2,7.589601804503962E-4,0.14712551502130744,-0.10016198248656145,8.2110155190031868,5.35531853167456,0.65221147363325083,0.71895480520044952,236.54140810904181,7.9305419558415302E-2,260.81444995122291,8.7443460938323531E-2,5.1149555703629349E-2,3.2228659602305157E-2,0.71081676382054126,2.8240884182844983E-2,1.620725285997025E-2,-2.0603368021196673E-2,3.4697219338027108E-2,2.8240884182844983E-2,0]
[null,2.8938985860933056E-24,9.5994684279247358E-2,7.2684530602114012E-4,0.14090000074275205,-9.5923697563322988E-2,7.9198478960951526,5.1705241389888323,0.65285649507715138,0.76026329832531558,243.27336941832445,8.1562449396664877E-2,191.1846019939475,6.4098608338584079E-2,5.0371787923233137E-2,2.8152876547515221E-2,0.77772713938339644,2.8476531780520214E-2,-3.3680182989186433E-3,8.5352825159312664E-3,2.3875588801077877E-2,2.8476531780520214E-2,0]
[null,-3.0101922571042602E-23,0.10554872685841464,7.2595225389928254E-4,0.14072688131336222,-9.5805839112651697E-2,7.9116847261094803,5.1653362911606653,0.65287438389884955,0.8350682501460206,258.68561802430992,8.6729725823263423E-2,135.96067096170083,4.5583638569915055E-2,5.1176023327523926E-2,2.5573079526293493E-2,0.87621433739936894,2.8768524395131306E-2,-1.1034826197296847E-2,2.1215734093584685E-2,1.8650999087066054E-2,2.8768524395131306E-2,0]
[null,3.1264859281152156E-22,0.11641386182692361,7.2273332835720637E-4,0.14010288799936232,-9.5381028994708961E-2,7.8822314213383118,5.1466150498502268,0.65293884114054479,0.91760099957151386,272.20650484370691,9.1262883931123431E-2,84.020098989313652,2.816948311483566E-2,5.1482123070299438E-2,2.3083483928379733E-2,0.98069440038780165,2.8844279640295619E-2,-1.2467472319252071E-2,2.3876027195600245E-2,1.7419928431709683E-2,2.8844279640295616E-2,0]
[null,-3.2427795991261714E-23,0.12882293018018509,7.8204412137743444E-4,0.15160036994135934,-0.1032084312284213,8.4174505264930506,5.4860375408683515,0.65174574220562609,1.0843606414695766,309.39703182670513,0.10373178047470707,38.933102294141968,1.3053131106433141E-2,5.4783886617278385E-2,2.2571792691030892E-2,1.1750392908378504,2.826114334067047E-2,-1.4045609395384713E-2,2.7278070459991727E-2,1.5601355144962054E-2,2.8261143340670473E-2,0]
[null,-4.7986761001958954E-24,0.14306020987399781,9.1784214572999934E-4,0.17792501092567375,-0.12113005569209134,9.5843573631305574,6.2199529722453777,0.64896922522656675,1.3711401758768538,379.39632961899144,0.12720049880436482,-11.26557374061295,-3.7770175598757037E-3,6.0717137180960612E-2,2.3854872980918932E-2,1.5021176922410944,2.4884310430158228E-2,-1.3880675225599326E-2,2.6836515795602447E-2,1.5892471757313564E-2,2.4884310430158235E-2,0]
[null,7.3896230788640062E-15,0.15947517602038869,1.0632928266216301E-3,0.20612083316720653,-0.140325566770789,10.746540243556959,6.941424814015555,0.64592181825004147,1.7138063969514368,457.0781251848274,0.15324493406265047,-74.506497831186991,-2.4979850748189491E-2,6.388287187653699E-2,2.4790641452515905E-2,1.8920311817622768,1.6978205232488434E-2,-1.7452510104596371E-2,3.8959855128276238E-2,5.741125893758095E-3,1.6978205232488441E-2,0]
[null,-5.1309437316557699E-22,0.17850063403985802,1.0840138064749558E-3,0.2101376247080454,-0.14306016928964782,10.90492106925447,7.0389210323415492,0.64548115365889347,1.9465353250165296,458.33333333333337,0.15366576866258877,-134.15779038323299,-4.49791854137759E-2,5.7442173658518551E-2,2.2579952340092826E-2,2.1451802790928944,9.0041051956939663E-3,-9.6787692161457682E-3,7.5756193197049843E-3,3.7292781010491653E-2,9.0041051956939698E-3,0]
[null,-6.4624346078105605E-18,0.20067685341513844,1.0385972971252127E-3,0.20133356950110995,-0.13706643242272792,10.417803816046455,6.8140972066748899,0.65408192811033683,2.0906120893004241,458.33333333333337,0.15366576866258877,-180.18802323583753,-6.0411776933077914E-2,4.7692199830291972E-2,1.9243225791219336E-2,2.304689634896091,3.3425368073036407E-3,1.4285210647486654E-2,-9.9060973694910723E-2,0.15577009246666054,{"$f":"S452*Q472^2+T452*Q472+U452","v":3.3425368074467832E-3},0.10303556719799878]
[null,0,{"$f":"C453","v":0.22668403164997661},{"$f":"D453+(D472-D452)","v":1.068863382765407E-3},0.2072006934322364,-0.14106072779937193,10.237091632513209,6.8924076665827156,0.67327791075858789,2.320585203628335,458.33333333333337,0.15366576866258877,-234.52726430529782,-7.8630136018489533E-2,4.0735689638885644E-2,1.7531910361932728E-2,2.5528811083094132,-4.0211931166664605E-3,null,null,null,null,0.20594318580878934]
[null,"De","hc","e0","a'","b'","N'","tN'","t","Nc","sac","Nac","sat","Nat","Mtot","u","N","Mo","a''","b''","c''",null,"x"]
[null,null,{"$f":"$C$35","v":4.0138687861173784E-2},{"$f":"$D$35","v":3.210578024372992E-4},{"$f":"$E$35","v":6.2237513577017019E-2},{"$f":"$F$35","v":-4.2370847395201951E-2},{"$f":"IF($C$2=1,0.5*($O$31*D475*$F$6/$O$30)*(1-W475^2+(E475-F475)*(F475^2*(1-W475^2)+2*F475*(1-W475)+2*LN((1-F475)/(1-F475*W475)))/(F475^3)),$F$6*F475*(LN((1-E475+E475^2)/(1+E475)^2)/(6*E475)+ATAN((2-E475)/(E475*3^0.5))/(E475*3^0.5)-LN((W475^2-E475*W475+E475^2)/(W475+E475)^2)/(6*E475)-ATAN((2*W475-E475)/(E475*3^0.5))/(E475*3^0.5)))","v":3.8254468270961333},{"$f":"IF($C$2=1,($O$31*D475*$F$6/$O$30)*(1-W475^3-(E475-F475)*(-2*F475^3*(1-W475^3)-3*F475^2*(1-W475^2)-6*F475*(1-W475)-6*LN((1-F475)/(1-F475*W475)))/(2*F475^4))/3,$F$6*F475*(LN((1+E475^3)/(E475^3+W475^3)))/3)","v":2.5276172507990187},{"$f":"$I$35","v":0.66073778176593112},{"$f":"$J$35","v":0.15354841612232933},{"$f":"$K$35","v":0.6365191476987323},{"$f":"$L$35","v":2.1340626348999612E-4},{"$f":"$M$35","v":458.32156291626706},{"$f":"$N$35","v":0.15366182238581935},{"$f":"$O$35","v":1.9422167141878287E-2},{"$f":"$P$35","v":2.9740483717744983E-2},{"$f":"$Q$35","v":9.9999999999988987E-5},{"$f":"$R$35","v":1.9419193093506513E-2},null,null,null,null,{"$f":"IF(C475<$C$6,0,(C475-$C$6)/C475)","v":0}]
[null,{"$f":"IF(R456>$Q$29*V456,B456,IF(Q456>Q455,$U$6,-0.5)*B456)","v":-3.9768977969850197E-26},{"$f":"IF(Q456>Q455,C456,(1-$T$6)*C456+$T$6*C457)","v":4.5181422537606569E-2},{"$f":"D456+B476","v":3.9334484870015113E-4},{"$f":"IF($C$2=1,D476/($O$31*$O$30),2^(1/3)*$O$30/D476)","v":7.6250460744389861E-2},{"$f":"IF($C$2=1,-($O$31-2)*D476/$O$30,3*($O$30/D476)^2)","v":-5.1910760091923788E-2},{"$f":"IF($C$2=1,0.5*($O$31*D476*$F$6/$O$30)*(1-W476^2+(E476-F476)*(F476^2*(1-W476^2)+2*F476*(1-W476)+2*LN((1-F476)/(1-F476*W476)))/(F476^3)),$F$6*F476*(LN((1-E476+E476^2)/(1+E476)^2)/(6*E476)+ATAN((2-E476)/(E476*3^0.5))/(E476*3^0.5)-LN((W476^2-E476*W476+E476^2)/(W476+E476)^2)/(6*E476)-ATAN((2*W476-E476)/(E476*3^0.5))/(E476*3^0.5)))","v":4.613110708371468},{"$f":"IF($C$2=1,($O$31*D476*$F$6/$O$30)*(1-W476^3-(E476-F476)*(-2*F476^3*(1-W476^3)-3*F476^2*(1-W476^2)-6*F476*(1-W476)-6*LN((1-F476)/(1-F476*W476)))/(2*F476^4))/3,$F$6*F476*(LN((1+E476^3)/(E476^3+W476^3)))/3)","v":3.0417370707038054},{"$f":"H476/G476","v":0.6593678892604784},{"$f":"G476*C476*$D$6","v":0.20842690412768886},{"$f":"MAX(MIN($K$6,$Q$6*$J$6*D476*(C476-$I$6)/C476),-$K$6)","v":25.883055331143311},{"$f":"K476*$H$6","v":8.6778318388286233E-3},{"$f":"MIN($O$6,$Q$6*$N$6*D476*(C$6-C476-$M$6)/C476)","v":458.33333333333337},{"$f":"M476*$L$6","v":0.15366576866258877},{"$f":"(0.5*$C$6-C476+I476*C476)*J476+(0.5*$C$6-$I$6)*L476+(0.5*$C$6-$M$6)*N476","v":2.3667860626519786E-2},{"$f":"0.1*$Q$6*D476*$B$6^2/C476+$R$6","v":3.2369913344933235E-2},{"$f":"(J476+L476-N476)","v":6.3438967303928701E-2},{"$f":"O476-P476*Q476","v":2.1614346752199563E-2},{"$f":"((R476-R475)*(Q476-Q477)-(R476-R477)*(Q476-Q475))/((Q476^2-Q475^2)*(Q476-Q477)-(Q476^2-Q477^2)*(Q476-Q475))","v":-5.0906690086739578E-2},{"$f":"-(S476*(Q476^2-Q475^2)-(R476-R475))/(Q476-Q475)","v":3.7891796424874044E-2},{"$f":"R476-S476*Q476^2-T476*Q476","v":1.9415404422930927E-2},{"$f":"S456*Q476^2+T456*Q476+U456","v":2.1614346752199563E-2},{"$f":"IF(C476<$C$6,0,(C476-$C$6)/C476)","v":0}]
[null,{"$f":"IF(R457>$Q$29*V457,B457,IF(Q457>Q456,$U$6,-0.5)*B457)","v":-9.2191671472819378E-26},{"$f":"IF(Q457>Q456,C457,(1-$T$6)*C457+$T$6*C458)","v":4.9415891915262342E-2},{"$f":"D457+B477","v":4.5831677895414393E-4},8.8845362225090027E-2,-6.048527758025446E-2,5.298963348818206,3.4873783855907905,0.65812464741213172,0.26185300010813706,50.108747538653482,1.6799998270356629E-2,458.33333333333337,0.15366576866258877,2.7666294009989843E-2,{"$f":"0.1*$Q$6*D477*$B$6^2/C477+$R$6","v":3.4484750565600325E-2},0.1249872297159049,2.3356140569351473E-2,-2.4406838503766199E-2,3.2898530169504357E-2,1.9625523356776232E-2,{"$f":"MAX(S457*Q477^2+T457*Q477+U457,S458*Q477^2+T458*Q477+U458)","v":2.3356140569351473E-2},0]
[null,2.0798428890166165E-24,5.3135963724627852E-2,4.9935638089130207E-4,9.6800947678454222E-2,-6.5901382398883657E-2,5.7215793302330873,3.7609846786577479,0.65733330984061211,0.30402163173884583,70.833213832193195,2.3748306000797411E-2,458.33333333333337,0.15366576866258877,3.0697047575934798E-2,3.494218127080094E-2,0.17410416907705448,2.4613468140042186E-2,-4.5103014443447699E-2,3.908857838096888E-2,1.9175158057438441E-2,{"$f":"MAX(S458*Q478^2+T458*Q478+U458,S459*Q478^2+T459*Q478+U459)","v":2.4613468140042186E-2},0]
[null,-5.6969288289327761E-14,5.7428181372141097E-2,5.5145394461994859E-4,0.10690013481945004,-7.2776835683777394E-2,6.2464148896740621,4.0996583167316905,0.65632180845188948,0.35872024720984474,96.0260842896882,3.2194739026982125E-2,454.95558292652311,0.15253330768961523,3.4441229960449404E-2,3.5703612035610496E-2,0.23838167854721162,2.5930142993202149E-2,-2.9426200331745249E-2,3.2622114424055236E-2,1.9825796699704024E-2,2.5930142994460219E-2,0]
[null,-4.9168873655396333E-16,6.2195419634221871E-2,6.3481451892239793E-4,0.12305970121388408,-8.3778151165699893E-2,7.0595192163461364,4.6217728328055534,0.65468662824855783,0.43906976007650111,129.98845249059389,4.3581328296496379E-2,455.66595113316993,0.15277147338381417,3.9904056743061966E-2,3.7950405354819902E-2,0.32987961498918328,2.7384991635930538E-2,-4.088121544961823E-2,3.91315561324167E-2,1.8925005739505514E-2,2.7384991635922763E-2,0]
[null,-3.4696055743564031E-20,6.7505252560478693E-2,7.6077995736461353E-4,0.1474782813753594,-0.10040214325929543,8.2273758274995288,5.3656873709129131,0.65217482261821724,0.55539108314533303,177.86483664942327,5.9632880382064171E-2,458.33333333333337,0.15366576866258877,4.7609532615159544E-2,4.1903419681531696E-2,0.46135819486480845,2.8277046552225595E-2,-2.280769819097871E-2,2.4831105920332445E-2,2.1675662473419288E-2,2.8277046552225595E-2,0]
[null,4.4356020559053339E-17,7.3437125604676246E-2,8.7915766311352252E-4,0.17042596871649696,-0.11602476219957394,9.2601264172148632,6.0169217608582066,0.64976669753369265,0.68003706681618858,229.68519224392404,7.7006730799804482E-2,457.23148522252097,0.15329635120026713,5.5227850373811824E-2,4.4512200699825644E-2,0.60374744641572597,2.83537228669478E-2,-2.5331082649412931E-2,2.7518776942130355E-2,2.0972789296675523E-2,2.8353722866920575E-2,0]
[null,3.8018732058162777E-23,8.0084861800030091E-2,8.0322125151080091E-4,0.15570558686551447,-0.10600323310626833,8.6047481702081807,5.6044180713793095,0.65131691951000092,0.68911006803518393,230.68434089358982,7.7341716134915195E-2,344.80558356815953,0.1156032328105172,5.2424281184921491E-2,3.7291747105121363E-2,0.65084855135958186,2.8153001603885373E-2,5.3488563862457969E-2,-7.136803611772731E-2,5.1944823647060226E-2,2.8153001603885369E-2,0]
[null,3.9680070215462129E-25,8.7559791299448214E-2,7.589601804503962E-4,0.14712551502130744,-0.10016198248656145,8.2110155190031868,5.35531853167456,0.65221147363325083,0.71895480520044952,236.54140810904181,7.9305419558415302E-2,260.81444995122291,8.7443460938323531E-2,5.1149555703629349E-2,3.2228659602305157E-2,0.71081676382054126,2.8240884182844983E-2,1.620725285997025E-2,-2.0603368021196673E-2,3.4697219338027108E-2,2.8240884182844983E-2,0]
[null,-2.8938985860933059E-25,9.5994684279247358E-2,7.2684530602114012E-4,0.14090000074275205,-9.5923697563322988E-2,7.9198478960951526,5.1705241389888323,0.65285649507715138,0.76026329832531558,243.27336941832445,8.1562449396664877E-2,191.1846019939475,6.4098608338584079E-2,5.0371787923233137E-2,2.8152876547515221E-2,0.77772713938339644,2.8476531780520214E-2,-3.3680182989186433E-3,8.5352825159312664E-3,2.3875588801077877E-2,2.8476531780520214E-2,0]
[null,3.0101922571042604E-24,0.10554872685841464,7.2595225389928254E-4,0.14072688131336222,-9.5805839112651697E-2,7.9116847261094803,5.1653362911606653,0.65287438389884955,0.8350682501460206,258.68561802430992,8.6729725823263423E-2,135.96067096170083,4.5583638569915055E-2,5.1176023327523926E-2,2.5573079526293493E-2,0.87621433739936894,2.8768524395131306E-2,-1.1034826197296847E-2,2.1215734093584685E-2,1.8650999087066054E-2,2.8768524395131306E-2,0]
[null,-3.1264859281152155E-23,0.11641386182692361,7.2273332835720637E-4,0.14010288799936232,-9.5381028994708961E-2,7.8822314213383118,5.1466150498502268,0.65293884114054479,0.91760099957151386,272.20650484370691,9.1262883931123431E-2,84.020098989313652,2.816948311483566E-2,5.1482123070299438E-2,2.3083483928379733E-2,0.98069440038780165,2.8844279640295619E-2,-1.2467472319252071E-2,2.3876027195600245E-2,1.7419928431709683E-2,2.8844279640295616E-2,0]
[null,3.2427795991261715E-24,0.12882293018018509,7.8204412137743444E-4,0.15160036994135934,-0.1032084312284213,8.4174505264930506,5.4860375408683515,0.65174574220562609,1.0843606414695766,309.39703182670513,0.10373178047470707,38.933102294141968,1.3053131106433141E-2,5.4783886617278385E-2,2.2571792691030892E-2,1.1750392908378504,2.826114334067047E-2,-1.4045609395384713E-2,2.7278070459991727E-2,1.5601355144962054E-2,2.8261143340670467E-2,0]
[null,4.7986761001958956E-25,0.14306020987399781,9.1784214572999934E-4,0.17792501092567375,-0.12113005569209134,9.5843573631305574,6.2199529722453777,0.64896922522656675,1.3711401758768538,379.39632961899144,0.12720049880436482,-11.26557374061295,-3.7770175598757037E-3,6.0717137180960612E-2,2.3854872980918932E-2,1.5021176922410944,2.4884310430158228E-2,-1.3880675225501659E-2,2.6836515795340979E-2,1.5892471757485947E-2,2.4884310430158228E-2,0]
[null,-7.389623078864007E-16,0.15947517602038869,1.0632928266208911E-3,0.20612083316706328,-0.14032556677069147,10.746540243551214,6.9414248140130566,0.64592181825015427,1.7138063969505206,457.0781251845097,0.15324493406254394,-74.506497831135206,-2.497985074817213E-2,6.3882871876532618E-2,2.4790641452498673E-2,1.8920311817612367,1.6978205232542454E-2,-1.7452510104858317E-2,3.8959855129231627E-2,5.7411258929140341E-3,1.6978205232518646E-2,0]
[null,5.1309437316557701E-23,0.17850063403985802,1.0840138064749558E-3,0.2101376247080454,-0.14306016928964782,10.90492106925447,7.0389210323415492,0.64548115365889347,1.9465353250165296,458.33333333333337,0.15366576866258877,-134.15779038323299,-4.49791854137759E-2,5.7442173658518551E-2,2.2579952340092826E-2,2.1451802790928944,9.0041051956939663E-3,-9.6787692168357389E-3,7.575619322396498E-3,3.7292781007892975E-2,9.0041051956939733E-3,0]
[null,6.4624346078105607E-19,0.20067685341513844,1.0385972971252134E-3,0.20133356950111006,-0.13706643242272801,10.417803816046661,6.8140972066734848,0.65408192811018906,2.0906120893004654,458.33333333333337,0.15366576866258877,-180.18802323583762,-6.0411776933077942E-2,4.7692199830230854E-2,1.924322579121935E-2,2.3046896348961323,3.3425368072416972E-3,1.4285210650986205E-2,-9.9060973710863004E-2,0.15577009248477686,{"$f":"S472*Q492^2+T472*Q492+U472","v":3.3425368073022599E-3},0.10303556719799878]
[null,null,{"$f":"C473","v":0.22668403164997661},{"$f":"D473+(D492-D472)","v":1.0688633827654077E-3},0.20720069343223654,-0.14106072779937201,10.237091632512653,6.8924076665862808,0.6732779107589727,2.3205852036282089,458.33333333333337,0.15366576866258877,-234.52726430529796,-7.8630136018489574E-2,4.073568963908606E-2,1.7531910361932742E-2,2.5528811083092875,-4.0211931164638795E-3,null,null,null,null,0.20594318580878934]
[null,"De","hc","e0","a'","b'","N'","tN'","t","Nc","sac","Nac","sat","Nat","Mtot","u","N","Mo","a''","b''","c''",null,"x"]
[null,null,{"$f":"$C$35","v":4.0138687861173784E-2},{"$f":"$D$35","v":3.210578024372992E-4},{"$f":"$E$35","v":6.2237513577017019E-2},{"$f":"$F$35","v":-4.2370847395201951E-2},{"$f":"IF($C$2=1,0.5*($O$31*D495*$F$6/$O$30)*(1-W495^2+(E495-F495)*(F495^2*(1-W495^2)+2*F495*(1-W495)+2*LN((1-F495)/(1-F495*W495)))/(F495^3)),$F$6*F495*(LN((1-E495+E495^2)/(1+E495)^2)/(6*E495)+ATAN((2-E495)/(E495*3^0.5))/(E495*3^0.5)-LN((W495^2-E495*W495+E495^2)/(W495+E495)^2)/(6*E495)-ATAN((2*W495-E495)/(E495*3^0.5))/(E495*3^0.5)))","v":3.8254468270961333},{"$f":"IF($C$2=1,($O$31*D495*$F$6/$O$30)*(1-W495^3-(E495-F495)*(-2*F495^3*(1-W495^3)-3*F495^2*(1-W495^2)-6*F495*(1-W495)-6*LN((1-F495)/(1-F495*W495)))/(2*F495^4))/3,$F$6*F495*(LN((1+E495^3)/(E495^3+W495^3)))/3)","v":2.5276172507990187},{"$f":"$I$35","v":0.66073778176593112},{"$f":"$J$35","v":0.15354841612232933},{"$f":"$K$35","v":0.6365191476987323},{"$f":"$L$35","v":2.1340626348999612E-4},{"$f":"$M$35","v":458.32156291626706},{"$f":"$N$35","v":0.15366182238581935},{"$f":"$O$35","v":1.9422167141878287E-2},{"$f":"$P$35","v":2.9740483717744983E-2},{"$f":"$Q$35","v":9.9999999999988987E-5},{"$f":"$R$35","v":1.9419193093506513E-2},null,null,null,null,{"$f":"IF(C495<$C$6,0,(C495-$C$6)/C495)","v":0}]
[null,{"$f":"IF(R476>$Q$29*V476,B476,IF(Q476>Q475,$U$6,-0.5)*B476)","v":3.9768977969850203E-27},{"$f":"IF(Q476>Q475,C476,(1-$T$6)*C476+$T$6*C477)","v":4.5181422537606569E-2},{"$f":"D476+B496","v":3.9334484870015113E-4},{"$f":"IF($C$2=1,D496/($O$31*$O$30),2^(1/3)*$O$30/D496)","v":7.6250460744389861E-2},{"$f":"IF($C$2=1,-($O$31-2)*D496/$O$30,3*($O$30/D496)^2)","v":-5.1910760091923788E-2},{"$f":"IF($C$2=1,0.5*($O$31*D496*$F$6/$O$30)*(1-W496^2+(E496-F496)*(F496^2*(1-W496^2)+2*F496*(1-W496)+2*LN((1-F496)/(1-F496*W496)))/(F496^3)),$F$6*F496*(LN((1-E496+E496^2)/(1+E496)^2)/(6*E496)+ATAN((2-E496)/(E496*3^0.5))/(E496*3^0.5)-LN((W496^2-E496*W496+E496^2)/(W496+E496)^2)/(6*E496)-ATAN((2*W496-E496)/(E496*3^0.5))/(E496*3^0.5)))","v":4.613110708371468},{"$f":"IF($C$2=1,($O$31*D496*$F$6/$O$30)*(1-W496^3-(E496-F496)*(-2*F496^3*(1-W496^3)-3*F496^2*(1-W496^2)-6*F496*(1-W496)-6*LN((1-F496)/(1-F496*W496)))/(2*F496^4))/3,$F$6*F496*(LN((1+E496^3)/(E496^3+W496^3)))/3)","v":3.0417370707038054},{"$f":"H496/G496","v":0.6593678892604784},{"$f":"G496*C496*$D$6","v":0.20842690412768886},{"$f":"MAX(MIN($K$6,$Q$6*$J$6*D496*(C496-$I$6)/C496),-$K$6)","v":25.883055331143311},{"$f":"K496*$H$6","v":8.6778318388286233E-3},{"$f":"MIN($O$6,$Q$6*$N$6*D496*(C$6-C496-$M$6)/C496)","v":458.33333333333337},{"$f":"M496*$L$6","v":0.15366576866258877},{"$f":"(0.5*$C$6-C496+I496*C496)*J496+(0.5*$C$6-$I$6)*L496+(0.5*$C$6-$M$6)*N496","v":2.3667860626519786E-2},{"$f":"0.1*$Q$6*D496*$B$6^2/C496+$R$6","v":3.2369913344933235E-2},{"$f":"(J496+L496-N496)","v":6.3438967303928701E-2},{"$f":"O496-P496*Q496","v":2.1614346752199563E-2},{"$f":"((R496-R495)*(Q496-Q497)-(R496-R497)*(Q496-Q495))/((Q496^2-Q495^2)*(Q496-Q497)-(Q496^2-Q497^2)*(Q496-Q495))","v":-5.0906690086739578E-2},{"$f":"-(S496*(Q496^2-Q495^2)-(R496-R495))/(Q496-Q495)","v":3.7891796424874044E-2},{"$f":"R496-S496*Q496^2-T496*Q496","v":1.9415404422930927E-2},{"$f":"S476*Q496^2+T476*Q496+U476","v":2.1614346752199563E-2},{"$f":"IF(C496<$C$6,0,(C496-$C$6)/C496)","v":0}]
[null,{"$f":"IF(R477>$Q$29*V477,B477,IF(Q477>Q476,$U$6,-0.5)*B477)","v":9.2191671472819381E-27},{"$f":"IF(Q477>Q476,C477,(1-$T$6)*C477+$T$6*C478)","v":4.9415891915262342E-2},{"$f":"D477+B497","v":4.5831677895414393E-4},8.8845362225090027E-2,-6.048527758025446E-2,5.298963348818206,3.4873783855907905,0.65812464741213172,0.26185300010813706,50.108747538653482,1.6799998270356629E-2,458.33333333333337,0.15366576866258877,2.7666294009989843E-2,{"$f":"0.1*$Q$6*D497*$B$6^2/C497+$R$6","v":3.4484750565600325E-2},0.1249872297159049,2.3356140569351473E-2,-2.4406838503766199E-2,3.2898530169504357E-2,1.9625523356776232E-2,{"$f":"MAX(S477*Q497^2+T477*Q497+U477,S478*Q497^2+T478*Q497+U478)","v":2.3356140569351473E-2},0]
[null,-2.0798428890166166E-25,5.3135963724627852E-2,4.9935638089130207E-4,9.6800947678454222E-2,-6.5901382398883657E-2,5.7215793302330873,3.7609846786577479,0.65733330984061211,0.30402163173884583,70.833213832193195,2.3748306000797411E-2,458.33333333333337,0.15366576866258877,3.0697047575934798E-2,3.494218127080094E-2,0.17410416907705448,2.4613468140042186E-2,-4.5103014425995833E-2,3.9088578375749181E-2,1.9175158057818206E-2,{"$f":"MAX(S478*Q498^2+T478*Q498+U478,S479*Q498^2+T479*Q498+U479)","v":2.4613468140042186E-2},0]
[null,5.6969288289327764E-15,5.7428181372141097E-2,5.5145394462564553E-4,0.1069001348205544,-7.2776835684529237E-2,6.246414889730791,4.0996583167683669,0.65632180845180055,0.35872024721310258,96.026084290680217,3.219473902731472E-2,454.95558293122315,0.152533307691191,3.4441229960771896E-2,3.5703612035979347E-2,0.23838167854922632,2.5930142993364779E-2,-2.9426200353630954E-2,3.2622114435030145E-2,1.982579669845665E-2,2.5930142993241721E-2,0]
[null,4.9168873655396336E-17,6.2195419634221871E-2,6.3481451892244715E-4,0.12305970121389363,-8.3778151165706388E-2,7.059519216346926,4.6217728328035728,0.65468662824820401,0.43906976007655019,129.98845249060398,4.3581328296499765E-2,455.66595113320528,0.15277147338382602,3.9904056743056429E-2,3.7950405354822844E-2,0.32987961498922391,2.7384991635922486E-2,-4.0881215442876019E-2,3.9131556127147006E-2,1.8925005740501644E-2,2.7384991635931034E-2,0]
[null,3.4696055743564034E-21,6.7505252560478693E-2,7.6077995736461353E-4,0.1474782813753594,-0.10040214325929543,8.2273758274995288,5.3656873709129131,0.65217482261821724,0.55539108314533303,177.86483664942327,5.9632880382064171E-2,458.33333333333337,0.15366576866258877,4.7609532615159544E-2,4.1903419681531696E-2,0.46135819486480845,2.8277046552225595E-2,-2.2807698191499425E-2,2.4831105920808724E-2,2.1675662473310389E-2,2.8277046552225595E-2,0]
[null,-4.4356020559053339E-18,7.3437125604676246E-2,8.7915766311351807E-4,0.1704259687164961,-0.11602476219957333,9.2601264172150231,6.0169217608561807,0.64976669753346261,0.68003706681620024,229.6851922439229,7.7006730799804093E-2,457.23148522251864,0.15329635120026636,5.5227850373801034E-2,4.4512200699825415E-2,0.60374744641573796,2.8353722866936614E-2,-2.5331082647750421E-2,2.7518776940281309E-2,2.0972789297174728E-2,2.8353722866947761E-2,0]
[null,-3.8018732058162778E-24,8.0084861800030091E-2,8.0322125151080091E-4,0.15570558686551447,-0.10600323310626833,8.6047481702081807,5.6044180713793095,0.65131691951000092,0.68911006803518393,230.68434089358982,7.7341716134915195E-2,344.80558356815953,0.1156032328105172,5.2424281184921491E-2,3.7291747105121363E-2,0.65084855135958186,2.8153001603885373E-2,5.3488563860256522E-2,-7.136803611472968E-2,5.1944823646041756E-2,2.8153001603885376E-2,0]
[null,-3.968007021546213E-26,8.7559791299448214E-2,7.589601804503962E-4,0.14712551502130744,-0.10016198248656145,8.2110155190031868,5.35531853167456,0.65221147363325083,0.71895480520044952,236.54140810904181,7.9305419558415302E-2,260.81444995122291,8.7443460938323531E-2,5.1149555703629349E-2,3.2228659602305157E-2,0.71081676382054126,2.8240884182844983E-2,1.620725285997025E-2,-2.0603368021196673E-2,3.4697219338027108E-2,2.8240884182844983E-2,0]
[null,2.8938985860933058E-26,9.5994684279247358E-2,7.2684530602114012E-4,0.14090000074275205,-9.5923697563322988E-2,7.9198478960951526,5.1705241389888323,0.65285649507715138,0.76026329832531558,243.27336941832445,8.1562449396664877E-2,191.1846019939475,6.4098608338584079E-2,5.0371787923233137E-2,2.8152876547515221E-2,0.77772713938339644,2.8476531780520214E-2,-3.3680182989186433E-3,8.5352825159312664E-3,2.3875588801077877E-2,2.8476531780520214E-2,0]
[null,-3.0101922571042608E-25,0.10554872685841464,7.2595225389928254E-4,0.14072688131336222,-9.5805839112651697E-2,7.9116847261094803,5.1653362911606653,0.65287438389884955,0.8350682501460206,258.68561802430992,8.6729725823263423E-2,135.96067096170083,4.5583638569915055E-2,5.1176023327523926E-2,2.5573079526293493E-2,0.87621433739936894,2.8768524395131306E-2,-1.1034826197296847E-2,2.1215734093584685E-2,1.8650999087066054E-2,2.8768524395131306E-2,0]
[null,3.1264859281152156E-24,0.11641386182692361,7.2273332835720637E-4,0.14010288799936232,-9.5381028994708961E-2,7.8822314213383118,5.1466150498502268,0.65293884114054479,0.91760099957151386,272.20650484370691,9.1262883931123431E-2,84.020098989313652,2.816948311483566E-2,5.1482123070299438E-2,2.3083483928379733E-2,0.98069440038780165,2.8844279640295619E-2,-1.2467472319252071E-2,2.3876027195600245E-2,1.7419928431709683E-2,2.8844279640295616E-2,0]
[null,-3.2427795991261715E-25,0.12882293018018509,7.8204412137743444E-4,0.15160036994135934,-0.1032084312284213,8.4174505264930506,5.4860375408683515,0.65174574220562609,1.0843606414695766,309.39703182670513,0.10373178047470707,38.933102294141968,1.3053131106433141E-2,5.4783886617278385E-2,2.2571792691030892E-2,1.1750392908378504,2.826114334067047E-2,-1.4045609395384713E-2,2.7278070459991727E-2,1.5601355144962054E-2,2.8261143340670467E-2,0]
[null,-4.7986761001958957E-26,0.14306020987399781,9.1784214572999934E-4,0.17792501092567375,-0.12113005569209134,9.5843573631305574,6.2199529722453777,0.64896922522656675,1.3711401758768538,379.39632961899144,0.12720049880436482,-11.26557374061295,-3.7770175598757037E-3,6.0717137180960612E-2,2.3854872980918932E-2,1.5021176922410944,2.4884310430158228E-2,-1.388067522548737E-2,2.6836515795302725E-2,1.5892471757511177E-2,2.4884310430158228E-2,0]
[null,7.3896230788640077E-17,0.15947517602038869,1.063292826620965E-3,0.20612083316707761,-0.14032556677070124,10.746540243551696,6.9414248140135308,0.64592181825016948,1.7138063969505974,457.07812518454153,0.15324493406255463,-74.506497831140379,-2.4979850748173864E-2,6.3882871876539807E-2,2.4790641452500397E-2,1.8920311817613258,1.6978205232544168E-2,-1.7452510104900051E-2,3.8959855129383845E-2,5.7411258927795583E-3,1.6978205232540046E-2,0]
[null,-5.1309437316557701E-24,0.17850063403985802,1.0840138064749558E-3,0.2101376247080454,-0.14306016928964782,10.90492106925447,7.0389210323415492,0.64548115365889347,1.9465353250165296,458.33333333333337,0.15366576866258877,-134.15779038323299,-4.49791854137759E-2,5.7442173658518551E-2,2.2579952340092826E-2,2.1451802790928944,9.0041051956939663E-3,-9.6787692167945999E-3,7.5756193222134378E-3,3.7292781008096361E-2,9.0041051956939733E-3,0]
[null,-6.4624346078105607E-20,0.20067685341513844,1.0385972971252134E-3,0.20133356950111006,-0.13706643242272801,10.417803816046661,6.8140972066734848,0.65408192811018906,2.0906120893004654,458.33333333333337,0.15366576866258877,-180.18802323583762,-6.0411776933077942E-2,4.7692199830230854E-2,1.924322579121935E-2,2.3046896348961323,3.3425368072416972E-3,1.4285210650986205E-2,-9.9060973710863004E-2,0.15577009248477686,{"$f":"S492*Q512^2+T492*Q512+U492","v":3.342536807241725E-3},0.10303556719799878]
[null,null,{"$f":"C493","v":0.22668403164997661},{"$f":"D493+(D512-D492)","v":1.0688633827654077E-3},0.20720069343223654,-0.14106072779937201,10.237091632512653,6.8924076665862808,0.6732779107589727,2.3205852036282089,458.33333333333337,0.15366576866258877,-234.52726430529796,-7.8630136018489574E-2,4.073568963908606E-2,1.7531910361932742E-2,2.5528811083092875,-4.0211931164638795E-3,null,null,null,null,0.20594318580878934]
[null,"De","hc","e0","a'","b'","N'","tN'","t","Nc","sac","Nac","sat","Nat","Mtot","u","N","Mo","a''","b''","c''",null,"x"]
[null,null,{"$f":"$C$35","v":4.0138687861173784E-2},{"$f":"$D$35","v":3.210578024372992E-4},{"$f":"$E$35","v":6.2237513577017019E-2},{"$f":"$F$35","v":-4.2370847395201951E-2},{"$f":"IF($C$2=1,0.5*($O$31*D515*$F$6/$O$30)*(1-W515^2+(E515-F515)*(F515^2*(1-W515^2)+2*F515*(1-W515)+2*LN((1-F515)/(1-F515*W515)))/(F515^3)),$F$6*F515*(LN((1-E515+E515^2)/(1+E515)^2)/(6*E515)+ATAN((2-E515)/(E515*3^0.5))/(E515*3^0.5)-LN((W515^2-E515*W515+E515^2)/(W515+E515)^2)/(6*E515)-ATAN((2*W515-E515)/(E515*3^0.5))/(E515*3^0.5)))","v":3.8254468270961333},{"$f":"IF($C$2=1,($O$31*D515*$F$6/$O$30)*(1-W515^3-(E515-F515)*(-2*F515^3*(1-W515^3)-3*F515^2*(1-W515^2)-6*F515*(1-W515)-6*LN((1-F515)/(1-F515*W515)))/(2*F515^4))/3,$F$6*F515*(LN((1+E515^3)/(E515^3+W515^3)))/3)","v":2.5276172507990187},{"$f":"$I$35","v":0.66073778176593112},{"$f":"$J$35","v":0.15354841612232933},{"$f":"$K$35","v":0.6365191476987323},{"$f":"$L$35","v":2.1340626348999612E-4},{"$f":"$M$35","v":458.32156291626706},{"$f":"$N$35","v":0.15366182238581935},{"$f":"$O$35","v":1.9422167141878287E-2},{"$f":"$P$35","v":2.9740483717744983E-2},{"$f":"$Q$35","v":9.9999999999988987E-5},{"$f":"$R$35","v":1.9419193093506513E-2},null,null,null,null,{"$f":"IF(C515<$C$6,0,(C515-$C$6)/C515)","v":0}]
[null,{"$f":"IF(R496>$Q$29*V496,B496,IF(Q496>Q495,$U$6,-0.5)*B496)","v":-3.9768977969850206E-28},{"$f":"IF(Q496>Q495,C496,(1-$T$6)*C496+$T$6*C497)","v":4.5181422537606569E-2},{"$f":"D496+B516","v":3.9334484870015113E-4},{"$f":"IF($C$2=1,D516/($O$31*$O$30),2^(1/3)*$O$30/D516)","v":7.6250460744389861E-2},{"$f":"IF($C$2=1,-($O$31-2)*D516/$O$30,3*($O$30/D516)^2)","v":-5.1910760091923788E-2},{"$f":"IF($C$2=1,0.5*($O$31*D516*$F$6/$O$30)*(1-W516^2+(E516-F516)*(F516^2*(1-W516^2)+2*F516*(1-W516)+2*LN((1-F516)/(1-F516*W516)))/(F516^3)),$F$6*F516*(LN((1-E516+E516^2)/(1+E516)^2)/(6*E516)+ATAN((2-E516)/(E516*3^0.5))/(E516*3^0.5)-LN((W516^2-E516*W516+E516^2)/(W516+E516)^2)/(6*E516)-ATAN((2*W516-E516)/(E516*3^0.5))/(E516*3^0.5)))","v":4.613110708371468},{"$f":"IF($C$2=1,($O$31*D516*$F$6/$O$30)*(1-W516^3-(E516-F516)*(-2*F516^3*(1-W516^3)-3*F516^2*(1-W516^2)-6*F516*(1-W516)-6*LN((1-F516)/(1-F516*W516)))/(2*F516^4))/3,$F$6*F516*(LN((1+E516^3)/(E516^3+W516^3)))/3)","v":3.0417370707038054},{"$f":"H516/G516","v":0.6593678892604784},{"$f":"G516*C516*$D$6","v":0.20842690412768886},{"$f":"MAX(MIN($K$6,$Q$6*$J$6*D516*(C516-$I$6)/C516),-$K$6)","v":25.883055331143311},{"$f":"K516*$H$6","v":8.6778318388286233E-3},{"$f":"MIN($O$6,$Q$6*$N$6*D516*(C$6-C516-$M$6)/C516)","v":458.33333333333337},{"$f":"M516*$L$6","v":0.15366576866258877},{"$f":"(0.5*$C$6-C516+I516*C516)*J516+(0.5*$C$6-$I$6)*L516+(0.5*$C$6-$M$6)*N516","v":2.3667860626519786E-2},{"$f":"0.1*$Q$6*D516*$B$6^2/C516+$R$6","v":3.2369913344933235E-2},{"$f":"(J516+L516-N516)","v":6.3438967303928701E-2},{"$f":"O516-P516*Q516","v":2.1614346752199563E-2},{"$f":"((R516-R515)*(Q516-Q517)-(R516-R517)*(Q516-Q515))/((Q516^2-Q515^2)*(Q516-Q517)-(Q516^2-Q517^2)*(Q516-Q515))","v":-5.0906690086739578E-2},{"$f":"-(S516*(Q516^2-Q515^2)-(R516-R515))/(Q516-Q515)","v":3.7891796424874044E-2},{"$f":"R516-S516*Q516^2-T516*Q516","v":1.9415404422930927E-2},{"$f":"S496*Q516^2+T496*Q516+U496","v":2.1614346752199563E-2},{"$f":"IF(C516<$C$6,0,(C516-$C$6)/C516)","v":0}]
[null,{"$f":"IF(R497>$Q$29*V497,B497,IF(Q497>Q496,$U$6,-0.5)*B497)","v":-9.2191671472819389E-28},{"$f":"IF(Q497>Q496,C497,(1-$T$6)*C497+$T$6*C498)","v":4.9415891915262342E-2},{"$f":"D497+B517","v":4.5831677895414393E-4},8.8845362225090027E-2,-6.048527758025446E-2,5.298963348818206,3.4873783855907905,0.65812464741213172,0.26185300010813706,50.108747538653482,1.6799998270356629E-2,458.33333333333337,0.15366576866258877,2.7666294009989843E-2,{"$f":"0.1*$Q$6*D517*$B$6^2/C517+$R$6","v":3.4484750565600325E-2},0.1249872297159049,2.3356140569351473E-2,-2.4406838503766199E-2,3.2898530169504357E-2,1.9625523356776232E-2,{"$f":"MAX(S497*Q517^2+T497*Q517+U497,S498*Q517^2+T498*Q517+U498)","v":2.3356140569351473E-2},0]
[null,2.0798428890166166E-26,5.3135963724627852E-2,4.9935638089130207E-4,9.6800947678454222E-2,-6.5901382398883657E-2,5.7215793302330873,3.7609846786577479,0.65733330984061211,0.30402163173884583,70.833213832193195,2.3748306000797411E-2,458.33333333333337,0.15366576866258877,3.0697047575934798E-2,3.494218127080094E-2,0.17410416907705448,2.4613468140042186E-2,-4.5103014431953893E-2,3.9088578377531186E-2,1.9175158057688553E-2,{"$f":"MAX(S498*Q518^2+T498*Q518+U498,S499*Q518^2+T499*Q518+U499)","v":2.4613468140042186E-2},0]
[null,-5.696928828932777E-16,5.7428181372141097E-2,5.5145394462507589E-4,0.10690013482044397,-7.2776835684454061E-2,6.2464148897256919,4.0996583167555949,0.65632180845029164,0.35872024721280976,96.026084290581025,3.2194739027281462E-2,454.95558293075322,0.15253330769103346,3.4441229960710695E-2,3.570361203594246E-2,0.23838167854905778,2.5930142993318389E-2,-2.9426200346985103E-2,3.2622114431615862E-2,1.9825796698849641E-2,2.5930142993361646E-2,0]
[null,-4.9168873655396336E-18,6.2195419634221871E-2,6.3481451892244227E-4,0.12305970121389269,-8.3778151165705736E-2,7.059519216347014,4.6217728328009979,0.65468662824783119,0.43906976007655568,129.98845249060298,4.3581328296499432E-2,455.66595113320182,0.15277147338382485,3.9904056743046548E-2,3.7950405354822553E-2,0.32987961498923024,2.7384991635912462E-2,-4.0881215444147946E-2,3.9131556128230237E-2,1.8925005740272616E-2,2.7384991635922569E-2,0]
[null,-3.4696055743564037E-22,6.7505252560478693E-2,7.6077995736461353E-4,0.1474782813753594,-0.10040214325929543,8.2273758274995288,5.3656873709129131,0.65217482261821724,0.55539108314533303,177.86483664942327,5.9632880382064171E-2,458.33333333333337,0.15366576866258877,4.7609532615159544E-2,4.1903419681531696E-2,0.46135819486480845,2.8277046552225595E-2,-2.280769819215642E-2,2.4831105921405271E-2,2.1675662473175011E-2,2.8277046552225599E-2,0]
[null,4.4356020559053343E-19,7.3437125604676246E-2,8.7915766311351851E-4,0.17042596871649618,-0.11602476219957342,9.2601264172153144,6.0169217608535561,0.64976669753315874,0.68003706681622167,229.68519224392304,7.7006730799804149E-2,457.23148522251887,0.15329635120026644,5.5227850373787246E-2,4.4512200699825442E-2,0.60374744641575939,2.8353722866921859E-2,-2.5331082645560062E-2,2.7518776937845171E-2,2.0972789297832434E-2,2.8353722866936552E-2,0]
[null,3.8018732058162782E-25,8.0084861800030091E-2,8.0322125151080091E-4,0.15570558686551447,-0.10600323310626833,8.6047481702081807,5.6044180713793095,0.65131691951000092,0.68911006803518393,230.68434089358982,7.7341716134915195E-2,344.80558356815953,0.1156032328105172,5.2424281184921491E-2,3.7291747105121363E-2,0.65084855135958186,2.8153001603885373E-2,5.3488563857359527E-2,-7.1368036110784933E-2,5.1944823644701502E-2,2.8153001603885373E-2,0]
[null,3.9680070215462132E-27,8.7559791299448214E-2,7.589601804503962E-4,0.14712551502130744,-0.10016198248656145,8.2110155190031868,5.35531853167456,0.65221147363325083,0.71895480520044952,236.54140810904181,7.9305419558415302E-2,260.81444995122291,8.7443460938323531E-2,5.1149555703629349E-2,3.2228659602305157E-2,0.71081676382054126,2.8240884182844983E-2,1.620725285997025E-2,-2.0603368021196673E-2,3.4697219338027108E-2,2.8240884182844983E-2,0]
[null,-2.8938985860933058E-27,9.5994684279247358E-2,7.2684530602114012E-4,0.14090000074275205,-9.5923697563322988E-2,7.9198478960951526,5.1705241389888323,0.65285649507715138,0.76026329832531558,243.27336941832445,8.1562449396664877E-2,191.1846019939475,6.4098608338584079E-2,5.0371787923233137E-2,2.8152876547515221E-2,0.77772713938339644,2.8476531780520214E-2,-3.3680182989186433E-3,8.5352825159312664E-3,2.3875588801077877E-2,2.8476531780520214E-2,0]
[null,3.0101922571042611E-26,0.10554872685841464,7.2595225389928254E-4,0.14072688131336222,-9.5805839112651697E-2,7.9116847261094803,5.1653362911606653,0.65287438389884955,0.8350682501460206,258.68561802430992,8.6729725823263423E-2,135.96067096170083,4.5583638569915055E-2,5.1176023327523926E-2,2.5573079526293493E-2,0.87621433739936894,2.8768524395131306E-2,-1.1034826197296847E-2,2.1215734093584685E-2,1.8650999087066054E-2,2.8768524395131306E-2,0]
[null,-3.1264859281152157E-25,0.11641386182692361,7.2273332835720637E-4,0.14010288799936232,-9.5381028994708961E-2,7.8822314213383118,5.1466150498502268,0.65293884114054479,0.91760099957151386,272.20650484370691,9.1262883931123431E-2,84.020098989313652,2.816948311483566E-2,5.1482123070299438E-2,2.3083483928379733E-2,0.98069440038780165,2.8844279640295619E-2,-1.2467472319252071E-2,2.3876027195600245E-2,1.7419928431709683E-2,2.8844279640295616E-2,0]
[null,3.2427795991261718E-26,0.12882293018018509,7.8204412137743444E-4,0.15160036994135934,-0.1032084312284213,8.4174505264930506,5.4860375408683515,0.65174574220562609,1.0843606414695766,309.39703182670513,0.10373178047470707,38.933102294141968,1.3053131106433141E-2,5.4783886617278385E-2,2.2571792691030892E-2,1.1750392908378504,2.826114334067047E-2,-1.4045609395384713E-2,2.7278070459991727E-2,1.5601355144962054E-2,2.8261143340670473E-2,0]
[null,4.7986761001958959E-27,0.14306020987399781,9.1784214572999934E-4,0.17792501092567375,-0.12113005569209134,9.5843573631305574,6.2199529722453777,0.64896922522656675,1.3711401758768538,379.39632961899144,0.12720049880436482,-11.26557374061295,-3.7770175598757037E-3,6.0717137180960612E-2,2.3854872980918932E-2,1.5021176922410944,2.4884310430158228E-2,-1.3880675225753904E-2,2.6836515796016275E-2,1.5892471757040734E-2,2.4884310430158228E-2,0]
[null,-7.3896230788640077E-18,0.15947517602038869,1.0632928266209576E-3,0.20612083316707619,-0.14032556677070027,10.746540243552053,6.9414248140107437,0.6459218182498887,1.7138063969506543,457.07812518453829,0.15324493406255354,-74.506497831139868,-2.4979850748173691E-2,6.3882871876464908E-2,2.4790641452500223E-2,1.8920311817613815,1.6978205232468221E-2,-1.7452510104145915E-2,3.8959855126633289E-2,5.7411258952096145E-3,1.6978205232542662E-2,0]
[null,5.1309437316557705E-25,0.17850063403985802,1.0840138064749558E-3,0.2101376247080454,-0.14306016928964782,10.90492106925447,7.0389210323415492,0.64548115365889347,1.9465353250165296,458.33333333333337,0.15366576866258877,-134.15779038323299,-4.49791854137759E-2,5.7442173658518551E-2,2.2579952340092826E-2,2.1451802790928944,9.0041051956939663E-3,-9.6787692175060985E-3,7.5756193253795154E-3,3.7292781004578723E-2,9.0041051956939733E-3,0]
[null,6.4624346078105611E-21,0.20067685341513844,1.0385972971252134E-3,0.20133356950111006,-0.13706643242272801,10.417803816046661,6.8140972066734848,0.65408192811018906,2.0906120893004654,458.33333333333337,0.15366576866258877,-180.18802323583762,-6.0411776933077942E-2,4.7692199830230854E-2,1.924322579121935E-2,2.3046896348961323,3.3425368072416972E-3,1.4285210650986205E-2,-9.9060973710863004E-2,0.15577009248477686,{"$f":"S512*Q532^2+T512*Q532+U512","v":3.342536807241725E-3},0.10303556719799878]
[null,null,{"$f":"C513","v":0.22668403164997661},{"$f":"D513+(D532-D512)","v":1.0688633827654077E-3},0.20720069343223654,-0.14106072779937201,10.237091632512653,6.8924076665862808,0.6732779107589727,2.3205852036282089,458.33333333333337,0.15366576866258877,-234.52726430529796,-7.8630136018489574E-2,4.073568963908606E-2,1.7531910361932742E-2,2.5528811083092875,-4.0211931164638795E-3,null,null,null,null,0.20594318580878934]
[null,"De","hc","e0","a'","b'","N'","tN'","t","Nc","sac","Nac","sat","Nat","Mtot","u","N","Mo","a''","b''","c''",null,"x"]
[null,null,{"$f":"$C$35","v":4.0138687861173784E-2},{"$f":"$D$35","v":3.210578024372992E-4},{"$f":"$E$35","v":6.2237513577017019E-2},{"$f":"$F$35","v":-4.2370847395201951E-2},{"$f":"IF($C$2=1,0.5*($O$31*D535*$F$6/$O$30)*(1-W535^2+(E535-F535)*(F535^2*(1-W535^2)+2*F535*(1-W535)+2*LN((1-F535)/(1-F535*W535)))/(F535^3)),$F$6*F535*(LN((1-E535+E535^2)/(1+E535)^2)/(6*E535)+ATAN((2-E535)/(E535*3^0.5))/(E535*3^0.5)-LN((W535^2-E535*W535+E535^2)/(W535+E535)^2)/(6*E535)-ATAN((2*W535-E535)/(E535*3^0.5))/(E535*3^0.5)))","v":3.8254468270961333},{"$f":"IF($C$2=1,($O$31*D535*$F$6/$O$30)*(1-W535^3-(E535-F535)*(-2*F535^3*(1-W535^3)-3*F535^2*(1-W535^2)-6*F535*(1-W535)-6*LN((1-F535)/(1-F535*W535)))/(2*F535^4))/3,$F$6*F535*(LN((1+E535^3)/(E535^3+W535^3)))/3)","v":2.5276172507990187},{"$f":"$I$35","v":0.66073778176593112},{"$f":"$J$35","v":0.15354841612232933},{"$f":"$K$35","v":0.6365191476987323},{"$f":"$L$35","v":2.1340626348999612E-4},{"$f":"$M$35","v":458.32156291626706},{"$f":"$N$35","v":0.15366182238581935},{"$f":"$O$35","v":1.9422167141878287E-2},{"$f":"$P$35","v":2.9740483717744983E-2},{"$f":"$Q$35","v":9.9999999999988987E-5},{"$f":"$R$35","v":1.9419193093506513E-2},null,null,null,null,{"$f":"IF(C535<$C$6,0,(C535-$C$6)/C535)","v":0}]
[null,{"$f":"IF(R516>$Q$29*V516,B516,IF(Q516>Q515,$U$6,-0.5)*B516)","v":3.9768977969850207E-29},{"$f":"IF(Q516>Q515,C516,(1-$T$6)*C516+$T$6*C517)","v":4.5181422537606569E-2},{"$f":"D516+B536","v":3.9334484870015113E-4},{"$f":"IF($C$2=1,D536/($O$31*$O$30),2^(1/3)*$O$30/D536)","v":7.6250460744389861E-2},{"$f":"IF($C$2=1,-($O$31-2)*D536/$O$30,3*($O$30/D536)^2)","v":-5.1910760091923788E-2},{"$f":"IF($C$2=1,0.5*($O$31*D536*$F$6/$O$30)*(1-W536^2+(E536-F536)*(F536^2*(1-W536^2)+2*F536*(1-W536)+2*LN((1-F536)/(1-F536*W536)))/(F536^3)),$F$6*F536*(LN((1-E536+E536^2)/(1+E536)^2)/(6*E536)+ATAN((2-E536)/(E536*3^0.5))/(E536*3^0.5)-LN((W536^2-E536*W536+E536^2)/(W536+E536)^2)/(6*E536)-ATAN((2*W536-E536)/(E536*3^0.5))/(E536*3^0.5)))","v":4.613110708371468},{"$f":"IF($C$2=1,($O$31*D536*$F$6/$O$30)*(1-W536^3-(E536-F536)*(-2*F536^3*(1-W536^3)-3*F536^2*(1-W536^2)-6*F536*(1-W536)-6*LN((1-F536)/(1-F536*W536)))/(2*F536^4))/3,$F$6*F536*(LN((1+E536^3)/(E536^3+W536^3)))/3)","v":3.0417370707038054},{"$f":"H536/G536","v":0.6593678892604784},{"$f":"G536*C536*$D$6","v":0.20842690412768886},{"$f":"MAX(MIN($K$6,$Q$6*$J$6*D536*(C536-$I$6)/C536),-$K$6)","v":25.883055331143311},{"$f":"K536*$H$6","v":8.6778318388286233E-3},{"$f":"MIN($O$6,$Q$6*$N$6*D536*(C$6-C536-$M$6)/C536)","v":458.33333333333337},{"$f":"M536*$L$6","v":0.15366576866258877},{"$f":"(0.5*$C$6-C536+I536*C536)*J536+(0.5*$C$6-$I$6)*L536+(0.5*$C$6-$M$6)*N536","v":2.3667860626519786E-2},{"$f":"0.1*$Q$6*D536*$B$6^2/C536+$R$6","v":3.2369913344933235E-2},{"$f":"(J536+L536-N536)","v":6.3438967303928701E-2},{"$f":"O536-P536*Q536","v":2.1614346752199563E-2},{"$f":"((R536-R535)*(Q536-Q537)-(R536-R537)*(Q536-Q535))/((Q536^2-Q535^2)*(Q536-Q537)-(Q536^2-Q537^2)*(Q536-Q535))","v":-5.0906690086739578E-2},{"$f":"-(S536*(Q536^2-Q535^2)-(R536-R535))/(Q536-Q535)","v":3.7891796424874044E-2},{"$f":"R536-S536*Q536^2-T536*Q536","v":1.9415404422930927E-2},{"$f":"S516*Q536^2+T516*Q536+U516","v":2.1614346752199563E-2},{"$f":"IF(C536<$C$6,0,(C536-$C$6)/C536)","v":0}]
[null,{"$f":"IF(R517>$Q$29*V517,B517,IF(Q517>Q516,$U$6,-0.5)*B517)","v":9.2191671472819395E-29},{"$f":"IF(Q517>Q516,C517,(1-$T$6)*C517+$T$6*C518)","v":4.9415891915262342E-2},{"$f":"D517+B537","v":4.5831677895414393E-4},8.8845362225090027E-2,-6.048527758025446E-2,5.298963348818206,3.4873783855907905,0.65812464741213172,0.26185300010813706,50.108747538653482,1.6799998270356629E-2,458.33333333333337,0.15366576866258877,2.7666294009989843E-2,{"$f":"0.1*$Q$6*D537*$B$6^2/C537+$R$6","v":3.4484750565600325E-2},0.1249872297159049,2.3356140569351473E-2,-2.4406838503766199E-2,3.2898530169504357E-2,1.9625523356776232E-2,{"$f":"MAX(S517*Q537^2+T517*Q537+U517,S518*Q537^2+T518*Q537+U518)","v":2.3356140569351473E-2},0]
[null,-2.0798428890166168E-27,5.3135963724627852E-2,4.9935638089130207E-4,9.6800947678454222E-2,-6.5901382398883657E-2,5.7215793302330873,3.7609846786577479,0.65733330984061211,0.30402163173884583,70.833213832193195,2.3748306000797411E-2,458.33333333333337,0.15366576866258877,3.0697047575934798E-2,3.494218127080094E-2,0.17410416907705448,2.4613468140042186E-2,-4.5103014429745757E-2,3.9088578376870749E-2,1.9175158057736605E-2,{"$f":"MAX(S518*Q538^2+T518*Q538+U518,S519*Q538^2+T519*Q538+U519)","v":2.4613468140042186E-2},0]
[null,5.6969288289327772E-17,5.7428181372141097E-2,5.5145394462513282E-4,0.106900134820455,-7.2776835684461569E-2,6.2464148897260454,4.0996583167603786,0.65632180845102028,0.35872024721283008,96.026084290590944,3.2194739027284792E-2,454.95558293080018,0.1525333076910492,3.4441229960728091E-2,3.5703612035946151E-2,0.2383816785490657,2.5930142993334623E-2,-2.9426200347414926E-2,3.2622114432043423E-2,1.9825796698788228E-2,2.5930142993318545E-2,0]
[null,4.9168873655396337E-19,6.2195419634221871E-2,6.3481451892244281E-4,0.12305970121389279,-8.3778151165705819E-2,7.0595192163462306,4.6217728328091976,0.65468662824906532,0.43906976007650694,129.98845249060312,4.358132829649948E-2,455.66595113320221,0.15277147338382499,3.990405674307692E-2,3.7950405354822588E-2,0.32987961498918139,2.7384991635944676E-2,-4.0881215446087069E-2,3.9131556129515001E-2,1.8925005740092621E-2,2.7384991635911987E-2,0]
[null,3.4696055743564037E-23,6.7505252560478693E-2,7.6077995736461353E-4,0.1474782813753594,-0.10040214325929543,8.2273758274995288,5.3656873709129131,0.65217482261821724,0.55539108314533303,177.86483664942327,5.9632880382064171E-2,458.33333333333337,0.15366576866258877,4.7609532615159544E-2,4.1903419681531696E-2,0.46135819486480845,2.8277046552225595E-2,-2.2807698191248511E-2,2.4831105920438253E-2,2.1675662473427899E-2,2.8277046552225599E-2,0]
[null,-4.4356020559053344E-20,7.3437125604676246E-2,8.7915766311351851E-4,0.17042596871649618,-0.11602476219957342,9.2601264172153144,6.0169217608535561,0.64976669753315874,0.68003706681622167,229.68519224392304,7.7006730799804149E-2,457.23148522251887,0.15329635120026644,5.5227850373787246E-2,4.4512200699825442E-2,0.60374744641575939,2.8353722866921859E-2,-2.5331082645560062E-2,2.7518776937845171E-2,2.0972789297832434E-2,2.8353722866921855E-2,0]
[null,-3.8018732058162782E-26,8.0084861800030091E-2,8.0322125151080091E-4,0.15570558686551447,-0.10600323310626833,8.6047481702081807,5.6044180713793095,0.65131691951000092,0.68911006803518393,230.68434089358982,7.7341716134915195E-2,344.80558356815953,0.1156032328105172,5.2424281184921491E-2,3.7291747105121363E-2,0.65084855135958186,2.8153001603885373E-2,5.3488563857359527E-2,-7.1368036110784933E-2,5.1944823644701502E-2,2.8153001603885373E-2,0]
[null,-3.9680070215462135E-28,8.7559791299448214E-2,7.589601804503962E-4,0.14712551502130744,-0.10016198248656145,8.2110155190031868,5.35531853167456,0.65221147363325083,0.71895480520044952,236.54140810904181,7.9305419558415302E-2,260.81444995122291,8.7443460938323531E-2,5.1149555703629349E-2,3.2228659602305157E-2,0.71081676382054126,2.8240884182844983E-2,1.620725285997025E-2,-2.0603368021196673E-2,3.4697219338027108E-2,2.8240884182844983E-2,0]
[null,2.8938985860933059E-28,9.5994684279247358E-2,7.2684530602114012E-4,0.14090000074275205,-9.5923697563322988E-2,7.9198478960951526,5.1705241389888323,0.65285649507715138,0.76026329832531558,243.27336941832445,8.1562449396664877E-2,191.1846019939475,6.4098608338584079E-2,5.0371787923233137E-2,2.8152876547515221E-2,0.77772713938339644,2.8476531780520214E-2,-3.3680182989186433E-3,8.5352825159312664E-3,2.3875588801077877E-2,2.8476531780520214E-2,0]
[null,-3.0101922571042612E-27,0.10554872685841464,7.2595225389928254E-4,0.14072688131336222,-9.5805839112651697E-2,7.9116847261094803,5.1653362911606653,0.65287438389884955,0.8350682501460206,258.68561802430992,8.6729725823263423E-2,135.96067096170083,4.5583638569915055E-2,5.1176023327523926E-2,2.5573079526293493E-2,0.87621433739936894,2.8768524395131306E-2,-1.1034826197296847E-2,2.1215734093584685E-2,1.8650999087066054E-2,2.8768524395131306E-2,0]
[null,3.1264859281152159E-26,0.11641386182692361,7.2273332835720637E-4,0.14010288799936232,-9.5381028994708961E-2,7.8822314213383118,5.1466150498502268,0.65293884114054479,0.91760099957151386,272.20650484370691,9.1262883931123431E-2,84.020098989313652,2.816948311483566E-2,5.1482123070299438E-2,2.3083483928379733E-2,0.98069440038780165,2.8844279640295619E-2,-1.2467472319252071E-2,2.3876027195600245E-2,1.7419928431709683E-2,2.8844279640295616E-2,0]
[null,-3.2427795991261717E-27,0.12882293018018509,7.8204412137743444E-4,0.15160036994135934,-0.1032084312284213,8.4174505264930506,5.4860375408683515,0.65174574220562609,1.0843606414695766,309.39703182670513,0.10373178047470707,38.933102294141968,1.3053131106433141E-2,5.4783886617278385E-2,2.2571792691030892E-2,1.1750392908378504,2.826114334067047E-2,-1.4045609395384713E-2,2.7278070459991727E-2,1.5601355144962054E-2,2.8261143340670477E-2,0]
[null,-4.7986761001958959E-28,0.14306020987399781,9.1784214572999934E-4,0.17792501092567375,-0.12113005569209134,9.5843573631305574,6.2199529722453777,0.64896922522656675,1.3711401758768538,379.39632961899144,0.12720049880436482,-11.26557374061295,-3.7770175598757037E-3,6.0717137180960612E-2,2.3854872980918932E-2,1.5021176922410944,2.4884310430158228E-2,-1.3880675225493628E-2,2.6836515795319472E-2,1.589247175750013E-2,2.4884310430158228E-2,0]
[null,7.3896230788640081E-19,0.15947517602038869,1.0632928266209583E-3,0.2061208331670763,-0.14032556677070035,10.746540243551687,6.9414248140134482,0.64592181825016237,1.7138063969505959,457.07812518453858,0.15324493406255363,-74.50649783113991,-2.4979850748173705E-2,6.3882871876537753E-2,2.4790641452500241E-2,1.8920311817613233,1.6978205232542475E-2,-1.7452510104882288E-2,3.8959855129319064E-2,5.7411258928367903E-3,1.6978205232469908E-2,0]
[null,-5.1309437316557705E-26,0.17850063403985802,1.0840138064749558E-3,0.2101376247080454,-0.14306016928964782,10.90492106925447,7.0389210323415492,0.64548115365889347,1.9465353250165296,458.33333333333337,0.15366576866258877,-134.15779038323299,-4.49791854137759E-2,5.7442173658518551E-2,2.2579952340092826E-2,2.1451802790928944,9.0041051956939663E-3,-9.6787692168114406E-3,7.5756193222883796E-3,3.7292781008013087E-2,9.0041051956939733E-3,0]
[null,-6.4624346078105613E-22,0.20067685341513844,1.0385972971252134E-3,0.20133356950111006,-0.13706643242272801,10.417803816046661,6.8140972066734848,0.65408192811018906,2.0906120893004654,458.33333333333337,0.15366576866258877,-180.18802323583762,-6.0411776933077942E-2,4.7692199830230854E-2,1.924322579121935E-2,2.3046896348961323,3.3425368072416972E-3,1.4285210650986205E-2,-9.9060973710863004E-2,0.15577009248477686,{"$f":"S532*Q552^2+T532*Q552+U532","v":3.342536807241725E-3},0.10303556719799878]
[null,null,{"$f":"C533","v":0.22668403164997661},{"$f":"D533+(D552-D532)","v":1.0688633827654077E-3},0.20720069343223654,-0.14106072779937201,10.237091632512653,6.8924076665862808,0.6732779107589727,2.3205852036282089,458.33333333333337,0.15366576866258877,-234.52726430529796,-7.8630136018489574E-2,4.073568963908606E-2,1.7531910361932742E-2,2.5528811083092875,-4.0211931164638795E-3,null,null,null,null,0.20594318580878934]
[null,"De","hc","e0","a'","b'","N'","tN'","t","Nc","sac","Nac","sat","Nat","Mtot","u","N","Mo","a''","b''","c''",null,"x"]
[null,null,{"$f":"$C$35","v":4.0138687861173784E-2},{"$f":"$D$35","v":3.210578024372992E-4},{"$f":"$E$35","v":6.2237513577017019E-2},{"$f":"$F$35","v":-4.2370847395201951E-2},{"$f":"IF($C$2=1,0.5*($O$31*D555*$F$6/$O$30)*(1-W555^2+(E555-F555)*(F555^2*(1-W555^2)+2*F555*(1-W555)+2*LN((1-F555)/(1-F555*W555)))/(F555^3)),$F$6*F555*(LN((1-E555+E555^2)/(1+E555)^2)/(6*E555)+ATAN((2-E555)/(E555*3^0.5))/(E555*3^0.5)-LN((W555^2-E555*W555+E555^2)/(W555+E555)^2)/(6*E555)-ATAN((2*W555-E555)/(E555*3^0.5))/(E555*3^0.5)))","v":3.8254468270961333},{"$f":"IF($C$2=1,($O$31*D555*$F$6/$O$30)*(1-W555^3-(E555-F555)*(-2*F555^3*(1-W555^3)-3*F555^2*(1-W555^2)-6*F555*(1-W555)-6*LN((1-F555)/(1-F555*W555)))/(2*F555^4))/3,$F$6*F555*(LN((1+E555^3)/(E555^3+W555^3)))/3)","v":2.5276172507990187},{"$f":"$I$35","v":0.66073778176593112},{"$f":"$J$35","v":0.15354841612232933},{"$f":"$K$35","v":0.6365191476987323},{"$f":"$L$35","v":2.1340626348999612E-4},{"$f":"$M$35","v":458.32156291626706},{"$f":"$N$35","v":0.15366182238581935},{"$f":"$O$35","v":1.9422167141878287E-2},{"$f":"$P$35","v":2.9740483717744983E-2},{"$f":"$Q$35","v":9.9999999999988987E-5},{"$f":"$R$35","v":1.9419193093506513E-2},null,null,null,null,{"$f":"IF(C555<$C$6,0,(C555-$C$6)/C555)","v":0}]
[null,{"$f":"IF(R536>$Q$29*V536,B536,IF(Q536>Q535,$U$6,-0.5)*B536)","v":-3.9768977969850209E-30},{"$f":"IF(Q536>Q535,C536,(1-$T$6)*C536+$T$6*C537)","v":4.5181422537606569E-2},{"$f":"D536+B556","v":3.9334484870015113E-4},{"$f":"IF($C$2=1,D556/($O$31*$O$30),2^(1/3)*$O$30/D556)","v":7.6250460744389861E-2},{"$f":"IF($C$2=1,-($O$31-2)*D556/$O$30,3*($O$30/D556)^2)","v":-5.1910760091923788E-2},{"$f":"IF($C$2=1,0.5*($O$31*D556*$F$6/$O$30)*(1-W556^2+(E556-F556)*(F556^2*(1-W556^2)+2*F556*(1-W556)+2*LN((1-F556)/(1-F556*W556)))/(F556^3)),$F$6*F556*(LN((1-E556+E556^2)/(1+E556)^2)/(6*E556)+ATAN((2-E556)/(E556*3^0.5))/(E556*3^0.5)-LN((W556^2-E556*W556+E556^2)/(W556+E556)^2)/(6*E556)-ATAN((2*W556-E556)/(E556*3^0.5))/(E556*3^0.5)))","v":4.613110708371468},{"$f":"IF($C$2=1,($O$31*D556*$F$6/$O$30)*(1-W556^3-(E556-F556)*(-2*F556^3*(1-W556^3)-3*F556^2*(1-W556^2)-6*F556*(1-W556)-6*LN((1-F556)/(1-F556*W556)))/(2*F556^4))/3,$F$6*F556*(LN((1+E556^3)/(E556^3+W556^3)))/3)","v":3.0417370707038054},{"$f":"H556/G556","v":0.6593678892604784},{"$f":"G556*C556*$D$6","v":0.20842690412768886},{"$f":"MAX(MIN($K$6,$Q$6*$J$6*D556*(C556-$I$6)/C556),-$K$6)","v":25.883055331143311},{"$f":"K556*$H$6","v":8.6778318388286233E-3},{"$f":"MIN($O$6,$Q$6*$N$6*D556*(C$6-C556-$M$6)/C556)","v":458.33333333333337},{"$f":"M556*$L$6","v":0.15366576866258877},{"$f":"(0.5*$C$6-C556+I556*C556)*J556+(0.5*$C$6-$I$6)*L556+(0.5*$C$6-$M$6)*N556","v":2.3667860626519786E-2},{"$f":"0.1*$Q$6*D556*$B$6^2/C556+$R$6","v":3.2369913344933235E-2},{"$f":"(J556+L556-N556)","v":6.3438967303928701E-2},{"$f":"O556-P556*Q556","v":2.1614346752199563E-2},{"$f":"((R556-R555)*(Q556-Q557)-(R556-R557)*(Q556-Q555))/((Q556^2-Q555^2)*(Q556-Q557)-(Q556^2-Q557^2)*(Q556-Q555))","v":-5.0906690086739578E-2},{"$f":"-(S556*(Q556^2-Q555^2)-(R556-R555))/(Q556-Q555)","v":3.7891796424874044E-2},{"$f":"R556-S556*Q556^2-T556*Q556","v":1.9415404422930927E-2},{"$f":"S536*Q556^2+T536*Q556+U536","v":2.1614346752199563E-2},{"$f":"IF(C556<$C$6,0,(C556-$C$6)/C556)","v":0}]
[null,{"$f":"IF(R537>$Q$29*V537,B537,IF(Q537>Q536,$U$6,-0.5)*B537)","v":-9.2191671472819406E-30},{"$f":"IF(Q537>Q536,C537,(1-$T$6)*C537+$T$6*C538)","v":4.9415891915262342E-2},{"$f":"D537+B557","v":4.5831677895414393E-4},8.8845362225090027E-2,-6.048527758025446E-2,5.298963348818206,3.4873783855907905,0.65812464741213172,0.26185300010813706,50.108747538653482,1.6799998270356629E-2,458.33333333333337,0.15366576866258877,2.7666294009989843E-2,{"$f":"0.1*$Q$6*D557*$B$6^2/C557+$R$6","v":3.4484750565600325E-2},0.1249872297159049,2.3356140569351473E-2,-2.4406838503766199E-2,3.2898530169504357E-2,1.9625523356776232E-2,{"$f":"MAX(S537*Q557^2+T537*Q557+U537,S538*Q557^2+T538*Q557+U538)","v":2.3356140569351473E-2},0]
[null,2.0798428890166169E-28,5.3135963724627852E-2,4.9935638089130207E-4,9.6800947678454222E-2,-6.5901382398883657E-2,5.7215793302330873,3.7609846786577479,0.65733330984061211,0.30402163173884583,70.833213832193195,2.3748306000797411E-2,458.33333333333337,0.15366576866258877,3.0697047575934798E-2,3.494218127080094E-2,0.17410416907705448,2.4613468140042186E-2,-4.5103014426656256E-2,3.9088578375946703E-2,1.9175158057803836E-2,{"$f":"MAX(S538*Q558^2+T538*Q558+U538,S539*Q558^2+T539*Q558+U539)","v":2.4613468140042186E-2},0]
[null,-5.6969288289327777E-18,5.7428181372141097E-2,5.5145394462512707E-4,0.10690013482045389,-7.2776835684460819E-2,6.2464148897254184,4.0996583167670009,0.65632180845214638,0.35872024721279405,96.026084290589949,3.2194739027284452E-2,454.95558293079546,0.15253330769104761,3.4441229960748665E-2,3.5703612035945777E-2,0.23838167854903086,2.5930142993356529E-2,-2.9426200351249744E-2,3.2622114433976106E-2,1.9825796698567981E-2,2.5930142993333974E-2,0]
[null,-4.9168873655396337E-20,6.2195419634221871E-2,6.3481451892244281E-4,0.12305970121389279,-8.3778151165705819E-2,7.0595192163462306,4.6217728328091976,0.65468662824906532,0.43906976007650694,129.98845249060312,4.358132829649948E-2,455.66595113320221,0.15277147338382499,3.990405674307692E-2,3.7950405354822588E-2,0.32987961498918139,2.7384991635944676E-2,-4.0881215444979808E-2,3.9131556128638903E-2,1.8925005740261135E-2,2.7384991635944676E-2,0]
[null,-3.4696055743564038E-24,6.7505252560478693E-2,7.6077995736461353E-4,0.1474782813753594,-0.10040214325929543,8.2273758274995288,5.3656873709129131,0.65217482261821724,0.55539108314533303,177.86483664942327,5.9632880382064171E-2,458.33333333333337,0.15366576866258877,4.7609532615159544E-2,4.1903419681531696E-2,0.46135819486480845,2.8277046552225595E-2,-2.2807698191248511E-2,2.4831105920438253E-2,2.1675662473427899E-2,2.8277046552225592E-2,0]
[null,4.4356020559053344E-21,7.3437125604676246E-2,8.7915766311351851E-4,0.17042596871649618,-0.11602476219957342,9.2601264172153144,6.0169217608535561,0.64976669753315874,0.68003706681622167,229.68519224392304,7.7006730799804149E-2,457.23148522251887,0.15329635120026644,5.5227850373787246E-2,4.4512200699825442E-2,0.60374744641575939,2.8353722866921859E-2,-2.5331082645560062E-2,2.7518776937845171E-2,2.0972789297832434E-2,2.8353722866921855E-2,0]
[null,3.8018732058162785E-27,8.0084861800030091E-2,8.0322125151080091E-4,0.15570558686551447,-0.10600323310626833,8.6047481702081807,5.6044180713793095,0.65131691951000092,0.68911006803518393,230.68434089358982,7.7341716134915195E-2,344.80558356815953,0.1156032328105172,5.2424281184921491E-2,3.7291747105121363E-2,0.65084855135958186,2.8153001603885373E-2,5.3488563857359527E-2,-7.1368036110784933E-2,5.1944823644701502E-2,2.8153001603885373E-2,0]
[null,3.9680070215462137E-29,8.7559791299448214E-2,7.589601804503962E-4,0.14712551502130744,-0.10016198248656145,8.2110155190031868,5.35531853167456,0.65221147363325083,0.71895480520044952,236.54140810904181,7.9305419558415302E-2,260.81444995122291,8.7443460938323531E-2,5.1149555703629349E-2,3.2228659602305157E-2,0.71081676382054126,2.8240884182844983E-2,1.620725285997025E-2,-2.0603368021196673E-2,3.4697219338027108E-2,2.8240884182844983E-2,0]
[null,-2.8938985860933059E-29,9.5994684279247358E-2,7.2684530602114012E-4,0.14090000074275205,-9.5923697563322988E-2,7.9198478960951526,5.1705241389888323,0.65285649507715138,0.76026329832531558,243.27336941832445,8.1562449396664877E-2,191.1846019939475,6.4098608338584079E-2,5.0371787923233137E-2,2.8152876547515221E-2,0.77772713938339644,2.8476531780520214E-2,-3.3680182989186433E-3,8.5352825159312664E-3,2.3875588801077877E-2,2.8476531780520214E-2,0]
[null,3.0101922571042616E-28,0.10554872685841464,7.2595225389928254E-4,0.14072688131336222,-9.5805839112651697E-2,7.9116847261094803,5.1653362911606653,0.65287438389884955,0.8350682501460206,258.68561802430992,8.6729725823263423E-2,135.96067096170083,4.5583638569915055E-2,5.1176023327523926E-2,2.5573079526293493E-2,0.87621433739936894,2.8768524395131306E-2,-1.1034826197296847E-2,2.1215734093584685E-2,1.8650999087066054E-2,2.8768524395131306E-2,0]
[null,-3.1264859281152159E-27,0.11641386182692361,7.2273332835720637E-4,0.14010288799936232,-9.5381028994708961E-2,7.8822314213383118,5.1466150498502268,0.65293884114054479,0.91760099957151386,272.20650484370691,9.1262883931123431E-2,84.020098989313652,2.816948311483566E-2,5.1482123070299438E-2,2.3083483928379733E-2,0.98069440038780165,2.8844279640295619E-2,-1.2467472319252071E-2,2.3876027195600245E-2,1.7419928431709683E-2,2.8844279640295616E-2,0]
[null,3.242779599126172E-28,0.12882293018018509,7.8204412137743444E-4,0.15160036994135934,-0.1032084312284213,8.4174505264930506,5.4860375408683515,0.65174574220562609,1.0843606414695766,309.39703182670513,0.10373178047470707,38.933102294141968,1.3053131106433141E-2,5.4783886617278385E-2,2.2571792691030892E-2,1.1750392908378504,2.826114334067047E-2,-1.4045609395384713E-2,2.7278070459991727E-2,1.5601355144962054E-2,2.8261143340670467E-2,0]
[null,4.7986761001958962E-29,0.14306020987399781,9.1784214572999934E-4,0.17792501092567375,-0.12113005569209134,9.5843573631305574,6.2199529722453777,0.64896922522656675,1.3711401758768538,379.39632961899144,0.12720049880436482,-11.26557374061295,-3.7770175598757037E-3,6.0717137180960612E-2,2.3854872980918932E-2,1.5021176922410944,2.4884310430158228E-2,-1.3880675225493628E-2,2.6836515795319472E-2,1.589247175750013E-2,2.4884310430158235E-2,0]
[null,-7.3896230788640081E-20,0.15947517602038869,1.0632928266209583E-3,0.2061208331670763,-0.14032556677070035,10.746540243551687,6.9414248140134482,0.64592181825016237,1.7138063969505959,457.07812518453858,0.15324493406255363,-74.50649783113991,-2.4979850748173705E-2,6.3882871876537753E-2,2.4790641452500241E-2,1.8920311817613233,1.6978205232542475E-2,-1.7452510104882288E-2,3.8959855129319064E-2,5.7411258928367903E-3,1.6978205232542475E-2,0]
[null,5.1309437316557709E-27,0.17850063403985802,1.0840138064749558E-3,0.2101376247080454,-0.14306016928964782,10.90492106925447,7.0389210323415492,0.64548115365889347,1.9465353250165296,458.33333333333337,0.15366576866258877,-134.15779038323299,-4.49791854137759E-2,5.7442173658518551E-2,2.2579952340092826E-2,2.1451802790928944,9.0041051956939663E-3,-9.6787692168114406E-3,7.5756193222883796E-3,3.7292781008013087E-2,9.0041051956939733E-3,0]
[null,6.4624346078105622E-23,0.20067685341513844,1.0385972971252134E-3,0.20133356950111006,-0.13706643242272801,10.417803816046661,6.8140972066734848,0.65408192811018906,2.0906120893004654,458.33333333333337,0.15366576866258877,-180.18802323583762,-6.0411776933077942E-2,4.7692199830230854E-2,1.924322579121935E-2,2.3046896348961323,3.3425368072416972E-3,1.4285210650986205E-2,-9.9060973710863004E-2,0.15577009248477686,{"$f":"S552*Q572^2+T552*Q572+U552","v":3.342536807241725E-3},0.10303556719799878]
[null,null,{"$f":"C553","v":0.22668403164997661},{"$f":"D553+(D572-D552)","v":1.0688633827654077E-3},0.20720069343223654,-0.14106072779937201,10.237091632512653,6.8924076665862808,0.6732779107589727,2.3205852036282089,458.33333333333337,0.15366576866258877,-234.52726430529796,-7.8630136018489574E-2,4.073568963908606E-2,1.7531910361932742E-2,2.5528811083092875,-4.0211931164638795E-3,null,null,null,null,0.20594318580878934]
[null,"De","hc","e0","a'","b'","N'","tN'","t","Nc","sac","Nac","sat","Nat","Mtot","u","N","Mo","a''","b''","c''",null,"x"]
[null,null,{"$f":"$C$35","v":4.0138687861173784E-2},{"$f":"$D$35","v":3.210578024372992E-4},{"$f":"$E$35","v":6.2237513577017019E-2},{"$f":"$F$35","v":-4.2370847395201951E-2},{"$f":"IF($C$2=1,0.5*($O$31*D575*$F$6/$O$30)*(1-W575^2+(E575-F575)*(F575^2*(1-W575^2)+2*F575*(1-W575)+2*LN((1-F575)/(1-F575*W575)))/(F575^3)),$F$6*F575*(LN((1-E575+E575^2)/(1+E575)^2)/(6*E575)+ATAN((2-E575)/(E575*3^0.5))/(E575*3^0.5)-LN((W575^2-E575*W575+E575^2)/(W575+E575)^2)/(6*E575)-ATAN((2*W575-E575)/(E575*3^0.5))/(E575*3^0.5)))","v":3.8254468270961333},{"$f":"IF($C$2=1,($O$31*D575*$F$6/$O$30)*(1-W575^3-(E575-F575)*(-2*F575^3*(1-W575^3)-3*F575^2*(1-W575^2)-6*F575*(1-W575)-6*LN((1-F575)/(1-F575*W575)))/(2*F575^4))/3,$F$6*F575*(LN((1+E575^3)/(E575^3+W575^3)))/3)","v":2.5276172507990187},{"$f":"$I$35","v":0.66073778176593112},{"$f":"$J$35","v":0.15354841612232933},{"$f":"$K$35","v":0.6365191476987323},{"$f":"$L$35","v":2.1340626348999612E-4},{"$f":"$M$35","v":458.32156291626706},{"$f":"$N$35","v":0.15366182238581935},{"$f":"$O$35","v":1.9422167141878287E-2},{"$f":"$P$35","v":2.9740483717744983E-2},{"$f":"$Q$35","v":9.9999999999988987E-5},{"$f":"$R$35","v":1.9419193093506513E-2},null,null,null,null,{"$f":"IF(C575<$C$6,0,(C575-$C$6)/C575)","v":0}]
[null,{"$f":"IF(R556>$Q$29*V556,B556,IF(Q556>Q555,$U$6,-0.5)*B556)","v":3.9768977969850211E-31},{"$f":"IF(Q556>Q555,C556,(1-$T$6)*C556+$T$6*C557)","v":4.5181422537606569E-2},{"$f":"D556+B576","v":3.9334484870015113E-4},{"$f":"IF($C$2=1,D576/($O$31*$O$30),2^(1/3)*$O$30/D576)","v":7.6250460744389861E-2},{"$f":"IF($C$2=1,-($O$31-2)*D576/$O$30,3*($O$30/D576)^2)","v":-5.1910760091923788E-2},{"$f":"IF($C$2=1,0.5*($O$31*D576*$F$6/$O$30)*(1-W576^2+(E576-F576)*(F576^2*(1-W576^2)+2*F576*(1-W576)+2*LN((1-F576)/(1-F576*W576)))/(F576^3)),$F$6*F576*(LN((1-E576+E576^2)/(1+E576)^2)/(6*E576)+ATAN((2-E576)/(E576*3^0.5))/(E576*3^0.5)-LN((W576^2-E576*W576+E576^2)/(W576+E576)^2)/(6*E576)-ATAN((2*W576-E576)/(E576*3^0.5))/(E576*3^0.5)))","v":4.613110708371468},{"$f":"IF($C$2=1,($O$31*D576*$F$6/$O$30)*(1-W576^3-(E576-F576)*(-2*F576^3*(1-W576^3)-3*F576^2*(1-W576^2)-6*F576*(1-W576)-6*LN((1-F576)/(1-F576*W576)))/(2*F576^4))/3,$F$6*F576*(LN((1+E576^3)/(E576^3+W576^3)))/3)","v":3.0417370707038054},{"$f":"H576/G576","v":0.6593678892604784},{"$f":"G576*C576*$D$6","v":0.20842690412768886},{"$f":"MAX(MIN($K$6,$Q$6*$J$6*D576*(C576-$I$6)/C576),-$K$6)","v":25.883055331143311},{"$f":"K576*$H$6","v":8.6778318388286233E-3},{"$f":"MIN($O$6,$Q$6*$N$6*D576*(C$6-C576-$M$6)/C576)","v":458.33333333333337},{"$f":"M576*$L$6","v":0.15366576866258877},{"$f":"(0.5*$C$6-C576+I576*C576)*J576+(0.5*$C$6-$I$6)*L576+(0.5*$C$6-$M$6)*N576","v":2.3667860626519786E-2},{"$f":"0.1*$Q$6*D576*$B$6^2/C576+$R$6","v":3.2369913344933235E-2},{"$f":"(J576+L576-N576)","v":6.3438967303928701E-2},{"$f":"O576-P576*Q576","v":2.1614346752199563E-2},{"$f":"((R576-R575)*(Q576-Q577)-(R576-R577)*(Q576-Q575))/((Q576^2-Q575^2)*(Q576-Q577)-(Q576^2-Q577^2)*(Q576-Q575))","v":-5.0906690086739578E-2},{"$f":"-(S576*(Q576^2-Q575^2)-(R576-R575))/(Q576-Q575)","v":3.7891796424874044E-2},{"$f":"R576-S576*Q576^2-T576*Q576","v":1.9415404422930927E-2},{"$f":"S556*Q576^2+T556*Q576+U556","v":2.1614346752199563E-2},{"$f":"IF(C576<$C$6,0,(C576-$C$6)/C576)","v":0}]
[null,{"$f":"IF(R557>$Q$29*V557,B557,IF(Q557>Q556,$U$6,-0.5)*B557)","v":9.2191671472819417E-31},{"$f":"IF(Q557>Q556,C557,(1-$T$6)*C557+$T$6*C558)","v":4.9415891915262342E-2},{"$f":"D557+B577","v":4.5831677895414393E-4},8.8845362225090027E-2,-6.048527758025446E-2,5.298963348818206,3.4873783855907905,0.65812464741213172,0.26185300010813706,50.108747538653482,1.6799998270356629E-2,458.33333333333337,0.15366576866258877,2.7666294009989843E-2,{"$f":"0.1*$Q$6*D577*$B$6^2/C577+$R$6","v":3.4484750565600325E-2},0.1249872297159049,2.3356140569351473E-2,-2.4406838503766199E-2,3.2898530169504357E-2,1.9625523356776232E-2,{"$f":"MAX(S557*Q577^2+T557*Q577+U557,S558*Q577^2+T558*Q577+U558)","v":2.3356140569351473E-2},0]
[null,-2.079842889016617E-29,5.3135963724627852E-2,4.9935638089130207E-4,9.6800947678454222E-2,-6.5901382398883657E-2,5.7215793302330873,3.7609846786577479,0.65733330984061211,0.30402163173884583,70.833213832193195,2.3748306000797411E-2,458.33333333333337,0.15366576866258877,3.0697047575934798E-2,3.494218127080094E-2,0.17410416907705448,2.4613468140042186E-2,-4.5103014429375657E-2,3.9088578376760053E-2,1.9175158057744661E-2,{"$f":"MAX(S558*Q578^2+T558*Q578+U558,S559*Q578^2+T559*Q578+U559)","v":2.4613468140042186E-2},0]
[null,5.6969288289327785E-19,5.7428181372141097E-2,5.5145394462512761E-4,0.106900134820454,-7.2776835684460889E-2,6.2464148897258802,4.0996583167611584,0.6563218084511625,0.35872024721282059,96.02608429059002,3.219473902728448E-2,454.95558293079586,0.15253330769104775,3.4441229960730263E-2,3.5703612035945818E-2,0.23838167854905731,2.5930142993337173E-2,-2.9426200347875013E-2,3.2622114432275293E-2,1.9825796698761809E-2,2.5930142993357046E-2,0]
[null,4.9168873655396342E-21,6.2195419634221871E-2,6.3481451892244281E-4,0.12305970121389279,-8.3778151165705819E-2,7.0595192163462306,4.6217728328091976,0.65468662824906532,0.43906976007650694,129.98845249060312,4.358132829649948E-2,455.66595113320221,0.15277147338382499,3.990405674307692E-2,3.7950405354822588E-2,0.32987961498918139,2.7384991635944676E-2,-4.0881215445953994E-2,3.913155612940971E-2,1.8925005740112875E-2,2.7384991635944676E-2,0]
[null,3.4696055743564042E-25,6.7505252560478693E-2,7.6077995736461353E-4,0.1474782813753594,-0.10040214325929543,8.2273758274995288,5.3656873709129131,0.65217482261821724,0.55539108314533303,177.86483664942327,5.9632880382064171E-2,458.33333333333337,0.15366576866258877,4.7609532615159544E-2,4.1903419681531696E-2,0.46135819486480845,2.8277046552225595E-2,-2.2807698191248511E-2,2.4831105920438253E-2,2.1675662473427899E-2,2.8277046552225592E-2,0]
[null,-4.4356020559053344E-22,7.3437125604676246E-2,8.7915766311351851E-4,0.17042596871649618,-0.11602476219957342,9.2601264172153144,6.0169217608535561,0.64976669753315874,0.68003706681622167,229.68519224392304,7.7006730799804149E-2,457.23148522251887,0.15329635120026644,5.5227850373787246E-2,4.4512200699825442E-2,0.60374744641575939,2.8353722866921859E-2,-2.5331082645560062E-2,2.7518776937845171E-2,2.0972789297832434E-2,2.8353722866921855E-2,0]
[null,-3.8018732058162785E-28,8.0084861800030091E-2,8.0322125151080091E-4,0.15570558686551447,-0.10600323310626833,8.6047481702081807,5.6044180713793095,0.65131691951000092,0.68911006803518393,230.68434089358982,7.7341716134915195E-2,344.80558356815953,0.1156032328105172,5.2424281184921491E-2,3.7291747105121363E-2,0.65084855135958186,2.8153001603885373E-2,5.3488563857359527E-2,-7.1368036110784933E-2,5.1944823644701502E-2,2.8153001603885373E-2,0]
[null,-3.968007021546214E-30,8.7559791299448214E-2,7.589601804503962E-4,0.14712551502130744,-0.10016198248656145,8.2110155190031868,5.35531853167456,0.65221147363325083,0.71895480520044952,236.54140810904181,7.9305419558415302E-2,260.81444995122291,8.7443460938323531E-2,5.1149555703629349E-2,3.2228659602305157E-2,0.71081676382054126,2.8240884182844983E-2,1.620725285997025E-2,-2.0603368021196673E-2,3.4697219338027108E-2,2.8240884182844983E-2,0]
[null,2.8938985860933059E-30,9.5994684279247358E-2,7.2684530602114012E-4,0.14090000074275205,-9.5923697563322988E-2,7.9198478960951526,5.1705241389888323,0.65285649507715138,0.76026329832531558,243.27336941832445,8.1562449396664877E-2,191.1846019939475,6.4098608338584079E-2,5.0371787923233137E-2,2.8152876547515221E-2,0.77772713938339644,2.8476531780520214E-2,-3.3680182989186433E-3,8.5352825159312664E-3,2.3875588801077877E-2,2.8476531780520214E-2,0]
[null,-3.0101922571042618E-29,0.10554872685841464,7.2595225389928254E-4,0.14072688131336222,-9.5805839112651697E-2,7.9116847261094803,5.1653362911606653,0.65287438389884955,0.8350682501460206,258.68561802430992,8.6729725823263423E-2,135.96067096170083,4.5583638569915055E-2,5.1176023327523926E-2,2.5573079526293493E-2,0.87621433739936894,2.8768524395131306E-2,-1.1034826197296847E-2,2.1215734093584685E-2,1.8650999087066054E-2,2.8768524395131306E-2,0]
[null,3.1264859281152159E-28,0.11641386182692361,7.2273332835720637E-4,0.14010288799936232,-9.5381028994708961E-2,7.8822314213383118,5.1466150498502268,0.65293884114054479,0.91760099957151386,272.20650484370691,9.1262883931123431E-2,84.020098989313652,2.816948311483566E-2,5.1482123070299438E-2,2.3083483928379733E-2,0.98069440038780165,2.8844279640295619E-2,-1.2467472319252071E-2,2.3876027195600245E-2,1.7419928431709683E-2,2.8844279640295616E-2,0]
[null,-3.2427795991261725E-29,0.12882293018018509,7.8204412137743444E-4,0.15160036994135934,-0.1032084312284213,8.4174505264930506,5.4860375408683515,0.65174574220562609,1.0843606414695766,309.39703182670513,0.10373178047470707,38.933102294141968,1.3053131106433141E-2,5.4783886617278385E-2,2.2571792691030892E-2,1.1750392908378504,2.826114334067047E-2,-1.4045609395384713E-2,2.7278070459991727E-2,1.5601355144962054E-2,2.8261143340670467E-2,0]
[null,-4.7986761001958966E-30,0.14306020987399781,9.1784214572999934E-4,0.17792501092567375,-0.12113005569209134,9.5843573631305574,6.2199529722453777,0.64896922522656675,1.3711401758768538,379.39632961899144,0.12720049880436482,-11.26557374061295,-3.7770175598757037E-3,6.0717137180960612E-2,2.3854872980918932E-2,1.5021176922410944,2.4884310430158228E-2,-1.3880675225493628E-2,2.6836515795319472E-2,1.589247175750013E-2,2.4884310430158235E-2,0]
[null,7.389623078864009E-21,0.15947517602038869,1.0632928266209583E-3,0.2061208331670763,-0.14032556677070035,10.746540243551687,6.9414248140134482,0.64592181825016237,1.7138063969505959,457.07812518453858,0.15324493406255363,-74.50649783113991,-2.4979850748173705E-2,6.3882871876537753E-2,2.4790641452500241E-2,1.8920311817613233,1.6978205232542475E-2,-1.7452510104882288E-2,3.8959855129319064E-2,5.7411258928367903E-3,1.6978205232542475E-2,0]
[null,-5.1309437316557713E-28,0.17850063403985802,1.0840138064749558E-3,0.2101376247080454,-0.14306016928964782,10.90492106925447,7.0389210323415492,0.64548115365889347,1.9465353250165296,458.33333333333337,0.15366576866258877,-134.15779038323299,-4.49791854137759E-2,5.7442173658518551E-2,2.2579952340092826E-2,2.1451802790928944,9.0041051956939663E-3,-9.6787692168114406E-3,7.5756193222883796E-3,3.7292781008013087E-2,9.0041051956939733E-3,0]
[null,-6.4624346078105628E-24,0.20067685341513844,1.0385972971252134E-3,0.20133356950111006,-0.13706643242272801,10.417803816046661,6.8140972066734848,0.65408192811018906,2.0906120893004654,458.33333333333337,0.15366576866258877,-180.18802323583762,-6.0411776933077942E-2,4.7692199830230854E-2,1.924322579121935E-2,2.3046896348961323,3.3425368072416972E-3,1.4285210650986205E-2,-9.9060973710863004E-2,0.15577009248477686,{"$f":"S572*Q592^2+T572*Q592+U572","v":3.342536807241725E-3},0.10303556719799878]
[null,null,{"$f":"C573","v":0.22668403164997661},{"$f":"D573+(D592-D572)","v":1.0688633827654077E-3},0.20720069343223654,-0.14106072779937201,10.237091632512653,6.8924076665862808,0.6732779107589727,2.3205852036282089,458.33333333333337,0.15366576866258877,-234.52726430529796,-7.8630136018489574E-2,4.073568963908606E-2,1.7531910361932742E-2,2.5528811083092875,-4.0211931164638795E-3,null,null,null,null,0.20594318580878934]
[null,"De","hc","e0","a'","b'","N'","tN'","t","Nc","sac","Nac","sat","Nat","Mtot","u","N","Mo","a''","b''","c''",null,"x"]
[null,null,{"$f":"$C$35","v":4.0138687861173784E-2},{"$f":"$D$35","v":3.210578024372992E-4},{"$f":"$E$35","v":6.2237513577017019E-2},{"$f":"$F$35","v":-4.2370847395201951E-2},{"$f":"IF($C$2=1,0.5*($O$31*D595*$F$6/$O$30)*(1-W595^2+(E595-F595)*(F595^2*(1-W595^2)+2*F595*(1-W595)+2*LN((1-F595)/(1-F595*W595)))/(F595^3)),$F$6*F595*(LN((1-E595+E595^2)/(1+E595)^2)/(6*E595)+ATAN((2-E595)/(E595*3^0.5))/(E595*3^0.5)-LN((W595^2-E595*W595+E595^2)/(W595+E595)^2)/(6*E595)-ATAN((2*W595-E595)/(E595*3^0.5))/(E595*3^0.5)))","v":3.8254468270961333},{"$f":"IF($C$2=1,($O$31*D595*$F$6/$O$30)*(1-W595^3-(E595-F595)*(-2*F595^3*(1-W595^3)-3*F595^2*(1-W595^2)-6*F595*(1-W595)-6*LN((1-F595)/(1-F595*W595)))/(2*F595^4))/3,$F$6*F595*(LN((1+E595^3)/(E595^3+W595^3)))/3)","v":2.5276172507990187},{"$f":"$I$35","v":0.66073778176593112},{"$f":"$J$35","v":0.15354841612232933},{"$f":"$K$35","v":0.6365191476987323},{"$f":"$L$35","v":2.1340626348999612E-4},{"$f":"$M$35","v":458.32156291626706},{"$f":"$N$35","v":0.15366182238581935},{"$f":"$O$35","v":1.9422167141878287E-2},{"$f":"$P$35","v":2.9740483717744983E-2},{"$f":"$Q$35","v":9.9999999999988987E-5},{"$f":"$R$35","v":1.9419193093506513E-2},null,null,null,null,{"$f":"IF(C595<$C$6,0,(C595-$C$6)/C595)","v":0}]
[null,{"$f":"IF(R576>$Q$29*V576,B576,IF(Q576>Q575,$U$6,-0.5)*B576)","v":-3.9768977969850214E-32},{"$f":"IF(Q576>Q575,C576,(1-$T$6)*C576+$T$6*C577)","v":4.5181422537606569E-2},{"$f":"D576+B596","v":3.9334484870015113E-4},{"$f":"IF($C$2=1,D596/($O$31*$O$30),2^(1/3)*$O$30/D596)","v":7.6250460744389861E-2},{"$f":"IF($C$2=1,-($O$31-2)*D596/$O$30,3*($O$30/D596)^2)","v":-5.1910760091923788E-2},{"$f":"IF($C$2=1,0.5*($O$31*D596*$F$6/$O$30)*(1-W596^2+(E596-F596)*(F596^2*(1-W596^2)+2*F596*(1-W596)+2*LN((1-F596)/(1-F596*W596)))/(F596^3)),$F$6*F596*(LN((1-E596+E596^2)/(1+E596)^2)/(6*E596)+ATAN((2-E596)/(E596*3^0.5))/(E596*3^0.5)-LN((W596^2-E596*W596+E596^2)/(W596+E596)^2)/(6*E596)-ATAN((2*W596-E596)/(E596*3^0.5))/(E596*3^0.5)))","v":4.613110708371468},{"$f":"IF($C$2=1,($O$31*D596*$F$6/$O$30)*(1-W596^3-(E596-F596)*(-2*F596^3*(1-W596^3)-3*F596^2*(1-W596^2)-6*F596*(1-W596)-6*LN((1-F596)/(1-F596*W596)))/(2*F596^4))/3,$F$6*F596*(LN((1+E596^3)/(E596^3+W596^3)))/3)","v":3.0417370707038054},{"$f":"H596/G596","v":0.6593678892604784},{"$f":"G596*C596*$D$6","v":0.20842690412768886},{"$f":"MAX(MIN($K$6,$Q$6*$J$6*D596*(C596-$I$6)/C596),-$K$6)","v":25.883055331143311},{"$f":"K596*$H$6","v":8.6778318388286233E-3},{"$f":"MIN($O$6,$Q$6*$N$6*D596*(C$6-C596-$M$6)/C596)","v":458.33333333333337},{"$f":"M596*$L$6","v":0.15366576866258877},{"$f":"(0.5*$C$6-C596+I596*C596)*J596+(0.5*$C$6-$I$6)*L596+(0.5*$C$6-$M$6)*N596","v":2.3667860626519786E-2},{"$f":"0.1*$Q$6*D596*$B$6^2/C596+$R$6","v":3.2369913344933235E-2},{"$f":"(J596+L596-N596)","v":6.3438967303928701E-2},{"$f":"O596-P596*Q596","v":2.1614346752199563E-2},{"$f":"((R596-R595)*(Q596-Q597)-(R596-R597)*(Q596-Q595))/((Q596^2-Q595^2)*(Q596-Q597)-(Q596^2-Q597^2)*(Q596-Q595))","v":-5.0906690086739578E-2},{"$f":"-(S596*(Q596^2-Q595^2)-(R596-R595))/(Q596-Q595)","v":3.7891796424874044E-2},{"$f":"R596-S596*Q596^2-T596*Q596","v":1.9415404422930927E-2},{"$f":"S576*Q596^2+T576*Q596+U576","v":2.1614346752199563E-2},{"$f":"IF(C596<$C$6,0,(C596-$C$6)/C596)","v":0}]
[null,{"$f":"IF(R577>$Q$29*V577,B577,IF(Q577>Q576,$U$6,-0.5)*B577)","v":-9.2191671472819417E-32},{"$f":"IF(Q577>Q576,C577,(1-$T$6)*C577+$T$6*C578)","v":4.9415891915262342E-2},{"$f":"D577+B597","v":4.5831677895414393E-4},8.8845362225090027E-2,-6.048527758025446E-2,5.298963348818206,3.4873783855907905,0.65812464741213172,0.26185300010813706,50.108747538653482,1.6799998270356629E-2,458.33333333333337,0.15366576866258877,2.7666294009989843E-2,{"$f":"0.1*$Q$6*D597*$B$6^2/C597+$R$6","v":3.4484750565600325E-2},0.1249872297159049,2.3356140569351473E-2,-2.4406838503766199E-2,3.2898530169504357E-2,1.9625523356776232E-2,{"$f":"MAX(S577*Q597^2+T577*Q597+U577,S578*Q597^2+T578*Q597+U578)","v":2.3356140569351473E-2},0]
[null,2.0798428890166171E-30,5.3135963724627852E-2,4.9935638089130207E-4,9.6800947678454222E-2,-6.5901382398883657E-2,5.7215793302330873,3.7609846786577479,0.65733330984061211,0.30402163173884583,70.833213832193195,2.3748306000797411E-2,458.33333333333337,0.15366576866258877,3.0697047575934798E-2,3.494218127080094E-2,0.17410416907705448,2.4613468140042186E-2,-4.5103014428982229E-2,3.9088578376642383E-2,1.917515805775322E-2,{"$f":"MAX(S578*Q598^2+T578*Q598+U578,S579*Q598^2+T579*Q598+U579)","v":2.4613468140042189E-2},0]
[null,-5.6969288289327789E-20,5.7428181372141097E-2,5.514539446251275E-4,0.10690013482045398,-7.2776835684460875E-2,6.2464148897257887,4.0996583167619933,0.65632180845130572,0.35872024721281531,96.026084290590006,3.2194739027284473E-2,454.9555829307958,0.15253330769104773,3.4441229960732844E-2,3.5703612035945798E-2,0.23838167854905207,2.5930142993339948E-2,-2.9426200348363504E-2,3.2622114432521492E-2,1.9825796698733748E-2,2.5930142993337079E-2,0]
[null,-4.9168873655396348E-22,6.2195419634221871E-2,6.3481451892244281E-4,0.12305970121389279,-8.3778151165705819E-2,7.0595192163462306,4.6217728328091976,0.65468662824906532,0.43906976007650694,129.98845249060312,4.358132829649948E-2,455.66595113320221,0.15277147338382499,3.990405674307692E-2,3.7950405354822588E-2,0.32987961498918139,2.7384991635944676E-2,-4.0881215445812906E-2,3.9131556129298077E-2,1.8925005740134344E-2,2.7384991635944676E-2,0]
[null,-3.4696055743564045E-26,6.7505252560478693E-2,7.6077995736461353E-4,0.1474782813753594,-0.10040214325929543,8.2273758274995288,5.3656873709129131,0.65217482261821724,0.55539108314533303,177.86483664942327,5.9632880382064171E-2,458.33333333333337,0.15366576866258877,4.7609532615159544E-2,4.1903419681531696E-2,0.46135819486480845,2.8277046552225595E-2,-2.2807698191248511E-2,2.4831105920438253E-2,2.1675662473427899E-2,2.8277046552225592E-2,0]
[null,4.4356020559053344E-23,7.3437125604676246E-2,8.7915766311351851E-4,0.17042596871649618,-0.11602476219957342,9.2601264172153144,6.0169217608535561,0.64976669753315874,0.68003706681622167,229.68519224392304,7.7006730799804149E-2,457.23148522251887,0.15329635120026644,5.5227850373787246E-2,4.4512200699825442E-2,0.60374744641575939,2.8353722866921859E-2,-2.5331082645560062E-2,2.7518776937845171E-2,2.0972789297832434E-2,2.8353722866921855E-2,0]
[null,3.8018732058162785E-29,8.0084861800030091E-2,8.0322125151080091E-4,0.15570558686551447,-0.10600323310626833,8.6047481702081807,5.6044180713793095,0.65131691951000092,0.68911006803518393,230.68434089358982,7.7341716134915195E-2,344.80558356815953,0.1156032328105172,5.2424281184921491E-2,3.7291747105121363E-2,0.65084855135958186,2.8153001603885373E-2,5.3488563857359527E-2,-7.1368036110784933E-2,5.1944823644701502E-2,2.8153001603885373E-2,0]
[null,3.9680070215462144E-31,8.7559791299448214E-2,7.589601804503962E-4,0.14712551502130744,-0.10016198248656145,8.2110155190031868,5.35531853167456,0.65221147363325083,0.71895480520044952,236.54140810904181,7.9305419558415302E-2,260.81444995122291,8.7443460938323531E-2,5.1149555703629349E-2,3.2228659602305157E-2,0.71081676382054126,2.8240884182844983E-2,1.620725285997025E-2,-2.0603368021196673E-2,3.4697219338027108E-2,2.8240884182844983E-2,0]
[null,-2.893898586093306E-31,9.5994684279247358E-2,7.2684530602114012E-4,0.14090000074275205,-9.5923697563322988E-2,7.9198478960951526,5.1705241389888323,0.65285649507715138,0.76026329832531558,243.27336941832445,8.1562449396664877E-2,191.1846019939475,6.4098608338584079E-2,5.0371787923233137E-2,2.8152876547515221E-2,0.77772713938339644,2.8476531780520214E-2,-3.3680182989186433E-3,8.5352825159312664E-3,2.3875588801077877E-2,2.8476531780520214E-2,0]
[null,3.010192257104262E-30,0.10554872685841464,7.2595225389928254E-4,0.14072688131336222,-9.5805839112651697E-2,7.9116847261094803,5.1653362911606653,0.65287438389884955,0.8350682501460206,258.68561802430992,8.6729725823263423E-2,135.96067096170083,4.5583638569915055E-2,5.1176023327523926E-2,2.5573079526293493E-2,0.87621433739936894,2.8768524395131306E-2,-1.1034826197296847E-2,2.1215734093584685E-2,1.8650999087066054E-2,2.8768524395131306E-2,0]
[null,-3.126485928115216E-29,0.11641386182692361,7.2273332835720637E-4,0.14010288799936232,-9.5381028994708961E-2,7.8822314213383118,5.1466150498502268,0.65293884114054479,0.91760099957151386,272.20650484370691,9.1262883931123431E-2,84.020098989313652,2.816948311483566E-2,5.1482123070299438E-2,2.3083483928379733E-2,0.98069440038780165,2.8844279640295619E-2,-1.2467472319252071E-2,2.3876027195600245E-2,1.7419928431709683E-2,2.8844279640295616E-2,0]
[null,3.2427795991261723E-30,0.12882293018018509,7.8204412137743444E-4,0.15160036994135934,-0.1032084312284213,8.4174505264930506,5.4860375408683515,0.65174574220562609,1.0843606414695766,309.39703182670513,0.10373178047470707,38.933102294141968,1.3053131106433141E-2,5.4783886617278385E-2,2.2571792691030892E-2,1.1750392908378504,2.826114334067047E-2,-1.4045609395384713E-2,2.7278070459991727E-2,1.5601355144962054E-2,2.8261143340670467E-2,0]
[null,4.798676100195897E-31,0.14306020987399781,9.1784214572999934E-4,0.17792501092567375,-0.12113005569209134,9.5843573631305574,6.2199529722453777,0.64896922522656675,1.3711401758768538,379.39632961899144,0.12720049880436482,-11.26557374061295,-3.7770175598757037E-3,6.0717137180960612E-2,2.3854872980918932E-2,1.5021176922410944,2.4884310430158228E-2,-1.3880675225493628E-2,2.6836515795319472E-2,1.589247175750013E-2,2.4884310430158235E-2,0]
[null,-7.3896230788640092E-22,0.15947517602038869,1.0632928266209583E-3,0.2061208331670763,-0.14032556677070035,10.746540243551687,6.9414248140134482,0.64592181825016237,1.7138063969505959,457.07812518453858,0.15324493406255363,-74.50649783113991,-2.4979850748173705E-2,6.3882871876537753E-2,2.4790641452500241E-2,1.8920311817613233,1.6978205232542475E-2,-1.7452510104882288E-2,3.8959855129319064E-2,5.7411258928367903E-3,1.6978205232542475E-2,0]
[null,5.1309437316557718E-29,0.17850063403985802,1.0840138064749558E-3,0.2101376247080454,-0.14306016928964782,10.90492106925447,7.0389210323415492,0.64548115365889347,1.9465353250165296,458.33333333333337,0.15366576866258877,-134.15779038323299,-4.49791854137759E-2,5.7442173658518551E-2,2.2579952340092826E-2,2.1451802790928944,9.0041051956939663E-3,-9.6787692168114406E-3,7.5756193222883796E-3,3.7292781008013087E-2,9.0041051956939733E-3,0]
[null,6.4624346078105628E-25,0.20067685341513844,1.0385972971252134E-3,0.20133356950111006,-0.13706643242272801,10.417803816046661,6.8140972066734848,0.65408192811018906,2.0906120893004654,458.33333333333337,0.15366576866258877,-180.18802323583762,-6.0411776933077942E-2,4.7692199830230854E-2,1.924322579121935E-2,2.3046896348961323,3.3425368072416972E-3,1.4285210650986205E-2,-9.9060973710863004E-2,0.15577009248477686,{"$f":"S592*Q612^2+T592*Q612+U592","v":3.342536807241725E-3},0.10303556719799878]
[null,null,{"$f":"C593","v":0.22668403164997661},{"$f":"D593+(D612-D592)","v":1.0688633827654077E-3},0.20720069343223654,-0.14106072779937201,10.237091632512653,6.8924076665862808,0.6732779107589727,2.3205852036282089,458.33333333333337,0.15366576866258877,-234.52726430529796,-7.8630136018489574E-2,4.073568963908606E-2,1.7531910361932742E-2,2.5528811083092875,-4.0211931164638795E-3,null,null,null,null,0.20594318580878934]
[null,"De","hc","e0","a'","b'","N'","tN'","t","Nc","sac","Nac","sat","Nat","Mtot","u","N","Mo","a''","b''","c''",null,"x"]
[null,null,{"$f":"$C$35","v":4.0138687861173784E-2},{"$f":"$D$35","v":3.210578024372992E-4},{"$f":"$E$35","v":6.2237513577017019E-2},{"$f":"$F$35","v":-4.2370847395201951E-2},{"$f":"IF($C$2=1,0.5*($O$31*D615*$F$6/$O$30)*(1-W615^2+(E615-F615)*(F615^2*(1-W615^2)+2*F615*(1-W615)+2*LN((1-F615)/(1-F615*W615)))/(F615^3)),$F$6*F615*(LN((1-E615+E615^2)/(1+E615)^2)/(6*E615)+ATAN((2-E615)/(E615*3^0.5))/(E615*3^0.5)-LN((W615^2-E615*W615+E615^2)/(W615+E615)^2)/(6*E615)-ATAN((2*W615-E615)/(E615*3^0.5))/(E615*3^0.5)))","v":3.8254468270961333},{"$f":"IF($C$2=1,($O$31*D615*$F$6/$O$30)*(1-W615^3-(E615-F615)*(-2*F615^3*(1-W615^3)-3*F615^2*(1-W615^2)-6*F615*(1-W615)-6*LN((1-F615)/(1-F615*W615)))/(2*F615^4))/3,$F$6*F615*(LN((1+E615^3)/(E615^3+W615^3)))/3)","v":2.5276172507990187},{"$f":"$I$35","v":0.66073778176593112},{"$f":"$J$35","v":0.15354841612232933},{"$f":"$K$35","v":0.6365191476987323},{"$f":"$L$35","v":2.1340626348999612E-4},{"$f":"$M$35","v":458.32156291626706},{"$f":"$N$35","v":0.15366182238581935},{"$f":"$O$35","v":1.9422167141878287E-2},{"$f":"$P$35","v":2.9740483717744983E-2},{"$f":"$Q$35","v":9.9999999999988987E-5},{"$f":"$R$35","v":1.9419193093506513E-2},null,null,null,null,{"$f":"IF(C615<$C$6,0,(C615-$C$6)/C615)","v":0}]
[null,{"$f":"IF(R596>$Q$29*V596,B596,IF(Q596>Q595,$U$6,-0.5)*B596)","v":3.9768977969850217E-33},{"$f":"IF(Q596>Q595,C596,(1-$T$6)*C596+$T$6*C597)","v":4.5181422537606569E-2},{"$f":"D596+B616","v":3.9334484870015113E-4},{"$f":"IF($C$2=1,D616/($O$31*$O$30),2^(1/3)*$O$30/D616)","v":7.6250460744389861E-2},{"$f":"IF($C$2=1,-($O$31-2)*D616/$O$30,3*($O$30/D616)^2)","v":-5.1910760091923788E-2},{"$f":"IF($C$2=1,0.5*($O$31*D616*$F$6/$O$30)*(1-W616^2+(E616-F616)*(F616^2*(1-W616^2)+2*F616*(1-W616)+2*LN((1-F616)/(1-F616*W616)))/(F616^3)),$F$6*F616*(LN((1-E616+E616^2)/(1+E616)^2)/(6*E616)+ATAN((2-E616)/(E616*3^0.5))/(E616*3^0.5)-LN((W616^2-E616*W616+E616^2)/(W616+E616)^2)/(6*E616)-ATAN((2*W616-E616)/(E616*3^0.5))/(E616*3^0.5)))","v":4.613110708371468},{"$f":"IF($C$2=1,($O$31*D616*$F$6/$O$30)*(1-W616^3-(E616-F616)*(-2*F616^3*(1-W616^3)-3*F616^2*(1-W616^2)-6*F616*(1-W616)-6*LN((1-F616)/(1-F616*W616)))/(2*F616^4))/3,$F$6*F616*(LN((1+E616^3)/(E616^3+W616^3)))/3)","v":3.0417370707038054},{"$f":"H616/G616","v":0.6593678892604784},{"$f":"G616*C616*$D$6","v":0.20842690412768886},{"$f":"MAX(MIN($K$6,$Q$6*$J$6*D616*(C616-$I$6)/C616),-$K$6)","v":25.883055331143311},{"$f":"K616*$H$6","v":8.6778318388286233E-3},{"$f":"MIN($O$6,$Q$6*$N$6*D616*(C$6-C616-$M$6)/C616)","v":458.33333333333337},{"$f":"M616*$L$6","v":0.15366576866258877},{"$f":"(0.5*$C$6-C616+I616*C616)*J616+(0.5*$C$6-$I$6)*L616+(0.5*$C$6-$M$6)*N616","v":2.3667860626519786E-2},{"$f":"0.1*$Q$6*D616*$B$6^2/C616+$R$6","v":3.2369913344933235E-2},{"$f":"(J616+L616-N616)","v":6.3438967303928701E-2},{"$f":"O616-P616*Q616","v":2.1614346752199563E-2},{"$f":"((R616-R615)*(Q616-Q617)-(R616-R617)*(Q616-Q615))/((Q616^2-Q615^2)*(Q616-Q617)-(Q616^2-Q617^2)*(Q616-Q615))","v":-5.0906690086739578E-2},{"$f":"-(S616*(Q616^2-Q615^2)-(R616-R615))/(Q616-Q615)","v":3.7891796424874044E-2},{"$f":"R616-S616*Q616^2-T616*Q616","v":1.9415404422930927E-2},{"$f":"S596*Q616^2+T596*Q616+U596","v":2.1614346752199563E-2},{"$f":"IF(C616<$C$6,0,(C616-$C$6)/C616)","v":0}]
[null,{"$f":"IF(R597>$Q$29*V597,B597,IF(Q597>Q596,$U$6,-0.5)*B597)","v":9.2191671472819422E-33},{"$f":"IF(Q597>Q596,C597,(1-$T$6)*C597+$T$6*C598)","v":4.9415891915262342E-2},{"$f":"D597+B617","v":4.5831677895414393E-4},8.8845362225090027E-2,-6.048527758025446E-2,5.298963348818206,3.4873783855907905,0.65812464741213172,0.26185300010813706,50.108747538653482,1.6799998270356629E-2,458.33333333333337,0.15366576866258877,2.7666294009989843E-2,{"$f":"0.1*$Q$6*D617*$B$6^2/C617+$R$6","v":3.4484750565600325E-2},0.1249872297159049,2.3356140569351473E-2,-2.4406838503766199E-2,3.2898530169504357E-2,1.9625523356776232E-2,{"$f":"MAX(S597*Q617^2+T597*Q617+U597,S598*Q617^2+T598*Q617+U598)","v":2.3356140569351473E-2},0]
[null,-2.079842889016617E-31,5.3135963724627852E-2,4.9935638089130207E-4,9.6800947678454222E-2,-6.5901382398883657E-2,5.7215793302330873,3.7609846786577479,0.65733330984061211,0.30402163173884583,70.833213832193195,2.3748306000797411E-2,458.33333333333337,0.15366576866258877,3.0697047575934798E-2,3.494218127080094E-2,0.17410416907705448,2.4613468140042186E-2,-4.5103014428982229E-2,3.9088578376642383E-2,1.917515805775322E-2,{"$f":"MAX(S598*Q618^2+T598*Q618+U598,S599*Q618^2+T599*Q618+U599)","v":2.4613468140042186E-2},0]
[null,5.6969288289327792E-21,5.7428181372141097E-2,5.514539446251275E-4,0.10690013482045398,-7.2776835684460875E-2,6.2464148897257887,4.0996583167619933,0.65632180845130572,0.35872024721281531,96.026084290590006,3.2194739027284473E-2,454.9555829307958,0.15253330769104773,3.4441229960732844E-2,3.5703612035945798E-2,0.23838167854905207,2.5930142993339948E-2,-2.9426200348363504E-2,3.2622114432521492E-2,1.9825796698733748E-2,2.5930142993339948E-2,0]
[null,4.9168873655396351E-23,6.2195419634221871E-2,6.3481451892244281E-4,0.12305970121389279,-8.3778151165705819E-2,7.0595192163462306,4.6217728328091976,0.65468662824906532,0.43906976007650694,129.98845249060312,4.358132829649948E-2,455.66595113320221,0.15277147338382499,3.990405674307692E-2,3.7950405354822588E-2,0.32987961498918139,2.7384991635944676E-2,-4.0881215445812906E-2,3.9131556129298077E-2,1.8925005740134344E-2,2.7384991635944676E-2,0]
[null,3.4696055743564048E-27,6.7505252560478693E-2,7.6077995736461353E-4,0.1474782813753594,-0.10040214325929543,8.2273758274995288,5.3656873709129131,0.65217482261821724,0.55539108314533303,177.86483664942327,5.9632880382064171E-2,458.33333333333337,0.15366576866258877,4.7609532615159544E-2,4.1903419681531696E-2,0.46135819486480845,2.8277046552225595E-2,-2.2807698191248511E-2,2.4831105920438253E-2,2.1675662473427899E-2,2.8277046552225592E-2,0]
[null,-4.4356020559053344E-24,7.3437125604676246E-2,8.7915766311351851E-4,0.17042596871649618,-0.11602476219957342,9.2601264172153144,6.0169217608535561,0.64976669753315874,0.68003706681622167,229.68519224392304,7.7006730799804149E-2,457.23148522251887,0.15329635120026644,5.5227850373787246E-2,4.4512200699825442E-2,0.60374744641575939,2.8353722866921859E-2,-2.5331082645560062E-2,2.7518776937845171E-2,2.0972789297832434E-2,2.8353722866921855E-2,0]
[null,-3.8018732058162789E-30,8.0084861800030091E-2,8.0322125151080091E-4,0.15570558686551447,-0.10600323310626833,8.6047481702081807,5.6044180713793095,0.65131691951000092,0.68911006803518393,230.68434089358982,7.7341716134915195E-2,344.80558356815953,0.1156032328105172,5.2424281184921491E-2,3.7291747105121363E-2,0.65084855135958186,2.8153001603885373E-2,5.3488563857359527E-2,-7.1368036110784933E-2,5.1944823644701502E-2,2.8153001603885373E-2,0]
[null,-3.9680070215462146E-32,8.7559791299448214E-2,7.589601804503962E-4,0.14712551502130744,-0.10016198248656145,8.2110155190031868,5.35531853167456,0.65221147363325083,0.71895480520044952,236.54140810904181,7.9305419558415302E-2,260.81444995122291,8.7443460938323531E-2,5.1149555703629349E-2,3.2228659602305157E-2,0.71081676382054126,2.8240884182844983E-2,1.620725285997025E-2,-2.0603368021196673E-2,3.4697219338027108E-2,2.8240884182844983E-2,0]
[null,2.8938985860933062E-32,9.5994684279247358E-2,7.2684530602114012E-4,0.14090000074275205,-9.5923697563322988E-2,7.9198478960951526,5.1705241389888323,0.65285649507715138,0.76026329832531558,243.27336941832445,8.1562449396664877E-2,191.1846019939475,6.4098608338584079E-2,5.0371787923233137E-2,2.8152876547515221E-2,0.77772713938339644,2.8476531780520214E-2,-3.3680182989186433E-3,8.5352825159312664E-3,2.3875588801077877E-2,2.8476531780520214E-2,0]
[null,-3.0101922571042622E-31,0.10554872685841464,7.2595225389928254E-4,0.14072688131336222,-9.5805839112651697E-2,7.9116847261094803,5.1653362911606653,0.65287438389884955,0.8350682501460206,258.68561802430992,8.6729725823263423E-2,135.96067096170083,4.5583638569915055E-2,5.1176023327523926E-2,2.5573079526293493E-2,0.87621433739936894,2.8768524395131306E-2,-1.1034826197296847E-2,2.1215734093584685E-2,1.8650999087066054E-2,2.8768524395131306E-2,0]
[null,3.1264859281152163E-30,0.11641386182692361,7.2273332835720637E-4,0.14010288799936232,-9.5381028994708961E-2,7.8822314213383118,5.1466150498502268,0.65293884114054479,0.91760099957151386,272.20650484370691,9.1262883931123431E-2,84.020098989313652,2.816948311483566E-2,5.1482123070299438E-2,2.3083483928379733E-2,0.98069440038780165,2.8844279640295619E-2,-1.2467472319252071E-2,2.3876027195600245E-2,1.7419928431709683E-2,2.8844279640295616E-2,0]
[null,-3.2427795991261727E-31,0.12882293018018509,7.8204412137743444E-4,0.15160036994135934,-0.1032084312284213,8.4174505264930506,5.4860375408683515,0.65174574220562609,1.0843606414695766,309.39703182670513,0.10373178047470707,38.933102294141968,1.3053131106433141E-2,5.4783886617278385E-2,2.2571792691030892E-2,1.1750392908378504,2.826114334067047E-2,-1.4045609395384713E-2,2.7278070459991727E-2,1.5601355144962054E-2,2.8261143340670467E-2,0]
[null,-4.7986761001958974E-32,0.14306020987399781,9.1784214572999934E-4,0.17792501092567375,-0.12113005569209134,9.5843573631305574,6.2199529722453777,0.64896922522656675,1.3711401758768538,379.39632961899144,0.12720049880436482,-11.26557374061295,-3.7770175598757037E-3,6.0717137180960612E-2,2.3854872980918932E-2,1.5021176922410944,2.4884310430158228E-2,-1.3880675225493628E-2,2.6836515795319472E-2,1.589247175750013E-2,2.4884310430158235E-2,0]
[null,7.3896230788640099E-23,0.15947517602038869,1.0632928266209583E-3,0.2061208331670763,-0.14032556677070035,10.746540243551687,6.9414248140134482,0.64592181825016237,1.7138063969505959,457.07812518453858,0.15324493406255363,-74.50649783113991,-2.4979850748173705E-2,6.3882871876537753E-2,2.4790641452500241E-2,1.8920311817613233,1.6978205232542475E-2,-1.7452510104882288E-2,3.8959855129319064E-2,5.7411258928367903E-3,1.6978205232542475E-2,0]
[null,-5.1309437316557718E-30,0.17850063403985802,1.0840138064749558E-3,0.2101376247080454,-0.14306016928964782,10.90492106925447,7.0389210323415492,0.64548115365889347,1.9465353250165296,458.33333333333337,0.15366576866258877,-134.15779038323299,-4.49791854137759E-2,5.7442173658518551E-2,2.2579952340092826E-2,2.1451802790928944,9.0041051956939663E-3,-9.6787692168114406E-3,7.5756193222883796E-3,3.7292781008013087E-2,9.0041051956939733E-3,0]
[null,-6.4624346078105635E-26,0.20067685341513844,1.0385972971252134E-3,0.20133356950111006,-0.13706643242272801,10.417803816046661,6.8140972066734848,0.65408192811018906,2.0906120893004654,458.33333333333337,0.15366576866258877,-180.18802323583762,-6.0411776933077942E-2,4.7692199830230854E-2,1.924322579121935E-2,2.3046896348961323,3.3425368072416972E-3,1.4285210650986205E-2,-9.9060973710863004E-2,0.15577009248477686,{"$f":"S612*Q632^2+T612*Q632+U612","v":3.342536807241725E-3},0.10303556719799878]
[null,null,{"$f":"C613","v":0.22668403164997661},{"$f":"D613+(D632-D612)","v":1.0688633827654077E-3},0.20720069343223654,-0.14106072779937201,10.237091632512653,6.8924076665862808,0.6732779107589727,2.3205852036282089,458.33333333333337,0.15366576866258877,-234.52726430529796,-7.8630136018489574E-2,4.073568963908606E-2,1.7531910361932742E-2,2.5528811083092875,-4.0211931164638795E-3,null,null,null,null,0.20594318580878934]
[null,"De","hc","e0","a'","b'","N'","tN'","t","Nc","sac","Nac","sat","Nat","Mtot","u","N","Mo","a''","b''","c''",null,"x"]
[null,null,{"$f":"$C$35","v":4.0138687861173784E-2},{"$f":"$D$35","v":3.210578024372992E-4},{"$f":"$E$35","v":6.2237513577017019E-2},{"$f":"$F$35","v":-4.2370847395201951E-2},{"$f":"IF($C$2=1,0.5*($O$31*D635*$F$6/$O$30)*(1-W635^2+(E635-F635)*(F635^2*(1-W635^2)+2*F635*(1-W635)+2*LN((1-F635)/(1-F635*W635)))/(F635^3)),$F$6*F635*(LN((1-E635+E635^2)/(1+E635)^2)/(6*E635)+ATAN((2-E635)/(E635*3^0.5))/(E635*3^0.5)-LN((W635^2-E635*W635+E635^2)/(W635+E635)^2)/(6*E635)-ATAN((2*W635-E635)/(E635*3^0.5))/(E635*3^0.5)))","v":3.8254468270961333},{"$f":"IF($C$2=1,($O$31*D635*$F$6/$O$30)*(1-W635^3-(E635-F635)*(-2*F635^3*(1-W635^3)-3*F635^2*(1-W635^2)-6*F635*(1-W635)-6*LN((1-F635)/(1-F635*W635)))/(2*F635^4))/3,$F$6*F635*(LN((1+E635^3)/(E635^3+W635^3)))/3)","v":2.5276172507990187},{"$f":"$I$35","v":0.66073778176593112},{"$f":"$J$35","v":0.15354841612232933},{"$f":"$K$35","v":0.6365191476987323},{"$f":"$L$35","v":2.1340626348999612E-4},{"$f":"$M$35","v":458.32156291626706},{"$f":"$N$35","v":0.15366182238581935},{"$f":"$O$35","v":1.9422167141878287E-2},{"$f":"$P$35","v":2.9740483717744983E-2},{"$f":"$Q$35","v":9.9999999999988987E-5},{"$f":"$R$35","v":1.9419193093506513E-2},null,null,null,null,{"$f":"IF(C635<$C$6,0,(C635-$C$6)/C635)","v":0}]
[null,{"$f":"IF(R616>$Q$29*V616,B616,IF(Q616>Q615,$U$6,-0.5)*B616)","v":-3.9768977969850217E-34},{"$f":"IF(Q616>Q615,C616,(1-$T$6)*C616+$T$6*C617)","v":4.5181422537606569E-2},{"$f":"D616+B636","v":3.9334484870015113E-4},{"$f":"IF($C$2=1,D636/($O$31*$O$30),2^(1/3)*$O$30/D636)","v":7.6250460744389861E-2},{"$f":"IF($C$2=1,-($O$31-2)*D636/$O$30,3*($O$30/D636)^2)","v":-5.1910760091923788E-2},{"$f":"IF($C$2=1,0.5*($O$31*D636*$F$6/$O$30)*(1-W636^2+(E636-F636)*(F636^2*(1-W636^2)+2*F636*(1-W636)+2*LN((1-F636)/(1-F636*W636)))/(F636^3)),$F$6*F636*(LN((1-E636+E636^2)/(1+E636)^2)/(6*E636)+ATAN((2-E636)/(E636*3^0.5))/(E636*3^0.5)-LN((W636^2-E636*W636+E636^2)/(W636+E636)^2)/(6*E636)-ATAN((2*W636-E636)/(E636*3^0.5))/(E636*3^0.5)))","v":4.613110708371468},{"$f":"IF($C$2=1,($O$31*D636*$F$6/$O$30)*(1-W636^3-(E636-F636)*(-2*F636^3*(1-W636^3)-3*F636^2*(1-W636^2)-6*F636*(1-W636)-6*LN((1-F636)/(1-F636*W636)))/(2*F636^4))/3,$F$6*F636*(LN((1+E636^3)/(E636^3+W636^3)))/3)","v":3.0417370707038054},{"$f":"H636/G636","v":0.6593678892604784},{"$f":"G636*C636*$D$6","v":0.20842690412768886},{"$f":"MAX(MIN($K$6,$Q$6*$J$6*D636*(C636-$I$6)/C636),-$K$6)","v":25.883055331143311},{"$f":"K636*$H$6","v":8.6778318388286233E-3},{"$f":"MIN($O$6,$Q$6*$N$6*D636*(C$6-C636-$M$6)/C636)","v":458.33333333333337},{"$f":"M636*$L$6","v":0.15366576866258877},{"$f":"(0.5*$C$6-C636+I636*C636)*J636+(0.5*$C$6-$I$6)*L636+(0.5*$C$6-$M$6)*N636","v":2.3667860626519786E-2},{"$f":"0.1*$Q$6*D636*$B$6^2/C636+$R$6","v":3.2369913344933235E-2},{"$f":"(J636+L636-N636)","v":6.3438967303928701E-2},{"$f":"O636-P636*Q636","v":2.1614346752199563E-2},{"$f":"((R636-R635)*(Q636-Q637)-(R636-R637)*(Q636-Q635))/((Q636^2-Q635^2)*(Q636-Q637)-(Q636^2-Q637^2)*(Q636-Q635))","v":-5.0906690086739578E-2},{"$f":"-(S636*(Q636^2-Q635^2)-(R636-R635))/(Q636-Q635)","v":3.7891796424874044E-2},{"$f":"R636-S636*Q636^2-T636*Q636","v":1.9415404422930927E-2},{"$f":"S616*Q636^2+T616*Q636+U616","v":2.1614346752199563E-2},{"$f":"IF(C636<$C$6,0,(C636-$C$6)/C636)","v":0}]
[null,{"$f":"IF(R617>$Q$29*V617,B617,IF(Q617>Q616,$U$6,-0.5)*B617)","v":-9.2191671472819419E-34},{"$f":"IF(Q617>Q616,C617,(1-$T$6)*C617+$T$6*C618)","v":4.9415891915262342E-2},{"$f":"D617+B637","v":4.5831677895414393E-4},8.8845362225090027E-2,-6.048527758025446E-2,5.298963348818206,3.4873783855907905,0.65812464741213172,0.26185300010813706,50.108747538653482,1.6799998270356629E-2,458.33333333333337,0.15366576866258877,2.7666294009989843E-2,{"$f":"0.1*$Q$6*D637*$B$6^2/C637+$R$6","v":3.4484750565600325E-2},0.1249872297159049,2.3356140569351473E-2,-2.4406838503766199E-2,3.2898530169504357E-2,1.9625523356776232E-2,{"$f":"MAX(S617*Q637^2+T617*Q637+U617,S618*Q637^2+T618*Q637+U618)","v":2.3356140569351473E-2},0]
[null,2.079842889016617E-32,5.3135963724627852E-2,4.9935638089130207E-4,9.6800947678454222E-2,-6.5901382398883657E-2,5.7215793302330873,3.7609846786577479,0.65733330984061211,0.30402163173884583,70.833213832193195,2.3748306000797411E-2,458.33333333333337,0.15366576866258877,3.0697047575934798E-2,3.494218127080094E-2,0.17410416907705448,2.4613468140042186E-2,-4.5103014428982229E-2,3.9088578376642383E-2,1.917515805775322E-2,{"$f":"MAX(S618*Q638^2+T618*Q638+U618,S619*Q638^2+T619*Q638+U619)","v":2.4613468140042186E-2},0]
[null,-5.6969288289327794E-22,5.7428181372141097E-2,5.514539446251275E-4,0.10690013482045398,-7.2776835684460875E-2,6.2464148897257887,4.0996583167619933,0.65632180845130572,0.35872024721281531,96.026084290590006,3.2194739027284473E-2,454.9555829307958,0.15253330769104773,3.4441229960732844E-2,3.5703612035945798E-2,0.23838167854905207,2.5930142993339948E-2,-2.9426200348363504E-2,3.2622114432521492E-2,1.9825796698733748E-2,2.5930142993339948E-2,0]
[null,-4.9168873655396356E-24,6.2195419634221871E-2,6.3481451892244281E-4,0.12305970121389279,-8.3778151165705819E-2,7.0595192163462306,4.6217728328091976,0.65468662824906532,0.43906976007650694,129.98845249060312,4.358132829649948E-2,455.66595113320221,0.15277147338382499,3.990405674307692E-2,3.7950405354822588E-2,0.32987961498918139,2.7384991635944676E-2,-4.0881215445812906E-2,3.9131556129298077E-2,1.8925005740134344E-2,2.7384991635944676E-2,0]
[null,-3.4696055743564048E-28,6.7505252560478693E-2,7.6077995736461353E-4,0.1474782813753594,-0.10040214325929543,8.2273758274995288,5.3656873709129131,0.65217482261821724,0.55539108314533303,177.86483664942327,5.9632880382064171E-2,458.33333333333337,0.15366576866258877,4.7609532615159544E-2,4.1903419681531696E-2,0.46135819486480845,2.8277046552225595E-2,-2.2807698191248511E-2,2.4831105920438253E-2,2.1675662473427899E-2,2.8277046552225592E-2,0]
[null,4.4356020559053348E-25,7.3437125604676246E-2,8.7915766311351851E-4,0.17042596871649618,-0.11602476219957342,9.2601264172153144,6.0169217608535561,0.64976669753315874,0.68003706681622167,229.68519224392304,7.7006730799804149E-2,457.23148522251887,0.15329635120026644,5.5227850373787246E-2,4.4512200699825442E-2,0.60374744641575939,2.8353722866921859E-2,-2.5331082645560062E-2,2.7518776937845171E-2,2.0972789297832434E-2,2.8353722866921855E-2,0]
[null,3.8018732058162789E-31,8.0084861800030091E-2,8.0322125151080091E-4,0.15570558686551447,-0.10600323310626833,8.6047481702081807,5.6044180713793095,0.65131691951000092,0.68911006803518393,230.68434089358982,7.7341716134915195E-2,344.80558356815953,0.1156032328105172,5.2424281184921491E-2,3.7291747105121363E-2,0.65084855135958186,2.8153001603885373E-2,5.3488563857359527E-2,-7.1368036110784933E-2,5.1944823644701502E-2,2.8153001603885373E-2,0]
[null,3.9680070215462146E-33,8.7559791299448214E-2,7.589601804503962E-4,0.14712551502130744,-0.10016198248656145,8.2110155190031868,5.35531853167456,0.65221147363325083,0.71895480520044952,236.54140810904181,7.9305419558415302E-2,260.81444995122291,8.7443460938323531E-2,5.1149555703629349E-2,3.2228659602305157E-2,0.71081676382054126,2.8240884182844983E-2,1.620725285997025E-2,-2.0603368021196673E-2,3.4697219338027108E-2,2.8240884182844983E-2,0]
[null,-2.8938985860933062E-33,9.5994684279247358E-2,7.2684530602114012E-4,0.14090000074275205,-9.5923697563322988E-2,7.9198478960951526,5.1705241389888323,0.65285649507715138,0.76026329832531558,243.27336941832445,8.1562449396664877E-2,191.1846019939475,6.4098608338584079E-2,5.0371787923233137E-2,2.8152876547515221E-2,0.77772713938339644,2.8476531780520214E-2,-3.3680182989186433E-3,8.5352825159312664E-3,2.3875588801077877E-2,2.8476531780520214E-2,0]
[null,3.0101922571042623E-32,0.10554872685841464,7.2595225389928254E-4,0.14072688131336222,-9.5805839112651697E-2,7.9116847261094803,5.1653362911606653,0.65287438389884955,0.8350682501460206,258.68561802430992,8.6729725823263423E-2,135.96067096170083,4.5583638569915055E-2,5.1176023327523926E-2,2.5573079526293493E-2,0.87621433739936894,2.8768524395131306E-2,-1.1034826197296847E-2,2.1215734093584685E-2,1.8650999087066054E-2,2.8768524395131306E-2,0]
[null,-3.1264859281152166E-31,0.11641386182692361,7.2273332835720637E-4,0.14010288799936232,-9.5381028994708961E-2,7.8822314213383118,5.1466150498502268,0.65293884114054479,0.91760099957151386,272.20650484370691,9.1262883931123431E-2,84.020098989313652,2.816948311483566E-2,5.1482123070299438E-2,2.3083483928379733E-2,0.98069440038780165,2.8844279640295619E-2,-1.2467472319252071E-2,2.3876027195600245E-2,1.7419928431709683E-2,2.8844279640295616E-2,0]
[null,3.2427795991261727E-32,0.12882293018018509,7.8204412137743444E-4,0.15160036994135934,-0.1032084312284213,8.4174505264930506,5.4860375408683515,0.65174574220562609,1.0843606414695766,309.39703182670513,0.10373178047470707,38.933102294141968,1.3053131106433141E-2,5.4783886617278385E-2,2.2571792691030892E-2,1.1750392908378504,2.826114334067047E-2,-1.4045609395384713E-2,2.7278070459991727E-2,1.5601355144962054E-2,2.8261143340670467E-2,0]
[null,4.7986761001958974E-33,0.14306020987399781,9.1784214572999934E-4,0.17792501092567375,-0.12113005569209134,9.5843573631305574,6.2199529722453777,0.64896922522656675,1.3711401758768538,379.39632961899144,0.12720049880436482,-11.26557374061295,-3.7770175598757037E-3,6.0717137180960612E-2,2.3854872980918932E-2,1.5021176922410944,2.4884310430158228E-2,-1.3880675225493628E-2,2.6836515795319472E-2,1.589247175750013E-2,2.4884310430158235E-2,0]
[null,-7.3896230788640099E-24,0.15947517602038869,1.0632928266209583E-3,0.2061208331670763,-0.14032556677070035,10.746540243551687,6.9414248140134482,0.64592181825016237,1.7138063969505959,457.07812518453858,0.15324493406255363,-74.50649783113991,-2.4979850748173705E-2,6.3882871876537753E-2,2.4790641452500241E-2,1.8920311817613233,1.6978205232542475E-2,-1.7452510104882288E-2,3.8959855129319064E-2,5.7411258928367903E-3,1.6978205232542475E-2,0]
[null,5.1309437316557723E-31,0.17850063403985802,1.0840138064749558E-3,0.2101376247080454,-0.14306016928964782,10.90492106925447,7.0389210323415492,0.64548115365889347,1.9465353250165296,458.33333333333337,0.15366576866258877,-134.15779038323299,-4.49791854137759E-2,5.7442173658518551E-2,2.2579952340092826E-2,2.1451802790928944,9.0041051956939663E-3,-9.6787692168114406E-3,7.5756193222883796E-3,3.7292781008013087E-2,9.0041051956939733E-3,0]
[null,6.4624346078105641E-27,0.20067685341513844,1.0385972971252134E-3,0.20133356950111006,-0.13706643242272801,10.417803816046661,6.8140972066734848,0.65408192811018906,2.0906120893004654,458.33333333333337,0.15366576866258877,-180.18802323583762,-6.0411776933077942E-2,4.7692199830230854E-2,1.924322579121935E-2,2.3046896348961323,3.3425368072416972E-3,1.4285210650986205E-2,-9.9060973710863004E-2,0.15577009248477686,{"$f":"S632*Q652^2+T632*Q652+U632","v":3.342536807241725E-3},0.10303556719799878]
[null,null,{"$f":"C633","v":0.22668403164997661},{"$f":"D633+(D652-D632)","v":1.0688633827654077E-3},0.20720069343223654,-0.14106072779937201,10.237091632512653,6.8924076665862808,0.6732779107589727,2.3205852036282089,458.33333333333337,0.15366576866258877,-234.52726430529796,-7.8630136018489574E-2,4.073568963908606E-2,1.7531910361932742E-2,2.5528811083092875,-4.0211931164638795E-3,null,null,null,null,0.20594318580878934]
[null,"De","hc","e0","a'","b'","N'","tN'","t","Nc","sac","Nac","sat","Nat","Mtot","u","N","Mo","a''","b''","c''",null,"x"]
[null,null,{"$f":"$C$35","v":4.0138687861173784E-2},{"$f":"$D$35","v":3.210578024372992E-4},{"$f":"$E$35","v":6.2237513577017019E-2},{"$f":"$F$35","v":-4.2370847395201951E-2},{"$f":"IF($C$2=1,0.5*($O$31*D655*$F$6/$O$30)*(1-W655^2+(E655-F655)*(F655^2*(1-W655^2)+2*F655*(1-W655)+2*LN((1-F655)/(1-F655*W655)))/(F655^3)),$F$6*F655*(LN((1-E655+E655^2)/(1+E655)^2)/(6*E655)+ATAN((2-E655)/(E655*3^0.5))/(E655*3^0.5)-LN((W655^2-E655*W655+E655^2)/(W655+E655)^2)/(6*E655)-ATAN((2*W655-E655)/(E655*3^0.5))/(E655*3^0.5)))","v":3.8254468270961333},{"$f":"IF($C$2=1,($O$31*D655*$F$6/$O$30)*(1-W655^3-(E655-F655)*(-2*F655^3*(1-W655^3)-3*F655^2*(1-W655^2)-6*F655*(1-W655)-6*LN((1-F655)/(1-F655*W655)))/(2*F655^4))/3,$F$6*F655*(LN((1+E655^3)/(E655^3+W655^3)))/3)","v":2.5276172507990187},{"$f":"$I$35","v":0.66073778176593112},{"$f":"$J$35","v":0.15354841612232933},{"$f":"$K$35","v":0.6365191476987323},{"$f":"$L$35","v":2.1340626348999612E-4},{"$f":"$M$35","v":458.32156291626706},{"$f":"$N$35","v":0.15366182238581935},{"$f":"$O$35","v":1.9422167141878287E-2},{"$f":"$P$35","v":2.9740483717744983E-2},{"$f":"$Q$35","v":9.9999999999988987E-5},{"$f":"$R$35","v":1.9419193093506513E-2},null,null,null,null,{"$f":"IF(C655<$C$6,0,(C655-$C$6)/C655)","v":0}]
[null,{"$f":"IF(R636>$Q$29*V636,B636,IF(Q636>Q635,$U$6,-0.5)*B636)","v":3.9768977969850219E-35},{"$f":"IF(Q636>Q635,C636,(1-$T$6)*C636+$T$6*C637)","v":4.5181422537606569E-2},{"$f":"D636+B656","v":3.9334484870015113E-4},{"$f":"IF($C$2=1,D656/($O$31*$O$30),2^(1/3)*$O$30/D656)","v":7.6250460744389861E-2},{"$f":"IF($C$2=1,-($O$31-2)*D656/$O$30,3*($O$30/D656)^2)","v":-5.1910760091923788E-2},{"$f":"IF($C$2=1,0.5*($O$31*D656*$F$6/$O$30)*(1-W656^2+(E656-F656)*(F656^2*(1-W656^2)+2*F656*(1-W656)+2*LN((1-F656)/(1-F656*W656)))/(F656^3)),$F$6*F656*(LN((1-E656+E656^2)/(1+E656)^2)/(6*E656)+ATAN((2-E656)/(E656*3^0.5))/(E656*3^0.5)-LN((W656^2-E656*W656+E656^2)/(W656+E656)^2)/(6*E656)-ATAN((2*W656-E656)/(E656*3^0.5))/(E656*3^0.5)))","v":4.613110708371468},{"$f":"IF($C$2=1,($O$31*D656*$F$6/$O$30)*(1-W656^3-(E656-F656)*(-2*F656^3*(1-W656^3)-3*F656^2*(1-W656^2)-6*F656*(1-W656)-6*LN((1-F656)/(1-F656*W656)))/(2*F656^4))/3,$F$6*F656*(LN((1+E656^3)/(E656^3+W656^3)))/3)","v":3.0417370707038054},{"$f":"H656/G656","v":0.6593678892604784},{"$f":"G656*C656*$D$6","v":0.20842690412768886},{"$f":"MAX(MIN($K$6,$Q$6*$J$6*D656*(C656-$I$6)/C656),-$K$6)","v":25.883055331143311},{"$f":"K656*$H$6","v":8.6778318388286233E-3},{"$f":"MIN($O$6,$Q$6*$N$6*D656*(C$6-C656-$M$6)/C656)","v":458.33333333333337},{"$f":"M656*$L$6","v":0.15366576866258877},{"$f":"(0.5*$C$6-C656+I656*C656)*J656+(0.5*$C$6-$I$6)*L656+(0.5*$C$6-$M$6)*N656","v":2.3667860626519786E-2},{"$f":"0.1*$Q$6*D656*$B$6^2/C656+$R$6","v":3.2369913344933235E-2},{"$f":"(J656+L656-N656)","v":6.3438967303928701E-2},{"$f":"O656-P656*Q656","v":2.1614346752199563E-2},{"$f":"((R656-R655)*(Q656-Q657)-(R656-R657)*(Q656-Q655))/((Q656^2-Q655^2)*(Q656-Q657)-(Q656^2-Q657^2)*(Q656-Q655))","v":-5.0906690086739578E-2},{"$f":"-(S656*(Q656^2-Q655^2)-(R656-R655))/(Q656-Q655)","v":3.7891796424874044E-2},{"$f":"R656-S656*Q656^2-T656*Q656","v":1.9415404422930927E-2},{"$f":"S636*Q656^2+T636*Q656+U636","v":2.1614346752199563E-2},{"$f":"IF(C656<$C$6,0,(C656-$C$6)/C656)","v":0}]
[null,{"$f":"IF(R637>$Q$29*V637,B637,IF(Q637>Q636,$U$6,-0.5)*B637)","v":9.2191671472819423E-35},{"$f":"IF(Q637>Q636,C637,(1-$T$6)*C637+$T$6*C638)","v":4.9415891915262342E-2},{"$f":"D637+B657","v":4.5831677895414393E-4},8.8845362225090027E-2,-6.048527758025446E-2,5.298963348818206,3.4873783855907905,0.65812464741213172,0.26185300010813706,50.108747538653482,1.6799998270356629E-2,458.33333333333337,0.15366576866258877,2.7666294009989843E-2,{"$f":"0.1*$Q$6*D657*$B$6^2/C657+$R$6","v":3.4484750565600325E-2},0.1249872297159049,2.3356140569351473E-2,-2.4406838503766199E-2,3.2898530169504357E-2,1.9625523356776232E-2,{"$f":"MAX(S637*Q657^2+T637*Q657+U637,S638*Q657^2+T638*Q657+U638)","v":2.3356140569351473E-2},0]
[null,-2.0798428890166172E-33,5.3135963724627852E-2,4.9935638089130207E-4,9.6800947678454222E-2,-6.5901382398883657E-2,5.7215793302330873,3.7609846786577479,0.65733330984061211,0.30402163173884583,70.833213832193195,2.3748306000797411E-2,458.33333333333337,0.15366576866258877,3.0697047575934798E-2,3.494218127080094E-2,0.17410416907705448,2.4613468140042186E-2,-4.5103014428982229E-2,3.9088578376642383E-2,1.917515805775322E-2,{"$f":"MAX(S638*Q658^2+T638*Q658+U638,S639*Q658^2+T639*Q658+U639)","v":2.4613468140042186E-2},0]
[null,5.6969288289327797E-23,5.7428181372141097E-2,5.514539446251275E-4,0.10690013482045398,-7.2776835684460875E-2,6.2464148897257887,4.0996583167619933,0.65632180845130572,0.35872024721281531,96.026084290590006,3.2194739027284473E-2,454.9555829307958,0.15253330769104773,3.4441229960732844E-2,3.5703612035945798E-2,0.23838167854905207,2.5930142993339948E-2,-2.9426200348363504E-2,3.2622114432521492E-2,1.9825796698733748E-2,2.5930142993339948E-2,0]
[null,4.9168873655396354E-25,6.2195419634221871E-2,6.3481451892244281E-4,0.12305970121389279,-8.3778151165705819E-2,7.0595192163462306,4.6217728328091976,0.65468662824906532,0.43906976007650694,129.98845249060312,4.358132829649948E-2,455.66595113320221,0.15277147338382499,3.990405674307692E-2,3.7950405354822588E-2,0.32987961498918139,2.7384991635944676E-2,-4.0881215445812906E-2,3.9131556129298077E-2,1.8925005740134344E-2,2.7384991635944676E-2,0]
[null,3.4696055743564052E-29,6.7505252560478693E-2,7.6077995736461353E-4,0.1474782813753594,-0.10040214325929543,8.2273758274995288,5.3656873709129131,0.65217482261821724,0.55539108314533303,177.86483664942327,5.9632880382064171E-2,458.33333333333337,0.15366576866258877,4.7609532615159544E-2,4.1903419681531696E-2,0.46135819486480845,2.8277046552225595E-2,-2.2807698191248511E-2,2.4831105920438253E-2,2.1675662473427899E-2,2.8277046552225592E-2,0]
[null,-4.4356020559053351E-26,7.3437125604676246E-2,8.7915766311351851E-4,0.17042596871649618,-0.11602476219957342,9.2601264172153144,6.0169217608535561,0.64976669753315874,0.68003706681622167,229.68519224392304,7.7006730799804149E-2,457.23148522251887,0.15329635120026644,5.5227850373787246E-2,4.4512200699825442E-2,0.60374744641575939,2.8353722866921859E-2,-2.5331082645560062E-2,2.7518776937845171E-2,2.0972789297832434E-2,2.8353722866921855E-2,0]
[null,-3.8018732058162791E-32,8.0084861800030091E-2,8.0322125151080091E-4,0.15570558686551447,-0.10600323310626833,8.6047481702081807,5.6044180713793095,0.65131691951000092,0.68911006803518393,230.68434089358982,7.7341716134915195E-2,344.80558356815953,0.1156032328105172,5.2424281184921491E-2,3.7291747105121363E-2,0.65084855135958186,2.8153001603885373E-2,5.3488563857359527E-2,-7.1368036110784933E-2,5.1944823644701502E-2,2.8153001603885373E-2,0]
[null,-3.9680070215462149E-34,8.7559791299448214E-2,7.589601804503962E-4,0.14712551502130744,-0.10016198248656145,8.2110155190031868,5.35531853167456,0.65221147363325083,0.71895480520044952,236.54140810904181,7.9305419558415302E-2,260.81444995122291,8.7443460938323531E-2,5.1149555703629349E-2,3.2228659602305157E-2,0.71081676382054126,2.8240884182844983E-2,1.620725285997025E-2,-2.0603368021196673E-2,3.4697219338027108E-2,2.8240884182844983E-2,0]
[null,2.8938985860933066E-34,9.5994684279247358E-2,7.2684530602114012E-4,0.14090000074275205,-9.5923697563322988E-2,7.9198478960951526,5.1705241389888323,0.65285649507715138,0.76026329832531558,243.27336941832445,8.1562449396664877E-2,191.1846019939475,6.4098608338584079E-2,5.0371787923233137E-2,2.8152876547515221E-2,0.77772713938339644,2.8476531780520214E-2,-3.3680182989186433E-3,8.5352825159312664E-3,2.3875588801077877E-2,2.8476531780520214E-2,0]
[null,-3.0101922571042626E-33,0.10554872685841464,7.2595225389928254E-4,0.14072688131336222,-9.5805839112651697E-2,7.9116847261094803,5.1653362911606653,0.65287438389884955,0.8350682501460206,258.68561802430992,8.6729725823263423E-2,135.96067096170083,4.5583638569915055E-2,5.1176023327523926E-2,2.5573079526293493E-2,0.87621433739936894,2.8768524395131306E-2,-1.1034826197296847E-2,2.1215734093584685E-2,1.8650999087066054E-2,2.8768524395131306E-2,0]
[null,3.1264859281152167E-32,0.11641386182692361,7.2273332835720637E-4,0.14010288799936232,-9.5381028994708961E-2,7.8822314213383118,5.1466150498502268,0.65293884114054479,0.91760099957151386,272.20650484370691,9.1262883931123431E-2,84.020098989313652,2.816948311483566E-2,5.1482123070299438E-2,2.3083483928379733E-2,0.98069440038780165,2.8844279640295619E-2,-1.2467472319252071E-2,2.3876027195600245E-2,1.7419928431709683E-2,2.8844279640295616E-2,0]
[null,-3.2427795991261731E-33,0.12882293018018509,7.8204412137743444E-4,0.15160036994135934,-0.1032084312284213,8.4174505264930506,5.4860375408683515,0.65174574220562609,1.0843606414695766,309.39703182670513,0.10373178047470707,38.933102294141968,1.3053131106433141E-2,5.4783886617278385E-2,2.2571792691030892E-2,1.1750392908378504,2.826114334067047E-2,-1.4045609395384713E-2,2.7278070459991727E-2,1.5601355144962054E-2,2.8261143340670467E-2,0]
[null,-4.7986761001958976E-34,0.14306020987399781,9.1784214572999934E-4,0.17792501092567375,-0.12113005569209134,9.5843573631305574,6.2199529722453777,0.64896922522656675,1.3711401758768538,379.39632961899144,0.12720049880436482,-11.26557374061295,-3.7770175598757037E-3,6.0717137180960612E-2,2.3854872980918932E-2,1.5021176922410944,2.4884310430158228E-2,-1.3880675225493628E-2,2.6836515795319472E-2,1.589247175750013E-2,2.4884310430158235E-2,0]
[null,7.3896230788640103E-25,0.15947517602038869,1.0632928266209583E-3,0.2061208331670763,-0.14032556677070035,10.746540243551687,6.9414248140134482,0.64592181825016237,1.7138063969505959,457.07812518453858,0.15324493406255363,-74.50649783113991,-2.4979850748173705E-2,6.3882871876537753E-2,2.4790641452500241E-2,1.8920311817613233,1.6978205232542475E-2,-1.7452510104882288E-2,3.8959855129319064E-2,5.7411258928367903E-3,1.6978205232542475E-2,0]
[null,-5.1309437316557727E-32,0.17850063403985802,1.0840138064749558E-3,0.2101376247080454,-0.14306016928964782,10.90492106925447,7.0389210323415492,0.64548115365889347,1.9465353250165296,458.33333333333337,0.15366576866258877,-134.15779038323299,-4.49791854137759E-2,5.7442173658518551E-2,2.2579952340092826E-2,2.1451802790928944,9.0041051956939663E-3,-9.6787692168114406E-3,7.5756193222883796E-3,3.7292781008013087E-2,9.0041051956939733E-3,0]
[null,-6.4624346078105646E-28,0.20067685341513844,1.0385972971252134E-3,0.20133356950111006,-0.13706643242272801,10.417803816046661,6.8140972066734848,0.65408192811018906,2.0906120893004654,458.33333333333337,0.15366576866258877,-180.18802323583762,-6.0411776933077942E-2,4.7692199830230854E-2,1.924322579121935E-2,2.3046896348961323,3.3425368072416972E-3,1.4285210650986205E-2,-9.9060973710863004E-2,0.15577009248477686,{"$f":"S652*Q672^2+T652*Q672+U652","v":3.342536807241725E-3},0.10303556719799878]
[null,null,{"$f":"C653","v":0.22668403164997661},{"$f":"D653+(D672-D652)","v":1.0688633827654077E-3},0.20720069343223654,-0.14106072779937201,10.237091632512653,6.8924076665862808,0.6732779107589727,2.3205852036282089,458.33333333333337,0.15366576866258877,-234.52726430529796,-7.8630136018489574E-2,4.073568963908606E-2,1.7531910361932742E-2,2.5528811083092875,-4.0211931164638795E-3,null,null,null,null,0.20594318580878934]
[null,"De","hc","e0","a'","b'","N'","tN'","t","Nc","sac","Nac","sat","Nat","Mtot","u","N","Mo","a''","b''","c''",null,"x"]
[null,null,{"$f":"$C$35","v":4.0138687861173784E-2},{"$f":"$D$35","v":3.210578024372992E-4},{"$f":"$E$35","v":6.2237513577017019E-2},{"$f":"$F$35","v":-4.2370847395201951E-2},{"$f":"IF($C$2=1,0.5*($O$31*D675*$F$6/$O$30)*(1-W675^2+(E675-F675)*(F675^2*(1-W675^2)+2*F675*(1-W675)+2*LN((1-F675)/(1-F675*W675)))/(F675^3)),$F$6*F675*(LN((1-E675+E675^2)/(1+E675)^2)/(6*E675)+ATAN((2-E675)/(E675*3^0.5))/(E675*3^0.5)-LN((W675^2-E675*W675+E675^2)/(W675+E675)^2)/(6*E675)-ATAN((2*W675-E675)/(E675*3^0.5))/(E675*3^0.5)))","v":3.8254468270961333},{"$f":"IF($C$2=1,($O$31*D675*$F$6/$O$30)*(1-W675^3-(E675-F675)*(-2*F675^3*(1-W675^3)-3*F675^2*(1-W675^2)-6*F675*(1-W675)-6*LN((1-F675)/(1-F675*W675)))/(2*F675^4))/3,$F$6*F675*(LN((1+E675^3)/(E675^3+W675^3)))/3)","v":2.5276172507990187},{"$f":"$I$35","v":0.66073778176593112},{"$f":"$J$35","v":0.15354841612232933},{"$f":"$K$35","v":0.6365191476987323},{"$f":"$L$35","v":2.1340626348999612E-4},{"$f":"$M$35","v":458.32156291626706},{"$f":"$N$35","v":0.15366182238581935},{"$f":"$O$35","v":1.9422167141878287E-2},{"$f":"$P$35","v":2.9740483717744983E-2},{"$f":"$Q$35","v":9.9999999999988987E-5},{"$f":"$R$35","v":1.9419193093506513E-2},null,null,null,null,{"$f":"IF(C675<$C$6,0,(C675-$C$6)/C675)","v":0}]
[null,{"$f":"IF(R656>$Q$29*V656,B656,IF(Q656>Q655,$U$6,-0.5)*B656)","v":-3.9768977969850221E-36},{"$f":"IF(Q656>Q655,C656,(1-$T$6)*C656+$T$6*C657)","v":4.5181422537606569E-2},{"$f":"D656+B676","v":3.9334484870015113E-4},{"$f":"IF($C$2=1,D676/($O$31*$O$30),2^(1/3)*$O$30/D676)","v":7.6250460744389861E-2},{"$f":"IF($C$2=1,-($O$31-2)*D676/$O$30,3*($O$30/D676)^2)","v":-5.1910760091923788E-2},{"$f":"IF($C$2=1,0.5*($O$31*D676*$F$6/$O$30)*(1-W676^2+(E676-F676)*(F676^2*(1-W676^2)+2*F676*(1-W676)+2*LN((1-F676)/(1-F676*W676)))/(F676^3)),$F$6*F676*(LN((1-E676+E676^2)/(1+E676)^2)/(6*E676)+ATAN((2-E676)/(E676*3^0.5))/(E676*3^0.5)-LN((W676^2-E676*W676+E676^2)/(W676+E676)^2)/(6*E676)-ATAN((2*W676-E676)/(E676*3^0.5))/(E676*3^0.5)))","v":4.613110708371468},{"$f":"IF($C$2=1,($O$31*D676*$F$6/$O$30)*(1-W676^3-(E676-F676)*(-2*F676^3*(1-W676^3)-3*F676^2*(1-W676^2)-6*F676*(1-W676)-6*LN((1-F676)/(1-F676*W676)))/(2*F676^4))/3,$F$6*F676*(LN((1+E676^3)/(E676^3+W676^3)))/3)","v":3.0417370707038054},{"$f":"H676/G676","v":0.6593678892604784},{"$f":"G676*C676*$D$6","v":0.20842690412768886},{"$f":"MAX(MIN($K$6,$Q$6*$J$6*D676*(C676-$I$6)/C676),-$K$6)","v":25.883055331143311},{"$f":"K676*$H$6","v":8.6778318388286233E-3},{"$f":"MIN($O$6,$Q$6*$N$6*D676*(C$6-C676-$M$6)/C676)","v":458.33333333333337},{"$f":"M676*$L$6","v":0.15366576866258877},{"$f":"(0.5*$C$6-C676+I676*C676)*J676+(0.5*$C$6-$I$6)*L676+(0.5*$C$6-$M$6)*N676","v":2.3667860626519786E-2},{"$f":"0.1*$Q$6*D676*$B$6^2/C676+$R$6","v":3.2369913344933235E-2},{"$f":"(J676+L676-N676)","v":6.3438967303928701E-2},{"$f":"O676-P676*Q676","v":2.1614346752199563E-2},{"$f":"((R676-R675)*(Q676-Q677)-(R676-R677)*(Q676-Q675))/((Q676^2-Q675^2)*(Q676-Q677)-(Q676^2-Q677^2)*(Q676-Q675))","v":-5.0906690086739578E-2},{"$f":"-(S676*(Q676^2-Q675^2)-(R676-R675))/(Q676-Q675)","v":3.7891796424874044E-2},{"$f":"R676-S676*Q676^2-T676*Q676","v":1.9415404422930927E-2},{"$f":"S656*Q676^2+T656*Q676+U656","v":2.1614346752199563E-2},{"$f":"IF(C676<$C$6,0,(C676-$C$6)/C676)","v":0}]
[null,{"$f":"IF(R657>$Q$29*V657,B657,IF(Q657>Q656,$U$6,-0.5)*B657)","v":-9.2191671472819423E-36},{"$f":"IF(Q657>Q656,C657,(1-$T$6)*C657+$T$6*C658)","v":4.9415891915262342E-2},{"$f":"D657+B677","v":4.5831677895414393E-4},8.8845362225090027E-2,-6.048527758025446E-2,5.298963348818206,3.4873783855907905,0.65812464741213172,0.26185300010813706,50.108747538653482,1.6799998270356629E-2,458.33333333333337,0.15366576866258877,2.7666294009989843E-2,{"$f":"0.1*$Q$6*D677*$B$6^2/C677+$R$6","v":3.4484750565600325E-2},0.1249872297159049,2.3356140569351473E-2,-2.4406838503766199E-2,3.2898530169504357E-2,1.9625523356776232E-2,{"$f":"MAX(S657*Q677^2+T657*Q677+U657,S658*Q677^2+T658*Q677+U658)","v":2.3356140569351473E-2},0]
[null,2.0798428890166175E-34,5.3135963724627852E-2,4.9935638089130207E-4,9.6800947678454222E-2,-6.5901382398883657E-2,5.7215793302330873,3.7609846786577479,0.65733330984061211,0.30402163173884583,70.833213832193195,2.3748306000797411E-2,458.33333333333337,0.15366576866258877,3.0697047575934798E-2,3.494218127080094E-2,0.17410416907705448,2.4613468140042186E-2,-4.5103014428982229E-2,3.9088578376642383E-2,1.917515805775322E-2,{"$f":"MAX(S658*Q678^2+T658*Q678+U658,S659*Q678^2+T659*Q678+U659)","v":2.4613468140042186E-2},0]
[null,-5.69692882893278E-24,5.7428181372141097E-2,5.514539446251275E-4,0.10690013482045398,-7.2776835684460875E-2,6.2464148897257887,4.0996583167619933,0.65632180845130572,0.35872024721281531,96.026084290590006,3.2194739027284473E-2,454.9555829307958,0.15253330769104773,3.4441229960732844E-2,3.5703612035945798E-2,0.23838167854905207,2.5930142993339948E-2,-2.9426200348363504E-2,3.2622114432521492E-2,1.9825796698733748E-2,2.5930142993339948E-2,0]
[null,-4.9168873655396356E-26,6.2195419634221871E-2,6.3481451892244281E-4,0.12305970121389279,-8.3778151165705819E-2,7.0595192163462306,4.6217728328091976,0.65468662824906532,0.43906976007650694,129.98845249060312,4.358132829649948E-2,455.66595113320221,0.15277147338382499,3.990405674307692E-2,3.7950405354822588E-2,0.32987961498918139,2.7384991635944676E-2,-4.0881215445812906E-2,3.9131556129298077E-2,1.8925005740134344E-2,2.7384991635944676E-2,0]
[null,-3.4696055743564052E-30,6.7505252560478693E-2,7.6077995736461353E-4,0.1474782813753594,-0.10040214325929543,8.2273758274995288,5.3656873709129131,0.65217482261821724,0.55539108314533303,177.86483664942327,5.9632880382064171E-2,458.33333333333337,0.15366576866258877,4.7609532615159544E-2,4.1903419681531696E-2,0.46135819486480845,2.8277046552225595E-2,-2.2807698191248511E-2,2.4831105920438253E-2,2.1675662473427899E-2,2.8277046552225592E-2,0]
[null,4.4356020559053355E-27,7.3437125604676246E-2,8.7915766311351851E-4,0.17042596871649618,-0.11602476219957342,9.2601264172153144,6.0169217608535561,0.64976669753315874,0.68003706681622167,229.68519224392304,7.7006730799804149E-2,457.23148522251887,0.15329635120026644,5.5227850373787246E-2,4.4512200699825442E-2,0.60374744641575939,2.8353722866921859E-2,-2.5331082645560062E-2,2.7518776937845171E-2,2.0972789297832434E-2,2.8353722866921855E-2,0]
[null,3.8018732058162793E-33,8.0084861800030091E-2,8.0322125151080091E-4,0.15570558686551447,-0.10600323310626833,8.6047481702081807,5.6044180713793095,0.65131691951000092,0.68911006803518393,230.68434089358982,7.7341716134915195E-2,344.80558356815953,0.1156032328105172,5.2424281184921491E-2,3.7291747105121363E-2,0.65084855135958186,2.8153001603885373E-2,5.3488563857359527E-2,-7.1368036110784933E-2,5.1944823644701502E-2,2.8153001603885373E-2,0]
[null,3.9680070215462149E-35,8.7559791299448214E-2,7.589601804503962E-4,0.14712551502130744,-0.10016198248656145,8.2110155190031868,5.35531853167456,0.65221147363325083,0.71895480520044952,236.54140810904181,7.9305419558415302E-2,260.81444995122291,8.7443460938323531E-2,5.1149555703629349E-2,3.2228659602305157E-2,0.71081676382054126,2.8240884182844983E-2,1.620725285997025E-2,-2.0603368021196673E-2,3.4697219338027108E-2,2.8240884182844983E-2,0]
[null,-2.893898586093307E-35,9.5994684279247358E-2,7.2684530602114012E-4,0.14090000074275205,-9.5923697563322988E-2,7.9198478960951526,5.1705241389888323,0.65285649507715138,0.76026329832531558,243.27336941832445,8.1562449396664877E-2,191.1846019939475,6.4098608338584079E-2,5.0371787923233137E-2,2.8152876547515221E-2,0.77772713938339644,2.8476531780520214E-2,-3.3680182989186433E-3,8.5352825159312664E-3,2.3875588801077877E-2,2.8476531780520214E-2,0]
[null,3.0101922571042627E-34,0.10554872685841464,7.2595225389928254E-4,0.14072688131336222,-9.5805839112651697E-2,7.9116847261094803,5.1653362911606653,0.65287438389884955,0.8350682501460206,258.68561802430992,8.6729725823263423E-2,135.96067096170083,4.5583638569915055E-2,5.1176023327523926E-2,2.5573079526293493E-2,0.87621433739936894,2.8768524395131306E-2,-1.1034826197296847E-2,2.1215734093584685E-2,1.8650999087066054E-2,2.8768524395131306E-2,0]
[null,-3.1264859281152168E-33,0.11641386182692361,7.2273332835720637E-4,0.14010288799936232,-9.5381028994708961E-2,7.8822314213383118,5.1466150498502268,0.65293884114054479,0.91760099957151386,272.20650484370691,9.1262883931123431E-2,84.020098989313652,2.816948311483566E-2,5.1482123070299438E-2,2.3083483928379733E-2,0.98069440038780165,2.8844279640295619E-2,-1.2467472319252071E-2,2.3876027195600245E-2,1.7419928431709683E-2,2.8844279640295616E-2,0]
[null,3.2427795991261733E-34,0.12882293018018509,7.8204412137743444E-4,0.15160036994135934,-0.1032084312284213,8.4174505264930506,5.4860375408683515,0.65174574220562609,1.0843606414695766,309.39703182670513,0.10373178047470707,38.933102294141968,1.3053131106433141E-2,5.4783886617278385E-2,2.2571792691030892E-2,1.1750392908378504,2.826114334067047E-2,-1.4045609395384713E-2,2.7278070459991727E-2,1.5601355144962054E-2,2.8261143340670467E-2,0]
[null,4.7986761001958978E-35,0.14306020987399781,9.1784214572999934E-4,0.17792501092567375,-0.12113005569209134,9.5843573631305574,6.2199529722453777,0.64896922522656675,1.3711401758768538,379.39632961899144,0.12720049880436482,-11.26557374061295,-3.7770175598757037E-3,6.0717137180960612E-2,2.3854872980918932E-2,1.5021176922410944,2.4884310430158228E-2,-1.3880675225493628E-2,2.6836515795319472E-2,1.589247175750013E-2,2.4884310430158235E-2,0]
[null,-7.3896230788640107E-26,0.15947517602038869,1.0632928266209583E-3,0.2061208331670763,-0.14032556677070035,10.746540243551687,6.9414248140134482,0.64592181825016237,1.7138063969505959,457.07812518453858,0.15324493406255363,-74.50649783113991,-2.4979850748173705E-2,6.3882871876537753E-2,2.4790641452500241E-2,1.8920311817613233,1.6978205232542475E-2,-1.7452510104882288E-2,3.8959855129319064E-2,5.7411258928367903E-3,1.6978205232542475E-2,0]
[null,5.1309437316557729E-33,0.17850063403985802,1.0840138064749558E-3,0.2101376247080454,-0.14306016928964782,10.90492106925447,7.0389210323415492,0.64548115365889347,1.9465353250165296,458.33333333333337,0.15366576866258877,-134.15779038323299,-4.49791854137759E-2,5.7442173658518551E-2,2.2579952340092826E-2,2.1451802790928944,9.0041051956939663E-3,-9.6787692168114406E-3,7.5756193222883796E-3,3.7292781008013087E-2,9.0041051956939733E-3,0]
[null,6.4624346078105655E-29,0.20067685341513844,1.0385972971252134E-3,0.20133356950111006,-0.13706643242272801,10.417803816046661,6.8140972066734848,0.65408192811018906,2.0906120893004654,458.33333333333337,0.15366576866258877,-180.18802323583762,-6.0411776933077942E-2,4.7692199830230854E-2,1.924322579121935E-2,2.3046896348961323,3.3425368072416972E-3,1.4285210650986205E-2,-9.9060973710863004E-2,0.15577009248477686,{"$f":"S672*Q692^2+T672*Q692+U672","v":3.342536807241725E-3},0.10303556719799878]
[null,null,{"$f":"C673","v":0.22668403164997661},{"$f":"D673+(D692-D672)","v":1.0688633827654077E-3},0.20720069343223654,-0.14106072779937201,10.237091632512653,6.8924076665862808,0.6732779107589727,2.3205852036282089,458.33333333333337,0.15366576866258877,-234.52726430529796,-7.8630136018489574E-2,4.073568963908606E-2,1.7531910361932742E-2,2.5528811083092875,-4.0211931164638795E-3,null,null,null,null,0.20594318580878934]
[null,"De","hc","e0","a'","b'","N'","tN'","t","Nc","sac","Nac","sat","Nat","Mtot","u","N","Mo","a''","b''","c''",null,"x"]
[null,null,{"$f":"$C$35","v":4.0138687861173784E-2},{"$f":"$D$35","v":3.210578024372992E-4},{"$f":"$E$35","v":6.2237513577017019E-2},{"$f":"$F$35","v":-4.2370847395201951E-2},{"$f":"IF($C$2=1,0.5*($O$31*D695*$F$6/$O$30)*(1-W695^2+(E695-F695)*(F695^2*(1-W695^2)+2*F695*(1-W695)+2*LN((1-F695)/(1-F695*W695)))/(F695^3)),$F$6*F695*(LN((1-E695+E695^2)/(1+E695)^2)/(6*E695)+ATAN((2-E695)/(E695*3^0.5))/(E695*3^0.5)-LN((W695^2-E695*W695+E695^2)/(W695+E695)^2)/(6*E695)-ATAN((2*W695-E695)/(E695*3^0.5))/(E695*3^0.5)))","v":3.8254468270961333},{"$f":"IF($C$2=1,($O$31*D695*$F$6/$O$30)*(1-W695^3-(E695-F695)*(-2*F695^3*(1-W695^3)-3*F695^2*(1-W695^2)-6*F695*(1-W695)-6*LN((1-F695)/(1-F695*W695)))/(2*F695^4))/3,$F$6*F695*(LN((1+E695^3)/(E695^3+W695^3)))/3)","v":2.5276172507990187},{"$f":"$I$35","v":0.66073778176593112},{"$f":"$J$35","v":0.15354841612232933},{"$f":"$K$35","v":0.6365191476987323},{"$f":"$L$35","v":2.1340626348999612E-4},{"$f":"$M$35","v":458.32156291626706},{"$f":"$N$35","v":0.15366182238581935},{"$f":"$O$35","v":1.9422167141878287E-2},{"$f":"$P$35","v":2.9740483717744983E-2},{"$f":"$Q$35","v":9.9999999999988987E-5},{"$f":"$R$35","v":1.9419193093506513E-2},null,null,null,null,{"$f":"IF(C695<$C$6,0,(C695-$C$6)/C695)","v":0}]
[null,{"$f":"IF(R676>$Q$29*V676,B676,IF(Q676>Q675,$U$6,-0.5)*B676)","v":3.9768977969850222E-37},{"$f":"IF(Q676>Q675,C676,(1-$T$6)*C676+$T$6*C677)","v":4.5181422537606569E-2},{"$f":"D676+B696","v":3.9334484870015113E-4},{"$f":"IF($C$2=1,D696/($O$31*$O$30),2^(1/3)*$O$30/D696)","v":7.6250460744389861E-2},{"$f":"IF($C$2=1,-($O$31-2)*D696/$O$30,3*($O$30/D696)^2)","v":-5.1910760091923788E-2},{"$f":"IF($C$2=1,0.5*($O$31*D696*$F$6/$O$30)*(1-W696^2+(E696-F696)*(F696^2*(1-W696^2)+2*F696*(1-W696)+2*LN((1-F696)/(1-F696*W696)))/(F696^3)),$F$6*F696*(LN((1-E696+E696^2)/(1+E696)^2)/(6*E696)+ATAN((2-E696)/(E696*3^0.5))/(E696*3^0.5)-LN((W696^2-E696*W696+E696^2)/(W696+E696)^2)/(6*E696)-ATAN((2*W696-E696)/(E696*3^0.5))/(E696*3^0.5)))","v":4.613110708371468},{"$f":"IF($C$2=1,($O$31*D696*$F$6/$O$30)*(1-W696^3-(E696-F696)*(-2*F696^3*(1-W696^3)-3*F696^2*(1-W696^2)-6*F696*(1-W696)-6*LN((1-F696)/(1-F696*W696)))/(2*F696^4))/3,$F$6*F696*(LN((1+E696^3)/(E696^3+W696^3)))/3)","v":3.0417370707038054},{"$f":"H696/G696","v":0.6593678892604784},{"$f":"G696*C696*$D$6","v":0.20842690412768886},{"$f":"MAX(MIN($K$6,$Q$6*$J$6*D696*(C696-$I$6)/C696),-$K$6)","v":25.883055331143311},{"$f":"K696*$H$6","v":8.6778318388286233E-3},{"$f":"MIN($O$6,$Q$6*$N$6*D696*(C$6-C696-$M$6)/C696)","v":458.33333333333337},{"$f":"M696*$L$6","v":0.15366576866258877},{"$f":"(0.5*$C$6-C696+I696*C696)*J696+(0.5*$C$6-$I$6)*L696+(0.5*$C$6-$M$6)*N696","v":2.3667860626519786E-2},{"$f":"0.1*$Q$6*D696*$B$6^2/C696+$R$6","v":3.2369913344933235E-2},{"$f":"(J696+L696-N696)","v":6.3438967303928701E-2},{"$f":"O696-P696*Q696","v":2.1614346752199563E-2},{"$f":"((R696-R695)*(Q696-Q697)-(R696-R697)*(Q696-Q695))/((Q696^2-Q695^2)*(Q696-Q697)-(Q696^2-Q697^2)*(Q696-Q695))","v":-5.0906690086739578E-2},{"$f":"-(S696*(Q696^2-Q695^2)-(R696-R695))/(Q696-Q695)","v":3.7891796424874044E-2},{"$f":"R696-S696*Q696^2-T696*Q696","v":1.9415404422930927E-2},{"$f":"S676*Q696^2+T676*Q696+U676","v":2.1614346752199563E-2},{"$f":"IF(C696<$C$6,0,(C696-$C$6)/C696)","v":0}]
[null,{"$f":"IF(R677>$Q$29*V677,B677,IF(Q677>Q676,$U$6,-0.5)*B677)","v":9.219167147281943E-37},{"$f":"IF(Q677>Q676,C677,(1-$T$6)*C677+$T$6*C678)","v":4.9415891915262342E-2},{"$f":"D677+B697","v":4.5831677895414393E-4},8.8845362225090027E-2,-6.048527758025446E-2,5.298963348818206,3.4873783855907905,0.65812464741213172,0.26185300010813706,50.108747538653482,1.6799998270356629E-2,458.33333333333337,0.15366576866258877,2.7666294009989843E-2,{"$f":"0.1*$Q$6*D697*$B$6^2/C697+$R$6","v":3.4484750565600325E-2},0.1249872297159049,2.3356140569351473E-2,-2.4406838503766199E-2,3.2898530169504357E-2,1.9625523356776232E-2,{"$f":"MAX(S677*Q697^2+T677*Q697+U677,S678*Q697^2+T678*Q697+U678)","v":2.3356140569351473E-2},0]
[null,-2.0798428890166175E-35,5.3135963724627852E-2,4.9935638089130207E-4,9.6800947678454222E-2,-6.5901382398883657E-2,5.7215793302330873,3.7609846786577479,0.65733330984061211,0.30402163173884583,70.833213832193195,2.3748306000797411E-2,458.33333333333337,0.15366576866258877,3.0697047575934798E-2,3.494218127080094E-2,0.17410416907705448,2.4613468140042186E-2,-4.5103014428982229E-2,3.9088578376642383E-2,1.917515805775322E-2,{"$f":"MAX(S678*Q698^2+T678*Q698+U678,S679*Q698^2+T679*Q698+U679)","v":2.4613468140042186E-2},0]
[null,5.6969288289327801E-25,5.7428181372141097E-2,5.514539446251275E-4,0.10690013482045398,-7.2776835684460875E-2,6.2464148897257887,4.0996583167619933,0.65632180845130572,0.35872024721281531,96.026084290590006,3.2194739027284473E-2,454.9555829307958,0.15253330769104773,3.4441229960732844E-2,3.5703612035945798E-2,0.23838167854905207,2.5930142993339948E-2,-2.9426200348363504E-2,3.2622114432521492E-2,1.9825796698733748E-2,2.5930142993339948E-2,0]
[null,4.9168873655396359E-27,6.2195419634221871E-2,6.3481451892244281E-4,0.12305970121389279,-8.3778151165705819E-2,7.0595192163462306,4.6217728328091976,0.65468662824906532,0.43906976007650694,129.98845249060312,4.358132829649948E-2,455.66595113320221,0.15277147338382499,3.990405674307692E-2,3.7950405354822588E-2,0.32987961498918139,2.7384991635944676E-2,-4.0881215445812906E-2,3.9131556129298077E-2,1.8925005740134344E-2,2.7384991635944676E-2,0]
[null,3.4696055743564053E-31,6.7505252560478693E-2,7.6077995736461353E-4,0.1474782813753594,-0.10040214325929543,8.2273758274995288,5.3656873709129131,0.65217482261821724,0.55539108314533303,177.86483664942327,5.9632880382064171E-2,458.33333333333337,0.15366576866258877,4.7609532615159544E-2,4.1903419681531696E-2,0.46135819486480845,2.8277046552225595E-2,-2.2807698191248511E-2,2.4831105920438253E-2,2.1675662473427899E-2,2.8277046552225592E-2,0]
[null,-4.4356020559053359E-28,7.3437125604676246E-2,8.7915766311351851E-4,0.17042596871649618,-0.11602476219957342,9.2601264172153144,6.0169217608535561,0.64976669753315874,0.68003706681622167,229.68519224392304,7.7006730799804149E-2,457.23148522251887,0.15329635120026644,5.5227850373787246E-2,4.4512200699825442E-2,0.60374744641575939,2.8353722866921859E-2,-2.5331082645560062E-2,2.7518776937845171E-2,2.0972789297832434E-2,2.8353722866921855E-2,0]
[null,-3.8018732058162794E-34,8.0084861800030091E-2,8.0322125151080091E-4,0.15570558686551447,-0.10600323310626833,8.6047481702081807,5.6044180713793095,0.65131691951000092,0.68911006803518393,230.68434089358982,7.7341716134915195E-2,344.80558356815953,0.1156032328105172,5.2424281184921491E-2,3.7291747105121363E-2,0.65084855135958186,2.8153001603885373E-2,5.3488563857359527E-2,-7.1368036110784933E-2,5.1944823644701502E-2,2.8153001603885373E-2,0]
[null,-3.9680070215462149E-36,8.7559791299448214E-2,7.589601804503962E-4,0.14712551502130744,-0.10016198248656145,8.2110155190031868,5.35531853167456,0.65221147363325083,0.71895480520044952,236.54140810904181,7.9305419558415302E-2,260.81444995122291,8.7443460938323531E-2,5.1149555703629349E-2,3.2228659602305157E-2,0.71081676382054126,2.8240884182844983E-2,1.620725285997025E-2,-2.0603368021196673E-2,3.4697219338027108E-2,2.8240884182844983E-2,0]
[null,2.893898586093307E-36,9.5994684279247358E-2,7.2684530602114012E-4,0.14090000074275205,-9.5923697563322988E-2,7.9198478960951526,5.1705241389888323,0.65285649507715138,0.76026329832531558,243.27336941832445,8.1562449396664877E-2,191.1846019939475,6.4098608338584079E-2,5.0371787923233137E-2,2.8152876547515221E-2,0.77772713938339644,2.8476531780520214E-2,-3.3680182989186433E-3,8.5352825159312664E-3,2.3875588801077877E-2,2.8476531780520214E-2,0]
[null,-3.010192257104263E-35,0.10554872685841464,7.2595225389928254E-4,0.14072688131336222,-9.5805839112651697E-2,7.9116847261094803,5.1653362911606653,0.65287438389884955,0.8350682501460206,258.68561802430992,8.6729725823263423E-2,135.96067096170083,4.5583638569915055E-2,5.1176023327523926E-2,2.5573079526293493E-2,0.87621433739936894,2.8768524395131306E-2,-1.1034826197296847E-2,2.1215734093584685E-2,1.8650999087066054E-2,2.8768524395131306E-2,0]
[null,3.1264859281152171E-34,0.11641386182692361,7.2273332835720637E-4,0.14010288799936232,-9.5381028994708961E-2,7.8822314213383118,5.1466150498502268,0.65293884114054479,0.91760099957151386,272.20650484370691,9.1262883931123431E-2,84.020098989313652,2.816948311483566E-2,5.1482123070299438E-2,2.3083483928379733E-2,0.98069440038780165,2.8844279640295619E-2,-1.2467472319252071E-2,2.3876027195600245E-2,1.7419928431709683E-2,2.8844279640295616E-2,0]
[null,-3.2427795991261735E-35,0.12882293018018509,7.8204412137743444E-4,0.15160036994135934,-0.1032084312284213,8.4174505264930506,5.4860375408683515,0.65174574220562609,1.0843606414695766,309.39703182670513,0.10373178047470707,38.933102294141968,1.3053131106433141E-2,5.4783886617278385E-2,2.2571792691030892E-2,1.1750392908378504,2.826114334067047E-2,-1.4045609395384713E-2,2.7278070459991727E-2,1.5601355144962054E-2,2.8261143340670467E-2,0]
[null,-4.7986761001958978E-36,0.14306020987399781,9.1784214572999934E-4,0.17792501092567375,-0.12113005569209134,9.5843573631305574,6.2199529722453777,0.64896922522656675,1.3711401758768538,379.39632961899144,0.12720049880436482,-11.26557374061295,-3.7770175598757037E-3,6.0717137180960612E-2,2.3854872980918932E-2,1.5021176922410944,2.4884310430158228E-2,-1.3880675225493628E-2,2.6836515795319472E-2,1.589247175750013E-2,2.4884310430158235E-2,0]
[null,7.3896230788640113E-27,0.15947517602038869,1.0632928266209583E-3,0.2061208331670763,-0.14032556677070035,10.746540243551687,6.9414248140134482,0.64592181825016237,1.7138063969505959,457.07812518453858,0.15324493406255363,-74.50649783113991,-2.4979850748173705E-2,6.3882871876537753E-2,2.4790641452500241E-2,1.8920311817613233,1.6978205232542475E-2,-1.7452510104882288E-2,3.8959855129319064E-2,5.7411258928367903E-3,1.6978205232542475E-2,0]
[null,-5.1309437316557729E-34,0.17850063403985802,1.0840138064749558E-3,0.2101376247080454,-0.14306016928964782,10.90492106925447,7.0389210323415492,0.64548115365889347,1.9465353250165296,458.33333333333337,0.15366576866258877,-134.15779038323299,-4.49791854137759E-2,5.7442173658518551E-2,2.2579952340092826E-2,2.1451802790928944,9.0041051956939663E-3,-9.6787692168114406E-3,7.5756193222883796E-3,3.7292781008013087E-2,9.0041051956939733E-3,0]
[null,-6.4624346078105653E-30,0.20067685341513844,1.0385972971252134E-3,0.20133356950111006,-0.13706643242272801,10.417803816046661,6.8140972066734848,0.65408192811018906,2.0906120893004654,458.33333333333337,0.15366576866258877,-180.18802323583762,-6.0411776933077942E-2,4.7692199830230854E-2,1.924322579121935E-2,2.3046896348961323,3.3425368072416972E-3,1.4285210650986205E-2,-9.9060973710863004E-2,0.15577009248477686,{"$f":"S692*Q712^2+T692*Q712+U692","v":3.342536807241725E-3},0.10303556719799878]
[null,0,{"$f":"C693","v":0.22668403164997661},{"$f":"D693+(D712-D692)","v":1.0688633827654077E-3},0.20720069343223654,-0.14106072779937201,10.237091632512653,6.8924076665862808,0.6732779107589727,2.3205852036282089,458.33333333333337,0.15366576866258877,-234.52726430529796,-7.8630136018489574E-2,4.073568963908606E-2,1.7531910361932742E-2,2.5528811083092875,-4.0211931164638795E-3,null,null,null,null,0.20594318580878934]
[null,"De","hc","e0","a'","b'","N'","tN'","t","Nc","sac","Nac","sat","Nat","Mtot","u","N","Mo","a''","b''","c''",null,"x"]
[null,null,{"$f":"$C$35","v":4.0138687861173784E-2},{"$f":"$D$35","v":3.210578024372992E-4},{"$f":"$E$35","v":6.2237513577017019E-2},{"$f":"$F$35","v":-4.2370847395201951E-2},{"$f":"IF($C$2=1,0.5*($O$31*D715*$F$6/$O$30)*(1-W715^2+(E715-F715)*(F715^2*(1-W715^2)+2*F715*(1-W715)+2*LN((1-F715)/(1-F715*W715)))/(F715^3)),$F$6*F715*(LN((1-E715+E715^2)/(1+E715)^2)/(6*E715)+ATAN((2-E715)/(E715*3^0.5))/(E715*3^0.5)-LN((W715^2-E715*W715+E715^2)/(W715+E715)^2)/(6*E715)-ATAN((2*W715-E715)/(E715*3^0.5))/(E715*3^0.5)))","v":3.8254468270961333},{"$f":"IF($C$2=1,($O$31*D715*$F$6/$O$30)*(1-W715^3-(E715-F715)*(-2*F715^3*(1-W715^3)-3*F715^2*(1-W715^2)-6*F715*(1-W715)-6*LN((1-F715)/(1-F715*W715)))/(2*F715^4))/3,$F$6*F715*(LN((1+E715^3)/(E715^3+W715^3)))/3)","v":2.5276172507990187},{"$f":"$I$35","v":0.66073778176593112},{"$f":"$J$35","v":0.15354841612232933},{"$f":"$K$35","v":0.6365191476987323},{"$f":"$L$35","v":2.1340626348999612E-4},{"$f":"$M$35","v":458.32156291626706},{"$f":"$N$35","v":0.15366182238581935},{"$f":"$O$35","v":1.9422167141878287E-2},{"$f":"$P$35","v":2.9740483717744983E-2},{"$f":"$Q$35","v":9.9999999999988987E-5},{"$f":"$R$35","v":1.9419193093506513E-2},null,null,null,null,{"$f":"IF(C715<$C$6,0,(C715-$C$6)/C715)","v":0}]
[null,{"$f":"IF(R696>$Q$29*V696,B696,IF(Q696>Q695,$U$6,-0.5)*B696)","v":-3.9768977969850226E-38},{"$f":"IF(Q696>Q695,C696,(1-$T$6)*C696+$T$6*C697)","v":4.5181422537606569E-2},{"$f":"D696+B716","v":3.9334484870015113E-4},{"$f":"IF($C$2=1,D716/($O$31*$O$30),2^(1/3)*$O$30/D716)","v":7.6250460744389861E-2},{"$f":"IF($C$2=1,-($O$31-2)*D716/$O$30,3*($O$30/D716)^2)","v":-5.1910760091923788E-2},{"$f":"IF($C$2=1,0.5*($O$31*D716*$F$6/$O$30)*(1-W716^2+(E716-F716)*(F716^2*(1-W716^2)+2*F716*(1-W716)+2*LN((1-F716)/(1-F716*W716)))/(F716^3)),$F$6*F716*(LN((1-E716+E716^2)/(1+E716)^2)/(6*E716)+ATAN((2-E716)/(E716*3^0.5))/(E716*3^0.5)-LN((W716^2-E716*W716+E716^2)/(W716+E716)^2)/(6*E716)-ATAN((2*W716-E716)/(E716*3^0.5))/(E716*3^0.5)))","v":4.613110708371468},{"$f":"IF($C$2=1,($O$31*D716*$F$6/$O$30)*(1-W716^3-(E716-F716)*(-2*F716^3*(1-W716^3)-3*F716^2*(1-W716^2)-6*F716*(1-W716)-6*LN((1-F716)/(1-F716*W716)))/(2*F716^4))/3,$F$6*F716*(LN((1+E716^3)/(E716^3+W716^3)))/3)","v":3.0417370707038054},{"$f":"H716/G716","v":0.6593678892604784},{"$f":"G716*C716*$D$6","v":0.20842690412768886},{"$f":"MAX(MIN($K$6,$Q$6*$J$6*D716*(C716-$I$6)/C716),-$K$6)","v":25.883055331143311},{"$f":"K716*$H$6","v":8.6778318388286233E-3},{"$f":"MIN($O$6,$Q$6*$N$6*D716*(C$6-C716-$M$6)/C716)","v":458.33333333333337},{"$f":"M716*$L$6","v":0.15366576866258877},{"$f":"(0.5*$C$6-C716+I716*C716)*J716+(0.5*$C$6-$I$6)*L716+(0.5*$C$6-$M$6)*N716","v":2.3667860626519786E-2},{"$f":"0.1*$Q$6*D716*$B$6^2/C716+$R$6","v":3.2369913344933235E-2},{"$f":"(J716+L716-N716)","v":6.3438967303928701E-2},{"$f":"O716-P716*Q716","v":2.1614346752199563E-2},{"$f":"((R716-R715)*(Q716-Q717)-(R716-R717)*(Q716-Q715))/((Q716^2-Q715^2)*(Q716-Q717)-(Q716^2-Q717^2)*(Q716-Q715))","v":-5.0906690086739578E-2},{"$f":"-(S716*(Q716^2-Q715^2)-(R716-R715))/(Q716-Q715)","v":3.7891796424874044E-2},{"$f":"R716-S716*Q716^2-T716*Q716","v":1.9415404422930927E-2},{"$f":"S696*Q716^2+T696*Q716+U696","v":2.1614346752199563E-2},{"$f":"IF(C716<$C$6,0,(C716-$C$6)/C716)","v":0}]
[null,{"$f":"IF(R697>$Q$29*V697,B697,IF(Q697>Q696,$U$6,-0.5)*B697)","v":-9.2191671472819432E-38},{"$f":"IF(Q697>Q696,C697,(1-$T$6)*C697+$T$6*C698)","v":4.9415891915262342E-2},{"$f":"D697+B717","v":4.5831677895414393E-4},8.8845362225090027E-2,-6.048527758025446E-2,5.298963348818206,3.4873783855907905,0.65812464741213172,0.26185300010813706,50.108747538653482,1.6799998270356629E-2,458.33333333333337,0.15366576866258877,2.7666294009989843E-2,{"$f":"0.1*$Q$6*D717*$B$6^2/C717+$R$6","v":3.4484750565600325E-2},0.1249872297159049,2.3356140569351473E-2,-2.4406838503766199E-2,3.2898530169504357E-2,1.9625523356776232E-2,{"$f":"MAX(S697*Q717^2+T697*Q717+U697,S698*Q717^2+T698*Q717+U698)","v":2.3356140569351473E-2},0]
[null,2.0798428890166178E-36,5.3135963724627852E-2,4.9935638089130207E-4,9.6800947678454222E-2,-6.5901382398883657E-2,5.7215793302330873,3.7609846786577479,0.65733330984061211,0.30402163173884583,70.833213832193195,2.3748306000797411E-2,458.33333333333337,0.15366576866258877,3.0697047575934798E-2,3.494218127080094E-2,0.17410416907705448,2.4613468140042186E-2,-4.5103014428982229E-2,3.9088578376642383E-2,1.917515805775322E-2,{"$f":"MAX(S698*Q718^2+T698*Q718+U698,S699*Q718^2+T699*Q718+U699)","v":2.4613468140042186E-2},0]
[null,-5.6969288289327801E-26,5.7428181372141097E-2,5.514539446251275E-4,0.10690013482045398,-7.2776835684460875E-2,6.2464148897257887,4.0996583167619933,0.65632180845130572,0.35872024721281531,96.026084290590006,3.2194739027284473E-2,454.9555829307958,0.15253330769104773,3.4441229960732844E-2,3.5703612035945798E-2,0.23838167854905207,2.5930142993339948E-2,-2.9426200348363504E-2,3.2622114432521492E-2,1.9825796698733748E-2,2.5930142993339948E-2,0]
[null,-4.9168873655396359E-28,6.2195419634221871E-2,6.3481451892244281E-4,0.12305970121389279,-8.3778151165705819E-2,7.0595192163462306,4.6217728328091976,0.65468662824906532,0.43906976007650694,129.98845249060312,4.358132829649948E-2,455.66595113320221,0.15277147338382499,3.990405674307692E-2,3.7950405354822588E-2,0.32987961498918139,2.7384991635944676E-2,-4.0881215445812906E-2,3.9131556129298077E-2,1.8925005740134344E-2,2.7384991635944676E-2,0]
[null,-3.4696055743564055E-32,6.7505252560478693E-2,7.6077995736461353E-4,0.1474782813753594,-0.10040214325929543,8.2273758274995288,5.3656873709129131,0.65217482261821724,0.55539108314533303,177.86483664942327,5.9632880382064171E-2,458.33333333333337,0.15366576866258877,4.7609532615159544E-2,4.1903419681531696E-2,0.46135819486480845,2.8277046552225595E-2,-2.2807698191248511E-2,2.4831105920438253E-2,2.1675662473427899E-2,2.8277046552225592E-2,0]
[null,4.4356020559053362E-29,7.3437125604676246E-2,8.7915766311351851E-4,0.17042596871649618,-0.11602476219957342,9.2601264172153144,6.0169217608535561,0.64976669753315874,0.68003706681622167,229.68519224392304,7.7006730799804149E-2,457.23148522251887,0.15329635120026644,5.5227850373787246E-2,4.4512200699825442E-2,0.60374744641575939,2.8353722866921859E-2,-2.5331082645560062E-2,2.7518776937845171E-2,2.0972789297832434E-2,2.8353722866921855E-2,0]
[null,3.8018732058162794E-35,8.0084861800030091E-2,8.0322125151080091E-4,0.15570558686551447,-0.10600323310626833,8.6047481702081807,5.6044180713793095,0.65131691951000092,0.68911006803518393,230.68434089358982,7.7341716134915195E-2,344.80558356815953,0.1156032328105172,5.2424281184921491E-2,3.7291747105121363E-2,0.65084855135958186,2.8153001603885373E-2,5.3488563857359527E-2,-7.1368036110784933E-2,5.1944823644701502E-2,2.8153001603885373E-2,0]
[null,3.9680070215462149E-37,8.7559791299448214E-2,7.589601804503962E-4,0.14712551502130744,-0.10016198248656145,8.2110155190031868,5.35531853167456,0.65221147363325083,0.71895480520044952,236.54140810904181,7.9305419558415302E-2,260.81444995122291,8.7443460938323531E-2,5.1149555703629349E-2,3.2228659602305157E-2,0.71081676382054126,2.8240884182844983E-2,1.620725285997025E-2,-2.0603368021196673E-2,3.4697219338027108E-2,2.8240884182844983E-2,0]
[null,-2.8938985860933073E-37,9.5994684279247358E-2,7.2684530602114012E-4,0.14090000074275205,-9.5923697563322988E-2,7.9198478960951526,5.1705241389888323,0.65285649507715138,0.76026329832531558,243.27336941832445,8.1562449396664877E-2,191.1846019939475,6.4098608338584079E-2,5.0371787923233137E-2,2.8152876547515221E-2,0.77772713938339644,2.8476531780520214E-2,-3.3680182989186433E-3,8.5352825159312664E-3,2.3875588801077877E-2,2.8476531780520214E-2,0]
[null,3.0101922571042629E-36,0.10554872685841464,7.2595225389928254E-4,0.14072688131336222,-9.5805839112651697E-2,7.9116847261094803,5.1653362911606653,0.65287438389884955,0.8350682501460206,258.68561802430992,8.6729725823263423E-2,135.96067096170083,4.5583638569915055E-2,5.1176023327523926E-2,2.5573079526293493E-2,0.87621433739936894,2.8768524395131306E-2,-1.1034826197296847E-2,2.1215734093584685E-2,1.8650999087066054E-2,2.8768524395131306E-2,0]
[null,-3.1264859281152175E-35,0.11641386182692361,7.2273332835720637E-4,0.14010288799936232,-9.5381028994708961E-2,7.8822314213383118,5.1466150498502268,0.65293884114054479,0.91760099957151386,272.20650484370691,9.1262883931123431E-2,84.020098989313652,2.816948311483566E-2,5.1482123070299438E-2,2.3083483928379733E-2,0.98069440038780165,2.8844279640295619E-2,-1.2467472319252071E-2,2.3876027195600245E-2,1.7419928431709683E-2,2.8844279640295616E-2,0]
[null,3.2427795991261734E-36,0.12882293018018509,7.8204412137743444E-4,0.15160036994135934,-0.1032084312284213,8.4174505264930506,5.4860375408683515,0.65174574220562609,1.0843606414695766,309.39703182670513,0.10373178047470707,38.933102294141968,1.3053131106433141E-2,5.4783886617278385E-2,2.2571792691030892E-2,1.1750392908378504,2.826114334067047E-2,-1.4045609395384713E-2,2.7278070459991727E-2,1.5601355144962054E-2,2.8261143340670467E-2,0]
[null,4.7986761001958985E-37,0.14306020987399781,9.1784214572999934E-4,0.17792501092567375,-0.12113005569209134,9.5843573631305574,6.2199529722453777,0.64896922522656675,1.3711401758768538,379.39632961899144,0.12720049880436482,-11.26557374061295,-3.7770175598757037E-3,6.0717137180960612E-2,2.3854872980918932E-2,1.5021176922410944,2.4884310430158228E-2,-1.3880675225493628E-2,2.6836515795319472E-2,1.589247175750013E-2,2.4884310430158235E-2,0]
[null,-7.3896230788640113E-28,0.15947517602038869,1.0632928266209583E-3,0.2061208331670763,-0.14032556677070035,10.746540243551687,6.9414248140134482,0.64592181825016237,1.7138063969505959,457.07812518453858,0.15324493406255363,-74.50649783113991,-2.4979850748173705E-2,6.3882871876537753E-2,2.4790641452500241E-2,1.8920311817613233,1.6978205232542475E-2,-1.7452510104882288E-2,3.8959855129319064E-2,5.7411258928367903E-3,1.6978205232542475E-2,0]
[null,5.1309437316557731E-35,0.17850063403985802,1.0840138064749558E-3,0.2101376247080454,-0.14306016928964782,10.90492106925447,7.0389210323415492,0.64548115365889347,1.9465353250165296,458.33333333333337,0.15366576866258877,-134.15779038323299,-4.49791854137759E-2,5.7442173658518551E-2,2.2579952340092826E-2,2.1451802790928944,9.0041051956939663E-3,-9.6787692168114406E-3,7.5756193222883796E-3,3.7292781008013087E-2,9.0041051956939733E-3,0]
[null,6.462434607810566E-31,0.20067685341513844,1.0385972971252134E-3,0.20133356950111006,-0.13706643242272801,10.417803816046661,6.8140972066734848,0.65408192811018906,2.0906120893004654,458.33333333333337,0.15366576866258877,-180.18802323583762,-6.0411776933077942E-2,4.7692199830230854E-2,1.924322579121935E-2,2.3046896348961323,3.3425368072416972E-3,1.4285210650986205E-2,-9.9060973710863004E-2,0.15577009248477686,{"$f":"S712*Q732^2+T712*Q732+U712","v":3.342536807241725E-3},0.10303556719799878]
[null,0,{"$f":"C713","v":0.22668403164997661},{"$f":"D713+(D732-D712)","v":1.0688633827654077E-3},0.20720069343223654,-0.14106072779937201,10.237091632512653,6.8924076665862808,0.6732779107589727,2.3205852036282089,458.33333333333337,0.15366576866258877,-234.52726430529796,-7.8630136018489574E-2,4.073568963908606E-2,1.7531910361932742E-2,2.5528811083092875,-4.0211931164638795E-3,null,null,null,null,0.20594318580878934]
[null,"De","hc","e0","a'","b'","N'","tN'","t","Nc","sac","Nac","sat","Nat","Mtot","u","N","Mo","a''","b''","c''",null,"x"]
[null,null,{"$f":"$C$35","v":4.0138687861173784E-2},{"$f":"$D$35","v":3.210578024372992E-4},{"$f":"$E$35","v":6.2237513577017019E-2},{"$f":"$F$35","v":-4.2370847395201951E-2},{"$f":"IF($C$2=1,0.5*($O$31*D735*$F$6/$O$30)*(1-W735^2+(E735-F735)*(F735^2*(1-W735^2)+2*F735*(1-W735)+2*LN((1-F735)/(1-F735*W735)))/(F735^3)),$F$6*F735*(LN((1-E735+E735^2)/(1+E735)^2)/(6*E735)+ATAN((2-E735)/(E735*3^0.5))/(E735*3^0.5)-LN((W735^2-E735*W735+E735^2)/(W735+E735)^2)/(6*E735)-ATAN((2*W735-E735)/(E735*3^0.5))/(E735*3^0.5)))","v":3.8254468270961333},{"$f":"IF($C$2=1,($O$31*D735*$F$6/$O$30)*(1-W735^3-(E735-F735)*(-2*F735^3*(1-W735^3)-3*F735^2*(1-W735^2)-6*F735*(1-W735)-6*LN((1-F735)/(1-F735*W735)))/(2*F735^4))/3,$F$6*F735*(LN((1+E735^3)/(E735^3+W735^3)))/3)","v":2.5276172507990187},{"$f":"$I$35","v":0.66073778176593112},{"$f":"$J$35","v":0.15354841612232933},{"$f":"$K$35","v":0.6365191476987323},{"$f":"$L$35","v":2.1340626348999612E-4},{"$f":"$M$35","v":458.32156291626706},{"$f":"$N$35","v":0.15366182238581935},{"$f":"$O$35","v":1.9422167141878287E-2},{"$f":"$P$35","v":2.9740483717744983E-2},{"$f":"$Q$35","v":9.9999999999988987E-5},{"$f":"$R$35","v":1.9419193093506513E-2},null,null,null,null,{"$f":"IF(C735<$C$6,0,(C735-$C$6)/C735)","v":0}]
[null,{"$f":"IF(R716>$Q$29*V716,B716,IF(Q716>Q715,$U$6,-0.5)*B716)","v":3.9768977969850226E-39},{"$f":"IF(Q716>Q715,C716,(1-$T$6)*C716+$T$6*C717)","v":4.5181422537606569E-2},{"$f":"D716+B736","v":3.9334484870015113E-4},{"$f":"IF($C$2=1,D736/($O$31*$O$30),2^(1/3)*$O$30/D736)","v":7.6250460744389861E-2},{"$f":"IF($C$2=1,-($O$31-2)*D736/$O$30,3*($O$30/D736)^2)","v":-5.1910760091923788E-2},{"$f":"IF($C$2=1,0.5*($O$31*D736*$F$6/$O$30)*(1-W736^2+(E736-F736)*(F736^2*(1-W736^2)+2*F736*(1-W736)+2*LN((1-F736)/(1-F736*W736)))/(F736^3)),$F$6*F736*(LN((1-E736+E736^2)/(1+E736)^2)/(6*E736)+ATAN((2-E736)/(E736*3^0.5))/(E736*3^0.5)-LN((W736^2-E736*W736+E736^2)/(W736+E736)^2)/(6*E736)-ATAN((2*W736-E736)/(E736*3^0.5))/(E736*3^0.5)))","v":4.613110708371468},{"$f":"IF($C$2=1,($O$31*D736*$F$6/$O$30)*(1-W736^3-(E736-F736)*(-2*F736^3*(1-W736^3)-3*F736^2*(1-W736^2)-6*F736*(1-W736)-6*LN((1-F736)/(1-F736*W736)))/(2*F736^4))/3,$F$6*F736*(LN((1+E736^3)/(E736^3+W736^3)))/3)","v":3.0417370707038054},{"$f":"H736/G736","v":0.6593678892604784},{"$f":"G736*C736*$D$6","v":0.20842690412768886},{"$f":"MAX(MIN($K$6,$Q$6*$J$6*D736*(C736-$I$6)/C736),-$K$6)","v":25.883055331143311},{"$f":"K736*$H$6","v":8.6778318388286233E-3},{"$f":"MIN($O$6,$Q$6*$N$6*D736*(C$6-C736-$M$6)/C736)","v":458.33333333333337},{"$f":"M736*$L$6","v":0.15366576866258877},{"$f":"(0.5*$C$6-C736+I736*C736)*J736+(0.5*$C$6-$I$6)*L736+(0.5*$C$6-$M$6)*N736","v":2.3667860626519786E-2},{"$f":"0.1*$Q$6*D736*$B$6^2/C736+$R$6","v":3.2369913344933235E-2},{"$f":"(J736+L736-N736)","v":6.3438967303928701E-2},{"$f":"O736-P736*Q736","v":2.1614346752199563E-2},{"$f":"((R736-R735)*(Q736-Q737)-(R736-R737)*(Q736-Q735))/((Q736^2-Q735^2)*(Q736-Q737)-(Q736^2-Q737^2)*(Q736-Q735))","v":-5.0906690086739578E-2},{"$f":"-(S736*(Q736^2-Q735^2)-(R736-R735))/(Q736-Q735)","v":3.7891796424874044E-2},{"$f":"R736-S736*Q736^2-T736*Q736","v":1.9415404422930927E-2},{"$f":"S716*Q736^2+T716*Q736+U716","v":2.1614346752199563E-2},{"$f":"IF(C736<$C$6,0,(C736-$C$6)/C736)","v":0}]
[null,{"$f":"IF(R717>$Q$29*V717,B717,IF(Q717>Q716,$U$6,-0.5)*B717)","v":9.2191671472819437E-39},{"$f":"IF(Q717>Q716,C717,(1-$T$6)*C717+$T$6*C718)","v":4.9415891915262342E-2},{"$f":"D717+B737","v":4.5831677895414393E-4},8.8845362225090027E-2,-6.048527758025446E-2,5.298963348818206,3.4873783855907905,0.65812464741213172,0.26185300010813706,50.108747538653482,1.6799998270356629E-2,458.33333333333337,0.15366576866258877,2.7666294009989843E-2,{"$f":"0.1*$Q$6*D737*$B$6^2/C737+$R$6","v":3.4484750565600325E-2},0.1249872297159049,2.3356140569351473E-2,-2.4406838503766199E-2,3.2898530169504357E-2,1.9625523356776232E-2,{"$f":"MAX(S717*Q737^2+T717*Q737+U717,S718*Q737^2+T718*Q737+U718)","v":2.3356140569351473E-2},0]
[null,-2.079842889016618E-37,5.3135963724627852E-2,4.9935638089130207E-4,9.6800947678454222E-2,-6.5901382398883657E-2,5.7215793302330873,3.7609846786577479,0.65733330984061211,0.30402163173884583,70.833213832193195,2.3748306000797411E-2,458.33333333333337,0.15366576866258877,3.0697047575934798E-2,3.494218127080094E-2,0.17410416907705448,2.4613468140042186E-2,-4.5103014428982229E-2,3.9088578376642383E-2,1.917515805775322E-2,{"$f":"MAX(S718*Q738^2+T718*Q738+U718,S719*Q738^2+T719*Q738+U719)","v":2.4613468140042186E-2},0]
[null,5.6969288289327806E-27,5.7428181372141097E-2,5.514539446251275E-4,0.10690013482045398,-7.2776835684460875E-2,6.2464148897257887,4.0996583167619933,0.65632180845130572,0.35872024721281531,96.026084290590006,3.2194739027284473E-2,454.9555829307958,0.15253330769104773,3.4441229960732844E-2,3.5703612035945798E-2,0.23838167854905207,2.5930142993339948E-2,-2.9426200348363504E-2,3.2622114432521492E-2,1.9825796698733748E-2,2.5930142993339948E-2,0]
[null,4.9168873655396361E-29,6.2195419634221871E-2,6.3481451892244281E-4,0.12305970121389279,-8.3778151165705819E-2,7.0595192163462306,4.6217728328091976,0.65468662824906532,0.43906976007650694,129.98845249060312,4.358132829649948E-2,455.66595113320221,0.15277147338382499,3.990405674307692E-2,3.7950405354822588E-2,0.32987961498918139,2.7384991635944676E-2,-4.0881215445812906E-2,3.9131556129298077E-2,1.8925005740134344E-2,2.7384991635944676E-2,0]
[null,3.4696055743564059E-33,6.7505252560478693E-2,7.6077995736461353E-4,0.1474782813753594,-0.10040214325929543,8.2273758274995288,5.3656873709129131,0.65217482261821724,0.55539108314533303,177.86483664942327,5.9632880382064171E-2,458.33333333333337,0.15366576866258877,4.7609532615159544E-2,4.1903419681531696E-2,0.46135819486480845,2.8277046552225595E-2,-2.2807698191248511E-2,2.4831105920438253E-2,2.1675662473427899E-2,2.8277046552225592E-2,0]
[null,-4.4356020559053368E-30,7.3437125604676246E-2,8.7915766311351851E-4,0.17042596871649618,-0.11602476219957342,9.2601264172153144,6.0169217608535561,0.64976669753315874,0.68003706681622167,229.68519224392304,7.7006730799804149E-2,457.23148522251887,0.15329635120026644,5.5227850373787246E-2,4.4512200699825442E-2,0.60374744641575939,2.8353722866921859E-2,-2.5331082645560062E-2,2.7518776937845171E-2,2.0972789297832434E-2,2.8353722866921855E-2,0]
[null,-3.8018732058162796E-36,8.0084861800030091E-2,8.0322125151080091E-4,0.15570558686551447,-0.10600323310626833,8.6047481702081807,5.6044180713793095,0.65131691951000092,0.68911006803518393,230.68434089358982,7.7341716134915195E-2,344.80558356815953,0.1156032328105172,5.2424281184921491E-2,3.7291747105121363E-2,0.65084855135958186,2.8153001603885373E-2,5.3488563857359527E-2,-7.1368036110784933E-2,5.1944823644701502E-2,2.8153001603885373E-2,0]
[null,-3.9680070215462154E-38,8.7559791299448214E-2,7.589601804503962E-4,0.14712551502130744,-0.10016198248656145,8.2110155190031868,5.35531853167456,0.65221147363325083,0.71895480520044952,236.54140810904181,7.9305419558415302E-2,260.81444995122291,8.7443460938323531E-2,5.1149555703629349E-2,3.2228659602305157E-2,0.71081676382054126,2.8240884182844983E-2,1.620725285997025E-2,-2.0603368021196673E-2,3.4697219338027108E-2,2.8240884182844983E-2,0]
[null,2.8938985860933076E-38,9.5994684279247358E-2,7.2684530602114012E-4,0.14090000074275205,-9.5923697563322988E-2,7.9198478960951526,5.1705241389888323,0.65285649507715138,0.76026329832531558,243.27336941832445,8.1562449396664877E-2,191.1846019939475,6.4098608338584079E-2,5.0371787923233137E-2,2.8152876547515221E-2,0.77772713938339644,2.8476531780520214E-2,-3.3680182989186433E-3,8.5352825159312664E-3,2.3875588801077877E-2,2.8476531780520214E-2,0]
[null,-3.0101922571042629E-37,0.10554872685841464,7.2595225389928254E-4,0.14072688131336222,-9.5805839112651697E-2,7.9116847261094803,5.1653362911606653,0.65287438389884955,0.8350682501460206,258.68561802430992,8.6729725823263423E-2,135.96067096170083,4.5583638569915055E-2,5.1176023327523926E-2,2.5573079526293493E-2,0.87621433739936894,2.8768524395131306E-2,-1.1034826197296847E-2,2.1215734093584685E-2,1.8650999087066054E-2,2.8768524395131306E-2,0]
[null,3.1264859281152175E-36,0.11641386182692361,7.2273332835720637E-4,0.14010288799936232,-9.5381028994708961E-2,7.8822314213383118,5.1466150498502268,0.65293884114054479,0.91760099957151386,272.20650484370691,9.1262883931123431E-2,84.020098989313652,2.816948311483566E-2,5.1482123070299438E-2,2.3083483928379733E-2,0.98069440038780165,2.8844279640295619E-2,-1.2467472319252071E-2,2.3876027195600245E-2,1.7419928431709683E-2,2.8844279640295616E-2,0]
[null,-3.2427795991261736E-37,0.12882293018018509,7.8204412137743444E-4,0.15160036994135934,-0.1032084312284213,8.4174505264930506,5.4860375408683515,0.65174574220562609,1.0843606414695766,309.39703182670513,0.10373178047470707,38.933102294141968,1.3053131106433141E-2,5.4783886617278385E-2,2.2571792691030892E-2,1.1750392908378504,2.826114334067047E-2,-1.4045609395384713E-2,2.7278070459991727E-2,1.5601355144962054E-2,2.8261143340670467E-2,0]
[null,-4.7986761001958987E-38,0.14306020987399781,9.1784214572999934E-4,0.17792501092567375,-0.12113005569209134,9.5843573631305574,6.2199529722453777,0.64896922522656675,1.3711401758768538,379.39632961899144,0.12720049880436482,-11.26557374061295,-3.7770175598757037E-3,6.0717137180960612E-2,2.3854872980918932E-2,1.5021176922410944,2.4884310430158228E-2,-1.3880675225493628E-2,2.6836515795319472E-2,1.589247175750013E-2,2.4884310430158235E-2,0]
[null,7.3896230788640122E-29,0.15947517602038869,1.0632928266209583E-3,0.2061208331670763,-0.14032556677070035,10.746540243551687,6.9414248140134482,0.64592181825016237,1.7138063969505959,457.07812518453858,0.15324493406255363,-74.50649783113991,-2.4979850748173705E-2,6.3882871876537753E-2,2.4790641452500241E-2,1.8920311817613233,1.6978205232542475E-2,-1.7452510104882288E-2,3.8959855129319064E-2,5.7411258928367903E-3,1.6978205232542475E-2,0]
[null,-5.1309437316557732E-36,0.17850063403985802,1.0840138064749558E-3,0.2101376247080454,-0.14306016928964782,10.90492106925447,7.0389210323415492,0.64548115365889347,1.9465353250165296,458.33333333333337,0.15366576866258877,-134.15779038323299,-4.49791854137759E-2,5.7442173658518551E-2,2.2579952340092826E-2,2.1451802790928944,9.0041051956939663E-3,-9.6787692168114406E-3,7.5756193222883796E-3,3.7292781008013087E-2,9.0041051956939733E-3,0]
[null,-6.462434607810566E-32,0.20067685341513844,1.0385972971252134E-3,0.20133356950111006,-0.13706643242272801,10.417803816046661,6.8140972066734848,0.65408192811018906,2.0906120893004654,458.33333333333337,0.15366576866258877,-180.18802323583762,-6.0411776933077942E-2,4.7692199830230854E-2,1.924322579121935E-2,2.3046896348961323,3.3425368072416972E-3,1.4285210650986205E-2,-9.9060973710863004E-2,0.15577009248477686,{"$f":"S732*Q752^2+T732*Q752+U732","v":3.342536807241725E-3},0.10303556719799878]
[null,0,{"$f":"C733","v":0.22668403164997661},{"$f":"D733+(D752-D732)","v":1.0688633827654077E-3},0.20720069343223654,-0.14106072779937201,10.237091632512653,6.8924076665862808,0.6732779107589727,2.3205852036282089,458.33333333333337,0.15366576866258877,-234.52726430529796,-7.8630136018489574E-2,4.073568963908606E-2,1.7531910361932742E-2,2.5528811083092875,-4.0211931164638795E-3,null,null,null,null,0.20594318580878934]
[null,"De","hc","e0","a'","b'","N'","tN'","t","Nc","sac","Nac","sat","Nat","Mtot","u","N","Mo","a''","b''","c''",null,"x"]
[null,null,{"$f":"$C$35","v":4.0138687861173784E-2},{"$f":"$D$35","v":3.210578024372992E-4},{"$f":"$E$35","v":6.2237513577017019E-2},{"$f":"$F$35","v":-4.2370847395201951E-2},{"$f":"IF($C$2=1,0.5*($O$31*D755*$F$6/$O$30)*(1-W755^2+(E755-F755)*(F755^2*(1-W755^2)+2*F755*(1-W755)+2*LN((1-F755)/(1-F755*W755)))/(F755^3)),$F$6*F755*(LN((1-E755+E755^2)/(1+E755)^2)/(6*E755)+ATAN((2-E755)/(E755*3^0.5))/(E755*3^0.5)-LN((W755^2-E755*W755+E755^2)/(W755+E755)^2)/(6*E755)-ATAN((2*W755-E755)/(E755*3^0.5))/(E755*3^0.5)))","v":3.8254468270961333},{"$f":"IF($C$2=1,($O$31*D755*$F$6/$O$30)*(1-W755^3-(E755-F755)*(-2*F755^3*(1-W755^3)-3*F755^2*(1-W755^2)-6*F755*(1-W755)-6*LN((1-F755)/(1-F755*W755)))/(2*F755^4))/3,$F$6*F755*(LN((1+E755^3)/(E755^3+W755^3)))/3)","v":2.5276172507990187},{"$f":"$I$35","v":0.66073778176593112},{"$f":"$J$35","v":0.15354841612232933},{"$f":"$K$35","v":0.6365191476987323},{"$f":"$L$35","v":2.1340626348999612E-4},{"$f":"$M$35","v":458.32156291626706},{"$f":"$N$35","v":0.15366182238581935},{"$f":"$O$35","v":1.9422167141878287E-2},{"$f":"$P$35","v":2.9740483717744983E-2},{"$f":"$Q$35","v":9.9999999999988987E-5},{"$f":"$R$35","v":1.9419193093506513E-2},null,null,null,null,{"$f":"IF(C755<$C$6,0,(C755-$C$6)/C755)","v":0}]
[null,{"$f":"IF(R736>$Q$29*V736,B736,IF(Q736>Q735,$U$6,-0.5)*B736)","v":-3.9768977969850224E-40},{"$f":"IF(Q736>Q735,C736,(1-$T$6)*C736+$T$6*C737)","v":4.5181422537606569E-2},{"$f":"D736+B756","v":3.9334484870015113E-4},{"$f":"IF($C$2=1,D756/($O$31*$O$30),2^(1/3)*$O$30/D756)","v":7.6250460744389861E-2},{"$f":"IF($C$2=1,-($O$31-2)*D756/$O$30,3*($O$30/D756)^2)","v":-5.1910760091923788E-2},{"$f":"IF($C$2=1,0.5*($O$31*D756*$F$6/$O$30)*(1-W756^2+(E756-F756)*(F756^2*(1-W756^2)+2*F756*(1-W756)+2*LN((1-F756)/(1-F756*W756)))/(F756^3)),$F$6*F756*(LN((1-E756+E756^2)/(1+E756)^2)/(6*E756)+ATAN((2-E756)/(E756*3^0.5))/(E756*3^0.5)-LN((W756^2-E756*W756+E756^2)/(W756+E756)^2)/(6*E756)-ATAN((2*W756-E756)/(E756*3^0.5))/(E756*3^0.5)))","v":4.613110708371468},{"$f":"IF($C$2=1,($O$31*D756*$F$6/$O$30)*(1-W756^3-(E756-F756)*(-2*F756^3*(1-W756^3)-3*F756^2*(1-W756^2)-6*F756*(1-W756)-6*LN((1-F756)/(1-F756*W756)))/(2*F756^4))/3,$F$6*F756*(LN((1+E756^3)/(E756^3+W756^3)))/3)","v":3.0417370707038054},{"$f":"H756/G756","v":0.6593678892604784},{"$f":"G756*C756*$D$6","v":0.20842690412768886},{"$f":"MAX(MIN($K$6,$Q$6*$J$6*D756*(C756-$I$6)/C756),-$K$6)","v":25.883055331143311},{"$f":"K756*$H$6","v":8.6778318388286233E-3},{"$f":"MIN($O$6,$Q$6*$N$6*D756*(C$6-C756-$M$6)/C756)","v":458.33333333333337},{"$f":"M756*$L$6","v":0.15366576866258877},{"$f":"(0.5*$C$6-C756+I756*C756)*J756+(0.5*$C$6-$I$6)*L756+(0.5*$C$6-$M$6)*N756","v":2.3667860626519786E-2},{"$f":"0.1*$Q$6*D756*$B$6^2/C756+$R$6","v":3.2369913344933235E-2},{"$f":"(J756+L756-N756)","v":6.3438967303928701E-2},{"$f":"O756-P756*Q756","v":2.1614346752199563E-2},{"$f":"((R756-R755)*(Q756-Q757)-(R756-R757)*(Q756-Q755))/((Q756^2-Q755^2)*(Q756-Q757)-(Q756^2-Q757^2)*(Q756-Q755))","v":-5.0906690086739578E-2},{"$f":"-(S756*(Q756^2-Q755^2)-(R756-R755))/(Q756-Q755)","v":3.7891796424874044E-2},{"$f":"R756-S756*Q756^2-T756*Q756","v":1.9415404422930927E-2},{"$f":"S736*Q756^2+T736*Q756+U736","v":2.1614346752199563E-2},{"$f":"IF(C756<$C$6,0,(C756-$C$6)/C756)","v":0}]
[null,{"$f":"IF(R737>$Q$29*V737,B737,IF(Q737>Q736,$U$6,-0.5)*B737)","v":-9.2191671472819447E-40},{"$f":"IF(Q737>Q736,C737,(1-$T$6)*C737+$T$6*C738)","v":4.9415891915262342E-2},{"$f":"D737+B757","v":4.5831677895414393E-4},8.8845362225090027E-2,-6.048527758025446E-2,5.298963348818206,3.4873783855907905,0.65812464741213172,0.26185300010813706,50.108747538653482,1.6799998270356629E-2,458.33333333333337,0.15366576866258877,2.7666294009989843E-2,{"$f":"0.1*$Q$6*D757*$B$6^2/C757+$R$6","v":3.4484750565600325E-2},0.1249872297159049,2.3356140569351473E-2,-2.4406838503766199E-2,3.2898530169504357E-2,1.9625523356776232E-2,{"$f":"MAX(S737*Q757^2+T737*Q757+U737,S738*Q757^2+T738*Q757+U738)","v":2.3356140569351473E-2},0]
[null,2.0798428890166182E-38,5.3135963724627852E-2,4.9935638089130207E-4,9.6800947678454222E-2,-6.5901382398883657E-2,5.7215793302330873,3.7609846786577479,0.65733330984061211,0.30402163173884583,70.833213832193195,2.3748306000797411E-2,458.33333333333337,0.15366576866258877,3.0697047575934798E-2,3.494218127080094E-2,0.17410416907705448,2.4613468140042186E-2,-4.5103014428982229E-2,3.9088578376642383E-2,1.917515805775322E-2,{"$f":"MAX(S738*Q758^2+T738*Q758+U738,S739*Q758^2+T739*Q758+U739)","v":2.4613468140042186E-2},0]
[null,-5.6969288289327809E-28,5.7428181372141097E-2,5.514539446251275E-4,0.10690013482045398,-7.2776835684460875E-2,6.2464148897257887,4.0996583167619933,0.65632180845130572,0.35872024721281531,96.026084290590006,3.2194739027284473E-2,454.9555829307958,0.15253330769104773,3.4441229960732844E-2,3.5703612035945798E-2,0.23838167854905207,2.5930142993339948E-2,-2.9426200348363504E-2,3.2622114432521492E-2,1.9825796698733748E-2,2.5930142993339948E-2,0]
[null,-4.9168873655396367E-30,6.2195419634221871E-2,6.3481451892244281E-4,0.12305970121389279,-8.3778151165705819E-2,7.0595192163462306,4.6217728328091976,0.65468662824906532,0.43906976007650694,129.98845249060312,4.358132829649948E-2,455.66595113320221,0.15277147338382499,3.990405674307692E-2,3.7950405354822588E-2,0.32987961498918139,2.7384991635944676E-2,-4.0881215445812906E-2,3.9131556129298077E-2,1.8925005740134344E-2,2.7384991635944676E-2,0]
[null,-3.4696055743564059E-34,6.7505252560478693E-2,7.6077995736461353E-4,0.1474782813753594,-0.10040214325929543,8.2273758274995288,5.3656873709129131,0.65217482261821724,0.55539108314533303,177.86483664942327,5.9632880382064171E-2,458.33333333333337,0.15366576866258877,4.7609532615159544E-2,4.1903419681531696E-2,0.46135819486480845,2.8277046552225595E-2,-2.2807698191248511E-2,2.4831105920438253E-2,2.1675662473427899E-2,2.8277046552225592E-2,0]
[null,4.4356020559053366E-31,7.3437125604676246E-2,8.7915766311351851E-4,0.17042596871649618,-0.11602476219957342,9.2601264172153144,6.0169217608535561,0.64976669753315874,0.68003706681622167,229.68519224392304,7.7006730799804149E-2,457.23148522251887,0.15329635120026644,5.5227850373787246E-2,4.4512200699825442E-2,0.60374744641575939,2.8353722866921859E-2,-2.5331082645560062E-2,2.7518776937845171E-2,2.0972789297832434E-2,2.8353722866921855E-2,0]
[null,3.8018732058162797E-37,8.0084861800030091E-2,8.0322125151080091E-4,0.15570558686551447,-0.10600323310626833,8.6047481702081807,5.6044180713793095,0.65131691951000092,0.68911006803518393,230.68434089358982,7.7341716134915195E-2,344.80558356815953,0.1156032328105172,5.2424281184921491E-2,3.7291747105121363E-2,0.65084855135958186,2.8153001603885373E-2,5.3488563857359527E-2,-7.1368036110784933E-2,5.1944823644701502E-2,2.8153001603885373E-2,0]
[null,3.9680070215462154E-39,8.7559791299448214E-2,7.589601804503962E-4,0.14712551502130744,-0.10016198248656145,8.2110155190031868,5.35531853167456,0.65221147363325083,0.71895480520044952,236.54140810904181,7.9305419558415302E-2,260.81444995122291,8.7443460938323531E-2,5.1149555703629349E-2,3.2228659602305157E-2,0.71081676382054126,2.8240884182844983E-2,1.620725285997025E-2,-2.0603368021196673E-2,3.4697219338027108E-2,2.8240884182844983E-2,0]
[null,-2.8938985860933076E-39,9.5994684279247358E-2,7.2684530602114012E-4,0.14090000074275205,-9.5923697563322988E-2,7.9198478960951526,5.1705241389888323,0.65285649507715138,0.76026329832531558,243.27336941832445,8.1562449396664877E-2,191.1846019939475,6.4098608338584079E-2,5.0371787923233137E-2,2.8152876547515221E-2,0.77772713938339644,2.8476531780520214E-2,-3.3680182989186433E-3,8.5352825159312664E-3,2.3875588801077877E-2,2.8476531780520214E-2,0]
[null,3.0101922571042633E-38,0.10554872685841464,7.2595225389928254E-4,0.14072688131336222,-9.5805839112651697E-2,7.9116847261094803,5.1653362911606653,0.65287438389884955,0.8350682501460206,258.68561802430992,8.6729725823263423E-2,135.96067096170083,4.5583638569915055E-2,5.1176023327523926E-2,2.5573079526293493E-2,0.87621433739936894,2.8768524395131306E-2,-1.1034826197296847E-2,2.1215734093584685E-2,1.8650999087066054E-2,2.8768524395131306E-2,0]
[null,-3.1264859281152176E-37,0.11641386182692361,7.2273332835720637E-4,0.14010288799936232,-9.5381028994708961E-2,7.8822314213383118,5.1466150498502268,0.65293884114054479,0.91760099957151386,272.20650484370691,9.1262883931123431E-2,84.020098989313652,2.816948311483566E-2,5.1482123070299438E-2,2.3083483928379733E-2,0.98069440038780165,2.8844279640295619E-2,-1.2467472319252071E-2,2.3876027195600245E-2,1.7419928431709683E-2,2.8844279640295616E-2,0]
[null,3.2427795991261738E-38,0.12882293018018509,7.8204412137743444E-4,0.15160036994135934,-0.1032084312284213,8.4174505264930506,5.4860375408683515,0.65174574220562609,1.0843606414695766,309.39703182670513,0.10373178047470707,38.933102294141968,1.3053131106433141E-2,5.4783886617278385E-2,2.2571792691030892E-2,1.1750392908378504,2.826114334067047E-2,-1.4045609395384713E-2,2.7278070459991727E-2,1.5601355144962054E-2,2.8261143340670467E-2,0]
[null,4.7986761001958987E-39,0.14306020987399781,9.1784214572999934E-4,0.17792501092567375,-0.12113005569209134,9.5843573631305574,6.2199529722453777,0.64896922522656675,1.3711401758768538,379.39632961899144,0.12720049880436482,-11.26557374061295,-3.7770175598757037E-3,6.0717137180960612E-2,2.3854872980918932E-2,1.5021176922410944,2.4884310430158228E-2,-1.3880675225493628E-2,2.6836515795319472E-2,1.589247175750013E-2,2.4884310430158235E-2,0]
[null,-7.389623078864013E-30,0.15947517602038869,1.0632928266209583E-3,0.2061208331670763,-0.14032556677070035,10.746540243551687,6.9414248140134482,0.64592181825016237,1.7138063969505959,457.07812518453858,0.15324493406255363,-74.50649783113991,-2.4979850748173705E-2,6.3882871876537753E-2,2.4790641452500241E-2,1.8920311817613233,1.6978205232542475E-2,-1.7452510104882288E-2,3.8959855129319064E-2,5.7411258928367903E-3,1.6978205232542475E-2,0]
[null,5.1309437316557739E-37,0.17850063403985802,1.0840138064749558E-3,0.2101376247080454,-0.14306016928964782,10.90492106925447,7.0389210323415492,0.64548115365889347,1.9465353250165296,458.33333333333337,0.15366576866258877,-134.15779038323299,-4.49791854137759E-2,5.7442173658518551E-2,2.2579952340092826E-2,2.1451802790928944,9.0041051956939663E-3,-9.6787692168114406E-3,7.5756193222883796E-3,3.7292781008013087E-2,9.0041051956939733E-3,0]
[null,6.4624346078105662E-33,0.20067685341513844,1.0385972971252134E-3,0.20133356950111006,-0.13706643242272801,10.417803816046661,6.8140972066734848,0.65408192811018906,2.0906120893004654,458.33333333333337,0.15366576866258877,-180.18802323583762,-6.0411776933077942E-2,4.7692199830230854E-2,1.924322579121935E-2,2.3046896348961323,3.3425368072416972E-3,1.4285210650986205E-2,-9.9060973710863004E-2,0.15577009248477686,{"$f":"S752*Q772^2+T752*Q772+U752","v":3.342536807241725E-3},0.10303556719799878]
[null,0,{"$f":"C753","v":0.22668403164997661},{"$f":"D753+(D772-D752)","v":1.0688633827654077E-3},0.20720069343223654,-0.14106072779937201,10.237091632512653,6.8924076665862808,0.6732779107589727,2.3205852036282089,458.33333333333337,0.15366576866258877,-234.52726430529796,-7.8630136018489574E-2,4.073568963908606E-2,1.7531910361932742E-2,2.5528811083092875,-4.0211931164638795E-3,null,null,null,null,0.20594318580878934]
[null,"De","hc","e0","a'","b'","N'","tN'","t","Nc","sac","Nac","sat","Nat","Mtot","u","N","Mo","a''","b''","c''",null,"x"]
[null,null,{"$f":"$C$35","v":4.0138687861173784E-2},{"$f":"$D$35","v":3.210578024372992E-4},{"$f":"$E$35","v":6.2237513577017019E-2},{"$f":"$F$35","v":-4.2370847395201951E-2},{"$f":"IF($C$2=1,0.5*($O$31*D775*$F$6/$O$30)*(1-W775^2+(E775-F775)*(F775^2*(1-W775^2)+2*F775*(1-W775)+2*LN((1-F775)/(1-F775*W775)))/(F775^3)),$F$6*F775*(LN((1-E775+E775^2)/(1+E775)^2)/(6*E775)+ATAN((2-E775)/(E775*3^0.5))/(E775*3^0.5)-LN((W775^2-E775*W775+E775^2)/(W775+E775)^2)/(6*E775)-ATAN((2*W775-E775)/(E775*3^0.5))/(E775*3^0.5)))","v":3.8254468270961333},{"$f":"IF($C$2=1,($O$31*D775*$F$6/$O$30)*(1-W775^3-(E775-F775)*(-2*F775^3*(1-W775^3)-3*F775^2*(1-W775^2)-6*F775*(1-W775)-6*LN((1-F775)/(1-F775*W775)))/(2*F775^4))/3,$F$6*F775*(LN((1+E775^3)/(E775^3+W775^3)))/3)","v":2.5276172507990187},{"$f":"$I$35","v":0.66073778176593112},{"$f":"$J$35","v":0.15354841612232933},{"$f":"$K$35","v":0.6365191476987323},{"$f":"$L$35","v":2.1340626348999612E-4},{"$f":"$M$35","v":458.32156291626706},{"$f":"$N$35","v":0.15366182238581935},{"$f":"$O$35","v":1.9422167141878287E-2},{"$f":"$P$35","v":2.9740483717744983E-2},{"$f":"$Q$35","v":9.9999999999988987E-5},{"$f":"$R$35","v":1.9419193093506513E-2},null,null,null,null,{"$f":"IF(C775<$C$6,0,(C775-$C$6)/C775)","v":0}]
[null,{"$f":"IF(R756>$Q$29*V756,B756,IF(Q756>Q755,$U$6,-0.5)*B756)","v":3.9768977969850227E-41},{"$f":"IF(Q756>Q755,C756,(1-$T$6)*C756+$T$6*C757)","v":4.5181422537606569E-2},{"$f":"D756+B776","v":3.9334484870015113E-4},{"$f":"IF($C$2=1,D776/($O$31*$O$30),2^(1/3)*$O$30/D776)","v":7.6250460744389861E-2},{"$f":"IF($C$2=1,-($O$31-2)*D776/$O$30,3*($O$30/D776)^2)","v":-5.1910760091923788E-2},{"$f":"IF($C$2=1,0.5*($O$31*D776*$F$6/$O$30)*(1-W776^2+(E776-F776)*(F776^2*(1-W776^2)+2*F776*(1-W776)+2*LN((1-F776)/(1-F776*W776)))/(F776^3)),$F$6*F776*(LN((1-E776+E776^2)/(1+E776)^2)/(6*E776)+ATAN((2-E776)/(E776*3^0.5))/(E776*3^0.5)-LN((W776^2-E776*W776+E776^2)/(W776+E776)^2)/(6*E776)-ATAN((2*W776-E776)/(E776*3^0.5))/(E776*3^0.5)))","v":4.613110708371468},{"$f":"IF($C$2=1,($O$31*D776*$F$6/$O$30)*(1-W776^3-(E776-F776)*(-2*F776^3*(1-W776^3)-3*F776^2*(1-W776^2)-6*F776*(1-W776)-6*LN((1-F776)/(1-F776*W776)))/(2*F776^4))/3,$F$6*F776*(LN((1+E776^3)/(E776^3+W776^3)))/3)","v":3.0417370707038054},{"$f":"H776/G776","v":0.6593678892604784},{"$f":"G776*C776*$D$6","v":0.20842690412768886},{"$f":"MAX(MIN($K$6,$Q$6*$J$6*D776*(C776-$I$6)/C776),-$K$6)","v":25.883055331143311},{"$f":"K776*$H$6","v":8.6778318388286233E-3},{"$f":"MIN($O$6,$Q$6*$N$6*D776*(C$6-C776-$M$6)/C776)","v":458.33333333333337},{"$f":"M776*$L$6","v":0.15366576866258877},{"$f":"(0.5*$C$6-C776+I776*C776)*J776+(0.5*$C$6-$I$6)*L776+(0.5*$C$6-$M$6)*N776","v":2.3667860626519786E-2},{"$f":"0.1*$Q$6*D776*$B$6^2/C776+$R$6","v":3.2369913344933235E-2},{"$f":"(J776+L776-N776)","v":6.3438967303928701E-2},{"$f":"O776-P776*Q776","v":2.1614346752199563E-2},{"$f":"((R776-R775)*(Q776-Q777)-(R776-R777)*(Q776-Q775))/((Q776^2-Q775^2)*(Q776-Q777)-(Q776^2-Q777^2)*(Q776-Q775))","v":-5.0906690086739578E-2},{"$f":"-(S776*(Q776^2-Q775^2)-(R776-R775))/(Q776-Q775)","v":3.7891796424874044E-2},{"$f":"R776-S776*Q776^2-T776*Q776","v":1.9415404422930927E-2},{"$f":"S756*Q776^2+T756*Q776+U756","v":2.1614346752199563E-2},{"$f":"IF(C776<$C$6,0,(C776-$C$6)/C776)","v":0}]
[null,{"$f":"IF(R757>$Q$29*V757,B757,IF(Q757>Q756,$U$6,-0.5)*B757)","v":9.2191671472819451E-41},{"$f":"IF(Q757>Q756,C757,(1-$T$6)*C757+$T$6*C758)","v":4.9415891915262342E-2},{"$f":"D757+B777","v":4.5831677895414393E-4},8.8845362225090027E-2,-6.048527758025446E-2,5.298963348818206,3.4873783855907905,0.65812464741213172,0.26185300010813706,50.108747538653482,1.6799998270356629E-2,458.33333333333337,0.15366576866258877,2.7666294009989843E-2,{"$f":"0.1*$Q$6*D777*$B$6^2/C777+$R$6","v":3.4484750565600325E-2},0.1249872297159049,2.3356140569351473E-2,-2.4406838503766199E-2,3.2898530169504357E-2,1.9625523356776232E-2,{"$f":"MAX(S757*Q777^2+T757*Q777+U757,S758*Q777^2+T758*Q777+U758)","v":2.3356140569351473E-2},0]
[null,-2.0798428890166184E-39,5.3135963724627852E-2,4.9935638089130207E-4,9.6800947678454222E-2,-6.5901382398883657E-2,5.7215793302330873,3.7609846786577479,0.65733330984061211,0.30402163173884583,70.833213832193195,2.3748306000797411E-2,458.33333333333337,0.15366576866258877,3.0697047575934798E-2,3.494218127080094E-2,0.17410416907705448,2.4613468140042186E-2,-4.5103014428982229E-2,3.9088578376642383E-2,1.917515805775322E-2,{"$f":"MAX(S758*Q778^2+T758*Q778+U758,S759*Q778^2+T759*Q778+U759)","v":2.4613468140042186E-2},0]
[null,5.6969288289327809E-29,5.7428181372141097E-2,5.514539446251275E-4,0.10690013482045398,-7.2776835684460875E-2,6.2464148897257887,4.0996583167619933,0.65632180845130572,0.35872024721281531,96.026084290590006,3.2194739027284473E-2,454.9555829307958,0.15253330769104773,3.4441229960732844E-2,3.5703612035945798E-2,0.23838167854905207,2.5930142993339948E-2,-2.9426200348363504E-2,3.2622114432521492E-2,1.9825796698733748E-2,2.5930142993339948E-2,0]
[null,4.916887365539637E-31,6.2195419634221871E-2,6.3481451892244281E-4,0.12305970121389279,-8.3778151165705819E-2,7.0595192163462306,4.6217728328091976,0.65468662824906532,0.43906976007650694,129.98845249060312,4.358132829649948E-2,455.66595113320221,0.15277147338382499,3.990405674307692E-2,3.7950405354822588E-2,0.32987961498918139,2.7384991635944676E-2,-4.0881215445812906E-2,3.9131556129298077E-2,1.8925005740134344E-2,2.7384991635944676E-2,0]
[null,3.4696055743564063E-35,6.7505252560478693E-2,7.6077995736461353E-4,0.1474782813753594,-0.10040214325929543,8.2273758274995288,5.3656873709129131,0.65217482261821724,0.55539108314533303,177.86483664942327,5.9632880382064171E-2,458.33333333333337,0.15366576866258877,4.7609532615159544E-2,4.1903419681531696E-2,0.46135819486480845,2.8277046552225595E-2,-2.2807698191248511E-2,2.4831105920438253E-2,2.1675662473427899E-2,2.8277046552225592E-2,0]
[null,-4.4356020559053367E-32,7.3437125604676246E-2,8.7915766311351851E-4,0.17042596871649618,-0.11602476219957342,9.2601264172153144,6.0169217608535561,0.64976669753315874,0.68003706681622167,229.68519224392304,7.7006730799804149E-2,457.23148522251887,0.15329635120026644,5.5227850373787246E-2,4.4512200699825442E-2,0.60374744641575939,2.8353722866921859E-2,-2.5331082645560062E-2,2.7518776937845171E-2,2.0972789297832434E-2,2.8353722866921855E-2,0]
[null,-3.8018732058162797E-38,8.0084861800030091E-2,8.0322125151080091E-4,0.15570558686551447,-0.10600323310626833,8.6047481702081807,5.6044180713793095,0.65131691951000092,0.68911006803518393,230.68434089358982,7.7341716134915195E-2,344.80558356815953,0.1156032328105172,5.2424281184921491E-2,3.7291747105121363E-2,0.65084855135958186,2.8153001603885373E-2,5.3488563857359527E-2,-7.1368036110784933E-2,5.1944823644701502E-2,2.8153001603885373E-2,0]
[null,-3.9680070215462157E-40,8.7559791299448214E-2,7.589601804503962E-4,0.14712551502130744,-0.10016198248656145,8.2110155190031868,5.35531853167456,0.65221147363325083,0.71895480520044952,236.54140810904181,7.9305419558415302E-2,260.81444995122291,8.7443460938323531E-2,5.1149555703629349E-2,3.2228659602305157E-2,0.71081676382054126,2.8240884182844983E-2,1.620725285997025E-2,-2.0603368021196673E-2,3.4697219338027108E-2,2.8240884182844983E-2,0]
[null,2.8938985860933079E-40,9.5994684279247358E-2,7.2684530602114012E-4,0.14090000074275205,-9.5923697563322988E-2,7.9198478960951526,5.1705241389888323,0.65285649507715138,0.76026329832531558,243.27336941832445,8.1562449396664877E-2,191.1846019939475,6.4098608338584079E-2,5.0371787923233137E-2,2.8152876547515221E-2,0.77772713938339644,2.8476531780520214E-2,-3.3680182989186433E-3,8.5352825159312664E-3,2.3875588801077877E-2,2.8476531780520214E-2,0]
[null,-3.0101922571042635E-39,0.10554872685841464,7.2595225389928254E-4,0.14072688131336222,-9.5805839112651697E-2,7.9116847261094803,5.1653362911606653,0.65287438389884955,0.8350682501460206,258.68561802430992,8.6729725823263423E-2,135.96067096170083,4.5583638569915055E-2,5.1176023327523926E-2,2.5573079526293493E-2,0.87621433739936894,2.8768524395131306E-2,-1.1034826197296847E-2,2.1215734093584685E-2,1.8650999087066054E-2,2.8768524395131306E-2,0]
[null,3.1264859281152181E-38,0.11641386182692361,7.2273332835720637E-4,0.14010288799936232,-9.5381028994708961E-2,7.8822314213383118,5.1466150498502268,0.65293884114054479,0.91760099957151386,272.20650484370691,9.1262883931123431E-2,84.020098989313652,2.816948311483566E-2,5.1482123070299438E-2,2.3083483928379733E-2,0.98069440038780165,2.8844279640295619E-2,-1.2467472319252071E-2,2.3876027195600245E-2,1.7419928431709683E-2,2.8844279640295616E-2,0]
[null,-3.2427795991261738E-39,0.12882293018018509,7.8204412137743444E-4,0.15160036994135934,-0.1032084312284213,8.4174505264930506,5.4860375408683515,0.65174574220562609,1.0843606414695766,309.39703182670513,0.10373178047470707,38.933102294141968,1.3053131106433141E-2,5.4783886617278385E-2,2.2571792691030892E-2,1.1750392908378504,2.826114334067047E-2,-1.4045609395384713E-2,2.7278070459991727E-2,1.5601355144962054E-2,2.8261143340670467E-2,0]
[null,-4.7986761001958992E-40,0.14306020987399781,9.1784214572999934E-4,0.17792501092567375,-0.12113005569209134,9.5843573631305574,6.2199529722453777,0.64896922522656675,1.3711401758768538,379.39632961899144,0.12720049880436482,-11.26557374061295,-3.7770175598757037E-3,6.0717137180960612E-2,2.3854872980918932E-2,1.5021176922410944,2.4884310430158228E-2,-1.3880675225493628E-2,2.6836515795319472E-2,1.589247175750013E-2,2.4884310430158235E-2,0]
[null,7.3896230788640137E-31,0.15947517602038869,1.0632928266209583E-3,0.2061208331670763,-0.14032556677070035,10.746540243551687,6.9414248140134482,0.64592181825016237,1.7138063969505959,457.07812518453858,0.15324493406255363,-74.50649783113991,-2.4979850748173705E-2,6.3882871876537753E-2,2.4790641452500241E-2,1.8920311817613233,1.6978205232542475E-2,-1.7452510104882288E-2,3.8959855129319064E-2,5.7411258928367903E-3,1.6978205232542475E-2,0]
[null,-5.1309437316557741E-38,0.17850063403985802,1.0840138064749558E-3,0.2101376247080454,-0.14306016928964782,10.90492106925447,7.0389210323415492,0.64548115365889347,1.9465353250165296,458.33333333333337,0.15366576866258877,-134.15779038323299,-4.49791854137759E-2,5.7442173658518551E-2,2.2579952340092826E-2,2.1451802790928944,9.0041051956939663E-3,-9.6787692168114406E-3,7.5756193222883796E-3,3.7292781008013087E-2,9.0041051956939733E-3,0]
[null,-6.4624346078105669E-34,0.20067685341513844,1.0385972971252134E-3,0.20133356950111006,-0.13706643242272801,10.417803816046661,6.8140972066734848,0.65408192811018906,2.0906120893004654,458.33333333333337,0.15366576866258877,-180.18802323583762,-6.0411776933077942E-2,4.7692199830230854E-2,1.924322579121935E-2,2.3046896348961323,3.3425368072416972E-3,1.4285210650986205E-2,-9.9060973710863004E-2,0.15577009248477686,{"$f":"S772*Q792^2+T772*Q792+U772","v":3.342536807241725E-3},0.10303556719799878]
[null,0,{"$f":"C773","v":0.22668403164997661},{"$f":"D773+(D792-D772)","v":1.0688633827654077E-3},0.20720069343223654,-0.14106072779937201,10.237091632512653,6.8924076665862808,0.6732779107589727,2.3205852036282089,458.33333333333337,0.15366576866258877,-234.52726430529796,-7.8630136018489574E-2,4.073568963908606E-2,1.7531910361932742E-2,2.5528811083092875,-4.0211931164638795E-3,null,null,null,null,0.20594318580878934]
[null,"De","hc","e0","a'","b'","N'","tN'","t","Nc","sac","Nac","sat","Nat","Mtot","u","N","Mo","a''","b''","c''",null,"x"]
[null,null,{"$f":"$C$35","v":4.0138687861173784E-2},{"$f":"$D$35","v":3.210578024372992E-4},{"$f":"$E$35","v":6.2237513577017019E-2},{"$f":"$F$35","v":-4.2370847395201951E-2},{"$f":"IF($C$2=1,0.5*($O$31*D795*$F$6/$O$30)*(1-W795^2+(E795-F795)*(F795^2*(1-W795^2)+2*F795*(1-W795)+2*LN((1-F795)/(1-F795*W795)))/(F795^3)),$F$6*F795*(LN((1-E795+E795^2)/(1+E795)^2)/(6*E795)+ATAN((2-E795)/(E795*3^0.5))/(E795*3^0.5)-LN((W795^2-E795*W795+E795^2)/(W795+E795)^2)/(6*E795)-ATAN((2*W795-E795)/(E795*3^0.5))/(E795*3^0.5)))","v":3.8254468270961333},{"$f":"IF($C$2=1,($O$31*D795*$F$6/$O$30)*(1-W795^3-(E795-F795)*(-2*F795^3*(1-W795^3)-3*F795^2*(1-W795^2)-6*F795*(1-W795)-6*LN((1-F795)/(1-F795*W795)))/(2*F795^4))/3,$F$6*F795*(LN((1+E795^3)/(E795^3+W795^3)))/3)","v":2.5276172507990187},{"$f":"$I$35","v":0.66073778176593112},{"$f":"$J$35","v":0.15354841612232933},{"$f":"$K$35","v":0.6365191476987323},{"$f":"$L$35","v":2.1340626348999612E-4},{"$f":"$M$35","v":458.32156291626706},{"$f":"$N$35","v":0.15366182238581935},{"$f":"$O$35","v":1.9422167141878287E-2},{"$f":"$P$35","v":2.9740483717744983E-2},{"$f":"$Q$35","v":9.9999999999988987E-5},{"$f":"$R$35","v":1.9419193093506513E-2},null,null,null,null,{"$f":"IF(C795<$C$6,0,(C795-$C$6)/C795)","v":0}]
[null,{"$f":"IF(R776>$Q$29*V776,B776,IF(Q776>Q775,$U$6,-0.5)*B776)","v":-3.9768977969850231E-42},{"$f":"IF(Q776>Q775,C776,(1-$T$6)*C776+$T$6*C777)","v":4.5181422537606569E-2},{"$f":"D776+B796","v":3.9334484870015113E-4},{"$f":"IF($C$2=1,D796/($O$31*$O$30),2^(1/3)*$O$30/D796)","v":7.6250460744389861E-2},{"$f":"IF($C$2=1,-($O$31-2)*D796/$O$30,3*($O$30/D796)^2)","v":-5.1910760091923788E-2},{"$f":"IF($C$2=1,0.5*($O$31*D796*$F$6/$O$30)*(1-W796^2+(E796-F796)*(F796^2*(1-W796^2)+2*F796*(1-W796)+2*LN((1-F796)/(1-F796*W796)))/(F796^3)),$F$6*F796*(LN((1-E796+E796^2)/(1+E796)^2)/(6*E796)+ATAN((2-E796)/(E796*3^0.5))/(E796*3^0.5)-LN((W796^2-E796*W796+E796^2)/(W796+E796)^2)/(6*E796)-ATAN((2*W796-E796)/(E796*3^0.5))/(E796*3^0.5)))","v":4.613110708371468},{"$f":"IF($C$2=1,($O$31*D796*$F$6/$O$30)*(1-W796^3-(E796-F796)*(-2*F796^3*(1-W796^3)-3*F796^2*(1-W796^2)-6*F796*(1-W796)-6*LN((1-F796)/(1-F796*W796)))/(2*F796^4))/3,$F$6*F796*(LN((1+E796^3)/(E796^3+W796^3)))/3)","v":3.0417370707038054},{"$f":"H796/G796","v":0.6593678892604784},{"$f":"G796*C796*$D$6","v":0.20842690412768886},{"$f":"MAX(MIN($K$6,$Q$6*$J$6*D796*(C796-$I$6)/C796),-$K$6)","v":25.883055331143311},{"$f":"K796*$H$6","v":8.6778318388286233E-3},{"$f":"MIN($O$6,$Q$6*$N$6*D796*(C$6-C796-$M$6)/C796)","v":458.33333333333337},{"$f":"M796*$L$6","v":0.15366576866258877},{"$f":"(0.5*$C$6-C796+I796*C796)*J796+(0.5*$C$6-$I$6)*L796+(0.5*$C$6-$M$6)*N796","v":2.3667860626519786E-2},{"$f":"0.1*$Q$6*D796*$B$6^2/C796+$R$6","v":3.2369913344933235E-2},{"$f":"(J796+L796-N796)","v":6.3438967303928701E-2},{"$f":"O796-P796*Q796","v":2.1614346752199563E-2},{"$f":"((R796-R795)*(Q796-Q797)-(R796-R797)*(Q796-Q795))/((Q796^2-Q795^2)*(Q796-Q797)-(Q796^2-Q797^2)*(Q796-Q795))","v":-5.0906690086739578E-2},{"$f":"-(S796*(Q796^2-Q795^2)-(R796-R795))/(Q796-Q795)","v":3.7891796424874044E-2},{"$f":"R796-S796*Q796^2-T796*Q796","v":1.9415404422930927E-2},{"$f":"S776*Q796^2+T776*Q796+U776","v":2.1614346752199563E-2},{"$f":"IF(C796<$C$6,0,(C796-$C$6)/C796)","v":0}]
[null,{"$f":"IF(R777>$Q$29*V777,B777,IF(Q777>Q776,$U$6,-0.5)*B777)","v":-9.2191671472819456E-42},{"$f":"IF(Q777>Q776,C777,(1-$T$6)*C777+$T$6*C778)","v":4.9415891915262342E-2},{"$f":"D777+B797","v":4.5831677895414393E-4},8.8845362225090027E-2,-6.048527758025446E-2,5.298963348818206,3.4873783855907905,0.65812464741213172,0.26185300010813706,50.108747538653482,1.6799998270356629E-2,458.33333333333337,0.15366576866258877,2.7666294009989843E-2,{"$f":"0.1*$Q$6*D797*$B$6^2/C797+$R$6","v":3.4484750565600325E-2},0.1249872297159049,2.3356140569351473E-2,-2.4406838503766199E-2,3.2898530169504357E-2,1.9625523356776232E-2,{"$f":"MAX(S777*Q797^2+T777*Q797+U777,S778*Q797^2+T778*Q797+U778)","v":2.3356140569351473E-2},0]
[null,2.0798428890166185E-40,5.3135963724627852E-2,4.9935638089130207E-4,9.6800947678454222E-2,-6.5901382398883657E-2,5.7215793302330873,3.7609846786577479,0.65733330984061211,0.30402163173884583,70.833213832193195,2.3748306000797411E-2,458.33333333333337,0.15366576866258877,3.0697047575934798E-2,3.494218127080094E-2,0.17410416907705448,2.4613468140042186E-2,-4.5103014428982229E-2,3.9088578376642383E-2,1.917515805775322E-2,{"$f":"MAX(S778*Q798^2+T778*Q798+U778,S779*Q798^2+T779*Q798+U779)","v":2.4613468140042186E-2},0]
[null,-5.6969288289327812E-30,5.7428181372141097E-2,5.514539446251275E-4,0.10690013482045398,-7.2776835684460875E-2,6.2464148897257887,4.0996583167619933,0.65632180845130572,0.35872024721281531,96.026084290590006,3.2194739027284473E-2,454.9555829307958,0.15253330769104773,3.4441229960732844E-2,3.5703612035945798E-2,0.23838167854905207,2.5930142993339948E-2,-2.9426200348363504E-2,3.2622114432521492E-2,1.9825796698733748E-2,2.5930142993339948E-2,0]
[null,-4.9168873655396372E-32,6.2195419634221871E-2,6.3481451892244281E-4,0.12305970121389279,-8.3778151165705819E-2,7.0595192163462306,4.6217728328091976,0.65468662824906532,0.43906976007650694,129.98845249060312,4.358132829649948E-2,455.66595113320221,0.15277147338382499,3.990405674307692E-2,3.7950405354822588E-2,0.32987961498918139,2.7384991635944676E-2,-4.0881215445812906E-2,3.9131556129298077E-2,1.8925005740134344E-2,2.7384991635944676E-2,0]
[null,-3.4696055743564062E-36,6.7505252560478693E-2,7.6077995736461353E-4,0.1474782813753594,-0.10040214325929543,8.2273758274995288,5.3656873709129131,0.65217482261821724,0.55539108314533303,177.86483664942327,5.9632880382064171E-2,458.33333333333337,0.15366576866258877,4.7609532615159544E-2,4.1903419681531696E-2,0.46135819486480845,2.8277046552225595E-2,-2.2807698191248511E-2,2.4831105920438253E-2,2.1675662473427899E-2,2.8277046552225592E-2,0]
[null,4.4356020559053369E-33,7.3437125604676246E-2,8.7915766311351851E-4,0.17042596871649618,-0.11602476219957342,9.2601264172153144,6.0169217608535561,0.64976669753315874,0.68003706681622167,229.68519224392304,7.7006730799804149E-2,457.23148522251887,0.15329635120026644,5.5227850373787246E-2,4.4512200699825442E-2,0.60374744641575939,2.8353722866921859E-2,-2.5331082645560062E-2,2.7518776937845171E-2,2.0972789297832434E-2,2.8353722866921855E-2,0]
[null,3.8018732058162801E-39,8.0084861800030091E-2,8.0322125151080091E-4,0.15570558686551447,-0.10600323310626833,8.6047481702081807,5.6044180713793095,0.65131691951000092,0.68911006803518393,230.68434089358982,7.7341716134915195E-2,344.80558356815953,0.1156032328105172,5.2424281184921491E-2,3.7291747105121363E-2,0.65084855135958186,2.8153001603885373E-2,5.3488563857359527E-2,-7.1368036110784933E-2,5.1944823644701502E-2,2.8153001603885373E-2,0]
[null,3.9680070215462157E-41,8.7559791299448214E-2,7.589601804503962E-4,0.14712551502130744,-0.10016198248656145,8.2110155190031868,5.35531853167456,0.65221147363325083,0.71895480520044952,236.54140810904181,7.9305419558415302E-2,260.81444995122291,8.7443460938323531E-2,5.1149555703629349E-2,3.2228659602305157E-2,0.71081676382054126,2.8240884182844983E-2,1.620725285997025E-2,-2.0603368021196673E-2,3.4697219338027108E-2,2.8240884182844983E-2,0]
[null,-2.8938985860933082E-41,9.5994684279247358E-2,7.2684530602114012E-4,0.14090000074275205,-9.5923697563322988E-2,7.9198478960951526,5.1705241389888323,0.65285649507715138,0.76026329832531558,243.27336941832445,8.1562449396664877E-2,191.1846019939475,6.4098608338584079E-2,5.0371787923233137E-2,2.8152876547515221E-2,0.77772713938339644,2.8476531780520214E-2,-3.3680182989186433E-3,8.5352825159312664E-3,2.3875588801077877E-2,2.8476531780520214E-2,0]
[null,3.0101922571042637E-40,0.10554872685841464,7.2595225389928254E-4,0.14072688131336222,-9.5805839112651697E-2,7.9116847261094803,5.1653362911606653,0.65287438389884955,0.8350682501460206,258.68561802430992,8.6729725823263423E-2,135.96067096170083,4.5583638569915055E-2,5.1176023327523926E-2,2.5573079526293493E-2,0.87621433739936894,2.8768524395131306E-2,-1.1034826197296847E-2,2.1215734093584685E-2,1.8650999087066054E-2,2.8768524395131306E-2,0]
[null,-3.1264859281152183E-39,0.11641386182692361,7.2273332835720637E-4,0.14010288799936232,-9.5381028994708961E-2,7.8822314213383118,5.1466150498502268,0.65293884114054479,0.91760099957151386,272.20650484370691,9.1262883931123431E-2,84.020098989313652,2.816948311483566E-2,5.1482123070299438E-2,2.3083483928379733E-2,0.98069440038780165,2.8844279640295619E-2,-1.2467472319252071E-2,2.3876027195600245E-2,1.7419928431709683E-2,2.8844279640295616E-2,0]
[null,3.242779599126174E-40,0.12882293018018509,7.8204412137743444E-4,0.15160036994135934,-0.1032084312284213,8.4174505264930506,5.4860375408683515,0.65174574220562609,1.0843606414695766,309.39703182670513,0.10373178047470707,38.933102294141968,1.3053131106433141E-2,5.4783886617278385E-2,2.2571792691030892E-2,1.1750392908378504,2.826114334067047E-2,-1.4045609395384713E-2,2.7278070459991727E-2,1.5601355144962054E-2,2.8261143340670467E-2,0]
[null,4.7986761001958998E-41,0.14306020987399781,9.1784214572999934E-4,0.17792501092567375,-0.12113005569209134,9.5843573631305574,6.2199529722453777,0.64896922522656675,1.3711401758768538,379.39632961899144,0.12720049880436482,-11.26557374061295,-3.7770175598757037E-3,6.0717137180960612E-2,2.3854872980918932E-2,1.5021176922410944,2.4884310430158228E-2,-1.3880675225493628E-2,2.6836515795319472E-2,1.589247175750013E-2,2.4884310430158235E-2,0]
[null,-7.3896230788640137E-32,0.15947517602038869,1.0632928266209583E-3,0.2061208331670763,-0.14032556677070035,10.746540243551687,6.9414248140134482,0.64592181825016237,1.7138063969505959,457.07812518453858,0.15324493406255363,-74.50649783113991,-2.4979850748173705E-2,6.3882871876537753E-2,2.4790641452500241E-2,1.8920311817613233,1.6978205232542475E-2,-1.7452510104882288E-2,3.8959855129319064E-2,5.7411258928367903E-3,1.6978205232542475E-2,0]
[null,5.1309437316557743E-39,0.17850063403985802,1.0840138064749558E-3,0.2101376247080454,-0.14306016928964782,10.90492106925447,7.0389210323415492,0.64548115365889347,1.9465353250165296,458.33333333333337,0.15366576866258877,-134.15779038323299,-4.49791854137759E-2,5.7442173658518551E-2,2.2579952340092826E-2,2.1451802790928944,9.0041051956939663E-3,-9.6787692168114406E-3,7.5756193222883796E-3,3.7292781008013087E-2,9.0041051956939733E-3,0]
[null,6.4624346078105676E-35,0.20067685341513844,1.0385972971252134E-3,0.20133356950111006,-0.13706643242272801,10.417803816046661,6.8140972066734848,0.65408192811018906,2.0906120893004654,458.33333333333337,0.15366576866258877,-180.18802323583762,-6.0411776933077942E-2,4.7692199830230854E-2,1.924322579121935E-2,2.3046896348961323,3.3425368072416972E-3,1.4285210650986205E-2,-9.9060973710863004E-2,0.15577009248477686,{"$f":"S792*Q812^2+T792*Q812+U792","v":3.342536807241725E-3},0.10303556719799878]
[null,0,{"$f":"C793","v":0.22668403164997661},{"$f":"D793+(D812-D792)","v":1.0688633827654077E-3},0.20720069343223654,-0.14106072779937201,10.237091632512653,6.8924076665862808,0.6732779107589727,2.3205852036282089,458.33333333333337,0.15366576866258877,-234.52726430529796,-7.8630136018489574E-2,4.073568963908606E-2,1.7531910361932742E-2,2.5528811083092875,-4.0211931164638795E-3,null,null,null,null,0.20594318580878934]
[null,"De","hc","e0","a'","b'","N'","tN'","t","Nc","sac","Nac","sat","Nat","Mtot","u","N","Mo","a''","b''","c''",null,"x"]
[null,null,{"$f":"$C$35","v":4.0138687861173784E-2},{"$f":"$D$35","v":3.210578024372992E-4},{"$f":"$E$35","v":6.2237513577017019E-2},{"$f":"$F$35","v":-4.2370847395201951E-2},{"$f":"IF($C$2=1,0.5*($O$31*D815*$F$6/$O$30)*(1-W815^2+(E815-F815)*(F815^2*(1-W815^2)+2*F815*(1-W815)+2*LN((1-F815)/(1-F815*W815)))/(F815^3)),$F$6*F815*(LN((1-E815+E815^2)/(1+E815)^2)/(6*E815)+ATAN((2-E815)/(E815*3^0.5))/(E815*3^0.5)-LN((W815^2-E815*W815+E815^2)/(W815+E815)^2)/(6*E815)-ATAN((2*W815-E815)/(E815*3^0.5))/(E815*3^0.5)))","v":3.8254468270961333},{"$f":"IF($C$2=1,($O$31*D815*$F$6/$O$30)*(1-W815^3-(E815-F815)*(-2*F815^3*(1-W815^3)-3*F815^2*(1-W815^2)-6*F815*(1-W815)-6*LN((1-F815)/(1-F815*W815)))/(2*F815^4))/3,$F$6*F815*(LN((1+E815^3)/(E815^3+W815^3)))/3)","v":2.5276172507990187},{"$f":"$I$35","v":0.66073778176593112},{"$f":"$J$35","v":0.15354841612232933},{"$f":"$K$35","v":0.6365191476987323},{"$f":"$L$35","v":2.1340626348999612E-4},{"$f":"$M$35","v":458.32156291626706},{"$f":"$N$35","v":0.15366182238581935},{"$f":"$O$35","v":1.9422167141878287E-2},{"$f":"$P$35","v":2.9740483717744983E-2},{"$f":"$Q$35","v":9.9999999999988987E-5},{"$f":"$R$35","v":1.9419193093506513E-2},null,null,null,null,{"$f":"IF(C815<$C$6,0,(C815-$C$6)/C815)","v":0}]
[null,{"$f":"IF(R796>$Q$29*V796,B796,IF(Q796>Q795,$U$6,-0.5)*B796)","v":3.9768977969850229E-43},{"$f":"IF(Q796>Q795,C796,(1-$T$6)*C796+$T$6*C797)","v":4.5181422537606569E-2},{"$f":"D796+B816","v":3.9334484870015113E-4},{"$f":"IF($C$2=1,D816/($O$31*$O$30),2^(1/3)*$O$30/D816)","v":7.6250460744389861E-2},{"$f":"IF($C$2=1,-($O$31-2)*D816/$O$30,3*($O$30/D816)^2)","v":-5.1910760091923788E-2},{"$f":"IF($C$2=1,0.5*($O$31*D816*$F$6/$O$30)*(1-W816^2+(E816-F816)*(F816^2*(1-W816^2)+2*F816*(1-W816)+2*LN((1-F816)/(1-F816*W816)))/(F816^3)),$F$6*F816*(LN((1-E816+E816^2)/(1+E816)^2)/(6*E816)+ATAN((2-E816)/(E816*3^0.5))/(E816*3^0.5)-LN((W816^2-E816*W816+E816^2)/(W816+E816)^2)/(6*E816)-ATAN((2*W816-E816)/(E816*3^0.5))/(E816*3^0.5)))","v":4.613110708371468},{"$f":"IF($C$2=1,($O$31*D816*$F$6/$O$30)*(1-W816^3-(E816-F816)*(-2*F816^3*(1-W816^3)-3*F816^2*(1-W816^2)-6*F816*(1-W816)-6*LN((1-F816)/(1-F816*W816)))/(2*F816^4))/3,$F$6*F816*(LN((1+E816^3)/(E816^3+W816^3)))/3)","v":3.0417370707038054},{"$f":"H816/G816","v":0.6593678892604784},{"$f":"G816*C816*$D$6","v":0.20842690412768886},{"$f":"MAX(MIN($K$6,$Q$6*$J$6*D816*(C816-$I$6)/C816),-$K$6)","v":25.883055331143311},{"$f":"K816*$H$6","v":8.6778318388286233E-3},{"$f":"MIN($O$6,$Q$6*$N$6*D816*(C$6-C816-$M$6)/C816)","v":458.33333333333337},{"$f":"M816*$L$6","v":0.15366576866258877},{"$f":"(0.5*$C$6-C816+I816*C816)*J816+(0.5*$C$6-$I$6)*L816+(0.5*$C$6-$M$6)*N816","v":2.3667860626519786E-2},{"$f":"0.1*$Q$6*D816*$B$6^2/C816+$R$6","v":3.2369913344933235E-2},{"$f":"(J816+L816-N816)","v":6.3438967303928701E-2},{"$f":"O816-P816*Q816","v":2.1614346752199563E-2},{"$f":"((R816-R815)*(Q816-Q817)-(R816-R817)*(Q816-Q815))/((Q816^2-Q815^2)*(Q816-Q817)-(Q816^2-Q817^2)*(Q816-Q815))","v":-5.0906690086739578E-2},{"$f":"-(S816*(Q816^2-Q815^2)-(R816-R815))/(Q816-Q815)","v":3.7891796424874044E-2},{"$f":"R816-S816*Q816^2-T816*Q816","v":1.9415404422930927E-2},{"$f":"S796*Q816^2+T796*Q816+U796","v":2.1614346752199563E-2},{"$f":"IF(C816<$C$6,0,(C816-$C$6)/C816)","v":0}]
[null,{"$f":"IF(R797>$Q$29*V797,B797,IF(Q797>Q796,$U$6,-0.5)*B797)","v":9.2191671472819463E-43},{"$f":"IF(Q797>Q796,C797,(1-$T$6)*C797+$T$6*C798)","v":4.9415891915262342E-2},{"$f":"D797+B817","v":4.5831677895414393E-4},8.8845362225090027E-2,-6.048527758025446E-2,5.298963348818206,3.4873783855907905,0.65812464741213172,0.26185300010813706,50.108747538653482,1.6799998270356629E-2,458.33333333333337,0.15366576866258877,2.7666294009989843E-2,{"$f":"0.1*$Q$6*D817*$B$6^2/C817+$R$6","v":3.4484750565600325E-2},0.1249872297159049,2.3356140569351473E-2,-2.4406838503766199E-2,3.2898530169504357E-2,1.9625523356776232E-2,{"$f":"MAX(S797*Q817^2+T797*Q817+U797,S798*Q817^2+T798*Q817+U798)","v":2.3356140569351473E-2},0]
[null,-2.0798428890166186E-41,5.3135963724627852E-2,4.9935638089130207E-4,9.6800947678454222E-2,-6.5901382398883657E-2,5.7215793302330873,3.7609846786577479,0.65733330984061211,0.30402163173884583,70.833213832193195,2.3748306000797411E-2,458.33333333333337,0.15366576866258877,3.0697047575934798E-2,3.494218127080094E-2,0.17410416907705448,2.4613468140042186E-2,-4.5103014428982229E-2,3.9088578376642383E-2,1.917515805775322E-2,{"$f":"MAX(S798*Q818^2+T798*Q818+U798,S799*Q818^2+T799*Q818+U799)","v":2.4613468140042186E-2},0]
[null,5.6969288289327817E-31,5.7428181372141097E-2,5.514539446251275E-4,0.10690013482045398,-7.2776835684460875E-2,6.2464148897257887,4.0996583167619933,0.65632180845130572,0.35872024721281531,96.026084290590006,3.2194739027284473E-2,454.9555829307958,0.15253330769104773,3.4441229960732844E-2,3.5703612035945798E-2,0.23838167854905207,2.5930142993339948E-2,-2.9426200348363504E-2,3.2622114432521492E-2,1.9825796698733748E-2,2.5930142993339948E-2,0]
[null,4.9168873655396375E-33,6.2195419634221871E-2,6.3481451892244281E-4,0.12305970121389279,-8.3778151165705819E-2,7.0595192163462306,4.6217728328091976,0.65468662824906532,0.43906976007650694,129.98845249060312,4.358132829649948E-2,455.66595113320221,0.15277147338382499,3.990405674307692E-2,3.7950405354822588E-2,0.32987961498918139,2.7384991635944676E-2,-4.0881215445812906E-2,3.9131556129298077E-2,1.8925005740134344E-2,2.7384991635944676E-2,0]
[null,3.4696055743564064E-37,6.7505252560478693E-2,7.6077995736461353E-4,0.1474782813753594,-0.10040214325929543,8.2273758274995288,5.3656873709129131,0.65217482261821724,0.55539108314533303,177.86483664942327,5.9632880382064171E-2,458.33333333333337,0.15366576866258877,4.7609532615159544E-2,4.1903419681531696E-2,0.46135819486480845,2.8277046552225595E-2,-2.2807698191248511E-2,2.4831105920438253E-2,2.1675662473427899E-2,2.8277046552225592E-2,0]
[null,-4.4356020559053367E-34,7.3437125604676246E-2,8.7915766311351851E-4,0.17042596871649618,-0.11602476219957342,9.2601264172153144,6.0169217608535561,0.64976669753315874,0.68003706681622167,229.68519224392304,7.7006730799804149E-2,457.23148522251887,0.15329635120026644,5.5227850373787246E-2,4.4512200699825442E-2,0.60374744641575939,2.8353722866921859E-2,-2.5331082645560062E-2,2.7518776937845171E-2,2.0972789297832434E-2,2.8353722866921855E-2,0]
[null,-3.8018732058162803E-40,8.0084861800030091E-2,8.0322125151080091E-4,0.15570558686551447,-0.10600323310626833,8.6047481702081807,5.6044180713793095,0.65131691951000092,0.68911006803518393,230.68434089358982,7.7341716134915195E-2,344.80558356815953,0.1156032328105172,5.2424281184921491E-2,3.7291747105121363E-2,0.65084855135958186,2.8153001603885373E-2,5.3488563857359527E-2,-7.1368036110784933E-2,5.1944823644701502E-2,2.8153001603885373E-2,0]
[null,-3.9680070215462162E-42,8.7559791299448214E-2,7.589601804503962E-4,0.14712551502130744,-0.10016198248656145,8.2110155190031868,5.35531853167456,0.65221147363325083,0.71895480520044952,236.54140810904181,7.9305419558415302E-2,260.81444995122291,8.7443460938323531E-2,5.1149555703629349E-2,3.2228659602305157E-2,0.71081676382054126,2.8240884182844983E-2,1.620725285997025E-2,-2.0603368021196673E-2,3.4697219338027108E-2,2.8240884182844983E-2,0]
[null,2.8938985860933084E-42,9.5994684279247358E-2,7.2684530602114012E-4,0.14090000074275205,-9.5923697563322988E-2,7.9198478960951526,5.1705241389888323,0.65285649507715138,0.76026329832531558,243.27336941832445,8.1562449396664877E-2,191.1846019939475,6.4098608338584079E-2,5.0371787923233137E-2,2.8152876547515221E-2,0.77772713938339644,2.8476531780520214E-2,-3.3680182989186433E-3,8.5352825159312664E-3,2.3875588801077877E-2,2.8476531780520214E-2,0]
[null,-3.0101922571042637E-41,0.10554872685841464,7.2595225389928254E-4,0.14072688131336222,-9.5805839112651697E-2,7.9116847261094803,5.1653362911606653,0.65287438389884955,0.8350682501460206,258.68561802430992,8.6729725823263423E-2,135.96067096170083,4.5583638569915055E-2,5.1176023327523926E-2,2.5573079526293493E-2,0.87621433739936894,2.8768524395131306E-2,-1.1034826197296847E-2,2.1215734093584685E-2,1.8650999087066054E-2,2.8768524395131306E-2,0]
[null,3.1264859281152186E-40,0.11641386182692361,7.2273332835720637E-4,0.14010288799936232,-9.5381028994708961E-2,7.8822314213383118,5.1466150498502268,0.65293884114054479,0.91760099957151386,272.20650484370691,9.1262883931123431E-2,84.020098989313652,2.816948311483566E-2,5.1482123070299438E-2,2.3083483928379733E-2,0.98069440038780165,2.8844279640295619E-2,-1.2467472319252071E-2,2.3876027195600245E-2,1.7419928431709683E-2,2.8844279640295616E-2,0]
[null,-3.2427795991261743E-41,0.12882293018018509,7.8204412137743444E-4,0.15160036994135934,-0.1032084312284213,8.4174505264930506,5.4860375408683515,0.65174574220562609,1.0843606414695766,309.39703182670513,0.10373178047470707,38.933102294141968,1.3053131106433141E-2,5.4783886617278385E-2,2.2571792691030892E-2,1.1750392908378504,2.826114334067047E-2,-1.4045609395384713E-2,2.7278070459991727E-2,1.5601355144962054E-2,2.8261143340670467E-2,0]
[null,-4.7986761001958998E-42,0.14306020987399781,9.1784214572999934E-4,0.17792501092567375,-0.12113005569209134,9.5843573631305574,6.2199529722453777,0.64896922522656675,1.3711401758768538,379.39632961899144,0.12720049880436482,-11.26557374061295,-3.7770175598757037E-3,6.0717137180960612E-2,2.3854872980918932E-2,1.5021176922410944,2.4884310430158228E-2,-1.3880675225493628E-2,2.6836515795319472E-2,1.589247175750013E-2,2.4884310430158235E-2,0]
[null,7.3896230788640137E-33,0.15947517602038869,1.0632928266209583E-3,0.2061208331670763,-0.14032556677070035,10.746540243551687,6.9414248140134482,0.64592181825016237,1.7138063969505959,457.07812518453858,0.15324493406255363,-74.50649783113991,-2.4979850748173705E-2,6.3882871876537753E-2,2.4790641452500241E-2,1.8920311817613233,1.6978205232542475E-2,-1.7452510104882288E-2,3.8959855129319064E-2,5.7411258928367903E-3,1.6978205232542475E-2,0]
[null,-5.1309437316557748E-40,0.17850063403985802,1.0840138064749558E-3,0.2101376247080454,-0.14306016928964782,10.90492106925447,7.0389210323415492,0.64548115365889347,1.9465353250165296,458.33333333333337,0.15366576866258877,-134.15779038323299,-4.49791854137759E-2,5.7442173658518551E-2,2.2579952340092826E-2,2.1451802790928944,9.0041051956939663E-3,-9.6787692168114406E-3,7.5756193222883796E-3,3.7292781008013087E-2,9.0041051956939733E-3,0]
[null,-6.4624346078105684E-36,0.20067685341513844,1.0385972971252134E-3,0.20133356950111006,-0.13706643242272801,10.417803816046661,6.8140972066734848,0.65408192811018906,2.0906120893004654,458.33333333333337,0.15366576866258877,-180.18802323583762,-6.0411776933077942E-2,4.7692199830230854E-2,1.924322579121935E-2,2.3046896348961323,3.3425368072416972E-3,1.4285210650986205E-2,-9.9060973710863004E-2,0.15577009248477686,{"$f":"S812*Q832^2+T812*Q832+U812","v":3.342536807241725E-3},0.10303556719799878]
[null,0,{"$f":"C813","v":0.22668403164997661},{"$f":"D813+(D832-D812)","v":1.0688633827654077E-3},0.20720069343223654,-0.14106072779937201,10.237091632512653,6.8924076665862808,0.6732779107589727,2.3205852036282089,458.33333333333337,0.15366576866258877,-234.52726430529796,-7.8630136018489574E-2,4.073568963908606E-2,1.7531910361932742E-2,2.5528811083092875,-4.0211931164638795E-3,null,null,null,null,0.20594318580878934]
[null,"De","hc","e0","a'","b'","N'","tN'","t","Nc","sac","Nac","sat","Nat","Mtot","u","N","Mo","a''","b''","c''",null,"x"]
[null,null,{"$f":"$C$35","v":4.0138687861173784E-2},{"$f":"$D$35","v":3.210578024372992E-4},{"$f":"$E$35","v":6.2237513577017019E-2},{"$f":"$F$35","v":-4.2370847395201951E-2},{"$f":"IF($C$2=1,0.5*($O$31*D835*$F$6/$O$30)*(1-W835^2+(E835-F835)*(F835^2*(1-W835^2)+2*F835*(1-W835)+2*LN((1-F835)/(1-F835*W835)))/(F835^3)),$F$6*F835*(LN((1-E835+E835^2)/(1+E835)^2)/(6*E835)+ATAN((2-E835)/(E835*3^0.5))/(E835*3^0.5)-LN((W835^2-E835*W835+E835^2)/(W835+E835)^2)/(6*E835)-ATAN((2*W835-E835)/(E835*3^0.5))/(E835*3^0.5)))","v":3.8254468270961333},{"$f":"IF($C$2=1,($O$31*D835*$F$6/$O$30)*(1-W835^3-(E835-F835)*(-2*F835^3*(1-W835^3)-3*F835^2*(1-W835^2)-6*F835*(1-W835)-6*LN((1-F835)/(1-F835*W835)))/(2*F835^4))/3,$F$6*F835*(LN((1+E835^3)/(E835^3+W835^3)))/3)","v":2.5276172507990187},{"$f":"$I$35","v":0.66073778176593112},{"$f":"$J$35","v":0.15354841612232933},{"$f":"$K$35","v":0.6365191476987323},{"$f":"$L$35","v":2.1340626348999612E-4},{"$f":"$M$35","v":458.32156291626706},{"$f":"$N$35","v":0.15366182238581935},{"$f":"$O$35","v":1.9422167141878287E-2},{"$f":"$P$35","v":2.9740483717744983E-2},{"$f":"$Q$35","v":9.9999999999988987E-5},{"$f":"$R$35","v":1.9419193093506513E-2},null,null,null,null,{"$f":"IF(C835<$C$6,0,(C835-$C$6)/C835)","v":0}]
[null,{"$f":"IF(R816>$Q$29*V816,B816,IF(Q816>Q815,$U$6,-0.5)*B816)","v":-3.9768977969850231E-44},{"$f":"IF(Q816>Q815,C816,(1-$T$6)*C816+$T$6*C817)","v":4.5181422537606569E-2},{"$f":"D816+B836","v":3.9334484870015113E-4},{"$f":"IF($C$2=1,D836/($O$31*$O$30),2^(1/3)*$O$30/D836)","v":7.6250460744389861E-2},{"$f":"IF($C$2=1,-($O$31-2)*D836/$O$30,3*($O$30/D836)^2)","v":-5.1910760091923788E-2},{"$f":"IF($C$2=1,0.5*($O$31*D836*$F$6/$O$30)*(1-W836^2+(E836-F836)*(F836^2*(1-W836^2)+2*F836*(1-W836)+2*LN((1-F836)/(1-F836*W836)))/(F836^3)),$F$6*F836*(LN((1-E836+E836^2)/(1+E836)^2)/(6*E836)+ATAN((2-E836)/(E836*3^0.5))/(E836*3^0.5)-LN((W836^2-E836*W836+E836^2)/(W836+E836)^2)/(6*E836)-ATAN((2*W836-E836)/(E836*3^0.5))/(E836*3^0.5)))","v":4.613110708371468},{"$f":"IF($C$2=1,($O$31*D836*$F$6/$O$30)*(1-W836^3-(E836-F836)*(-2*F836^3*(1-W836^3)-3*F836^2*(1-W836^2)-6*F836*(1-W836)-6*LN((1-F836)/(1-F836*W836)))/(2*F836^4))/3,$F$6*F836*(LN((1+E836^3)/(E836^3+W836^3)))/3)","v":3.0417370707038054},{"$f":"H836/G836","v":0.6593678892604784},{"$f":"G836*C836*$D$6","v":0.20842690412768886},{"$f":"MAX(MIN($K$6,$Q$6*$J$6*D836*(C836-$I$6)/C836),-$K$6)","v":25.883055331143311},{"$f":"K836*$H$6","v":8.6778318388286233E-3},{"$f":"MIN($O$6,$Q$6*$N$6*D836*(C$6-C836-$M$6)/C836)","v":458.33333333333337},{"$f":"M836*$L$6","v":0.15366576866258877},{"$f":"(0.5*$C$6-C836+I836*C836)*J836+(0.5*$C$6-$I$6)*L836+(0.5*$C$6-$M$6)*N836","v":2.3667860626519786E-2},{"$f":"0.1*$Q$6*D836*$B$6^2/C836+$R$6","v":3.2369913344933235E-2},{"$f":"(J836+L836-N836)","v":6.3438967303928701E-2},{"$f":"O836-P836*Q836","v":2.1614346752199563E-2},{"$f":"((R836-R835)*(Q836-Q837)-(R836-R837)*(Q836-Q835))/((Q836^2-Q835^2)*(Q836-Q837)-(Q836^2-Q837^2)*(Q836-Q835))","v":-5.0906690086739578E-2},{"$f":"-(S836*(Q836^2-Q835^2)-(R836-R835))/(Q836-Q835)","v":3.7891796424874044E-2},{"$f":"R836-S836*Q836^2-T836*Q836","v":1.9415404422930927E-2},{"$f":"S816*Q836^2+T816*Q836+U816","v":2.1614346752199563E-2},{"$f":"IF(C836<$C$6,0,(C836-$C$6)/C836)","v":0}]
[null,{"$f":"IF(R817>$Q$29*V817,B817,IF(Q817>Q816,$U$6,-0.5)*B817)","v":-9.2191671472819475E-44},{"$f":"IF(Q817>Q816,C817,(1-$T$6)*C817+$T$6*C818)","v":4.9415891915262342E-2},{"$f":"D817+B837","v":4.5831677895414393E-4},8.8845362225090027E-2,-6.048527758025446E-2,5.298963348818206,3.4873783855907905,0.65812464741213172,0.26185300010813706,50.108747538653482,1.6799998270356629E-2,458.33333333333337,0.15366576866258877,2.7666294009989843E-2,{"$f":"0.1*$Q$6*D837*$B$6^2/C837+$R$6","v":3.4484750565600325E-2},0.1249872297159049,2.3356140569351473E-2,-2.4406838503766199E-2,3.2898530169504357E-2,1.9625523356776232E-2,{"$f":"MAX(S817*Q837^2+T817*Q837+U817,S818*Q837^2+T818*Q837+U818)","v":2.3356140569351473E-2},0]
[null,2.0798428890166186E-42,5.3135963724627852E-2,4.9935638089130207E-4,9.6800947678454222E-2,-6.5901382398883657E-2,5.7215793302330873,3.7609846786577479,0.65733330984061211,0.30402163173884583,70.833213832193195,2.3748306000797411E-2,458.33333333333337,0.15366576866258877,3.0697047575934798E-2,3.494218127080094E-2,0.17410416907705448,2.4613468140042186E-2,-4.5103014428982229E-2,3.9088578376642383E-2,1.917515805775322E-2,{"$f":"MAX(S818*Q838^2+T818*Q838+U818,S819*Q838^2+T819*Q838+U819)","v":2.4613468140042186E-2},0]
[null,-5.6969288289327824E-32,5.7428181372141097E-2,5.514539446251275E-4,0.10690013482045398,-7.2776835684460875E-2,6.2464148897257887,4.0996583167619933,0.65632180845130572,0.35872024721281531,96.026084290590006,3.2194739027284473E-2,454.9555829307958,0.15253330769104773,3.4441229960732844E-2,3.5703612035945798E-2,0.23838167854905207,2.5930142993339948E-2,-2.9426200348363504E-2,3.2622114432521492E-2,1.9825796698733748E-2,2.5930142993339948E-2,0]
[null,-4.9168873655396375E-34,6.2195419634221871E-2,6.3481451892244281E-4,0.12305970121389279,-8.3778151165705819E-2,7.0595192163462306,4.6217728328091976,0.65468662824906532,0.43906976007650694,129.98845249060312,4.358132829649948E-2,455.66595113320221,0.15277147338382499,3.990405674307692E-2,3.7950405354822588E-2,0.32987961498918139,2.7384991635944676E-2,-4.0881215445812906E-2,3.9131556129298077E-2,1.8925005740134344E-2,2.7384991635944676E-2,0]
[null,-3.4696055743564064E-38,6.7505252560478693E-2,7.6077995736461353E-4,0.1474782813753594,-0.10040214325929543,8.2273758274995288,5.3656873709129131,0.65217482261821724,0.55539108314533303,177.86483664942327,5.9632880382064171E-2,458.33333333333337,0.15366576866258877,4.7609532615159544E-2,4.1903419681531696E-2,0.46135819486480845,2.8277046552225595E-2,-2.2807698191248511E-2,2.4831105920438253E-2,2.1675662473427899E-2,2.8277046552225592E-2,0]
[null,4.4356020559053367E-35,7.3437125604676246E-2,8.7915766311351851E-4,0.17042596871649618,-0.11602476219957342,9.2601264172153144,6.0169217608535561,0.64976669753315874,0.68003706681622167,229.68519224392304,7.7006730799804149E-2,457.23148522251887,0.15329635120026644,5.5227850373787246E-2,4.4512200699825442E-2,0.60374744641575939,2.8353722866921859E-2,-2.5331082645560062E-2,2.7518776937845171E-2,2.0972789297832434E-2,2.8353722866921855E-2,0]
[null,3.8018732058162805E-41,8.0084861800030091E-2,8.0322125151080091E-4,0.15570558686551447,-0.10600323310626833,8.6047481702081807,5.6044180713793095,0.65131691951000092,0.68911006803518393,230.68434089358982,7.7341716134915195E-2,344.80558356815953,0.1156032328105172,5.2424281184921491E-2,3.7291747105121363E-2,0.65084855135958186,2.8153001603885373E-2,5.3488563857359527E-2,-7.1368036110784933E-2,5.1944823644701502E-2,2.8153001603885373E-2,0]
[null,3.9680070215462165E-43,8.7559791299448214E-2,7.589601804503962E-4,0.14712551502130744,-0.10016198248656145,8.2110155190031868,5.35531853167456,0.65221147363325083,0.71895480520044952,236.54140810904181,7.9305419558415302E-2,260.81444995122291,8.7443460938323531E-2,5.1149555703629349E-2,3.2228659602305157E-2,0.71081676382054126,2.8240884182844983E-2,1.620725285997025E-2,-2.0603368021196673E-2,3.4697219338027108E-2,2.8240884182844983E-2,0]
[null,-2.8938985860933087E-43,9.5994684279247358E-2,7.2684530602114012E-4,0.14090000074275205,-9.5923697563322988E-2,7.9198478960951526,5.1705241389888323,0.65285649507715138,0.76026329832531558,243.27336941832445,8.1562449396664877E-2,191.1846019939475,6.4098608338584079E-2,5.0371787923233137E-2,2.8152876547515221E-2,0.77772713938339644,2.8476531780520214E-2,-3.3680182989186433E-3,8.5352825159312664E-3,2.3875588801077877E-2,2.8476531780520214E-2,0]
[null,3.0101922571042638E-42,0.10554872685841464,7.2595225389928254E-4,0.14072688131336222,-9.5805839112651697E-2,7.9116847261094803,5.1653362911606653,0.65287438389884955,0.8350682501460206,258.68561802430992,8.6729725823263423E-2,135.96067096170083,4.5583638569915055E-2,5.1176023327523926E-2,2.5573079526293493E-2,0.87621433739936894,2.8768524395131306E-2,-1.1034826197296847E-2,2.1215734093584685E-2,1.8650999087066054E-2,2.8768524395131306E-2,0]
[null,-3.1264859281152187E-41,0.11641386182692361,7.2273332835720637E-4,0.14010288799936232,-9.5381028994708961E-2,7.8822314213383118,5.1466150498502268,0.65293884114054479,0.91760099957151386,272.20650484370691,9.1262883931123431E-2,84.020098989313652,2.816948311483566E-2,5.1482123070299438E-2,2.3083483928379733E-2,0.98069440038780165,2.8844279640295619E-2,-1.2467472319252071E-2,2.3876027195600245E-2,1.7419928431709683E-2,2.8844279640295616E-2,0]
[null,3.2427795991261747E-42,0.12882293018018509,7.8204412137743444E-4,0.15160036994135934,-0.1032084312284213,8.4174505264930506,5.4860375408683515,0.65174574220562609,1.0843606414695766,309.39703182670513,0.10373178047470707,38.933102294141968,1.3053131106433141E-2,5.4783886617278385E-2,2.2571792691030892E-2,1.1750392908378504,2.826114334067047E-2,-1.4045609395384713E-2,2.7278070459991727E-2,1.5601355144962054E-2,2.8261143340670467E-2,0]
[null,4.7986761001959002E-43,0.14306020987399781,9.1784214572999934E-4,0.17792501092567375,-0.12113005569209134,9.5843573631305574,6.2199529722453777,0.64896922522656675,1.3711401758768538,379.39632961899144,0.12720049880436482,-11.26557374061295,-3.7770175598757037E-3,6.0717137180960612E-2,2.3854872980918932E-2,1.5021176922410944,2.4884310430158228E-2,-1.3880675225493628E-2,2.6836515795319472E-2,1.589247175750013E-2,2.4884310430158235E-2,0]
[null,-7.3896230788640144E-34,0.15947517602038869,1.0632928266209583E-3,0.2061208331670763,-0.14032556677070035,10.746540243551687,6.9414248140134482,0.64592181825016237,1.7138063969505959,457.07812518453858,0.15324493406255363,-74.50649783113991,-2.4979850748173705E-2,6.3882871876537753E-2,2.4790641452500241E-2,1.8920311817613233,1.6978205232542475E-2,-1.7452510104882288E-2,3.8959855129319064E-2,5.7411258928367903E-3,1.6978205232542475E-2,0]
[null,5.1309437316557752E-41,0.17850063403985802,1.0840138064749558E-3,0.2101376247080454,-0.14306016928964782,10.90492106925447,7.0389210323415492,0.64548115365889347,1.9465353250165296,458.33333333333337,0.15366576866258877,-134.15779038323299,-4.49791854137759E-2,5.7442173658518551E-2,2.2579952340092826E-2,2.1451802790928944,9.0041051956939663E-3,-9.6787692168114406E-3,7.5756193222883796E-3,3.7292781008013087E-2,9.0041051956939733E-3,0]
[null,6.462434607810569E-37,0.20067685341513844,1.0385972971252134E-3,0.20133356950111006,-0.13706643242272801,10.417803816046661,6.8140972066734848,0.65408192811018906,2.0906120893004654,458.33333333333337,0.15366576866258877,-180.18802323583762,-6.0411776933077942E-2,4.7692199830230854E-2,1.924322579121935E-2,2.3046896348961323,3.3425368072416972E-3,1.4285210650986205E-2,-9.9060973710863004E-2,0.15577009248477686,{"$f":"S832*Q852^2+T832*Q852+U832","v":3.342536807241725E-3},0.10303556719799878]
[null,0,{"$f":"C833","v":0.22668403164997661},{"$f":"D833+(D852-D832)","v":1.0688633827654077E-3},0.20720069343223654,-0.14106072779937201,10.237091632512653,6.8924076665862808,0.6732779107589727,2.3205852036282089,458.33333333333337,0.15366576866258877,-234.52726430529796,-7.8630136018489574E-2,4.073568963908606E-2,1.7531910361932742E-2,2.5528811083092875,-4.0211931164638795E-3,null,null,null,null,0.20594318580878934]
[null,"De","hc","e0","a'","b'","N'","tN'","t","Nc","sac","Nac","sat","Nat","Mtot","u","N","Mo","a''","b''","c''",null,"x"]
[null,null,{"$f":"$C$35","v":4.0138687861173784E-2},{"$f":"$D$35","v":3.210578024372992E-4},{"$f":"$E$35","v":6.2237513577017019E-2},{"$f":"$F$35","v":-4.2370847395201951E-2},{"$f":"IF($C$2=1,0.5*($O$31*D855*$F$6/$O$30)*(1-W855^2+(E855-F855)*(F855^2*(1-W855^2)+2*F855*(1-W855)+2*LN((1-F855)/(1-F855*W855)))/(F855^3)),$F$6*F855*(LN((1-E855+E855^2)/(1+E855)^2)/(6*E855)+ATAN((2-E855)/(E855*3^0.5))/(E855*3^0.5)-LN((W855^2-E855*W855+E855^2)/(W855+E855)^2)/(6*E855)-ATAN((2*W855-E855)/(E855*3^0.5))/(E855*3^0.5)))","v":3.8254468270961333},{"$f":"IF($C$2=1,($O$31*D855*$F$6/$O$30)*(1-W855^3-(E855-F855)*(-2*F855^3*(1-W855^3)-3*F855^2*(1-W855^2)-6*F855*(1-W855)-6*LN((1-F855)/(1-F855*W855)))/(2*F855^4))/3,$F$6*F855*(LN((1+E855^3)/(E855^3+W855^3)))/3)","v":2.5276172507990187},{"$f":"$I$35","v":0.66073778176593112},{"$f":"$J$35","v":0.15354841612232933},{"$f":"$K$35","v":0.6365191476987323},{"$f":"$L$35","v":2.1340626348999612E-4},{"$f":"$M$35","v":458.32156291626706},{"$f":"$N$35","v":0.15366182238581935},{"$f":"$O$35","v":1.9422167141878287E-2},{"$f":"$P$35","v":2.9740483717744983E-2},{"$f":"$Q$35","v":9.9999999999988987E-5},{"$f":"$R$35","v":1.9419193093506513E-2},null,null,null,null,{"$f":"IF(C855<$C$6,0,(C855-$C$6)/C855)","v":0}]
[null,{"$f":"IF(R836>$Q$29*V836,B836,IF(Q836>Q835,$U$6,-0.5)*B836)","v":3.9768977969850231E-45},{"$f":"IF(Q836>Q835,C836,(1-$T$6)*C836+$T$6*C837)","v":4.5181422537606569E-2},{"$f":"D836+B856","v":3.9334484870015113E-4},{"$f":"IF($C$2=1,D856/($O$31*$O$30),2^(1/3)*$O$30/D856)","v":7.6250460744389861E-2},{"$f":"IF($C$2=1,-($O$31-2)*D856/$O$30,3*($O$30/D856)^2)","v":-5.1910760091923788E-2},{"$f":"IF($C$2=1,0.5*($O$31*D856*$F$6/$O$30)*(1-W856^2+(E856-F856)*(F856^2*(1-W856^2)+2*F856*(1-W856)+2*LN((1-F856)/(1-F856*W856)))/(F856^3)),$F$6*F856*(LN((1-E856+E856^2)/(1+E856)^2)/(6*E856)+ATAN((2-E856)/(E856*3^0.5))/(E856*3^0.5)-LN((W856^2-E856*W856+E856^2)/(W856+E856)^2)/(6*E856)-ATAN((2*W856-E856)/(E856*3^0.5))/(E856*3^0.5)))","v":4.613110708371468},{"$f":"IF($C$2=1,($O$31*D856*$F$6/$O$30)*(1-W856^3-(E856-F856)*(-2*F856^3*(1-W856^3)-3*F856^2*(1-W856^2)-6*F856*(1-W856)-6*LN((1-F856)/(1-F856*W856)))/(2*F856^4))/3,$F$6*F856*(LN((1+E856^3)/(E856^3+W856^3)))/3)","v":3.0417370707038054},{"$f":"H856/G856","v":0.6593678892604784},{"$f":"G856*C856*$D$6","v":0.20842690412768886},{"$f":"MAX(MIN($K$6,$Q$6*$J$6*D856*(C856-$I$6)/C856),-$K$6)","v":25.883055331143311},{"$f":"K856*$H$6","v":8.6778318388286233E-3},{"$f":"MIN($O$6,$Q$6*$N$6*D856*(C$6-C856-$M$6)/C856)","v":458.33333333333337},{"$f":"M856*$L$6","v":0.15366576866258877},{"$f":"(0.5*$C$6-C856+I856*C856)*J856+(0.5*$C$6-$I$6)*L856+(0.5*$C$6-$M$6)*N856","v":2.3667860626519786E-2},{"$f":"0.1*$Q$6*D856*$B$6^2/C856+$R$6","v":3.2369913344933235E-2},{"$f":"(J856+L856-N856)","v":6.3438967303928701E-2},{"$f":"O856-P856*Q856","v":2.1614346752199563E-2},{"$f":"((R856-R855)*(Q856-Q857)-(R856-R857)*(Q856-Q855))/((Q856^2-Q855^2)*(Q856-Q857)-(Q856^2-Q857^2)*(Q856-Q855))","v":-5.0906690086739578E-2},{"$f":"-(S856*(Q856^2-Q855^2)-(R856-R855))/(Q856-Q855)","v":3.7891796424874044E-2},{"$f":"R856-S856*Q856^2-T856*Q856","v":1.9415404422930927E-2},{"$f":"S836*Q856^2+T836*Q856+U836","v":2.1614346752199563E-2},{"$f":"IF(C856<$C$6,0,(C856-$C$6)/C856)","v":0}]
[null,{"$f":"IF(R837>$Q$29*V837,B837,IF(Q837>Q836,$U$6,-0.5)*B837)","v":9.219167147281948E-45},{"$f":"IF(Q837>Q836,C837,(1-$T$6)*C837+$T$6*C838)","v":4.9415891915262342E-2},{"$f":"D837+B857","v":4.5831677895414393E-4},8.8845362225090027E-2,-6.048527758025446E-2,5.298963348818206,3.4873783855907905,0.65812464741213172,0.26185300010813706,50.108747538653482,1.6799998270356629E-2,458.33333333333337,0.15366576866258877,2.7666294009989843E-2,{"$f":"0.1*$Q$6*D857*$B$6^2/C857+$R$6","v":3.4484750565600325E-2},0.1249872297159049,2.3356140569351473E-2,-2.4406838503766199E-2,3.2898530169504357E-2,1.9625523356776232E-2,{"$f":"MAX(S837*Q857^2+T837*Q857+U837,S838*Q857^2+T838*Q857+U838)","v":2.3356140569351473E-2},0]
[null,-2.0798428890166187E-43,5.3135963724627852E-2,4.9935638089130207E-4,9.6800947678454222E-2,-6.5901382398883657E-2,5.7215793302330873,3.7609846786577479,0.65733330984061211,0.30402163173884583,70.833213832193195,2.3748306000797411E-2,458.33333333333337,0.15366576866258877,3.0697047575934798E-2,3.494218127080094E-2,0.17410416907705448,2.4613468140042186E-2,-4.5103014428982229E-2,3.9088578376642383E-2,1.917515805775322E-2,{"$f":"MAX(S838*Q858^2+T838*Q858+U838,S839*Q858^2+T839*Q858+U839)","v":2.4613468140042186E-2},0]
[null,5.6969288289327825E-33,5.7428181372141097E-2,5.514539446251275E-4,0.10690013482045398,-7.2776835684460875E-2,6.2464148897257887,4.0996583167619933,0.65632180845130572,0.35872024721281531,96.026084290590006,3.2194739027284473E-2,454.9555829307958,0.15253330769104773,3.4441229960732844E-2,3.5703612035945798E-2,0.23838167854905207,2.5930142993339948E-2,-2.9426200348363504E-2,3.2622114432521492E-2,1.9825796698733748E-2,2.5930142993339948E-2,0]
[null,4.9168873655396382E-35,6.2195419634221871E-2,6.3481451892244281E-4,0.12305970121389279,-8.3778151165705819E-2,7.0595192163462306,4.6217728328091976,0.65468662824906532,0.43906976007650694,129.98845249060312,4.358132829649948E-2,455.66595113320221,0.15277147338382499,3.990405674307692E-2,3.7950405354822588E-2,0.32987961498918139,2.7384991635944676E-2,-4.0881215445812906E-2,3.9131556129298077E-2,1.8925005740134344E-2,2.7384991635944676E-2,0]
[null,3.4696055743564064E-39,6.7505252560478693E-2,7.6077995736461353E-4,0.1474782813753594,-0.10040214325929543,8.2273758274995288,5.3656873709129131,0.65217482261821724,0.55539108314533303,177.86483664942327,5.9632880382064171E-2,458.33333333333337,0.15366576866258877,4.7609532615159544E-2,4.1903419681531696E-2,0.46135819486480845,2.8277046552225595E-2,-2.2807698191248511E-2,2.4831105920438253E-2,2.1675662473427899E-2,2.8277046552225592E-2,0]
[null,-4.4356020559053367E-36,7.3437125604676246E-2,8.7915766311351851E-4,0.17042596871649618,-0.11602476219957342,9.2601264172153144,6.0169217608535561,0.64976669753315874,0.68003706681622167,229.68519224392304,7.7006730799804149E-2,457.23148522251887,0.15329635120026644,5.5227850373787246E-2,4.4512200699825442E-2,0.60374744641575939,2.8353722866921859E-2,-2.5331082645560062E-2,2.7518776937845171E-2,2.0972789297832434E-2,2.8353722866921855E-2,0]
[null,-3.8018732058162809E-42,8.0084861800030091E-2,8.0322125151080091E-4,0.15570558686551447,-0.10600323310626833,8.6047481702081807,5.6044180713793095,0.65131691951000092,0.68911006803518393,230.68434089358982,7.7341716134915195E-2,344.80558356815953,0.1156032328105172,5.2424281184921491E-2,3.7291747105121363E-2,0.65084855135958186,2.8153001603885373E-2,5.3488563857359527E-2,-7.1368036110784933E-2,5.1944823644701502E-2,2.8153001603885373E-2,0]
[null,-3.9680070215462166E-44,8.7559791299448214E-2,7.589601804503962E-4,0.14712551502130744,-0.10016198248656145,8.2110155190031868,5.35531853167456,0.65221147363325083,0.71895480520044952,236.54140810904181,7.9305419558415302E-2,260.81444995122291,8.7443460938323531E-2,5.1149555703629349E-2,3.2228659602305157E-2,0.71081676382054126,2.8240884182844983E-2,1.620725285997025E-2,-2.0603368021196673E-2,3.4697219338027108E-2,2.8240884182844983E-2,0]
[null,2.893898586093309E-44,9.5994684279247358E-2,7.2684530602114012E-4,0.14090000074275205,-9.5923697563322988E-2,7.9198478960951526,5.1705241389888323,0.65285649507715138,0.76026329832531558,243.27336941832445,8.1562449396664877E-2,191.1846019939475,6.4098608338584079E-2,5.0371787923233137E-2,2.8152876547515221E-2,0.77772713938339644,2.8476531780520214E-2,-3.3680182989186433E-3,8.5352825159312664E-3,2.3875588801077877E-2,2.8476531780520214E-2,0]
[null,-3.010192257104264E-43,0.10554872685841464,7.2595225389928254E-4,0.14072688131336222,-9.5805839112651697E-2,7.9116847261094803,5.1653362911606653,0.65287438389884955,0.8350682501460206,258.68561802430992,8.6729725823263423E-2,135.96067096170083,4.5583638569915055E-2,5.1176023327523926E-2,2.5573079526293493E-2,0.87621433739936894,2.8768524395131306E-2,-1.1034826197296847E-2,2.1215734093584685E-2,1.8650999087066054E-2,2.8768524395131306E-2,0]
[null,3.1264859281152186E-42,0.11641386182692361,7.2273332835720637E-4,0.14010288799936232,-9.5381028994708961E-2,7.8822314213383118,5.1466150498502268,0.65293884114054479,0.91760099957151386,272.20650484370691,9.1262883931123431E-2,84.020098989313652,2.816948311483566E-2,5.1482123070299438E-2,2.3083483928379733E-2,0.98069440038780165,2.8844279640295619E-2,-1.2467472319252071E-2,2.3876027195600245E-2,1.7419928431709683E-2,2.8844279640295616E-2,0]
[null,-3.2427795991261749E-43,0.12882293018018509,7.8204412137743444E-4,0.15160036994135934,-0.1032084312284213,8.4174505264930506,5.4860375408683515,0.65174574220562609,1.0843606414695766,309.39703182670513,0.10373178047470707,38.933102294141968,1.3053131106433141E-2,5.4783886617278385E-2,2.2571792691030892E-2,1.1750392908378504,2.826114334067047E-2,-1.4045609395384713E-2,2.7278070459991727E-2,1.5601355144962054E-2,2.8261143340670467E-2,0]
[null,-4.7986761001959002E-44,0.14306020987399781,9.1784214572999934E-4,0.17792501092567375,-0.12113005569209134,9.5843573631305574,6.2199529722453777,0.64896922522656675,1.3711401758768538,379.39632961899144,0.12720049880436482,-11.26557374061295,-3.7770175598757037E-3,6.0717137180960612E-2,2.3854872980918932E-2,1.5021176922410944,2.4884310430158228E-2,-1.3880675225493628E-2,2.6836515795319472E-2,1.589247175750013E-2,2.4884310430158235E-2,0]
[null,7.3896230788640151E-35,0.15947517602038869,1.0632928266209583E-3,0.2061208331670763,-0.14032556677070035,10.746540243551687,6.9414248140134482,0.64592181825016237,1.7138063969505959,457.07812518453858,0.15324493406255363,-74.50649783113991,-2.4979850748173705E-2,6.3882871876537753E-2,2.4790641452500241E-2,1.8920311817613233,1.6978205232542475E-2,-1.7452510104882288E-2,3.8959855129319064E-2,5.7411258928367903E-3,1.6978205232542475E-2,0]
[null,-5.1309437316557755E-42,0.17850063403985802,1.0840138064749558E-3,0.2101376247080454,-0.14306016928964782,10.90492106925447,7.0389210323415492,0.64548115365889347,1.9465353250165296,458.33333333333337,0.15366576866258877,-134.15779038323299,-4.49791854137759E-2,5.7442173658518551E-2,2.2579952340092826E-2,2.1451802790928944,9.0041051956939663E-3,-9.6787692168114406E-3,7.5756193222883796E-3,3.7292781008013087E-2,9.0041051956939733E-3,0]
[null,-6.4624346078105699E-38,0.20067685341513844,1.0385972971252134E-3,0.20133356950111006,-0.13706643242272801,10.417803816046661,6.8140972066734848,0.65408192811018906,2.0906120893004654,458.33333333333337,0.15366576866258877,-180.18802323583762,-6.0411776933077942E-2,4.7692199830230854E-2,1.924322579121935E-2,2.3046896348961323,3.3425368072416972E-3,1.4285210650986205E-2,-9.9060973710863004E-2,0.15577009248477686,{"$f":"S852*Q872^2+T852*Q872+U852","v":3.342536807241725E-3},0.10303556719799878]
[null,0,{"$f":"C853","v":0.22668403164997661},{"$f":"D853+(D872-D852)","v":1.0688633827654077E-3},0.20720069343223654,-0.14106072779937201,10.237091632512653,6.8924076665862808,0.6732779107589727,2.3205852036282089,458.33333333333337,0.15366576866258877,-234.52726430529796,-7.8630136018489574E-2,4.073568963908606E-2,1.7531910361932742E-2,2.5528811083092875,-4.0211931164638795E-3,null,null,null,null,0.20594318580878934]
[null,"De","hc","e0","a'","b'","N'","tN'","t","Nc","sac","Nac","sat","Nat","Mtot","u","N","Mo","a''","b''","c''",null,"x"]
[null,null,{"$f":"$C$35","v":4.0138687861173784E-2},{"$f":"$D$35","v":3.210578024372992E-4},{"$f":"$E$35","v":6.2237513577017019E-2},{"$f":"$F$35","v":-4.2370847395201951E-2},{"$f":"IF($C$2=1,0.5*($O$31*D875*$F$6/$O$30)*(1-W875^2+(E875-F875)*(F875^2*(1-W875^2)+2*F875*(1-W875)+2*LN((1-F875)/(1-F875*W875)))/(F875^3)),$F$6*F875*(LN((1-E875+E875^2)/(1+E875)^2)/(6*E875)+ATAN((2-E875)/(E875*3^0.5))/(E875*3^0.5)-LN((W875^2-E875*W875+E875^2)/(W875+E875)^2)/(6*E875)-ATAN((2*W875-E875)/(E875*3^0.5))/(E875*3^0.5)))","v":3.8254468270961333},{"$f":"IF($C$2=1,($O$31*D875*$F$6/$O$30)*(1-W875^3-(E875-F875)*(-2*F875^3*(1-W875^3)-3*F875^2*(1-W875^2)-6*F875*(1-W875)-6*LN((1-F875)/(1-F875*W875)))/(2*F875^4))/3,$F$6*F875*(LN((1+E875^3)/(E875^3+W875^3)))/3)","v":2.5276172507990187},{"$f":"$I$35","v":0.66073778176593112},{"$f":"$J$35","v":0.15354841612232933},{"$f":"$K$35","v":0.6365191476987323},{"$f":"$L$35","v":2.1340626348999612E-4},{"$f":"$M$35","v":458.32156291626706},{"$f":"$N$35","v":0.15366182238581935},{"$f":"$O$35","v":1.9422167141878287E-2},{"$f":"$P$35","v":2.9740483717744983E-2},{"$f":"$Q$35","v":9.9999999999988987E-5},{"$f":"$R$35","v":1.9419193093506513E-2},null,null,null,null,{"$f":"IF(C875<$C$6,0,(C875-$C$6)/C875)","v":0}]
[null,{"$f":"IF(R856>$Q$29*V856,B856,IF(Q856>Q855,$U$6,-0.5)*B856)","v":-3.9768977969850231E-46},{"$f":"IF(Q856>Q855,C856,(1-$T$6)*C856+$T$6*C857)","v":4.5181422537606569E-2},{"$f":"D856+B876","v":3.9334484870015113E-4},{"$f":"IF($C$2=1,D876/($O$31*$O$30),2^(1/3)*$O$30/D876)","v":7.6250460744389861E-2},{"$f":"IF($C$2=1,-($O$31-2)*D876/$O$30,3*($O$30/D876)^2)","v":-5.1910760091923788E-2},{"$f":"IF($C$2=1,0.5*($O$31*D876*$F$6/$O$30)*(1-W876^2+(E876-F876)*(F876^2*(1-W876^2)+2*F876*(1-W876)+2*LN((1-F876)/(1-F876*W876)))/(F876^3)),$F$6*F876*(LN((1-E876+E876^2)/(1+E876)^2)/(6*E876)+ATAN((2-E876)/(E876*3^0.5))/(E876*3^0.5)-LN((W876^2-E876*W876+E876^2)/(W876+E876)^2)/(6*E876)-ATAN((2*W876-E876)/(E876*3^0.5))/(E876*3^0.5)))","v":4.613110708371468},{"$f":"IF($C$2=1,($O$31*D876*$F$6/$O$30)*(1-W876^3-(E876-F876)*(-2*F876^3*(1-W876^3)-3*F876^2*(1-W876^2)-6*F876*(1-W876)-6*LN((1-F876)/(1-F876*W876)))/(2*F876^4))/3,$F$6*F876*(LN((1+E876^3)/(E876^3+W876^3)))/3)","v":3.0417370707038054},{"$f":"H876/G876","v":0.6593678892604784},{"$f":"G876*C876*$D$6","v":0.20842690412768886},{"$f":"MAX(MIN($K$6,$Q$6*$J$6*D876*(C876-$I$6)/C876),-$K$6)","v":25.883055331143311},{"$f":"K876*$H$6","v":8.6778318388286233E-3},{"$f":"MIN($O$6,$Q$6*$N$6*D876*(C$6-C876-$M$6)/C876)","v":458.33333333333337},{"$f":"M876*$L$6","v":0.15366576866258877},{"$f":"(0.5*$C$6-C876+I876*C876)*J876+(0.5*$C$6-$I$6)*L876+(0.5*$C$6-$M$6)*N876","v":2.3667860626519786E-2},{"$f":"0.1*$Q$6*D876*$B$6^2/C876+$R$6","v":3.2369913344933235E-2},{"$f":"(J876+L876-N876)","v":6.3438967303928701E-2},{"$f":"O876-P876*Q876","v":2.1614346752199563E-2},{"$f":"((R876-R875)*(Q876-Q877)-(R876-R877)*(Q876-Q875))/((Q876^2-Q875^2)*(Q876-Q877)-(Q876^2-Q877^2)*(Q876-Q875))","v":-5.0906690086739578E-2},{"$f":"-(S876*(Q876^2-Q875^2)-(R876-R875))/(Q876-Q875)","v":3.7891796424874044E-2},{"$f":"R876-S876*Q876^2-T876*Q876","v":1.9415404422930927E-2},{"$f":"S856*Q876^2+T856*Q876+U856","v":2.1614346752199563E-2},{"$f":"IF(C876<$C$6,0,(C876-$C$6)/C876)","v":0}]
[null,{"$f":"IF(R857>$Q$29*V857,B857,IF(Q857>Q856,$U$6,-0.5)*B857)","v":-9.2191671472819492E-46},{"$f":"IF(Q857>Q856,C857,(1-$T$6)*C857+$T$6*C858)","v":4.9415891915262342E-2},{"$f":"D857+B877","v":4.5831677895414393E-4},8.8845362225090027E-2,-6.048527758025446E-2,5.298963348818206,3.4873783855907905,0.65812464741213172,0.26185300010813706,50.108747538653482,1.6799998270356629E-2,458.33333333333337,0.15366576866258877,2.7666294009989843E-2,{"$f":"0.1*$Q$6*D877*$B$6^2/C877+$R$6","v":3.4484750565600325E-2},0.1249872297159049,2.3356140569351473E-2,-2.4406838503766199E-2,3.2898530169504357E-2,1.9625523356776232E-2,{"$f":"MAX(S857*Q877^2+T857*Q877+U857,S858*Q877^2+T858*Q877+U858)","v":2.3356140569351473E-2},0]
[null,2.0798428890166188E-44,5.3135963724627852E-2,4.9935638089130207E-4,9.6800947678454222E-2,-6.5901382398883657E-2,5.7215793302330873,3.7609846786577479,0.65733330984061211,0.30402163173884583,70.833213832193195,2.3748306000797411E-2,458.33333333333337,0.15366576866258877,3.0697047575934798E-2,3.494218127080094E-2,0.17410416907705448,2.4613468140042186E-2,-4.5103014428982229E-2,3.9088578376642383E-2,1.917515805775322E-2,{"$f":"MAX(S858*Q878^2+T858*Q878+U858,S859*Q878^2+T859*Q878+U859)","v":2.4613468140042186E-2},0]
[null,-5.6969288289327825E-34,5.7428181372141097E-2,5.514539446251275E-4,0.10690013482045398,-7.2776835684460875E-2,6.2464148897257887,4.0996583167619933,0.65632180845130572,0.35872024721281531,96.026084290590006,3.2194739027284473E-2,454.9555829307958,0.15253330769104773,3.4441229960732844E-2,3.5703612035945798E-2,0.23838167854905207,2.5930142993339948E-2,-2.9426200348363504E-2,3.2622114432521492E-2,1.9825796698733748E-2,2.5930142993339948E-2,0]
[null,-4.9168873655396386E-36,6.2195419634221871E-2,6.3481451892244281E-4,0.12305970121389279,-8.3778151165705819E-2,7.0595192163462306,4.6217728328091976,0.65468662824906532,0.43906976007650694,129.98845249060312,4.358132829649948E-2,455.66595113320221,0.15277147338382499,3.990405674307692E-2,3.7950405354822588E-2,0.32987961498918139,2.7384991635944676E-2,-4.0881215445812906E-2,3.9131556129298077E-2,1.8925005740134344E-2,2.7384991635944676E-2,0]
[null,-3.4696055743564067E-40,6.7505252560478693E-2,7.6077995736461353E-4,0.1474782813753594,-0.10040214325929543,8.2273758274995288,5.3656873709129131,0.65217482261821724,0.55539108314533303,177.86483664942327,5.9632880382064171E-2,458.33333333333337,0.15366576866258877,4.7609532615159544E-2,4.1903419681531696E-2,0.46135819486480845,2.8277046552225595E-2,-2.2807698191248511E-2,2.4831105920438253E-2,2.1675662473427899E-2,2.8277046552225592E-2,0]
[null,4.4356020559053365E-37,7.3437125604676246E-2,8.7915766311351851E-4,0.17042596871649618,-0.11602476219957342,9.2601264172153144,6.0169217608535561,0.64976669753315874,0.68003706681622167,229.68519224392304,7.7006730799804149E-2,457.23148522251887,0.15329635120026644,5.5227850373787246E-2,4.4512200699825442E-2,0.60374744641575939,2.8353722866921859E-2,-2.5331082645560062E-2,2.7518776937845171E-2,2.0972789297832434E-2,2.8353722866921855E-2,0]
[null,3.8018732058162809E-43,8.0084861800030091E-2,8.0322125151080091E-4,0.15570558686551447,-0.10600323310626833,8.6047481702081807,5.6044180713793095,0.65131691951000092,0.68911006803518393,230.68434089358982,7.7341716134915195E-2,344.80558356815953,0.1156032328105172,5.2424281184921491E-2,3.7291747105121363E-2,0.65084855135958186,2.8153001603885373E-2,5.3488563857359527E-2,-7.1368036110784933E-2,5.1944823644701502E-2,2.8153001603885373E-2,0]
[null,3.968007021546217E-45,8.7559791299448214E-2,7.589601804503962E-4,0.14712551502130744,-0.10016198248656145,8.2110155190031868,5.35531853167456,0.65221147363325083,0.71895480520044952,236.54140810904181,7.9305419558415302E-2,260.81444995122291,8.7443460938323531E-2,5.1149555703629349E-2,3.2228659602305157E-2,0.71081676382054126,2.8240884182844983E-2,1.620725285997025E-2,-2.0603368021196673E-2,3.4697219338027108E-2,2.8240884182844983E-2,0]
[null,-2.8938985860933089E-45,9.5994684279247358E-2,7.2684530602114012E-4,0.14090000074275205,-9.5923697563322988E-2,7.9198478960951526,5.1705241389888323,0.65285649507715138,0.76026329832531558,243.27336941832445,8.1562449396664877E-2,191.1846019939475,6.4098608338584079E-2,5.0371787923233137E-2,2.8152876547515221E-2,0.77772713938339644,2.8476531780520214E-2,-3.3680182989186433E-3,8.5352825159312664E-3,2.3875588801077877E-2,2.8476531780520214E-2,0]
[null,3.010192257104264E-44,0.10554872685841464,7.2595225389928254E-4,0.14072688131336222,-9.5805839112651697E-2,7.9116847261094803,5.1653362911606653,0.65287438389884955,0.8350682501460206,258.68561802430992,8.6729725823263423E-2,135.96067096170083,4.5583638569915055E-2,5.1176023327523926E-2,2.5573079526293493E-2,0.87621433739936894,2.8768524395131306E-2,-1.1034826197296847E-2,2.1215734093584685E-2,1.8650999087066054E-2,2.8768524395131306E-2,0]
[null,-3.1264859281152189E-43,0.11641386182692361,7.2273332835720637E-4,0.14010288799936232,-9.5381028994708961E-2,7.8822314213383118,5.1466150498502268,0.65293884114054479,0.91760099957151386,272.20650484370691,9.1262883931123431E-2,84.020098989313652,2.816948311483566E-2,5.1482123070299438E-2,2.3083483928379733E-2,0.98069440038780165,2.8844279640295619E-2,-1.2467472319252071E-2,2.3876027195600245E-2,1.7419928431709683E-2,2.8844279640295616E-2,0]
[null,3.2427795991261749E-44,0.12882293018018509,7.8204412137743444E-4,0.15160036994135934,-0.1032084312284213,8.4174505264930506,5.4860375408683515,0.65174574220562609,1.0843606414695766,309.39703182670513,0.10373178047470707,38.933102294141968,1.3053131106433141E-2,5.4783886617278385E-2,2.2571792691030892E-2,1.1750392908378504,2.826114334067047E-2,-1.4045609395384713E-2,2.7278070459991727E-2,1.5601355144962054E-2,2.8261143340670467E-2,0]
[null,4.7986761001959006E-45,0.14306020987399781,9.1784214572999934E-4,0.17792501092567375,-0.12113005569209134,9.5843573631305574,6.2199529722453777,0.64896922522656675,1.3711401758768538,379.39632961899144,0.12720049880436482,-11.26557374061295,-3.7770175598757037E-3,6.0717137180960612E-2,2.3854872980918932E-2,1.5021176922410944,2.4884310430158228E-2,-1.3880675225493628E-2,2.6836515795319472E-2,1.589247175750013E-2,2.4884310430158235E-2,0]
[null,-7.3896230788640153E-36,0.15947517602038869,1.0632928266209583E-3,0.2061208331670763,-0.14032556677070035,10.746540243551687,6.9414248140134482,0.64592181825016237,1.7138063969505959,457.07812518453858,0.15324493406255363,-74.50649783113991,-2.4979850748173705E-2,6.3882871876537753E-2,2.4790641452500241E-2,1.8920311817613233,1.6978205232542475E-2,-1.7452510104882288E-2,3.8959855129319064E-2,5.7411258928367903E-3,1.6978205232542475E-2,0]
[null,5.1309437316557755E-43,0.17850063403985802,1.0840138064749558E-3,0.2101376247080454,-0.14306016928964782,10.90492106925447,7.0389210323415492,0.64548115365889347,1.9465353250165296,458.33333333333337,0.15366576866258877,-134.15779038323299,-4.49791854137759E-2,5.7442173658518551E-2,2.2579952340092826E-2,2.1451802790928944,9.0041051956939663E-3,-9.6787692168114406E-3,7.5756193222883796E-3,3.7292781008013087E-2,9.0041051956939733E-3,0]
[null,6.4624346078105701E-39,0.20067685341513844,1.0385972971252134E-3,0.20133356950111006,-0.13706643242272801,10.417803816046661,6.8140972066734848,0.65408192811018906,2.0906120893004654,458.33333333333337,0.15366576866258877,-180.18802323583762,-6.0411776933077942E-2,4.7692199830230854E-2,1.924322579121935E-2,2.3046896348961323,3.3425368072416972E-3,1.4285210650986205E-2,-9.9060973710863004E-2,0.15577009248477686,{"$f":"S872*Q892^2+T872*Q892+U872","v":3.342536807241725E-3},0.10303556719799878]
[null,0,{"$f":"C873","v":0.22668403164997661},{"$f":"D873+(D892-D872)","v":1.0688633827654077E-3},0.20720069343223654,-0.14106072779937201,10.237091632512653,6.8924076665862808,0.6732779107589727,2.3205852036282089,458.33333333333337,0.15366576866258877,-234.52726430529796,-7.8630136018489574E-2,4.073568963908606E-2,1.7531910361932742E-2,2.5528811083092875,-4.0211931164638795E-3,null,null,null,null,0.20594318580878934]
[null,"De","hc","e0","a'","b'","N'","tN'","t","Nc","sac","Nac","sat","Nat","Mtot","u","N","Mo","a''","b''","c''",null,"x"]
[null,null,{"$f":"$C$35","v":4.0138687861173784E-2},{"$f":"$D$35","v":3.210578024372992E-4},{"$f":"$E$35","v":6.2237513577017019E-2},{"$f":"$F$35","v":-4.2370847395201951E-2},{"$f":"IF($C$2=1,0.5*($O$31*D895*$F$6/$O$30)*(1-W895^2+(E895-F895)*(F895^2*(1-W895^2)+2*F895*(1-W895)+2*LN((1-F895)/(1-F895*W895)))/(F895^3)),$F$6*F895*(LN((1-E895+E895^2)/(1+E895)^2)/(6*E895)+ATAN((2-E895)/(E895*3^0.5))/(E895*3^0.5)-LN((W895^2-E895*W895+E895^2)/(W895+E895)^2)/(6*E895)-ATAN((2*W895-E895)/(E895*3^0.5))/(E895*3^0.5)))","v":3.8254468270961333},{"$f":"IF($C$2=1,($O$31*D895*$F$6/$O$30)*(1-W895^3-(E895-F895)*(-2*F895^3*(1-W895^3)-3*F895^2*(1-W895^2)-6*F895*(1-W895)-6*LN((1-F895)/(1-F895*W895)))/(2*F895^4))/3,$F$6*F895*(LN((1+E895^3)/(E895^3+W895^3)))/3)","v":2.5276172507990187},{"$f":"$I$35","v":0.66073778176593112},{"$f":"$J$35","v":0.15354841612232933},{"$f":"$K$35","v":0.6365191476987323},{"$f":"$L$35","v":2.1340626348999612E-4},{"$f":"$M$35","v":458.32156291626706},{"$f":"$N$35","v":0.15366182238581935},{"$f":"$O$35","v":1.9422167141878287E-2},{"$f":"$P$35","v":2.9740483717744983E-2},{"$f":"$Q$35","v":9.9999999999988987E-5},{"$f":"$R$35","v":1.9419193093506513E-2},null,null,null,null,{"$f":"IF(C895<$C$6,0,(C895-$C$6)/C895)","v":0}]
[null,{"$f":"IF(R876>$Q$29*V876,B876,IF(Q876>Q875,$U$6,-0.5)*B876)","v":3.9768977969850231E-47},{"$f":"IF(Q876>Q875,C876,(1-$T$6)*C876+$T$6*C877)","v":4.5181422537606569E-2},{"$f":"D876+B896","v":3.9334484870015113E-4},{"$f":"IF($C$2=1,D896/($O$31*$O$30),2^(1/3)*$O$30/D896)","v":7.6250460744389861E-2},{"$f":"IF($C$2=1,-($O$31-2)*D896/$O$30,3*($O$30/D896)^2)","v":-5.1910760091923788E-2},{"$f":"IF($C$2=1,0.5*($O$31*D896*$F$6/$O$30)*(1-W896^2+(E896-F896)*(F896^2*(1-W896^2)+2*F896*(1-W896)+2*LN((1-F896)/(1-F896*W896)))/(F896^3)),$F$6*F896*(LN((1-E896+E896^2)/(1+E896)^2)/(6*E896)+ATAN((2-E896)/(E896*3^0.5))/(E896*3^0.5)-LN((W896^2-E896*W896+E896^2)/(W896+E896)^2)/(6*E896)-ATAN((2*W896-E896)/(E896*3^0.5))/(E896*3^0.5)))","v":4.613110708371468},{"$f":"IF($C$2=1,($O$31*D896*$F$6/$O$30)*(1-W896^3-(E896-F896)*(-2*F896^3*(1-W896^3)-3*F896^2*(1-W896^2)-6*F896*(1-W896)-6*LN((1-F896)/(1-F896*W896)))/(2*F896^4))/3,$F$6*F896*(LN((1+E896^3)/(E896^3+W896^3)))/3)","v":3.0417370707038054},{"$f":"H896/G896","v":0.6593678892604784},{"$f":"G896*C896*$D$6","v":0.20842690412768886},{"$f":"MAX(MIN($K$6,$Q$6*$J$6*D896*(C896-$I$6)/C896),-$K$6)","v":25.883055331143311},{"$f":"K896*$H$6","v":8.6778318388286233E-3},{"$f":"MIN($O$6,$Q$6*$N$6*D896*(C$6-C896-$M$6)/C896)","v":458.33333333333337},{"$f":"M896*$L$6","v":0.15366576866258877},{"$f":"(0.5*$C$6-C896+I896*C896)*J896+(0.5*$C$6-$I$6)*L896+(0.5*$C$6-$M$6)*N896","v":2.3667860626519786E-2},{"$f":"0.1*$Q$6*D896*$B$6^2/C896+$R$6","v":3.2369913344933235E-2},{"$f":"(J896+L896-N896)","v":6.3438967303928701E-2},{"$f":"O896-P896*Q896","v":2.1614346752199563E-2},{"$f":"((R896-R895)*(Q896-Q897)-(R896-R897)*(Q896-Q895))/((Q896^2-Q895^2)*(Q896-Q897)-(Q896^2-Q897^2)*(Q896-Q895))","v":-5.0906690086739578E-2},{"$f":"-(S896*(Q896^2-Q895^2)-(R896-R895))/(Q896-Q895)","v":3.7891796424874044E-2},{"$f":"R896-S896*Q896^2-T896*Q896","v":1.9415404422930927E-2},{"$f":"S876*Q896^2+T876*Q896+U876","v":2.1614346752199563E-2},{"$f":"IF(C896<$C$6,0,(C896-$C$6)/C896)","v":0}]
[null,{"$f":"IF(R877>$Q$29*V877,B877,IF(Q877>Q876,$U$6,-0.5)*B877)","v":9.2191671472819496E-47},{"$f":"IF(Q877>Q876,C877,(1-$T$6)*C877+$T$6*C878)","v":4.9415891915262342E-2},{"$f":"D877+B897","v":4.5831677895414393E-4},8.8845362225090027E-2,-6.048527758025446E-2,5.298963348818206,3.4873783855907905,0.65812464741213172,0.26185300010813706,50.108747538653482,1.6799998270356629E-2,458.33333333333337,0.15366576866258877,2.7666294009989843E-2,{"$f":"0.1*$Q$6*D897*$B$6^2/C897+$R$6","v":3.4484750565600325E-2},0.1249872297159049,2.3356140569351473E-2,-2.4406838503766199E-2,3.2898530169504357E-2,1.9625523356776232E-2,{"$f":"MAX(S877*Q897^2+T877*Q897+U877,S878*Q897^2+T878*Q897+U878)","v":2.3356140569351473E-2},0]
[null,-2.0798428890166191E-45,5.3135963724627852E-2,4.9935638089130207E-4,9.6800947678454222E-2,-6.5901382398883657E-2,5.7215793302330873,3.7609846786577479,0.65733330984061211,0.30402163173884583,70.833213832193195,2.3748306000797411E-2,458.33333333333337,0.15366576866258877,3.0697047575934798E-2,3.494218127080094E-2,0.17410416907705448,2.4613468140042186E-2,-4.5103014428982229E-2,3.9088578376642383E-2,1.917515805775322E-2,{"$f":"MAX(S878*Q898^2+T878*Q898+U878,S879*Q898^2+T879*Q898+U879)","v":2.4613468140042186E-2},0]
[null,5.6969288289327832E-35,5.7428181372141097E-2,5.514539446251275E-4,0.10690013482045398,-7.2776835684460875E-2,6.2464148897257887,4.0996583167619933,0.65632180845130572,0.35872024721281531,96.026084290590006,3.2194739027284473E-2,454.9555829307958,0.15253330769104773,3.4441229960732844E-2,3.5703612035945798E-2,0.23838167854905207,2.5930142993339948E-2,-2.9426200348363504E-2,3.2622114432521492E-2,1.9825796698733748E-2,2.5930142993339948E-2,0]
[null,4.9168873655396392E-37,6.2195419634221871E-2,6.3481451892244281E-4,0.12305970121389279,-8.3778151165705819E-2,7.0595192163462306,4.6217728328091976,0.65468662824906532,0.43906976007650694,129.98845249060312,4.358132829649948E-2,455.66595113320221,0.15277147338382499,3.990405674307692E-2,3.7950405354822588E-2,0.32987961498918139,2.7384991635944676E-2,-4.0881215445812906E-2,3.9131556129298077E-2,1.8925005740134344E-2,2.7384991635944676E-2,0]
[null,3.4696055743564071E-41,6.7505252560478693E-2,7.6077995736461353E-4,0.1474782813753594,-0.10040214325929543,8.2273758274995288,5.3656873709129131,0.65217482261821724,0.55539108314533303,177.86483664942327,5.9632880382064171E-2,458.33333333333337,0.15366576866258877,4.7609532615159544E-2,4.1903419681531696E-2,0.46135819486480845,2.8277046552225595E-2,-2.2807698191248511E-2,2.4831105920438253E-2,2.1675662473427899E-2,2.8277046552225592E-2,0]
[null,-4.4356020559053367E-38,7.3437125604676246E-2,8.7915766311351851E-4,0.17042596871649618,-0.11602476219957342,9.2601264172153144,6.0169217608535561,0.64976669753315874,0.68003706681622167,229.68519224392304,7.7006730799804149E-2,457.23148522251887,0.15329635120026644,5.5227850373787246E-2,4.4512200699825442E-2,0.60374744641575939,2.8353722866921859E-2,-2.5331082645560062E-2,2.7518776937845171E-2,2.0972789297832434E-2,2.8353722866921855E-2,0]
[null,-3.8018732058162809E-44,8.0084861800030091E-2,8.0322125151080091E-4,0.15570558686551447,-0.10600323310626833,8.6047481702081807,5.6044180713793095,0.65131691951000092,0.68911006803518393,230.68434089358982,7.7341716134915195E-2,344.80558356815953,0.1156032328105172,5.2424281184921491E-2,3.7291747105121363E-2,0.65084855135958186,2.8153001603885373E-2,5.3488563857359527E-2,-7.1368036110784933E-2,5.1944823644701502E-2,2.8153001603885373E-2,0]
[null,-3.9680070215462168E-46,8.7559791299448214E-2,7.589601804503962E-4,0.14712551502130744,-0.10016198248656145,8.2110155190031868,5.35531853167456,0.65221147363325083,0.71895480520044952,236.54140810904181,7.9305419558415302E-2,260.81444995122291,8.7443460938323531E-2,5.1149555703629349E-2,3.2228659602305157E-2,0.71081676382054126,2.8240884182844983E-2,1.620725285997025E-2,-2.0603368021196673E-2,3.4697219338027108E-2,2.8240884182844983E-2,0]
[null,2.8938985860933091E-46,9.5994684279247358E-2,7.2684530602114012E-4,0.14090000074275205,-9.5923697563322988E-2,7.9198478960951526,5.1705241389888323,0.65285649507715138,0.76026329832531558,243.27336941832445,8.1562449396664877E-2,191.1846019939475,6.4098608338584079E-2,5.0371787923233137E-2,2.8152876547515221E-2,0.77772713938339644,2.8476531780520214E-2,-3.3680182989186433E-3,8.5352825159312664E-3,2.3875588801077877E-2,2.8476531780520214E-2,0]
[null,-3.0101922571042642E-45,0.10554872685841464,7.2595225389928254E-4,0.14072688131336222,-9.5805839112651697E-2,7.9116847261094803,5.1653362911606653,0.65287438389884955,0.8350682501460206,258.68561802430992,8.6729725823263423E-2,135.96067096170083,4.5583638569915055E-2,5.1176023327523926E-2,2.5573079526293493E-2,0.87621433739936894,2.8768524395131306E-2,-1.1034826197296847E-2,2.1215734093584685E-2,1.8650999087066054E-2,2.8768524395131306E-2,0]
[null,3.126485928115219E-44,0.11641386182692361,7.2273332835720637E-4,0.14010288799936232,-9.5381028994708961E-2,7.8822314213383118,5.1466150498502268,0.65293884114054479,0.91760099957151386,272.20650484370691,9.1262883931123431E-2,84.020098989313652,2.816948311483566E-2,5.1482123070299438E-2,2.3083483928379733E-2,0.98069440038780165,2.8844279640295619E-2,-1.2467472319252071E-2,2.3876027195600245E-2,1.7419928431709683E-2,2.8844279640295616E-2,0]
[null,-3.2427795991261749E-45,0.12882293018018509,7.8204412137743444E-4,0.15160036994135934,-0.1032084312284213,8.4174505264930506,5.4860375408683515,0.65174574220562609,1.0843606414695766,309.39703182670513,0.10373178047470707,38.933102294141968,1.3053131106433141E-2,5.4783886617278385E-2,2.2571792691030892E-2,1.1750392908378504,2.826114334067047E-2,-1.4045609395384713E-2,2.7278070459991727E-2,1.5601355144962054E-2,2.8261143340670467E-2,0]
[null,-4.7986761001959012E-46,0.14306020987399781,9.1784214572999934E-4,0.17792501092567375,-0.12113005569209134,9.5843573631305574,6.2199529722453777,0.64896922522656675,1.3711401758768538,379.39632961899144,0.12720049880436482,-11.26557374061295,-3.7770175598757037E-3,6.0717137180960612E-2,2.3854872980918932E-2,1.5021176922410944,2.4884310430158228E-2,-1.3880675225493628E-2,2.6836515795319472E-2,1.589247175750013E-2,2.4884310430158235E-2,0]
[null,7.3896230788640158E-37,0.15947517602038869,1.0632928266209583E-3,0.2061208331670763,-0.14032556677070035,10.746540243551687,6.9414248140134482,0.64592181825016237,1.7138063969505959,457.07812518453858,0.15324493406255363,-74.50649783113991,-2.4979850748173705E-2,6.3882871876537753E-2,2.4790641452500241E-2,1.8920311817613233,1.6978205232542475E-2,-1.7452510104882288E-2,3.8959855129319064E-2,5.7411258928367903E-3,1.6978205232542475E-2,0]
[null,-5.1309437316557757E-44,0.17850063403985802,1.0840138064749558E-3,0.2101376247080454,-0.14306016928964782,10.90492106925447,7.0389210323415492,0.64548115365889347,1.9465353250165296,458.33333333333337,0.15366576866258877,-134.15779038323299,-4.49791854137759E-2,5.7442173658518551E-2,2.2579952340092826E-2,2.1451802790928944,9.0041051956939663E-3,-9.6787692168114406E-3,7.5756193222883796E-3,3.7292781008013087E-2,9.0041051956939733E-3,0]
[null,-6.4624346078105706E-40,0.20067685341513844,1.0385972971252134E-3,0.20133356950111006,-0.13706643242272801,10.417803816046661,6.8140972066734848,0.65408192811018906,2.0906120893004654,458.33333333333337,0.15366576866258877,-180.18802323583762,-6.0411776933077942E-2,4.7692199830230854E-2,1.924322579121935E-2,2.3046896348961323,3.3425368072416972E-3,1.4285210650986205E-2,-9.9060973710863004E-2,0.15577009248477686,{"$f":"S892*Q912^2+T892*Q912+U892","v":3.342536807241725E-3},0.10303556719799878]
[null,0,{"$f":"C893","v":0.22668403164997661},{"$f":"D893+(D912-D892)","v":1.0688633827654077E-3},0.20720069343223654,-0.14106072779937201,10.237091632512653,6.8924076665862808,0.6732779107589727,2.3205852036282089,458.33333333333337,0.15366576866258877,-234.52726430529796,-7.8630136018489574E-2,4.073568963908606E-2,1.7531910361932742E-2,2.5528811083092875,-4.0211931164638795E-3,null,null,null,null,0.20594318580878934]
[null,"De","hc","e0","a'","b'","N'","tN'","t","Nc","sac","Nac","sat","Nat","Mtot","u","N","Mo","a''","b''","c''",null,"x"]
[null,null,{"$f":"$C$35","v":4.0138687861173784E-2},{"$f":"$D$35","v":3.210578024372992E-4},{"$f":"$E$35","v":6.2237513577017019E-2},{"$f":"$F$35","v":-4.2370847395201951E-2},{"$f":"IF($C$2=1,0.5*($O$31*D915*$F$6/$O$30)*(1-W915^2+(E915-F915)*(F915^2*(1-W915^2)+2*F915*(1-W915)+2*LN((1-F915)/(1-F915*W915)))/(F915^3)),$F$6*F915*(LN((1-E915+E915^2)/(1+E915)^2)/(6*E915)+ATAN((2-E915)/(E915*3^0.5))/(E915*3^0.5)-LN((W915^2-E915*W915+E915^2)/(W915+E915)^2)/(6*E915)-ATAN((2*W915-E915)/(E915*3^0.5))/(E915*3^0.5)))","v":3.8254468270961333},{"$f":"IF($C$2=1,($O$31*D915*$F$6/$O$30)*(1-W915^3-(E915-F915)*(-2*F915^3*(1-W915^3)-3*F915^2*(1-W915^2)-6*F915*(1-W915)-6*LN((1-F915)/(1-F915*W915)))/(2*F915^4))/3,$F$6*F915*(LN((1+E915^3)/(E915^3+W915^3)))/3)","v":2.5276172507990187},{"$f":"$I$35","v":0.66073778176593112},{"$f":"$J$35","v":0.15354841612232933},{"$f":"$K$35","v":0.6365191476987323},{"$f":"$L$35","v":2.1340626348999612E-4},{"$f":"$M$35","v":458.32156291626706},{"$f":"$N$35","v":0.15366182238581935},{"$f":"$O$35","v":1.9422167141878287E-2},{"$f":"$P$35","v":2.9740483717744983E-2},{"$f":"$Q$35","v":9.9999999999988987E-5},{"$f":"$R$35","v":1.9419193093506513E-2},null,null,null,null,{"$f":"IF(C915<$C$6,0,(C915-$C$6)/C915)","v":0}]
[null,{"$f":"IF(R896>$Q$29*V896,B896,IF(Q896>Q895,$U$6,-0.5)*B896)","v":-3.9768977969850231E-48},{"$f":"IF(Q896>Q895,C896,(1-$T$6)*C896+$T$6*C897)","v":4.5181422537606569E-2},{"$f":"D896+B916","v":3.9334484870015113E-4},{"$f":"IF($C$2=1,D916/($O$31*$O$30),2^(1/3)*$O$30/D916)","v":7.6250460744389861E-2},{"$f":"IF($C$2=1,-($O$31-2)*D916/$O$30,3*($O$30/D916)^2)","v":-5.1910760091923788E-2},{"$f":"IF($C$2=1,0.5*($O$31*D916*$F$6/$O$30)*(1-W916^2+(E916-F916)*(F916^2*(1-W916^2)+2*F916*(1-W916)+2*LN((1-F916)/(1-F916*W916)))/(F916^3)),$F$6*F916*(LN((1-E916+E916^2)/(1+E916)^2)/(6*E916)+ATAN((2-E916)/(E916*3^0.5))/(E916*3^0.5)-LN((W916^2-E916*W916+E916^2)/(W916+E916)^2)/(6*E916)-ATAN((2*W916-E916)/(E916*3^0.5))/(E916*3^0.5)))","v":4.613110708371468},{"$f":"IF($C$2=1,($O$31*D916*$F$6/$O$30)*(1-W916^3-(E916-F916)*(-2*F916^3*(1-W916^3)-3*F916^2*(1-W916^2)-6*F916*(1-W916)-6*LN((1-F916)/(1-F916*W916)))/(2*F916^4))/3,$F$6*F916*(LN((1+E916^3)/(E916^3+W916^3)))/3)","v":3.0417370707038054},{"$f":"H916/G916","v":0.6593678892604784},{"$f":"G916*C916*$D$6","v":0.20842690412768886},{"$f":"MAX(MIN($K$6,$Q$6*$J$6*D916*(C916-$I$6)/C916),-$K$6)","v":25.883055331143311},{"$f":"K916*$H$6","v":8.6778318388286233E-3},{"$f":"MIN($O$6,$Q$6*$N$6*D916*(C$6-C916-$M$6)/C916)","v":458.33333333333337},{"$f":"M916*$L$6","v":0.15366576866258877},{"$f":"(0.5*$C$6-C916+I916*C916)*J916+(0.5*$C$6-$I$6)*L916+(0.5*$C$6-$M$6)*N916","v":2.3667860626519786E-2},{"$f":"0.1*$Q$6*D916*$B$6^2/C916+$R$6","v":3.2369913344933235E-2},{"$f":"(J916+L916-N916)","v":6.3438967303928701E-2},{"$f":"O916-P916*Q916","v":2.1614346752199563E-2},{"$f":"((R916-R915)*(Q916-Q917)-(R916-R917)*(Q916-Q915))/((Q916^2-Q915^2)*(Q916-Q917)-(Q916^2-Q917^2)*(Q916-Q915))","v":-5.0906690086739578E-2},{"$f":"-(S916*(Q916^2-Q915^2)-(R916-R915))/(Q916-Q915)","v":3.7891796424874044E-2},{"$f":"R916-S916*Q916^2-T916*Q916","v":1.9415404422930927E-2},{"$f":"S896*Q916^2+T896*Q916+U896","v":2.1614346752199563E-2},{"$f":"IF(C916<$C$6,0,(C916-$C$6)/C916)","v":0}]
[null,{"$f":"IF(R897>$Q$29*V897,B897,IF(Q897>Q896,$U$6,-0.5)*B897)","v":-9.2191671472819506E-48},{"$f":"IF(Q897>Q896,C897,(1-$T$6)*C897+$T$6*C898)","v":4.9415891915262342E-2},{"$f":"D897+B917","v":4.5831677895414393E-4},8.8845362225090027E-2,-6.048527758025446E-2,5.298963348818206,3.4873783855907905,0.65812464741213172,0.26185300010813706,50.108747538653482,1.6799998270356629E-2,458.33333333333337,0.15366576866258877,2.7666294009989843E-2,{"$f":"0.1*$Q$6*D917*$B$6^2/C917+$R$6","v":3.4484750565600325E-2},0.1249872297159049,2.3356140569351473E-2,-2.4406838503766199E-2,3.2898530169504357E-2,1.9625523356776232E-2,{"$f":"MAX(S897*Q917^2+T897*Q917+U897,S898*Q917^2+T898*Q917+U898)","v":2.3356140569351473E-2},0]
[null,2.0798428890166193E-46,5.3135963724627852E-2,4.9935638089130207E-4,9.6800947678454222E-2,-6.5901382398883657E-2,5.7215793302330873,3.7609846786577479,0.65733330984061211,0.30402163173884583,70.833213832193195,2.3748306000797411E-2,458.33333333333337,0.15366576866258877,3.0697047575934798E-2,3.494218127080094E-2,0.17410416907705448,2.4613468140042186E-2,-4.5103014428982229E-2,3.9088578376642383E-2,1.917515805775322E-2,{"$f":"MAX(S898*Q918^2+T898*Q918+U898,S899*Q918^2+T899*Q918+U899)","v":2.4613468140042186E-2},0]
[null,-5.6969288289327837E-36,5.7428181372141097E-2,5.514539446251275E-4,0.10690013482045398,-7.2776835684460875E-2,6.2464148897257887,4.0996583167619933,0.65632180845130572,0.35872024721281531,96.026084290590006,3.2194739027284473E-2,454.9555829307958,0.15253330769104773,3.4441229960732844E-2,3.5703612035945798E-2,0.23838167854905207,2.5930142993339948E-2,-2.9426200348363504E-2,3.2622114432521492E-2,1.9825796698733748E-2,2.5930142993339948E-2,0]
[null,-4.9168873655396392E-38,6.2195419634221871E-2,6.3481451892244281E-4,0.12305970121389279,-8.3778151165705819E-2,7.0595192163462306,4.6217728328091976,0.65468662824906532,0.43906976007650694,129.98845249060312,4.358132829649948E-2,455.66595113320221,0.15277147338382499,3.990405674307692E-2,3.7950405354822588E-2,0.32987961498918139,2.7384991635944676E-2,-4.0881215445812906E-2,3.9131556129298077E-2,1.8925005740134344E-2,2.7384991635944676E-2,0]
[null,-3.4696055743564071E-42,6.7505252560478693E-2,7.6077995736461353E-4,0.1474782813753594,-0.10040214325929543,8.2273758274995288,5.3656873709129131,0.65217482261821724,0.55539108314533303,177.86483664942327,5.9632880382064171E-2,458.33333333333337,0.15366576866258877,4.7609532615159544E-2,4.1903419681531696E-2,0.46135819486480845,2.8277046552225595E-2,-2.2807698191248511E-2,2.4831105920438253E-2,2.1675662473427899E-2,2.8277046552225592E-2,0]
[null,4.435602055905337E-39,7.3437125604676246E-2,8.7915766311351851E-4,0.17042596871649618,-0.11602476219957342,9.2601264172153144,6.0169217608535561,0.64976669753315874,0.68003706681622167,229.68519224392304,7.7006730799804149E-2,457.23148522251887,0.15329635120026644,5.5227850373787246E-2,4.4512200699825442E-2,0.60374744641575939,2.8353722866921859E-2,-2.5331082645560062E-2,2.7518776937845171E-2,2.0972789297832434E-2,2.8353722866921855E-2,0]
[null,3.8018732058162809E-45,8.0084861800030091E-2,8.0322125151080091E-4,0.15570558686551447,-0.10600323310626833,8.6047481702081807,5.6044180713793095,0.65131691951000092,0.68911006803518393,230.68434089358982,7.7341716134915195E-2,344.80558356815953,0.1156032328105172,5.2424281184921491E-2,3.7291747105121363E-2,0.65084855135958186,2.8153001603885373E-2,5.3488563857359527E-2,-7.1368036110784933E-2,5.1944823644701502E-2,2.8153001603885373E-2,0]
[null,3.9680070215462168E-47,8.7559791299448214E-2,7.589601804503962E-4,0.14712551502130744,-0.10016198248656145,8.2110155190031868,5.35531853167456,0.65221147363325083,0.71895480520044952,236.54140810904181,7.9305419558415302E-2,260.81444995122291,8.7443460938323531E-2,5.1149555703629349E-2,3.2228659602305157E-2,0.71081676382054126,2.8240884182844983E-2,1.620725285997025E-2,-2.0603368021196673E-2,3.4697219338027108E-2,2.8240884182844983E-2,0]
[null,-2.8938985860933094E-47,9.5994684279247358E-2,7.2684530602114012E-4,0.14090000074275205,-9.5923697563322988E-2,7.9198478960951526,5.1705241389888323,0.65285649507715138,0.76026329832531558,243.27336941832445,8.1562449396664877E-2,191.1846019939475,6.4098608338584079E-2,5.0371787923233137E-2,2.8152876547515221E-2,0.77772713938339644,2.8476531780520214E-2,-3.3680182989186433E-3,8.5352825159312664E-3,2.3875588801077877E-2,2.8476531780520214E-2,0]
[null,3.0101922571042645E-46,0.10554872685841464,7.2595225389928254E-4,0.14072688131336222,-9.5805839112651697E-2,7.9116847261094803,5.1653362911606653,0.65287438389884955,0.8350682501460206,258.68561802430992,8.6729725823263423E-2,135.96067096170083,4.5583638569915055E-2,5.1176023327523926E-2,2.5573079526293493E-2,0.87621433739936894,2.8768524395131306E-2,-1.1034826197296847E-2,2.1215734093584685E-2,1.8650999087066054E-2,2.8768524395131306E-2,0]
[null,-3.126485928115219E-45,0.11641386182692361,7.2273332835720637E-4,0.14010288799936232,-9.5381028994708961E-2,7.8822314213383118,5.1466150498502268,0.65293884114054479,0.91760099957151386,272.20650484370691,9.1262883931123431E-2,84.020098989313652,2.816948311483566E-2,5.1482123070299438E-2,2.3083483928379733E-2,0.98069440038780165,2.8844279640295619E-2,-1.2467472319252071E-2,2.3876027195600245E-2,1.7419928431709683E-2,2.8844279640295616E-2,0]
[null,3.242779599126175E-46,0.12882293018018509,7.8204412137743444E-4,0.15160036994135934,-0.1032084312284213,8.4174505264930506,5.4860375408683515,0.65174574220562609,1.0843606414695766,309.39703182670513,0.10373178047470707,38.933102294141968,1.3053131106433141E-2,5.4783886617278385E-2,2.2571792691030892E-2,1.1750392908378504,2.826114334067047E-2,-1.4045609395384713E-2,2.7278070459991727E-2,1.5601355144962054E-2,2.8261143340670467E-2,0]
[null,4.7986761001959018E-47,0.14306020987399781,9.1784214572999934E-4,0.17792501092567375,-0.12113005569209134,9.5843573631305574,6.2199529722453777,0.64896922522656675,1.3711401758768538,379.39632961899144,0.12720049880436482,-11.26557374061295,-3.7770175598757037E-3,6.0717137180960612E-2,2.3854872980918932E-2,1.5021176922410944,2.4884310430158228E-2,-1.3880675225493628E-2,2.6836515795319472E-2,1.589247175750013E-2,2.4884310430158235E-2,0]
[null,-7.3896230788640158E-38,0.15947517602038869,1.0632928266209583E-3,0.2061208331670763,-0.14032556677070035,10.746540243551687,6.9414248140134482,0.64592181825016237,1.7138063969505959,457.07812518453858,0.15324493406255363,-74.50649783113991,-2.4979850748173705E-2,6.3882871876537753E-2,2.4790641452500241E-2,1.8920311817613233,1.6978205232542475E-2,-1.7452510104882288E-2,3.8959855129319064E-2,5.7411258928367903E-3,1.6978205232542475E-2,0]
[null,5.1309437316557759E-45,0.17850063403985802,1.0840138064749558E-3,0.2101376247080454,-0.14306016928964782,10.90492106925447,7.0389210323415492,0.64548115365889347,1.9465353250165296,458.33333333333337,0.15366576866258877,-134.15779038323299,-4.49791854137759E-2,5.7442173658518551E-2,2.2579952340092826E-2,2.1451802790928944,9.0041051956939663E-3,-9.6787692168114406E-3,7.5756193222883796E-3,3.7292781008013087E-2,9.0041051956939733E-3,0]
[null,6.4624346078105714E-41,0.20067685341513844,1.0385972971252134E-3,0.20133356950111006,-0.13706643242272801,10.417803816046661,6.8140972066734848,0.65408192811018906,2.0906120893004654,458.33333333333337,0.15366576866258877,-180.18802323583762,-6.0411776933077942E-2,4.7692199830230854E-2,1.924322579121935E-2,2.3046896348961323,3.3425368072416972E-3,1.4285210650986205E-2,-9.9060973710863004E-2,0.15577009248477686,{"$f":"S912*Q932^2+T912*Q932+U912","v":3.342536807241725E-3},0.10303556719799878]
[null,0,{"$f":"C913","v":0.22668403164997661},{"$f":"D913+(D932-D912)","v":1.0688633827654077E-3},0.20720069343223654,-0.14106072779937201,10.237091632512653,6.8924076665862808,0.6732779107589727,2.3205852036282089,458.33333333333337,0.15366576866258877,-234.52726430529796,-7.8630136018489574E-2,4.073568963908606E-2,1.7531910361932742E-2,2.5528811083092875,-4.0211931164638795E-3,null,null,null,null,0.20594318580878934]
[null,"De","hc","e0","a'","b'","N'","tN'","t","Nc","sac","Nac","sat","Nat","Mtot","u","N","Mo","a''","b''","c''",null,"x"]
[null,null,{"$f":"$C$35","v":4.0138687861173784E-2},{"$f":"$D$35","v":3.210578024372992E-4},{"$f":"$E$35","v":6.2237513577017019E-2},{"$f":"$F$35","v":-4.2370847395201951E-2},{"$f":"IF($C$2=1,0.5*($O$31*D935*$F$6/$O$30)*(1-W935^2+(E935-F935)*(F935^2*(1-W935^2)+2*F935*(1-W935)+2*LN((1-F935)/(1-F935*W935)))/(F935^3)),$F$6*F935*(LN((1-E935+E935^2)/(1+E935)^2)/(6*E935)+ATAN((2-E935)/(E935*3^0.5))/(E935*3^0.5)-LN((W935^2-E935*W935+E935^2)/(W935+E935)^2)/(6*E935)-ATAN((2*W935-E935)/(E935*3^0.5))/(E935*3^0.5)))","v":3.8254468270961333},{"$f":"IF($C$2=1,($O$31*D935*$F$6/$O$30)*(1-W935^3-(E935-F935)*(-2*F935^3*(1-W935^3)-3*F935^2*(1-W935^2)-6*F935*(1-W935)-6*LN((1-F935)/(1-F935*W935)))/(2*F935^4))/3,$F$6*F935*(LN((1+E935^3)/(E935^3+W935^3)))/3)","v":2.5276172507990187},{"$f":"$I$35","v":0.66073778176593112},{"$f":"$J$35","v":0.15354841612232933},{"$f":"$K$35","v":0.6365191476987323},{"$f":"$L$35","v":2.1340626348999612E-4},{"$f":"$M$35","v":458.32156291626706},{"$f":"$N$35","v":0.15366182238581935},{"$f":"$O$35","v":1.9422167141878287E-2},{"$f":"$P$35","v":2.9740483717744983E-2},{"$f":"$Q$35","v":9.9999999999988987E-5},{"$f":"$R$35","v":1.9419193093506513E-2},null,null,null,null,{"$f":"IF(C935<$C$6,0,(C935-$C$6)/C935)","v":0}]
[null,{"$f":"IF(R916>$Q$29*V916,B916,IF(Q916>Q915,$U$6,-0.5)*B916)","v":3.9768977969850231E-49},{"$f":"IF(Q916>Q915,C916,(1-$T$6)*C916+$T$6*C917)","v":4.5181422537606569E-2},{"$f":"D916+B936","v":3.9334484870015113E-4},{"$f":"IF($C$2=1,D936/($O$31*$O$30),2^(1/3)*$O$30/D936)","v":7.6250460744389861E-2},{"$f":"IF($C$2=1,-($O$31-2)*D936/$O$30,3*($O$30/D936)^2)","v":-5.1910760091923788E-2},{"$f":"IF($C$2=1,0.5*($O$31*D936*$F$6/$O$30)*(1-W936^2+(E936-F936)*(F936^2*(1-W936^2)+2*F936*(1-W936)+2*LN((1-F936)/(1-F936*W936)))/(F936^3)),$F$6*F936*(LN((1-E936+E936^2)/(1+E936)^2)/(6*E936)+ATAN((2-E936)/(E936*3^0.5))/(E936*3^0.5)-LN((W936^2-E936*W936+E936^2)/(W936+E936)^2)/(6*E936)-ATAN((2*W936-E936)/(E936*3^0.5))/(E936*3^0.5)))","v":4.613110708371468},{"$f":"IF($C$2=1,($O$31*D936*$F$6/$O$30)*(1-W936^3-(E936-F936)*(-2*F936^3*(1-W936^3)-3*F936^2*(1-W936^2)-6*F936*(1-W936)-6*LN((1-F936)/(1-F936*W936)))/(2*F936^4))/3,$F$6*F936*(LN((1+E936^3)/(E936^3+W936^3)))/3)","v":3.0417370707038054},{"$f":"H936/G936","v":0.6593678892604784},{"$f":"G936*C936*$D$6","v":0.20842690412768886},{"$f":"MAX(MIN($K$6,$Q$6*$J$6*D936*(C936-$I$6)/C936),-$K$6)","v":25.883055331143311},{"$f":"K936*$H$6","v":8.6778318388286233E-3},{"$f":"MIN($O$6,$Q$6*$N$6*D936*(C$6-C936-$M$6)/C936)","v":458.33333333333337},{"$f":"M936*$L$6","v":0.15366576866258877},{"$f":"(0.5*$C$6-C936+I936*C936)*J936+(0.5*$C$6-$I$6)*L936+(0.5*$C$6-$M$6)*N936","v":2.3667860626519786E-2},{"$f":"0.1*$Q$6*D936*$B$6^2/C936+$R$6","v":3.2369913344933235E-2},{"$f":"(J936+L936-N936)","v":6.3438967303928701E-2},{"$f":"O936-P936*Q936","v":2.1614346752199563E-2},{"$f":"((R936-R935)*(Q936-Q937)-(R936-R937)*(Q936-Q935))/((Q936^2-Q935^2)*(Q936-Q937)-(Q936^2-Q937^2)*(Q936-Q935))","v":-5.0906690086739578E-2},{"$f":"-(S936*(Q936^2-Q935^2)-(R936-R935))/(Q936-Q935)","v":3.7891796424874044E-2},{"$f":"R936-S936*Q936^2-T936*Q936","v":1.9415404422930927E-2},{"$f":"S916*Q936^2+T916*Q936+U916","v":2.1614346752199563E-2},{"$f":"IF(C936<$C$6,0,(C936-$C$6)/C936)","v":0}]
[null,{"$f":"IF(R917>$Q$29*V917,B917,IF(Q917>Q916,$U$6,-0.5)*B917)","v":9.2191671472819509E-49},{"$f":"IF(Q917>Q916,C917,(1-$T$6)*C917+$T$6*C918)","v":4.9415891915262342E-2},{"$f":"D917+B937","v":4.5831677895414393E-4},8.8845362225090027E-2,-6.048527758025446E-2,5.298963348818206,3.4873783855907905,0.65812464741213172,0.26185300010813706,50.108747538653482,1.6799998270356629E-2,458.33333333333337,0.15366576866258877,2.7666294009989843E-2,{"$f":"0.1*$Q$6*D937*$B$6^2/C937+$R$6","v":3.4484750565600325E-2},0.1249872297159049,2.3356140569351473E-2,-2.4406838503766199E-2,3.2898530169504357E-2,1.9625523356776232E-2,{"$f":"MAX(S917*Q937^2+T917*Q937+U917,S918*Q937^2+T918*Q937+U918)","v":2.3356140569351473E-2},0]
[null,-2.0798428890166193E-47,5.3135963724627852E-2,4.9935638089130207E-4,9.6800947678454222E-2,-6.5901382398883657E-2,5.7215793302330873,3.7609846786577479,0.65733330984061211,0.30402163173884583,70.833213832193195,2.3748306000797411E-2,458.33333333333337,0.15366576866258877,3.0697047575934798E-2,3.494218127080094E-2,0.17410416907705448,2.4613468140042186E-2,-4.5103014428982229E-2,3.9088578376642383E-2,1.917515805775322E-2,{"$f":"MAX(S918*Q938^2+T918*Q938+U918,S919*Q938^2+T919*Q938+U919)","v":2.4613468140042186E-2},0]
[null,5.6969288289327839E-37,5.7428181372141097E-2,5.514539446251275E-4,0.10690013482045398,-7.2776835684460875E-2,6.2464148897257887,4.0996583167619933,0.65632180845130572,0.35872024721281531,96.026084290590006,3.2194739027284473E-2,454.9555829307958,0.15253330769104773,3.4441229960732844E-2,3.5703612035945798E-2,0.23838167854905207,2.5930142993339948E-2,-2.9426200348363504E-2,3.2622114432521492E-2,1.9825796698733748E-2,2.5930142993339948E-2,0]
[null,4.9168873655396394E-39,6.2195419634221871E-2,6.3481451892244281E-4,0.12305970121389279,-8.3778151165705819E-2,7.0595192163462306,4.6217728328091976,0.65468662824906532,0.43906976007650694,129.98845249060312,4.358132829649948E-2,455.66595113320221,0.15277147338382499,3.990405674307692E-2,3.7950405354822588E-2,0.32987961498918139,2.7384991635944676E-2,-4.0881215445812906E-2,3.9131556129298077E-2,1.8925005740134344E-2,2.7384991635944676E-2,0]
[null,3.4696055743564072E-43,6.7505252560478693E-2,7.6077995736461353E-4,0.1474782813753594,-0.10040214325929543,8.2273758274995288,5.3656873709129131,0.65217482261821724,0.55539108314533303,177.86483664942327,5.9632880382064171E-2,458.33333333333337,0.15366576866258877,4.7609532615159544E-2,4.1903419681531696E-2,0.46135819486480845,2.8277046552225595E-2,-2.2807698191248511E-2,2.4831105920438253E-2,2.1675662473427899E-2,2.8277046552225592E-2,0]
[null,-4.4356020559053375E-40,7.3437125604676246E-2,8.7915766311351851E-4,0.17042596871649618,-0.11602476219957342,9.2601264172153144,6.0169217608535561,0.64976669753315874,0.68003706681622167,229.68519224392304,7.7006730799804149E-2,457.23148522251887,0.15329635120026644,5.5227850373787246E-2,4.4512200699825442E-2,0.60374744641575939,2.8353722866921859E-2,-2.5331082645560062E-2,2.7518776937845171E-2,2.0972789297832434E-2,2.8353722866921855E-2,0]
[null,-3.8018732058162812E-46,8.0084861800030091E-2,8.0322125151080091E-4,0.15570558686551447,-0.10600323310626833,8.6047481702081807,5.6044180713793095,0.65131691951000092,0.68911006803518393,230.68434089358982,7.7341716134915195E-2,344.80558356815953,0.1156032328105172,5.2424281184921491E-2,3.7291747105121363E-2,0.65084855135958186,2.8153001603885373E-2,5.3488563857359527E-2,-7.1368036110784933E-2,5.1944823644701502E-2,2.8153001603885373E-2,0]
[null,-3.9680070215462169E-48,8.7559791299448214E-2,7.589601804503962E-4,0.14712551502130744,-0.10016198248656145,8.2110155190031868,5.35531853167456,0.65221147363325083,0.71895480520044952,236.54140810904181,7.9305419558415302E-2,260.81444995122291,8.7443460938323531E-2,5.1149555703629349E-2,3.2228659602305157E-2,0.71081676382054126,2.8240884182844983E-2,1.620725285997025E-2,-2.0603368021196673E-2,3.4697219338027108E-2,2.8240884182844983E-2,0]
[null,2.8938985860933093E-48,9.5994684279247358E-2,7.2684530602114012E-4,0.14090000074275205,-9.5923697563322988E-2,7.9198478960951526,5.1705241389888323,0.65285649507715138,0.76026329832531558,243.27336941832445,8.1562449396664877E-2,191.1846019939475,6.4098608338584079E-2,5.0371787923233137E-2,2.8152876547515221E-2,0.77772713938339644,2.8476531780520214E-2,-3.3680182989186433E-3,8.5352825159312664E-3,2.3875588801077877E-2,2.8476531780520214E-2,0]
[null,-3.0101922571042647E-47,0.10554872685841464,7.2595225389928254E-4,0.14072688131336222,-9.5805839112651697E-2,7.9116847261094803,5.1653362911606653,0.65287438389884955,0.8350682501460206,258.68561802430992,8.6729725823263423E-2,135.96067096170083,4.5583638569915055E-2,5.1176023327523926E-2,2.5573079526293493E-2,0.87621433739936894,2.8768524395131306E-2,-1.1034826197296847E-2,2.1215734093584685E-2,1.8650999087066054E-2,2.8768524395131306E-2,0]
[null,3.1264859281152192E-46,0.11641386182692361,7.2273332835720637E-4,0.14010288799936232,-9.5381028994708961E-2,7.8822314213383118,5.1466150498502268,0.65293884114054479,0.91760099957151386,272.20650484370691,9.1262883931123431E-2,84.020098989313652,2.816948311483566E-2,5.1482123070299438E-2,2.3083483928379733E-2,0.98069440038780165,2.8844279640295619E-2,-1.2467472319252071E-2,2.3876027195600245E-2,1.7419928431709683E-2,2.8844279640295616E-2,0]
[null,-3.2427795991261754E-47,0.12882293018018509,7.8204412137743444E-4,0.15160036994135934,-0.1032084312284213,8.4174505264930506,5.4860375408683515,0.65174574220562609,1.0843606414695766,309.39703182670513,0.10373178047470707,38.933102294141968,1.3053131106433141E-2,5.4783886617278385E-2,2.2571792691030892E-2,1.1750392908378504,2.826114334067047E-2,-1.4045609395384713E-2,2.7278070459991727E-2,1.5601355144962054E-2,2.8261143340670467E-2,0]
[null,-4.7986761001959019E-48,0.14306020987399781,9.1784214572999934E-4,0.17792501092567375,-0.12113005569209134,9.5843573631305574,6.2199529722453777,0.64896922522656675,1.3711401758768538,379.39632961899144,0.12720049880436482,-11.26557374061295,-3.7770175598757037E-3,6.0717137180960612E-2,2.3854872980918932E-2,1.5021176922410944,2.4884310430158228E-2,-1.3880675225493628E-2,2.6836515795319472E-2,1.589247175750013E-2,2.4884310430158235E-2,0]
[null,7.3896230788640166E-39,0.15947517602038869,1.0632928266209583E-3,0.2061208331670763,-0.14032556677070035,10.746540243551687,6.9414248140134482,0.64592181825016237,1.7138063969505959,457.07812518453858,0.15324493406255363,-74.50649783113991,-2.4979850748173705E-2,6.3882871876537753E-2,2.4790641452500241E-2,1.8920311817613233,1.6978205232542475E-2,-1.7452510104882288E-2,3.8959855129319064E-2,5.7411258928367903E-3,1.6978205232542475E-2,0]
[null,-5.1309437316557764E-46,0.17850063403985802,1.0840138064749558E-3,0.2101376247080454,-0.14306016928964782,10.90492106925447,7.0389210323415492,0.64548115365889347,1.9465353250165296,458.33333333333337,0.15366576866258877,-134.15779038323299,-4.49791854137759E-2,5.7442173658518551E-2,2.2579952340092826E-2,2.1451802790928944,9.0041051956939663E-3,-9.6787692168114406E-3,7.5756193222883796E-3,3.7292781008013087E-2,9.0041051956939733E-3,0]
[null,-6.4624346078105712E-42,0.20067685341513844,1.0385972971252134E-3,0.20133356950111006,-0.13706643242272801,10.417803816046661,6.8140972066734848,0.65408192811018906,2.0906120893004654,458.33333333333337,0.15366576866258877,-180.18802323583762,-6.0411776933077942E-2,4.7692199830230854E-2,1.924322579121935E-2,2.3046896348961323,3.3425368072416972E-3,1.4285210650986205E-2,-9.9060973710863004E-2,0.15577009248477686,{"$f":"S932*Q952^2+T932*Q952+U932","v":3.342536807241725E-3},0.10303556719799878]
[null,0,{"$f":"C933","v":0.22668403164997661},{"$f":"D933+(D952-D932)","v":1.0688633827654077E-3},0.20720069343223654,-0.14106072779937201,10.237091632512653,6.8924076665862808,0.6732779107589727,2.3205852036282089,458.33333333333337,0.15366576866258877,-234.52726430529796,-7.8630136018489574E-2,4.073568963908606E-2,1.7531910361932742E-2,2.5528811083092875,-4.0211931164638795E-3,null,null,null,null,0.20594318580878934]
[null,"De","hc","e0","a'","b'","N'","tN'","t","Nc","sac","Nac","sat","Nat","Mtot","u","N","Mo","a''","b''","c''",null,"x"]
[null,null,{"$f":"$C$35","v":4.0138687861173784E-2},{"$f":"$D$35","v":3.210578024372992E-4},{"$f":"$E$35","v":6.2237513577017019E-2},{"$f":"$F$35","v":-4.2370847395201951E-2},{"$f":"IF($C$2=1,0.5*($O$31*D955*$F$6/$O$30)*(1-W955^2+(E955-F955)*(F955^2*(1-W955^2)+2*F955*(1-W955)+2*LN((1-F955)/(1-F955*W955)))/(F955^3)),$F$6*F955*(LN((1-E955+E955^2)/(1+E955)^2)/(6*E955)+ATAN((2-E955)/(E955*3^0.5))/(E955*3^0.5)-LN((W955^2-E955*W955+E955^2)/(W955+E955)^2)/(6*E955)-ATAN((2*W955-E955)/(E955*3^0.5))/(E955*3^0.5)))","v":3.8254468270961333},{"$f":"IF($C$2=1,($O$31*D955*$F$6/$O$30)*(1-W955^3-(E955-F955)*(-2*F955^3*(1-W955^3)-3*F955^2*(1-W955^2)-6*F955*(1-W955)-6*LN((1-F955)/(1-F955*W955)))/(2*F955^4))/3,$F$6*F955*(LN((1+E955^3)/(E955^3+W955^3)))/3)","v":2.5276172507990187},{"$f":"$I$35","v":0.66073778176593112},{"$f":"$J$35","v":0.15354841612232933},{"$f":"$K$35","v":0.6365191476987323},{"$f":"$L$35","v":2.1340626348999612E-4},{"$f":"$M$35","v":458.32156291626706},{"$f":"$N$35","v":0.15366182238581935},{"$f":"$O$35","v":1.9422167141878287E-2},{"$f":"$P$35","v":2.9740483717744983E-2},{"$f":"$Q$35","v":9.9999999999988987E-5},{"$f":"$R$35","v":1.9419193093506513E-2},null,null,null,null,{"$f":"IF(C955<$C$6,0,(C955-$C$6)/C955)","v":0}]
[null,0,{"$f":"C936","v":4.5181422537606569E-2},{"$f":"IF(R936>$Q$29*V936,D936+B956,D936-0.5*B936)","v":3.9334484870015113E-4},{"$f":"IF($C$2=1,D956/($O$31*$O$30),2^(1/3)*$O$30/D956)","v":7.6250460744389861E-2},{"$f":"IF($C$2=1,-($O$31-2)*D956/$O$30,3*($O$30/D956)^2)","v":-5.1910760091923788E-2},{"$f":"IF($C$2=1,0.5*($O$31*D956*$F$6/$O$30)*(1-W956^2+(E956-F956)*(F956^2*(1-W956^2)+2*F956*(1-W956)+2*LN((1-F956)/(1-F956*W956)))/(F956^3)),$F$6*F956*(LN((1-E956+E956^2)/(1+E956)^2)/(6*E956)+ATAN((2-E956)/(E956*3^0.5))/(E956*3^0.5)-LN((W956^2-E956*W956+E956^2)/(W956+E956)^2)/(6*E956)-ATAN((2*W956-E956)/(E956*3^0.5))/(E956*3^0.5)))","v":4.613110708371468},{"$f":"IF($C$2=1,($O$31*D956*$F$6/$O$30)*(1-W956^3-(E956-F956)*(-2*F956^3*(1-W956^3)-3*F956^2*(1-W956^2)-6*F956*(1-W956)-6*LN((1-F956)/(1-F956*W956)))/(2*F956^4))/3,$F$6*F956*(LN((1+E956^3)/(E956^3+W956^3)))/3)","v":3.0417370707038054},{"$f":"H956/G956","v":0.6593678892604784},{"$f":"G956*C956*$D$6","v":0.20842690412768886},{"$f":"MAX(MIN($K$6,$Q$6*$J$6*D956*(C956-$I$6)/C956),-$K$6)","v":25.883055331143311},{"$f":"K956*$H$6","v":8.6778318388286233E-3},{"$f":"MIN($O$6,$Q$6*$N$6*D956*(C$6-C956-$M$6)/C956)","v":458.33333333333337},{"$f":"M956*$L$6","v":0.15366576866258877},{"$f":"(0.5*$C$6-C956+I956*C956)*J956+(0.5*$C$6-$I$6)*L956+(0.5*$C$6-$M$6)*N956","v":2.3667860626519786E-2},{"$f":"0.1*$Q$6*D956*$B$6^2/C956+$R$6","v":3.2369913344933235E-2},{"$f":"(J956+L956-N956)","v":6.3438967303928701E-2},{"$f":"O956-P956*Q956","v":2.1614346752199563E-2},{"$f":"((R956-R955)*(Q956-Q957)-(R956-R957)*(Q956-Q955))/((Q956^2-Q955^2)*(Q956-Q957)-(Q956^2-Q957^2)*(Q956-Q955))","v":-5.0906690086739578E-2},{"$f":"-(S956*(Q956^2-Q955^2)-(R956-R955))/(Q956-Q955)","v":3.7891796424874044E-2},{"$f":"R956-S956*Q956^2-T956*Q956","v":1.9415404422930927E-2},{"$f":"S936*Q956^2+T936*Q956+U936","v":2.1614346752199563E-2},{"$f":"IF(C956<$C$6,0,(C956-$C$6)/C956)","v":0}]
[null,0,4.9415891915262342E-2,{"$f":"IF(R937>$Q$29*V937,D937+B957,D937-0.5*B937)","v":4.5831677895414393E-4},8.8845362225090027E-2,-6.048527758025446E-2,5.298963348818206,3.4873783855907905,0.65812464741213172,0.26185300010813706,50.108747538653482,1.6799998270356629E-2,458.33333333333337,0.15366576866258877,2.7666294009989843E-2,{"$f":"0.1*$Q$6*D957*$B$6^2/C957+$R$6","v":3.4484750565600325E-2},0.1249872297159049,2.3356140569351473E-2,-2.4406838503766199E-2,3.2898530169504357E-2,1.9625523356776232E-2,{"$f":"MAX(S937*Q957^2+T937*Q957+U937,S938*Q957^2+T938*Q957+U938)","v":2.3356140569351473E-2},0]
[null,0,5.3135963724627852E-2,4.9935638089130207E-4,9.6800947678454222E-2,-6.5901382398883657E-2,5.7215793302330873,3.7609846786577479,0.65733330984061211,0.30402163173884583,70.833213832193195,2.3748306000797411E-2,458.33333333333337,0.15366576866258877,3.0697047575934798E-2,3.494218127080094E-2,0.17410416907705448,2.4613468140042186E-2,-4.5103014428982229E-2,3.9088578376642383E-2,1.917515805775322E-2,{"$f":"MAX(S938*Q958^2+T938*Q958+U938,S939*Q958^2+T939*Q958+U939)","v":2.4613468140042186E-2},0]
[null,0,5.7428181372141097E-2,5.514539446251275E-4,0.10690013482045398,-7.2776835684460875E-2,6.2464148897257887,4.0996583167619933,0.65632180845130572,0.35872024721281531,96.026084290590006,3.2194739027284473E-2,454.9555829307958,0.15253330769104773,3.4441229960732844E-2,3.5703612035945798E-2,0.23838167854905207,2.5930142993339948E-2,-2.9426200348363504E-2,3.2622114432521492E-2,1.9825796698733748E-2,2.5930142993339948E-2,0]
[null,0,6.2195419634221871E-2,6.3481451892244281E-4,0.12305970121389279,-8.3778151165705819E-2,7.0595192163462306,4.6217728328091976,0.65468662824906532,0.43906976007650694,129.98845249060312,4.358132829649948E-2,455.66595113320221,0.15277147338382499,3.990405674307692E-2,3.7950405354822588E-2,0.32987961498918139,2.7384991635944676E-2,-4.0881215445812906E-2,3.9131556129298077E-2,1.8925005740134344E-2,2.7384991635944676E-2,0]
[null,0,6.7505252560478693E-2,7.6077995736461353E-4,0.1474782813753594,-0.10040214325929543,8.2273758274995288,5.3656873709129131,0.65217482261821724,0.55539108314533303,177.86483664942327,5.9632880382064171E-2,458.33333333333337,0.15366576866258877,4.7609532615159544E-2,4.1903419681531696E-2,0.46135819486480845,2.8277046552225595E-2,-2.2807698191248511E-2,2.4831105920438253E-2,2.1675662473427899E-2,2.8277046552225592E-2,0]
[null,0,7.3437125604676246E-2,8.7915766311351851E-4,0.17042596871649618,-0.11602476219957342,9.2601264172153144,6.0169217608535561,0.64976669753315874,0.68003706681622167,229.68519224392304,7.7006730799804149E-2,457.23148522251887,0.15329635120026644,5.5227850373787246E-2,4.4512200699825442E-2,0.60374744641575939,2.8353722866921859E-2,-2.5331082645560062E-2,2.7518776937845171E-2,2.0972789297832434E-2,2.8353722866921855E-2,0]
[null,0,8.0084861800030091E-2,8.0322125151080091E-4,0.15570558686551447,-0.10600323310626833,8.6047481702081807,5.6044180713793095,0.65131691951000092,0.68911006803518393,230.68434089358982,7.7341716134915195E-2,344.80558356815953,0.1156032328105172,5.2424281184921491E-2,3.7291747105121363E-2,0.65084855135958186,2.8153001603885373E-2,5.3488563857359527E-2,-7.1368036110784933E-2,5.1944823644701502E-2,2.8153001603885373E-2,0]
[null,0,8.7559791299448214E-2,7.589601804503962E-4,0.14712551502130744,-0.10016198248656145,8.2110155190031868,5.35531853167456,0.65221147363325083,0.71895480520044952,236.54140810904181,7.9305419558415302E-2,260.81444995122291,8.7443460938323531E-2,5.1149555703629349E-2,3.2228659602305157E-2,0.71081676382054126,2.8240884182844983E-2,1.620725285997025E-2,-2.0603368021196673E-2,3.4697219338027108E-2,2.8240884182844983E-2,0]
[null,0,9.5994684279247358E-2,7.2684530602114012E-4,0.14090000074275205,-9.5923697563322988E-2,7.9198478960951526,5.1705241389888323,0.65285649507715138,0.76026329832531558,243.27336941832445,8.1562449396664877E-2,191.1846019939475,6.4098608338584079E-2,5.0371787923233137E-2,2.8152876547515221E-2,0.77772713938339644,2.8476531780520214E-2,-3.3680182989186433E-3,8.5352825159312664E-3,2.3875588801077877E-2,2.8476531780520214E-2,0]
[null,0,0.10554872685841464,7.2595225389928254E-4,0.14072688131336222,-9.5805839112651697E-2,7.9116847261094803,5.1653362911606653,0.65287438389884955,0.8350682501460206,258.68561802430992,8.6729725823263423E-2,135.96067096170083,4.5583638569915055E-2,5.1176023327523926E-2,2.5573079526293493E-2,0.87621433739936894,2.8768524395131306E-2,-1.1034826197296847E-2,2.1215734093584685E-2,1.8650999087066054E-2,2.8768524395131306E-2,0]
[null,0,0.11641386182692361,7.2273332835720637E-4,0.14010288799936232,-9.5381028994708961E-2,7.8822314213383118,5.1466150498502268,0.65293884114054479,0.91760099957151386,272.20650484370691,9.1262883931123431E-2,84.020098989313652,2.816948311483566E-2,5.1482123070299438E-2,2.3083483928379733E-2,0.98069440038780165,2.8844279640295619E-2,-1.2467472319252071E-2,2.3876027195600245E-2,1.7419928431709683E-2,2.8844279640295616E-2,0]
[null,0,0.12882293018018509,7.8204412137743444E-4,0.15160036994135934,-0.1032084312284213,8.4174505264930506,5.4860375408683515,0.65174574220562609,1.0843606414695766,309.39703182670513,0.10373178047470707,38.933102294141968,1.3053131106433141E-2,5.4783886617278385E-2,2.2571792691030892E-2,1.1750392908378504,2.826114334067047E-2,{"$f":"((R968-R967)*(Q968-Q969)-(R968-R969)*(Q968-Q967))/((Q968^2-Q967^2)*(Q968-Q969)-(Q968^2-Q969^2)*(Q968-Q967))","v":-1.4045609395384713E-2},2.7278070459991727E-2,1.5601355144962054E-2,2.8261143340670467E-2,0]
[null,0,0.14306020987399781,9.1784214572999934E-4,0.17792501092567375,-0.12113005569209134,9.5843573631305574,6.2199529722453777,0.64896922522656675,1.3711401758768538,379.39632961899144,0.12720049880436482,-11.26557374061295,-3.7770175598757037E-3,6.0717137180960612E-2,2.3854872980918932E-2,1.5021176922410944,2.4884310430158228E-2,-1.3880675225493628E-2,2.6836515795319472E-2,1.589247175750013E-2,2.4884310430158235E-2,0]
[null,0,0.15947517602038869,1.0632928266209583E-3,0.2061208331670763,-0.14032556677070035,10.746540243551687,6.9414248140134482,0.64592181825016237,1.7138063969505959,457.07812518453858,0.15324493406255363,-74.50649783113991,-2.4979850748173705E-2,6.3882871876537753E-2,2.4790641452500241E-2,1.8920311817613233,1.6978205232542475E-2,-1.7452510104882288E-2,3.8959855129319064E-2,5.7411258928367903E-3,1.6978205232542475E-2,0]
[null,0,0.17850063403985802,1.0840138064749558E-3,0.2101376247080454,-0.14306016928964782,10.90492106925447,7.0389210323415492,0.64548115365889347,1.9465353250165296,458.33333333333337,0.15366576866258877,-134.15779038323299,-4.49791854137759E-2,5.7442173658518551E-2,2.2579952340092826E-2,2.1451802790928944,9.0041051956939663E-3,-9.6787692168114406E-3,7.5756193222883796E-3,3.7292781008013087E-2,9.0041051956939733E-3,0]
[null,0,0.20067685341513844,1.0385972971252134E-3,0.20133356950111006,-0.13706643242272801,10.417803816046661,6.8140972066734848,0.65408192811018906,2.0906120893004654,458.33333333333337,0.15366576866258877,-180.18802323583762,-6.0411776933077942E-2,4.7692199830230854E-2,1.924322579121935E-2,2.3046896348961323,3.3425368072416972E-3,1.4285210650986205E-2,-9.9060973710863004E-2,0.15577009248477686,{"$f":"S952*Q972^2+T952*Q972+U952","v":3.342536807241725E-3},0.10303556719799878]
[null,0,0.22668403164997661,{"$f":"D953+(D972-D952)","v":1.0688633827654077E-3},0.20720069343223654,-0.14106072779937201,10.237091632512653,6.8924076665862808,0.6732779107589727,2.3205852036282089,458.33333333333337,0.15366576866258877,-234.52726430529796,-7.8630136018489574E-2,4.073568963908606E-2,1.7531910361932742E-2,2.5528811083092875,-4.0211931164638795E-3,null,null,null,null,0.20594318580878934]

{"sheet":"Firsidig","index":3,"n_rows":107,"n_cols":33,"rows_kept":107,"cut":false,"hidden":false,"merged":[[38,20,38,21],[38,22,38,23],[37,10,37,16],[37,17,37,23],[38,13,38,14],[38,15,38,16],[38,18,38,19],[92,6,92,7],[65,2,65,3],[65,4,65,5],[65,6,65,7],[38,11,38,12]]}
[]
[null,null,null,{"$f":"IF(Brand!N19=0,0,Brand!AU20)","v":1},null,null,null,null,null,null,"Q",null,"y","Q-3",null,null,null,null,null,null,null,"Q-4"]
[null,null,null,null,null,null,null,null,null,null,null,"Punkt",null,null,1,2,3,"Midte",4,5,6]
[null,null,null,null,null,null,null,null,null,null,"x",null,null,null,{"$f":"$E$16/(4*$E$19)+(O3-1)*$E$16/(2*$E$19)","v":8.3333333333333329E-2},{"$f":"$E$16/(4*$E$19)+(P3-1)*$E$16/(2*$E$19)","v":0.25},{"$f":"$E$16/(4*$E$19)+(Q3-1)*$E$16/(2*$E$19)","v":0.41666666666666663},{"$f":"0.5*E16","v":0.5},{"$f":"$E$16/(4*$E$19)+(S3-1)*$E$16/(2*$E$19)","v":0.58333333333333337},{"$f":"$E$16/(4*$E$19)+(T3-1)*$E$16/(2*$E$19)","v":0.75},{"$f":"$E$16/(4*$E$19)+(U3-1)*$E$16/(2*$E$19)","v":0.91666666666666674}]
[null,null,null,null,null,null,null,null,null,null,"Q-1",null,null,null,{"$f":"MAX(312*LOG10(8*$E$17+1)*EXP(-1.9*O4*$E$18/SQRT($E$17))*SIN(PI()/2-O4*$E$18/SQRT($E$17)),0)*$B$6","v":0},{"$f":"MAX(312*LOG10(8*$E$17+1)*EXP(-1.9*P4*$E$18/SQRT($E$17))*SIN(PI()/2-P4*$E$18/SQRT($E$17)),0)*$B$6","v":0},{"$f":"MAX(312*LOG10(8*$E$17+1)*EXP(-1.9*Q4*$E$18/SQRT($E$17))*SIN(PI()/2-Q4*$E$18/SQRT($E$17)),0)*$B$6","v":0},0,0,0,0,{"$f":"MAX(312*LOG10(8*$E$17+1)*EXP(-1.9*($E$16)*$E$18/SQRT($E$17))*SIN(PI()/2-($E$16)*$E$18/SQRT($E$17)),0)","v":0}]
[null,{"$f":"IF(Brand!N19=0,0,Brand!AU22)","v":0},null,null,null,{"$f":"IF(Brand!N19=0,0,Brand!AU22)","v":0},null,null,null,null,null,1,{"$f":"$E$15/(4*$E$19)+(L6-1)*$E$15/(2*$E$19)","v":1.4999999999999999E-2},{"$f":"MAX(312*LOG10(8*$E$17+1)*EXP(-1.9*M6*$E$18/SQRT($E$17))*SIN(PI()/2-M6*$E$18/SQRT($E$17)),0)*$D$2","v":684.62958869711531},{"$f":"MAX(((O$5+O$13)*$E$20/($E$20+$V$5))*(1-($N6+$V6)/$E$20)+$N6+$V6,20)","v":684.62958869711531},{"$f":"MAX(((P$5+P$13)*$E$20/($E$20+$V$5))*(1-($N6+$V6)/$E$20)+$N6+$V6,20)","v":684.62958869711531},684.62958869711531,684.62958869711531,684.62958869711531,684.62958869711531,684.62958869711531,{"$f":"MAX(312*LOG10(8*$E$17+1)*EXP(-1.9*($E$15-M6)*$E$18/SQRT($E$17))*SIN(PI()/2-($E$15-M6)*$E$18/SQRT($E$17)),0)*$D$11","v":0}]
[null,null,null,null,null,null,null,null,null,null,null,2,{"$f":"$E$15/(4*$E$19)+(L7-1)*$E$15/(2*$E$19)","v":4.4999999999999998E-2},{"$f":"MAX(312*LOG10(8*$E$17+1)*EXP(-1.9*M7*$E$18/SQRT($E$17))*SIN(PI()/2-M7*$E$18/SQRT($E$17)),0)*$D$2","v":343.32754592148007},354.66919546910032,354.66919546910032,354.66919546910032,354.66919546910032,354.66919546910032,354.66919546910032,354.66919546910032,{"$f":"MAX(312*LOG10(8*$E$17+1)*EXP(-1.9*($E$15-M7)*$E$18/SQRT($E$17))*SIN(PI()/2-($E$15-M7)*$E$18/SQRT($E$17)),0)*$D$11","v":11.341649547620246}]
[null,null,null,null,null,null,null,null,null,null,null,3,{"$f":"$E$15/(4*$E$19)+(L8-1)*$E$15/(2*$E$19)","v":7.4999999999999997E-2},152.05575440879053,207.06718834997127,207.06718834997127,207.06718834997127,207.06718834997127,207.06718834997127,207.06718834997127,207.06718834997127,55.011433941180748]
[null,null,null,null,null,null,null,null,null,null,null,"Midte",{"$f":"0.5*E15","v":0.09},94.689387048184699,189.3787740963694,189.3787740963694,189.3787740963694,189.3787740963694,189.3787740963694,189.3787740963694,189.3787740963694,94.689387048184699]
[null,null,null,null,null,null,null,null,null,null,null,4,{"$f":"$E$15/(4*$E$19)+(L10-1)*$E$15/(2*$E$19)","v":0.10500000000000001},55.011433941180726,207.06718834997133,207.06718834997133,207.06718834997133,207.06718834997133,207.06718834997133,207.06718834997133,207.06718834997133,152.05575440879062]
[null,null,null,{"$f":"IF(Brand!N19=0,0,Brand!AU21)","v":1},null,null,null,{"$f":"VLOOKUP(600,Bet,5)","v":7},null,null,null,5,{"$f":"$E$15/(4*$E$19)+(L11-1)*$E$15/(2*$E$19)","v":0.13500000000000001},11.341649547620246,354.66919546910049,354.66919546910049,354.66919546910049,354.66919546910049,354.66919546910049,354.66919546910049,354.66919546910049,343.32754592148024]
[null,null,null,null,null,null,null,null,null,null,null,6,{"$f":"$E$15/(4*$E$19)+(L12-1)*$E$15/(2*$E$19)","v":0.16499999999999998},0,684.62958869711508,684.62958869711508,684.62958869711508,684.62958869711508,684.62958869711508,684.62958869711508,684.62958869711508,684.62958869711508]
[null,"Betontværsnit",null,null,null,null,null,null,null,null,"Q-2",null,{"$f":"E15-E27","v":0.14900330917333432},null,{"$f":"MAX(312*LOG10(8*$E$17+1)*EXP(-1.9*($E$16-O4)*$E$18/SQRT($E$17))*SIN(PI()/2-($E$16-O4)*$E$18/SQRT($E$17)),0)*$F$6","v":0},{"$f":"MAX(312*LOG10(8*$E$17+1)*EXP(-1.9*($E$16-P4)*$E$18/SQRT($E$17))*SIN(PI()/2-($E$16-P4)*$E$18/SQRT($E$17)),0)*$F$6","v":0},0,0,0,0,0,{"$f":"MAX(312*LOG10(8*$E$17+1)*EXP(-1.9*($E$15-M13)*$E$18/SQRT($E$17))*SIN(PI()/2-($E$15-M13)*$E$18/SQRT($E$17)),0)*$D$11","v":480.1863166689792}]
[null,null,null,null,null,null,null,null,null,null,"z-1"]
[null,null,null,"h",{"$f":"Brand!N12/1000","v":0.18},"m",null,null,null,null,null,"Punkt",null,null,1,2,3,"Midte",4,5,6]
[null,null,null,"b",{"$f":"Brand!N13/1000","v":1},"m"]
[null,"Brandtid",null,"t",{"$f":"IF(D2+F6+D11+B6=0,0.0001,Brand!N19+0.0001)","v":120.0001},"min"]
[null,"Svækket tværsnit",null,"k",{"$f":"SQRT(PI()*2300*1000/(750*0.75))","v":113.33853402386262},null,null,null,null,null,null,1,null,null,{"$f":"INDEX(Bet,VLOOKUP(O6,Bet,5),2)+(INDEX(Bet,VLOOKUP(O6,Bet,5)+1,2)-INDEX(Bet,VLOOKUP(O6,Bet,5),2))*(O6-INDEX(Bet,VLOOKUP(O6,Bet,5),1))/(INDEX(Bet,VLOOKUP(O6,Bet,5)+1,1)-INDEX(Bet,VLOOKUP(O6,Bet,5),1))","v":0.43074082260576946},0.43074082260576946,0.43074082260576946,null,{"$f":"INDEX(Bet,VLOOKUP(S6,Bet,5),2)+(INDEX(Bet,VLOOKUP(S6,Bet,5)+1,2)-INDEX(Bet,VLOOKUP(S6,Bet,5),2))*(S6-INDEX(Bet,VLOOKUP(S6,Bet,5),1))/(INDEX(Bet,VLOOKUP(S6,Bet,5)+1,1)-INDEX(Bet,VLOOKUP(S6,Bet,5),1))","v":0.43074082260576946},0.43074082260576946,0.43074082260576946]
[null,null,null,"n",3,null,null,null,null,null,null,2,null,null,0.89688715146420139,0.89688715146420139,0.89688715146420139,null,0.89688715146420139,0.89688715146420139,0.89688715146420139]
[null,null,null,"Q-maks",{"$f":"MAX(312*LOG10(8*$E$17+1)*EXP(-1.9*0*$E$18/SQRT($E$17))*SIN(PI()/2-0*$E$18/SQRT($E$17)),0.0001)","v":930.60980975160555},null,"ecu",null,null,null,null,3,null,null,0.99528853874428969,0.99528853874428969,0.99528853874428969,null,0.99528853874428969,0.99528853874428969,0.99528853874428969]
[null,null,null,"z-M / e1",{"$f":"R21","v":1},{"$f":"INDEX(Bet,VLOOKUP(R9,Bet,5),3)+(INDEX(Bet,VLOOKUP(R9,Bet,5)+1,3)-INDEX(Bet,VLOOKUP(R9,Bet,5),3))*(R9-INDEX(Bet,VLOOKUP(R9,Bet,5),1))/(INDEX(Bet,VLOOKUP(R9,Bet,5)+1,1)-INDEX(Bet,VLOOKUP(R9,Bet,5),1))","v":5.3406816114455408E-3},{"$f":"INDEX(Bet,VLOOKUP(R9,Bet,5),4)+(INDEX(Bet,VLOOKUP(R9,Bet,5)+1,4)-INDEX(Bet,VLOOKUP(R9,Bet,5),4))*(R9-INDEX(Bet,VLOOKUP(R9,Bet,5),1))/(INDEX(Bet,VLOOKUP(R9,Bet,5)+1,1)-INDEX(Bet,VLOOKUP(R9,Bet,5),1))","v":2.4734469352409236E-2},null,null,null,null,"Midte",null,null,null,null,null,{"$f":"INDEX(Bet,VLOOKUP(R9,Bet,5),2)+(INDEX(Bet,VLOOKUP(R9,Bet,5)+1,2)-INDEX(Bet,VLOOKUP(R9,Bet,5),2))*(R9-INDEX(Bet,VLOOKUP(R9,Bet,5),1))/(INDEX(Bet,VLOOKUP(R9,Bet,5)+1,1)-INDEX(Bet,VLOOKUP(R9,Bet,5),1))","v":1}]
[null,null,null,"z-middel",{"$f":"((1-0.2/E19)/(2*E19)^2)*IF(AND(D2=1,D11=0),2*SUM(O18:U20),IF(AND(D11=1,D2=0),2*SUM(O22:U24),SUM(O18:U20)+SUM(O22:U24)))","v":0.7226851373199924},null,null,null,null,null,null,4,null,null,{"$f":"INDEX(Bet,VLOOKUP(O10,Bet,5),2)+(INDEX(Bet,VLOOKUP(O10,Bet,5)+1,2)-INDEX(Bet,VLOOKUP(O10,Bet,5),2))*(O10-INDEX(Bet,VLOOKUP(O10,Bet,5),1))/(INDEX(Bet,VLOOKUP(O10,Bet,5)+1,1)-INDEX(Bet,VLOOKUP(O10,Bet,5),1))","v":0.99528853874428969},0.99528853874428969,0.99528853874428969,null,{"$f":"INDEX(Bet,VLOOKUP(S10,Bet,5),2)+(INDEX(Bet,VLOOKUP(S10,Bet,5)+1,2)-INDEX(Bet,VLOOKUP(S10,Bet,5),2))*(S10-INDEX(Bet,VLOOKUP(S10,Bet,5),1))/(INDEX(Bet,VLOOKUP(S10,Bet,5)+1,1)-INDEX(Bet,VLOOKUP(S10,Bet,5),1))","v":0.99528853874428969},0.99528853874428969,0.99528853874428969]
[null,null,null,"a (bjælke)",{"$f":"IF(D11+B6+D2+F6=0,0,0.5*IF(B6=0,E15,MIN(E15,E16))*(1-E22/E21))","v":2.4958337641200683E-2},"m",null,null,null,null,null,5,null,null,0.89688715146420128,0.89688715146420128,0.89688715146420128,null,0.89688715146420128,0.89688715146420128,0.89688715146420128]
[null,null,null,"a (instabilitet)",{"$f":"IF(D11+B6+D2+F6=0,0,0.5*IF(B6=0,E15,MIN(E15,E16))*(1-(E22/E21)^1.3))","v":3.0996690826665684E-2},"m",null,null,null,null,null,6,null,null,0.43074082260576996,0.43074082260576996,0.43074082260576996,null,0.43074082260576996,0.43074082260576996,0.43074082260576996]
[null,"Randzoner",null,"atop",{"$f":"E24*D2","v":3.0996690826665684E-2},"m"]
[null,null,null,"aside",{"$f":"E24*MAX(B6,F6)","v":0},"m"]
[null,null,null,"abund",{"$f":"E24*D11","v":3.0996690826665684E-2},"m"]
[null,"Stål-gen","type",{"$f":"IF($E$28=\"Q\",1,IF($E$28=\"AC\",3,5))","v":3},{"$f":"Brand!AS18","v":"AC"},null,null,null,null,null,"Trykarmering",null,{"$f":"M85","v":0.04},0.224,0.40800000000000003,0.59200000000000008,0.77600000000000002,0.96,0.96,0.96,0.96,0.96]
[null,null,"side-\"dæklag\"",null,{"$f":"E38","v":0.04},"m",null,null,null,null,null,null,{"$f":"MAX(312*LOG10(8*$E$17+1)*EXP(-1.9*M28*$E$18/SQRT($E$17))*SIN(PI()/2-M28*$E$18/SQRT($E$17)),0)*$B$6","v":0},{"$f":"IF(N28=M28,0,MAX(312*LOG10(8*$E$17+1)*EXP(-1.9*N28*$E$18/SQRT($E$17))*SIN(PI()/2-N28*$E$18/SQRT($E$17)),0))*$B$6","v":0},{"$f":"IF(O28=N28,0,MAX(312*LOG10(8*$E$17+1)*EXP(-1.9*O28*$E$18/SQRT($E$17))*SIN(PI()/2-O28*$E$18/SQRT($E$17)),0))*$B$6","v":0},0,0,0,0,0,0,0]
[null,"Trykarmering",null,"nc",{"$f":"Brand!N16","v":6.67},null,null,null,null,null,{"$f":"-M88","v":0.04},{"$f":"MAX(312*LOG10(8*$E$17+1)*EXP(-1.9*K30*$E$18/SQRT($E$17))*SIN(PI()/2-K30*$E$18/SQRT($E$17)),0)*$D$2","v":388.12147104314982},{"$f":"MAX(((M$29+M$31)*$E$20/($E$20+$V$5))*(1-($L30+$W30)/$E$20)+$L30+$W30,20)","v":395.36429301057302},{"$f":"IF(N28=M28,0,MAX(((N$29+N$31)*$E$20/($E$20+$V$5))*(1-($L30+$W30)/$E$20)+$L30+$W30,20))","v":395.36429301057302},{"$f":"IF(O28=N28,0,MAX(((O$29+O$31)*$E$20/($E$20+$V$5))*(1-($L30+$W30)/$E$20)+$L30+$W30,20))","v":395.36429301057302},395.36429301057302,395.36429301057302,395.36429301057302,0,0,0,0,{"$f":"MAX(312*LOG10(8*$E$17+1)*EXP(-1.9*($E$15-K30)*$E$18/SQRT($E$17))*SIN(PI()/2-($E$15-K30)*$E$18/SQRT($E$17)),0)*$D$11","v":7.2428219674232048}]
[null,null,null,"reduc nc",{"$f":"MIN(FLOOR(E30,1),10)","v":6},null,null,null,null,null,null,null,{"$f":"MAX(312*LOG10(8*$E$17+1)*EXP(-1.9*($E$16-M28)*$E$18/SQRT($E$17))*SIN(PI()/2-($E$16-M28)*$E$18/SQRT($E$17)),0)*$F$6","v":0},{"$f":"IF(N28=M28,0,MAX(312*LOG10(8*$E$17+1)*EXP(-1.9*($E$16-N28)*$E$18/SQRT($E$17))*SIN(PI()/2-($E$16-N28)*$E$18/SQRT($E$17)),0))*$F$6","v":0},{"$f":"IF(O28=N28,0,MAX(312*LOG10(8*$E$17+1)*EXP(-1.9*($E$16-O28)*$E$18/SQRT($E$17))*SIN(PI()/2-($E$16-O28)*$E$18/SQRT($E$17)),0))*$F$6","v":0},0,0,0,0,0,0,0]
[null,null,null,"ac",{"$f":"Brand!N14/1000","v":0.04},"m",null,null,null,null,"Trækarmering",null,{"$f":"W85","v":0.04},0.224,0.40800000000000003,0.59200000000000008,0.77600000000000002,0.96,0.96,0.96,0.96,0.96]
[null,null,null,"dc",{"$f":"(E16-2*E29)/(E31-1)","v":0.184},"m",null,null,null,null,null,null,{"$f":"MAX(312*LOG10(8*$E$17+1)*EXP(-1.9*M32*$E$18/SQRT($E$17))*SIN(PI()/2-M32*$E$18/SQRT($E$17)),0)*$B$6","v":0},{"$f":"IF(N32=M32,0,MAX(312*LOG10(8*$E$17+1)*EXP(-1.9*N32*$E$18/SQRT($E$17))*SIN(PI()/2-N32*$E$18/SQRT($E$17)),0))*$B$6","v":0},{"$f":"IF(O32=N32,0,MAX(312*LOG10(8*$E$17+1)*EXP(-1.9*O32*$E$18/SQRT($E$17))*SIN(PI()/2-O32*$E$18/SQRT($E$17)),0))*$B$6","v":0},0,0,0,0,0,0,0]
[null,null,null,"E/Ek",{"$f":"IF(E30=0,0,(SUM(E44:E53)+0.5*(E30-E31)*(E48+E49))/E30)","v":0.96139071209682803},null,null,null,null,null,{"$f":"-W89","v":0.13999999999999999},{"$f":"MAX(312*LOG10(8*$E$17+1)*EXP(-1.9*K34*$E$18/SQRT($E$17))*SIN(PI()/2-K34*$E$18/SQRT($E$17)),0)*$D$2","v":7.2428219674232048},{"$f":"MAX(((M$33+M$35)*$E$20/($E$20+$V$5))*(1-($L34+$W34)/$E$20)+$L34+$W34,20)","v":395.36429301057296},{"$f":"IF(N32=M32,0,MAX(((N$33+N$35)*$E$20/($E$20+$V$5))*(1-($L34+$W34)/$E$20)+$L34+$W34,20))","v":395.36429301057296},{"$f":"IF(O32=N32,0,MAX(((O$33+O$35)*$E$20/($E$20+$V$5))*(1-($L34+$W34)/$E$20)+$L34+$W34,20))","v":395.36429301057296},395.36429301057296,395.36429301057296,395.36429301057296,0,0,0,0,{"$f":"MAX(312*LOG10(8*$E$17+1)*EXP(-1.9*($E$15-K34)*$E$18/SQRT($E$17))*SIN(PI()/2-($E$15-K34)*$E$18/SQRT($E$17)),0)*$D$11","v":388.12147104314977},{"$f":"(SUM(D54:D63)+0.5*(E36-E37)*(D58+D59))/E36-20","v":375.36429301057296}]
[null,null,null,"fy/fyk",{"$f":"IF(E30=0,0,(SUM(F44:F53)+0.5*(E30-E31)*(F48+F49))/E30)","v":0.78509927768836962},null,null,null,null,null,null,null,{"$f":"MAX(312*LOG10(8*$E$17+1)*EXP(-1.9*($E$16-M32)*$E$18/SQRT($E$17))*SIN(PI()/2-($E$16-M32)*$E$18/SQRT($E$17)),0)*$F$6","v":0},{"$f":"IF(N32=M32,0,MAX(312*LOG10(8*$E$17+1)*EXP(-1.9*($E$16-N32)*$E$18/SQRT($E$17))*SIN(PI()/2-($E$16-N32)*$E$18/SQRT($E$17)),0))*$F$6","v":0},{"$f":"IF(O32=N32,0,MAX(312*LOG10(8*$E$17+1)*EXP(-1.9*($E$16-O32)*$E$18/SQRT($E$17))*SIN(PI()/2-($E$16-O32)*$E$18/SQRT($E$17)),0))*$F$6","v":0},0,0,0,0,0,0,0]
[null,"Trækarmering",null,"nt",{"$f":"Brand!N18","v":6.67}]
[null,null,null,"reduc nt",{"$f":"MIN(FLOOR(E36,1),10)","v":6}]
[null,null,null,"at",{"$f":"Brand!N14/1000","v":0.04},"m",null,null,null,null,"Trykarmering",null,null,null,null,null,null,"Trækarmering"]
[null,null,null,"dt",{"$f":"(E16-2*E29)/(E37-1)","v":0.184},"m",null,null,null,null,"Tabel","type (+Q)",null,"type (+AC)",null,"type (+C)",null,"Tabel","type (+Q)",null,"type (+AC)",null,"type (+C)"]
[null,null,null,"E/Ek",{"$f":"IF(E36=0,0,(SUM(E54:E63)+0.5*(E36-E37)*(E58+E59))/E36)","v":0.96139071209682803},null,null,null,null,null,"Q-stål","E/Ek","fy/fyk","E/Ek","fy/fyk","E/Ek","fy/fyk","Q-stål","E/Ek","fy/fyk","E/Ek","fy/fyk","E/Ek","fy/fyk"]
[null,null,null,"fy/fyk",{"$f":"IF(E36=0,0,(SUM(F54:F63)+0.5*(E36-E37)*(F58+F59))/E36)","v":0.78509927768836962},null,null,null,null,null,"Temp-1",null,null,null,null,null,null,"Temp-11"]
[null,null,null,null,null,null,null,null,null,null,{"$f":"D44","v":395.36429301057302},{"$f":"IF(K42=K44,L44,L44+(L43-L44)*(K42-K44)/(K43-K44))","v":0.7046357069894269},{"$f":"IF(K42=K44,M44,M44+(M43-M44)*(K42-K44)/(K43-K44))","v":0.65556284838731238},{"$f":"IF(K42=K44,N44,N44+(N43-N44)*(K42-K44)/(K43-K44))","v":0.96139071209682803},{"$f":"IF(K42=K44,O44,O44+(O43-O44)*(K42-K44)/(K43-K44))","v":0.78509927768836973},{"$f":"IF(K42=K44,P44,P44+(P43-P44)*(K42-K44)/(K43-K44))","v":0.56741713118308323},{"$f":"IF(K42=K44,Q44,Q44+(Q43-Q44)*(K42-K44)/(K43-K44))","v":0.78509927768836973},{"$f":"D54","v":395.36429301057296},{"$f":"IF(R42=R44,S44,S44+(S43-S44)*(R42-R44)/(R43-R44))","v":0.70463570698942701},{"$f":"IF(R42=R44,T44,T44+(T43-T44)*(R42-R44)/(R43-R44))","v":0.65556284838731249},{"$f":"IF(R42=R44,U44,U44+(U43-U44)*(R42-R44)/(R43-R44))","v":0.96139071209682803},{"$f":"IF(R42=R44,V44,V44+(V43-V44)*(R42-R44)/(R43-R44))","v":0.78509927768836973},{"$f":"IF(R42=R44,W44,W44+(W43-W44)*(R42-R44)/(R43-R44))","v":0.56741713118308335},{"$f":"IF(R42=R44,X44,X44+(X43-X44)*(R42-R44)/(R43-R44))","v":0.78509927768836973}]
[null,null,null,"Temp","E/Ek","fy/fyk",null,null,null,null,{"$f":"CEILING(K42,100)","v":400},{"$f":"VLOOKUP(K43,$B$68:$H$80,2,TRUE)","v":0.7},{"$f":"VLOOKUP(K43,$B$68:$H$80,3,TRUE)","v":0.65},{"$f":"VLOOKUP(K43,$B$68:$H$80,4,TRUE)","v":0.96},{"$f":"VLOOKUP(K43,$B$68:$H$80,5,TRUE)","v":0.78},{"$f":"VLOOKUP(K43,$B$68:$H$80,6,TRUE)","v":0.56000000000000005},{"$f":"VLOOKUP(K43,$B$68:$H$80,7,TRUE)","v":0.78},{"$f":"CEILING(R42,100)","v":400},{"$f":"VLOOKUP(R43,$B$68:$H$80,2,TRUE)","v":0.7},{"$f":"VLOOKUP(R43,$B$68:$H$80,3,TRUE)","v":0.65},{"$f":"VLOOKUP(R43,$B$68:$H$80,4,TRUE)","v":0.96},{"$f":"VLOOKUP(R43,$B$68:$H$80,5,TRUE)","v":0.78},{"$f":"VLOOKUP(R43,$B$68:$H$80,6,TRUE)","v":0.56000000000000005},{"$f":"VLOOKUP(R43,$B$68:$H$80,7,TRUE)","v":0.78}]
[null,"Trykarm.",1,{"$f":"M30","v":395.36429301057302},{"$f":"IF(D44=0,0,INDEX($L$41:$Q$80,2+(C44-1)*4,$D$28))","v":0.96139071209682803},{"$f":"IF(D44=0,0,INDEX($L$41:$Q$80,2+(C44-1)*4,$D$28+1))","v":0.78509927768836973},null,null,null,null,{"$f":"MAX(FLOOR(K42,100),20)","v":300},{"$f":"VLOOKUP(K44,$B$68:$H$80,2,TRUE)","v":0.8},{"$f":"VLOOKUP(K44,$B$68:$H$80,3,TRUE)","v":0.77},{"$f":"VLOOKUP(K44,$B$68:$H$80,4,TRUE)","v":0.99},{"$f":"VLOOKUP(K44,$B$68:$H$80,5,TRUE)","v":0.89},{"$f":"VLOOKUP(K44,$B$68:$H$80,6,TRUE)","v":0.72},{"$f":"VLOOKUP(K44,$B$68:$H$80,7,TRUE)","v":0.89},{"$f":"MAX(FLOOR(R42,100),20)","v":300},{"$f":"VLOOKUP(R44,$B$68:$H$80,2,TRUE)","v":0.8},{"$f":"VLOOKUP(R44,$B$68:$H$80,3,TRUE)","v":0.77},{"$f":"VLOOKUP(R44,$B$68:$H$80,4,TRUE)","v":0.99},{"$f":"VLOOKUP(R44,$B$68:$H$80,5,TRUE)","v":0.89},{"$f":"VLOOKUP(R44,$B$68:$H$80,6,TRUE)","v":0.72},{"$f":"VLOOKUP(R44,$B$68:$H$80,7,TRUE)","v":0.89}]
[null,null,2,{"$f":"N30","v":395.36429301057302},0.96139071209682803,0.78509927768836973,null,null,null,null,"Temp-2",null,null,null,null,null,null,"Temp-12"]
[null,null,3,{"$f":"O30","v":395.36429301057302},0.96139071209682803,0.78509927768836973,null,null,null,null,{"$f":"D45","v":395.36429301057302},{"$f":"IF(K46=K48,L48,L48+(L47-L48)*(K46-K48)/(K47-K48))","v":0.7046357069894269},{"$f":"IF(K46=K48,M48,M48+(M47-M48)*(K46-K48)/(K47-K48))","v":0.65556284838731238},{"$f":"IF(K46=K48,N48,N48+(N47-N48)*(K46-K48)/(K47-K48))","v":0.96139071209682803},{"$f":"IF(K46=K48,O48,O48+(O47-O48)*(K46-K48)/(K47-K48))","v":0.78509927768836973},{"$f":"IF(K46=K48,P48,P48+(P47-P48)*(K46-K48)/(K47-K48))","v":0.56741713118308323},{"$f":"IF(K46=K48,Q48,Q48+(Q47-Q48)*(K46-K48)/(K47-K48))","v":0.78509927768836973},{"$f":"D55","v":395.36429301057296},{"$f":"IF(R46=R48,S48,S48+(S47-S48)*(R46-R48)/(R47-R48))","v":0.70463570698942701},{"$f":"IF(R46=R48,T48,T48+(T47-T48)*(R46-R48)/(R47-R48))","v":0.65556284838731249},{"$f":"IF(R46=R48,U48,U48+(U47-U48)*(R46-R48)/(R47-R48))","v":0.96139071209682803},{"$f":"IF(R46=R48,V48,V48+(V47-V48)*(R46-R48)/(R47-R48))","v":0.78509927768836973},{"$f":"IF(R46=R48,W48,W48+(W47-W48)*(R46-R48)/(R47-R48))","v":0.56741713118308335},{"$f":"IF(R46=R48,X48,X48+(X47-X48)*(R46-R48)/(R47-R48))","v":0.78509927768836973}]
[null,null,4,{"$f":"P30","v":395.36429301057302},0.96139071209682803,0.78509927768836973,null,null,null,null,{"$f":"CEILING(K46,100)","v":400},{"$f":"VLOOKUP(K47,$B$68:$H$80,2,TRUE)","v":0.7},{"$f":"VLOOKUP(K47,$B$68:$H$80,3,TRUE)","v":0.65},{"$f":"VLOOKUP(K47,$B$68:$H$80,4,TRUE)","v":0.96},{"$f":"VLOOKUP(K47,$B$68:$H$80,5,TRUE)","v":0.78},{"$f":"VLOOKUP(K47,$B$68:$H$80,6,TRUE)","v":0.56000000000000005},{"$f":"VLOOKUP(K47,$B$68:$H$80,7,TRUE)","v":0.78},{"$f":"CEILING(R46,100)","v":400},{"$f":"VLOOKUP(R47,$B$68:$H$80,2,TRUE)","v":0.7},{"$f":"VLOOKUP(R47,$B$68:$H$80,3,TRUE)","v":0.65},{"$f":"VLOOKUP(R47,$B$68:$H$80,4,TRUE)","v":0.96},{"$f":"VLOOKUP(R47,$B$68:$H$80,5,TRUE)","v":0.78},{"$f":"VLOOKUP(R47,$B$68:$H$80,6,TRUE)","v":0.56000000000000005},{"$f":"VLOOKUP(R47,$B$68:$H$80,7,TRUE)","v":0.78}]
[null,null,5,{"$f":"Q30","v":395.36429301057302},0.96139071209682803,0.78509927768836973,null,null,null,null,{"$f":"MAX(FLOOR(K46,100),20)","v":300},{"$f":"VLOOKUP(K48,$B$68:$H$80,2,TRUE)","v":0.8},{"$f":"VLOOKUP(K48,$B$68:$H$80,3,TRUE)","v":0.77},{"$f":"VLOOKUP(K48,$B$68:$H$80,4,TRUE)","v":0.99},{"$f":"VLOOKUP(K48,$B$68:$H$80,5,TRUE)","v":0.89},{"$f":"VLOOKUP(K48,$B$68:$H$80,6,TRUE)","v":0.72},{"$f":"VLOOKUP(K48,$B$68:$H$80,7,TRUE)","v":0.89},{"$f":"MAX(FLOOR(R46,100),20)","v":300},{"$f":"VLOOKUP(R48,$B$68:$H$80,2,TRUE)","v":0.8},{"$f":"VLOOKUP(R48,$B$68:$H$80,3,TRUE)","v":0.77},{"$f":"VLOOKUP(R48,$B$68:$H$80,4,TRUE)","v":0.99},{"$f":"VLOOKUP(R48,$B$68:$H$80,5,TRUE)","v":0.89},{"$f":"VLOOKUP(R48,$B$68:$H$80,6,TRUE)","v":0.72},{"$f":"VLOOKUP(R48,$B$68:$H$80,7,TRUE)","v":0.89}]
[null,null,6,{"$f":"R30","v":395.36429301057302},0.96139071209682803,0.78509927768836973,null,null,null,null,"Temp-3",null,null,null,null,null,null,"Temp-13"]
[null,null,7,{"$f":"S30","v":0},0,0,null,null,null,null,{"$f":"D46","v":395.36429301057302},{"$f":"IF(K50=K52,L52,L52+(L51-L52)*(K50-K52)/(K51-K52))","v":0.7046357069894269},{"$f":"IF(K50=K52,M52,M52+(M51-M52)*(K50-K52)/(K51-K52))","v":0.65556284838731238},{"$f":"IF(K50=K52,N52,N52+(N51-N52)*(K50-K52)/(K51-K52))","v":0.96139071209682803},{"$f":"IF(K50=K52,O52,O52+(O51-O52)*(K50-K52)/(K51-K52))","v":0.78509927768836973},{"$f":"IF(K50=K52,P52,P52+(P51-P52)*(K50-K52)/(K51-K52))","v":0.56741713118308323},{"$f":"IF(K50=K52,Q52,Q52+(Q51-Q52)*(K50-K52)/(K51-K52))","v":0.78509927768836973},{"$f":"D56","v":395.36429301057296},{"$f":"IF(R50=R52,S52,S52+(S51-S52)*(R50-R52)/(R51-R52))","v":0.70463570698942701},{"$f":"IF(R50=R52,T52,T52+(T51-T52)*(R50-R52)/(R51-R52))","v":0.65556284838731249},{"$f":"IF(R50=R52,U52,U52+(U51-U52)*(R50-R52)/(R51-R52))","v":0.96139071209682803},{"$f":"IF(R50=R52,V52,V52+(V51-V52)*(R50-R52)/(R51-R52))","v":0.78509927768836973},{"$f":"IF(R50=R52,W52,W52+(W51-W52)*(R50-R52)/(R51-R52))","v":0.56741713118308335},{"$f":"IF(R50=R52,X52,X52+(X51-X52)*(R50-R52)/(R51-R52))","v":0.78509927768836973}]
[null,null,8,{"$f":"T30","v":0},0,0,null,null,null,null,{"$f":"CEILING(K50,100)","v":400},{"$f":"VLOOKUP(K51,$B$68:$H$80,2,TRUE)","v":0.7},{"$f":"VLOOKUP(K51,$B$68:$H$80,3,TRUE)","v":0.65},{"$f":"VLOOKUP(K51,$B$68:$H$80,4,TRUE)","v":0.96},{"$f":"VLOOKUP(K51,$B$68:$H$80,5,TRUE)","v":0.78},{"$f":"VLOOKUP(K51,$B$68:$H$80,6,TRUE)","v":0.56000000000000005},{"$f":"VLOOKUP(K51,$B$68:$H$80,7,TRUE)","v":0.78},{"$f":"CEILING(R50,100)","v":400},{"$f":"VLOOKUP(R51,$B$68:$H$80,2,TRUE)","v":0.7},{"$f":"VLOOKUP(R51,$B$68:$H$80,3,TRUE)","v":0.65},{"$f":"VLOOKUP(R51,$B$68:$H$80,4,TRUE)","v":0.96},{"$f":"VLOOKUP(R51,$B$68:$H$80,5,TRUE)","v":0.78},{"$f":"VLOOKUP(R51,$B$68:$H$80,6,TRUE)","v":0.56000000000000005},{"$f":"VLOOKUP(R51,$B$68:$H$80,7,TRUE)","v":0.78}]
[null,null,9,{"$f":"U30","v":0},0,0,null,null,null,null,{"$f":"MAX(FLOOR(K50,100),20)","v":300},{"$f":"VLOOKUP(K52,$B$68:$H$80,2,TRUE)","v":0.8},{"$f":"VLOOKUP(K52,$B$68:$H$80,3,TRUE)","v":0.77},{"$f":"VLOOKUP(K52,$B$68:$H$80,4,TRUE)","v":0.99},{"$f":"VLOOKUP(K52,$B$68:$H$80,5,TRUE)","v":0.89},{"$f":"VLOOKUP(K52,$B$68:$H$80,6,TRUE)","v":0.72},{"$f":"VLOOKUP(K52,$B$68:$H$80,7,TRUE)","v":0.89},{"$f":"MAX(FLOOR(R50,100),20)","v":300},{"$f":"VLOOKUP(R52,$B$68:$H$80,2,TRUE)","v":0.8},{"$f":"VLOOKUP(R52,$B$68:$H$80,3,TRUE)","v":0.77},{"$f":"VLOOKUP(R52,$B$68:$H$80,4,TRUE)","v":0.99},{"$f":"VLOOKUP(R52,$B$68:$H$80,5,TRUE)","v":0.89},{"$f":"VLOOKUP(R52,$B$68:$H$80,6,TRUE)","v":0.72},{"$f":"VLOOKUP(R52,$B$68:$H$80,7,TRUE)","v":0.89}]
[null,null,10,{"$f":"V30","v":0},0,0,null,null,null,null,"Temp-4",null,null,null,null,null,null,"Temp-14"]
[null,"trækarm",11,{"$f":"M34","v":395.36429301057296},{"$f":"IF(D54=0,0,INDEX($S$41:$X$80,2+(C54-11)*4,$D$28))","v":0.96139071209682803},{"$f":"IF(D54=0,0,INDEX($S$41:$X$80,2+(C54-11)*4,$D$28+1))","v":0.78509927768836973},null,null,null,null,{"$f":"D47","v":395.36429301057302},{"$f":"IF(K54=K56,L56,L56+(L55-L56)*(K54-K56)/(K55-K56))","v":0.7046357069894269},{"$f":"IF(K54=K56,M56,M56+(M55-M56)*(K54-K56)/(K55-K56))","v":0.65556284838731238},{"$f":"IF(K54=K56,N56,N56+(N55-N56)*(K54-K56)/(K55-K56))","v":0.96139071209682803},{"$f":"IF(K54=K56,O56,O56+(O55-O56)*(K54-K56)/(K55-K56))","v":0.78509927768836973},{"$f":"IF(K54=K56,P56,P56+(P55-P56)*(K54-K56)/(K55-K56))","v":0.56741713118308323},{"$f":"IF(K54=K56,Q56,Q56+(Q55-Q56)*(K54-K56)/(K55-K56))","v":0.78509927768836973},{"$f":"D57","v":395.36429301057296},{"$f":"IF(R54=R56,S56,S56+(S55-S56)*(R54-R56)/(R55-R56))","v":0.70463570698942701},{"$f":"IF(R54=R56,T56,T56+(T55-T56)*(R54-R56)/(R55-R56))","v":0.65556284838731249},{"$f":"IF(R54=R56,U56,U56+(U55-U56)*(R54-R56)/(R55-R56))","v":0.96139071209682803},{"$f":"IF(R54=R56,V56,V56+(V55-V56)*(R54-R56)/(R55-R56))","v":0.78509927768836973},{"$f":"IF(R54=R56,W56,W56+(W55-W56)*(R54-R56)/(R55-R56))","v":0.56741713118308335},{"$f":"IF(R54=R56,X56,X56+(X55-X56)*(R54-R56)/(R55-R56))","v":0.78509927768836973}]
[null,null,12,{"$f":"N34","v":395.36429301057296},0.96139071209682803,0.78509927768836973,null,null,null,null,{"$f":"CEILING(K54,100)","v":400},{"$f":"VLOOKUP(K55,$B$68:$H$80,2,TRUE)","v":0.7},{"$f":"VLOOKUP(K55,$B$68:$H$80,3,TRUE)","v":0.65},{"$f":"VLOOKUP(K55,$B$68:$H$80,4,TRUE)","v":0.96},{"$f":"VLOOKUP(K55,$B$68:$H$80,5,TRUE)","v":0.78},{"$f":"VLOOKUP(K55,$B$68:$H$80,6,TRUE)","v":0.56000000000000005},{"$f":"VLOOKUP(K55,$B$68:$H$80,7,TRUE)","v":0.78},{"$f":"CEILING(R54,100)","v":400},{"$f":"VLOOKUP(R55,$B$68:$H$80,2,TRUE)","v":0.7},{"$f":"VLOOKUP(R55,$B$68:$H$80,3,TRUE)","v":0.65},{"$f":"VLOOKUP(R55,$B$68:$H$80,4,TRUE)","v":0.96},{"$f":"VLOOKUP(R55,$B$68:$H$80,5,TRUE)","v":0.78},{"$f":"VLOOKUP(R55,$B$68:$H$80,6,TRUE)","v":0.56000000000000005},{"$f":"VLOOKUP(R55,$B$68:$H$80,7,TRUE)","v":0.78}]
[null,null,13,{"$f":"O34","v":395.36429301057296},0.96139071209682803,0.78509927768836973,null,null,null,null,{"$f":"MAX(FLOOR(K54,100),20)","v":300},{"$f":"VLOOKUP(K56,$B$68:$H$80,2,TRUE)","v":0.8},{"$f":"VLOOKUP(K56,$B$68:$H$80,3,TRUE)","v":0.77},{"$f":"VLOOKUP(K56,$B$68:$H$80,4,TRUE)","v":0.99},{"$f":"VLOOKUP(K56,$B$68:$H$80,5,TRUE)","v":0.89},{"$f":"VLOOKUP(K56,$B$68:$H$80,6,TRUE)","v":0.72},{"$f":"VLOOKUP(K56,$B$68:$H$80,7,TRUE)","v":0.89},{"$f":"MAX(FLOOR(R54,100),20)","v":300},{"$f":"VLOOKUP(R56,$B$68:$H$80,2,TRUE)","v":0.8},{"$f":"VLOOKUP(R56,$B$68:$H$80,3,TRUE)","v":0.77},{"$f":"VLOOKUP(R56,$B$68:$H$80,4,TRUE)","v":0.99},{"$f":"VLOOKUP(R56,$B$68:$H$80,5,TRUE)","v":0.89},{"$f":"VLOOKUP(R56,$B$68:$H$80,6,TRUE)","v":0.72},{"$f":"VLOOKUP(R56,$B$68:$H$80,7,TRUE)","v":0.89}]
[null,null,14,{"$f":"P34","v":395.36429301057296},0.96139071209682803,0.78509927768836973,null,null,null,null,"Temp-5",null,null,null,null,null,null,"Temp-15"]
[null,null,15,{"$f":"Q34","v":395.36429301057296},0.96139071209682803,0.78509927768836973,null,null,null,null,{"$f":"D48","v":395.36429301057302},{"$f":"IF(K58=K60,L60,L60+(L59-L60)*(K58-K60)/(K59-K60))","v":0.7046357069894269},{"$f":"IF(K58=K60,M60,M60+(M59-M60)*(K58-K60)/(K59-K60))","v":0.65556284838731238},{"$f":"IF(K58=K60,N60,N60+(N59-N60)*(K58-K60)/(K59-K60))","v":0.96139071209682803},{"$f":"IF(K58=K60,O60,O60+(O59-O60)*(K58-K60)/(K59-K60))","v":0.78509927768836973},{"$f":"IF(K58=K60,P60,P60+(P59-P60)*(K58-K60)/(K59-K60))","v":0.56741713118308323},{"$f":"IF(K58=K60,Q60,Q60+(Q59-Q60)*(K58-K60)/(K59-K60))","v":0.78509927768836973},{"$f":"D58","v":395.36429301057296},{"$f":"IF(R58=R60,S60,S60+(S59-S60)*(R58-R60)/(R59-R60))","v":0.70463570698942701},{"$f":"IF(R58=R60,T60,T60+(T59-T60)*(R58-R60)/(R59-R60))","v":0.65556284838731249},{"$f":"IF(R58=R60,U60,U60+(U59-U60)*(R58-R60)/(R59-R60))","v":0.96139071209682803},{"$f":"IF(R58=R60,V60,V60+(V59-V60)*(R58-R60)/(R59-R60))","v":0.78509927768836973},{"$f":"IF(R58=R60,W60,W60+(W59-W60)*(R58-R60)/(R59-R60))","v":0.56741713118308335},{"$f":"IF(R58=R60,X60,X60+(X59-X60)*(R58-R60)/(R59-R60))","v":0.78509927768836973}]
[null,null,16,{"$f":"R34","v":395.36429301057296},0.96139071209682803,0.78509927768836973,null,null,null,null,{"$f":"CEILING(K58,100)","v":400},{"$f":"VLOOKUP(K59,$B$68:$H$80,2,TRUE)","v":0.7},{"$f":"VLOOKUP(K59,$B$68:$H$80,3,TRUE)","v":0.65},{"$f":"VLOOKUP(K59,$B$68:$H$80,4,TRUE)","v":0.96},{"$f":"VLOOKUP(K59,$B$68:$H$80,5,TRUE)","v":0.78},{"$f":"VLOOKUP(K59,$B$68:$H$80,6,TRUE)","v":0.56000000000000005},{"$f":"VLOOKUP(K59,$B$68:$H$80,7,TRUE)","v":0.78},{"$f":"CEILING(R58,100)","v":400},{"$f":"VLOOKUP(R59,$B$68:$H$80,2,TRUE)","v":0.7},{"$f":"VLOOKUP(R59,$B$68:$H$80,3,TRUE)","v":0.65},{"$f":"VLOOKUP(R59,$B$68:$H$80,4,TRUE)","v":0.96},{"$f":"VLOOKUP(R59,$B$68:$H$80,5,TRUE)","v":0.78},{"$f":"VLOOKUP(R59,$B$68:$H$80,6,TRUE)","v":0.56000000000000005},{"$f":"VLOOKUP(R59,$B$68:$H$80,7,TRUE)","v":0.78}]
[null,null,17,{"$f":"S34","v":0},0,0,null,null,null,null,{"$f":"MAX(FLOOR(K58,100),20)","v":300},{"$f":"VLOOKUP(K60,$B$68:$H$80,2,TRUE)","v":0.8},{"$f":"VLOOKUP(K60,$B$68:$H$80,3,TRUE)","v":0.77},{"$f":"VLOOKUP(K60,$B$68:$H$80,4,TRUE)","v":0.99},{"$f":"VLOOKUP(K60,$B$68:$H$80,5,TRUE)","v":0.89},{"$f":"VLOOKUP(K60,$B$68:$H$80,6,TRUE)","v":0.72},{"$f":"VLOOKUP(K60,$B$68:$H$80,7,TRUE)","v":0.89},{"$f":"MAX(FLOOR(R58,100),20)","v":300},{"$f":"VLOOKUP(R60,$B$68:$H$80,2,TRUE)","v":0.8},{"$f":"VLOOKUP(R60,$B$68:$H$80,3,TRUE)","v":0.77},{"$f":"VLOOKUP(R60,$B$68:$H$80,4,TRUE)","v":0.99},{"$f":"VLOOKUP(R60,$B$68:$H$80,5,TRUE)","v":0.89},{"$f":"VLOOKUP(R60,$B$68:$H$80,6,TRUE)","v":0.72},{"$f":"VLOOKUP(R60,$B$68:$H$80,7,TRUE)","v":0.89}]
[null,null,18,{"$f":"T34","v":0},0,0,null,null,null,null,"Temp-6",null,null,null,null,null,null,"Temp-16"]
[null,null,19,{"$f":"U34","v":0},0,0,null,null,null,null,{"$f":"D49","v":395.36429301057302},{"$f":"IF(K62=K64,L64,L64+(L63-L64)*(K62-K64)/(K63-K64))","v":0.7046357069894269},{"$f":"IF(K62=K64,M64,M64+(M63-M64)*(K62-K64)/(K63-K64))","v":0.65556284838731238},{"$f":"IF(K62=K64,N64,N64+(N63-N64)*(K62-K64)/(K63-K64))","v":0.96139071209682803},{"$f":"IF(K62=K64,O64,O64+(O63-O64)*(K62-K64)/(K63-K64))","v":0.78509927768836973},{"$f":"IF(K62=K64,P64,P64+(P63-P64)*(K62-K64)/(K63-K64))","v":0.56741713118308323},{"$f":"IF(K62=K64,Q64,Q64+(Q63-Q64)*(K62-K64)/(K63-K64))","v":0.78509927768836973},{"$f":"D59","v":395.36429301057296},{"$f":"IF(R62=R64,S64,S64+(S63-S64)*(R62-R64)/(R63-R64))","v":0.70463570698942701},{"$f":"IF(R62=R64,T64,T64+(T63-T64)*(R62-R64)/(R63-R64))","v":0.65556284838731249},{"$f":"IF(R62=R64,U64,U64+(U63-U64)*(R62-R64)/(R63-R64))","v":0.96139071209682803},{"$f":"IF(R62=R64,V64,V64+(V63-V64)*(R62-R64)/(R63-R64))","v":0.78509927768836973},{"$f":"IF(R62=R64,W64,W64+(W63-W64)*(R62-R64)/(R63-R64))","v":0.56741713118308335},{"$f":"IF(R62=R64,X64,X64+(X63-X64)*(R62-R64)/(R63-R64))","v":0.78509927768836973}]
[null,null,20,{"$f":"V34","v":0},0,0,null,null,null,null,{"$f":"CEILING(K62,100)","v":400},{"$f":"VLOOKUP(K63,$B$68:$H$80,2,TRUE)","v":0.7},{"$f":"VLOOKUP(K63,$B$68:$H$80,3,TRUE)","v":0.65},{"$f":"VLOOKUP(K63,$B$68:$H$80,4,TRUE)","v":0.96},{"$f":"VLOOKUP(K63,$B$68:$H$80,5,TRUE)","v":0.78},{"$f":"VLOOKUP(K63,$B$68:$H$80,6,TRUE)","v":0.56000000000000005},{"$f":"VLOOKUP(K63,$B$68:$H$80,7,TRUE)","v":0.78},{"$f":"CEILING(R62,100)","v":400},{"$f":"VLOOKUP(R63,$B$68:$H$80,2,TRUE)","v":0.7},{"$f":"VLOOKUP(R63,$B$68:$H$80,3,TRUE)","v":0.65},{"$f":"VLOOKUP(R63,$B$68:$H$80,4,TRUE)","v":0.96},{"$f":"VLOOKUP(R63,$B$68:$H$80,5,TRUE)","v":0.78},{"$f":"VLOOKUP(R63,$B$68:$H$80,6,TRUE)","v":0.56000000000000005},{"$f":"VLOOKUP(R63,$B$68:$H$80,7,TRUE)","v":0.78}]
[null,null,null,null,null,null,null,null,null,null,{"$f":"MAX(FLOOR(K62,100),20)","v":300},{"$f":"VLOOKUP(K64,$B$68:$H$80,2,TRUE)","v":0.8},{"$f":"VLOOKUP(K64,$B$68:$H$80,3,TRUE)","v":0.77},{"$f":"VLOOKUP(K64,$B$68:$H$80,4,TRUE)","v":0.99},{"$f":"VLOOKUP(K64,$B$68:$H$80,5,TRUE)","v":0.89},{"$f":"VLOOKUP(K64,$B$68:$H$80,6,TRUE)","v":0.72},{"$f":"VLOOKUP(K64,$B$68:$H$80,7,TRUE)","v":0.89},{"$f":"MAX(FLOOR(R62,100),20)","v":300},{"$f":"VLOOKUP(R64,$B$68:$H$80,2,TRUE)","v":0.8},{"$f":"VLOOKUP(R64,$B$68:$H$80,3,TRUE)","v":0.77},{"$f":"VLOOKUP(R64,$B$68:$H$80,4,TRUE)","v":0.99},{"$f":"VLOOKUP(R64,$B$68:$H$80,5,TRUE)","v":0.89},{"$f":"VLOOKUP(R64,$B$68:$H$80,6,TRUE)","v":0.72},{"$f":"VLOOKUP(R64,$B$68:$H$80,7,TRUE)","v":0.89}]
[null,null,null,null,null,null,null,null,null,null,"Temp-7",null,null,null,null,null,null,"Temp-17"]
[null,"Tabel","type (+Q)",null,"type (+AC)",null,"type (+C)",null,null,null,{"$f":"D50","v":0},{"$f":"IF(K66=K68,L68,L68+(L67-L68)*(K66-K68)/(K67-K68))","v":{"$error":"#N/A"}},{"$f":"IF(K66=K68,M68,M68+(M67-M68)*(K66-K68)/(K67-K68))","v":{"$error":"#N/A"}},{"$f":"IF(K66=K68,N68,N68+(N67-N68)*(K66-K68)/(K67-K68))","v":{"$error":"#N/A"}},{"$f":"IF(K66=K68,O68,O68+(O67-O68)*(K66-K68)/(K67-K68))","v":{"$error":"#N/A"}},{"$f":"IF(K66=K68,P68,P68+(P67-P68)*(K66-K68)/(K67-K68))","v":{"$error":"#N/A"}},{"$f":"IF(K66=K68,Q68,Q68+(Q67-Q68)*(K66-K68)/(K67-K68))","v":{"$error":"#N/A"}},{"$f":"D60","v":0},{"$f":"IF(R66=R68,S68,S68+(S67-S68)*(R66-R68)/(R67-R68))","v":{"$error":"#N/A"}},{"$f":"IF(R66=R68,T68,T68+(T67-T68)*(R66-R68)/(R67-R68))","v":{"$error":"#N/A"}},{"$f":"IF(R66=R68,U68,U68+(U67-U68)*(R66-R68)/(R67-R68))","v":{"$error":"#N/A"}},{"$f":"IF(R66=R68,V68,V68+(V67-V68)*(R66-R68)/(R67-R68))","v":{"$error":"#N/A"}},{"$f":"IF(R66=R68,W68,W68+(W67-W68)*(R66-R68)/(R67-R68))","v":{"$error":"#N/A"}},{"$f":"IF(R66=R68,X68,X68+(X67-X68)*(R66-R68)/(R67-R68))","v":{"$error":"#N/A"}}]
[null,"Q-stål","E/Ek","fy/fyk","E/Ek","fy/fyk","E/Ek","fy/fyk",null,null,{"$f":"CEILING(K66,100)","v":0},{"$f":"VLOOKUP(K67,$B$68:$H$80,2,TRUE)","v":{"$error":"#N/A"}},{"$f":"VLOOKUP(K67,$B$68:$H$80,3,TRUE)","v":{"$error":"#N/A"}},{"$f":"VLOOKUP(K67,$B$68:$H$80,4,TRUE)","v":{"$error":"#N/A"}},{"$f":"VLOOKUP(K67,$B$68:$H$80,5,TRUE)","v":{"$error":"#N/A"}},{"$f":"VLOOKUP(K67,$B$68:$H$80,6,TRUE)","v":{"$error":"#N/A"}},{"$f":"VLOOKUP(K67,$B$68:$H$80,7,TRUE)","v":{"$error":"#N/A"}},{"$f":"CEILING(R66,100)","v":0},{"$f":"VLOOKUP(R67,$B$68:$H$80,2,TRUE)","v":{"$error":"#N/A"}},{"$f":"VLOOKUP(R67,$B$68:$H$80,3,TRUE)","v":{"$error":"#N/A"}},{"$f":"VLOOKUP(R67,$B$68:$H$80,4,TRUE)","v":{"$error":"#N/A"}},{"$f":"VLOOKUP(R67,$B$68:$H$80,5,TRUE)","v":{"$error":"#N/A"}},{"$f":"VLOOKUP(R67,$B$68:$H$80,6,TRUE)","v":{"$error":"#N/A"}},{"$f":"VLOOKUP(R67,$B$68:$H$80,7,TRUE)","v":{"$error":"#N/A"}}]
[null,20,1,1,1,1,1,1,null,null,{"$f":"MAX(FLOOR(K66,100),20)","v":20},{"$f":"VLOOKUP(K68,$B$68:$H$80,2,TRUE)","v":1},{"$f":"VLOOKUP(K68,$B$68:$H$80,3,TRUE)","v":1},{"$f":"VLOOKUP(K68,$B$68:$H$80,4,TRUE)","v":1},{"$f":"VLOOKUP(K68,$B$68:$H$80,5,TRUE)","v":1},{"$f":"VLOOKUP(K68,$B$68:$H$80,6,TRUE)","v":1},{"$f":"VLOOKUP(K68,$B$68:$H$80,7,TRUE)","v":1},{"$f":"MAX(FLOOR(R66,100),20)","v":20},{"$f":"VLOOKUP(R68,$B$68:$H$80,2,TRUE)","v":1},{"$f":"VLOOKUP(R68,$B$68:$H$80,3,TRUE)","v":1},{"$f":"VLOOKUP(R68,$B$68:$H$80,4,TRUE)","v":1},{"$f":"VLOOKUP(R68,$B$68:$H$80,5,TRUE)","v":1},{"$f":"VLOOKUP(R68,$B$68:$H$80,6,TRUE)","v":1},{"$f":"VLOOKUP(R68,$B$68:$H$80,7,TRUE)","v":1}]
[null,100,1,0.96,1,0.98,1,0.99,null,null,"Temp-8",null,null,null,null,null,null,"Temp-18"]
[null,200,0.9,0.88,1,0.94,0.87,0.95,null,null,{"$f":"D51","v":0},{"$f":"IF(K70=K72,L72,L72+(L71-L72)*(K70-K72)/(K71-K72))","v":{"$error":"#N/A"}},{"$f":"IF(K70=K72,M72,M72+(M71-M72)*(K70-K72)/(K71-K72))","v":{"$error":"#N/A"}},{"$f":"IF(K70=K72,N72,N72+(N71-N72)*(K70-K72)/(K71-K72))","v":{"$error":"#N/A"}},{"$f":"IF(K70=K72,O72,O72+(O71-O72)*(K70-K72)/(K71-K72))","v":{"$error":"#N/A"}},{"$f":"IF(K70=K72,P72,P72+(P71-P72)*(K70-K72)/(K71-K72))","v":{"$error":"#N/A"}},{"$f":"IF(K70=K72,Q72,Q72+(Q71-Q72)*(K70-K72)/(K71-K72))","v":{"$error":"#N/A"}},{"$f":"D61","v":0},{"$f":"IF(R70=R72,S72,S72+(S71-S72)*(R70-R72)/(R71-R72))","v":{"$error":"#N/A"}},{"$f":"IF(R70=R72,T72,T72+(T71-T72)*(R70-R72)/(R71-R72))","v":{"$error":"#N/A"}},{"$f":"IF(R70=R72,U72,U72+(U71-U72)*(R70-R72)/(R71-R72))","v":{"$error":"#N/A"}},{"$f":"IF(R70=R72,V72,V72+(V71-V72)*(R70-R72)/(R71-R72))","v":{"$error":"#N/A"}},{"$f":"IF(R70=R72,W72,W72+(W71-W72)*(R70-R72)/(R71-R72))","v":{"$error":"#N/A"}},{"$f":"IF(R70=R72,X72,X72+(X71-X72)*(R70-R72)/(R71-R72))","v":{"$error":"#N/A"}}]
[null,300,0.8,0.77,0.99,0.89,0.72,0.89,null,null,{"$f":"CEILING(K70,100)","v":0},{"$f":"VLOOKUP(K71,$B$68:$H$80,2,TRUE)","v":{"$error":"#N/A"}},{"$f":"VLOOKUP(K71,$B$68:$H$80,3,TRUE)","v":{"$error":"#N/A"}},{"$f":"VLOOKUP(K71,$B$68:$H$80,4,TRUE)","v":{"$error":"#N/A"}},{"$f":"VLOOKUP(K71,$B$68:$H$80,5,TRUE)","v":{"$error":"#N/A"}},{"$f":"VLOOKUP(K71,$B$68:$H$80,6,TRUE)","v":{"$error":"#N/A"}},{"$f":"VLOOKUP(K71,$B$68:$H$80,7,TRUE)","v":{"$error":"#N/A"}},{"$f":"CEILING(R70,100)","v":0},{"$f":"VLOOKUP(R71,$B$68:$H$80,2,TRUE)","v":{"$error":"#N/A"}},{"$f":"VLOOKUP(R71,$B$68:$H$80,3,TRUE)","v":{"$error":"#N/A"}},{"$f":"VLOOKUP(R71,$B$68:$H$80,4,TRUE)","v":{"$error":"#N/A"}},{"$f":"VLOOKUP(R71,$B$68:$H$80,5,TRUE)","v":{"$error":"#N/A"}},{"$f":"VLOOKUP(R71,$B$68:$H$80,6,TRUE)","v":{"$error":"#N/A"}},{"$f":"VLOOKUP(R71,$B$68:$H$80,7,TRUE)","v":{"$error":"#N/A"}}]
[null,400,0.7,0.65,0.96,0.78,0.56000000000000005,0.78,null,null,{"$f":"MAX(FLOOR(K70,100),20)","v":20},{"$f":"VLOOKUP(K72,$B$68:$H$80,2,TRUE)","v":1},{"$f":"VLOOKUP(K72,$B$68:$H$80,3,TRUE)","v":1},{"$f":"VLOOKUP(K72,$B$68:$H$80,4,TRUE)","v":1},{"$f":"VLOOKUP(K72,$B$68:$H$80,5,TRUE)","v":1},{"$f":"VLOOKUP(K72,$B$68:$H$80,6,TRUE)","v":1},{"$f":"VLOOKUP(K72,$B$68:$H$80,7,TRUE)","v":1},{"$f":"MAX(FLOOR(R70,100),20)","v":20},{"$f":"VLOOKUP(R72,$B$68:$H$80,2,TRUE)","v":1},{"$f":"VLOOKUP(R72,$B$68:$H$80,3,TRUE)","v":1},{"$f":"VLOOKUP(R72,$B$68:$H$80,4,TRUE)","v":1},{"$f":"VLOOKUP(R72,$B$68:$H$80,5,TRUE)","v":1},{"$f":"VLOOKUP(R72,$B$68:$H$80,6,TRUE)","v":1},{"$f":"VLOOKUP(R72,$B$68:$H$80,7,TRUE)","v":1}]
[null,500,0.6,0.47,0.79,0.55000000000000004,0.4,0.56999999999999995,null,null,"Temp-9",null,null,null,null,null,null,"Temp-19"]
[null,600,0.31,0.27,0.48,0.27,0.24,0.3,null,null,{"$f":"D52","v":0},{"$f":"IF(K74=K76,L76,L76+(L75-L76)*(K74-K76)/(K75-K76))","v":{"$error":"#N/A"}},{"$f":"IF(K74=K76,M76,M76+(M75-M76)*(K74-K76)/(K75-K76))","v":{"$error":"#N/A"}},{"$f":"IF(K74=K76,N76,N76+(N75-N76)*(K74-K76)/(K75-K76))","v":{"$error":"#N/A"}},{"$f":"IF(K74=K76,O76,O76+(O75-O76)*(K74-K76)/(K75-K76))","v":{"$error":"#N/A"}},{"$f":"IF(K74=K76,P76,P76+(P75-P76)*(K74-K76)/(K75-K76))","v":{"$error":"#N/A"}},{"$f":"IF(K74=K76,Q76,Q76+(Q75-Q76)*(K74-K76)/(K75-K76))","v":{"$error":"#N/A"}},{"$f":"D62","v":0},{"$f":"IF(R74=R76,S76,S76+(S75-S76)*(R74-R76)/(R75-R76))","v":{"$error":"#N/A"}},{"$f":"IF(R74=R76,T76,T76+(T75-T76)*(R74-R76)/(R75-R76))","v":{"$error":"#N/A"}},{"$f":"IF(R74=R76,U76,U76+(U75-U76)*(R74-R76)/(R75-R76))","v":{"$error":"#N/A"}},{"$f":"IF(R74=R76,V76,V76+(V75-V76)*(R74-R76)/(R75-R76))","v":{"$error":"#N/A"}},{"$f":"IF(R74=R76,W76,W76+(W75-W76)*(R74-R76)/(R75-R76))","v":{"$error":"#N/A"}},{"$f":"IF(R74=R76,X76,X76+(X75-X76)*(R74-R76)/(R75-R76))","v":{"$error":"#N/A"}}]
[null,700,0.13,0.13,0.21,0.1,0.08,0.12,null,null,{"$f":"CEILING(K74,100)","v":0},{"$f":"VLOOKUP(K75,$B$68:$H$80,2,TRUE)","v":{"$error":"#N/A"}},{"$f":"VLOOKUP(K75,$B$68:$H$80,3,TRUE)","v":{"$error":"#N/A"}},{"$f":"VLOOKUP(K75,$B$68:$H$80,4,TRUE)","v":{"$error":"#N/A"}},{"$f":"VLOOKUP(K75,$B$68:$H$80,5,TRUE)","v":{"$error":"#N/A"}},{"$f":"VLOOKUP(K75,$B$68:$H$80,6,TRUE)","v":{"$error":"#N/A"}},{"$f":"VLOOKUP(K75,$B$68:$H$80,7,TRUE)","v":{"$error":"#N/A"}},{"$f":"CEILING(R74,100)","v":0},{"$f":"VLOOKUP(R75,$B$68:$H$80,2,TRUE)","v":{"$error":"#N/A"}},{"$f":"VLOOKUP(R75,$B$68:$H$80,3,TRUE)","v":{"$error":"#N/A"}},{"$f":"VLOOKUP(R75,$B$68:$H$80,4,TRUE)","v":{"$error":"#N/A"}},{"$f":"VLOOKUP(R75,$B$68:$H$80,5,TRUE)","v":{"$error":"#N/A"}},{"$f":"VLOOKUP(R75,$B$68:$H$80,6,TRUE)","v":{"$error":"#N/A"}},{"$f":"VLOOKUP(R75,$B$68:$H$80,7,TRUE)","v":{"$error":"#N/A"}}]
[null,800,0.09,0.05,0.08,0,0.06,0.05,null,null,{"$f":"MAX(FLOOR(K74,100),20)","v":20},{"$f":"VLOOKUP(K76,$B$68:$H$80,2,TRUE)","v":1},{"$f":"VLOOKUP(K76,$B$68:$H$80,3,TRUE)","v":1},{"$f":"VLOOKUP(K76,$B$68:$H$80,4,TRUE)","v":1},{"$f":"VLOOKUP(K76,$B$68:$H$80,5,TRUE)","v":1},{"$f":"VLOOKUP(K76,$B$68:$H$80,6,TRUE)","v":1},{"$f":"VLOOKUP(K76,$B$68:$H$80,7,TRUE)","v":1},{"$f":"MAX(FLOOR(R74,100),20)","v":20},{"$f":"VLOOKUP(R76,$B$68:$H$80,2,TRUE)","v":1},{"$f":"VLOOKUP(R76,$B$68:$H$80,3,TRUE)","v":1},{"$f":"VLOOKUP(R76,$B$68:$H$80,4,TRUE)","v":1},{"$f":"VLOOKUP(R76,$B$68:$H$80,5,TRUE)","v":1},{"$f":"VLOOKUP(R76,$B$68:$H$80,6,TRUE)","v":1},{"$f":"VLOOKUP(R76,$B$68:$H$80,7,TRUE)","v":1}]
[null,900,7.0000000000000007E-2,0.02,0.03,0,0.05,0.02,null,null,"Temp-10",null,null,null,null,null,null,"Temp-20"]
[null,1000,0.04,0.01,0,0,0.03,0.01,null,null,{"$f":"D53","v":0},{"$f":"IF(K78=K80,L80,L80+(L79-L80)*(K78-K80)/(K79-K80))","v":{"$error":"#N/A"}},{"$f":"IF(K78=K80,M80,M80+(M79-M80)*(K78-K80)/(K79-K80))","v":{"$error":"#N/A"}},{"$f":"IF(K78=K80,N80,N80+(N79-N80)*(K78-K80)/(K79-K80))","v":{"$error":"#N/A"}},{"$f":"IF(K78=K80,O80,O80+(O79-O80)*(K78-K80)/(K79-K80))","v":{"$error":"#N/A"}},{"$f":"IF(K78=K80,P80,P80+(P79-P80)*(K78-K80)/(K79-K80))","v":{"$error":"#N/A"}},{"$f":"IF(K78=K80,Q80,Q80+(Q79-Q80)*(K78-K80)/(K79-K80))","v":{"$error":"#N/A"}},{"$f":"D63","v":0},{"$f":"IF(R78=R80,S80,S80+(S79-S80)*(R78-R80)/(R79-R80))","v":{"$error":"#N/A"}},{"$f":"IF(R78=R80,T80,T80+(T79-T80)*(R78-R80)/(R79-R80))","v":{"$error":"#N/A"}},{"$f":"IF(R78=R80,U80,U80+(U79-U80)*(R78-R80)/(R79-R80))","v":{"$error":"#N/A"}},{"$f":"IF(R78=R80,V80,V80+(V79-V80)*(R78-R80)/(R79-R80))","v":{"$error":"#N/A"}},{"$f":"IF(R78=R80,W80,W80+(W79-W80)*(R78-R80)/(R79-R80))","v":{"$error":"#N/A"}},{"$f":"IF(R78=R80,X80,X80+(X79-X80)*(R78-R80)/(R79-R80))","v":{"$error":"#N/A"}}]
[null,1100,0.02,0.01,0,0,0.02,0,null,null,{"$f":"CEILING(K78,100)","v":0},{"$f":"VLOOKUP(K79,$B$68:$H$80,2,TRUE)","v":{"$error":"#N/A"}},{"$f":"VLOOKUP(K79,$B$68:$H$80,3,TRUE)","v":{"$error":"#N/A"}},{"$f":"VLOOKUP(K79,$B$68:$H$80,4,TRUE)","v":{"$error":"#N/A"}},{"$f":"VLOOKUP(K79,$B$68:$H$80,5,TRUE)","v":{"$error":"#N/A"}},{"$f":"VLOOKUP(K79,$B$68:$H$80,6,TRUE)","v":{"$error":"#N/A"}},{"$f":"VLOOKUP(K79,$B$68:$H$80,7,TRUE)","v":{"$error":"#N/A"}},{"$f":"CEILING(R78,100)","v":0},{"$f":"VLOOKUP(R79,$B$68:$H$80,2,TRUE)","v":{"$error":"#N/A"}},{"$f":"VLOOKUP(R79,$B$68:$H$80,3,TRUE)","v":{"$error":"#N/A"}},{"$f":"VLOOKUP(R79,$B$68:$H$80,4,TRUE)","v":{"$error":"#N/A"}},{"$f":"VLOOKUP(R79,$B$68:$H$80,5,TRUE)","v":{"$error":"#N/A"}},{"$f":"VLOOKUP(R79,$B$68:$H$80,6,TRUE)","v":{"$error":"#N/A"}},{"$f":"VLOOKUP(R79,$B$68:$H$80,7,TRUE)","v":{"$error":"#N/A"}}]
[null,1200,0,0,0,0,0,0,null,null,{"$f":"MAX(FLOOR(K78,100),20)","v":20},{"$f":"VLOOKUP(K80,$B$68:$H$80,2,TRUE)","v":1},{"$f":"VLOOKUP(K80,$B$68:$H$80,3,TRUE)","v":1},{"$f":"VLOOKUP(K80,$B$68:$H$80,4,TRUE)","v":1},{"$f":"VLOOKUP(K80,$B$68:$H$80,5,TRUE)","v":1},{"$f":"VLOOKUP(K80,$B$68:$H$80,6,TRUE)","v":1},{"$f":"VLOOKUP(K80,$B$68:$H$80,7,TRUE)","v":1},{"$f":"MAX(FLOOR(R78,100),20)","v":20},{"$f":"VLOOKUP(R80,$B$68:$H$80,2,TRUE)","v":1},{"$f":"VLOOKUP(R80,$B$68:$H$80,3,TRUE)","v":1},{"$f":"VLOOKUP(R80,$B$68:$H$80,4,TRUE)","v":1},{"$f":"VLOOKUP(R80,$B$68:$H$80,5,TRUE)","v":1},{"$f":"VLOOKUP(R80,$B$68:$H$80,6,TRUE)","v":1},{"$f":"VLOOKUP(R80,$B$68:$H$80,7,TRUE)","v":1}]
[]
[]
[]
[null,"GRAF",null,null,null,null,null,null,null,null,null,null,1,2,3,4,5,6,7,8,9,10,1,2,3,4,5,6,7,8,9,10]
[null,"x",0,{"$f":"E16","v":1},{"$f":"E16","v":1},0,0,{"$f":"E26","v":0},{"$f":"D85-E26","v":1},{"$f":"E85-E26","v":1},{"$f":"E26","v":0},{"$f":"E26","v":0},{"$f":"E29","v":0.04},{"$f":"IF(N84>$E$31,M85,M85+$E$33)","v":0.224},0.40800000000000003,0.59200000000000008,0.77600000000000002,0.96,0.96,0.96,0.96,0.96,{"$f":"E29","v":0.04},{"$f":"IF(X84>$E$37,W85,W85+$E$39)","v":0.224},0.40800000000000003,0.59200000000000008,0.77600000000000002,0.96,0.96,0.96,0.96,0.96,{"$f":"IF(E15>E16,E15,E16)","v":1}]
[null,"Opr rand",0,0,{"$f":"-E15","v":-0.18},{"$f":"-E15","v":-0.18},0]
[null,"Reduc rand",null,null,null,null,null,{"$f":"-E25","v":-3.0996690826665684E-2},{"$f":"-E25","v":-3.0996690826665684E-2},{"$f":"E86+E27","v":-0.14900330917333432},{"$f":"F86+E27","v":-0.14900330917333432},{"$f":"-E25","v":-3.0996690826665684E-2}]
[null,"Trykarm",null,null,null,null,null,null,null,null,null,null,{"$f":"-$E$32","v":-0.04},-0.04,-0.04,-0.04,-0.04,-0.04,-0.04,-0.04,-0.04,-0.04]
[null,"Trækarm",null,null,null,null,null,null,null,null,null,null,null,null,null,null,null,null,null,null,null,null,{"$f":"-$E$15+$E$38","v":-0.13999999999999999},-0.13999999999999999,-0.13999999999999999,-0.13999999999999999,-0.13999999999999999,-0.13999999999999999,-0.13999999999999999,-0.13999999999999999,-0.13999999999999999,-0.13999999999999999]
[null,"Skala",null,null,null,null,null,null,null,null,null,null,null,null,null,null,null,null,null,null,null,null,null,null,null,null,null,null,null,null,null,null,{"$f":"IF(E15>E16,-E15,-E16)","v":-1}]
[]
[null,"Betontype",{"$f":"Brand!AS3","v":2}]
[null,"Reduktionsparametre, beton",null,null,null,null,"Betontype,  fc,t/fck"]
[null,"q","fc,t/fck","ec1","ecu1,t","Indeks",1,2]
[null,20,{"$f":"IF($C$92=1,G95,H95)","v":1},2.5000000000000001E-3,0.02,1,1,1]
[null,100,{"$f":"IF($C$92=1,G96,H96)","v":1},4.0000000000000001E-3,2.2499999999999999E-2,2,1,1]
[null,200,1,5.4999999999999997E-3,2.5000000000000001E-2,3,0.95,1]
[null,300,0.93333330000000003,7.0000000000000001E-3,2.75E-2,4,0.85,{"$f":"H97-0.0666667","v":0.93333330000000003}]
[null,400,0.86666660000000006,0.01,0.03,5,0.75,{"$f":"H98-0.0666667","v":0.86666660000000006}]
[null,500,0.8,1.4999999999999999E-2,3.2500000000000001E-2,6,0.6,0.8]
[null,600,0.60000000000000009,2.5000000000000001E-2,3.5000000000000003E-2,7,0.45,{"$f":"H100-0.2","v":0.60000000000000009}]
[null,700,0.40000000000000008,2.5000000000000001E-2,3.7499999999999999E-2,8,0.3,{"$f":"H101-0.2","v":0.40000000000000008}]
[null,800,0.20000000000000007,2.5000000000000001E-2,0.04,9,0.15,{"$f":"H102-0.2","v":0.20000000000000007}]
[null,900,0,2.5000000000000001E-2,4.2500000000000003E-2,10,0.08,0]
[null,1000,0,2.5000000000000001E-2,4.4999999999999998E-2,11,0.04,0]
[null,1100,2.0426489726352815E-3,2.5000000000000001E-2,4.7500000000000001E-2,12,0.01,{"$f":"0+(1-0)/(1+(B106/100000)+(B106/1080)^2+(B106/690)^8+(B106/1000)^64)","v":2.0426489726352815E-3}]
[null,1200,8.5522613031592085E-6,null,null,13,0,{"$f":"0+(1-0)/(1+(B107/100000)+(B107/1080)^2+(B107/690)^8+(B107/1000)^64)","v":8.5522613031592085E-6}]

{"sheet":"Makro","index":4,"n_rows":20,"n_cols":8,"rows_kept":20,"cut":false,"hidden":false,"merged":[]}
[]
[null,1,2,3,4,5,6]
[null,1,2,3,4,5,6,1]
[]
[null,2,null,2,null,2,2,2]
[null,"Tilslag: Kvartsholdigt",null,"Stål: Varmvalset",null,"NEJ",null,"1,0 L "]
[null,"Tilslag: Søsand / granit",null,"Stål: Bratkølet",null,"JA",null,"0,7 L"]
[null,null,null,"Stål: Kolddeformeret",null,null,null,"0,5 L"]
[]
[]
[null,"Aktivt ark:",1,-1]
[]
[]
[]
[]
[]
[]
[]
[]
[{"$f":"IF(E20=1,0,1000000)","v":0},1,null,null,1]